{"text_format":"1","workbook":"xlsx","n_sheets":13,"sheets":["MENU","TABLAS","Datos","RABIA URBANA","RABIA URB_90676","RABIA SILVESTRE","RABIA SILV PRE-EXPOSICION","PONZOÑOSOS","EQUINOCOCOSIS","FASCIOLIASIS","LEPTOSPIROSIS","CISTICERCOSIS","PESTE"],"not_rendered":{"charts":0,"images":32,"macros":1,"external_links":0,"defined_names":15,"comments":4,"pivot_tables":11},"unopened":[],"bounds":{"document_bytes":16777216,"sheet_cells":100000,"rows_first":2000,"rows_last":500,"rows_between":2000,"halvings":0,"cell_chars":16384,"cell_head_chars":4096},"cells_cut":0,"cells_raw":0,"read":"whole","date_system":"1900"}

{"sheet":"MENU","index":0,"n_rows":30,"n_cols":12,"rows_kept":30,"cut":false,"hidden":false,"merged":[[28,7,29,10],[26,7,27,10]]}
[]
[]
[]
[null,null,null,null,null,null,null,null,null,null,null,{"$f":"+TABLAS!A92","v":"2-1-3-4-5-6-7-8-9-10-11-T"}]
[null,null,null,null,null,null,null,null,null,null,null,{"$f":"+TABLAS!A123","v":"2-1-3-4-5-6-7-8-9-10-11-T"}]
[null,null,null,null,null,null,null,null,null,null,null,{"$f":"+TABLAS!A154","v":"2-1-3-4-5-6-7-8-9-10-11-T"}]
[null,null,null,null,null,null,null,null,null,null,null,{"$f":"+TABLAS!A217","v":"2-1-3-4-5-6-7-8-9-10-11-T"}]
[null,null,null,null,null,null,null,null,null,null,null,{"$f":"+TABLAS!A248","v":"2-1-3-4-5-6-7-8-9-10-11-T"}]
[null,null,null,null,null,null,null,null,null,null,null,{"$f":"+TABLAS!A279","v":"2-1-3-4-5-6-7-8-9-10-11-T"}]
[null,null,null,null,null,null,null,null,null,null,null,{"$f":"+TABLAS!A310","v":"2-1-3-4-5-6-7-8-9-10-11-T"}]
[null,null,null,null,null,null,null,null,null,null,null,{"$f":"+TABLAS!A341","v":"2-1-3-4-5-6-7-8-9-10-11-T"}]
[null,null,null,null,null,null,null,null,null,null,null,{"$f":"+TABLAS!A372","v":"2-1-3-4-5-6-7-8-9-10-11-T"}]
[null,null,null,null,null,null,null,null,null,null,null,{"$f":"+TABLAS!A403","v":"2-1-3-4-5-6-7-8-9-10-11-T"}]
[]
[]
[]
[]
[]
[]
[]
[]
[]
[]
[]
[]
[]
[null,null,null,null,null,null,null,"CONTROL DE MESES"]
[]
[null,null,null,null,null,null,null,{"$f":"+TABLAS!A92","v":"2-1-3-4-5-6-7-8-9-10-11-T"}]
[null,null,{"$f":"+'RABIA URBANA'!F16","v":"__ENE_NOV_2024"}]

{"sheet":"TABLAS","index":1,"n_rows":405,"n_cols":231,"rows_kept":405,"cut":false,"hidden":true,"merged":[[402,0,402,1],[13,3,13,6],[371,0,371,1],[91,0,91,1],[216,0,216,1],[278,0,278,1],[309,0,309,1],[340,0,340,1],[122,0,122,1],[247,0,247,1],[153,0,153,1],[184,0,184,1],[11,3,11,6],[12,3,12,6],[7,2,7,6],[8,3,8,6],[9,3,9,6],[10,3,10,6]]}
[]
[]
[]
[]
[]
[]
[]
[null,null,"Valores",null,null,null,null,null,"Tabla",{"$f":"IF(I9=\"(Todas)\",\"CUSCO \",\"\")","v":""},null,null,null,null,{"$f":"MID(D9,6,5)","v":"LA CO"}]
[null,null,"RED","03 - LA CONVENCION",null,null,null,null,{"$f":"IF(MID(D9,1,2)=\"99\",\"(All)\",MID(D9,1,2))","v":"03"},{"$f":"IF(I9=\"(All)\",\" \",I9)","v":"03"},null,null,{"$f":"LEN(MID(D9,5,90))","v":14},null,{"$f":"IF(MID(D9,6,5)=\"(All)\",\"\",D9)","v":"03 - LA CONVENCION"}]
[null,null,"Micro RED","0399 - (All)",null,null,null,null,{"$f":"IF(MID(D10,3,2)=\"99\",\"(All)\",MID(D10,1,4))","v":"(All)"}," ",null,null,{"$f":"LEN(MID(D10,7,90))","v":6},null,{"$f":"IF(MID(D10,8,5)=\"(All)\",\"\",D10)","v":""}]
[null,null,"Establecimiento","999999999 - (All)",null,null,null,null,{"$f":"IF(OR(MID(D11,1,9)=\"999999999\",MID(D11,1,9)=\"000000000\"),\"(All)\",MID(D11,1,9))","v":"(All)"}," ",null,null,{"$f":"LEN(MID(D11,12,90))","v":6},null,{"$f":"IF(MID(D11,13,5)=\"(All)\",\"\",D11)","v":""}]
[null,null,"Provincia","00 - (All)",null,null,null,null,{"$f":"IF(MID(D12,1,2)=\"00\",\"(All)\",MID(D12,1,2))","v":"(All)"}," ",null,null,{"$f":"LEN(MID(D12,6,90))","v":5},null,{"$f":"IF(MID(D12,6,5)=\"(All)\",\"\",D12)","v":""}]
[null,null,"Distrito","0000 - (All)",null,null,null,null,{"$f":"IF(OR(MID(D13,1,4)=\"0000\",MID(D13,3,2)=\"00\"),\"(All)\",MID(D13,1,4))","v":"(All)"}," ",null,null,{"$f":"LEN(MID(D13,8,90))","v":5},null,{"$f":"IF(MID(D13,8,5)=\"(All)\",\"\",D13)","v":""}]
[null,null,"Ejecutora","99 - (ALL)",null,null,null,null,{"$f":"IF(MID(D14,1,2)=\"99\",\"(All)\",MID(D14,1,2))","v":"(All)"}," ",null,null,{"$f":"LEN(MID(D14,5,90))","v":6},null,{"$f":"IF(MID(D14,6,5)=\"(All)\",\"\",D14)","v":""}]
[]
[null,null,"Año","2024",null,null,null,null,{"$f":"+D16","v":"2024"},{"$f":"IF(I16=\"(Todas)\",\" \",I16)","v":"2024"}]
[]
[]
[]
[null,1,1,1,1,1,1,1,1,1,1,1,0,{"$f":"SUM(B20:M20)","v":11}]
[null,{"$f":"IF(B20=1,\"ENERO\",\"\")","v":"ENERO"},{"$f":"IF(C20=1,\"FEBRERO\",\"\")","v":"FEBRERO"},{"$f":"IF(D20=1,\"MARZO\",\"\")","v":"MARZO"},{"$f":"IF(E20=1,\"ABRIL\",\"\")","v":"ABRIL"},{"$f":"IF(F20=1,\"MAYO\",\"\")","v":"MAYO"},{"$f":"IF(G20=1,\"JUNIO\",\"\")","v":"JUNIO"},{"$f":"IF(H20=1,\"JULIO\",\"\")","v":"JULIO"},{"$f":"IF(I20=1,\"AGOSTO\",\"\")","v":"AGOSTO"},{"$f":"IF(J20=1,\"SETIEMBRE\",\"\")","v":"SETIEMBRE"},{"$f":"IF(K20=1,\"OCTUBRE\",\"\")","v":"OCTUBRE"},{"$f":"IF(L20=1,\"NOVIEMBRE\",\"\")","v":"NOVIEMBRE"},{"$f":"IF(M20=1,\"DICIEMBRE\",\"\")","v":""},{"$f":"IF(B20=1,B21,IF(C20=1,C21,IF(D20=1,D21,IF(E20=1,E21,IF(F20=1,F21,IF(G20=1,G21,IF(H20=1,H21,IF(I20=1,I21,IF(J20=1,J21,IF(K20=1,K21,IF(L20=1,L21,IF(M20=1,M21,\"\"))))))))))))","v":"ENERO"}]
[null,null,null,null,null,null,null,null,null,null,null,null,null,{"$f":"IF(N20=1,N21,\"\")","v":""}]
[null,2,4,6,8,10,12,14,16,18,20,22,null,{"$f":"MIN(B23:M23)","v":2},{"$f":"MAX(B23:M23)","v":22},{"$f":"MAX(C23:N23)","v":22}]
[null,{"$f":"IF(B23=2,\"ENE\",\"\")","v":"ENE"},{"$f":"IF(C23=4,\"FEB\",\"\")","v":"FEB"},{"$f":"IF(D23=6,\"MAR\",\"\")","v":"MAR"},{"$f":"IF(E23=8,\"ABR\",\"\")","v":"ABR"},{"$f":"IF(F23=10,\"MAY\",\"\")","v":"MAY"},{"$f":"IF(G23=12,\"JUN\",\"\")","v":"JUN"},{"$f":"IF(H23=14,\"JUL\",\"\")","v":"JUL"},{"$f":"IF(I23=16,\"AGO\",\"\")","v":"AGO"},{"$f":"IF(J23=18,\"SET\",\"\")","v":"SET"},{"$f":"IF(K23=20,\"OCT\",\"\")","v":"OCT"},{"$f":"IF(L23=22,\"NOV\",\"\")","v":"NOV"},{"$f":"IF(M23=24,\"DIC\",\"\")","v":""},{"$f":"IF(N23=B23,B24,IF(N23=C23,C24,IF(N23=D23,D24,IF(N23=E23,E24,IF(N23=F23,F24,IF(N23=G23,G24,IF(N23=H23,H58,IF(N23=I23,I24,IF(N23=J23,J24,IF(N23=K23,K24,IF(N23=L23,L24,IF(N23=M23,M24,\"\"))))))))))))","v":"ENE"},{"$f":"IF(O23=C23,C24,IF(O23=D23,D24,IF(O23=E23,E24,IF(O23=F23,F24,IF(O23=G23,G24,IF(O23=H23,H24,IF(O23=I23,I24,IF(O23=J23,J24,IF(O23=K23,K24,IF(O23=L23,L24,IF(O23=M23,M24,\"\")))))))))))","v":"NOV"},{"$f":"IF(P23=D23,D24,IF(P23=E23,E24,IF(P23=F23,F24,IF(P23=G23,G24,IF(P23=H23,H24,IF(P23=I23,I24,IF(P23=J23,J24,IF(P23=K23,K24,IF(P23=L23,L24,IF(P23=M23,M24,IF(P23=N23,N24,\"\")))))))))))","v":"NOV"}]
[null,null,null,null,null,null,null,null,null,null,null,null,null,{"$f":"CONCATENATE(N24,\" - \",O24)","v":"ENE - NOV"}]
[null,null,null,null,null,null,null,null,null,null,null,null,null,{"$f":"IF(N23=O23,N22,N25)","v":"ENE - NOV"}]
[]
[]
[]
[]
[]
[]
[]
[]
[]
[]
[]
[]
[]
[]
[]
[]
[]
[]
[]
[]
[]
[]
[]
[]
[]
[]
[]
[]
[]
[]
[]
[]
[]
[]
[]
[]
[]
[]
[]
["R_URBANA 01"]
["anno",2024]
["cod_red","03"]
["codmic","(Todas)"]
["cod_prov","(Todas)"]
["coddist","(Todas)"]
["cod_estab","(Todas)"]
["cod_eje","(Todas)"]
[]
[null,"Valores"]
["Etiquetas de fila"," BAS001"," BAS002"," BAS003"," BAS004"," BAS005"," BAS006"," BAS007"," BAS008"," BAS009"," BAS010"," BAS011"," BAS012"," BAS013"," BAS014"," BAS015"," BAS016"," BAS017"," BAS018"," BAS019"," BAS020"," BAS021"," BAS022"," BAS023"," BAS024"," BAS025"," BAS026"," BAS027"," BAS028"," BAS029"," BAS030"," BAS031"," BAS032"," BAS033"," BAS034"," BAS035"," BAS036"," BAS037"," BAS038"," BAS039"," BAS040"," BAS041"," BAS042"," BAS043"," BAS044"," BAS045"," BAS046"," BAS047"," BAS048"," BAS049"," BAS050"," BAS051"," BAS052"," BAS053"," BAS054"," BAS055"," BAS056"," BAS057"," BAS058"," BAS059"," BAS060"," BAS061"," BAS062"," BAS063"," BAS064"," BAS065"," BAS066"," BAS067"," BAS068"," BAS069"," BAS070"," BAS071"," BAS072"," BAS073"," BAS074"," BAS075"," BAS076"," BAS077"," BAS078"," BAS079"," BAS080"," BAS081"," BAS082"," BAS083"," BAS084"," BAS085"," BAS086"," BAS087"," BAS088"," BAS089"," BAS090"," BAS091"," BAS092"," BAS093"," BAS094"," BAS095"," BAS096"," BAS097"," BAS098"," BAS099"," BAS100"," BAS101"," BAS102"," BAS103"," BAS104"," BAS105"," BAS106"," BAS107"," BAS108"," BAS109"," BAS110"," BAS111"," BAS112"," BAS113"," BAS114"," BAS115"," BAS116"," BAS117"," BAS118"," BAS119"," BAS120"," BAS121"," BAS122"," BAS123"," BAS124"," BAS125"," BAS126"," BAS127"," BAS128"," BAS129"," BAS130"," BAS131"," BAS132"," BAS133"," BAS134"," BAS135"," BAS136"," BAS137"," BAS138"," BAS139"," BAS140"," BAS141"," BAS142"," BAS143"," BAS144"," BAS145"," BAS146"," BAS147"," BAS148"," BAS149"," BAS150"," BAS151"," BAS152"," BAS153"," BAS154"," BAS155"," BAS156"," BAS157"," BAS158"," BAS159"," BAS160"," BAS161"," BAS162"," BAS163"," BAS164"," BAS165"," BAS166"," BAS167"," BAS168"," BAS169"," BAS170"," BAS171"," BAS172"," BAS173"," BAS174"," BAS175"," BAS176"," BAS177"," BAS178"," BAS179"," BAS180"," BAS181"," BAS182"," BAS183"," BAS184"," BAS185"," BAS186"," BAS187"," BAS188"," BAS189"," BAS190"," BAS191"," BAS192"," BAS193"," BAS194"," BAS195"," BAS196"," BAS197"," BAS198"," BAS199"," BAS200"," BAS201"," BAS202"," BAS203"," BAS204"," BAS205"," BAS206"," BAS207"," BAS208"," BAS209"," BAS210"," BAS211"," BAS212"," BAS213"," BAS214"," BAS215"," BAS216"," BAS217"," BAS218"," BAS219"," BAS220"," BAS221"," BAS222"," BAS223"," BAS224"," BAS225"," BAS226"," BAS227"," BAS228"," BAS229"," BAS230"]
[2,0,0,0,0,0,0,0,0,0,0,0,0,0,0,0,0,0,0,0,0,0,0,0,0,0,0,0,0,0,0,0,0,0,0,0,0,0,0,0,0,0,0,0,0,0,0,0,0,0,0,3,0,2,1,3,1,0,0,0,1,0,0,0,0,0,0,0,0,0,0,0,0,0,0,0,0,0,0,0,0,0,1,0,0,0,0,0,0,0,0,0,0,0,0,0,0,0,0,0,0,0,0,0,0,0,0,0,0,0,0,0,0,0,0,0,0,0,0,0,0,0,0,0,0,0,0,0,0,0,0,0,0,0,0,0,0,0,0,0,0,0,0,0,0,0,0,0,0,0,0,0,0,0,0,0,0,0,0,0,0,0,0,0,0,0,0,0,0,0,0,0,0,0,0,0,0,0,0,0,0,0,0,0,0,0,0,0,0,0,0,0,0,0,0,0,0,0,0,0,0,0,0,0,0,0,0,0,0,0,0,0,0,0,0,0,0,0,0,0,0,0,0,0,0,0,0,0,0,0,0]
[1,0,0,0,1,0,0,0,0,0,0,0,0,0,1,0,0,0,0,0,0,0,0,0,0,0,0,0,0,2,0,0,0,0,0,0,0,0,0,0,0,0,0,0,0,0,0,1,0,0,0,1,1,1,2,3,1,0,0,1,0,0,0,0,0,0,0,0,0,0,1,0,0,0,0,1,0,1,0,0,0,0,0,0,0,0,0,0,0,0,0,0,0,0,0,0,0,0,0,0,0,0,0,0,0,0,0,0,0,0,0,0,0,0,0,0,0,0,0,0,0,0,0,0,0,0,0,0,0,0,0,0,0,0,0,0,0,0,0,0,0,0,0,0,0,0,0,0,0,0,0,0,0,0,0,0,0,0,0,0,0,0,0,0,0,0,0,0,0,0,0,0,0,0,0,0,0,0,0,0,0,0,0,0,0,0,0,0,0,0,0,0,0,0,0,0,0,0,0,0,0,0,0,0,0,0,0,0,0,0,0,0,0,0,0,0,0,0,0,0,0,0,0,0,0,0,0,0,0,0,0]
[3,0,0,0,0,0,0,0,0,0,0,0,0,0,0,0,0,0,0,0,0,0,0,0,0,0,0,0,0,0,0,0,0,0,0,0,0,0,0,0,0,0,0,0,0,0,0,0,0,0,0,1,0,0,1,3,1,0,0,3,0,0,0,0,0,0,0,0,0,0,0,0,0,0,0,0,0,0,0,0,0,0,0,1,0,0,0,0,0,1,0,0,0,0,0,0,0,0,0,0,0,0,0,0,0,0,0,0,0,0,0,0,0,0,0,0,0,0,0,0,0,0,0,0,0,0,0,0,0,0,0,0,0,0,0,0,0,0,0,0,0,0,0,0,0,0,0,0,0,0,0,0,0,0,0,0,0,0,0,0,0,0,0,0,0,0,0,0,0,0,0,0,0,0,0,0,0,0,0,0,0,0,0,0,0,0,0,0,0,0,0,0,0,0,0,0,0,0,0,0,0,0,0,0,0,0,0,0,0,0,0,0,0,0,0,0,0,0,0,0,0,0,0,0,0,0,0,0,0,0,0]
[4,0,0,0,2,0,0,0,0,4,0,0,0,0,0,0,0,0,1,0,0,0,0,0,0,0,0,0,0,0,0,0,0,0,0,0,0,0,0,0,0,0,0,0,0,0,0,0,0,0,0,1,0,1,3,0,1,1,0,3,0,0,0,0,0,0,0,0,0,0,0,0,0,0,0,0,0,0,0,0,0,0,0,0,0,0,0,0,0,0,0,0,0,0,0,0,0,0,0,0,0,0,0,0,0,0,0,0,0,0,0,0,0,0,0,0,0,0,0,0,0,0,0,0,0,0,0,0,0,0,0,0,0,0,0,0,0,0,0,0,0,0,0,0,0,0,0,0,0,0,0,0,0,0,0,0,0,0,0,0,0,0,0,0,0,0,0,0,0,0,0,0,0,0,0,0,0,0,0,0,0,0,0,0,0,0,0,0,0,0,0,0,0,0,0,0,0,0,0,0,0,0,0,0,0,0,0,0,0,0,0,0,0,0,0,0,0,0,0,0,0,0,0,0,0,0,0,0,0,0,0]
[5,0,0,0,1,0,0,0,0,0,0,0,0,0,0,0,0,0,0,0,0,0,0,0,0,0,0,0,0,0,0,0,0,0,0,0,0,0,0,0,0,0,0,0,0,1,0,0,1,0,0,3,0,1,1,1,0,0,1,0,0,0,0,0,0,0,0,0,0,0,0,0,0,0,0,0,0,0,0,0,0,0,0,1,1,0,0,0,1,0,0,0,0,0,0,0,0,0,0,0,0,0,0,0,0,0,0,0,0,0,0,0,0,0,0,0,0,0,0,0,0,0,0,0,0,0,0,0,0,0,0,0,0,0,0,0,0,0,0,0,0,0,0,0,0,0,0,0,0,0,0,0,0,0,0,0,0,0,0,0,0,0,0,0,0,0,0,0,0,0,0,0,0,0,0,0,0,0,0,0,0,0,0,0,0,0,0,0,0,0,0,0,0,0,0,0,0,0,0,0,0,0,0,0,0,0,0,0,0,0,0,0,0,0,0,0,0,0,0,0,0,0,0,0,0,0,0,0,0,0,0]
[6,0,0,0,0,0,0,0,0,0,0,0,0,0,0,0,0,0,0,0,0,0,0,0,0,0,0,0,0,0,0,0,0,0,0,0,0,0,0,0,0,0,0,0,0,0,0,0,0,0,0,2,0,0,4,0,0,0,1,2,1,0,0,0,0,0,0,0,0,0,0,0,0,0,0,0,0,0,0,0,0,0,0,0,0,0,0,0,1,0,0,0,0,0,0,0,0,0,0,0,0,0,0,0,0,0,0,0,0,0,0,0,0,0,0,0,0,0,0,0,0,0,0,0,0,0,0,0,0,0,0,0,0,0,0,0,0,0,0,0,0,0,0,0,0,0,0,0,0,0,0,0,0,0,0,0,0,0,0,0,0,0,0,0,0,0,0,0,0,0,0,0,0,0,0,0,0,0,0,0,0,0,0,0,0,0,0,0,0,0,0,0,0,0,0,0,0,0,0,0,0,0,0,0,0,0,0,0,0,0,0,0,0,0,0,0,0,0,0,0,0,0,0,0,0,0,0,0,0,0,0]
[7,0,0,0,1,0,0,0,0,0,0,0,0,0,1,0,0,0,0,0,0,0,0,0,0,0,0,0,0,0,0,0,0,0,0,0,0,0,0,0,0,1,0,0,0,0,0,0,0,0,0,1,0,0,1,0,0,1,0,4,0,0,0,0,0,0,0,0,0,0,0,0,0,0,0,0,0,0,0,0,0,0,0,1,1,0,1,0,0,0,0,0,0,0,0,0,0,0,0,0,0,0,0,0,0,0,0,0,0,0,0,0,0,0,0,0,0,0,0,0,0,0,0,0,0,0,0,0,0,0,0,0,0,0,0,0,0,0,0,0,0,0,0,0,0,0,0,0,0,0,0,0,0,0,0,0,0,0,0,0,0,0,0,0,0,0,0,0,0,0,0,0,0,0,0,0,0,0,0,0,0,0,0,0,0,0,0,0,0,0,0,0,0,0,0,0,0,0,0,0,0,0,0,0,0,0,0,0,0,0,0,0,0,0,0,0,0,0,0,0,0,0,0,0,0,0,0,0,0,0,0]
[8,2,0,0,1,1,0,0,0,0,0,1,0,0,0,0,2,0,0,0,0,1,0,0,0,1,0,0,0,0,0,0,0,0,1,0,0,0,0,0,0,0,0,0,0,0,0,0,0,0,0,1,0,1,3,1,1,0,0,0,4,0,0,0,0,0,0,0,0,0,0,0,0,0,0,0,0,0,1,0,0,0,1,0,0,0,0,0,0,0,0,0,0,0,0,0,0,0,0,0,0,0,0,0,0,0,0,0,0,0,0,0,0,0,0,0,0,0,0,0,0,0,0,0,0,0,0,0,0,0,0,0,0,0,0,0,0,0,0,0,0,0,0,0,0,0,0,0,0,0,0,0,0,0,0,0,0,0,0,0,0,0,0,0,0,0,0,0,0,0,0,0,0,0,0,0,0,0,0,0,0,0,0,0,0,0,0,0,0,0,0,0,0,0,0,0,0,0,0,0,0,0,0,0,0,0,0,0,0,0,0,0,0,0,0,0,0,0,0,0,0,0,0,0,0,0,0,0,0,0,0]
[9,0,0,1,2,0,0,0,0,0,0,0,0,1,2,0,0,0,1,2,0,0,0,0,0,0,0,0,0,0,0,0,0,0,0,0,0,0,0,0,0,0,0,1,0,0,0,0,0,0,0,0,0,0,1,1,0,0,0,0,0,0,0,0,0,0,0,0,0,0,0,0,0,0,0,0,0,0,0,0,0,0,0,0,0,1,0,0,0,0,0,0,0,0,0,0,0,0,0,0,0,0,0,0,0,0,0,0,0,0,0,0,0,0,0,0,0,0,0,0,0,0,0,0,0,0,0,0,0,0,0,0,0,0,0,0,0,0,0,0,0,0,0,0,0,0,0,0,0,0,0,0,0,0,0,0,0,0,0,0,0,0,0,0,0,0,0,0,0,0,0,0,0,0,0,0,0,0,0,0,0,0,0,0,0,0,0,0,0,0,0,0,0,0,0,0,0,0,0,0,0,0,0,0,0,0,0,0,0,0,0,0,0,0,0,0,0,0,0,0,0,0,0,0,0,0,0,0,0,0,0]
[10,0,0,0,0,0,0,0,0,0,0,0,0,0,0,0,0,0,0,0,0,0,0,0,0,0,0,0,0,0,0,0,0,0,0,0,0,0,0,0,0,0,0,0,0,0,0,0,0,0,0,0,1,0,3,0,0,0,0,2,0,0,0,0,0,0,0,0,0,0,0,0,0,0,0,0,0,0,0,0,0,0,0,0,0,0,0,0,0,0,0,0,0,0,0,0,0,0,0,0,0,0,0,0,0,0,0,0,0,0,0,0,0,0,0,0,0,0,0,0,0,0,0,0,0,0,0,0,0,0,0,0,0,0,0,0,0,0,0,0,0,0,0,0,0,0,0,0,0,0,0,0,0,0,0,0,0,0,0,0,0,0,0,0,0,0,0,0,0,0,0,0,0,0,0,0,0,0,0,0,0,0,0,0,0,0,0,0,0,0,0,0,0,0,0,0,0,0,0,0,0,0,0,0,0,0,0,0,0,0,0,0,0,0,0,0,0,0,0,0,0,0,0,0,0,0,0,0,0,0,0]
[11,0,0,0,1,0,0,0,0,0,0,0,0,0,1,0,0,0,0,0,0,0,0,0,0,0,0,0,0,0,0,0,0,0,0,0,0,0,0,0,0,1,0,0,0,0,0,0,1,2,0,1,0,1,1,0,0,0,0,1,0,0,0,0,0,0,0,0,0,0,0,0,0,0,0,0,0,0,0,0,0,0,0,0,0,0,0,0,0,0,0,0,0,0,0,0,0,0,0,0,0,0,0,0,0,0,0,0,0,0,0,0,0,0,0,0,0,0,0,0,0,0,0,0,0,0,0,0,0,0,0,0,0,0,0,0,0,0,0,0,0,0,0,0,0,0,0,0,0,0,0,0,0,0,0,0,0,0,0,0,0,0,0,0,0,0,0,0,0,0,0,0,0,0,0,0,0,0,0,0,0,0,0,0,0,0,0,0,0,0,0,0,0,0,0,0,0,0,0,0,0,0,0,0,0,0,0,0,0,0,0,0,0,0,0,0,0,0,0,0,0,0,0,0,0,0,0,0,0,0,0]
["T",2,0,1,9,1,0,0,0,4,0,1,0,1,5,0,2,0,2,2,0,1,0,0,0,1,0,0,0,2,0,0,0,0,1,0,0,0,0,0,0,2,0,1,0,1,0,1,2,2,0,14,2,7,21,12,5,2,2,16,6,0,0,0,0,0,0,0,0,0,1,0,0,0,0,1,0,1,1,0,0,0,2,3,2,1,1,0,2,1,0,0,0,0,0,0,0,0,0,0,0,0,0,0,0,0,0,0,0,0,0,0,0,0,0,0,0,0,0,0,0,0,0,0,0,0,0,0,0,0,0,0,0,0,0,0,0,0,0,0,0,0,0,0,0,0,0,0,0,0,0,0,0,0,0,0,0,0,0,0,0,0,0,0,0,0,0,0,0,0,0,0,0,0,0,0,0,0,0,0,0,0,0,0,0,0,0,0,0,0,0,0,0,0,0,0,0,0,0,0,0,0,0,0,0,0,0,0,0,0,0,0,0,0,0,0,0,0,0,0,0,0,0,0,0,0,0,0,0,0,0]
[]
["TOTAL"]
[{"$f":"COUNT(A77:A88)","v":11},{"$f":"SUM(B77:B88)","v":4},{"$f":"SUM(C77:C88)","v":0},2,18,2,0,0,0,8,0,2,0,2,10,0,4,0,4,4,0,2,0,0,0,2,0,0,0,4,0,0,0,0,2,0,0,0,0,0,0,4,0,2,0,2,0,2,4,4,0,28,4,14,42,24,10,4,4,32,12,0,0,0,0,0,{"$f":"SUM(BO77:BO88)","v":0},0,0,0,2,0,0,0,0,2,0,2,2,0,0,0,4,6,4,2,2,0,4,2,0,0,0,0,0,0,0,0,0,0,0,0,0,0,0,0,0,0,0,0,0,0,0,0,0,0,0,0,0,0,0,0,0,0,0,0,0,0,0,0,{"$f":"SUM(EA77:EA88)","v":0},0,0,0,0,0,0,0,0,0,0,0,0,0,0,0,0,0,0,0,0,0,0,0,0,0,0,0,0,0,0,0,0,0,0,0,0,0,0,0,0,0,0,0,0,0,0,0,0,0,0,0,0,0,0,0,0,0,0,0,0,0,0,0,{"$f":"SUM(GM77:GM88)","v":0},0,0,0,0,0,0,0,0,0,0,0,0,0,0,0,0,0,0,0,0,0,0,0,0,0,0,0,0,0,0,0,0,0,0,0,0]
[{"$f":"CONCATENATE(A77,\"-\",A78,\"-\",A79,\"-\",A80,\"-\",A81,\"-\",A82,\"-\",A83,\"-\",A84,\"-\",A85,\"-\",A86,\"-\",A87,\"-\",A88)","v":"2-1-3-4-5-6-7-8-9-10-11-T"}]
[null," BAS001"," BAS002"," BAS003"," BAS004"," BAS005"," BAS006"," BAS007"," BAS008"," BAS009"," BAS010"," BAS011"," BAS012"," BAS013"," BAS014"," BAS015"," BAS016"," BAS017"," BAS018"," BAS019"," BAS020"," BAS021"," BAS022"," BAS023"," BAS024"," BAS025"," BAS026"," BAS027"," BAS028"," BAS029"," BAS030"," BAS031"," BAS032"," BAS033"," BAS034"," BAS035"," BAS036"," BAS037"," BAS038"," BAS039"," BAS040"," BAS041"," BAS042"," BAS043"," BAS044"," BAS045"," BAS046"," BAS047"," BAS048"," BAS049"," BAS050"," BAS051"," BAS052"," BAS053"," BAS054"," BAS055"," BAS056"," BAS057"," BAS058"," BAS059"," BAS060"," BAS061"," BAS062"," BAS063"," BAS064"," BAS065"," BAS066"," BAS067"," BAS068"," BAS069"," BAS070"," BAS071"," BAS072"," BAS073"," BAS074"," BAS075"," BAS076"," BAS077"," BAS078"," BAS079"," BAS080"," BAS081"," BAS082"," BAS083"," BAS084"," BAS085"," BAS086"," BAS087"," BAS088"," BAS089"," BAS090"," BAS091"," BAS092"," BAS093"," BAS094"," BAS095"," BAS096"," BAS097"," BAS098"," BAS099"," BAS100"," BAS101"," BAS102"," BAS103"," BAS104"," BAS105"," BAS106"," BAS107"," BAS108"," BAS109"," BAS110"," BAS111"," BAS112"," BAS113"," BAS114"," BAS115"," BAS116"," BAS117"," BAS118"," BAS119"," BAS120"," BAS121"," BAS122"," BAS123"," BAS124"," BAS125"," BAS126"," BAS127"," BAS128"," BAS129"," BAS130"," BAS131"," BAS132"," BAS133"," BAS134"," BAS135"," BAS136"," BAS137"," BAS138"," BAS139"," BAS140"," BAS141"," BAS142"," BAS143"," BAS144"," BAS145"," BAS146"," BAS147"," BAS148"," BAS149"," BAS150"," BAS151"," BAS152"," BAS153"," BAS154"," BAS155"," BAS156"," BAS157"," BAS158"," BAS159"," BAS160"," BAS161"," BAS162"," BAS163"," BAS164"," BAS165"," BAS166"," BAS167"," BAS168"," BAS169"," BAS170"," BAS171"," BAS172"," BAS173"," BAS174"," BAS175"," BAS176"," BAS177"," BAS178"," BAS179"," BAS180"," BAS181"," BAS182"," BAS183"," BAS184"," BAS185"," BAS186"," BAS187"," BAS188"," BAS189"," BAS190"," BAS191"," BAS192"," BAS193"," BAS194"," BAS195"," BAS196"," BAS197"," BAS198"," BAS199"," BAS200"," BAS201"," BAS202"," BAS203"," BAS204"," BAS205"," BAS206"," BAS207"," BAS208"," BAS209"," BAS210"," BAS211"," BAS212"," BAS213"," BAS214"," BAS215"," BAS216"," BAS217"," BAS218"," BAS219"," BAS220"," BAS221"," BAS222"," BAS223"," BAS224"," BAS225"," BAS226"," BAS227"," BAS228"," BAS229"," BAS230"]
[null,{"$f":"IF(B93=B76,\"SI\",\"NO\")","v":"SI"},{"$f":"IF(C93=C76,\"SI\",\"NO\")","v":"SI"},"SI","SI","SI","SI","SI","SI","SI","SI","SI","SI","SI","SI","SI","SI","SI","SI","SI","SI","SI","SI","SI","SI","SI","SI","SI","SI","SI","SI","SI","SI","SI","SI","SI","SI","SI","SI","SI","SI","SI","SI","SI","SI","SI","SI","SI","SI","SI","SI","SI","SI","SI","SI","SI","SI","SI","SI","SI","SI","SI","SI","SI","SI","SI",{"$f":"IF(BO93=BO76,\"SI\",\"NO\")","v":"SI"},"SI","SI","SI","SI","SI","SI","SI","SI","SI","SI","SI","SI","SI","SI","SI","SI","SI","SI","SI","SI","SI","SI","SI","SI","SI","SI","SI","SI","SI","SI","SI","SI","SI","SI","SI","SI","SI","SI","SI","SI","SI","SI","SI","SI","SI","SI","SI","SI","SI","SI","SI","SI","SI","SI","SI","SI","SI","SI","SI","SI","SI","SI","SI",{"$f":"IF(EA93=EA76,\"SI\",\"NO\")","v":"SI"},"SI","SI","SI","SI","SI","SI","SI","SI","SI","SI","SI","SI","SI","SI","SI","SI","SI","SI","SI","SI","SI","SI","SI","SI","SI","SI","SI","SI","SI","SI","SI","SI","SI","SI","SI","SI","SI","SI","SI","SI","SI","SI","SI","SI","SI","SI","SI","SI","SI","SI","SI","SI","SI","SI","SI","SI","SI","SI","SI","SI","SI","SI","SI",{"$f":"IF(GM93=GM76,\"SI\",\"NO\")","v":"SI"},"SI","SI","SI","SI","SI","SI","SI","SI","SI","SI","SI","SI","SI","SI","SI","SI","SI","SI","SI","SI","SI","SI","SI","SI","SI","SI","SI","SI","SI","SI","SI","SI","SI","SI","SI","SI"]
[]
[]
["R_URBANA 02"]
["anno",2024]
["cod_red","03"]
["codmic","(Todas)"]
["cod_prov","(Todas)"]
["coddist","(Todas)"]
["cod_estab","(Todas)"]
["cod_eje","(Todas)"]
[]
[null,"Valores"]
["Etiquetas de fila"," BAS001"," BAS002"," BAS003"," BAS004"," BAS005"," BAS006"," BAS007"," BAS008"," BAS009"," BAS010"," BAS011"," BAS012"," BAS013"," BAS014"," BAS015"," BAS016"," BAS017"," BAS018"," BAS019"," BAS020"," BAS021"," BAS022"," BAS023"," BAS024"," BAS025"," BAS026"," BAS027"," BAS028"," BAS029"," BAS030"," BAS031"," BAS032"," BAS033"," BAS034"," BAS035"," BAS036"," BAS037"," BAS038"," BAS039"," BAS040"," BAS041"," BAS042"," BAS043"," BAS044"," BAS045"," BAS046"," BAS047"," BAS048"," BAS049"," BAS050"," BAS051"," BAS052"," BAS053"," BAS054"," BAS055"," BAS056"," BAS057"," BAS058"," BAS059"," BAS060"," BAS061"," BAS062"," BAS063"," BAS064"," BAS065"," BAS066"," BAS067"," BAS068"," BAS069"," BAS070"," BAS071"," BAS072"," BAS073"," BAS074"," BAS075"," BAS076"," BAS077"," BAS078"," BAS079"," BAS080"," BAS081"," BAS082"," BAS083"," BAS084"," BAS085"," BAS086"," BAS087"," BAS088"," BAS089"," BAS090"," BAS091"," BAS092"," BAS093"," BAS094"," BAS095"," BAS096"," BAS097"," BAS098"," BAS099"," BAS100"," BAS101"," BAS102"," BAS103"," BAS104"," BAS105"," BAS106"," BAS107"," BAS108"," BAS109"," BAS110"," BAS111"," BAS112"," BAS113"," BAS114"," BAS115"," BAS116"," BAS117"," BAS118"," BAS119"," BAS120"," BAS121"," BAS122"," BAS123"," BAS124"," BAS125"," BAS126"," BAS127"," BAS128"," BAS129"," BAS130"," BAS131"," BAS132"," BAS133"," BAS134"," BAS135"," BAS136"," BAS137"," BAS138"," BAS139"," BAS140"," BAS141"," BAS142"," BAS143"," BAS144"," BAS145"," BAS146"," BAS147"," BAS148"," BAS149"," BAS150"," BAS151"," BAS152"," BAS153"," BAS154"," BAS155"," BAS156"," BAS157"," BAS158"," BAS159"," BAS160"," BAS161"," BAS162"," BAS163"," BAS164"," BAS165"," BAS166"," BAS167"," BAS168"," BAS169"," BAS170"," BAS171"," BAS172"," BAS173"," BAS174"," BAS175"," BAS176"," BAS177"," BAS178"," BAS179"," BAS180"," BAS181"," BAS182"," BAS183"," BAS184"," BAS185"," BAS186"," BAS187"," BAS188"," BAS189"," BAS190"," BAS191"," BAS192"," BAS193"," BAS194"," BAS195"," BAS196"," BAS197"," BAS198"," BAS199"," BAS200"," BAS201"," BAS202"," BAS203"," BAS204"," BAS205"," BAS206"," BAS207"," BAS208"," BAS209"," BAS210"," BAS211"," BAS212"," BAS213"," BAS214"," BAS215"," BAS216"," BAS217"," BAS218"," BAS219"," BAS220"," BAS221"," BAS222"," BAS223"," BAS224"," BAS225"," BAS226"," BAS227"," BAS228"," BAS229"," BAS230"]
[2,0,0,0,0,0,0,0,0,0,0,0,0,0,0,0,0,0,0,0,0,0,0,0,0,0,1,0,1,1,1,1,0,1,0,0,2,0,1,1,1,0,0,0,0,1,1,1,0,1,1,0,0,0,0,1,1,0,0,0,0,0,0,0,0,1,1,0,0,0,0,0,0,0,0,0,0,2,0,0,1,0,2,0,0,1,0,2,0,0,0,0,0,0,0,0,0,0,0,0,0,0,0,0,0,0,0,0,0,0,0,0,0,0,0,0,0,0,0,0,0,0,0,0,0,0,0,0,0,0,0,0,0,0,0,0,0,0,0,0,0,0,0,0,0,0,0,0,0,0,0,0,0,0,0,0,0,0,0,0,0,0,0,0,0,0,0,0,0,0,0,0,0,0,0,0,0,0,0,0,0,0,0,0,0,0,0,0,0,0,0,0,0,0,0,0,0,0,0,0,0,0,0,0,0,0,0,0,0,0,0,0,0,0,0,0,0,0,0,0,0,0,0,0,0,0,0,0,0,0,0]
[1,0,0,0,0,0,0,0,0,0,0,0,0,0,0,0,0,0,0,0,0,0,0,0,0,0,2,1,2,3,1,2,2,2,3,1,1,2,2,4,1,0,1,1,0,1,0,0,0,0,0,2,1,0,0,0,2,0,0,0,0,2,0,0,0,0,1,0,0,0,0,0,0,0,0,0,0,0,0,0,0,0,0,0,0,0,0,0,0,0,0,0,0,0,0,0,0,0,0,1,0,0,0,0,0,0,0,0,0,0,0,0,0,0,0,0,0,0,0,0,0,0,0,0,0,0,0,0,0,0,0,0,0,0,0,0,0,0,0,0,0,0,0,0,0,0,0,0,0,0,0,0,0,0,0,0,0,0,0,0,0,0,0,0,0,0,0,0,0,0,0,0,0,0,0,0,0,0,0,0,0,0,0,0,0,0,0,0,0,0,0,0,0,0,0,0,0,0,0,0,0,0,0,0,0,0,0,0,0,0,0,0,0,0,0,0,0,0,0,0,0,0,0,0,0,0,0,0,0,0,0]
[3,0,0,0,0,0,0,0,0,0,0,0,0,0,0,0,0,0,0,0,0,0,0,0,0,0,0,0,1,1,4,0,0,2,2,3,0,0,1,2,3,0,0,0,2,3,1,0,0,1,2,0,0,0,0,0,0,0,0,1,0,0,0,0,0,0,0,0,1,0,0,0,0,0,0,0,2,0,2,0,0,0,0,2,0,0,1,0,0,0,1,0,0,0,0,0,0,0,0,0,0,0,0,0,0,0,0,0,0,0,0,0,0,0,0,0,0,0,0,0,0,0,0,0,0,0,0,0,0,0,0,0,0,0,0,0,0,0,0,0,0,0,0,0,0,0,0,0,0,0,0,0,0,0,0,0,0,0,0,0,0,0,0,0,0,0,0,0,0,0,0,0,0,0,0,0,0,0,0,0,0,0,0,0,0,0,0,0,0,0,0,0,0,0,0,0,0,0,0,0,0,0,0,0,0,0,0,0,0,0,0,0,0,0,0,0,0,0,0,0,0,0,0,0,0,0,0,0,0,0,0]
[4,0,0,0,0,0,0,0,0,0,0,0,0,0,0,0,0,0,0,0,0,0,0,0,0,0,0,0,0,0,1,0,0,0,0,1,0,0,0,0,1,0,0,0,1,0,0,0,0,0,0,2,0,0,0,0,1,0,0,0,0,0,0,0,0,0,0,0,0,0,0,0,0,0,0,0,0,0,1,1,0,0,0,1,1,0,0,0,0,0,0,0,0,0,1,0,0,0,0,0,0,0,0,0,0,0,0,0,0,0,0,0,0,0,0,0,0,0,0,0,0,0,0,0,0,0,0,0,0,0,0,0,0,0,0,0,0,0,0,0,0,0,0,0,0,0,0,0,0,0,0,0,0,0,0,0,0,0,0,0,0,0,0,0,0,0,0,0,0,0,0,0,0,0,0,0,0,0,0,0,0,0,0,0,0,0,0,0,0,0,0,0,0,0,0,0,0,0,0,0,0,0,0,0,0,0,0,0,0,0,0,0,0,0,0,0,0,0,0,0,0,0,0,0,0,0,0,0,0,0,0]
[5,0,0,0,0,0,0,0,0,0,0,0,0,0,0,0,0,0,0,0,0,0,0,0,0,0,1,1,2,2,0,1,0,2,2,0,1,0,2,1,0,0,0,0,1,0,0,0,0,1,0,0,0,0,0,1,0,0,0,0,1,0,0,0,2,3,0,0,0,0,1,0,0,0,0,0,0,0,1,0,0,0,0,1,0,1,0,0,1,1,0,0,0,0,1,0,0,0,0,1,0,0,0,0,0,0,0,0,0,0,0,0,0,0,0,0,0,0,0,0,0,0,0,0,0,0,0,0,0,0,0,0,0,0,0,0,0,0,0,0,0,0,0,0,0,0,0,0,0,0,0,0,0,0,0,0,0,0,0,0,0,0,0,0,0,0,0,0,0,0,0,0,0,0,0,0,0,0,0,0,0,0,0,0,0,0,0,0,0,0,0,0,0,0,0,0,0,0,0,0,0,0,0,0,0,0,0,0,0,0,0,0,0,0,0,0,0,0,0,0,0,0,0,0,0,0,0,0,0,0,0]
[6,0,0,0,0,0,0,0,0,0,0,0,0,0,0,0,0,0,0,0,0,0,0,0,0,0,0,0,1,0,0,0,1,1,0,1,0,1,1,1,0,1,1,2,1,0,1,0,1,1,0,0,0,0,2,0,1,0,0,1,0,0,0,0,1,0,0,0,0,0,0,0,0,0,0,1,0,0,0,1,0,0,0,2,0,0,0,0,0,0,0,0,0,0,0,0,1,0,0,0,0,0,0,0,0,0,0,0,0,0,0,0,0,0,0,0,0,0,0,0,0,0,0,0,0,0,0,0,0,0,0,0,0,0,0,0,0,0,0,0,0,0,0,0,0,0,0,0,0,0,0,0,0,0,0,0,0,0,0,0,0,0,0,0,0,0,0,0,0,0,0,0,0,0,0,0,0,0,0,0,0,0,0,0,0,0,0,0,0,0,0,0,0,0,0,0,0,0,0,0,0,0,0,0,0,0,0,0,0,0,0,0,0,0,0,0,0,0,0,0,0,0,0,0,0,0,0,0,0,0,0]
[7,0,0,0,0,0,0,0,0,0,0,0,0,0,0,0,0,0,0,0,0,0,0,0,0,0,3,0,3,2,2,2,0,2,2,3,1,0,3,5,2,0,0,3,3,1,0,1,1,0,0,0,0,0,0,0,0,0,0,0,0,0,0,0,0,0,0,0,0,0,0,0,0,0,0,0,0,0,0,1,0,1,0,0,2,0,1,0,0,2,0,1,0,0,2,0,0,0,0,1,0,0,0,0,0,0,0,0,0,0,0,0,0,0,0,0,0,0,0,0,0,0,0,0,0,0,0,0,0,0,0,0,0,0,0,0,0,0,0,0,0,0,0,0,0,0,0,0,0,0,0,0,0,0,0,0,0,0,0,0,0,0,0,0,0,0,0,0,0,0,0,0,0,0,0,0,0,0,0,0,0,0,0,0,0,0,0,0,0,0,0,0,0,0,0,0,0,0,0,0,0,0,0,0,0,0,0,0,0,0,0,0,0,0,0,0,0,0,0,0,0,0,0,0,0,0,0,0,0,0,0]
[8,0,0,0,0,0,0,0,0,0,0,0,0,0,0,0,0,0,0,0,0,0,0,0,0,0,0,0,4,1,1,0,0,3,1,0,0,0,2,1,0,1,0,2,1,1,1,0,2,2,1,0,0,2,0,2,0,0,2,0,1,0,0,1,0,2,1,0,1,0,1,0,0,0,0,0,1,1,0,1,3,2,1,0,0,3,0,0,0,0,4,0,0,0,0,3,1,0,0,1,1,0,0,0,0,0,0,0,0,0,0,0,0,0,0,0,0,0,0,0,0,0,0,0,0,0,0,0,0,0,0,0,0,0,0,0,0,0,0,0,0,0,0,0,0,0,0,0,0,0,0,0,0,0,0,0,0,0,0,0,0,0,0,0,0,0,0,0,0,0,0,0,0,0,0,0,0,0,0,0,0,0,0,0,0,0,0,0,0,0,0,0,0,0,0,0,0,0,0,0,0,0,0,0,0,0,0,0,0,0,0,0,0,0,0,0,0,0,0,0,0,0,0,0,0,0,0,0,0,0,0]
[9,0,0,0,0,0,0,0,0,0,0,0,0,0,0,0,0,0,0,0,0,0,0,0,0,0,0,0,0,4,0,0,0,1,2,0,0,0,1,1,1,0,0,0,1,0,0,0,0,1,0,0,0,0,0,0,0,0,0,0,0,0,0,0,0,0,0,0,0,0,0,0,0,0,0,0,1,1,6,4,0,1,1,5,4,0,1,0,0,1,0,0,0,0,1,0,0,0,0,0,2,0,0,0,0,0,0,0,0,0,0,0,0,0,0,0,0,0,0,0,0,0,0,0,0,0,0,0,0,0,0,0,0,0,0,0,0,0,0,0,0,0,0,0,0,0,0,0,0,0,0,0,0,0,0,0,0,0,0,0,0,0,0,0,0,0,0,0,0,0,0,0,0,0,0,0,0,0,0,0,0,0,0,0,0,0,0,0,0,0,0,0,0,0,0,0,0,0,0,0,0,0,0,0,0,0,0,0,0,0,0,0,0,0,0,0,0,0,0,0,0,0,0,0,0,0,0,0,0,0,0]
[10,0,0,0,0,0,0,0,0,0,0,0,0,0,0,0,0,0,0,0,0,0,0,0,0,0,1,0,2,3,1,1,0,0,3,1,0,0,0,3,1,0,0,1,4,1,0,0,0,0,0,0,0,0,1,0,0,0,0,1,0,0,0,0,1,0,0,0,0,1,0,0,0,0,1,0,12,1,1,4,0,35,22,26,45,13,4,0,0,2,0,1,1,2,2,0,1,0,2,2,0,0,0,0,0,0,0,0,0,0,0,0,0,0,0,0,0,0,0,0,0,0,0,0,0,0,0,0,0,0,0,0,0,0,0,0,0,0,0,0,0,0,0,0,0,0,0,0,0,0,0,0,0,0,0,0,0,0,0,0,0,0,0,0,0,0,0,0,0,0,0,0,0,0,0,0,0,0,0,0,0,0,0,0,0,0,0,0,0,0,0,0,0,0,0,0,0,0,0,0,0,0,0,0,0,0,0,0,0,0,0,0,0,0,0,0,0,0,0,0,0,0,0,0,0,0,0,0,0,0,0]
[11,0,0,0,0,0,0,0,0,0,0,0,0,0,0,0,0,0,0,0,0,0,0,0,0,0,0,0,1,0,0,0,0,0,1,0,0,0,0,1,0,0,0,2,0,0,0,0,1,1,0,0,0,0,0,0,0,0,0,0,0,0,0,0,0,0,0,0,0,0,0,0,0,0,0,0,1,0,1,1,0,0,1,1,1,0,1,0,1,2,0,0,0,0,0,0,0,0,1,0,0,0,0,0,0,0,0,0,0,0,0,0,0,0,0,0,0,0,0,0,0,0,0,0,0,0,0,0,0,1,0,0,0,0,0,0,0,0,0,0,0,0,0,0,0,0,0,0,0,0,0,0,0,0,0,0,0,0,0,0,0,0,0,0,0,0,0,0,0,0,0,0,0,0,0,0,0,0,0,0,0,0,0,0,0,0,0,0,0,0,0,0,0,0,0,0,0,0,0,0,0,0,0,0,0,0,0,0,0,0,0,0,0,0,0,0,0,0,0,0,0,0,0,0,0,0,0,0,0,0,0]
["T",0,0,0,0,0,0,0,0,0,0,0,0,0,0,0,0,0,0,0,0,0,0,0,0,0,8,2,17,17,11,7,3,14,16,10,5,3,13,20,10,2,2,11,14,8,4,2,5,8,4,4,1,2,3,4,5,0,2,3,2,2,0,1,4,6,3,0,2,1,2,0,0,0,1,1,17,5,12,13,4,39,27,38,53,18,8,2,2,8,5,2,1,2,7,3,3,0,3,6,3,0,0,0,0,0,0,0,0,0,0,0,0,0,0,0,0,0,0,0,0,0,0,0,0,0,0,0,0,1,0,0,0,0,0,0,0,0,0,0,0,0,0,0,0,0,0,0,0,0,0,0,0,0,0,0,0,0,0,0,0,0,0,0,0,0,0,0,0,0,0,0,0,0,0,0,0,0,0,0,0,0,0,0,0,0,0,0,0,0,0,0,0,0,0,0,0,0,0,0,0,0,0,0,0,0,0,0,0,0,0,0,0,0,0,0,0,0,0,0,0,0,0,0,0,0,0,0,0,0,0]
[]
["TOTAL"]
[{"$f":"COUNT(A108:A119)","v":11},{"$f":"SUM(B108:B119)","v":0},{"$f":"SUM(C108:C119)","v":0},0,0,0,0,0,0,0,0,0,0,0,0,0,0,0,0,0,0,0,0,0,0,0,16,4,34,34,22,14,6,28,32,20,10,6,26,40,20,4,4,22,28,16,8,4,10,16,8,8,2,4,6,8,10,0,4,6,4,4,0,2,8,12,{"$f":"SUM(BO108:BO119)","v":6},0,4,2,4,0,0,0,2,2,34,10,24,26,8,78,54,76,106,36,16,4,4,16,10,4,2,4,14,6,6,0,6,12,6,0,0,0,0,0,0,0,0,0,0,0,0,0,0,0,0,0,0,0,0,0,0,0,0,0,0,0,0,2,{"$f":"SUM(EA108:EA119)","v":0},0,0,0,0,0,0,0,0,0,0,0,0,0,0,0,0,0,0,0,0,0,0,0,0,0,0,0,0,0,0,0,0,0,0,0,0,0,0,0,0,0,0,0,0,0,0,0,0,0,0,0,0,0,0,0,0,0,0,0,0,0,0,0,{"$f":"SUM(GM108:GM119)","v":0},0,0,0,0,0,0,0,0,0,0,0,0,0,0,0,0,0,0,0,0,0,0,0,0,0,0,0,0,0,0,0,0,0,0,0,0]
[{"$f":"CONCATENATE(A108,\"-\",A109,\"-\",A110,\"-\",A111,\"-\",A112,\"-\",A113,\"-\",A114,\"-\",A115,\"-\",A116,\"-\",A117,\"-\",A118,\"-\",A119)","v":"2-1-3-4-5-6-7-8-9-10-11-T"}]
[null," BAS001"," BAS002"," BAS003"," BAS004"," BAS005"," BAS006"," BAS007"," BAS008"," BAS009"," BAS010"," BAS011"," BAS012"," BAS013"," BAS014"," BAS015"," BAS016"," BAS017"," BAS018"," BAS019"," BAS020"," BAS021"," BAS022"," BAS023"," BAS024"," BAS025"," BAS026"," BAS027"," BAS028"," BAS029"," BAS030"," BAS031"," BAS032"," BAS033"," BAS034"," BAS035"," BAS036"," BAS037"," BAS038"," BAS039"," BAS040"," BAS041"," BAS042"," BAS043"," BAS044"," BAS045"," BAS046"," BAS047"," BAS048"," BAS049"," BAS050"," BAS051"," BAS052"," BAS053"," BAS054"," BAS055"," BAS056"," BAS057"," BAS058"," BAS059"," BAS060"," BAS061"," BAS062"," BAS063"," BAS064"," BAS065"," BAS066"," BAS067"," BAS068"," BAS069"," BAS070"," BAS071"," BAS072"," BAS073"," BAS074"," BAS075"," BAS076"," BAS077"," BAS078"," BAS079"," BAS080"," BAS081"," BAS082"," BAS083"," BAS084"," BAS085"," BAS086"," BAS087"," BAS088"," BAS089"," BAS090"," BAS091"," BAS092"," BAS093"," BAS094"," BAS095"," BAS096"," BAS097"," BAS098"," BAS099"," BAS100"," BAS101"," BAS102"," BAS103"," BAS104"," BAS105"," BAS106"," BAS107"," BAS108"," BAS109"," BAS110"," BAS111"," BAS112"," BAS113"," BAS114"," BAS115"," BAS116"," BAS117"," BAS118"," BAS119"," BAS120"," BAS121"," BAS122"," BAS123"," BAS124"," BAS125"," BAS126"," BAS127"," BAS128"," BAS129"," BAS130"," BAS131"," BAS132"," BAS133"," BAS134"," BAS135"," BAS136"," BAS137"," BAS138"," BAS139"," BAS140"," BAS141"," BAS142"," BAS143"," BAS144"," BAS145"," BAS146"," BAS147"," BAS148"," BAS149"," BAS150"," BAS151"," BAS152"," BAS153"," BAS154"," BAS155"," BAS156"," BAS157"," BAS158"," BAS159"," BAS160"," BAS161"," BAS162"," BAS163"," BAS164"," BAS165"," BAS166"," BAS167"," BAS168"," BAS169"," BAS170"," BAS171"," BAS172"," BAS173"," BAS174"," BAS175"," BAS176"," BAS177"," BAS178"," BAS179"," BAS180"," BAS181"," BAS182"," BAS183"," BAS184"," BAS185"," BAS186"," BAS187"," BAS188"," BAS189"," BAS190"," BAS191"," BAS192"," BAS193"," BAS194"," BAS195"," BAS196"," BAS197"," BAS198"," BAS199"," BAS200"," BAS201"," BAS202"," BAS203"," BAS204"," BAS205"," BAS206"," BAS207"," BAS208"," BAS209"," BAS210"," BAS211"," BAS212"," BAS213"," BAS214"," BAS215"," BAS216"," BAS217"," BAS218"," BAS219"," BAS220"," BAS221"," BAS222"," BAS223"," BAS224"," BAS225"," BAS226"," BAS227"," BAS228"," BAS229"," BAS230"]
[null,{"$f":"IF(B124=B107,\"SI\",\"NO\")","v":"SI"},{"$f":"IF(C124=C107,\"SI\",\"NO\")","v":"SI"},"SI","SI","SI","SI","SI","SI","SI","SI","SI","SI","SI","SI","SI","SI","SI","SI","SI","SI","SI","SI","SI","SI","SI","SI","SI","SI","SI","SI","SI","SI","SI","SI","SI","SI","SI","SI","SI","SI","SI","SI","SI","SI","SI","SI","SI","SI","SI","SI","SI","SI","SI","SI","SI","SI","SI","SI","SI","SI","SI","SI","SI","SI","SI",{"$f":"IF(BO124=BO107,\"SI\",\"NO\")","v":"SI"},"SI","SI","SI","SI","SI","SI","SI","SI","SI","SI","SI","SI","SI","SI","SI","SI","SI","SI","SI","SI","SI","SI","SI","SI","SI","SI","SI","SI","SI","SI","SI","SI","SI","SI","SI","SI","SI","SI","SI","SI","SI","SI","SI","SI","SI","SI","SI","SI","SI","SI","SI","SI","SI","SI","SI","SI","SI","SI","SI","SI","SI","SI","SI",{"$f":"IF(EA124=EA107,\"SI\",\"NO\")","v":"SI"},"SI","SI","SI","SI","SI","SI","SI","SI","SI","SI","SI","SI","SI","SI","SI","SI","SI","SI","SI","SI","SI","SI","SI","SI","SI","SI","SI","SI","SI","SI","SI","SI","SI","SI","SI","SI","SI","SI","SI","SI","SI","SI","SI","SI","SI","SI","SI","SI","SI","SI","SI","SI","SI","SI","SI","SI","SI","SI","SI","SI","SI","SI","SI",{"$f":"IF(GM124=GM107,\"SI\",\"NO\")","v":"SI"},"SI","SI","SI","SI","SI","SI","SI","SI","SI","SI","SI","SI","SI","SI","SI","SI","SI","SI","SI","SI","SI","SI","SI","SI","SI","SI","SI","SI","SI","SI","SI","SI","SI","SI","SI","SI"]
[]
[]
["R_URBANA 03"]
["anno",2024]
["cod_red","03"]
["codmic","(Todas)"]
["cod_prov","(Todas)"]
["coddist","(Todas)"]
["cod_estab","(Todas)"]
["cod_eje","(Todas)"]
[]
[null,"Valores"]
["Etiquetas de fila"," BAS001"," BAS002"," BAS003"," BAS004"," BAS005"," BAS006"," BAS007"," BAS008"," BAS009"," BAS010"," BAS011"," BAS012"," BAS013"," BAS014"," BAS015"," BAS016"," BAS017"," BAS018"," BAS019"," BAS020"," BAS021"," BAS022"," BAS023"," BAS024"," BAS025"," BAS026"," BAS027"," BAS028"," BAS029"," BAS030"," BAS031"," BAS032"," BAS033"," BAS034"," BAS035"," BAS036"," BAS037"," BAS038"," BAS039"," BAS040"," BAS041"," BAS042"," BAS043"," BAS044"," BAS045"," BAS046"," BAS047"," BAS048"," BAS049"," BAS050"," BAS051"," BAS052"," BAS053"," BAS054"," BAS055"," BAS056"," BAS057"," BAS058"," BAS059"," BAS060"," BAS061"," BAS062"," BAS063"," BAS064"," BAS065"," BAS066"," BAS067"," BAS068"," BAS069"," BAS070"," BAS071"," BAS072"," BAS073"," BAS074"," BAS075"," BAS076"," BAS077"," BAS078"," BAS079"," BAS080"," BAS081"," BAS082"," BAS083"," BAS084"," BAS085"," BAS086"," BAS087"," BAS088"," BAS089"," BAS090"," BAS091"," BAS092"," BAS093"," BAS094"," BAS095"," BAS096"," BAS097"," BAS098"," BAS099"," BAS100"," BAS101"," BAS102"," BAS103"," BAS104"," BAS105"," BAS106"," BAS107"," BAS108"," BAS109"," BAS110"," BAS111"," BAS112"," BAS113"," BAS114"," BAS115"," BAS116"," BAS117"," BAS118"," BAS119"," BAS120"," BAS121"," BAS122"," BAS123"," BAS124"," BAS125"," BAS126"," BAS127"," BAS128"," BAS129"," BAS130"," BAS131"," BAS132"," BAS133"," BAS134"," BAS135"," BAS136"," BAS137"," BAS138"," BAS139"," BAS140"," BAS141"," BAS142"," BAS143"," BAS144"," BAS145"," BAS146"," BAS147"," BAS148"," BAS149"," BAS150"," BAS151"," BAS152"," BAS153"," BAS154"," BAS155"," BAS156"," BAS157"," BAS158"," BAS159"," BAS160"," BAS161"," BAS162"," BAS163"," BAS164"," BAS165"," BAS166"," BAS167"," BAS168"," BAS169"," BAS170"," BAS171"," BAS172"," BAS173"," BAS174"," BAS175"," BAS176"," BAS177"," BAS178"," BAS179"," BAS180"," BAS181"," BAS182"," BAS183"," BAS184"," BAS185"," BAS186"," BAS187"," BAS188"," BAS189"," BAS190"," BAS191"," BAS192"," BAS193"," BAS194"," BAS195"," BAS196"," BAS197"," BAS198"," BAS199"," BAS200"," BAS201"," BAS202"," BAS203"," BAS204"," BAS205"," BAS206"," BAS207"," BAS208"," BAS209"," BAS210"," BAS211"," BAS212"," BAS213"," BAS214"," BAS215"," BAS216"," BAS217"," BAS218"," BAS219"," BAS220"," BAS221"," BAS222"," BAS223"," BAS224"," BAS225"," BAS226"," BAS227"," BAS228"," BAS229"," BAS230"]
[2,0,0,0,0,0,0,0,0,0,0,0,0,0,0,0,0,0,0,0,0,0,0,0,0,0,0,0,0,0,0,0,0,0,0,0,0,0,0,0,0,0,0,0,0,0,0,0,0,0,0,0,0,0,0,0,0,0,0,0,0,0,0,0,0,0,0,0,0,0,0,0,0,0,0,0,0,0,0,0,0,0,0,0,0,0,0,0,0,0,0,0,0,0,0,0,0,0,0,0,0,0,0,0,0,0,0,0,0,0,0,0,0,0,0,0,0,0,0,0,0,0,0,0,0,0,0,0,0,0,0,0,0,0,0,0,0,0,0,0,0,0,0,0,0,0,0,0,0,0,0,0,0,0,0,0,0,0,0,0,0,0,0,0,0,0,0,0,0,0,0,0,0,0,0,0,11,9,5,0,0,0,0,0,0,0,0,0,0,0,0,0,0,0,0,0,0,0,0,0,0,0,0,0,0,0,0,0,0,0,0,0,0,0,0,0,0,0,0,0,0,0,0,0,0,0,0,0,0,0,0]
[1,0,0,0,0,0,0,0,0,0,0,0,0,0,0,0,0,0,0,0,0,0,0,0,0,0,0,0,0,0,0,0,0,0,0,0,0,0,0,0,0,0,0,0,0,0,0,0,0,0,0,0,0,0,0,0,0,0,0,0,0,0,0,0,0,0,0,0,0,0,0,0,0,0,0,0,0,0,0,0,0,0,0,0,0,0,0,0,0,0,0,0,0,0,0,0,0,0,0,0,0,0,0,0,0,0,0,0,0,0,0,0,0,0,0,0,0,0,0,0,0,0,0,0,0,0,0,0,0,0,0,0,0,0,0,0,0,0,0,3,0,0,0,0,0,0,0,0,0,0,0,0,0,0,0,0,0,0,0,0,0,0,0,0,0,0,0,0,0,0,0,0,0,0,0,0,4,4,2,0,0,0,0,0,0,0,0,0,0,0,0,0,0,0,0,0,0,0,0,0,0,0,0,0,0,0,0,0,0,0,0,0,0,0,0,0,0,0,0,0,0,0,0,0,0,0,0,0,0,0,0]
[3,0,0,0,0,0,0,0,0,0,0,0,0,0,0,0,0,0,0,0,0,0,0,0,0,0,0,0,0,0,0,0,0,0,0,0,0,0,0,0,0,0,0,0,0,0,0,0,0,0,0,0,0,0,0,0,0,0,0,0,0,0,0,0,0,0,0,0,0,0,0,0,0,0,0,0,0,0,0,0,0,0,0,0,0,0,0,0,0,0,0,0,0,0,0,0,0,0,0,0,0,0,0,0,0,0,0,0,0,0,0,0,0,0,0,0,0,0,0,0,0,0,0,0,0,0,0,0,0,0,0,0,0,0,0,0,0,0,0,0,0,0,0,0,0,0,0,0,0,0,0,0,0,0,0,0,0,0,0,0,0,0,0,0,0,0,0,0,0,0,0,0,0,0,0,0,4,4,2,0,0,0,0,0,0,0,0,0,0,0,0,0,0,0,0,0,0,0,0,0,0,0,0,0,0,0,0,0,0,0,0,0,0,0,0,0,0,0,0,0,0,0,0,0,0,0,0,0,0,0,0]
[4,0,0,0,0,0,0,0,0,0,0,0,0,0,0,0,0,0,0,0,0,0,0,0,0,0,0,0,0,0,0,0,0,0,0,0,0,0,0,0,0,0,0,0,0,0,0,0,0,0,0,0,0,0,0,0,0,0,0,0,0,0,0,0,0,0,0,0,0,0,0,0,0,0,0,0,0,0,0,0,0,0,0,0,0,0,0,0,0,0,0,0,0,0,0,0,0,0,0,0,0,0,0,0,0,0,0,0,0,0,0,0,0,0,0,0,0,0,0,0,0,0,0,0,0,0,0,0,0,0,0,0,0,0,0,0,0,0,1,2,0,0,0,0,0,0,0,0,0,0,0,0,0,0,0,0,0,0,0,0,0,0,0,0,0,0,0,0,0,0,0,0,0,0,0,0,6,6,2,0,0,0,0,0,0,0,0,0,0,0,0,0,0,0,0,0,0,0,0,0,0,0,0,0,0,0,0,0,0,0,0,0,0,0,0,0,0,0,0,0,0,0,0,0,0,0,0,0,0,0,0]
[5,0,0,0,0,0,0,0,0,0,0,0,0,0,0,0,0,0,0,0,0,0,0,0,0,0,0,0,0,0,0,0,0,0,0,0,0,0,0,0,0,0,0,0,0,0,0,0,0,0,0,0,0,0,0,0,0,0,0,0,0,0,0,0,0,0,0,0,0,0,0,0,0,0,0,0,0,0,0,0,0,0,0,0,0,0,0,0,0,0,0,0,0,0,0,0,0,0,0,0,0,0,0,0,0,0,0,0,0,0,0,0,0,0,0,0,0,0,0,0,0,0,0,0,0,0,0,0,0,0,0,0,0,0,0,0,0,0,0,1,0,0,0,0,0,0,0,0,0,0,0,0,0,0,0,0,0,0,0,0,0,0,0,0,0,0,0,0,0,0,0,0,0,0,0,0,7,8,6,0,0,0,0,0,0,0,0,0,0,0,0,0,0,0,0,0,0,0,0,0,0,0,0,0,0,0,0,0,0,0,0,0,0,0,0,0,0,0,0,0,0,0,0,0,0,0,0,0,0,0,0]
[6,0,0,0,0,0,0,0,0,0,0,0,0,0,0,0,0,0,0,0,0,0,0,0,0,0,0,0,0,0,0,0,0,0,0,0,0,0,0,0,0,0,0,0,0,0,0,0,0,0,0,0,0,0,0,0,0,0,0,0,0,0,0,0,0,0,0,0,0,0,0,0,0,0,0,0,0,0,0,0,0,0,0,0,0,0,0,0,0,0,0,0,0,0,0,0,0,0,0,0,0,0,0,0,0,0,0,0,0,0,0,0,0,0,0,0,0,0,0,0,0,0,0,0,0,0,0,0,0,0,0,0,0,0,0,0,0,0,0,0,0,0,0,0,0,0,0,0,0,0,0,0,0,0,0,0,0,0,0,0,0,0,0,0,0,0,0,0,0,0,0,0,0,0,0,0,3,2,3,0,0,0,0,0,0,0,0,0,0,0,0,0,0,0,0,0,0,0,0,0,0,0,0,0,0,0,0,0,0,0,0,0,0,0,0,0,0,0,0,0,0,0,0,0,0,0,0,0,0,0,0]
[7,0,0,0,0,0,0,0,0,0,0,0,0,0,0,0,0,0,0,0,0,0,0,0,0,0,0,0,0,0,0,0,0,0,0,0,0,0,0,0,0,0,0,0,0,0,0,0,0,0,0,0,0,0,0,0,0,0,0,0,0,0,0,0,0,0,0,0,0,0,0,0,0,0,0,0,0,0,0,0,0,0,0,0,0,0,0,0,0,0,0,0,0,0,0,0,0,0,0,0,0,0,0,0,0,0,0,0,0,0,0,0,0,0,0,0,0,0,0,0,0,0,0,0,0,0,0,0,0,0,0,0,0,0,0,0,0,0,0,1,0,0,0,0,0,0,0,0,0,0,0,0,0,0,0,0,0,0,0,0,0,0,0,0,0,0,0,0,0,0,0,0,0,0,0,0,6,6,4,0,0,0,0,0,0,0,0,0,0,0,0,0,0,0,0,0,0,0,0,0,0,0,0,0,0,0,0,0,0,0,0,0,0,0,0,0,0,0,0,0,0,0,0,0,0,0,0,0,0,0,0]
[8,0,0,0,0,0,0,0,0,0,0,0,0,0,0,0,0,0,0,0,0,0,0,0,0,0,0,0,0,0,0,0,0,0,0,0,0,0,0,0,0,0,0,0,0,0,0,0,0,0,0,0,0,0,0,0,0,0,0,0,0,0,0,0,0,0,0,0,0,0,0,0,0,0,0,0,0,0,0,0,0,0,0,0,0,0,0,0,0,0,0,0,0,0,0,0,0,0,0,0,0,0,0,0,0,0,0,0,0,0,0,0,0,0,0,0,0,0,0,0,0,0,0,0,0,0,0,0,0,0,0,0,0,0,0,0,4,0,0,1,1,0,0,0,0,0,0,0,0,0,0,0,0,0,0,0,0,0,0,0,0,0,0,0,0,0,0,0,0,0,0,0,0,0,0,0,9,7,3,0,0,0,0,0,0,0,0,0,0,0,0,0,0,0,0,0,0,0,0,0,0,0,0,0,0,0,0,0,0,0,0,0,0,0,0,0,40,8520,5656,0,0,0,0,0,0,0,0,0,0,0,0]
[9,0,0,0,0,0,0,0,0,0,0,0,0,0,0,0,0,0,0,0,0,0,0,0,0,0,0,0,0,0,0,0,0,0,0,0,0,0,0,0,0,0,0,0,0,0,0,0,0,0,0,0,0,0,0,0,0,0,0,0,0,0,0,0,0,0,0,0,0,0,0,0,0,0,0,0,0,0,0,0,0,0,0,0,0,0,0,0,0,0,0,0,0,0,0,0,0,0,0,0,0,0,0,0,0,0,0,0,0,0,0,0,0,0,0,0,0,0,0,0,0,0,0,0,0,0,0,0,0,0,0,0,0,0,0,0,0,0,2,4,0,0,0,0,0,0,0,0,0,0,0,0,0,0,0,0,0,0,0,0,0,0,0,0,0,0,0,0,0,0,0,0,0,0,0,0,5,7,3,0,0,0,0,0,0,0,0,0,0,0,0,0,0,0,0,0,0,0,0,0,0,0,0,0,0,0,0,0,0,0,0,0,0,0,0,0,20,741,234,0,0,0,0,0,0,0,0,0,0,0,0]
[10,0,0,0,0,0,0,0,0,0,0,0,0,0,0,0,0,0,0,0,0,0,0,0,0,0,0,0,0,0,0,0,0,0,0,0,0,0,0,0,0,0,0,0,0,0,0,0,0,0,0,0,0,0,0,0,0,0,0,0,0,0,0,0,0,0,0,0,0,0,0,0,0,0,0,0,0,0,0,0,0,0,0,0,0,0,0,0,0,0,0,0,0,0,0,0,0,0,0,0,0,0,0,0,0,0,0,0,0,0,0,0,0,0,0,0,0,0,0,0,0,0,0,0,0,0,0,0,0,0,0,0,0,0,0,0,0,0,0,0,0,0,0,0,0,0,0,0,0,0,0,0,0,0,0,0,0,0,0,0,0,0,0,0,0,0,0,0,0,0,0,0,0,0,0,0,3,3,2,0,0,0,0,0,0,0,0,0,0,0,0,0,0,0,0,0,0,0,0,0,0,0,0,0,0,0,0,0,0,0,0,0,0,0,0,0,0,0,0,0,0,0,0,0,0,0,0,0,0,0,0]
[11,0,0,0,0,0,0,0,0,0,0,0,0,0,0,0,0,0,0,0,0,0,0,0,0,0,0,0,0,0,0,0,0,0,0,0,0,0,0,0,0,0,0,0,0,0,0,0,0,0,0,0,0,0,0,0,0,0,0,0,0,0,0,0,0,0,0,0,0,0,0,0,0,0,0,0,0,0,0,0,0,0,0,0,0,0,0,0,0,0,0,0,0,0,0,0,0,0,0,0,0,0,0,0,0,0,0,0,0,0,0,0,0,0,0,0,0,0,0,0,0,0,0,0,0,0,0,0,0,0,0,0,0,0,0,0,0,0,0,1,0,0,0,0,0,0,0,0,0,0,0,0,0,0,0,0,0,0,0,0,0,0,0,0,0,0,0,0,0,0,0,0,0,0,0,0,3,3,3,0,0,0,0,0,0,0,0,0,0,0,0,0,0,0,0,0,0,0,0,0,0,0,0,0,0,0,0,0,0,0,0,0,0,0,0,0,0,0,0,0,0,0,0,0,0,0,0,0,0,0,0]
["T",0,0,0,0,0,0,0,0,0,0,0,0,0,0,0,0,0,0,0,0,0,0,0,0,0,0,0,0,0,0,0,0,0,0,0,0,0,0,0,0,0,0,0,0,0,0,0,0,0,0,0,0,0,0,0,0,0,0,0,0,0,0,0,0,0,0,0,0,0,0,0,0,0,0,0,0,0,0,0,0,0,0,0,0,0,0,0,0,0,0,0,0,0,0,0,0,0,0,0,0,0,0,0,0,0,0,0,0,0,0,0,0,0,0,0,0,0,0,0,0,0,0,0,0,0,0,0,0,0,0,0,0,0,0,0,4,0,3,13,1,0,0,0,0,0,0,0,0,0,0,0,0,0,0,0,0,0,0,0,0,0,0,0,0,0,0,0,0,0,0,0,0,0,0,0,61,59,35,0,0,0,0,0,0,0,0,0,0,0,0,0,0,0,0,0,0,0,0,0,0,0,0,0,0,0,0,0,0,0,0,0,0,0,0,0,60,9261,5890,0,0,0,0,0,0,0,0,0,0,0,0]
[]
["TOTAL"]
[{"$f":"COUNT(A139:A150)","v":11},{"$f":"SUM(B139:B150)","v":0},{"$f":"SUM(C139:C150)","v":0},0,0,0,0,0,0,0,0,0,0,0,0,0,0,0,0,0,0,0,0,0,0,0,0,0,0,0,0,0,0,0,0,0,0,0,0,0,0,0,0,0,0,0,0,0,0,0,0,0,0,0,0,0,0,0,0,0,0,0,0,0,0,0,{"$f":"SUM(BO139:BO150)","v":0},0,0,0,0,0,0,0,0,0,0,0,0,0,0,0,0,0,0,0,0,0,0,0,0,0,0,0,0,0,0,0,0,0,0,0,0,0,0,0,0,0,0,0,0,0,0,0,0,0,0,0,0,0,0,0,0,0,0,0,0,0,0,0,{"$f":"SUM(EA139:EA150)","v":0},0,0,0,0,0,8,0,6,26,2,0,0,0,0,0,0,0,0,0,0,0,0,0,0,0,0,0,0,0,0,0,0,0,0,0,0,0,0,0,0,0,0,0,0,0,122,118,70,0,0,0,0,0,0,0,0,0,0,0,0,0,0,0,{"$f":"SUM(GM139:GM150)","v":0},0,0,0,0,0,0,0,0,0,0,0,0,0,0,0,0,0,0,0,0,0,120,18522,11780,0,0,0,0,0,0,0,0,0,0,0,0]
[{"$f":"CONCATENATE(A139,\"-\",A140,\"-\",A141,\"-\",A142,\"-\",A143,\"-\",A144,\"-\",A145,\"-\",A146,\"-\",A147,\"-\",A148,\"-\",A149,\"-\",A150)","v":"2-1-3-4-5-6-7-8-9-10-11-T"}]
[null," BAS001"," BAS002"," BAS003"," BAS004"," BAS005"," BAS006"," BAS007"," BAS008"," BAS009"," BAS010"," BAS011"," BAS012"," BAS013"," BAS014"," BAS015"," BAS016"," BAS017"," BAS018"," BAS019"," BAS020"," BAS021"," BAS022"," BAS023"," BAS024"," BAS025"," BAS026"," BAS027"," BAS028"," BAS029"," BAS030"," BAS031"," BAS032"," BAS033"," BAS034"," BAS035"," BAS036"," BAS037"," BAS038"," BAS039"," BAS040"," BAS041"," BAS042"," BAS043"," BAS044"," BAS045"," BAS046"," BAS047"," BAS048"," BAS049"," BAS050"," BAS051"," BAS052"," BAS053"," BAS054"," BAS055"," BAS056"," BAS057"," BAS058"," BAS059"," BAS060"," BAS061"," BAS062"," BAS063"," BAS064"," BAS065"," BAS066"," BAS067"," BAS068"," BAS069"," BAS070"," BAS071"," BAS072"," BAS073"," BAS074"," BAS075"," BAS076"," BAS077"," BAS078"," BAS079"," BAS080"," BAS081"," BAS082"," BAS083"," BAS084"," BAS085"," BAS086"," BAS087"," BAS088"," BAS089"," BAS090"," BAS091"," BAS092"," BAS093"," BAS094"," BAS095"," BAS096"," BAS097"," BAS098"," BAS099"," BAS100"," BAS101"," BAS102"," BAS103"," BAS104"," BAS105"," BAS106"," BAS107"," BAS108"," BAS109"," BAS110"," BAS111"," BAS112"," BAS113"," BAS114"," BAS115"," BAS116"," BAS117"," BAS118"," BAS119"," BAS120"," BAS121"," BAS122"," BAS123"," BAS124"," BAS125"," BAS126"," BAS127"," BAS128"," BAS129"," BAS130"," BAS131"," BAS132"," BAS133"," BAS134"," BAS135"," BAS136"," BAS137"," BAS138"," BAS139"," BAS140"," BAS141"," BAS142"," BAS143"," BAS144"," BAS145"," BAS146"," BAS147"," BAS148"," BAS149"," BAS150"," BAS151"," BAS152"," BAS153"," BAS154"," BAS155"," BAS156"," BAS157"," BAS158"," BAS159"," BAS160"," BAS161"," BAS162"," BAS163"," BAS164"," BAS165"," BAS166"," BAS167"," BAS168"," BAS169"," BAS170"," BAS171"," BAS172"," BAS173"," BAS174"," BAS175"," BAS176"," BAS177"," BAS178"," BAS179"," BAS180"," BAS181"," BAS182"," BAS183"," BAS184"," BAS185"," BAS186"," BAS187"," BAS188"," BAS189"," BAS190"," BAS191"," BAS192"," BAS193"," BAS194"," BAS195"," BAS196"," BAS197"," BAS198"," BAS199"," BAS200"," BAS201"," BAS202"," BAS203"," BAS204"," BAS205"," BAS206"," BAS207"," BAS208"," BAS209"," BAS210"," BAS211"," BAS212"," BAS213"," BAS214"," BAS215"," BAS216"," BAS217"," BAS218"," BAS219"," BAS220"," BAS221"," BAS222"," BAS223"," BAS224"," BAS225"," BAS226"," BAS227"," BAS228"," BAS229"," BAS230"]
[null,{"$f":"IF(B155=B138,\"SI\",\"NO\")","v":"SI"},{"$f":"IF(C155=C138,\"SI\",\"NO\")","v":"SI"},"SI","SI","SI","SI","SI","SI","SI","SI","SI","SI","SI","SI","SI","SI","SI","SI","SI","SI","SI","SI","SI","SI","SI","SI","SI","SI","SI","SI","SI","SI","SI","SI","SI","SI","SI","SI","SI","SI","SI","SI","SI","SI","SI","SI","SI","SI","SI","SI","SI","SI","SI","SI","SI","SI","SI","SI","SI","SI","SI","SI","SI","SI","SI",{"$f":"IF(BO155=BO138,\"SI\",\"NO\")","v":"SI"},"SI","SI","SI","SI","SI","SI","SI","SI","SI","SI","SI","SI","SI","SI","SI","SI","SI","SI","SI","SI","SI","SI","SI","SI","SI","SI","SI","SI","SI","SI","SI","SI","SI","SI","SI","SI","SI","SI","SI","SI","SI","SI","SI","SI","SI","SI","SI","SI","SI","SI","SI","SI","SI","SI","SI","SI","SI","SI","SI","SI","SI","SI","SI",{"$f":"IF(EA155=EA138,\"SI\",\"NO\")","v":"SI"},"SI","SI","SI","SI","SI","SI","SI","SI","SI","SI","SI","SI","SI","SI","SI","SI","SI","SI","SI","SI","SI","SI","SI","SI","SI","SI","SI","SI","SI","SI","SI","SI","SI","SI","SI","SI","SI","SI","SI","SI","SI","SI","SI","SI","SI","SI","SI","SI","SI","SI","SI","SI","SI","SI","SI","SI","SI","SI","SI","SI","SI","SI","SI",{"$f":"IF(GM155=GM138,\"SI\",\"NO\")","v":"SI"},"SI","SI","SI","SI","SI","SI","SI","SI","SI","SI","SI","SI","SI","SI","SI","SI","SI","SI","SI","SI","SI","SI","SI","SI","SI","SI","SI","SI","SI","SI","SI","SI","SI","SI","SI","SI"]
[]
[]
["R_URBANA 04"]
["anno",2024]
["cod_red","03"]
["codmic","(Todas)"]
["cod_prov","(Todas)"]
["coddist","(Todas)"]
["cod_estab","(Todas)"]
["cod_eje","(Todas)"]
[]
[null,"Valores"]
["Etiquetas de fila"," BAS001"," BAS002"," BAS003"," BAS004"," BAS005"," BAS006"," BAS007"," BAS008"," BAS009"," BAS010"," BAS011"," BAS012"," BAS013"," BAS014"," BAS015"," BAS016"," BAS017"," BAS018"," BAS019"," BAS020"," BAS021"," BAS022"," BAS023"," BAS024"," BAS025"," BAS026"," BAS027"," BAS028"," BAS029"," BAS030"," BAS031"," BAS032"," BAS033"," BAS034"," BAS035"," BAS036"," BAS037"," BAS038"," BAS039"," BAS040"," BAS041"," BAS042"," BAS043"," BAS044"," BAS045"," BAS046"," BAS047"," BAS048"," BAS049"," BAS050"," BAS051"," BAS052"," BAS053"," BAS054"," BAS055"," BAS056"," BAS057"," BAS058"," BAS059"," BAS060"," BAS061"," BAS062"," BAS063"," BAS064"," BAS065"," BAS066"," BAS067"," BAS068"," BAS069"," BAS070"," BAS071"," BAS072"," BAS073"," BAS074"," BAS075"," BAS076"," BAS077"," BAS078"," BAS079"," BAS080"," BAS081"," BAS082"," BAS083"," BAS084"," BAS085"," BAS086"," BAS087"," BAS088"," BAS089"," BAS090"," BAS091"," BAS092"," BAS093"," BAS094"," BAS095"," BAS096"," BAS097"," BAS098"," BAS099"," BAS100"," BAS101"," BAS102"," BAS103"," BAS104"," BAS105"," BAS106"," BAS107"," BAS108"," BAS109"," BAS110"," BAS111"," BAS112"," BAS113"," BAS114"," BAS115"," BAS116"," BAS117"," BAS118"," BAS119"," BAS120"," BAS121"," BAS122"," BAS123"," BAS124"," BAS125"," BAS126"," BAS127"," BAS128"," BAS129"," BAS130"," BAS131"," BAS132"," BAS133"," BAS134"," BAS135"," BAS136"," BAS137"," BAS138"," BAS139"," BAS140"," BAS141"," BAS142"," BAS143"," BAS144"," BAS145"," BAS146"," BAS147"," BAS148"," BAS149"," BAS150"," BAS151"," BAS152"," BAS153"," BAS154"," BAS155"," BAS156"," BAS157"," BAS158"," BAS159"," BAS160"," BAS161"," BAS162"," BAS163"," BAS164"," BAS165"," BAS166"," BAS167"," BAS168"," BAS169"," BAS170"," BAS171"," BAS172"," BAS173"," BAS174"," BAS175"," BAS176"," BAS177"," BAS178"," BAS179"," BAS180"," BAS181"," BAS182"," BAS183"," BAS184"," BAS185"," BAS186"," BAS187"," BAS188"," BAS189"," BAS190"," BAS191"," BAS192"," BAS193"," BAS194"," BAS195"," BAS196"," BAS197"," BAS198"," BAS199"," BAS200"," BAS201"," BAS202"," BAS203"," BAS204"," BAS205"," BAS206"," BAS207"," BAS208"," BAS209"," BAS210"," BAS211"," BAS212"," BAS213"," BAS214"," BAS215"," BAS216"," BAS217"," BAS218"," BAS219"," BAS220"," BAS221"," BAS222"," BAS223"," BAS224"," BAS225"," BAS226"," BAS227"," BAS228"," BAS229"," BAS230"]
[2,0,0,0,0,0,0,0,0,0,0,0,0,0,0,0,0,0,0,0,0,0,0,0,0,0,0,0,0,0,0,0,0,0,0,0,0,0,0,0,0,0,0,0,0,0,0,0,0,0,0,0,0,0,0,0,0,0,0,0,0,0,0,0,0,0,0,0,0,0,0,0,0,0,0,0,0,0,0,0,0,0,0,0,0,0,0,0,0,0,0,0,0,0,0,0,0,0,0,0,0,0,0,0,0,0,0,0,0,0,0,0,0,0,0,0,0,0,0,0,0,0,0,0,0,0,0,0,0,0,0,0,0,0,0,0,0,0,0,0,0,0,0,0,0,0,0,0,0,0,0,0,0,0,0,0,0,0,0,0,0,0,0,0,0,0,0,0,0,0,0,0,0,0,0,0,0,0,0,0,0,0,0,0,0,0,0,0,0,0,0,0,0,0,0,0,0,0,0,0,0,0,0,0,0,0,0,0,0,0,0,0,0,0,0,0,0,0,0,0,0,0,0,0,0,0,0,0,0,0,0]
[1,0,0,0,0,0,0,0,0,0,0,0,0,0,0,0,0,0,0,0,0,0,0,0,0,0,0,0,0,0,0,0,0,0,0,0,0,0,0,0,0,0,0,0,0,0,0,0,0,0,0,0,0,0,0,0,0,0,0,0,0,0,0,0,0,0,0,0,0,0,0,0,0,0,0,0,0,0,0,0,0,0,0,0,0,0,0,0,0,0,0,0,0,0,0,0,0,0,0,0,0,0,0,0,0,0,0,0,0,0,0,0,0,0,0,0,0,0,0,0,0,0,0,0,0,0,0,0,0,0,0,0,0,0,0,0,0,0,0,0,0,0,0,0,0,0,0,0,0,0,0,0,0,0,0,0,0,0,0,0,0,0,0,0,0,0,0,0,0,0,0,0,0,0,0,0,0,0,0,0,0,0,0,0,0,0,0,0,0,0,0,0,0,0,0,0,0,0,0,0,0,0,0,0,0,0,0,0,0,0,0,0,0,0,0,0,0,0,0,0,0,0,0,0,0,0,0,0,0,0,0]
[3,0,0,0,0,0,0,0,0,0,0,0,0,0,0,0,0,0,0,0,0,0,0,0,0,0,0,0,0,0,0,0,0,0,0,0,0,0,0,0,0,0,0,0,0,0,0,0,0,0,0,0,0,0,1,0,0,0,0,1,0,0,0,0,1,0,0,0,0,0,0,0,0,0,0,0,0,0,0,1,0,0,0,0,1,0,0,0,0,1,0,0,0,0,0,0,0,0,0,0,0,0,0,0,0,0,0,0,0,0,0,0,0,0,0,0,0,0,0,0,0,0,0,0,0,0,0,0,0,0,0,0,0,0,0,0,0,0,0,0,0,0,0,0,0,0,0,0,0,0,0,0,0,0,0,0,0,0,0,0,0,0,0,0,0,0,0,0,0,0,0,0,0,0,0,0,0,0,0,0,0,0,0,0,0,0,0,0,0,0,0,0,0,0,0,0,0,0,0,0,0,0,0,0,0,0,0,0,0,0,0,0,0,0,0,0,0,0,0,0,0,0,0,0,0,0,0,0,0,0,0]
[4,0,0,0,0,0,0,0,0,0,0,0,0,0,0,0,0,0,0,0,0,0,0,0,0,0,0,0,0,0,0,0,0,0,0,0,1,0,0,2,0,0,0,0,0,0,0,0,0,0,0,0,0,0,0,0,0,0,0,0,0,0,0,0,0,0,0,0,0,0,0,0,0,0,0,0,1,0,0,3,0,1,0,0,2,0,0,0,0,0,0,0,0,0,1,0,0,0,0,0,0,0,0,0,0,0,0,0,0,0,0,0,0,0,0,0,0,0,0,0,0,0,0,0,0,0,0,0,0,0,0,0,0,0,0,0,0,0,0,0,0,0,0,0,0,0,0,0,0,0,0,0,0,0,0,0,0,0,0,0,0,0,0,0,0,0,0,0,0,0,0,0,0,0,0,0,0,0,0,0,0,0,0,0,0,0,0,0,0,0,0,0,0,0,0,0,0,0,0,0,0,0,0,0,0,0,0,0,0,0,0,0,0,0,0,0,0,0,0,0,0,0,0,0,0,0,0,0,0,0,0]
[5,0,0,0,0,0,0,0,0,0,0,0,0,0,0,0,0,0,0,0,0,0,0,0,0,0,0,0,0,0,0,0,0,0,1,0,0,0,0,0,0,1,0,0,2,0,0,0,0,0,0,0,0,0,0,0,0,0,0,0,0,0,0,0,0,0,0,0,0,0,0,0,0,0,0,0,0,0,0,0,0,0,0,0,0,0,0,0,0,0,0,0,0,0,0,0,0,0,0,0,0,0,0,0,0,0,0,0,0,0,0,0,0,0,0,0,0,0,0,0,0,0,0,0,0,0,0,0,0,0,0,0,0,0,0,0,0,0,0,0,0,0,0,0,0,0,0,0,0,0,0,0,0,0,0,0,0,0,0,0,0,0,0,0,0,0,0,0,0,0,0,0,0,0,0,0,0,0,0,0,0,0,0,0,0,0,0,0,0,0,0,0,0,0,0,0,0,0,0,0,0,0,0,0,0,0,0,0,0,0,0,0,0,0,0,0,0,0,0,0,0,0,0,0,0,0,0,0,0,0,0]
[6,0,0,0,0,0,0,0,0,0,0,0,0,0,0,0,0,0,0,0,0,0,0,0,0,0,0,0,0,0,0,0,0,0,0,0,0,0,0,0,0,0,0,0,0,0,0,0,0,0,0,0,0,0,0,0,0,0,0,0,0,0,0,0,0,0,0,0,0,0,0,0,0,0,0,0,0,0,0,0,0,0,0,0,0,0,0,0,0,0,0,0,0,0,0,0,0,0,0,0,0,0,0,0,0,0,0,0,0,0,0,0,0,0,0,0,0,0,0,0,0,0,0,0,0,0,0,0,0,0,0,0,0,0,0,0,0,0,0,0,0,0,0,0,0,0,0,0,0,0,0,0,0,0,0,0,0,0,0,0,0,0,0,0,0,0,0,0,0,0,0,0,0,0,0,0,0,0,0,0,0,0,0,0,0,0,0,0,0,0,0,0,0,0,0,0,0,0,0,0,0,0,0,0,0,0,0,0,0,0,0,0,0,0,0,0,0,0,0,0,0,0,0,0,0,0,0,0,0,0,0]
[7,0,0,0,0,0,0,0,0,0,0,0,0,0,0,0,0,0,0,0,0,0,0,0,0,0,0,0,0,0,0,0,0,0,0,0,0,0,0,0,0,0,0,0,0,0,0,0,0,0,0,0,0,0,0,0,0,0,0,0,0,0,0,0,0,0,0,0,0,0,0,0,0,0,0,0,0,0,0,0,0,0,0,0,0,0,0,0,0,0,0,0,0,0,0,0,0,0,0,0,0,0,0,0,0,0,0,0,0,0,0,0,0,0,0,0,0,0,0,0,0,0,0,0,0,0,0,0,0,0,0,0,0,0,0,0,0,0,0,0,0,0,0,0,0,0,0,0,0,0,0,0,0,0,0,0,0,0,0,0,0,0,0,0,0,0,0,0,0,0,0,0,0,0,0,0,0,0,0,0,0,0,0,0,0,0,0,0,0,0,0,0,0,0,0,0,0,0,0,0,0,0,0,0,0,0,0,0,0,0,0,0,0,0,0,0,0,0,0,0,0,0,0,0,0,0,0,0,0,0,0]
[8,0,0,0,0,0,0,0,0,0,0,0,0,0,0,0,0,0,0,0,0,0,0,0,0,0,0,0,0,0,0,0,0,0,0,0,0,0,0,0,0,0,0,0,0,0,0,0,0,0,0,0,0,0,0,0,0,0,0,0,2,0,0,0,0,0,0,0,0,0,0,0,0,0,0,0,0,0,0,0,0,0,0,0,0,0,0,0,0,0,0,0,0,0,0,0,0,0,0,0,0,0,0,0,0,0,0,0,0,0,0,0,0,0,0,0,0,0,0,0,0,0,0,0,0,0,0,0,0,0,0,0,0,0,0,0,0,0,0,0,0,0,0,0,0,0,0,0,0,0,0,0,0,0,0,0,0,0,0,0,0,0,0,0,0,0,0,0,0,0,0,0,0,0,0,0,0,0,0,0,0,0,0,0,0,0,0,0,0,0,0,0,0,0,0,0,0,0,0,0,0,0,0,0,0,0,0,0,0,0,0,0,0,0,0,0,0,0,0,0,0,0,0,0,0,0,0,0,0,0,0]
[9,0,0,0,0,0,0,0,0,0,0,0,0,0,0,0,0,0,0,0,0,0,0,0,0,0,0,0,0,0,0,0,0,0,0,0,0,0,0,0,0,0,0,0,0,0,0,0,0,0,0,0,0,0,0,0,0,0,0,0,0,0,0,0,0,0,0,0,0,0,0,0,0,0,0,0,0,0,0,0,0,0,0,0,0,0,0,0,0,0,0,0,0,0,0,0,0,0,0,0,0,0,0,0,0,0,0,0,0,0,0,0,0,0,0,0,0,0,0,0,0,0,0,0,0,0,0,0,0,0,0,0,0,0,0,0,0,0,0,0,0,0,0,0,0,0,0,0,0,0,0,0,0,0,0,0,0,0,0,0,0,0,0,0,0,0,0,0,0,0,0,0,0,0,0,0,0,0,0,0,0,0,0,0,0,0,0,0,0,0,0,0,0,0,0,0,0,0,0,0,0,0,0,0,0,0,0,0,0,0,0,0,0,0,0,0,0,0,0,0,0,0,0,0,0,0,0,0,0,0,0]
[10,0,0,0,0,0,0,0,0,0,0,0,0,0,0,0,0,0,0,0,0,0,0,0,0,0,0,0,0,0,0,0,0,0,0,0,0,0,0,0,0,0,0,0,0,0,0,0,0,0,0,0,0,0,0,0,0,0,0,0,0,0,0,0,0,0,0,0,0,0,0,0,0,0,0,0,0,0,0,0,0,0,0,0,0,0,0,0,0,0,0,0,0,0,0,0,0,0,0,0,0,0,0,0,0,0,0,0,0,0,0,0,0,0,0,0,0,0,0,0,0,0,0,0,0,0,0,0,0,0,0,0,0,0,0,0,0,0,0,0,0,0,0,0,0,0,0,0,0,0,0,0,0,0,0,0,0,0,0,0,0,0,0,0,0,0,0,0,0,0,0,0,0,0,0,0,0,0,0,0,0,0,0,0,0,0,0,0,0,0,0,0,0,0,0,0,0,0,0,0,0,0,0,0,0,0,0,0,0,0,0,0,0,0,0,0,0,0,0,0,0,0,0,0,0,0,0,0,0,0,0]
[11,0,0,0,0,0,0,0,0,0,0,0,0,0,0,0,0,0,0,0,0,0,0,0,0,0,0,0,0,0,0,0,0,0,0,0,0,0,0,0,0,0,0,0,0,0,0,0,0,0,0,0,0,0,0,0,0,0,0,0,0,0,0,0,0,0,0,0,0,0,0,0,0,0,0,0,0,0,0,0,0,0,0,0,0,0,0,0,0,0,0,0,0,0,0,0,0,0,0,0,0,0,0,0,0,0,0,0,0,0,0,0,0,0,0,0,0,0,0,0,0,0,0,0,0,0,0,0,0,0,0,0,0,0,0,0,0,0,0,0,0,0,0,0,0,0,0,0,0,0,0,0,0,0,0,0,0,0,0,0,0,0,0,0,0,0,0,0,0,0,0,0,0,0,0,0,0,0,0,0,0,0,0,0,0,0,0,0,0,0,0,0,0,0,0,0,0,0,0,0,0,0,0,0,0,0,0,0,0,0,0,0,0,0,0,0,0,0,0,0,0,0,0,0,0,0,0,0,0,0,0]
["T",0,0,0,0,0,0,0,0,0,0,0,0,0,0,0,0,0,0,0,0,0,0,0,0,0,0,0,0,0,0,0,0,0,1,0,1,0,0,2,0,1,0,0,2,0,0,0,0,0,0,0,0,0,1,0,0,0,0,1,2,0,0,0,1,0,0,0,0,0,0,0,0,0,0,0,1,0,0,4,0,1,0,0,3,0,0,0,0,1,0,0,0,0,1,0,0,0,0,0,0,0,0,0,0,0,0,0,0,0,0,0,0,0,0,0,0,0,0,0,0,0,0,0,0,0,0,0,0,0,0,0,0,0,0,0,0,0,0,0,0,0,0,0,0,0,0,0,0,0,0,0,0,0,0,0,0,0,0,0,0,0,0,0,0,0,0,0,0,0,0,0,0,0,0,0,0,0,0,0,0,0,0,0,0,0,0,0,0,0,0,0,0,0,0,0,0,0,0,0,0,0,0,0,0,0,0,0,0,0,0,0,0,0,0,0,0,0,0,0,0,0,0,0,0,0,0,0,0,0,0]
[]
["TOTAL"]
[{"$f":"COUNT(A170:A181)","v":11},{"$f":"SUM(B170:B181)","v":0},{"$f":"SUM(C170:C181)","v":0},0,0,0,0,0,0,0,0,0,0,0,0,0,0,0,0,0,0,0,0,0,0,0,0,0,0,0,0,0,0,0,2,0,2,0,0,4,0,2,0,0,4,0,0,0,0,0,0,0,0,0,2,0,0,0,0,2,4,0,0,0,2,0,{"$f":"SUM(BO170:BO181)","v":0},0,0,0,0,0,0,0,0,0,2,0,0,8,0,2,0,0,6,0,0,0,0,2,0,0,0,0,2,0,0,0,0,0,0,0,0,0,0,0,0,0,0,0,0,0,0,0,0,0,0,0,0,0,0,0,0,0,0,0,0,0,0,0,{"$f":"SUM(EA170:EA181)","v":0},0,0,0,0,0,0,0,0,0,0,0,0,0,0,0,0,0,0,0,0,0,0,0,0,0,0,0,0,0,0,0,0,0,0,0,0,0,0,0,0,0,0,0,0,0,0,0,0,0,0,0,0,0,0,0,0,0,0,0,0,0,0,0,{"$f":"SUM(GM170:GM181)","v":0},0,0,0,0,0,0,0,0,0,0,0,0,0,0,0,0,0,0,0,0,0,0,0,0,0,0,0,0,0,0,0,0,0,0,0,0]
[{"$f":"CONCATENATE(A170,\"-\",A171,\"-\",A172,\"-\",A173,\"-\",A174,\"-\",A175,\"-\",A176,\"-\",A177,\"-\",A178,\"-\",A179,\"-\",A180,\"-\",A181)","v":"2-1-3-4-5-6-7-8-9-10-11-T"}]
[null," BAS001"," BAS002"," BAS003"," BAS004"," BAS005"," BAS006"," BAS007"," BAS008"," BAS009"," BAS010"," BAS011"," BAS012"," BAS013"," BAS014"," BAS015"," BAS016"," BAS017"," BAS018"," BAS019"," BAS020"," BAS021"," BAS022"," BAS023"," BAS024"," BAS025"," BAS026"," BAS027"," BAS028"," BAS029"," BAS030"," BAS031"," BAS032"," BAS033"," BAS034"," BAS035"," BAS036"," BAS037"," BAS038"," BAS039"," BAS040"," BAS041"," BAS042"," BAS043"," BAS044"," BAS045"," BAS046"," BAS047"," BAS048"," BAS049"," BAS050"," BAS051"," BAS052"," BAS053"," BAS054"," BAS055"," BAS056"," BAS057"," BAS058"," BAS059"," BAS060"," BAS061"," BAS062"," BAS063"," BAS064"," BAS065"," BAS066"," BAS067"," BAS068"," BAS069"," BAS070"," BAS071"," BAS072"," BAS073"," BAS074"," BAS075"," BAS076"," BAS077"," BAS078"," BAS079"," BAS080"," BAS081"," BAS082"," BAS083"," BAS084"," BAS085"," BAS086"," BAS087"," BAS088"," BAS089"," BAS090"," BAS091"," BAS092"," BAS093"," BAS094"," BAS095"," BAS096"," BAS097"," BAS098"," BAS099"," BAS100"," BAS101"," BAS102"," BAS103"," BAS104"," BAS105"," BAS106"," BAS107"," BAS108"," BAS109"," BAS110"," BAS111"," BAS112"," BAS113"," BAS114"," BAS115"," BAS116"," BAS117"," BAS118"," BAS119"," BAS120"," BAS121"," BAS122"," BAS123"," BAS124"," BAS125"," BAS126"," BAS127"," BAS128"," BAS129"," BAS130"," BAS131"," BAS132"," BAS133"," BAS134"," BAS135"," BAS136"," BAS137"," BAS138"," BAS139"," BAS140"," BAS141"," BAS142"," BAS143"," BAS144"," BAS145"," BAS146"," BAS147"," BAS148"," BAS149"," BAS150"," BAS151"," BAS152"," BAS153"," BAS154"," BAS155"," BAS156"," BAS157"," BAS158"," BAS159"," BAS160"," BAS161"," BAS162"," BAS163"," BAS164"," BAS165"," BAS166"," BAS167"," BAS168"," BAS169"," BAS170"," BAS171"," BAS172"," BAS173"," BAS174"," BAS175"," BAS176"," BAS177"," BAS178"," BAS179"," BAS180"," BAS181"," BAS182"," BAS183"," BAS184"," BAS185"," BAS186"," BAS187"," BAS188"," BAS189"," BAS190"," BAS191"," BAS192"," BAS193"," BAS194"," BAS195"," BAS196"," BAS197"," BAS198"," BAS199"," BAS200"," BAS201"," BAS202"," BAS203"," BAS204"," BAS205"," BAS206"," BAS207"," BAS208"," BAS209"," BAS210"," BAS211"," BAS212"," BAS213"," BAS214"," BAS215"," BAS216"," BAS217"," BAS218"," BAS219"," BAS220"," BAS221"," BAS222"," BAS223"," BAS224"," BAS225"," BAS226"," BAS227"," BAS228"," BAS229"," BAS230"]
[null,{"$f":"IF(B186=B169,\"SI\",\"NO\")","v":"SI"},{"$f":"IF(C186=C169,\"SI\",\"NO\")","v":"SI"},"SI","SI","SI","SI","SI","SI","SI","SI","SI","SI","SI","SI","SI","SI","SI","SI","SI","SI","SI","SI","SI","SI","SI","SI","SI","SI","SI","SI","SI","SI","SI","SI","SI","SI","SI","SI","SI","SI","SI","SI","SI","SI","SI","SI","SI","SI","SI","SI","SI","SI","SI","SI","SI","SI","SI","SI","SI","SI","SI","SI","SI","SI","SI",{"$f":"IF(BO186=BO169,\"SI\",\"NO\")","v":"SI"},"SI","SI","SI","SI","SI","SI","SI","SI","SI","SI","SI","SI","SI","SI","SI","SI","SI","SI","SI","SI","SI","SI","SI","SI","SI","SI","SI","SI","SI","SI","SI","SI","SI","SI","SI","SI","SI","SI","SI","SI","SI","SI","SI","SI","SI","SI","SI","SI","SI","SI","SI","SI","SI","SI","SI","SI","SI","SI","SI","SI","SI","SI","SI",{"$f":"IF(EA186=EA169,\"SI\",\"NO\")","v":"SI"},"SI","SI","SI","SI","SI","SI","SI","SI","SI","SI","SI","SI","SI","SI","SI","SI","SI","SI","SI","SI","SI","SI","SI","SI","SI","SI","SI","SI","SI","SI","SI","SI","SI","SI","SI","SI","SI","SI","SI","SI","SI","SI","SI","SI","SI","SI","SI","SI","SI","SI","SI","SI","SI","SI","SI","SI","SI","SI","SI","SI","SI","SI","SI",{"$f":"IF(GM186=GM169,\"SI\",\"NO\")","v":"SI"},"SI","SI","SI","SI","SI","SI","SI","SI","SI","SI","SI","SI","SI","SI","SI","SI","SI","SI","SI","SI","SI","SI","SI","SI","SI","SI","SI","SI","SI","SI","SI","SI","SI","SI","SI","SI"]
[]
[]
[]
["R_SILVESTRE 01"]
["anno",2024]
["cod_red","03"]
["codmic","(Todas)"]
["cod_prov","(Todas)"]
["coddist","(Todas)"]
["cod_estab","(Todas)"]
["cod_eje","(Todas)"]
[]
[null,"Valores"]
["Etiquetas de fila"," BAS001"," BAS002"," BAS003"," BAS004"," BAS005"," BAS006"," BAS007"," BAS008"," BAS009"," BAS010"," BAS011"," BAS012"," BAS013"," BAS014"," BAS015"," BAS016"," BAS017"," BAS018"," BAS019"," BAS020"," BAS021"," BAS022"," BAS023"," BAS024"," BAS025"," BAS026"," BAS027"," BAS028"," BAS029"," BAS030"," BAS031"," BAS032"," BAS033"," BAS034"," BAS035"," BAS036"," BAS037"," BAS038"," BAS039"," BAS040"," BAS041"," BAS042"," BAS043"," BAS044"," BAS045"," BAS046"," BAS047"," BAS048"," BAS049"," BAS050"," BAS051"," BAS052"," BAS053"," BAS054"," BAS055"," BAS056"," BAS057"," BAS058"," BAS059"," BAS060"," BAS061"," BAS062"," BAS063"," BAS064"," BAS065"," BAS066"," BAS067"," BAS068"," BAS069"," BAS070"," BAS071"," BAS072"," BAS073"," BAS074"," BAS075"," BAS076"," BAS077"," BAS078"," BAS079"," BAS080"," BAS081"," BAS082"," BAS083"," BAS084"," BAS085"," BAS086"," BAS087"," BAS088"," BAS089"," BAS090"," BAS091"," BAS092"," BAS093"," BAS094"," BAS095"," BAS096"," BAS097"," BAS098"," BAS099"," BAS100"," BAS101"," BAS102"," BAS103"," BAS104"," BAS105"," BAS106"," BAS107"," BAS108"," BAS109"," BAS110"," BAS111"," BAS112"," BAS113"," BAS114"," BAS115"," BAS116"," BAS117"," BAS118"," BAS119"," BAS120"," BAS121"," BAS122"," BAS123"," BAS124"," BAS125"," BAS126"," BAS127"," BAS128"," BAS129"," BAS130"," BAS131"," BAS132"," BAS133"," BAS134"," BAS135"," BAS136"," BAS137"," BAS138"," BAS139"," BAS140"," BAS141"," BAS142"," BAS143"," BAS144"," BAS145"," BAS146"," BAS147"," BAS148"," BAS149"," BAS150"," BAS151"," BAS152"," BAS153"," BAS154"," BAS155"," BAS156"," BAS157"," BAS158"," BAS159"," BAS160"," BAS161"," BAS162"," BAS163"," BAS164"," BAS165"," BAS166"," BAS167"," BAS168"," BAS169"," BAS170"," BAS171"," BAS172"," BAS173"," BAS174"," BAS175"," BAS176"," BAS177"," BAS178"," BAS179"," BAS180"," BAS181"," BAS182"," BAS183"," BAS184"," BAS185"," BAS186"," BAS187"," BAS188"," BAS189"," BAS190"," BAS191"," BAS192"," BAS193"," BAS194"," BAS195"," BAS196"," BAS197"," BAS198"," BAS199"," BAS200"," BAS201"," BAS202"," BAS203"," BAS204"," BAS205"," BAS206"," BAS207"," BAS208"," BAS209"," BAS210"," BAS211"," BAS212"," BAS213"," BAS214"," BAS215"," BAS216"," BAS217"," BAS218"," BAS219"," BAS220"," BAS221"," BAS222"," BAS223"," BAS224"," BAS225"," BAS226"," BAS227"," BAS228"," BAS229"," BAS230"]
[2,0,0,0,0,0,0,0,0,0,0,0,0,0,0,0,0,0,0,0,0,0,0,0,0,0,0,0,126,19,0,0,0,0,0,0,0,0,0,0,0,0,0,0,0,0,0,0,0,0,0,0,0,0,0,0,0,0,0,0,0,0,0,0,0,0,0,0,0,0,0,0,0,0,0,1,0,0,0,0,0,0,0,0,0,0,0,0,0,0,0,0,0,0,0,0,1,0,0,0,0,0,1,0,0,0,0,0,0,0,0,0,0,0,0,0,0,0,0,0,0,0,0,0,0,0,0,0,0,0,0,0,0,0,0,0,0,0,0,0,0,0,0,0,0,0,0,0,0,0,0,0,0,0,0,0,0,0,0,0,0,0,0,0,0,0,0,0,0,0,0,0,0,0,0,0,0,0,0,0,0,0,0,0,0,0,0,0,0,0,0,0,0,0,0,0,0,0,0,0,0,0,0,0,0,0,0,0,0,0,0,0,0,0,0,0,0,0,0,0,0,0,0,0,0,0,0,0,0,0,0]
[1,0,0,0,0,0,0,0,0,0,0,0,0,0,0,0,0,0,129,19,0,0,0,129,19,0,0,0,0,0,0,0,0,0,0,0,0,0,0,0,0,0,0,0,0,0,0,0,0,0,0,0,0,0,0,0,0,0,0,0,0,0,0,0,0,0,0,0,0,0,0,0,0,0,0,0,0,0,0,0,0,0,0,0,0,0,0,0,0,0,0,0,0,0,0,0,0,0,0,0,0,0,0,0,0,0,0,0,0,0,0,0,0,0,0,0,0,0,0,0,0,0,0,0,0,0,0,0,0,0,0,0,0,0,0,0,0,0,0,0,0,0,0,0,0,0,0,0,0,0,0,0,0,0,0,0,0,0,0,0,0,0,0,0,0,0,0,0,0,0,0,0,0,0,0,0,0,0,0,0,0,0,0,0,0,0,0,0,0,0,0,0,0,0,0,0,0,0,0,0,0,0,0,0,0,0,0,0,0,0,0,0,0,0,0,0,0,0,0,0,0,0,0,0,0,0,0,0,0,0,0]
[3,0,0,0,0,0,0,0,0,0,0,0,0,0,0,0,0,0,0,0,0,0,0,0,0,0,0,0,0,0,0,0,0,0,0,0,0,0,0,0,0,0,0,0,0,0,0,0,0,0,0,0,0,0,0,0,0,0,0,0,0,0,0,0,0,0,0,0,0,0,0,0,0,0,1,0,0,0,0,0,0,0,0,0,0,0,0,0,0,0,0,0,0,0,0,0,0,0,0,0,0,0,0,0,0,0,0,0,1,0,0,0,0,0,0,0,0,0,0,0,0,0,0,0,0,0,0,0,0,0,0,0,0,0,0,0,0,0,0,0,0,0,0,0,0,0,0,0,0,0,0,0,0,0,0,0,0,0,0,0,0,0,0,0,0,0,0,0,0,0,0,0,0,0,0,0,0,0,0,0,0,0,0,0,0,0,0,0,0,0,0,0,0,0,0,0,0,0,0,0,0,0,0,0,0,0,0,0,0,0,0,0,0,0,0,0,0,0,0,0,0,0,0,0,0,0,0,0,0,0,0]
[4,0,0,0,0,0,0,0,0,0,0,0,0,0,0,0,0,0,0,0,0,0,0,0,0,0,0,0,0,0,0,0,0,0,0,0,0,0,0,0,0,0,0,0,0,0,0,0,0,0,0,0,0,0,0,0,0,0,0,0,0,0,0,0,0,0,0,0,0,0,0,0,0,0,0,0,0,0,0,0,0,0,0,0,0,0,0,0,0,0,0,0,0,0,0,0,0,0,0,0,0,0,0,0,0,0,0,0,0,0,0,0,0,0,0,0,0,0,0,0,0,0,0,0,0,0,0,0,0,0,0,0,0,0,0,0,0,0,0,0,0,0,0,0,0,0,0,0,0,0,0,0,0,0,0,0,0,0,0,0,0,0,0,0,0,0,0,0,0,0,0,0,0,0,0,0,0,0,0,0,0,0,0,0,0,0,0,0,0,0,0,0,0,0,0,0,0,0,0,0,0,0,0,0,0,0,0,0,0,0,0,0,0,0,0,0,0,0,0,0,0,0,0,0,0,0,0,0,0,0,0]
[5,0,0,0,0,0,0,0,0,0,0,0,0,0,0,0,0,0,1,18,0,0,0,1,18,0,0,0,0,0,0,0,0,0,0,0,0,0,0,0,0,0,0,0,0,0,0,0,0,0,0,0,0,0,0,0,0,0,0,0,0,0,0,0,0,0,0,0,0,0,0,0,0,0,0,0,0,0,0,0,0,0,0,0,0,0,0,0,0,0,0,0,0,0,0,0,0,0,0,0,0,0,0,0,0,0,0,0,0,0,0,0,0,0,0,0,0,0,0,0,0,0,0,0,0,0,0,0,0,0,0,0,0,0,0,0,0,0,0,0,0,0,0,0,0,0,0,0,0,0,0,0,0,0,0,0,0,0,0,0,0,0,0,0,0,0,0,0,0,0,0,0,0,0,0,0,0,0,0,0,0,0,0,0,0,0,0,0,0,0,0,0,0,0,0,0,0,0,0,0,0,0,0,0,0,0,0,0,0,0,0,0,0,0,0,0,0,0,0,0,0,0,0,0,0,0,0,0,0,0,0]
[6,0,0,0,0,0,0,0,0,0,0,0,0,0,0,0,0,0,0,0,0,0,0,0,0,0,0,0,1,18,0,0,0,0,0,0,0,0,0,0,0,0,0,0,0,0,0,0,0,0,0,0,0,0,0,0,0,0,0,0,0,0,0,0,0,0,0,0,0,0,0,0,0,1,0,0,0,0,0,0,0,0,0,0,0,0,0,0,0,0,0,0,0,0,0,0,0,0,0,0,0,0,0,0,0,0,0,0,0,0,0,0,0,0,0,0,0,0,0,0,0,0,0,0,0,0,0,0,0,0,0,0,0,0,0,0,0,0,0,0,0,0,0,0,0,0,0,0,0,0,0,0,0,0,0,0,0,0,0,0,0,0,0,0,0,0,0,0,0,0,0,0,0,0,0,0,0,0,0,0,0,0,0,0,0,0,0,0,0,0,0,0,0,0,0,0,0,0,0,0,0,0,0,0,0,0,0,0,0,0,0,0,0,0,0,0,0,0,0,0,0,0,0,0,0,0,0,0,0,0,0]
[7,0,0,0,0,0,0,0,0,0,0,0,0,0,0,0,0,0,1,0,0,0,0,0,0,0,0,0,9,1,0,0,0,0,0,0,0,0,0,0,0,0,0,0,0,0,0,0,0,0,0,0,0,0,0,0,0,0,0,0,0,0,0,0,0,0,0,0,0,0,0,0,0,0,0,0,0,0,0,0,0,0,0,0,0,0,0,0,0,0,0,0,0,0,0,0,0,0,0,0,0,0,0,0,0,0,0,0,0,0,0,0,0,0,0,0,0,0,0,0,0,0,0,0,0,0,0,0,0,0,0,0,0,0,0,0,0,0,0,0,0,0,0,0,0,0,0,0,0,0,0,0,0,0,0,0,0,0,0,0,0,0,0,0,0,0,0,0,0,0,0,0,0,0,0,0,0,0,0,0,0,0,0,0,0,0,0,0,0,0,0,0,0,0,0,0,0,0,0,0,0,0,0,0,0,0,0,0,0,0,0,0,0,0,0,0,0,0,0,0,0,0,0,0,0,0,0,0,0,0,0]
[8,0,0,0,0,0,0,0,0,0,0,0,0,0,0,0,0,0,0,0,0,0,0,0,0,0,0,0,0,0,0,0,0,0,0,0,0,0,0,0,0,0,0,0,0,0,0,0,0,0,0,0,0,0,0,0,0,0,0,0,0,0,0,0,0,0,0,0,0,0,0,0,0,0,0,0,0,0,0,0,0,0,0,0,0,0,0,0,0,0,0,0,0,0,0,0,0,0,0,0,0,0,0,0,0,0,0,0,0,0,0,0,0,0,0,0,0,0,0,0,0,0,0,0,0,0,0,0,0,0,0,0,0,0,0,0,0,0,0,0,0,0,0,0,0,0,0,0,0,0,0,0,0,0,0,0,0,0,0,0,0,0,0,0,0,0,0,0,0,0,0,0,0,0,0,0,0,0,0,0,0,0,0,0,0,0,0,0,0,0,0,0,0,0,0,0,0,0,0,0,0,0,0,0,0,0,0,0,0,0,0,0,0,0,0,0,0,0,0,0,0,0,0,0,0,0,0,0,0,0,0]
[9,0,0,0,0,0,0,0,0,0,0,0,0,0,0,0,0,0,64,7,0,0,0,64,7,0,0,0,0,0,0,0,0,0,0,0,0,0,0,0,0,0,0,0,0,0,0,0,0,0,0,0,0,0,0,0,0,0,0,0,0,0,0,0,0,0,0,0,0,0,0,0,0,0,0,0,0,0,0,0,0,0,0,0,0,0,0,0,0,0,0,0,1,0,5,2,0,0,1,0,5,2,0,0,0,0,0,0,0,0,0,0,0,0,0,0,0,0,0,0,0,0,0,0,0,0,0,0,0,0,0,0,0,0,0,0,0,0,0,0,0,0,0,0,0,0,0,0,0,0,0,0,0,0,0,0,0,0,0,0,0,0,0,0,0,0,0,0,0,0,0,0,0,0,0,0,0,0,0,0,0,0,0,0,0,0,0,0,0,0,0,0,0,0,0,0,0,0,0,0,0,0,0,0,0,0,0,0,0,0,0,0,0,0,0,0,0,0,0,0,0,0,0,0,0,0,0,0,0,0,0]
[10,0,0,0,0,0,0,0,0,0,0,0,0,0,0,0,0,0,0,0,0,0,0,0,0,0,0,0,64,7,0,0,0,0,0,0,0,0,0,0,0,0,0,0,0,0,0,0,0,0,0,0,0,0,0,0,0,0,0,0,0,0,0,0,0,0,0,0,0,0,0,0,0,0,0,0,0,0,0,0,0,0,0,0,0,0,0,0,0,0,0,0,0,0,0,0,0,0,0,0,0,0,0,0,0,0,0,0,0,0,0,0,0,0,0,0,0,0,0,0,0,0,0,0,0,0,0,0,0,0,0,0,0,0,0,0,0,0,0,0,0,0,0,0,0,0,0,0,0,0,0,0,0,0,0,0,0,0,0,0,0,0,0,0,0,0,0,0,0,0,0,0,0,0,0,0,0,0,0,0,0,0,0,0,0,0,0,0,0,0,0,0,0,0,0,0,0,0,0,0,0,0,0,0,0,0,0,0,0,0,0,0,0,0,0,0,0,0,0,0,0,0,0,0,0,0,0,0,0,0,0]
[11,0,0,0,0,0,0,0,0,0,0,0,0,0,0,0,0,0,0,0,0,0,0,0,0,0,0,0,0,0,0,0,0,0,0,0,0,0,0,0,0,0,0,0,0,0,0,0,0,0,0,0,0,0,0,0,0,0,0,0,0,0,0,0,0,0,0,0,0,0,0,0,0,0,0,0,0,0,0,0,0,0,0,0,0,0,0,0,0,0,0,0,0,0,0,0,0,0,0,0,0,0,0,0,0,0,0,0,0,0,0,0,0,0,0,0,0,0,0,0,0,0,0,0,0,0,0,0,0,0,0,0,0,0,0,0,0,0,0,0,0,0,0,0,0,0,0,0,0,0,0,0,0,0,0,0,0,0,0,0,0,0,0,0,0,0,0,0,0,0,0,0,0,0,0,0,0,0,0,0,0,0,0,0,0,0,0,0,0,0,0,0,0,0,0,0,0,0,0,0,0,0,0,0,0,0,0,0,0,0,0,0,0,0,0,0,0,0,0,0,0,0,0,0,0,0,0,0,0,0,0]
["T",0,0,0,0,0,0,0,0,0,0,0,0,0,0,0,0,0,195,44,0,0,0,194,44,0,0,0,200,45,0,0,0,0,0,0,0,0,0,0,0,0,0,0,0,0,0,0,0,0,0,0,0,0,0,0,0,0,0,0,0,0,0,0,0,0,0,0,0,0,0,0,0,1,1,1,0,0,0,0,0,0,0,0,0,0,0,0,0,0,0,0,1,0,5,2,1,0,1,0,5,2,1,0,0,0,0,0,1,0,0,0,0,0,0,0,0,0,0,0,0,0,0,0,0,0,0,0,0,0,0,0,0,0,0,0,0,0,0,0,0,0,0,0,0,0,0,0,0,0,0,0,0,0,0,0,0,0,0,0,0,0,0,0,0,0,0,0,0,0,0,0,0,0,0,0,0,0,0,0,0,0,0,0,0,0,0,0,0,0,0,0,0,0,0,0,0,0,0,0,0,0,0,0,0,0,0,0,0,0,0,0,0,0,0,0,0,0,0,0,0,0,0,0,0,0,0,0,0,0,0]
[]
["TOTAL"]
[{"$f":"COUNT(A202:A213)","v":11},{"$f":"SUM(B202:B213)","v":0},{"$f":"SUM(C202:C213)","v":0},0,0,0,0,0,0,0,0,0,0,0,0,0,0,0,390,88,0,0,0,388,88,0,0,0,400,90,0,0,0,0,0,0,0,0,0,0,0,0,0,0,0,0,0,0,0,0,0,0,0,0,0,0,0,0,0,0,0,0,0,0,0,0,{"$f":"SUM(BO202:BO213)","v":0},0,0,0,0,0,0,2,2,2,0,0,0,0,0,0,0,0,0,0,0,0,0,0,0,0,2,0,10,4,2,0,2,0,10,4,2,0,0,0,0,0,2,0,0,0,0,0,0,0,0,0,0,0,0,0,0,0,0,0,0,0,0,0,{"$f":"SUM(EA202:EA213)","v":0},0,0,0,0,0,0,0,0,0,0,0,0,0,0,0,0,0,0,0,0,0,0,0,0,0,0,0,0,0,0,0,0,0,0,0,0,0,0,0,0,0,0,0,0,0,0,0,0,0,0,0,0,0,0,0,0,0,0,0,0,0,0,0,{"$f":"SUM(GM202:GM213)","v":0},0,0,0,0,0,0,0,0,0,0,0,0,0,0,0,0,0,0,0,0,0,0,0,0,0,0,0,0,0,0,0,0,0,0,0,0]
[{"$f":"CONCATENATE(A202,\"-\",A203,\"-\",A204,\"-\",A205,\"-\",A206,\"-\",A207,\"-\",A208,\"-\",A209,\"-\",A210,\"-\",A211,\"-\",A212,\"-\",A213)","v":"2-1-3-4-5-6-7-8-9-10-11-T"}]
[null," BAS001"," BAS002"," BAS003"," BAS004"," BAS005"," BAS006"," BAS007"," BAS008"," BAS009"," BAS010"," BAS011"," BAS012"," BAS013"," BAS014"," BAS015"," BAS016"," BAS017"," BAS018"," BAS019"," BAS020"," BAS021"," BAS022"," BAS023"," BAS024"," BAS025"," BAS026"," BAS027"," BAS028"," BAS029"," BAS030"," BAS031"," BAS032"," BAS033"," BAS034"," BAS035"," BAS036"," BAS037"," BAS038"," BAS039"," BAS040"," BAS041"," BAS042"," BAS043"," BAS044"," BAS045"," BAS046"," BAS047"," BAS048"," BAS049"," BAS050"," BAS051"," BAS052"," BAS053"," BAS054"," BAS055"," BAS056"," BAS057"," BAS058"," BAS059"," BAS060"," BAS061"," BAS062"," BAS063"," BAS064"," BAS065"," BAS066"," BAS067"," BAS068"," BAS069"," BAS070"," BAS071"," BAS072"," BAS073"," BAS074"," BAS075"," BAS076"," BAS077"," BAS078"," BAS079"," BAS080"," BAS081"," BAS082"," BAS083"," BAS084"," BAS085"," BAS086"," BAS087"," BAS088"," BAS089"," BAS090"," BAS091"," BAS092"," BAS093"," BAS094"," BAS095"," BAS096"," BAS097"," BAS098"," BAS099"," BAS100"," BAS101"," BAS102"," BAS103"," BAS104"," BAS105"," BAS106"," BAS107"," BAS108"," BAS109"," BAS110"," BAS111"," BAS112"," BAS113"," BAS114"," BAS115"," BAS116"," BAS117"," BAS118"," BAS119"," BAS120"," BAS121"," BAS122"," BAS123"," BAS124"," BAS125"," BAS126"," BAS127"," BAS128"," BAS129"," BAS130"," BAS131"," BAS132"," BAS133"," BAS134"," BAS135"," BAS136"," BAS137"," BAS138"," BAS139"," BAS140"," BAS141"," BAS142"," BAS143"," BAS144"," BAS145"," BAS146"," BAS147"," BAS148"," BAS149"," BAS150"," BAS151"," BAS152"," BAS153"," BAS154"," BAS155"," BAS156"," BAS157"," BAS158"," BAS159"," BAS160"," BAS161"," BAS162"," BAS163"," BAS164"," BAS165"," BAS166"," BAS167"," BAS168"," BAS169"," BAS170"," BAS171"," BAS172"," BAS173"," BAS174"," BAS175"," BAS176"," BAS177"," BAS178"," BAS179"," BAS180"," BAS181"," BAS182"," BAS183"," BAS184"," BAS185"," BAS186"," BAS187"," BAS188"," BAS189"," BAS190"," BAS191"," BAS192"," BAS193"," BAS194"," BAS195"," BAS196"," BAS197"," BAS198"," BAS199"," BAS200"," BAS201"," BAS202"," BAS203"," BAS204"," BAS205"," BAS206"," BAS207"," BAS208"," BAS209"," BAS210"," BAS211"," BAS212"," BAS213"," BAS214"," BAS215"," BAS216"," BAS217"," BAS218"," BAS219"," BAS220"," BAS221"," BAS222"," BAS223"," BAS224"," BAS225"," BAS226"," BAS227"," BAS228"," BAS229"," BAS230"]
[null,{"$f":"IF(B218=B201,\"SI\",\"NO\")","v":"SI"},{"$f":"IF(C218=C201,\"SI\",\"NO\")","v":"SI"},{"$f":"IF(D218=D201,\"SI\",\"NO\")","v":"SI"},{"$f":"IF(E218=E201,\"SI\",\"NO\")","v":"SI"},{"$f":"IF(F218=F201,\"SI\",\"NO\")","v":"SI"},{"$f":"IF(G218=G201,\"SI\",\"NO\")","v":"SI"},{"$f":"IF(H218=H201,\"SI\",\"NO\")","v":"SI"},{"$f":"IF(I218=I201,\"SI\",\"NO\")","v":"SI"},{"$f":"IF(J218=J201,\"SI\",\"NO\")","v":"SI"},{"$f":"IF(K218=K201,\"SI\",\"NO\")","v":"SI"},{"$f":"IF(L218=L201,\"SI\",\"NO\")","v":"SI"},{"$f":"IF(M218=M201,\"SI\",\"NO\")","v":"SI"},{"$f":"IF(N218=N201,\"SI\",\"NO\")","v":"SI"},{"$f":"IF(O218=O201,\"SI\",\"NO\")","v":"SI"},{"$f":"IF(P218=P201,\"SI\",\"NO\")","v":"SI"},{"$f":"IF(Q218=Q201,\"SI\",\"NO\")","v":"SI"},{"$f":"IF(R218=R201,\"SI\",\"NO\")","v":"SI"},{"$f":"IF(S218=S201,\"SI\",\"NO\")","v":"SI"},{"$f":"IF(T218=T201,\"SI\",\"NO\")","v":"SI"},{"$f":"IF(U218=U201,\"SI\",\"NO\")","v":"SI"},{"$f":"IF(V218=V201,\"SI\",\"NO\")","v":"SI"},{"$f":"IF(W218=W201,\"SI\",\"NO\")","v":"SI"},{"$f":"IF(X218=X201,\"SI\",\"NO\")","v":"SI"},{"$f":"IF(Y218=Y201,\"SI\",\"NO\")","v":"SI"},{"$f":"IF(Z218=Z201,\"SI\",\"NO\")","v":"SI"},{"$f":"IF(AA218=AA201,\"SI\",\"NO\")","v":"SI"},{"$f":"IF(AB218=AB201,\"SI\",\"NO\")","v":"SI"},{"$f":"IF(AC218=AC201,\"SI\",\"NO\")","v":"SI"},{"$f":"IF(AD218=AD201,\"SI\",\"NO\")","v":"SI"},{"$f":"IF(AE218=AE201,\"SI\",\"NO\")","v":"SI"},{"$f":"IF(AF218=AF201,\"SI\",\"NO\")","v":"SI"},{"$f":"IF(AG218=AG201,\"SI\",\"NO\")","v":"SI"},{"$f":"IF(AH218=AH201,\"SI\",\"NO\")","v":"SI"},{"$f":"IF(AI218=AI201,\"SI\",\"NO\")","v":"SI"},{"$f":"IF(AJ218=AJ201,\"SI\",\"NO\")","v":"SI"},{"$f":"IF(AK218=AK201,\"SI\",\"NO\")","v":"SI"},{"$f":"IF(AL218=AL201,\"SI\",\"NO\")","v":"SI"},{"$f":"IF(AM218=AM201,\"SI\",\"NO\")","v":"SI"},{"$f":"IF(AN218=AN201,\"SI\",\"NO\")","v":"SI"},{"$f":"IF(AO218=AO201,\"SI\",\"NO\")","v":"SI"},{"$f":"IF(AP218=AP201,\"SI\",\"NO\")","v":"SI"},{"$f":"IF(AQ218=AQ201,\"SI\",\"NO\")","v":"SI"},{"$f":"IF(AR218=AR201,\"SI\",\"NO\")","v":"SI"},{"$f":"IF(AS218=AS201,\"SI\",\"NO\")","v":"SI"},{"$f":"IF(AT218=AT201,\"SI\",\"NO\")","v":"SI"},{"$f":"IF(AU218=AU201,\"SI\",\"NO\")","v":"SI"},{"$f":"IF(AV218=AV201,\"SI\",\"NO\")","v":"SI"},{"$f":"IF(AW218=AW201,\"SI\",\"NO\")","v":"SI"},{"$f":"IF(AX218=AX201,\"SI\",\"NO\")","v":"SI"},{"$f":"IF(AY218=AY201,\"SI\",\"NO\")","v":"SI"},{"$f":"IF(AZ218=AZ201,\"SI\",\"NO\")","v":"SI"},{"$f":"IF(BA218=BA201,\"SI\",\"NO\")","v":"SI"},{"$f":"IF(BB218=BB201,\"SI\",\"NO\")","v":"SI"},{"$f":"IF(BC218=BC201,\"SI\",\"NO\")","v":"SI"},{"$f":"IF(BD218=BD201,\"SI\",\"NO\")","v":"SI"},{"$f":"IF(BE218=BE201,\"SI\",\"NO\")","v":"SI"},{"$f":"IF(BF218=BF201,\"SI\",\"NO\")","v":"SI"},{"$f":"IF(BG218=BG201,\"SI\",\"NO\")","v":"SI"},{"$f":"IF(BH218=BH201,\"SI\",\"NO\")","v":"SI"},{"$f":"IF(BI218=BI201,\"SI\",\"NO\")","v":"SI"},{"$f":"IF(BJ218=BJ201,\"SI\",\"NO\")","v":"SI"},{"$f":"IF(BK218=BK201,\"SI\",\"NO\")","v":"SI"},{"$f":"IF(BL218=BL201,\"SI\",\"NO\")","v":"SI"},{"$f":"IF(BM218=BM201,\"SI\",\"NO\")","v":"SI"},{"$f":"IF(BN218=BN201,\"SI\",\"NO\")","v":"SI"},{"$f":"IF(BO218=BO201,\"SI\",\"NO\")","v":"SI"},{"$f":"IF(BP218=BP201,\"SI\",\"NO\")","v":"SI"},{"$f":"IF(BQ218=BQ201,\"SI\",\"NO\")","v":"SI"},{"$f":"IF(BR218=BR201,\"SI\",\"NO\")","v":"SI"},{"$f":"IF(BS218=BS201,\"SI\",\"NO\")","v":"SI"},{"$f":"IF(BT218=BT201,\"SI\",\"NO\")","v":"SI"},{"$f":"IF(BU218=BU201,\"SI\",\"NO\")","v":"SI"},{"$f":"IF(BV218=BV201,\"SI\",\"NO\")","v":"SI"},{"$f":"IF(BW218=BW201,\"SI\",\"NO\")","v":"SI"},{"$f":"IF(BX218=BX201,\"SI\",\"NO\")","v":"SI"},{"$f":"IF(BY218=BY201,\"SI\",\"NO\")","v":"SI"},{"$f":"IF(BZ218=BZ201,\"SI\",\"NO\")","v":"SI"},{"$f":"IF(CA218=CA201,\"SI\",\"NO\")","v":"SI"},{"$f":"IF(CB218=CB201,\"SI\",\"NO\")","v":"SI"},{"$f":"IF(CC218=CC201,\"SI\",\"NO\")","v":"SI"},{"$f":"IF(CD218=CD201,\"SI\",\"NO\")","v":"SI"},{"$f":"IF(CE218=CE201,\"SI\",\"NO\")","v":"SI"},{"$f":"IF(CF218=CF201,\"SI\",\"NO\")","v":"SI"},{"$f":"IF(CG218=CG201,\"SI\",\"NO\")","v":"SI"},{"$f":"IF(CH218=CH201,\"SI\",\"NO\")","v":"SI"},{"$f":"IF(CI218=CI201,\"SI\",\"NO\")","v":"SI"},{"$f":"IF(CJ218=CJ201,\"SI\",\"NO\")","v":"SI"},{"$f":"IF(CK218=CK201,\"SI\",\"NO\")","v":"SI"},{"$f":"IF(CL218=CL201,\"SI\",\"NO\")","v":"SI"},{"$f":"IF(CM218=CM201,\"SI\",\"NO\")","v":"SI"},{"$f":"IF(CN218=CN201,\"SI\",\"NO\")","v":"SI"},{"$f":"IF(CO218=CO201,\"SI\",\"NO\")","v":"SI"},{"$f":"IF(CP218=CP201,\"SI\",\"NO\")","v":"SI"},{"$f":"IF(CQ218=CQ201,\"SI\",\"NO\")","v":"SI"},{"$f":"IF(CR218=CR201,\"SI\",\"NO\")","v":"SI"},{"$f":"IF(CS218=CS201,\"SI\",\"NO\")","v":"SI"},{"$f":"IF(CT218=CT201,\"SI\",\"NO\")","v":"SI"},{"$f":"IF(CU218=CU201,\"SI\",\"NO\")","v":"SI"},{"$f":"IF(CV218=CV201,\"SI\",\"NO\")","v":"SI"},{"$f":"IF(CW218=CW201,\"SI\",\"NO\")","v":"SI"},{"$f":"IF(CX218=CX201,\"SI\",\"NO\")","v":"SI"},{"$f":"IF(CY218=CY201,\"SI\",\"NO\")","v":"SI"},{"$f":"IF(CZ218=CZ201,\"SI\",\"NO\")","v":"SI"},{"$f":"IF(DA218=DA201,\"SI\",\"NO\")","v":"SI"},{"$f":"IF(DB218=DB201,\"SI\",\"NO\")","v":"SI"},{"$f":"IF(DC218=DC201,\"SI\",\"NO\")","v":"SI"},{"$f":"IF(DD218=DD201,\"SI\",\"NO\")","v":"SI"},{"$f":"IF(DE218=DE201,\"SI\",\"NO\")","v":"SI"},{"$f":"IF(DF218=DF201,\"SI\",\"NO\")","v":"SI"},{"$f":"IF(DG218=DG201,\"SI\",\"NO\")","v":"SI"},{"$f":"IF(DH218=DH201,\"SI\",\"NO\")","v":"SI"},{"$f":"IF(DI218=DI201,\"SI\",\"NO\")","v":"SI"},{"$f":"IF(DJ218=DJ201,\"SI\",\"NO\")","v":"SI"},{"$f":"IF(DK218=DK201,\"SI\",\"NO\")","v":"SI"},{"$f":"IF(DL218=DL201,\"SI\",\"NO\")","v":"SI"},{"$f":"IF(DM218=DM201,\"SI\",\"NO\")","v":"SI"},{"$f":"IF(DN218=DN201,\"SI\",\"NO\")","v":"SI"},{"$f":"IF(DO218=DO201,\"SI\",\"NO\")","v":"SI"},{"$f":"IF(DP218=DP201,\"SI\",\"NO\")","v":"SI"},{"$f":"IF(DQ218=DQ201,\"SI\",\"NO\")","v":"SI"},{"$f":"IF(DR218=DR201,\"SI\",\"NO\")","v":"SI"},{"$f":"IF(DS218=DS201,\"SI\",\"NO\")","v":"SI"},{"$f":"IF(DT218=DT201,\"SI\",\"NO\")","v":"SI"},{"$f":"IF(DU218=DU201,\"SI\",\"NO\")","v":"SI"},{"$f":"IF(DV218=DV201,\"SI\",\"NO\")","v":"SI"},{"$f":"IF(DW218=DW201,\"SI\",\"NO\")","v":"SI"},{"$f":"IF(DX218=DX201,\"SI\",\"NO\")","v":"SI"},{"$f":"IF(DY218=DY201,\"SI\",\"NO\")","v":"SI"},{"$f":"IF(DZ218=DZ201,\"SI\",\"NO\")","v":"SI"},{"$f":"IF(EA218=EA201,\"SI\",\"NO\")","v":"SI"},{"$f":"IF(EB218=EB201,\"SI\",\"NO\")","v":"SI"},{"$f":"IF(EC218=EC201,\"SI\",\"NO\")","v":"SI"},{"$f":"IF(ED218=ED201,\"SI\",\"NO\")","v":"SI"},{"$f":"IF(EE218=EE201,\"SI\",\"NO\")","v":"SI"},{"$f":"IF(EF218=EF201,\"SI\",\"NO\")","v":"SI"},{"$f":"IF(EG218=EG201,\"SI\",\"NO\")","v":"SI"},{"$f":"IF(EH218=EH201,\"SI\",\"NO\")","v":"SI"},{"$f":"IF(EI218=EI201,\"SI\",\"NO\")","v":"SI"},{"$f":"IF(EJ218=EJ201,\"SI\",\"NO\")","v":"SI"},{"$f":"IF(EK218=EK201,\"SI\",\"NO\")","v":"SI"},{"$f":"IF(EL218=EL201,\"SI\",\"NO\")","v":"SI"},{"$f":"IF(EM218=EM201,\"SI\",\"NO\")","v":"SI"},{"$f":"IF(EN218=EN201,\"SI\",\"NO\")","v":"SI"},{"$f":"IF(EO218=EO201,\"SI\",\"NO\")","v":"SI"},{"$f":"IF(EP218=EP201,\"SI\",\"NO\")","v":"SI"},{"$f":"IF(EQ218=EQ201,\"SI\",\"NO\")","v":"SI"},{"$f":"IF(ER218=ER201,\"SI\",\"NO\")","v":"SI"},{"$f":"IF(ES218=ES201,\"SI\",\"NO\")","v":"SI"},{"$f":"IF(ET218=ET201,\"SI\",\"NO\")","v":"SI"},{"$f":"IF(EU218=EU201,\"SI\",\"NO\")","v":"SI"},{"$f":"IF(EV218=EV201,\"SI\",\"NO\")","v":"SI"},{"$f":"IF(EW218=EW201,\"SI\",\"NO\")","v":"SI"},{"$f":"IF(EX218=EX201,\"SI\",\"NO\")","v":"SI"},{"$f":"IF(EY218=EY201,\"SI\",\"NO\")","v":"SI"},{"$f":"IF(EZ218=EZ201,\"SI\",\"NO\")","v":"SI"},{"$f":"IF(FA218=FA201,\"SI\",\"NO\")","v":"SI"},{"$f":"IF(FB218=FB201,\"SI\",\"NO\")","v":"SI"},{"$f":"IF(FC218=FC201,\"SI\",\"NO\")","v":"SI"},{"$f":"IF(FD218=FD201,\"SI\",\"NO\")","v":"SI"},{"$f":"IF(FE218=FE201,\"SI\",\"NO\")","v":"SI"},{"$f":"IF(FF218=FF201,\"SI\",\"NO\")","v":"SI"},{"$f":"IF(FG218=FG201,\"SI\",\"NO\")","v":"SI"},{"$f":"IF(FH218=FH201,\"SI\",\"NO\")","v":"SI"},{"$f":"IF(FI218=FI201,\"SI\",\"NO\")","v":"SI"},{"$f":"IF(FJ218=FJ201,\"SI\",\"NO\")","v":"SI"},{"$f":"IF(FK218=FK201,\"SI\",\"NO\")","v":"SI"},{"$f":"IF(FL218=FL201,\"SI\",\"NO\")","v":"SI"},{"$f":"IF(FM218=FM201,\"SI\",\"NO\")","v":"SI"},{"$f":"IF(FN218=FN201,\"SI\",\"NO\")","v":"SI"},{"$f":"IF(FO218=FO201,\"SI\",\"NO\")","v":"SI"},{"$f":"IF(FP218=FP201,\"SI\",\"NO\")","v":"SI"},{"$f":"IF(FQ218=FQ201,\"SI\",\"NO\")","v":"SI"},{"$f":"IF(FR218=FR201,\"SI\",\"NO\")","v":"SI"},{"$f":"IF(FS218=FS201,\"SI\",\"NO\")","v":"SI"},{"$f":"IF(FT218=FT201,\"SI\",\"NO\")","v":"SI"},{"$f":"IF(FU218=FU201,\"SI\",\"NO\")","v":"SI"},{"$f":"IF(FV218=FV201,\"SI\",\"NO\")","v":"SI"},{"$f":"IF(FW218=FW201,\"SI\",\"NO\")","v":"SI"},{"$f":"IF(FX218=FX201,\"SI\",\"NO\")","v":"SI"},{"$f":"IF(FY218=FY201,\"SI\",\"NO\")","v":"SI"},{"$f":"IF(FZ218=FZ201,\"SI\",\"NO\")","v":"SI"},{"$f":"IF(GA218=GA201,\"SI\",\"NO\")","v":"SI"},{"$f":"IF(GB218=GB201,\"SI\",\"NO\")","v":"SI"},{"$f":"IF(GC218=GC201,\"SI\",\"NO\")","v":"SI"},{"$f":"IF(GD218=GD201,\"SI\",\"NO\")","v":"SI"},{"$f":"IF(GE218=GE201,\"SI\",\"NO\")","v":"SI"},{"$f":"IF(GF218=GF201,\"SI\",\"NO\")","v":"SI"},{"$f":"IF(GG218=GG201,\"SI\",\"NO\")","v":"SI"},{"$f":"IF(GH218=GH201,\"SI\",\"NO\")","v":"SI"},{"$f":"IF(GI218=GI201,\"SI\",\"NO\")","v":"SI"},{"$f":"IF(GJ218=GJ201,\"SI\",\"NO\")","v":"SI"},{"$f":"IF(GK218=GK201,\"SI\",\"NO\")","v":"SI"},{"$f":"IF(GL218=GL201,\"SI\",\"NO\")","v":"SI"},{"$f":"IF(GM218=GM201,\"SI\",\"NO\")","v":"SI"},{"$f":"IF(GN218=GN201,\"SI\",\"NO\")","v":"SI"},{"$f":"IF(GO218=GO201,\"SI\",\"NO\")","v":"SI"},{"$f":"IF(GP218=GP201,\"SI\",\"NO\")","v":"SI"},{"$f":"IF(GQ218=GQ201,\"SI\",\"NO\")","v":"SI"},{"$f":"IF(GR218=GR201,\"SI\",\"NO\")","v":"SI"},{"$f":"IF(GS218=GS201,\"SI\",\"NO\")","v":"SI"},{"$f":"IF(GT218=GT201,\"SI\",\"NO\")","v":"SI"},{"$f":"IF(GU218=GU201,\"SI\",\"NO\")","v":"SI"},{"$f":"IF(GV218=GV201,\"SI\",\"NO\")","v":"SI"},{"$f":"IF(GW218=GW201,\"SI\",\"NO\")","v":"SI"},{"$f":"IF(GX218=GX201,\"SI\",\"NO\")","v":"SI"},{"$f":"IF(GY218=GY201,\"SI\",\"NO\")","v":"SI"},{"$f":"IF(GZ218=GZ201,\"SI\",\"NO\")","v":"SI"},{"$f":"IF(HA218=HA201,\"SI\",\"NO\")","v":"SI"},{"$f":"IF(HB218=HB201,\"SI\",\"NO\")","v":"SI"},{"$f":"IF(HC218=HC201,\"SI\",\"NO\")","v":"SI"},{"$f":"IF(HD218=HD201,\"SI\",\"NO\")","v":"SI"},{"$f":"IF(HE218=HE201,\"SI\",\"NO\")","v":"SI"},{"$f":"IF(HF218=HF201,\"SI\",\"NO\")","v":"SI"},{"$f":"IF(HG218=HG201,\"SI\",\"NO\")","v":"SI"},{"$f":"IF(HH218=HH201,\"SI\",\"NO\")","v":"SI"},{"$f":"IF(HI218=HI201,\"SI\",\"NO\")","v":"SI"},{"$f":"IF(HJ218=HJ201,\"SI\",\"NO\")","v":"SI"},{"$f":"IF(HK218=HK201,\"SI\",\"NO\")","v":"SI"},{"$f":"IF(HL218=HL201,\"SI\",\"NO\")","v":"SI"},{"$f":"IF(HM218=HM201,\"SI\",\"NO\")","v":"SI"},{"$f":"IF(HN218=HN201,\"SI\",\"NO\")","v":"SI"},{"$f":"IF(HO218=HO201,\"SI\",\"NO\")","v":"SI"},{"$f":"IF(HP218=HP201,\"SI\",\"NO\")","v":"SI"},{"$f":"IF(HQ218=HQ201,\"SI\",\"NO\")","v":"SI"},{"$f":"IF(HR218=HR201,\"SI\",\"NO\")","v":"SI"},"SI","SI","SI","SI","SI"]
[]
[]
["R_SILVESTRE 02"]
["anno",2024]
["cod_red","03"]
["codmic","(Todas)"]
["cod_prov","(Todas)"]
["coddist","(Todas)"]
["cod_estab","(Todas)"]
["cod_eje","(Todas)"]
[]
[null,"Valores"]
["Etiquetas de fila"," BAS001"," BAS002"," BAS003"," BAS004"," BAS005"," BAS006"," BAS007"," BAS008"," BAS009"," BAS010"," BAS011"," BAS012"," BAS013"," BAS014"," BAS015"," BAS016"," BAS017"," BAS018"," BAS019"," BAS020"," BAS021"," BAS022"," BAS023"," BAS024"," BAS025"," BAS026"," BAS027"," BAS028"," BAS029"," BAS030"," BAS031"," BAS032"," BAS033"," BAS034"," BAS035"," BAS036"," BAS037"," BAS038"," BAS039"," BAS040"," BAS041"," BAS042"," BAS043"," BAS044"," BAS045"," BAS046"," BAS047"," BAS048"," BAS049"," BAS050"," BAS051"," BAS052"," BAS053"," BAS054"," BAS055"," BAS056"," BAS057"," BAS058"," BAS059"," BAS060"," BAS061"," BAS062"," BAS063"," BAS064"," BAS065"," BAS066"," BAS067"," BAS068"," BAS069"," BAS070"," BAS071"," BAS072"," BAS073"," BAS074"," BAS075"," BAS076"," BAS077"," BAS078"," BAS079"," BAS080"," BAS081"," BAS082"," BAS083"," BAS084"," BAS085"," BAS086"," BAS087"," BAS088"," BAS089"," BAS090"," BAS091"," BAS092"," BAS093"," BAS094"," BAS095"," BAS096"," BAS097"," BAS098"," BAS099"," BAS100"," BAS101"," BAS102"," BAS103"," BAS104"," BAS105"," BAS106"," BAS107"," BAS108"," BAS109"," BAS110"," BAS111"," BAS112"," BAS113"," BAS114"," BAS115"," BAS116"," BAS117"," BAS118"," BAS119"," BAS120"," BAS121"," BAS122"," BAS123"," BAS124"," BAS125"," BAS126"," BAS127"," BAS128"," BAS129"," BAS130"," BAS131"," BAS132"," BAS133"," BAS134"," BAS135"," BAS136"," BAS137"," BAS138"," BAS139"," BAS140"," BAS141"," BAS142"," BAS143"," BAS144"," BAS145"," BAS146"," BAS147"," BAS148"," BAS149"," BAS150"," BAS151"," BAS152"," BAS153"," BAS154"," BAS155"," BAS156"," BAS157"," BAS158"," BAS159"," BAS160"," BAS161"," BAS162"," BAS163"," BAS164"," BAS165"," BAS166"," BAS167"," BAS168"," BAS169"," BAS170"," BAS171"," BAS172"," BAS173"," BAS174"," BAS175"," BAS176"," BAS177"," BAS178"," BAS179"," BAS180"," BAS181"," BAS182"," BAS183"," BAS184"," BAS185"," BAS186"," BAS187"," BAS188"," BAS189"," BAS190"," BAS191"," BAS192"," BAS193"," BAS194"," BAS195"," BAS196"," BAS197"," BAS198"," BAS199"," BAS200"," BAS201"," BAS202"," BAS203"," BAS204"," BAS205"," BAS206"," BAS207"," BAS208"," BAS209"," BAS210"," BAS211"," BAS212"," BAS213"," BAS214"," BAS215"," BAS216"," BAS217"," BAS218"," BAS219"," BAS220"," BAS221"," BAS222"," BAS223"," BAS224"," BAS225"," BAS226"," BAS227"," BAS228"," BAS229"," BAS230"]
[2,0,0,0,0,0,0,0,0,0,0,0,0,0,0,0,0,0,0,0,0,0,0,0,0,0,0,0,0,0,0,0,0,0,0,0,0,0,0,0,0,0,0,0,0,0,0,0,0,0,0,0,0,126,19,0,0,0,0,0,2,0,0,0,0,0,0,0,0,0,0,0,0,0,0,0,0,0,0,0,0,0,0,0,0,0,0,0,0,0,0,1,0,0,0,0,0,0,0,0,0,0,0,0,0,0,0,0,0,0,0,0,0,0,0,0,0,0,0,0,0,0,0,0,0,0,0,0,0,0,0,0,0,0,0,0,0,0,0,0,0,0,0,0,0,0,0,0,0,0,0,0,0,0,0,0,0,0,0,0,0,0,0,0,0,0,0,0,0,0,0,0,0,0,0,0,0,0,0,0,0,0,0,0,0,0,0,0,0,0,0,0,0,0,0,0,0,0,0,0,0,0,0,0,0,0,0,0,0,0,0,0,0,0,0,0,0,0,0,0,0,0,0,0,0,0,0,0,0,0,0]
[1,0,0,0,0,0,0,0,0,0,0,0,0,0,0,0,0,0,0,0,0,0,0,0,0,0,0,0,0,0,0,0,0,0,0,0,0,0,0,0,0,0,0,0,0,0,0,0,0,0,0,0,0,258,38,0,0,0,0,0,0,0,0,0,0,0,0,0,0,0,0,0,0,0,0,0,0,0,0,0,0,0,0,0,0,0,0,0,0,0,0,3,0,0,0,0,0,0,0,0,0,0,0,0,0,0,0,0,0,0,0,0,0,0,0,0,0,0,0,0,0,0,0,0,0,0,0,0,0,0,0,0,0,0,0,0,0,0,0,0,0,0,0,0,0,0,0,0,0,0,0,0,0,0,0,0,0,0,0,0,0,0,0,0,0,0,0,0,0,0,0,0,0,0,0,0,0,0,0,0,0,0,0,0,0,0,0,0,0,0,0,0,0,0,0,0,0,0,0,0,0,0,0,0,0,0,0,0,0,0,0,0,0,0,0,0,0,0,0,0,0,0,0,0,0,0,0,0,0,0,0]
[3,0,0,0,0,0,0,0,0,0,0,0,0,0,0,0,0,0,0,0,0,0,0,0,0,0,0,0,0,0,0,0,0,0,0,0,0,0,0,0,0,0,0,0,0,0,0,0,0,0,0,0,0,0,0,0,0,0,0,0,1,0,0,0,0,0,0,0,0,0,0,0,0,0,0,0,0,0,0,0,0,0,0,0,0,0,0,0,0,0,0,0,0,0,0,0,0,0,0,0,0,0,0,0,0,0,0,0,0,0,0,0,0,0,0,0,0,0,0,0,0,0,0,0,0,0,0,0,0,0,0,0,0,0,0,0,0,0,0,0,0,0,0,0,0,0,0,0,0,0,0,0,0,0,0,0,0,0,0,0,0,0,0,0,0,0,0,0,0,0,0,0,0,0,0,0,0,0,0,0,0,0,0,0,0,0,0,0,0,0,0,0,0,0,0,0,0,0,0,0,0,0,0,0,0,0,0,0,0,0,0,0,0,0,0,0,0,0,0,0,0,0,0,0,0,0,0,0,0,0,0]
[4,0,0,0,0,0,0,0,0,0,0,0,0,0,0,0,0,0,0,0,0,0,0,0,0,0,0,0,0,0,0,0,0,0,0,0,0,0,0,0,0,0,0,0,0,0,0,0,0,0,0,0,0,0,0,0,0,0,0,0,0,0,0,0,0,0,0,0,0,0,0,0,0,0,0,0,0,0,0,0,0,0,0,0,0,0,0,0,0,0,0,0,0,0,0,0,0,0,0,0,0,0,0,0,0,0,0,0,0,0,0,0,0,0,0,0,0,0,0,0,0,0,0,0,0,0,0,0,0,0,0,0,0,0,0,0,0,0,0,0,0,0,0,0,0,0,0,0,0,0,0,0,0,0,0,0,0,0,0,0,0,0,0,0,0,0,0,0,0,0,0,0,0,0,0,0,0,0,0,0,0,0,0,0,0,0,0,0,0,0,0,0,0,0,0,0,0,0,0,0,0,0,0,0,0,0,0,0,0,0,0,0,0,0,0,0,0,0,0,0,0,0,0,0,0,0,0,0,0,0,0]
[5,0,0,0,0,0,0,0,0,0,0,0,0,0,0,0,0,0,0,0,0,0,0,0,0,0,0,0,0,0,0,0,0,0,0,0,0,0,0,0,0,0,0,0,0,0,0,0,0,0,0,0,0,2,36,0,0,0,0,0,0,0,0,0,0,0,0,0,0,0,0,0,0,0,0,0,0,0,0,0,0,0,0,0,0,0,0,0,0,0,0,0,0,0,0,0,0,0,0,0,0,0,0,0,0,0,0,0,0,0,0,0,0,0,0,0,0,0,0,0,0,0,0,0,0,0,0,0,0,0,0,0,0,0,0,0,0,0,0,0,0,0,0,0,0,0,0,0,0,0,0,0,0,0,0,0,0,0,0,0,0,0,0,0,0,0,0,0,0,0,0,0,0,0,0,0,0,0,0,0,0,0,0,0,0,0,0,0,0,0,0,0,0,0,0,0,0,0,0,0,0,0,0,0,0,0,0,0,0,0,0,0,0,0,0,0,0,0,0,0,0,0,0,0,0,0,0,0,0,0,0]
[6,0,0,0,0,0,0,0,0,0,0,0,0,0,0,0,0,0,0,0,0,0,0,0,0,0,0,0,0,0,0,0,0,0,0,0,0,0,0,0,0,0,0,0,0,0,0,0,0,0,0,0,0,1,18,0,0,0,0,0,0,0,0,0,0,0,0,0,0,0,0,0,0,0,0,0,0,0,0,0,0,0,0,0,0,0,0,0,0,0,0,0,0,0,0,0,0,0,0,0,0,0,0,0,0,0,0,0,0,0,0,0,0,0,0,0,0,0,0,0,0,0,0,0,0,0,0,0,0,0,0,0,0,0,0,0,0,0,0,0,0,0,0,0,0,0,0,0,0,0,0,0,0,0,0,0,0,0,0,0,0,0,0,0,0,0,0,0,0,0,0,0,0,0,0,0,0,0,0,0,0,0,0,0,0,0,0,0,0,0,0,0,0,0,0,0,0,0,0,0,0,0,0,0,0,0,0,0,0,0,0,0,0,0,0,0,0,0,0,0,0,0,0,0,0,0,0,0,0,0,0]
[7,0,0,0,0,0,0,0,0,0,0,0,0,0,0,0,0,0,0,0,0,0,0,0,0,0,0,0,0,0,0,0,0,0,0,0,0,0,0,0,0,0,0,0,0,0,0,0,0,0,0,0,0,10,1,0,0,0,0,0,0,0,0,0,0,0,0,0,0,0,0,0,0,0,0,0,0,0,0,0,0,0,0,0,0,0,0,0,0,0,0,0,0,0,0,0,0,0,0,0,0,0,0,0,0,0,0,0,0,0,0,0,0,0,0,0,0,0,0,0,0,0,0,0,0,0,0,0,0,0,0,0,0,0,0,0,0,0,0,0,0,0,0,0,0,0,0,0,0,0,0,0,0,0,0,0,0,0,0,0,0,0,0,0,0,0,0,0,0,0,0,0,0,0,0,0,0,0,0,0,0,0,0,0,0,0,0,0,0,0,0,0,0,0,0,0,0,0,0,0,0,0,0,0,0,0,0,0,0,0,0,0,0,0,0,0,0,0,0,0,0,0,0,0,0,0,0,0,0,0,0]
[8,0,0,0,0,0,0,0,0,0,0,0,0,0,0,0,0,0,0,0,0,0,0,0,0,0,0,0,0,0,0,0,0,0,0,0,0,0,0,0,0,0,0,0,0,0,0,0,0,0,0,0,0,0,0,0,0,0,0,0,0,0,0,0,0,0,0,0,0,0,0,0,0,0,0,0,0,0,0,0,0,0,0,0,0,0,0,0,0,0,0,1,0,0,0,0,0,0,0,0,0,0,0,0,0,0,0,0,0,0,0,0,0,0,0,0,0,0,0,0,0,0,0,0,0,0,0,0,0,0,0,0,0,0,0,0,0,0,0,0,0,0,0,0,0,0,0,0,0,0,0,0,0,0,0,0,0,0,0,0,0,0,0,0,0,0,0,0,0,0,0,0,0,0,0,0,0,0,0,0,0,0,0,0,0,0,0,0,0,0,0,0,0,0,0,0,0,0,0,0,0,0,0,0,0,0,0,0,0,0,0,0,0,0,0,0,0,0,0,0,0,0,0,0,0,0,0,0,0,0,0]
[9,0,0,0,0,0,0,0,0,0,0,0,0,0,0,0,0,0,0,0,0,0,0,0,0,0,0,0,0,0,0,0,0,0,0,0,0,0,0,0,0,0,0,0,0,0,0,0,0,0,0,0,0,128,14,0,2,0,10,4,0,0,0,0,0,0,0,0,0,0,0,0,0,0,0,0,0,0,0,0,0,0,0,0,0,0,0,0,0,0,0,44,0,0,0,0,0,0,0,0,0,0,0,0,0,0,0,0,0,0,0,0,0,0,0,0,0,0,0,0,0,0,0,0,0,0,0,0,0,0,0,0,0,0,0,0,0,0,0,0,0,0,0,0,0,0,0,0,0,0,0,0,0,0,0,0,0,0,0,0,0,0,0,0,0,0,0,0,0,0,0,0,0,0,0,0,0,0,0,0,0,0,0,0,0,0,0,0,0,0,0,0,0,0,0,0,0,0,0,0,0,0,0,0,0,0,0,0,0,0,0,0,0,0,0,0,0,0,0,0,0,0,0,0,0,0,0,0,0,0,0]
[10,0,0,0,0,0,0,0,0,0,0,0,0,0,0,0,0,0,0,0,0,0,0,0,0,0,0,0,0,0,0,0,0,0,0,0,0,0,0,0,0,0,0,0,0,0,0,0,0,0,0,0,0,64,7,0,0,0,0,0,0,0,0,0,0,0,0,0,0,0,0,0,0,0,0,0,0,0,0,0,0,0,0,0,0,0,0,0,0,0,0,11,0,0,0,0,0,0,0,0,0,0,0,0,0,0,0,0,0,0,0,0,0,0,0,0,0,0,0,0,0,0,0,0,0,0,0,0,0,0,0,0,0,0,0,0,0,0,0,0,0,0,0,0,0,0,0,0,0,0,0,0,0,0,0,0,0,0,0,0,0,0,0,0,0,0,0,0,0,0,0,0,0,0,0,0,0,0,0,0,0,0,0,0,0,0,0,0,0,0,0,0,0,0,0,0,0,0,0,0,0,0,0,0,0,0,0,0,0,0,0,0,0,0,0,0,0,0,0,0,0,0,0,0,0,0,0,0,0,0,0]
[11,0,0,0,0,0,0,0,0,0,0,0,0,0,0,0,0,0,0,0,0,0,0,0,0,0,0,0,0,0,0,0,0,0,0,0,0,0,0,0,0,0,0,0,0,0,0,0,0,0,0,0,0,0,0,0,0,0,0,0,0,0,0,0,0,0,0,0,0,0,0,0,0,0,0,0,0,0,0,0,0,0,0,0,0,0,0,0,0,0,0,5,0,0,0,0,0,0,0,0,0,0,0,0,0,0,0,0,0,0,0,0,0,0,0,0,0,0,0,0,0,0,0,0,0,0,0,0,0,0,0,0,0,0,0,0,0,0,0,0,0,0,0,0,0,0,0,0,0,0,0,0,0,0,0,0,0,0,0,0,0,0,0,0,0,0,0,0,0,0,0,0,0,0,0,0,0,0,0,0,0,0,0,0,0,0,0,0,0,0,0,0,0,0,0,0,0,0,0,0,0,0,0,0,0,0,0,0,0,0,0,0,0,0,0,0,0,0,0,0,0,0,0,0,0,0,0,0,0,0,0]
["T",0,0,0,0,0,0,0,0,0,0,0,0,0,0,0,0,0,0,0,0,0,0,0,0,0,0,0,0,0,0,0,0,0,0,0,0,0,0,0,0,0,0,0,0,0,0,0,0,0,0,0,0,589,133,0,2,0,10,4,3,0,0,0,0,0,0,0,0,0,0,0,0,0,0,0,0,0,0,0,0,0,0,0,0,0,0,0,0,0,0,65,0,0,0,0,0,0,0,0,0,0,0,0,0,0,0,0,0,0,0,0,0,0,0,0,0,0,0,0,0,0,0,0,0,0,0,0,0,0,0,0,0,0,0,0,0,0,0,0,0,0,0,0,0,0,0,0,0,0,0,0,0,0,0,0,0,0,0,0,0,0,0,0,0,0,0,0,0,0,0,0,0,0,0,0,0,0,0,0,0,0,0,0,0,0,0,0,0,0,0,0,0,0,0,0,0,0,0,0,0,0,0,0,0,0,0,0,0,0,0,0,0,0,0,0,0,0,0,0,0,0,0,0,0,0,0,0,0,0,0]
[]
["TOTAL"]
[{"$f":"COUNT(A233:A244)","v":11},{"$f":"SUM(B233:B244)","v":0},{"$f":"SUM(C233:C244)","v":0},0,0,0,0,0,0,0,0,0,0,0,0,0,0,0,0,0,0,0,0,0,0,0,0,0,0,0,0,0,0,0,0,0,0,0,0,0,0,0,0,0,0,0,0,0,0,0,0,0,0,1178,266,0,4,0,20,8,6,0,0,0,0,0,{"$f":"SUM(BO233:BO244)","v":0},0,0,0,0,0,0,0,0,0,0,0,0,0,0,0,0,0,0,0,0,0,0,0,0,130,0,0,0,0,0,0,0,0,0,0,0,0,0,0,0,0,0,0,0,0,0,0,0,0,0,0,0,0,0,0,0,0,0,0,0,0,0,0,{"$f":"SUM(EA233:EA244)","v":0},0,0,0,0,0,0,0,0,0,0,0,0,0,0,0,0,0,0,0,0,0,0,0,0,0,0,0,0,0,0,0,0,0,0,0,0,0,0,0,0,0,0,0,0,0,0,0,0,0,0,0,0,0,0,0,0,0,0,0,0,0,0,0,{"$f":"SUM(GM233:GM244)","v":0},0,0,0,0,0,0,0,0,0,0,0,0,0,0,0,0,0,0,0,0,0,0,0,0,0,0,0,0,0,0,0,0,0,0,0,0]
[{"$f":"CONCATENATE(A233,\"-\",A234,\"-\",A235,\"-\",A236,\"-\",A237,\"-\",A238,\"-\",A239,\"-\",A240,\"-\",A241,\"-\",A242,\"-\",A243,\"-\",A244)","v":"2-1-3-4-5-6-7-8-9-10-11-T"}]
[null," BAS001"," BAS002"," BAS003"," BAS004"," BAS005"," BAS006"," BAS007"," BAS008"," BAS009"," BAS010"," BAS011"," BAS012"," BAS013"," BAS014"," BAS015"," BAS016"," BAS017"," BAS018"," BAS019"," BAS020"," BAS021"," BAS022"," BAS023"," BAS024"," BAS025"," BAS026"," BAS027"," BAS028"," BAS029"," BAS030"," BAS031"," BAS032"," BAS033"," BAS034"," BAS035"," BAS036"," BAS037"," BAS038"," BAS039"," BAS040"," BAS041"," BAS042"," BAS043"," BAS044"," BAS045"," BAS046"," BAS047"," BAS048"," BAS049"," BAS050"," BAS051"," BAS052"," BAS053"," BAS054"," BAS055"," BAS056"," BAS057"," BAS058"," BAS059"," BAS060"," BAS061"," BAS062"," BAS063"," BAS064"," BAS065"," BAS066"," BAS067"," BAS068"," BAS069"," BAS070"," BAS071"," BAS072"," BAS073"," BAS074"," BAS075"," BAS076"," BAS077"," BAS078"," BAS079"," BAS080"," BAS081"," BAS082"," BAS083"," BAS084"," BAS085"," BAS086"," BAS087"," BAS088"," BAS089"," BAS090"," BAS091"," BAS092"," BAS093"," BAS094"," BAS095"," BAS096"," BAS097"," BAS098"," BAS099"," BAS100"," BAS101"," BAS102"," BAS103"," BAS104"," BAS105"," BAS106"," BAS107"," BAS108"," BAS109"," BAS110"," BAS111"," BAS112"," BAS113"," BAS114"," BAS115"," BAS116"," BAS117"," BAS118"," BAS119"," BAS120"," BAS121"," BAS122"," BAS123"," BAS124"," BAS125"," BAS126"," BAS127"," BAS128"," BAS129"," BAS130"," BAS131"," BAS132"," BAS133"," BAS134"," BAS135"," BAS136"," BAS137"," BAS138"," BAS139"," BAS140"," BAS141"," BAS142"," BAS143"," BAS144"," BAS145"," BAS146"," BAS147"," BAS148"," BAS149"," BAS150"," BAS151"," BAS152"," BAS153"," BAS154"," BAS155"," BAS156"," BAS157"," BAS158"," BAS159"," BAS160"," BAS161"," BAS162"," BAS163"," BAS164"," BAS165"," BAS166"," BAS167"," BAS168"," BAS169"," BAS170"," BAS171"," BAS172"," BAS173"," BAS174"," BAS175"," BAS176"," BAS177"," BAS178"," BAS179"," BAS180"," BAS181"," BAS182"," BAS183"," BAS184"," BAS185"," BAS186"," BAS187"," BAS188"," BAS189"," BAS190"," BAS191"," BAS192"," BAS193"," BAS194"," BAS195"," BAS196"," BAS197"," BAS198"," BAS199"," BAS200"," BAS201"," BAS202"," BAS203"," BAS204"," BAS205"," BAS206"," BAS207"," BAS208"," BAS209"," BAS210"," BAS211"," BAS212"," BAS213"," BAS214"," BAS215"," BAS216"," BAS217"," BAS218"," BAS219"," BAS220"," BAS221"," BAS222"," BAS223"," BAS224"," BAS225"," BAS226"," BAS227"," BAS228"," BAS229"," BAS230"]
[null,{"$f":"IF(B249=B232,\"SI\",\"NO\")","v":"SI"},{"$f":"IF(C249=C232,\"SI\",\"NO\")","v":"SI"},"SI","SI","SI","SI","SI","SI","SI","SI","SI","SI","SI","SI","SI","SI","SI","SI","SI","SI","SI","SI","SI","SI","SI","SI","SI","SI","SI","SI","SI","SI","SI","SI","SI","SI","SI","SI","SI","SI","SI","SI","SI","SI","SI","SI","SI","SI","SI","SI","SI","SI","SI","SI","SI","SI","SI","SI","SI","SI","SI","SI","SI","SI","SI",{"$f":"IF(BO249=BO232,\"SI\",\"NO\")","v":"SI"},"SI","SI","SI","SI","SI","SI","SI","SI","SI","SI","SI","SI","SI","SI","SI","SI","SI","SI","SI","SI","SI","SI","SI","SI","SI","SI","SI","SI","SI","SI","SI","SI","SI","SI","SI","SI","SI","SI","SI","SI","SI","SI","SI","SI","SI","SI","SI","SI","SI","SI","SI","SI","SI","SI","SI","SI","SI","SI","SI","SI","SI","SI","SI",{"$f":"IF(EA249=EA232,\"SI\",\"NO\")","v":"SI"},"SI","SI","SI","SI","SI","SI","SI","SI","SI","SI","SI","SI","SI","SI","SI","SI","SI","SI","SI","SI","SI","SI","SI","SI","SI","SI","SI","SI","SI","SI","SI","SI","SI","SI","SI","SI","SI","SI","SI","SI","SI","SI","SI","SI","SI","SI","SI","SI","SI","SI","SI","SI","SI","SI","SI","SI","SI","SI","SI","SI","SI","SI","SI",{"$f":"IF(GM249=GM232,\"SI\",\"NO\")","v":"SI"},"SI","SI","SI","SI","SI","SI","SI","SI","SI","SI","SI","SI","SI","SI","SI","SI","SI","SI","SI","SI","SI","SI","SI","SI","SI","SI","SI","SI","SI","SI","SI","SI","SI","SI","SI","SI"]
[]
[]
["PONZONOSOS"]
["anno",2024]
["cod_red","03"]
["codmic","(Todas)"]
["cod_prov","(Todas)"]
["coddist","(Todas)"]
["cod_estab","(Todas)"]
["cod_eje","(Todas)"]
[]
[null,"Valores"]
["Etiquetas de fila"," BAS001"," BAS002"," BAS003"," BAS004"," BAS005"," BAS006"," BAS007"," BAS008"," BAS009"," BAS010"," BAS011"," BAS012"," BAS013"," BAS014"," BAS015"," BAS016"," BAS017"," BAS018"," BAS019"," BAS020"," BAS021"," BAS022"," BAS023"," BAS024"," BAS025"," BAS026"," BAS027"," BAS028"," BAS029"," BAS030"," BAS031"," BAS032"," BAS033"," BAS034"," BAS035"," BAS036"," BAS037"," BAS038"," BAS039"," BAS040"," BAS041"," BAS042"," BAS043"," BAS044"," BAS045"," BAS046"," BAS047"," BAS048"," BAS049"," BAS050"," BAS051"," BAS052"," BAS053"," BAS054"," BAS055"," BAS056"," BAS057"," BAS058"," BAS059"," BAS060"," BAS061"," BAS062"," BAS063"," BAS064"," BAS065"," BAS066"," BAS067"," BAS068"," BAS069"," BAS070"," BAS071"," BAS072"," BAS073"," BAS074"," BAS075"," BAS076"," BAS077"," BAS078"," BAS079"," BAS080"," BAS081"," BAS082"," BAS083"," BAS084"," BAS085"," BAS086"," BAS087"," BAS088"," BAS089"," BAS090"," BAS091"," BAS092"," BAS093"," BAS094"," BAS095"," BAS096"," BAS097"," BAS098"," BAS099"," BAS100"," BAS101"," BAS102"," BAS103"," BAS104"," BAS105"," BAS106"," BAS107"," BAS108"," BAS109"," BAS110"," BAS111"," BAS112"," BAS113"," BAS114"," BAS115"," BAS116"," BAS117"," BAS118"," BAS119"," BAS120"," BAS121"," BAS122"," BAS123"," BAS124"," BAS125"," BAS126"," BAS127"," BAS128"," BAS129"," BAS130"," BAS131"," BAS132"," BAS133"," BAS134"," BAS135"," BAS136"," BAS137"," BAS138"," BAS139"," BAS140"," BAS141"," BAS142"," BAS143"," BAS144"," BAS145"," BAS146"," BAS147"," BAS148"," BAS149"," BAS150"," BAS151"," BAS152"," BAS153"," BAS154"," BAS155"," BAS156"," BAS157"," BAS158"," BAS159"," BAS160"," BAS161"," BAS162"," BAS163"," BAS164"," BAS165"," BAS166"," BAS167"," BAS168"," BAS169"," BAS170"," BAS171"," BAS172"," BAS173"," BAS174"," BAS175"," BAS176"," BAS177"," BAS178"," BAS179"," BAS180"," BAS181"," BAS182"," BAS183"," BAS184"," BAS185"," BAS186"," BAS187"," BAS188"," BAS189"," BAS190"," BAS191"," BAS192"," BAS193"," BAS194"," BAS195"," BAS196"," BAS197"," BAS198"," BAS199"," BAS200"," BAS201"," BAS202"," BAS203"," BAS204"," BAS205"," BAS206"," BAS207"," BAS208"," BAS209"," BAS210"," BAS211"," BAS212"," BAS213"," BAS214"," BAS215"," BAS216"," BAS217"," BAS218"," BAS219"," BAS220"," BAS221"," BAS222"," BAS223"," BAS224"," BAS225"," BAS226"," BAS227"," BAS228"," BAS229"," BAS230"]
[2,0,0,0,0,0,1,1,1,0,0,0,0,0,0,0,0,0,0,0,0,0,0,0,0,0,0,0,0,0,0,0,0,0,0,0,0,0,0,0,0,0,1,0,0,0,0,0,0,0,0,0,0,0,0,0,0,0,0,0,0,0,0,0,0,0,0,0,0,0,0,0,0,0,0,0,0,0,0,0,0,0,0,0,0,0,0,0,0,0,0,1,1,0,0,0,0,0,0,0,0,0,0,0,0,0,0,0,0,0,0,0,0,0,0,1,0,0,2,0,0,0,1,0,0,1,0,0,0,0,2,0,0,0,0,1,0,0,0,0,0,0,0,0,0,0,0,0,0,0,0,0,0,0,0,0,0,0,0,0,0,0,0,0,0,0,0,0,0,0,0,0,0,0,0,0,0,0,0,0,0,0,0,0,0,0,0,0,0,0,0,0,0,0,0,0,0,0,0,0,0,0,0,0,0,0,0,0,0,0,0,0,0,0,0,0,0,0,0,0,0,0,0,0,0,0,0,0,0,0,0]
[1,1,0,1,1,0,0,0,0,0,0,0,0,0,0,0,0,0,0,0,0,0,0,0,0,0,0,0,0,0,0,0,0,0,0,0,0,0,0,0,0,1,0,0,0,0,0,0,2,0,0,0,0,0,0,0,0,0,0,0,0,0,0,0,0,0,0,0,0,0,0,0,0,0,0,1,0,0,0,0,0,0,0,0,0,0,0,0,0,0,0,0,0,0,0,0,0,0,0,0,0,0,0,1,1,0,0,0,0,0,0,0,0,0,0,0,0,0,0,0,0,0,0,0,0,0,0,0,0,0,0,0,0,0,0,0,1,0,0,0,0,0,0,0,0,0,0,0,0,0,0,0,0,0,0,0,0,0,0,0,0,0,0,0,0,0,0,0,0,0,0,0,0,0,0,0,0,0,0,0,0,0,0,0,0,0,0,0,0,0,0,0,0,0,0,0,0,0,0,0,0,0,0,0,0,0,0,0,0,0,0,0,0,0,0,0,0,0,0,0,0,0,0,0,0,0,0,0,0,0,0]
[3,0,0,0,1,0,0,0,1,0,0,0,0,0,0,0,0,0,0,0,0,0,0,0,0,0,0,0,0,0,0,0,0,0,0,0,0,0,0,0,0,0,0,0,0,0,0,1,0,0,0,0,0,0,0,0,0,0,0,0,0,0,0,0,0,1,0,0,0,0,0,0,0,0,0,0,0,0,0,0,0,0,1,0,0,0,0,0,0,0,0,0,0,0,0,0,0,0,0,0,0,1,0,0,1,0,0,0,0,0,0,1,0,0,1,0,0,0,0,0,0,0,1,0,0,1,0,0,0,0,0,0,0,0,0,0,0,0,0,0,0,0,0,0,0,0,0,0,0,0,0,0,0,0,0,0,0,0,0,0,0,0,0,0,0,0,0,0,0,0,0,0,0,0,0,0,0,0,0,0,0,0,0,0,0,0,0,0,0,0,0,0,0,0,0,0,0,0,0,0,0,0,0,0,0,0,0,0,0,0,0,0,0,0,0,0,0,0,0,0,0,0,0,0,0,0,0,0,0,0,0]
[4,1,0,1,0,0,0,1,0,2,0,0,0,0,0,0,0,0,0,0,0,0,0,0,0,0,0,0,0,0,0,0,0,0,0,0,0,0,0,0,0,0,0,0,0,0,0,0,1,0,0,0,0,0,0,0,0,0,0,0,0,0,0,0,0,0,0,0,0,0,0,0,0,0,0,0,0,0,0,1,0,0,2,0,0,0,2,0,0,0,0,0,1,0,0,0,0,0,0,0,0,0,0,1,1,1,0,0,0,0,0,1,0,0,1,0,0,0,0,1,0,0,0,0,0,0,0,0,0,0,1,0,0,0,0,0,0,0,0,0,0,0,0,0,0,0,0,0,0,0,0,0,0,0,0,0,0,0,0,0,0,0,0,0,0,0,0,0,0,0,0,0,0,0,0,0,0,0,0,0,0,0,0,0,0,0,0,0,0,0,0,0,0,0,0,0,0,0,0,0,0,0,0,0,0,0,0,0,0,0,0,0,0,0,0,0,0,0,0,0,0,0,0,0,0,0,0,0,0,0,0]
[5,0,0,0,0,1,0,0,0,0,0,0,0,0,0,0,0,0,0,0,0,0,0,0,0,0,0,0,0,0,0,0,0,0,0,0,0,0,0,0,0,0,0,0,0,0,0,0,1,0,0,0,0,0,0,0,0,0,0,0,0,0,0,0,0,0,0,0,0,0,0,0,0,0,0,0,0,0,0,0,0,0,0,0,0,0,0,0,0,0,0,0,0,0,0,0,0,0,0,0,0,0,1,0,0,0,0,0,0,0,0,0,0,0,1,0,0,0,0,0,0,0,0,0,0,1,0,0,0,0,1,0,0,1,0,0,0,0,0,0,0,0,0,0,0,0,0,0,0,0,0,0,0,0,0,0,0,0,0,0,0,0,0,0,0,0,0,0,0,0,0,0,0,0,0,0,0,0,0,0,0,0,0,0,0,0,0,0,0,0,0,0,0,0,0,0,0,0,0,0,0,0,0,0,0,0,0,0,0,0,0,0,0,0,0,0,0,0,0,0,0,0,0,0,0,0,0,0,0,0,0]
[6,0,0,1,0,1,0,0,1,0,0,0,0,0,0,0,0,0,0,0,0,0,0,0,0,0,0,0,0,0,0,0,0,0,0,0,0,0,0,0,0,0,0,0,0,0,0,0,0,0,0,0,0,0,0,0,0,0,1,1,0,0,0,0,0,0,0,0,0,0,0,0,0,0,0,0,0,0,0,0,0,0,0,0,0,0,0,1,0,0,0,0,0,0,0,0,0,0,0,0,0,0,0,1,0,1,0,0,1,0,0,0,0,0,0,0,0,1,0,0,0,0,1,0,0,0,0,0,0,0,0,0,0,0,0,0,1,0,0,0,0,0,0,0,0,0,0,0,0,0,0,0,0,0,0,0,0,0,0,0,0,0,0,0,0,0,0,0,0,0,0,0,0,0,0,0,0,0,0,0,0,0,0,0,0,0,0,0,0,0,0,0,0,0,0,0,0,0,0,0,0,0,0,0,0,0,0,0,0,0,0,0,0,0,0,0,0,0,0,0,0,0,0,0,0,0,0,0,0,0,0]
[7,0,0,2,0,0,0,0,0,0,0,0,0,0,0,0,0,0,0,0,0,0,0,0,0,0,0,0,0,0,0,0,0,0,0,0,0,0,0,0,0,0,0,0,0,0,0,0,0,0,0,0,0,0,0,0,0,0,0,0,0,0,0,0,0,0,0,0,0,0,0,0,0,0,0,0,0,0,0,0,0,0,0,0,0,0,0,0,0,1,0,0,0,0,0,0,1,0,0,0,0,0,0,0,0,0,0,0,0,0,0,0,0,0,0,0,0,0,0,1,0,0,0,0,0,0,0,0,0,0,0,0,0,0,0,0,0,0,0,0,0,0,0,0,0,0,0,0,0,0,0,0,0,0,0,0,0,0,0,0,0,0,0,0,0,0,0,0,0,0,0,0,0,0,0,0,0,0,0,0,0,0,0,0,0,0,0,0,0,0,0,0,0,0,0,0,0,0,0,0,0,0,0,0,0,0,0,0,0,0,0,0,0,0,0,0,0,0,0,0,0,0,0,0,0,0,0,0,0,0,0]
[8,0,0,0,0,0,0,0,0,0,0,0,0,0,0,0,0,0,0,0,0,0,0,0,0,0,0,0,0,0,0,0,0,0,0,0,0,0,0,0,0,0,0,0,0,0,0,0,0,0,0,0,0,0,0,0,1,0,0,0,0,0,0,0,0,0,0,0,0,0,0,0,0,0,0,0,0,0,0,0,1,0,1,0,0,0,0,0,0,1,0,0,0,0,0,0,0,0,0,0,0,0,0,0,0,0,0,0,0,0,0,0,0,0,0,0,0,0,0,0,0,0,0,1,0,1,0,0,0,0,0,0,0,0,0,0,0,0,0,0,0,0,0,0,0,0,0,0,0,0,0,0,0,0,0,0,0,0,0,0,0,0,0,0,0,0,0,0,0,0,0,0,0,0,0,0,0,0,0,0,0,0,0,0,0,0,0,0,0,0,0,0,0,0,0,0,0,0,0,0,0,0,0,0,0,0,0,0,0,0,0,0,0,0,0,0,0,0,0,0,0,0,0,0,0,0,0,0,0,0,0]
[9,0,0,0,1,1,0,0,0,0,0,0,0,0,0,0,0,0,0,0,0,0,0,0,0,0,0,0,0,0,0,0,0,0,0,0,0,0,0,0,0,0,0,0,0,0,0,0,0,0,0,0,0,0,0,0,0,0,0,0,0,0,0,0,0,0,0,0,0,0,0,0,0,0,0,0,0,0,0,0,0,0,0,0,0,0,0,0,0,0,0,0,0,0,0,0,0,0,0,0,0,0,0,0,0,0,0,0,0,0,0,0,0,0,0,0,0,0,0,0,0,0,0,0,0,2,0,0,0,0,1,0,0,0,0,0,0,0,0,0,0,0,0,0,0,0,0,0,0,0,0,0,0,0,0,0,0,0,0,0,0,0,0,0,0,0,0,0,0,0,0,0,0,0,0,0,0,0,0,0,0,0,0,0,0,0,0,0,0,0,0,0,0,0,0,0,0,0,0,0,0,0,0,0,0,0,0,0,0,0,0,0,0,0,0,0,0,0,0,0,0,0,0,0,0,0,0,0,0,0,0]
[10,0,0,0,0,0,1,0,0,0,0,0,0,0,0,0,0,0,0,0,0,0,0,0,0,0,0,0,0,0,0,0,0,0,0,0,0,0,0,0,0,0,0,0,0,0,0,0,0,0,1,0,0,0,1,0,0,0,0,0,0,0,0,0,0,0,0,0,0,0,0,0,0,0,0,0,0,0,0,0,0,0,1,0,0,0,0,0,0,0,0,0,0,0,0,0,0,0,0,0,0,0,0,0,0,0,0,0,0,0,0,0,0,0,0,0,0,0,0,0,0,0,0,0,1,0,0,0,0,0,1,0,0,0,0,0,0,0,0,0,0,0,0,0,0,0,0,0,0,0,0,0,0,0,0,0,0,0,0,0,0,0,0,0,0,0,0,0,0,0,0,0,0,0,0,0,0,0,0,0,0,0,0,0,0,0,0,0,0,0,0,0,0,0,0,0,0,0,0,0,0,0,0,0,0,0,0,0,0,0,0,0,0,0,0,0,0,0,0,0,0,0,0,0,0,0,0,0,0,0,0]
[11,0,0,0,1,0,0,0,0,0,0,0,0,0,0,0,0,0,0,0,0,0,0,0,0,0,0,0,0,0,0,0,0,0,0,0,0,0,0,1,0,0,0,0,0,0,0,0,0,0,0,0,0,0,0,0,0,0,0,0,0,0,0,0,0,0,0,0,0,0,0,0,0,0,0,0,0,0,0,0,0,0,0,0,0,0,0,0,0,0,0,1,0,0,0,0,0,0,0,0,0,0,0,0,0,0,0,0,1,0,0,0,0,0,0,0,0,0,0,0,0,0,0,0,0,0,0,1,0,0,0,0,0,0,0,0,0,0,0,0,0,0,0,0,0,0,0,0,0,0,0,0,0,0,0,0,0,0,0,0,0,0,0,0,0,0,0,0,0,0,0,0,0,0,0,0,0,0,0,0,0,0,0,0,0,0,0,0,0,0,0,0,0,0,0,0,0,0,0,0,0,0,0,0,0,0,0,0,0,0,0,0,0,0,0,0,0,0,0,0,0,0,0,0,0,0,0,0,0,0,0]
["T",2,0,5,4,3,2,2,3,2,0,0,0,0,0,0,0,0,0,0,0,0,0,0,0,0,0,0,0,0,0,0,0,0,0,0,0,0,0,1,0,1,1,0,0,0,0,1,4,0,1,0,0,0,1,0,1,0,1,1,0,0,0,0,0,1,0,0,0,0,0,0,0,0,0,1,0,0,0,1,1,0,5,0,0,0,2,1,0,2,0,2,2,0,0,0,1,0,0,0,0,1,1,3,3,2,0,0,2,0,0,2,0,0,3,1,0,1,2,2,0,0,3,1,1,6,0,1,0,0,6,0,0,1,0,1,2,0,0,0,0,0,0,0,0,0,0,0,0,0,0,0,0,0,0,0,0,0,0,0,0,0,0,0,0,0,0,0,0,0,0,0,0,0,0,0,0,0,0,0,0,0,0,0,0,0,0,0,0,0,0,0,0,0,0,0,0,0,0,0,0,0,0,0,0,0,0,0,0,0,0,0,0,0,0,0,0,0,0,0,0,0,0,0,0,0,0,0,0,0,0]
[]
["TOTAL"]
[{"$f":"COUNT(A264:A275)","v":11},{"$f":"SUM(B264:B275)","v":4},{"$f":"SUM(C264:C275)","v":0},10,8,6,4,4,6,4,0,0,0,0,0,0,0,0,0,0,0,0,0,0,0,0,0,0,0,0,0,0,0,0,0,0,0,0,0,2,0,2,2,0,0,0,0,2,8,0,2,0,0,0,2,0,2,0,2,2,0,0,0,0,0,2,{"$f":"SUM(BO264:BO275)","v":0},0,0,0,0,0,0,0,0,2,0,0,0,2,2,0,10,0,0,0,4,2,0,4,0,4,4,0,0,0,2,0,0,0,0,2,2,6,6,4,0,0,4,0,0,4,0,0,6,2,0,2,4,4,0,0,6,2,2,12,0,2,0,0,{"$f":"SUM(EA264:EA275)","v":12},0,0,2,0,2,4,0,0,0,0,0,0,0,0,0,0,0,0,0,0,0,0,0,0,0,0,0,0,0,0,0,0,0,0,0,0,0,0,0,0,0,0,0,0,0,0,0,0,0,0,0,0,0,0,0,0,0,0,0,0,0,0,0,{"$f":"SUM(GM264:GM275)","v":0},0,0,0,0,0,0,0,0,0,0,0,0,0,0,0,0,0,0,0,0,0,0,0,0,0,0,0,0,0,0,0,0,0,0,0,0]
[{"$f":"CONCATENATE(A264,\"-\",A265,\"-\",A266,\"-\",A267,\"-\",A268,\"-\",A269,\"-\",A270,\"-\",A271,\"-\",A272,\"-\",A273,\"-\",A274,\"-\",A275)","v":"2-1-3-4-5-6-7-8-9-10-11-T"}]
[null," BAS001"," BAS002"," BAS003"," BAS004"," BAS005"," BAS006"," BAS007"," BAS008"," BAS009"," BAS010"," BAS011"," BAS012"," BAS013"," BAS014"," BAS015"," BAS016"," BAS017"," BAS018"," BAS019"," BAS020"," BAS021"," BAS022"," BAS023"," BAS024"," BAS025"," BAS026"," BAS027"," BAS028"," BAS029"," BAS030"," BAS031"," BAS032"," BAS033"," BAS034"," BAS035"," BAS036"," BAS037"," BAS038"," BAS039"," BAS040"," BAS041"," BAS042"," BAS043"," BAS044"," BAS045"," BAS046"," BAS047"," BAS048"," BAS049"," BAS050"," BAS051"," BAS052"," BAS053"," BAS054"," BAS055"," BAS056"," BAS057"," BAS058"," BAS059"," BAS060"," BAS061"," BAS062"," BAS063"," BAS064"," BAS065"," BAS066"," BAS067"," BAS068"," BAS069"," BAS070"," BAS071"," BAS072"," BAS073"," BAS074"," BAS075"," BAS076"," BAS077"," BAS078"," BAS079"," BAS080"," BAS081"," BAS082"," BAS083"," BAS084"," BAS085"," BAS086"," BAS087"," BAS088"," BAS089"," BAS090"," BAS091"," BAS092"," BAS093"," BAS094"," BAS095"," BAS096"," BAS097"," BAS098"," BAS099"," BAS100"," BAS101"," BAS102"," BAS103"," BAS104"," BAS105"," BAS106"," BAS107"," BAS108"," BAS109"," BAS110"," BAS111"," BAS112"," BAS113"," BAS114"," BAS115"," BAS116"," BAS117"," BAS118"," BAS119"," BAS120"," BAS121"," BAS122"," BAS123"," BAS124"," BAS125"," BAS126"," BAS127"," BAS128"," BAS129"," BAS130"," BAS131"," BAS132"," BAS133"," BAS134"," BAS135"," BAS136"," BAS137"," BAS138"," BAS139"," BAS140"," BAS141"," BAS142"," BAS143"," BAS144"," BAS145"," BAS146"," BAS147"," BAS148"," BAS149"," BAS150"," BAS151"," BAS152"," BAS153"," BAS154"," BAS155"," BAS156"," BAS157"," BAS158"," BAS159"," BAS160"," BAS161"," BAS162"," BAS163"," BAS164"," BAS165"," BAS166"," BAS167"," BAS168"," BAS169"," BAS170"," BAS171"," BAS172"," BAS173"," BAS174"," BAS175"," BAS176"," BAS177"," BAS178"," BAS179"," BAS180"," BAS181"," BAS182"," BAS183"," BAS184"," BAS185"," BAS186"," BAS187"," BAS188"," BAS189"," BAS190"," BAS191"," BAS192"," BAS193"," BAS194"," BAS195"," BAS196"," BAS197"," BAS198"," BAS199"," BAS200"," BAS201"," BAS202"," BAS203"," BAS204"," BAS205"," BAS206"," BAS207"," BAS208"," BAS209"," BAS210"," BAS211"," BAS212"," BAS213"," BAS214"," BAS215"," BAS216"," BAS217"," BAS218"," BAS219"," BAS220"," BAS221"," BAS222"," BAS223"," BAS224"," BAS225"," BAS226"," BAS227"," BAS228"," BAS229"," BAS230"]
[null,{"$f":"IF(B280=B263,\"SI\",\"NO\")","v":"SI"},{"$f":"IF(C280=C263,\"SI\",\"NO\")","v":"SI"},"SI","SI","SI","SI","SI","SI","SI","SI","SI","SI","SI","SI","SI","SI","SI","SI","SI","SI","SI","SI","SI","SI","SI","SI","SI","SI","SI","SI","SI","SI","SI","SI","SI","SI","SI","SI","SI","SI","SI","SI","SI","SI","SI","SI","SI","SI","SI","SI","SI","SI","SI","SI","SI","SI","SI","SI","SI","SI","SI","SI","SI","SI","SI",{"$f":"IF(BO280=BO263,\"SI\",\"NO\")","v":"SI"},"SI","SI","SI","SI","SI","SI","SI","SI","SI","SI","SI","SI","SI","SI","SI","SI","SI","SI","SI","SI","SI","SI","SI","SI","SI","SI","SI","SI","SI","SI","SI","SI","SI","SI","SI","SI","SI","SI","SI","SI","SI","SI","SI","SI","SI","SI","SI","SI","SI","SI","SI","SI","SI","SI","SI","SI","SI","SI","SI","SI","SI","SI","SI",{"$f":"IF(EA280=EA263,\"SI\",\"NO\")","v":"SI"},"SI","SI","SI","SI","SI","SI","SI","SI","SI","SI","SI","SI","SI","SI","SI","SI","SI","SI","SI","SI","SI","SI","SI","SI","SI","SI","SI","SI","SI","SI","SI","SI","SI","SI","SI","SI","SI","SI","SI","SI","SI","SI","SI","SI","SI","SI","SI","SI","SI","SI","SI","SI","SI","SI","SI","SI","SI","SI","SI","SI","SI","SI","SI",{"$f":"IF(GM280=GM263,\"SI\",\"NO\")","v":"SI"},"SI","SI","SI","SI","SI","SI","SI","SI","SI","SI","SI","SI","SI","SI","SI","SI","SI","SI","SI","SI","SI","SI","SI","SI","SI","SI","SI","SI","SI","SI","SI","SI","SI","SI","SI","SI"]
[]
[]
["EQUINOCOCOSIS"]
["anno",2024]
["cod_red","03"]
["codmic","(Todas)"]
["cod_prov","(Todas)"]
["coddist","(Todas)"]
["cod_estab","(Todas)"]
["cod_eje","(Todas)"]
[]
[null,"Valores"]
["Etiquetas de fila"," BAS001"," BAS002"," BAS003"," BAS004"," BAS005"," BAS006"," BAS007"," BAS008"," BAS009"," BAS010"," BAS011"," BAS012"," BAS013"," BAS014"," BAS015"," BAS016"," BAS017"," BAS018"," BAS019"," BAS020"," BAS021"," BAS022"," BAS023"," BAS024"," BAS025"," BAS026"," BAS027"," BAS028"," BAS029"," BAS030"," BAS031"," BAS032"," BAS033"," BAS034"," BAS035"," BAS036"," BAS037"," BAS038"," BAS039"," BAS040"," BAS041"," BAS042"," BAS043"," BAS044"," BAS045"," BAS046"," BAS047"," BAS048"," BAS049"," BAS050"," BAS051"," BAS052"," BAS053"," BAS054"," BAS055"," BAS056"," BAS057"," BAS058"," BAS059"," BAS060"," BAS061"," BAS062"," BAS063"," BAS064"," BAS065"," BAS066"," BAS067"," BAS068"," BAS069"," BAS070"," BAS071"," BAS072"," BAS073"," BAS074"," BAS075"," BAS076"," BAS077"," BAS078"," BAS079"," BAS080"," BAS081"," BAS082"," BAS083"," BAS084"," BAS085"," BAS086"," BAS087"," BAS088"," BAS089"," BAS090"," BAS091"," BAS092"," BAS093"," BAS094"," BAS095"," BAS096"," BAS097"," BAS098"," BAS099"," BAS100"," BAS101"," BAS102"," BAS103"," BAS104"," BAS105"," BAS106"," BAS107"," BAS108"," BAS109"," BAS110"," BAS111"," BAS112"," BAS113"," BAS114"," BAS115"," BAS116"," BAS117"," BAS118"," BAS119"," BAS120"," BAS121"," BAS122"," BAS123"," BAS124"," BAS125"," BAS126"," BAS127"," BAS128"," BAS129"," BAS130"," BAS131"," BAS132"," BAS133"," BAS134"," BAS135"," BAS136"," BAS137"," BAS138"," BAS139"," BAS140"," BAS141"," BAS142"," BAS143"," BAS144"," BAS145"," BAS146"," BAS147"," BAS148"," BAS149"," BAS150"," BAS151"," BAS152"," BAS153"," BAS154"," BAS155"," BAS156"," BAS157"," BAS158"," BAS159"," BAS160"," BAS161"," BAS162"," BAS163"," BAS164"," BAS165"," BAS166"," BAS167"," BAS168"," BAS169"," BAS170"," BAS171"," BAS172"," BAS173"," BAS174"," BAS175"," BAS176"," BAS177"," BAS178"," BAS179"," BAS180"," BAS181"," BAS182"," BAS183"," BAS184"," BAS185"," BAS186"," BAS187"," BAS188"," BAS189"," BAS190"," BAS191"," BAS192"," BAS193"," BAS194"," BAS195"," BAS196"," BAS197"," BAS198"," BAS199"," BAS200"," BAS201"," BAS202"," BAS203"," BAS204"," BAS205"," BAS206"," BAS207"," BAS208"," BAS209"," BAS210"," BAS211"," BAS212"," BAS213"," BAS214"," BAS215"," BAS216"," BAS217"," BAS218"," BAS219"," BAS220"," BAS221"," BAS222"," BAS223"," BAS224"," BAS225"," BAS226"," BAS227"," BAS228"," BAS229"," BAS230"]
[2,0,0,0,1,0,0,0,0,0,0,0,0,0,0,0,0,0,0,0,0,0,0,0,0,0,0,0,0,0,0,0,0,0,0,0,0,0,0,0,0,0,0,0,0,0,0,0,0,0,0,0,0,0,0,0,0,0,0,0,0,0,0,0,0,0,0,0,0,0,0,0,0,0,0,0,0,0,0,0,0,0,0,0,0,0,0,0,0,0,0,0,0,0,0,0,0,0,0,0,0,0,0,0,0,0,0,0,0,0,0,0,0,0,0,0,0,0,0,0,0,0,0,0,0,0,0,0,0,0,0,0,0,0,0,0,0,0,0,0,0,0,0,0,0,0,0,0,0,0,0,0,0,0,0,0,0,0,0,0,0,0,0,0,0,0,0,0,0,0,0,0,0,0,0,0,0,0,0,0,0,0,0,0,0,0,0,0,0,0,0,0,0,0,0,0,0,0,0,0,0,0,0,0,0,0,0,0,0,0,0,0,0,0,0,0,0,0,0,0,0,0,0,0,0,0,0,0,0,0,0]
[1,0,0,0,0,0,0,0,0,0,0,0,0,0,0,0,0,0,0,0,0,0,0,0,0,0,0,0,0,0,0,0,0,0,0,0,0,0,0,0,0,0,0,0,0,0,0,0,0,0,0,0,0,0,0,0,0,0,0,0,0,0,0,0,0,0,0,0,0,0,0,0,0,0,0,0,0,0,0,0,0,0,0,0,0,0,0,0,0,0,0,0,0,0,0,0,0,0,0,0,0,0,0,0,0,0,0,0,0,0,0,0,0,0,0,0,0,0,0,0,0,0,0,0,0,0,0,0,0,0,0,0,0,0,0,0,0,0,0,0,0,0,0,0,0,0,0,0,0,0,0,0,0,0,0,0,0,0,0,0,0,0,0,0,0,0,0,0,0,0,0,0,0,0,0,0,0,0,0,0,0,0,0,0,0,0,0,0,0,0,0,0,0,0,0,0,0,0,0,0,0,0,0,0,0,0,0,0,0,0,0,0,0,0,0,0,0,0,0,0,0,0,0,0,0,0,0,0,0,0,0]
[3,0,0,0,0,0,0,0,0,0,0,0,0,0,0,0,0,0,0,0,0,0,0,0,0,0,0,0,0,0,0,0,0,0,0,0,0,0,0,0,0,0,0,0,0,0,0,0,0,0,0,0,0,0,0,0,0,0,0,0,0,0,0,0,0,0,0,0,0,0,0,0,0,0,0,0,0,0,0,0,0,0,0,0,0,0,0,0,0,0,0,0,0,0,0,0,0,0,0,0,0,0,0,0,0,0,0,0,0,0,0,0,0,0,0,0,0,0,0,0,0,0,0,0,0,0,0,0,0,0,0,0,0,0,0,0,0,0,0,0,0,0,0,0,0,0,0,0,0,0,0,0,0,0,0,0,0,0,0,0,0,0,0,0,0,0,0,0,0,0,0,0,0,0,0,0,0,0,0,0,0,0,0,0,0,0,0,0,0,0,0,0,0,0,0,0,0,0,0,0,0,0,0,0,0,0,0,0,0,0,0,0,0,0,0,0,0,0,0,0,0,0,0,0,0,0,0,0,0,0,0]
[4,0,0,0,0,0,0,0,0,1,0,0,0,0,0,0,0,0,0,0,0,0,0,0,0,0,0,0,0,0,0,0,0,0,0,0,0,0,0,0,0,0,0,0,0,0,0,0,0,0,0,0,0,0,0,0,0,0,0,0,0,0,0,0,0,0,0,0,0,0,0,0,0,0,0,0,0,0,0,0,0,0,0,0,0,0,0,0,0,0,0,0,0,0,0,0,0,0,0,0,0,0,0,0,0,1,0,0,0,0,0,0,0,0,0,0,0,0,0,0,0,0,0,0,0,0,0,0,0,0,0,0,0,0,0,0,0,0,0,0,0,0,0,0,0,0,0,0,0,0,0,0,0,0,0,0,0,0,0,0,0,0,0,0,0,0,0,0,0,0,0,0,0,0,0,0,0,0,0,0,0,0,0,0,0,0,0,0,0,0,0,0,0,0,0,0,0,0,0,0,0,0,0,0,0,0,0,0,0,0,0,0,0,0,0,0,0,0,0,0,0,0,0,0,0,0,0,0,0,0,0]
[5,0,0,0,0,0,0,0,0,2,0,0,0,0,0,0,0,0,0,0,0,0,0,0,0,0,0,0,0,0,0,0,0,0,0,0,0,0,0,0,0,0,0,0,0,0,0,0,0,0,0,0,0,0,0,0,0,0,0,0,0,0,0,0,0,0,0,0,0,0,0,0,0,0,0,0,0,0,0,0,0,0,0,0,0,0,0,0,0,0,0,0,0,0,0,0,0,0,0,0,0,0,0,0,0,0,0,0,0,0,0,0,0,0,0,0,0,0,0,0,0,0,0,0,0,0,0,0,0,0,0,0,0,0,0,0,0,0,0,0,0,0,0,0,0,0,0,0,0,0,0,0,0,0,0,0,0,0,0,0,0,0,0,0,0,0,0,0,0,0,0,0,0,0,0,0,0,0,0,0,0,0,0,0,0,0,0,0,0,0,0,0,0,0,0,0,0,0,0,0,0,0,0,0,0,0,0,0,0,0,0,0,0,0,0,0,0,0,0,0,0,0,0,0,0,0,0,0,0,0,0]
[6,0,1,0,0,0,0,0,0,0,0,0,0,0,0,0,0,0,0,0,0,0,0,0,0,0,0,0,0,0,0,0,0,0,0,0,0,0,0,0,0,0,0,0,0,0,0,0,0,0,0,0,0,0,0,0,0,0,0,0,0,0,0,0,0,0,0,0,0,0,0,0,0,0,0,0,0,0,0,0,0,0,0,0,0,0,0,0,0,0,0,0,0,0,0,0,0,0,0,0,0,0,0,0,0,0,0,0,0,0,0,0,0,0,0,0,0,0,0,0,0,0,0,0,0,0,0,0,0,0,0,0,0,0,0,0,0,0,0,0,0,0,0,0,0,0,0,0,0,0,0,0,0,0,0,0,0,0,0,0,0,0,0,0,0,0,0,0,0,0,0,0,0,0,0,0,0,0,0,0,0,0,0,0,0,0,0,0,0,0,0,0,0,0,0,0,0,0,0,0,0,0,0,0,0,0,0,0,0,0,0,0,0,0,0,0,0,0,0,0,0,0,0,0,0,0,0,0,0,0,0]
[7,0,0,0,0,0,0,0,0,0,0,0,0,0,0,0,0,0,0,0,0,0,0,0,0,0,0,0,0,0,0,0,0,0,0,0,0,0,0,0,0,0,0,0,0,0,0,0,0,0,0,0,0,0,0,0,0,0,0,0,0,0,0,0,0,0,0,0,0,0,0,0,0,0,0,0,0,0,0,0,0,0,0,0,0,0,0,0,0,0,0,0,0,0,0,0,0,0,0,0,0,0,0,0,0,0,0,0,0,0,0,0,0,0,0,0,0,0,0,0,0,0,0,0,0,0,0,0,0,0,0,0,0,0,0,0,0,0,0,0,0,0,0,0,0,0,0,0,0,0,0,0,0,0,0,0,0,0,0,0,0,0,0,0,0,0,0,0,0,0,0,0,0,0,0,0,0,0,0,0,0,0,0,0,0,0,0,0,0,0,0,0,0,0,0,0,0,0,0,0,0,0,0,0,0,0,0,0,0,0,0,0,0,0,0,0,0,0,0,0,0,0,0,0,0,0,0,0,0,0,0]
[8,0,0,0,0,0,0,0,0,0,0,0,0,0,0,0,0,0,0,0,0,0,0,0,0,0,0,0,0,0,0,0,0,0,0,0,0,0,0,0,0,0,0,0,0,0,0,0,0,0,0,0,0,0,0,0,0,0,0,0,0,0,0,0,0,0,0,0,0,0,0,0,0,0,0,0,0,0,0,0,0,0,0,0,0,0,0,0,0,0,0,0,0,0,0,0,0,0,0,0,0,0,0,0,0,0,0,0,0,0,0,0,0,0,0,0,0,0,0,0,0,0,0,0,0,0,0,0,0,0,0,0,0,0,0,0,0,0,0,0,0,0,0,0,0,0,0,0,0,0,0,0,0,0,0,0,0,0,0,0,0,0,0,0,0,0,0,0,0,0,0,0,0,0,0,0,0,0,0,0,0,0,0,0,0,0,0,0,0,0,0,0,0,0,0,0,0,0,0,0,0,0,0,0,0,0,0,0,0,0,0,0,0,0,0,0,0,0,0,0,0,0,0,0,0,0,0,0,0,0,0]
[9,0,0,0,0,0,0,0,0,1,0,0,0,0,0,0,0,0,0,0,0,0,0,0,0,0,0,0,0,0,0,0,0,0,0,0,0,0,0,0,0,0,0,0,0,0,0,0,0,0,0,0,0,0,0,0,0,0,0,0,0,0,0,0,0,0,0,0,0,0,0,0,0,0,0,0,0,0,0,0,0,0,0,0,0,0,0,0,0,0,0,0,0,0,0,0,0,0,0,0,0,0,0,0,1,0,0,0,0,0,0,0,0,0,0,0,0,0,0,0,0,0,0,0,0,0,0,0,0,0,0,0,0,0,0,0,0,0,0,0,0,0,0,0,0,0,0,0,0,0,0,0,0,0,0,0,0,0,0,0,0,0,0,0,0,0,0,0,0,0,0,0,0,0,0,0,0,0,0,0,0,0,0,0,0,0,0,0,0,0,0,0,0,0,0,0,0,0,0,0,0,0,0,0,0,0,0,0,0,0,0,0,0,0,0,0,0,0,0,0,0,0,0,0,0,0,0,0,0,0,0]
[10,0,0,0,0,0,0,0,0,0,0,0,0,0,0,0,0,0,0,0,0,0,0,0,0,0,0,0,0,0,0,0,0,0,0,0,0,0,0,0,0,0,0,0,0,0,0,0,0,0,0,0,0,0,0,0,0,0,0,0,0,0,0,0,0,0,0,0,0,0,0,0,0,0,0,0,0,0,0,0,0,0,0,0,0,0,0,0,0,0,0,0,0,0,0,0,0,0,0,0,0,0,0,0,0,0,0,0,0,0,0,0,0,0,0,0,0,0,0,0,0,0,0,0,0,0,0,0,0,0,0,0,0,0,0,0,0,0,0,0,0,0,0,0,0,0,0,0,0,0,0,0,0,0,0,0,0,0,0,0,0,0,0,0,0,0,0,0,0,0,0,0,0,0,0,0,0,0,0,0,0,0,0,0,0,0,0,0,0,0,0,0,0,0,0,0,0,0,0,0,0,0,0,0,0,0,0,0,0,0,0,0,0,0,0,0,0,0,0,0,0,0,0,0,0,0,0,0,0,0,0]
[11,0,0,0,0,0,0,0,0,0,0,0,0,0,0,0,0,0,0,0,0,0,0,0,0,0,0,0,0,0,0,0,0,0,0,0,0,0,0,0,0,0,0,0,0,0,0,0,0,0,0,0,0,0,0,0,0,0,0,0,0,0,0,0,0,0,0,0,0,0,0,0,0,0,0,0,0,0,0,0,0,0,0,0,0,0,0,0,0,0,0,0,0,0,0,0,0,0,0,0,0,0,0,0,0,0,0,0,0,0,0,0,0,0,0,0,0,0,0,0,0,0,0,0,0,0,0,0,0,0,0,0,0,0,0,0,0,0,0,0,0,0,0,0,0,0,0,0,0,0,0,0,0,0,0,0,0,0,0,0,0,0,0,0,0,0,0,0,0,0,0,0,0,0,0,0,0,0,0,0,0,0,0,0,0,0,0,0,0,0,0,0,0,0,0,0,0,0,0,0,0,0,0,0,0,0,0,0,0,0,0,0,0,0,0,0,0,0,0,0,0,0,0,0,0,0,0,0,0,0,0]
["T",0,1,0,1,0,0,0,0,4,0,0,0,0,0,0,0,0,0,0,0,0,0,0,0,0,0,0,0,0,0,0,0,0,0,0,0,0,0,0,0,0,0,0,0,0,0,0,0,0,0,0,0,0,0,0,0,0,0,0,0,0,0,0,0,0,0,0,0,0,0,0,0,0,0,0,0,0,0,0,0,0,0,0,0,0,0,0,0,0,0,0,0,0,0,0,0,0,0,0,0,0,0,0,1,1,0,0,0,0,0,0,0,0,0,0,0,0,0,0,0,0,0,0,0,0,0,0,0,0,0,0,0,0,0,0,0,0,0,0,0,0,0,0,0,0,0,0,0,0,0,0,0,0,0,0,0,0,0,0,0,0,0,0,0,0,0,0,0,0,0,0,0,0,0,0,0,0,0,0,0,0,0,0,0,0,0,0,0,0,0,0,0,0,0,0,0,0,0,0,0,0,0,0,0,0,0,0,0,0,0,0,0,0,0,0,0,0,0,0,0,0,0,0,0,0,0,0,0,0,0]
[]
["TOTAL"]
[{"$f":"COUNT(A295:A306)","v":11},{"$f":"SUM(B295:B306)","v":0},{"$f":"SUM(C295:C306)","v":2},0,2,0,0,0,0,8,0,0,0,0,0,0,0,0,0,0,0,0,0,0,0,0,0,0,0,0,0,0,0,0,0,0,0,0,0,0,0,0,0,0,0,0,0,0,0,0,0,0,0,0,0,0,0,0,0,0,0,0,0,0,0,0,{"$f":"SUM(BO295:BO306)","v":0},0,0,0,0,0,0,0,0,0,0,0,0,0,0,0,0,0,0,0,0,0,0,0,0,0,0,0,0,0,0,0,0,0,0,0,0,0,2,2,0,0,0,0,0,0,0,0,0,0,0,0,0,0,0,0,0,0,0,0,0,0,0,0,{"$f":"SUM(EA295:EA306)","v":0},0,0,0,0,0,0,0,0,0,0,0,0,0,0,0,0,0,0,0,0,0,0,0,0,0,0,0,0,0,0,0,0,0,0,0,0,0,0,0,0,0,0,0,0,0,0,0,0,0,0,0,0,0,0,0,0,0,0,0,0,0,0,0,{"$f":"SUM(GM295:GM306)","v":0},0,0,0,0,0,0,0,0,0,0,0,0,0,0,0,0,0,0,0,0,0,0,0,0,0,0,0,0,0,0,0,0,0,0,0,0]
[{"$f":"CONCATENATE(A295,\"-\",A296,\"-\",A297,\"-\",A298,\"-\",A299,\"-\",A300,\"-\",A301,\"-\",A302,\"-\",A303,\"-\",A304,\"-\",A305,\"-\",A306)","v":"2-1-3-4-5-6-7-8-9-10-11-T"}]
[null," BAS001"," BAS002"," BAS003"," BAS004"," BAS005"," BAS006"," BAS007"," BAS008"," BAS009"," BAS010"," BAS011"," BAS012"," BAS013"," BAS014"," BAS015"," BAS016"," BAS017"," BAS018"," BAS019"," BAS020"," BAS021"," BAS022"," BAS023"," BAS024"," BAS025"," BAS026"," BAS027"," BAS028"," BAS029"," BAS030"," BAS031"," BAS032"," BAS033"," BAS034"," BAS035"," BAS036"," BAS037"," BAS038"," BAS039"," BAS040"," BAS041"," BAS042"," BAS043"," BAS044"," BAS045"," BAS046"," BAS047"," BAS048"," BAS049"," BAS050"," BAS051"," BAS052"," BAS053"," BAS054"," BAS055"," BAS056"," BAS057"," BAS058"," BAS059"," BAS060"," BAS061"," BAS062"," BAS063"," BAS064"," BAS065"," BAS066"," BAS067"," BAS068"," BAS069"," BAS070"," BAS071"," BAS072"," BAS073"," BAS074"," BAS075"," BAS076"," BAS077"," BAS078"," BAS079"," BAS080"," BAS081"," BAS082"," BAS083"," BAS084"," BAS085"," BAS086"," BAS087"," BAS088"," BAS089"," BAS090"," BAS091"," BAS092"," BAS093"," BAS094"," BAS095"," BAS096"," BAS097"," BAS098"," BAS099"," BAS100"," BAS101"," BAS102"," BAS103"," BAS104"," BAS105"," BAS106"," BAS107"," BAS108"," BAS109"," BAS110"," BAS111"," BAS112"," BAS113"," BAS114"," BAS115"," BAS116"," BAS117"," BAS118"," BAS119"," BAS120"," BAS121"," BAS122"," BAS123"," BAS124"," BAS125"," BAS126"," BAS127"," BAS128"," BAS129"," BAS130"," BAS131"," BAS132"," BAS133"," BAS134"," BAS135"," BAS136"," BAS137"," BAS138"," BAS139"," BAS140"," BAS141"," BAS142"," BAS143"," BAS144"," BAS145"," BAS146"," BAS147"," BAS148"," BAS149"," BAS150"," BAS151"," BAS152"," BAS153"," BAS154"," BAS155"," BAS156"," BAS157"," BAS158"," BAS159"," BAS160"," BAS161"," BAS162"," BAS163"," BAS164"," BAS165"," BAS166"," BAS167"," BAS168"," BAS169"," BAS170"," BAS171"," BAS172"," BAS173"," BAS174"," BAS175"," BAS176"," BAS177"," BAS178"," BAS179"," BAS180"," BAS181"," BAS182"," BAS183"," BAS184"," BAS185"," BAS186"," BAS187"," BAS188"," BAS189"," BAS190"," BAS191"," BAS192"," BAS193"," BAS194"," BAS195"," BAS196"," BAS197"," BAS198"," BAS199"," BAS200"," BAS201"," BAS202"," BAS203"," BAS204"," BAS205"," BAS206"," BAS207"," BAS208"," BAS209"," BAS210"," BAS211"," BAS212"," BAS213"," BAS214"," BAS215"," BAS216"," BAS217"," BAS218"," BAS219"," BAS220"," BAS221"," BAS222"," BAS223"," BAS224"," BAS225"," BAS226"," BAS227"," BAS228"," BAS229"," BAS230"]
[null,{"$f":"IF(B311=B294,\"SI\",\"NO\")","v":"SI"},{"$f":"IF(C311=C294,\"SI\",\"NO\")","v":"SI"},"SI","SI","SI","SI","SI","SI","SI","SI","SI","SI","SI","SI","SI","SI","SI","SI","SI","SI","SI","SI","SI","SI","SI","SI","SI","SI","SI","SI","SI","SI","SI","SI","SI","SI","SI","SI","SI","SI","SI","SI","SI","SI","SI","SI","SI","SI","SI","SI","SI","SI","SI","SI","SI","SI","SI","SI","SI","SI","SI","SI","SI","SI","SI",{"$f":"IF(BO311=BO294,\"SI\",\"NO\")","v":"SI"},"SI","SI","SI","SI","SI","SI","SI","SI","SI","SI","SI","SI","SI","SI","SI","SI","SI","SI","SI","SI","SI","SI","SI","SI","SI","SI","SI","SI","SI","SI","SI","SI","SI","SI","SI","SI","SI","SI","SI","SI","SI","SI","SI","SI","SI","SI","SI","SI","SI","SI","SI","SI","SI","SI","SI","SI","SI","SI","SI","SI","SI","SI","SI",{"$f":"IF(EA311=EA294,\"SI\",\"NO\")","v":"SI"},"SI","SI","SI","SI","SI","SI","SI","SI","SI","SI","SI","SI","SI","SI","SI","SI","SI","SI","SI","SI","SI","SI","SI","SI","SI","SI","SI","SI","SI","SI","SI","SI","SI","SI","SI","SI","SI","SI","SI","SI","SI","SI","SI","SI","SI","SI","SI","SI","SI","SI","SI","SI","SI","SI","SI","SI","SI","SI","SI","SI","SI","SI","SI",{"$f":"IF(GM311=GM294,\"SI\",\"NO\")","v":"SI"},"SI","SI","SI","SI","SI","SI","SI","SI","SI","SI","SI","SI","SI","SI","SI","SI","SI","SI","SI","SI","SI","SI","SI","SI","SI","SI","SI","SI","SI","SI","SI","SI","SI","SI","SI","SI"]
[]
[]
["FASCIOLA"]
["anno",2024]
["cod_red","03"]
["codmic","(Todas)"]
["cod_prov","(Todas)"]
["coddist","(Todas)"]
["cod_estab","(Todas)"]
["cod_eje","(Todas)"]
[]
[null,"Valores"]
["Etiquetas de fila"," BAS001"," BAS002"," BAS003"," BAS004"," BAS005"," BAS006"," BAS007"," BAS008"," BAS009"," BAS010"," BAS011"," BAS012"," BAS013"," BAS014"," BAS015"," BAS016"," BAS017"," BAS018"," BAS019"," BAS020"," BAS021"," BAS022"," BAS023"," BAS024"," BAS025"," BAS026"," BAS027"," BAS028"," BAS029"," BAS030"," BAS031"," BAS032"," BAS033"," BAS034"," BAS035"," BAS036"," BAS037"," BAS038"," BAS039"," BAS040"," BAS041"," BAS042"," BAS043"," BAS044"," BAS045"," BAS046"," BAS047"," BAS048"," BAS049"," BAS050"," BAS051"," BAS052"," BAS053"," BAS054"," BAS055"," BAS056"," BAS057"," BAS058"," BAS059"," BAS060"," BAS061"," BAS062"," BAS063"," BAS064"," BAS065"," BAS066"," BAS067"," BAS068"," BAS069"," BAS070"," BAS071"," BAS072"," BAS073"," BAS074"," BAS075"," BAS076"," BAS077"," BAS078"," BAS079"," BAS080"," BAS081"," BAS082"," BAS083"," BAS084"," BAS085"," BAS086"," BAS087"," BAS088"," BAS089"," BAS090"," BAS091"," BAS092"," BAS093"," BAS094"," BAS095"," BAS096"," BAS097"," BAS098"," BAS099"," BAS100"," BAS101"," BAS102"," BAS103"," BAS104"," BAS105"," BAS106"," BAS107"," BAS108"," BAS109"," BAS110"," BAS111"," BAS112"," BAS113"," BAS114"," BAS115"," BAS116"," BAS117"," BAS118"," BAS119"," BAS120"," BAS121"," BAS122"," BAS123"," BAS124"," BAS125"," BAS126"," BAS127"," BAS128"," BAS129"," BAS130"," BAS131"," BAS132"," BAS133"," BAS134"," BAS135"," BAS136"," BAS137"," BAS138"," BAS139"," BAS140"," BAS141"," BAS142"," BAS143"," BAS144"," BAS145"," BAS146"," BAS147"," BAS148"," BAS149"," BAS150"," BAS151"," BAS152"," BAS153"," BAS154"," BAS155"," BAS156"," BAS157"," BAS158"," BAS159"," BAS160"," BAS161"," BAS162"," BAS163"," BAS164"," BAS165"," BAS166"," BAS167"," BAS168"," BAS169"," BAS170"," BAS171"," BAS172"," BAS173"," BAS174"," BAS175"," BAS176"," BAS177"," BAS178"," BAS179"," BAS180"," BAS181"," BAS182"," BAS183"," BAS184"," BAS185"," BAS186"," BAS187"," BAS188"," BAS189"," BAS190"," BAS191"," BAS192"," BAS193"," BAS194"," BAS195"," BAS196"," BAS197"," BAS198"," BAS199"," BAS200"," BAS201"," BAS202"," BAS203"," BAS204"," BAS205"," BAS206"," BAS207"," BAS208"," BAS209"," BAS210"," BAS211"," BAS212"," BAS213"," BAS214"," BAS215"," BAS216"," BAS217"," BAS218"," BAS219"," BAS220"," BAS221"," BAS222"," BAS223"," BAS224"," BAS225"," BAS226"," BAS227"," BAS228"," BAS229"," BAS230"]
[2,0,0,0,0,0,0,0,0,0,0,0,0,0,0,0,0,0,0,0,0,0,0,0,0,0,0,0,0,0,0,0,0,0,0,0,0,0,0,0,0,0,0,0,0,0,0,0,0,0,0,0,0,0,0,0,0,0,0,0,0,0,0,0,0,0,0,0,0,0,0,0,0,0,0,0,0,0,0,0,0,0,0,0,0,0,0,0,0,0,0,0,0,0,0,0,0,0,0,0,0,0,0,0,0,0,0,0,0,0,0,0,0,0,0,0,0,0,0,0,0,0,0,0,0,0,0,0,0,0,0,0,0,0,0,0,0,0,0,0,0,0,0,0,0,0,0,0,0,0,0,0,0,0,0,0,0,0,0,0,0,0,0,0,0,0,0,0,0,0,0,0,0,0,0,0,0,0,0,0,0,0,0,0,0,0,0,0,0,0,0,0,0,0,0,0,0,0,0,0,0,0,0,0,0,0,0,0,0,0,0,0,0,0,0,0,0,0,0,0,0,0,0,0,0,0,0,0,0,0,0]
[1,0,0,0,0,0,0,0,0,0,0,0,0,0,0,0,0,0,0,0,0,0,0,0,0,0,0,0,0,0,0,0,0,0,0,0,0,0,0,0,0,0,0,0,0,0,0,0,0,0,0,0,0,0,0,0,0,0,0,0,0,0,0,0,0,0,0,0,0,0,0,0,0,0,0,0,0,0,0,0,0,0,0,0,0,0,0,0,0,0,0,0,0,0,0,0,0,0,0,0,0,0,0,0,0,0,0,0,0,0,0,0,0,0,0,0,0,0,0,0,0,0,0,0,0,0,0,0,0,0,0,0,0,0,0,0,0,0,0,0,0,0,0,0,0,0,0,0,0,0,0,0,0,0,0,0,0,0,0,0,0,0,0,0,0,0,0,0,0,0,0,0,0,0,0,0,0,0,0,0,0,0,0,0,0,0,0,0,0,0,0,0,0,0,0,0,0,0,0,0,0,0,0,0,0,0,0,0,0,0,0,0,0,0,0,0,0,0,0,0,0,0,0,0,0,0,0,0,0,0,0]
[3,0,0,0,0,0,0,0,0,0,0,0,0,0,0,0,0,0,0,0,0,0,0,0,0,0,0,0,0,0,0,0,0,0,0,0,0,0,0,0,0,0,0,0,0,0,0,0,0,0,0,0,0,0,0,0,0,0,0,0,0,0,0,0,0,0,0,0,0,0,0,0,0,0,0,0,0,0,0,0,0,0,0,0,0,0,0,0,0,0,0,0,0,0,0,0,0,0,0,0,0,0,0,0,0,0,0,0,0,0,0,0,0,0,0,0,0,0,0,0,0,0,0,0,0,0,0,0,0,0,0,0,0,0,0,0,0,0,0,0,0,0,0,0,0,0,0,0,0,0,0,0,0,0,0,0,0,0,0,0,0,0,0,0,0,0,0,0,0,0,0,0,0,0,0,0,0,0,0,0,0,0,0,0,0,0,0,0,0,0,0,0,0,0,0,0,0,0,0,0,0,0,0,0,0,0,0,0,0,0,0,0,0,0,0,0,0,0,0,0,0,0,0,0,0,0,0,0,0,0,0]
[4,0,0,0,0,0,0,0,0,0,0,0,0,0,0,0,0,0,0,0,0,0,0,0,0,0,0,0,0,0,0,0,0,0,0,0,0,0,0,0,0,0,0,0,0,0,0,0,0,0,0,0,0,0,0,0,0,0,0,0,0,0,0,0,0,0,0,0,0,0,0,0,0,0,0,0,0,0,0,0,0,0,0,0,0,0,0,0,0,0,0,0,0,0,0,0,0,0,0,0,0,0,0,0,0,0,0,0,0,0,0,0,0,0,0,0,0,0,0,0,0,0,0,0,0,0,0,0,0,0,0,0,0,0,0,0,0,0,0,0,0,0,0,0,0,0,0,0,0,0,0,0,0,0,0,0,0,0,0,0,0,0,0,0,0,0,0,0,0,0,0,0,0,0,0,0,0,0,0,0,0,0,0,0,0,0,0,0,0,0,0,0,0,0,0,0,0,0,0,0,0,0,0,0,0,0,0,0,0,0,0,0,0,0,0,0,0,0,0,0,0,0,0,0,0,0,0,0,0,0,0]
[5,0,0,0,0,0,0,0,0,0,0,0,0,0,0,0,0,0,0,0,0,0,0,0,0,0,0,0,0,0,0,0,0,0,0,0,0,0,0,0,0,0,0,0,0,0,0,0,0,0,0,0,0,0,0,0,0,0,0,0,0,0,0,0,0,0,0,0,0,0,0,0,0,0,0,0,0,0,0,0,0,0,0,0,0,0,0,0,0,0,0,0,0,0,0,0,0,0,0,0,0,0,0,0,0,0,0,0,0,0,0,0,0,0,0,0,0,0,0,0,0,0,0,0,0,0,0,0,0,0,0,0,0,0,0,0,0,0,0,0,0,0,0,0,0,0,0,0,0,0,0,0,0,0,0,0,0,0,0,0,0,0,0,0,0,0,0,0,0,0,0,0,0,0,0,0,0,0,0,0,0,0,0,0,0,0,0,0,0,0,0,0,0,0,0,0,0,0,0,0,0,0,0,0,0,0,0,0,0,0,0,0,0,0,0,0,0,0,0,0,0,0,0,0,0,0,0,0,0,0,0]
[6,0,0,0,0,0,0,0,0,0,0,0,0,0,0,0,0,0,0,0,0,0,0,0,0,0,0,0,0,0,0,0,0,0,0,0,0,0,0,0,0,0,0,0,0,0,0,0,0,0,0,0,0,0,0,0,0,0,0,0,0,0,0,0,0,0,0,0,0,0,0,0,0,0,0,0,0,0,0,0,0,0,0,0,0,0,0,0,0,0,0,0,0,0,0,0,0,0,0,0,0,0,0,0,0,0,0,0,0,0,0,0,0,0,0,0,0,0,0,0,0,0,0,0,0,0,0,0,0,0,0,0,0,0,0,0,0,0,0,0,0,0,0,0,0,0,0,0,0,0,0,0,0,0,0,0,0,0,0,0,0,0,0,0,0,0,0,0,0,0,0,0,0,0,0,0,0,0,0,0,0,0,0,0,0,0,0,0,0,0,0,0,0,0,0,0,0,0,0,0,0,0,0,0,0,0,0,0,0,0,0,0,0,0,0,0,0,0,0,0,0,0,0,0,0,0,0,0,0,0,0]
[7,0,0,0,0,0,0,0,0,0,0,0,0,0,0,0,0,0,0,0,0,0,0,0,0,0,0,0,0,0,0,0,0,0,0,0,0,0,0,0,0,0,0,0,0,0,0,0,0,0,0,0,0,0,0,0,0,0,0,0,0,0,0,0,0,0,0,0,0,0,0,0,0,0,0,0,0,0,0,0,0,0,0,0,0,0,0,0,0,0,0,0,0,0,0,0,0,0,0,0,0,0,0,0,0,0,0,0,0,0,0,0,0,0,0,0,0,0,0,0,0,0,0,0,0,0,0,0,0,0,0,0,0,0,0,0,0,0,0,0,0,0,0,0,0,0,0,0,0,0,0,0,0,0,0,0,0,0,0,0,0,0,0,0,0,0,0,0,0,0,0,0,0,0,0,0,0,0,0,0,0,0,0,0,0,0,0,0,0,0,0,0,0,0,0,0,0,0,0,0,0,0,0,0,0,0,0,0,0,0,0,0,0,0,0,0,0,0,0,0,0,0,0,0,0,0,0,0,0,0,0]
[8,0,0,0,0,0,0,0,0,0,0,0,0,0,0,0,0,0,0,0,0,0,0,0,0,0,0,0,0,0,0,0,0,0,0,0,0,0,0,0,0,0,0,0,0,0,0,0,0,0,0,0,0,0,0,0,0,0,0,0,0,0,0,0,0,0,0,0,0,0,0,0,0,0,0,0,0,0,0,0,0,0,0,0,0,0,0,0,0,0,0,0,0,0,0,0,0,0,0,0,0,0,0,0,0,0,0,0,0,0,0,0,0,0,0,0,0,0,0,0,0,0,0,0,0,0,0,0,0,0,0,0,0,0,0,0,0,0,0,0,0,0,0,0,0,0,0,0,0,0,0,0,0,0,0,0,0,0,0,0,0,0,0,0,0,0,0,0,0,0,0,0,0,0,0,0,0,0,0,0,0,0,0,0,0,0,0,0,0,0,0,0,0,0,0,0,0,0,0,0,0,0,0,0,0,0,0,0,0,0,0,0,0,0,0,0,0,0,0,0,0,0,0,0,0,0,0,0,0,0,0]
[9,0,0,0,0,0,0,0,0,0,0,0,0,0,0,0,0,0,0,0,0,0,0,0,0,0,0,0,0,0,0,0,0,0,0,0,0,0,0,0,0,0,0,0,0,0,0,0,0,0,0,0,0,0,0,0,0,0,0,0,0,0,0,0,0,0,0,0,0,0,0,0,0,0,0,0,0,0,0,0,0,0,0,0,0,0,0,0,0,0,0,0,0,0,0,0,0,0,0,0,0,0,0,0,0,0,0,0,0,0,0,0,0,0,0,0,0,0,0,0,0,0,0,0,0,0,0,0,0,0,0,0,0,0,0,0,0,0,0,0,0,0,0,0,0,0,0,0,0,0,0,0,0,0,0,0,0,0,0,0,0,0,0,0,0,0,0,0,0,0,0,0,0,0,0,0,0,0,0,0,0,0,0,0,0,0,0,0,0,0,0,0,0,0,0,0,0,0,0,0,0,0,0,0,0,0,0,0,0,0,0,0,0,0,0,0,0,0,0,0,0,0,0,0,0,0,0,0,0,0,0]
[10,0,0,0,0,0,0,0,0,0,0,0,0,0,0,0,0,0,0,0,0,0,0,0,0,0,0,0,0,0,0,0,0,0,0,0,0,0,0,0,0,0,0,0,0,0,0,0,0,0,0,0,0,0,0,0,0,0,0,0,0,0,0,0,0,0,0,0,0,0,0,0,0,0,0,0,0,0,0,0,0,0,0,0,0,0,0,0,0,0,0,0,0,0,0,0,0,0,0,0,0,0,0,0,0,0,0,0,0,0,0,0,0,0,0,0,0,0,0,0,0,0,0,0,0,0,0,0,0,0,0,0,0,0,0,0,0,0,0,0,0,0,0,0,0,0,0,0,0,0,0,0,0,0,0,0,0,0,0,0,0,0,0,0,0,0,0,0,0,0,0,0,0,0,0,0,0,0,0,0,0,0,0,0,0,0,0,0,0,0,0,0,0,0,0,0,0,0,0,0,0,0,0,0,0,0,0,0,0,0,0,0,0,0,0,0,0,0,0,0,0,0,0,0,0,0,0,0,0,0,0]
[11,0,0,0,0,0,0,0,0,0,0,0,0,0,0,0,0,0,0,0,0,0,0,0,0,0,0,0,0,0,0,0,0,0,0,0,0,0,0,0,0,0,0,0,0,0,0,0,0,0,0,0,0,0,0,0,0,0,0,0,0,0,0,0,0,0,0,0,0,0,0,0,0,0,0,0,0,0,0,0,0,0,0,0,0,0,0,0,0,0,0,0,0,0,0,0,0,0,0,0,0,0,0,0,0,0,0,0,0,0,0,0,0,0,0,0,0,0,0,0,0,0,0,0,0,0,0,0,0,0,0,0,0,0,0,0,0,0,0,0,0,0,0,0,0,0,0,0,0,0,0,0,0,0,0,0,0,0,0,0,0,0,0,0,0,0,0,0,0,0,0,0,0,0,0,0,0,0,0,0,0,0,0,0,0,0,0,0,0,0,0,0,0,0,0,0,0,0,0,0,0,0,0,0,0,0,0,0,0,0,0,0,0,0,0,0,0,0,0,0,0,0,0,0,0,0,0,0,0,0,0]
["T",0,0,0,0,0,0,0,0,0,0,0,0,0,0,0,0,0,0,0,0,0,0,0,0,0,0,0,0,0,0,0,0,0,0,0,0,0,0,0,0,0,0,0,0,0,0,0,0,0,0,0,0,0,0,0,0,0,0,0,0,0,0,0,0,0,0,0,0,0,0,0,0,0,0,0,0,0,0,0,0,0,0,0,0,0,0,0,0,0,0,0,0,0,0,0,0,0,0,0,0,0,0,0,0,0,0,0,0,0,0,0,0,0,0,0,0,0,0,0,0,0,0,0,0,0,0,0,0,0,0,0,0,0,0,0,0,0,0,0,0,0,0,0,0,0,0,0,0,0,0,0,0,0,0,0,0,0,0,0,0,0,0,0,0,0,0,0,0,0,0,0,0,0,0,0,0,0,0,0,0,0,0,0,0,0,0,0,0,0,0,0,0,0,0,0,0,0,0,0,0,0,0,0,0,0,0,0,0,0,0,0,0,0,0,0,0,0,0,0,0,0,0,0,0,0,0,0,0,0,0]
[]
["TOTAL"]
[{"$f":"COUNT(A326:A337)","v":11},{"$f":"SUM(B326:B337)","v":0},{"$f":"SUM(C326:C337)","v":0},0,0,0,0,0,0,0,0,0,0,0,0,0,0,0,0,0,0,0,0,0,0,0,0,0,0,0,0,0,0,0,0,0,0,0,0,0,0,0,0,0,0,0,0,0,0,0,0,0,0,0,0,0,0,0,0,0,0,0,0,0,0,0,{"$f":"SUM(BO326:BO337)","v":0},0,0,0,0,0,0,0,0,0,0,0,0,0,0,0,0,0,0,0,0,0,0,0,0,0,0,0,0,0,0,0,0,0,0,0,0,0,0,0,0,0,0,0,0,0,0,0,0,0,0,0,0,0,0,0,0,0,0,0,0,0,0,0,{"$f":"SUM(EA326:EA337)","v":0},0,0,0,0,0,0,0,0,0,0,0,0,0,0,0,0,0,0,0,0,0,0,0,0,0,0,0,0,0,0,0,0,0,0,0,0,0,0,0,0,0,0,0,0,0,0,0,0,0,0,0,0,0,0,0,0,0,0,0,0,0,0,0,{"$f":"SUM(GM326:GM337)","v":0},0,0,0,0,0,0,0,0,0,0,0,0,0,0,0,0,0,0,0,0,0,0,0,0,0,0,0,0,0,0,0,0,0,0,0,0]
[{"$f":"CONCATENATE(A326,\"-\",A327,\"-\",A328,\"-\",A329,\"-\",A330,\"-\",A331,\"-\",A332,\"-\",A333,\"-\",A334,\"-\",A335,\"-\",A336,\"-\",A337)","v":"2-1-3-4-5-6-7-8-9-10-11-T"}]
[null," BAS001"," BAS002"," BAS003"," BAS004"," BAS005"," BAS006"," BAS007"," BAS008"," BAS009"," BAS010"," BAS011"," BAS012"," BAS013"," BAS014"," BAS015"," BAS016"," BAS017"," BAS018"," BAS019"," BAS020"," BAS021"," BAS022"," BAS023"," BAS024"," BAS025"," BAS026"," BAS027"," BAS028"," BAS029"," BAS030"," BAS031"," BAS032"," BAS033"," BAS034"," BAS035"," BAS036"," BAS037"," BAS038"," BAS039"," BAS040"," BAS041"," BAS042"," BAS043"," BAS044"," BAS045"," BAS046"," BAS047"," BAS048"," BAS049"," BAS050"," BAS051"," BAS052"," BAS053"," BAS054"," BAS055"," BAS056"," BAS057"," BAS058"," BAS059"," BAS060"," BAS061"," BAS062"," BAS063"," BAS064"," BAS065"," BAS066"," BAS067"," BAS068"," BAS069"," BAS070"," BAS071"," BAS072"," BAS073"," BAS074"," BAS075"," BAS076"," BAS077"," BAS078"," BAS079"," BAS080"," BAS081"," BAS082"," BAS083"," BAS084"," BAS085"," BAS086"," BAS087"," BAS088"," BAS089"," BAS090"," BAS091"," BAS092"," BAS093"," BAS094"," BAS095"," BAS096"," BAS097"," BAS098"," BAS099"," BAS100"," BAS101"," BAS102"," BAS103"," BAS104"," BAS105"," BAS106"," BAS107"," BAS108"," BAS109"," BAS110"," BAS111"," BAS112"," BAS113"," BAS114"," BAS115"," BAS116"," BAS117"," BAS118"," BAS119"," BAS120"," BAS121"," BAS122"," BAS123"," BAS124"," BAS125"," BAS126"," BAS127"," BAS128"," BAS129"," BAS130"," BAS131"," BAS132"," BAS133"," BAS134"," BAS135"," BAS136"," BAS137"," BAS138"," BAS139"," BAS140"," BAS141"," BAS142"," BAS143"," BAS144"," BAS145"," BAS146"," BAS147"," BAS148"," BAS149"," BAS150"," BAS151"," BAS152"," BAS153"," BAS154"," BAS155"," BAS156"," BAS157"," BAS158"," BAS159"," BAS160"," BAS161"," BAS162"," BAS163"," BAS164"," BAS165"," BAS166"," BAS167"," BAS168"," BAS169"," BAS170"," BAS171"," BAS172"," BAS173"," BAS174"," BAS175"," BAS176"," BAS177"," BAS178"," BAS179"," BAS180"," BAS181"," BAS182"," BAS183"," BAS184"," BAS185"," BAS186"," BAS187"," BAS188"," BAS189"," BAS190"," BAS191"," BAS192"," BAS193"," BAS194"," BAS195"," BAS196"," BAS197"," BAS198"," BAS199"," BAS200"," BAS201"," BAS202"," BAS203"," BAS204"," BAS205"," BAS206"," BAS207"," BAS208"," BAS209"," BAS210"," BAS211"," BAS212"," BAS213"," BAS214"," BAS215"," BAS216"," BAS217"," BAS218"," BAS219"," BAS220"," BAS221"," BAS222"," BAS223"," BAS224"," BAS225"," BAS226"," BAS227"," BAS228"," BAS229"," BAS230"]
[null,{"$f":"IF(B342=B325,\"SI\",\"NO\")","v":"SI"},{"$f":"IF(C342=C325,\"SI\",\"NO\")","v":"SI"},"SI","SI","SI","SI","SI","SI","SI","SI","SI","SI","SI","SI","SI","SI","SI","SI","SI","SI","SI","SI","SI","SI","SI","SI","SI","SI","SI","SI","SI","SI","SI","SI","SI","SI","SI","SI","SI","SI","SI","SI","SI","SI","SI","SI","SI","SI","SI","SI","SI","SI","SI","SI","SI","SI","SI","SI","SI","SI","SI","SI","SI","SI","SI",{"$f":"IF(BO342=BO325,\"SI\",\"NO\")","v":"SI"},"SI","SI","SI","SI","SI","SI","SI","SI","SI","SI","SI","SI","SI","SI","SI","SI","SI","SI","SI","SI","SI","SI","SI","SI","SI","SI","SI","SI","SI","SI","SI","SI","SI","SI","SI","SI","SI","SI","SI","SI","SI","SI","SI","SI","SI","SI","SI","SI","SI","SI","SI","SI","SI","SI","SI","SI","SI","SI","SI","SI","SI","SI","SI",{"$f":"IF(EA342=EA325,\"SI\",\"NO\")","v":"SI"},"SI","SI","SI","SI","SI","SI","SI","SI","SI","SI","SI","SI","SI","SI","SI","SI","SI","SI","SI","SI","SI","SI","SI","SI","SI","SI","SI","SI","SI","SI","SI","SI","SI","SI","SI","SI","SI","SI","SI","SI","SI","SI","SI","SI","SI","SI","SI","SI","SI","SI","SI","SI","SI","SI","SI","SI","SI","SI","SI","SI","SI","SI","SI",{"$f":"IF(GM342=GM325,\"SI\",\"NO\")","v":"SI"},"SI","SI","SI","SI","SI","SI","SI","SI","SI","SI","SI","SI","SI","SI","SI","SI","SI","SI","SI","SI","SI","SI","SI","SI","SI","SI","SI","SI","SI","SI","SI","SI","SI","SI","SI","SI"]
[]
[]
["LEPTOSPIROSIS"]
["anno",2024]
["cod_red","03"]
["codmic","(Todas)"]
["cod_prov","(Todas)"]
["coddist","(Todas)"]
["cod_estab","(Todas)"]
["cod_eje","(Todas)"]
[]
[null,"Valores"]
["Etiquetas de fila"," BAS001"," BAS002"," BAS003"," BAS004"," BAS005"," BAS006"," BAS007"," BAS008"," BAS009"," BAS010"," BAS011"," BAS012"," BAS013"," BAS014"," BAS015"," BAS016"," BAS017"," BAS018"," BAS019"," BAS020"," BAS021"," BAS022"," BAS023"," BAS024"," BAS025"," BAS026"," BAS027"," BAS028"," BAS029"," BAS030"," BAS031"," BAS032"," BAS033"," BAS034"," BAS035"," BAS036"," BAS037"," BAS038"," BAS039"," BAS040"," BAS041"," BAS042"," BAS043"," BAS044"," BAS045"," BAS046"," BAS047"," BAS048"," BAS049"," BAS050"," BAS051"," BAS052"," BAS053"," BAS054"," BAS055"," BAS056"," BAS057"," BAS058"," BAS059"," BAS060"," BAS061"," BAS062"," BAS063"," BAS064"," BAS065"," BAS066"," BAS067"," BAS068"," BAS069"," BAS070"," BAS071"," BAS072"," BAS073"," BAS074"," BAS075"," BAS076"," BAS077"," BAS078"," BAS079"," BAS080"," BAS081"," BAS082"," BAS083"," BAS084"," BAS085"," BAS086"," BAS087"," BAS088"," BAS089"," BAS090"," BAS091"," BAS092"," BAS093"," BAS094"," BAS095"," BAS096"," BAS097"," BAS098"," BAS099"," BAS100"," BAS101"," BAS102"," BAS103"," BAS104"," BAS105"," BAS106"," BAS107"," BAS108"," BAS109"," BAS110"," BAS111"," BAS112"," BAS113"," BAS114"," BAS115"," BAS116"," BAS117"," BAS118"," BAS119"," BAS120"," BAS121"," BAS122"," BAS123"," BAS124"," BAS125"," BAS126"," BAS127"," BAS128"," BAS129"," BAS130"," BAS131"," BAS132"," BAS133"," BAS134"," BAS135"," BAS136"," BAS137"," BAS138"," BAS139"," BAS140"," BAS141"," BAS142"," BAS143"," BAS144"," BAS145"," BAS146"," BAS147"," BAS148"," BAS149"," BAS150"," BAS151"," BAS152"," BAS153"," BAS154"," BAS155"," BAS156"," BAS157"," BAS158"," BAS159"," BAS160"," BAS161"," BAS162"," BAS163"," BAS164"," BAS165"," BAS166"," BAS167"," BAS168"," BAS169"," BAS170"," BAS171"," BAS172"," BAS173"," BAS174"," BAS175"," BAS176"," BAS177"," BAS178"," BAS179"," BAS180"," BAS181"," BAS182"," BAS183"," BAS184"," BAS185"," BAS186"," BAS187"," BAS188"," BAS189"," BAS190"," BAS191"," BAS192"," BAS193"," BAS194"," BAS195"," BAS196"," BAS197"," BAS198"," BAS199"," BAS200"," BAS201"," BAS202"," BAS203"," BAS204"," BAS205"," BAS206"," BAS207"," BAS208"," BAS209"," BAS210"," BAS211"," BAS212"," BAS213"," BAS214"," BAS215"," BAS216"," BAS217"," BAS218"," BAS219"," BAS220"," BAS221"," BAS222"," BAS223"," BAS224"," BAS225"," BAS226"," BAS227"," BAS228"," BAS229"," BAS230"]
[2,0,0,0,0,0,0,0,0,0,0,0,0,0,0,0,1,0,0,0,0,0,0,0,0,0,0,0,0,0,0,0,0,0,0,0,0,0,0,0,0,0,0,0,0,0,0,0,0,0,0,0,0,0,0,0,0,0,0,0,0,0,0,0,0,0,0,0,0,0,0,0,0,0,0,0,0,0,0,0,0,0,0,0,0,0,0,0,0,0,0,0,0,0,0,0,0,0,0,0,0,0,0,0,0,0,0,0,0,0,0,0,0,0,0,0,0,0,0,0,0,0,0,0,0,0,0,0,0,0,0,0,0,0,0,0,0,0,0,0,0,0,0,0,0,0,0,0,0,0,0,0,0,0,0,0,0,0,0,0,0,0,0,0,0,0,0,0,0,0,0,0,0,0,0,0,0,0,0,0,0,0,0,0,0,0,0,0,0,0,0,0,0,0,0,0,0,0,0,0,0,0,0,0,0,0,0,0,0,0,0,0,0,0,0,0,0,0,0,0,0,0,0,0,0,0,0,0,0,0,0]
[1,0,0,0,0,0,0,0,0,0,0,0,0,0,0,1,1,0,0,0,0,0,0,0,0,0,0,0,0,0,0,0,0,0,0,0,0,0,0,0,0,0,0,0,0,0,0,0,0,0,0,0,0,0,0,0,0,0,0,0,0,0,0,0,0,0,0,0,0,0,0,0,0,0,0,0,0,0,0,0,0,0,0,0,0,0,0,0,0,0,0,0,0,0,0,0,0,0,0,0,0,0,0,0,0,0,0,0,0,0,0,0,0,0,0,0,0,0,0,0,0,0,0,0,0,0,0,0,0,0,0,0,0,0,0,0,0,0,0,0,0,0,0,0,0,0,0,0,0,0,0,0,0,0,0,0,0,0,0,0,0,0,0,0,0,0,0,0,0,0,0,0,0,0,0,0,0,0,0,0,0,0,0,0,0,0,0,0,0,0,0,0,0,0,0,0,0,0,0,0,0,0,0,0,0,0,0,0,0,0,0,0,0,0,0,0,0,0,0,0,0,0,0,0,0,0,0,0,0,0,0]
[3,0,0,0,0,0,0,0,0,0,0,0,0,0,0,1,0,0,0,0,0,0,0,0,0,0,0,0,0,0,0,0,0,0,0,0,0,0,0,0,0,0,0,0,0,0,0,0,0,0,0,0,0,0,0,0,0,0,0,0,0,0,0,0,0,0,0,0,0,0,0,0,0,0,0,0,0,0,0,0,0,0,0,0,0,0,0,0,0,0,0,0,0,0,0,0,0,0,0,0,0,0,0,0,0,0,0,0,0,0,0,0,0,0,0,0,0,0,0,0,0,0,0,0,0,0,0,0,0,0,0,0,0,0,0,0,0,0,0,0,0,0,0,0,0,0,0,0,0,0,0,0,0,0,0,0,0,0,0,0,0,0,0,0,0,0,0,0,0,0,0,0,0,0,0,0,0,0,0,0,0,0,0,0,0,0,0,0,0,0,0,0,0,0,0,0,0,0,0,0,0,0,0,0,0,0,0,0,0,0,0,0,0,0,0,0,0,0,0,0,0,0,0,0,0,0,0,0,0,0,0]
[4,0,0,0,0,0,0,0,0,0,0,0,0,0,0,2,2,0,0,2,1,1,0,0,0,0,0,0,0,0,0,0,0,0,0,0,0,0,0,0,0,0,0,0,0,0,0,0,0,0,0,0,0,0,0,0,0,0,0,0,0,0,0,0,0,0,0,0,0,0,0,0,0,0,0,0,0,0,0,0,0,0,0,0,0,0,0,0,0,0,0,0,0,0,0,0,0,0,0,0,0,0,0,0,0,0,0,0,0,0,0,0,0,0,0,0,0,0,0,0,0,0,0,0,0,0,0,0,0,0,0,0,0,0,0,0,0,0,0,0,0,0,0,0,0,0,0,0,0,0,0,0,0,0,0,0,0,0,0,0,0,0,0,0,0,0,0,0,0,0,0,0,0,0,0,0,0,0,0,0,0,0,0,0,0,0,0,0,0,0,0,0,0,0,0,0,0,0,0,0,0,0,0,0,0,0,0,0,0,0,0,0,0,0,0,0,0,0,0,0,0,0,0,0,0,0,0,0,0,0,0]
[5,0,0,0,0,0,0,0,0,0,0,0,4,0,3,6,6,2,0,3,9,7,0,0,0,0,0,0,0,0,0,0,0,0,0,0,0,0,0,0,0,0,0,0,0,0,0,0,0,0,0,0,0,0,0,0,0,0,0,0,0,0,0,0,0,0,0,0,0,0,0,0,0,0,0,0,0,0,0,0,0,0,0,0,0,0,0,0,0,0,0,0,0,0,0,0,0,0,0,0,0,0,0,0,0,0,0,0,0,0,0,0,0,0,0,0,0,0,0,0,0,0,0,0,0,0,0,0,0,0,0,0,0,0,0,0,0,0,0,0,0,0,0,0,0,0,0,0,0,0,0,0,0,0,0,0,0,0,0,0,0,0,0,0,0,0,0,0,0,0,0,0,0,0,0,0,0,0,0,0,0,0,0,0,0,0,0,0,0,0,0,0,0,0,0,0,0,0,0,0,0,0,0,0,0,0,0,0,0,0,0,0,0,0,0,0,0,0,0,0,0,0,0,0,0,0,0,0,0,0,0]
[6,0,0,0,0,0,0,0,0,0,0,0,1,0,1,1,3,0,0,1,3,2,0,0,0,0,0,0,0,0,0,0,0,0,0,0,0,0,0,0,0,0,0,0,0,0,0,0,0,0,0,0,0,0,0,0,0,0,0,0,0,0,0,0,0,0,0,0,0,0,0,0,0,0,0,0,0,0,0,0,0,0,0,0,0,0,0,0,0,0,0,0,0,0,0,0,0,0,0,0,0,0,0,0,0,0,0,0,0,0,0,0,0,0,0,0,0,0,0,0,0,0,0,0,0,0,0,0,0,0,0,0,0,0,0,0,0,0,0,0,0,0,0,0,0,0,0,0,0,0,0,0,0,0,0,0,0,0,0,0,0,0,0,0,0,0,0,0,0,0,0,0,0,0,0,0,0,0,0,0,0,0,0,0,0,0,0,0,0,0,0,0,0,0,0,0,0,0,0,0,0,0,0,0,0,0,0,0,0,0,0,0,0,0,0,0,0,0,0,0,0,0,0,0,0,0,0,0,0,0,0]
[7,0,0,0,0,0,0,0,0,0,0,0,0,0,0,1,3,0,0,0,1,2,0,0,0,0,0,0,0,0,0,0,0,0,0,0,0,0,0,0,0,0,0,0,0,0,0,0,0,0,0,0,0,0,0,0,0,0,0,0,0,0,0,0,0,0,0,0,0,0,0,0,0,0,0,0,0,0,0,0,0,0,0,0,0,0,0,0,0,0,0,0,0,0,0,0,0,0,0,0,0,0,0,0,0,0,0,0,0,0,0,0,0,0,0,0,0,0,0,0,0,0,0,0,0,0,0,0,0,0,0,0,0,0,0,0,0,0,0,0,0,0,0,0,0,0,0,0,0,0,0,0,0,0,0,0,0,0,0,0,0,0,0,0,0,0,0,0,0,0,0,0,0,0,0,0,0,0,0,0,0,0,0,0,0,0,0,0,0,0,0,0,0,0,0,0,0,0,0,0,0,0,0,0,0,0,0,0,0,0,0,0,0,0,0,0,0,0,0,0,0,0,0,0,0,0,0,0,0,0,0]
[8,0,0,0,0,0,0,0,0,0,0,0,0,0,0,1,3,1,3,2,1,1,0,0,0,0,0,0,0,0,0,0,0,0,0,0,0,0,0,0,0,0,0,0,0,0,0,0,0,0,0,0,0,0,0,0,0,0,0,0,0,0,0,0,0,0,0,0,0,0,0,0,0,0,0,0,0,0,0,0,0,0,0,0,0,0,0,0,0,0,0,0,0,0,0,0,0,0,0,0,0,0,0,0,0,0,0,0,0,0,0,0,0,0,0,0,0,0,0,0,0,0,0,0,0,0,0,0,0,0,0,0,0,0,0,0,0,0,0,0,0,0,0,0,0,0,0,0,0,0,0,0,0,0,0,0,0,0,0,0,0,0,0,0,0,0,0,0,0,0,0,0,0,0,0,0,0,0,0,0,0,0,0,0,0,0,0,0,0,0,0,0,0,0,0,0,0,0,0,0,0,0,0,0,0,0,0,0,0,0,0,0,0,0,0,0,0,0,0,0,0,0,0,0,0,0,0,0,0,0,0]
[9,0,0,0,0,0,0,0,0,0,0,0,0,1,1,0,0,0,0,0,0,0,0,0,0,0,0,0,0,0,0,0,0,0,0,0,0,0,0,0,0,0,0,0,0,0,0,0,0,0,0,0,0,0,0,0,0,0,0,0,0,0,0,0,0,0,0,0,0,0,0,0,0,0,0,0,0,0,0,0,0,0,0,0,0,0,0,0,0,0,0,0,0,0,0,0,0,0,0,0,0,0,0,0,0,0,0,0,0,0,0,0,0,0,0,0,0,0,0,0,0,0,0,0,0,0,0,0,0,0,0,0,0,0,0,0,0,0,0,0,0,0,0,0,0,0,0,0,0,0,0,0,0,0,0,0,0,0,0,0,0,0,0,0,0,0,0,0,0,0,0,0,0,0,0,0,0,0,0,0,0,0,0,0,0,0,0,0,0,0,0,0,0,0,0,0,0,0,0,0,0,0,0,0,0,0,0,0,0,0,0,0,0,0,0,0,0,0,0,0,0,0,0,0,0,0,0,0,0,0,0]
[10,0,0,0,0,0,0,0,0,0,0,0,0,1,0,1,0,0,0,0,0,2,0,0,0,0,0,0,0,0,0,0,0,0,0,0,0,0,0,0,0,0,0,0,0,0,0,0,0,0,0,0,0,0,0,0,0,0,0,0,0,0,0,0,0,0,0,0,0,0,0,0,0,0,0,0,0,0,0,0,0,0,0,0,0,0,0,0,0,0,0,0,0,0,0,0,0,0,0,0,0,0,0,0,0,0,0,0,0,0,0,0,0,0,0,0,0,0,0,0,0,0,0,0,0,0,0,0,0,0,0,0,0,0,0,0,0,0,0,0,0,0,0,0,0,0,0,0,0,0,0,0,0,0,0,0,0,0,0,0,0,0,0,0,0,0,0,0,0,0,0,0,0,0,0,0,0,0,0,0,0,0,0,0,0,0,0,0,0,0,0,0,0,0,0,0,0,0,0,0,0,0,0,0,0,0,0,0,0,0,0,0,0,0,0,0,0,0,0,0,0,0,0,0,0,0,0,0,0,0,0]
[11,0,0,0,0,0,0,0,0,0,0,0,0,0,0,2,0,0,0,1,0,0,0,0,0,0,0,0,0,0,0,0,0,0,0,0,0,0,0,0,0,0,0,0,0,0,0,0,0,0,0,0,0,0,0,0,0,0,0,0,0,0,0,0,0,0,0,0,0,0,0,0,0,0,0,0,0,0,0,0,0,0,0,0,0,0,0,0,0,0,0,0,0,0,0,0,0,0,0,0,0,0,0,0,0,0,0,0,0,0,0,0,0,0,0,0,0,0,0,0,0,0,0,0,0,0,0,0,0,0,0,0,0,0,0,0,0,0,0,0,0,0,0,0,0,0,0,0,0,0,0,0,0,0,0,0,0,0,0,0,0,0,0,0,0,0,0,0,0,0,0,0,0,0,0,0,0,0,0,0,0,0,0,0,0,0,0,0,0,0,0,0,0,0,0,0,0,0,0,0,0,0,0,0,0,0,0,0,0,0,0,0,0,0,0,0,0,0,0,0,0,0,0,0,0,0,0,0,0,0,0]
["T",0,0,0,0,0,0,0,0,0,0,0,5,2,5,16,19,3,3,9,15,15,0,0,0,0,0,0,0,0,0,0,0,0,0,0,0,0,0,0,0,0,0,0,0,0,0,0,0,0,0,0,0,0,0,0,0,0,0,0,0,0,0,0,0,0,0,0,0,0,0,0,0,0,0,0,0,0,0,0,0,0,0,0,0,0,0,0,0,0,0,0,0,0,0,0,0,0,0,0,0,0,0,0,0,0,0,0,0,0,0,0,0,0,0,0,0,0,0,0,0,0,0,0,0,0,0,0,0,0,0,0,0,0,0,0,0,0,0,0,0,0,0,0,0,0,0,0,0,0,0,0,0,0,0,0,0,0,0,0,0,0,0,0,0,0,0,0,0,0,0,0,0,0,0,0,0,0,0,0,0,0,0,0,0,0,0,0,0,0,0,0,0,0,0,0,0,0,0,0,0,0,0,0,0,0,0,0,0,0,0,0,0,0,0,0,0,0,0,0,0,0,0,0,0,0,0,0,0,0,0]
[]
["TOTAL"]
[{"$f":"COUNT(A357:A368)","v":11},{"$f":"SUM(B357:B368)","v":0},{"$f":"SUM(C357:C368)","v":0},0,0,0,0,0,0,0,0,0,10,4,10,32,38,6,6,18,30,30,0,0,0,0,0,0,0,0,0,0,0,0,0,0,0,0,0,0,0,0,0,0,0,0,0,0,0,0,0,0,0,0,0,0,0,0,0,0,0,0,0,0,0,0,{"$f":"SUM(BO357:BO368)","v":0},0,0,0,0,0,0,0,0,0,0,0,0,0,0,0,0,0,0,0,0,0,0,0,0,0,0,0,0,0,0,0,0,0,0,0,0,0,0,0,0,0,0,0,0,0,0,0,0,0,0,0,0,0,0,0,0,0,0,0,0,0,0,0,{"$f":"SUM(EA357:EA368)","v":0},0,0,0,0,0,0,0,0,0,0,0,0,0,0,0,0,0,0,0,0,0,0,0,0,0,0,0,0,0,0,0,0,0,0,0,0,0,0,0,0,0,0,0,0,0,0,0,0,0,0,0,0,0,0,0,0,0,0,0,0,0,0,0,{"$f":"SUM(GM357:GM368)","v":0},0,0,0,0,0,0,0,0,0,0,0,0,0,0,0,0,0,0,0,0,0,0,0,0,0,0,0,0,0,0,0,0,0,0,0,0]
[{"$f":"CONCATENATE(A357,\"-\",A358,\"-\",A359,\"-\",A360,\"-\",A361,\"-\",A362,\"-\",A363,\"-\",A364,\"-\",A365,\"-\",A366,\"-\",A367,\"-\",A368)","v":"2-1-3-4-5-6-7-8-9-10-11-T"}]
[null," BAS001"," BAS002"," BAS003"," BAS004"," BAS005"," BAS006"," BAS007"," BAS008"," BAS009"," BAS010"," BAS011"," BAS012"," BAS013"," BAS014"," BAS015"," BAS016"," BAS017"," BAS018"," BAS019"," BAS020"," BAS021"," BAS022"," BAS023"," BAS024"," BAS025"," BAS026"," BAS027"," BAS028"," BAS029"," BAS030"," BAS031"," BAS032"," BAS033"," BAS034"," BAS035"," BAS036"," BAS037"," BAS038"," BAS039"," BAS040"," BAS041"," BAS042"," BAS043"," BAS044"," BAS045"," BAS046"," BAS047"," BAS048"," BAS049"," BAS050"," BAS051"," BAS052"," BAS053"," BAS054"," BAS055"," BAS056"," BAS057"," BAS058"," BAS059"," BAS060"," BAS061"," BAS062"," BAS063"," BAS064"," BAS065"," BAS066"," BAS067"," BAS068"," BAS069"," BAS070"," BAS071"," BAS072"," BAS073"," BAS074"," BAS075"," BAS076"," BAS077"," BAS078"," BAS079"," BAS080"," BAS081"," BAS082"," BAS083"," BAS084"," BAS085"," BAS086"," BAS087"," BAS088"," BAS089"," BAS090"," BAS091"," BAS092"," BAS093"," BAS094"," BAS095"," BAS096"," BAS097"," BAS098"," BAS099"," BAS100"," BAS101"," BAS102"," BAS103"," BAS104"," BAS105"," BAS106"," BAS107"," BAS108"," BAS109"," BAS110"," BAS111"," BAS112"," BAS113"," BAS114"," BAS115"," BAS116"," BAS117"," BAS118"," BAS119"," BAS120"," BAS121"," BAS122"," BAS123"," BAS124"," BAS125"," BAS126"," BAS127"," BAS128"," BAS129"," BAS130"," BAS131"," BAS132"," BAS133"," BAS134"," BAS135"," BAS136"," BAS137"," BAS138"," BAS139"," BAS140"," BAS141"," BAS142"," BAS143"," BAS144"," BAS145"," BAS146"," BAS147"," BAS148"," BAS149"," BAS150"," BAS151"," BAS152"," BAS153"," BAS154"," BAS155"," BAS156"," BAS157"," BAS158"," BAS159"," BAS160"," BAS161"," BAS162"," BAS163"," BAS164"," BAS165"," BAS166"," BAS167"," BAS168"," BAS169"," BAS170"," BAS171"," BAS172"," BAS173"," BAS174"," BAS175"," BAS176"," BAS177"," BAS178"," BAS179"," BAS180"," BAS181"," BAS182"," BAS183"," BAS184"," BAS185"," BAS186"," BAS187"," BAS188"," BAS189"," BAS190"," BAS191"," BAS192"," BAS193"," BAS194"," BAS195"," BAS196"," BAS197"," BAS198"," BAS199"," BAS200"," BAS201"," BAS202"," BAS203"," BAS204"," BAS205"," BAS206"," BAS207"," BAS208"," BAS209"," BAS210"," BAS211"," BAS212"," BAS213"," BAS214"," BAS215"," BAS216"," BAS217"," BAS218"," BAS219"," BAS220"," BAS221"," BAS222"," BAS223"," BAS224"," BAS225"," BAS226"," BAS227"," BAS228"," BAS229"," BAS230"]
[null,{"$f":"IF(B373=B356,\"SI\",\"NO\")","v":"SI"},{"$f":"IF(C373=C356,\"SI\",\"NO\")","v":"SI"},"SI","SI","SI","SI","SI","SI","SI","SI","SI","SI","SI","SI","SI","SI","SI","SI","SI","SI","SI","SI","SI","SI","SI","SI","SI","SI","SI","SI","SI","SI","SI","SI","SI","SI","SI","SI","SI","SI","SI","SI","SI","SI","SI","SI","SI","SI","SI","SI","SI","SI","SI","SI","SI","SI","SI","SI","SI","SI","SI","SI","SI","SI","SI",{"$f":"IF(BO373=BO356,\"SI\",\"NO\")","v":"SI"},"SI","SI","SI","SI","SI","SI","SI","SI","SI","SI","SI","SI","SI","SI","SI","SI","SI","SI","SI","SI","SI","SI","SI","SI","SI","SI","SI","SI","SI","SI","SI","SI","SI","SI","SI","SI","SI","SI","SI","SI","SI","SI","SI","SI","SI","SI","SI","SI","SI","SI","SI","SI","SI","SI","SI","SI","SI","SI","SI","SI","SI","SI","SI",{"$f":"IF(EA373=EA356,\"SI\",\"NO\")","v":"SI"},"SI","SI","SI","SI","SI","SI","SI","SI","SI","SI","SI","SI","SI","SI","SI","SI","SI","SI","SI","SI","SI","SI","SI","SI","SI","SI","SI","SI","SI","SI","SI","SI","SI","SI","SI","SI","SI","SI","SI","SI","SI","SI","SI","SI","SI","SI","SI","SI","SI","SI","SI","SI","SI","SI","SI","SI","SI","SI","SI","SI","SI","SI","SI",{"$f":"IF(GM373=GM356,\"SI\",\"NO\")","v":"SI"},"SI","SI","SI","SI","SI","SI","SI","SI","SI","SI","SI","SI","SI","SI","SI","SI","SI","SI","SI","SI","SI","SI","SI","SI","SI","SI","SI","SI","SI","SI","SI","SI","SI","SI","SI","SI"]
[]
[]
["CISTICERCOSIS"]
["anno",2024]
["cod_red","03"]
["codmic","(Todas)"]
["cod_prov","(Todas)"]
["coddist","(Todas)"]
["cod_estab","(Todas)"]
["cod_eje","(Todas)"]
[]
[null,"Valores"]
["Etiquetas de fila"," BAS001"," BAS002"," BAS003"," BAS004"," BAS005"," BAS006"," BAS007"," BAS008"," BAS009"," BAS010"," BAS011"," BAS012"," BAS013"," BAS014"," BAS015"," BAS016"," BAS017"," BAS018"," BAS019"," BAS020"," BAS021"," BAS022"," BAS023"," BAS024"," BAS025"," BAS026"," BAS027"," BAS028"," BAS029"," BAS030"," BAS031"," BAS032"," BAS033"," BAS034"," BAS035"," BAS036"," BAS037"," BAS038"," BAS039"," BAS040"," BAS041"," BAS042"," BAS043"," BAS044"," BAS045"," BAS046"," BAS047"," BAS048"," BAS049"," BAS050"," BAS051"," BAS052"," BAS053"," BAS054"," BAS055"," BAS056"," BAS057"," BAS058"," BAS059"," BAS060"," BAS061"," BAS062"," BAS063"," BAS064"," BAS065"," BAS066"," BAS067"," BAS068"," BAS069"," BAS070"," BAS071"," BAS072"," BAS073"," BAS074"," BAS075"," BAS076"," BAS077"," BAS078"," BAS079"," BAS080"," BAS081"," BAS082"," BAS083"," BAS084"," BAS085"," BAS086"," BAS087"," BAS088"," BAS089"," BAS090"," BAS091"," BAS092"," BAS093"," BAS094"," BAS095"," BAS096"," BAS097"," BAS098"," BAS099"," BAS100"," BAS101"," BAS102"," BAS103"," BAS104"," BAS105"," BAS106"," BAS107"," BAS108"," BAS109"," BAS110"," BAS111"," BAS112"," BAS113"," BAS114"," BAS115"," BAS116"," BAS117"," BAS118"," BAS119"," BAS120"," BAS121"," BAS122"," BAS123"," BAS124"," BAS125"," BAS126"," BAS127"," BAS128"," BAS129"," BAS130"," BAS131"," BAS132"," BAS133"," BAS134"," BAS135"," BAS136"," BAS137"," BAS138"," BAS139"," BAS140"," BAS141"," BAS142"," BAS143"," BAS144"," BAS145"," BAS146"," BAS147"," BAS148"," BAS149"," BAS150"," BAS151"," BAS152"," BAS153"," BAS154"," BAS155"," BAS156"," BAS157"," BAS158"," BAS159"," BAS160"," BAS161"," BAS162"," BAS163"," BAS164"," BAS165"," BAS166"," BAS167"," BAS168"," BAS169"," BAS170"," BAS171"," BAS172"," BAS173"," BAS174"," BAS175"," BAS176"," BAS177"," BAS178"," BAS179"," BAS180"," BAS181"," BAS182"," BAS183"," BAS184"," BAS185"," BAS186"," BAS187"," BAS188"," BAS189"," BAS190"," BAS191"," BAS192"," BAS193"," BAS194"," BAS195"," BAS196"," BAS197"," BAS198"," BAS199"," BAS200"," BAS201"," BAS202"," BAS203"," BAS204"," BAS205"," BAS206"," BAS207"," BAS208"," BAS209"," BAS210"," BAS211"," BAS212"," BAS213"," BAS214"," BAS215"," BAS216"," BAS217"," BAS218"," BAS219"," BAS220"," BAS221"," BAS222"," BAS223"," BAS224"," BAS225"," BAS226"," BAS227"," BAS228"," BAS229"," BAS230"]
[2,0,0,0,0,0,0,0,0,0,0,0,0,0,0,0,0,0,0,0,0,0,0,0,0,0,0,0,0,0,0,0,0,0,0,0,0,0,0,0,0,0,0,0,0,0,0,0,0,0,0,0,0,0,0,0,0,0,0,0,0,0,0,0,0,0,0,0,0,0,0,0,0,0,0,0,0,0,0,0,0,0,0,0,0,0,0,0,0,0,0,0,0,0,0,0,0,0,0,0,0,0,0,0,0,0,0,0,0,0,0,0,0,0,0,0,0,0,0,0,0,0,0,0,0,0,0,0,0,0,0,0,0,0,0,0,0,0,0,0,0,0,0,0,0,0,0,0,0,0,0,0,0,0,0,0,0,0,0,0,0,0,0,0,0,0,0,0,0,0,0,0,0,0,0,0,0,0,0,0,0,0,0,0,0,0,0,0,0,0,0,0,0,0,0,0,0,0,0,0,0,0,0,0,0,0,0,0,0,0,0,0,0,0,0,0,0,0,0,0,0,0,0,0,0,0,0,0,0,0,0]
[1,0,0,0,0,0,0,0,0,0,0,0,0,0,0,0,0,0,0,0,0,0,0,0,0,0,0,0,0,0,0,0,0,0,0,0,0,0,0,0,0,0,0,0,0,0,0,0,0,0,0,0,0,0,0,0,0,0,0,0,0,0,0,0,0,0,0,0,0,0,0,0,0,0,0,0,0,0,0,0,0,0,0,0,0,0,0,0,0,0,0,0,0,0,0,0,0,0,0,0,0,0,0,0,0,0,0,0,0,0,0,0,0,0,0,0,0,0,0,0,0,0,0,0,0,0,0,0,0,0,0,0,0,0,0,0,0,0,0,0,0,0,0,0,0,0,0,0,0,0,0,0,0,0,0,0,0,0,0,0,0,0,0,0,0,0,0,0,0,0,0,0,0,0,0,0,0,0,0,0,0,0,0,0,0,0,0,0,0,0,0,0,0,0,0,0,0,0,0,0,0,0,0,0,0,0,0,0,0,0,0,0,0,0,0,0,0,0,0,0,0,0,0,0,0,0,0,0,0,0,0]
[3,0,0,0,0,0,0,0,0,0,0,0,0,0,0,0,0,0,0,0,0,0,0,0,0,0,0,0,0,0,0,0,0,0,0,0,0,0,0,0,0,0,0,0,0,0,0,0,0,0,0,0,0,0,0,0,0,0,0,0,0,0,0,0,0,0,0,0,0,0,0,0,0,0,0,0,0,0,0,0,0,0,0,0,0,0,0,0,0,0,0,0,0,0,0,0,0,0,0,0,0,0,0,0,0,0,0,0,0,0,0,0,0,0,0,0,0,0,0,0,0,0,0,0,0,0,0,0,0,0,0,0,0,0,0,0,0,0,0,0,0,0,0,0,0,0,0,0,0,0,0,0,0,0,0,0,0,0,0,0,0,0,0,0,0,0,0,0,0,0,0,0,0,0,0,0,0,0,0,0,0,0,0,0,0,0,0,0,0,0,0,0,0,0,0,0,0,0,0,0,0,0,0,0,0,0,0,0,0,0,0,0,0,0,0,0,0,0,0,0,0,0,0,0,0,0,0,0,0,0,0]
[4,0,0,0,0,0,0,0,0,0,0,0,0,0,0,0,0,0,0,0,0,0,0,0,0,0,0,0,0,0,0,0,0,0,0,0,0,0,0,0,0,0,0,0,0,0,0,0,0,0,0,0,0,0,0,0,0,0,0,0,0,0,0,0,0,0,0,0,0,0,0,0,0,0,0,0,0,0,0,0,0,0,0,0,0,0,0,0,0,0,0,0,0,0,0,0,0,0,0,0,0,0,0,0,0,0,0,0,0,0,0,0,0,0,0,0,0,0,0,0,0,0,0,0,0,0,0,0,0,0,0,0,0,0,0,0,0,0,0,0,0,0,0,0,0,0,0,0,0,0,0,0,0,0,0,0,0,0,0,0,0,0,0,0,0,0,0,0,0,0,0,0,0,0,0,0,0,0,0,0,0,0,0,0,0,0,0,0,0,0,0,0,0,0,0,0,0,0,0,0,0,0,0,0,0,0,0,0,0,0,0,0,0,0,0,0,0,0,0,0,0,0,0,0,0,0,0,0,0,0,0]
[5,0,0,0,0,0,0,0,0,0,0,0,0,0,0,0,0,0,0,0,0,0,0,0,0,0,0,0,0,0,0,0,0,0,0,0,0,0,0,0,0,0,0,0,0,0,0,0,0,0,0,0,0,0,0,0,0,0,0,0,0,0,0,0,0,0,0,0,0,0,0,0,0,0,0,0,0,0,0,0,0,0,0,0,0,0,0,0,0,0,0,0,0,0,0,0,0,0,0,0,0,0,0,0,0,0,0,0,0,0,0,0,0,0,0,0,0,0,0,0,0,0,0,0,0,0,0,0,0,0,0,0,0,0,0,0,0,0,0,0,0,0,0,0,0,0,0,0,0,0,0,0,0,0,0,0,0,0,0,0,0,0,0,0,0,0,0,0,0,0,0,0,0,0,0,0,0,0,0,0,0,0,0,0,0,0,0,0,0,0,0,0,0,0,0,0,0,0,0,0,0,0,0,0,0,0,0,0,0,0,0,0,0,0,0,0,0,0,0,0,0,0,0,0,0,0,0,0,0,0,0]
[6,0,0,0,0,0,0,0,0,0,0,0,0,0,0,0,0,0,0,0,0,0,0,0,0,0,0,0,0,0,0,0,0,0,0,0,0,0,0,0,0,0,0,0,0,0,0,0,0,0,0,0,0,0,0,0,0,0,0,0,0,0,0,0,0,0,0,0,0,0,0,0,0,0,0,0,0,0,0,0,0,0,0,0,0,0,0,0,0,0,0,0,0,0,0,0,0,0,0,0,0,0,0,0,0,0,0,0,0,0,0,0,0,0,0,0,0,0,0,0,0,0,0,0,0,0,0,0,0,0,0,0,0,0,0,0,0,0,0,0,0,0,0,0,0,0,0,0,0,0,0,0,0,0,0,0,0,0,0,0,0,0,0,0,0,0,0,0,0,0,0,0,0,0,0,0,0,0,0,0,0,0,0,0,0,0,0,0,0,0,0,0,0,0,0,0,0,0,0,0,0,0,0,0,0,0,0,0,0,0,0,0,0,0,0,0,0,0,0,0,0,0,0,0,0,0,0,0,0,0,0]
[7,0,0,0,0,0,0,0,0,0,0,0,0,0,0,0,0,0,0,0,0,0,0,0,0,0,0,0,0,0,0,0,0,0,0,0,0,0,0,0,0,0,0,0,0,0,0,0,0,0,0,0,0,0,0,0,0,0,0,0,0,0,0,0,0,0,0,0,0,0,0,0,0,0,0,0,0,0,0,0,0,0,0,0,0,0,0,0,0,0,0,0,0,0,0,0,0,0,0,0,0,0,0,0,0,0,0,0,0,0,0,0,0,0,0,0,0,0,0,0,0,0,0,0,0,0,0,0,0,0,0,0,0,0,0,0,0,0,0,0,0,0,0,0,0,0,0,0,0,0,0,0,0,0,0,0,0,0,0,0,0,0,0,0,0,0,0,0,0,0,0,0,0,0,0,0,0,0,0,0,0,0,0,0,0,0,0,0,0,0,0,0,0,0,0,0,0,0,0,0,0,0,0,0,0,0,0,0,0,0,0,0,0,0,0,0,0,0,0,0,0,0,0,0,0,0,0,0,0,0,0]
[8,0,0,0,0,0,0,0,0,0,0,0,0,0,0,0,0,0,0,0,0,0,0,0,0,0,0,0,0,0,0,0,0,0,0,0,0,0,0,0,0,0,0,0,0,0,0,0,0,0,0,0,0,0,0,0,0,0,0,0,0,0,0,0,0,0,0,0,0,0,0,0,0,0,0,0,0,0,0,0,0,0,0,0,0,0,0,0,0,0,0,0,0,0,0,0,0,0,0,0,0,0,0,0,0,0,0,0,0,0,0,0,0,0,0,0,0,0,0,0,0,0,0,0,0,0,0,0,0,0,0,0,0,0,0,0,0,0,0,0,0,0,0,0,0,0,0,0,0,0,0,0,0,0,0,0,0,0,0,0,0,0,0,0,0,0,0,0,0,0,0,0,0,0,0,0,0,0,0,0,0,0,0,0,0,0,0,0,0,0,0,0,0,0,0,0,0,0,0,0,0,0,0,0,0,0,0,0,0,0,0,0,0,0,0,0,0,0,0,0,0,0,0,0,0,0,0,0,0,0,0]
[9,0,0,0,0,0,0,0,0,0,0,0,0,0,0,0,0,0,0,0,0,0,0,0,0,0,0,0,0,0,0,0,0,0,0,0,0,0,0,0,0,0,0,0,0,0,0,0,0,0,0,0,0,0,0,0,0,0,0,0,0,0,0,0,0,0,0,0,0,0,0,0,0,0,0,0,0,0,0,0,0,0,0,0,0,0,0,0,0,0,0,0,0,0,0,0,0,0,0,0,0,0,0,0,0,0,0,0,0,0,0,0,0,0,0,0,0,0,0,0,0,0,0,0,0,0,0,0,0,0,0,0,0,0,0,0,0,0,0,0,0,0,0,0,0,0,0,0,0,0,0,0,0,0,0,0,0,0,0,0,0,0,0,0,0,0,0,0,0,0,0,0,0,0,0,0,0,0,0,0,0,0,0,0,0,0,0,0,0,0,0,0,0,0,0,0,0,0,0,0,0,0,0,0,0,0,0,0,0,0,0,0,0,0,0,0,0,0,0,0,0,0,0,0,0,0,0,0,0,0,0]
[10,0,0,0,0,0,0,0,0,0,0,0,0,0,0,0,0,0,0,0,0,0,0,0,0,0,0,0,0,0,0,0,0,0,0,0,0,0,0,0,0,0,0,0,0,0,0,0,0,0,0,0,0,0,0,0,0,0,0,0,0,0,0,0,0,0,0,0,0,0,0,0,0,0,0,0,0,0,0,0,0,0,0,0,0,0,0,0,0,0,0,0,0,0,0,0,0,0,0,0,0,0,0,0,0,0,0,0,0,0,0,0,0,0,0,0,0,0,0,0,0,0,0,0,0,0,0,0,0,0,0,0,0,0,0,0,0,0,0,0,0,0,0,0,0,0,0,0,0,0,0,0,0,0,0,0,0,0,0,0,0,0,0,0,0,0,0,0,0,0,0,0,0,0,0,0,0,0,0,0,0,0,0,0,0,0,0,0,0,0,0,0,0,0,0,0,0,0,0,0,0,0,0,0,0,0,0,0,0,0,0,0,0,0,0,0,0,0,0,0,0,0,0,0,0,0,0,0,0,0,0]
[11,0,0,0,0,0,0,0,0,0,0,0,0,0,0,0,0,0,0,0,0,0,0,0,0,0,0,0,0,0,0,0,0,0,0,0,0,0,0,0,0,0,0,0,0,0,0,0,0,0,0,0,0,0,0,0,0,0,0,0,0,0,0,0,0,0,0,0,0,0,0,0,0,0,0,0,0,0,0,0,0,0,0,0,0,0,0,0,0,0,0,0,0,0,0,0,0,0,0,0,0,0,0,0,0,0,0,0,0,0,0,0,0,0,0,0,0,0,0,0,0,0,0,0,0,0,0,0,0,0,0,0,0,0,0,0,0,0,0,0,0,0,0,0,0,0,0,0,0,0,0,0,0,0,0,0,0,0,0,0,0,0,0,0,0,0,0,0,0,0,0,0,0,0,0,0,0,0,0,0,0,0,0,0,0,0,0,0,0,0,0,0,0,0,0,0,0,0,0,0,0,0,0,0,0,0,0,0,0,0,0,0,0,0,0,0,0,0,0,0,0,0,0,0,0,0,0,0,0,0,0]
["T",0,0,0,0,0,0,0,0,0,0,0,0,0,0,0,0,0,0,0,0,0,0,0,0,0,0,0,0,0,0,0,0,0,0,0,0,0,0,0,0,0,0,0,0,0,0,0,0,0,0,0,0,0,0,0,0,0,0,0,0,0,0,0,0,0,0,0,0,0,0,0,0,0,0,0,0,0,0,0,0,0,0,0,0,0,0,0,0,0,0,0,0,0,0,0,0,0,0,0,0,0,0,0,0,0,0,0,0,0,0,0,0,0,0,0,0,0,0,0,0,0,0,0,0,0,0,0,0,0,0,0,0,0,0,0,0,0,0,0,0,0,0,0,0,0,0,0,0,0,0,0,0,0,0,0,0,0,0,0,0,0,0,0,0,0,0,0,0,0,0,0,0,0,0,0,0,0,0,0,0,0,0,0,0,0,0,0,0,0,0,0,0,0,0,0,0,0,0,0,0,0,0,0,0,0,0,0,0,0,0,0,0,0,0,0,0,0,0,0,0,0,0,0,0,0,0,0,0,0,0]
[]
["TOTAL"]
[{"$f":"COUNT(A388:A399)","v":11},{"$f":"SUM(B388:B399)","v":0},{"$f":"SUM(C388:C399)","v":0},0,0,0,0,0,0,0,0,0,0,0,0,0,0,0,0,0,0,0,0,0,0,0,0,0,0,0,0,0,0,0,0,0,0,0,0,0,0,0,0,0,0,0,0,0,0,0,0,0,0,0,0,0,0,0,0,0,0,0,0,0,0,0,{"$f":"SUM(BO388:BO399)","v":0},0,0,0,0,0,0,0,0,0,0,0,0,0,0,0,0,0,0,0,0,0,0,0,0,0,0,0,0,0,0,0,0,0,0,0,0,0,0,0,0,0,0,0,0,0,0,0,0,0,0,0,0,0,0,0,0,0,0,0,0,0,0,0,{"$f":"SUM(EA388:EA399)","v":0},0,0,0,0,0,0,0,0,0,0,0,0,0,0,0,0,0,0,0,0,0,0,0,0,0,0,0,0,0,0,0,0,0,0,0,0,0,0,0,0,0,0,0,0,0,0,0,0,0,0,0,0,0,0,0,0,0,0,0,0,0,0,0,{"$f":"SUM(GM388:GM399)","v":0},0,0,0,0,0,0,0,0,0,0,0,0,0,0,0,0,0,0,0,0,0,0,0,0,0,0,0,0,0,0,0,0,0,0,0,0]
[{"$f":"CONCATENATE(A388,\"-\",A389,\"-\",A390,\"-\",A391,\"-\",A392,\"-\",A393,\"-\",A394,\"-\",A395,\"-\",A396,\"-\",A397,\"-\",A398,\"-\",A399)","v":"2-1-3-4-5-6-7-8-9-10-11-T"}]
[null," BAS001"," BAS002"," BAS003"," BAS004"," BAS005"," BAS006"," BAS007"," BAS008"," BAS009"," BAS010"," BAS011"," BAS012"," BAS013"," BAS014"," BAS015"," BAS016"," BAS017"," BAS018"," BAS019"," BAS020"," BAS021"," BAS022"," BAS023"," BAS024"," BAS025"," BAS026"," BAS027"," BAS028"," BAS029"," BAS030"," BAS031"," BAS032"," BAS033"," BAS034"," BAS035"," BAS036"," BAS037"," BAS038"," BAS039"," BAS040"," BAS041"," BAS042"," BAS043"," BAS044"," BAS045"," BAS046"," BAS047"," BAS048"," BAS049"," BAS050"," BAS051"," BAS052"," BAS053"," BAS054"," BAS055"," BAS056"," BAS057"," BAS058"," BAS059"," BAS060"," BAS061"," BAS062"," BAS063"," BAS064"," BAS065"," BAS066"," BAS067"," BAS068"," BAS069"," BAS070"," BAS071"," BAS072"," BAS073"," BAS074"," BAS075"," BAS076"," BAS077"," BAS078"," BAS079"," BAS080"," BAS081"," BAS082"," BAS083"," BAS084"," BAS085"," BAS086"," BAS087"," BAS088"," BAS089"," BAS090"," BAS091"," BAS092"," BAS093"," BAS094"," BAS095"," BAS096"," BAS097"," BAS098"," BAS099"," BAS100"," BAS101"," BAS102"," BAS103"," BAS104"," BAS105"," BAS106"," BAS107"," BAS108"," BAS109"," BAS110"," BAS111"," BAS112"," BAS113"," BAS114"," BAS115"," BAS116"," BAS117"," BAS118"," BAS119"," BAS120"," BAS121"," BAS122"," BAS123"," BAS124"," BAS125"," BAS126"," BAS127"," BAS128"," BAS129"," BAS130"," BAS131"," BAS132"," BAS133"," BAS134"," BAS135"," BAS136"," BAS137"," BAS138"," BAS139"," BAS140"," BAS141"," BAS142"," BAS143"," BAS144"," BAS145"," BAS146"," BAS147"," BAS148"," BAS149"," BAS150"," BAS151"," BAS152"," BAS153"," BAS154"," BAS155"," BAS156"," BAS157"," BAS158"," BAS159"," BAS160"," BAS161"," BAS162"," BAS163"," BAS164"," BAS165"," BAS166"," BAS167"," BAS168"," BAS169"," BAS170"," BAS171"," BAS172"," BAS173"," BAS174"," BAS175"," BAS176"," BAS177"," BAS178"," BAS179"," BAS180"," BAS181"," BAS182"," BAS183"," BAS184"," BAS185"," BAS186"," BAS187"," BAS188"," BAS189"," BAS190"," BAS191"," BAS192"," BAS193"," BAS194"," BAS195"," BAS196"," BAS197"," BAS198"," BAS199"," BAS200"," BAS201"," BAS202"," BAS203"," BAS204"," BAS205"," BAS206"," BAS207"," BAS208"," BAS209"," BAS210"," BAS211"," BAS212"," BAS213"," BAS214"," BAS215"," BAS216"," BAS217"," BAS218"," BAS219"," BAS220"," BAS221"," BAS222"," BAS223"," BAS224"," BAS225"," BAS226"," BAS227"," BAS228"," BAS229"," BAS230"]
[null,{"$f":"IF(B404=B387,\"SI\",\"NO\")","v":"SI"},{"$f":"IF(C404=C387,\"SI\",\"NO\")","v":"SI"},"SI","SI","SI","SI","SI","SI","SI","SI","SI","SI","SI","SI","SI","SI","SI","SI","SI","SI","SI","SI","SI","SI","SI","SI","SI","SI","SI","SI","SI","SI","SI","SI","SI","SI","SI","SI","SI","SI","SI","SI","SI","SI","SI","SI","SI","SI","SI","SI","SI","SI","SI","SI","SI","SI","SI","SI","SI","SI","SI","SI","SI","SI","SI",{"$f":"IF(BO404=BO387,\"SI\",\"NO\")","v":"SI"},"SI","SI","SI","SI","SI","SI","SI","SI","SI","SI","SI","SI","SI","SI","SI","SI","SI","SI","SI","SI","SI","SI","SI","SI","SI","SI","SI","SI","SI","SI","SI","SI","SI","SI","SI","SI","SI","SI","SI","SI","SI","SI","SI","SI","SI","SI","SI","SI","SI","SI","SI","SI","SI","SI","SI","SI","SI","SI","SI","SI","SI","SI","SI",{"$f":"IF(EA404=EA387,\"SI\",\"NO\")","v":"SI"},"SI","SI","SI","SI","SI","SI","SI","SI","SI","SI","SI","SI","SI","SI","SI","SI","SI","SI","SI","SI","SI","SI","SI","SI","SI","SI","SI","SI","SI","SI","SI","SI","SI","SI","SI","SI","SI","SI","SI","SI","SI","SI","SI","SI","SI","SI","SI","SI","SI","SI","SI","SI","SI","SI","SI","SI","SI","SI","SI","SI","SI","SI","SI",{"$f":"IF(GM404=GM387,\"SI\",\"NO\")","v":"SI"},"SI","SI","SI","SI","SI","SI","SI","SI","SI","SI","SI","SI","SI","SI","SI","SI","SI","SI","SI","SI","SI","SI","SI","SI","SI","SI","SI","SI","SI","SI","SI","SI","SI","SI","SI","SI"]

{"sheet":"Datos","index":2,"n_rows":444,"n_cols":32,"rows_kept":444,"cut":false,"hidden":true,"merged":[]}
[]
[]
[]
[]
[]
[]
[]
[]
[null,"ANO",null,"MESES",null,"COD_RED","DESC_RED","CONCATENAR",null,"COD_RED","COD_MIC","DESC_MICRO","CONCATENAR",null,"COD_ESTAB","DESC_ESTAB","COD_RED","COD_MIC","COD_PROV","COD_DIST","REDMIC","CONCATENAR",null,"COD_PROV","DESC_PROV","CONCATENAR",null,"COD_PROV","COD_DIST","DESC_DIST","PROVDIST","CONCATENAR"]
[null,2024,null,"01-Enero",null,"00","NO TIENE ASIGNADO NINGUNA RED",{"$f":"CONCATENATE(F10,\" - \",G10)","v":"00 - NO TIENE ASIGNADO NINGUNA RED"},null,"00","00","NO PERTENECE A NINGUNA MICRORED                                                                     ",{"$f":"CONCATENATE(J10,K10,\" - \",L10)","v":"0000 - NO PERTENECE A NINGUNA MICRORED                                                                     "},null,"000000000","(All)","00","00",null,null,{"$f":"CONCATENATE(Q10,R10)","v":"0000"},{"$f":"CONCATENATE(O10,\" - \",P10)","v":"000000000 - (All)"},null,"00","(All)",{"$f":"CONCATENATE(X10,\" - \",Y10)","v":"00 - (All)"},null,"01","00","(All)",{"$f":"CONCATENATE(AB10,AC10)","v":"0100"},{"$f":"CONCATENATE(AB10,AC10,\" - \",AD10)","v":"0100 - (All)"}]
[null,null,null,"02-Febrero",null,"01","CUSCO SUR",{"$f":"CONCATENATE(F11,\" - \",G11)","v":"01 - CUSCO SUR"},null,"00","99","(All)","0099 - (All)",null,"000028190","SAMUE CUSCO","00","00","01","01",{"$f":"CONCATENATE(Q11,R11)","v":"0000"},{"$f":"CONCATENATE(O11,\" - \",P11)","v":"000028190 - SAMUE CUSCO"},null,"01","CUSCO",{"$f":"CONCATENATE(X11,\" - \",Y11)","v":"01 - CUSCO"},null,"01","01","CUSCO",{"$f":"CONCATENATE(AB11,AC11)","v":"0101"},{"$f":"CONCATENATE(AB11,AC11,\" - \",AD11)","v":"0101 - CUSCO"}]
[null,null,null,"03-Marzo",null,"02","CUSCO NORTE","02 - CUSCO NORTE",null,"01","00","NO PERTENECE A NINGUNA MICRORED                                                                     ","0100 - NO PERTENECE A NINGUNA MICRORED                                                                     ",null,"000002289","HOSPITAL DE APOYO DEPARTAMENTAL CUSCO","00","00","01","01","0000","000002289 - HOSPITAL DE APOYO DEPARTAMENTAL CUSCO",null,"02","ACOMAYO",{"$f":"CONCATENATE(X12,\" - \",Y12)","v":"02 - ACOMAYO"},null,"01","02","CCORCA","0102","0102 - CCORCA"]
[null,null,null,"04-Abril",null,"03","LA CONVENCION","03 - LA CONVENCION",null,"01","16","CUSCO                                                                                               ","0116 - CUSCO                                                                                               ",null,"000002305","ANTONIO LORENA DEL CUSCO","00","00","01","06","0000","000002305 - ANTONIO LORENA DEL CUSCO",null,"03","ANTA","03 - ANTA",null,"01","03","POROY","0103","0103 - POROY"]
[null,null,null,"05-Mayo",null,"04","CANAS-CANCHIS-ESPINAR","04 - CANAS-CANCHIS-ESPINAR",null,"01","03","PARURO                                                                                              ","0103 - PARURO                                                                                              ",null,"999999999","(All)","00","99",null,null,"0099","999999999 - (All)",null,"04","CALCA","04 - CALCA",null,"01","04","SAN JERONIMO","0104","0104 - SAN JERONIMO"]
[null,null,null,"06-Junio",null,"05","KIMBIRI PICHARI","05 - KIMBIRI PICHARI",null,"01","06","PAUCARTAMBO                                                                                         ","0106 - PAUCARTAMBO                                                                                         ",null,"000025210","TUPAC AMARU","01","00","01","05","0100","000025210 - TUPAC AMARU",null,"05","CANAS","05 - CANAS",null,"01","05","SAN SEBASTIAN","0105","0105 - SAN SEBASTIAN"]
[null,null,null,"07-Julio",null,"06","CHUMBIVILCAS","06 - CHUMBIVILCAS",null,"01","12","URCOS                                                                                               ","0112 - URCOS                                                                                               ",null,"000000000","(All)","01","03",null,null,"0103","000000000 - (All)",null,"06","CANCHIS","06 - CANCHIS",null,"01","06","SANTIAGO","0106","0106 - SANTIAGO"]
[null,null,null,"08-Agosto",null,"99","(All)","99 - (All)",null,"01","13","ACOMAYO                                                                                             ","0113 - ACOMAYO                                                                                             ",null,"000002499","PARURO","01","03","10","01","0103","000002499 - PARURO",null,"07","CHUMBIVILCAS","07 - CHUMBIVILCAS",null,"01","07","SAYLLA","0107","0107 - SAYLLA"]
[null,null,null,"09-Setiembre",null,null,null,null,null,"01","15","OCONGATE                                                                                            ","0115 - OCONGATE                                                                                            ",null,"000002500","ACCHA","01","03","10","02","0103","000002500 - ACCHA",null,"08","ESPINAR","08 - ESPINAR",null,"01","08","WANCHAQ","0108","0108 - WANCHAQ"]
[null,null,null,"10-Octubre",null,null,null,null,null,"01","99","(All)","0199 - (All)",null,"000002501","CCAPI","01","03","10","03","0103","000002501 - CCAPI",null,"09","LA CONVENCION","09 - LA CONVENCION",null,"02","00","(All)","0200","0200 - (All)"]
[null,null,null,"11-Noviembre",null,"EJECUTORAS",null,null,null,"02","01","BELEMPAMPA                                                                                          ","0201 - BELEMPAMPA                                                                                          ",null,"000002502","CCOYABAMBA","01","03","10","03","0103","000002502 - CCOYABAMBA",null,"10","PARURO","10 - PARURO",null,"02","01","ACOMAYO","0201","0201 - ACOMAYO"]
[null,null,null,"12-Diciembre",null,"COD_RED","DESC_RED","CONCATENAR",null,"02","02","WANCHAQ                                                                                             ","0202 - WANCHAQ                                                                                             ",null,"000002503","COLCHA","01","03","10","04","0103","000002503 - COLCHA",null,"11","PAUCARTAMBO","11 - PAUCARTAMBO",null,"02","02","ACOPIA","0202","0202 - ACOPIA"]
[null,null,null,null,null,"01","HOSPITAL REGIONAL CUSCO",{"$f":"CONCATENATE(F22,\" - \",G22)","v":"01 - HOSPITAL REGIONAL CUSCO"},null,"02","03","ANTA                                                                                                ","0203 - ANTA                                                                                                ",null,"000002504","HUANOQUITE","01","03","10","05","0103","000002504 - HUANOQUITE",null,"12","QUISPICANCHI","12 - QUISPICANCHI",null,"02","03","ACOS","0203","0203 - ACOS"]
[null,null,null,null,null,"02","HOSPITAL ANTONIO LORENA",{"$f":"CONCATENATE(F23,\" - \",G23)","v":"02 - HOSPITAL ANTONIO LORENA"},null,"02","04","LIMATAMBO                                                                                           ","0204 - LIMATAMBO                                                                                           ",null,"000002505","OMACHA","01","03","10","06","0103","000002505 - OMACHA",null,"13","URUBAMBA","13 - URUBAMBA",null,"02","04","MOSOC LLACTA","0204","0204 - MOSOC LLACTA"]
[null,null,null,null,null,"03","CUSCO NORTE","03 - CUSCO NORTE",null,"02","05","PISAC                                                                                               ","0205 - PISAC                                                                                               ",null,"000002506","ANTAPALLPA","01","03","10","06","0103","000002506 - ANTAPALLPA",null,null,null,null,null,"02","05","POMACANCHI","0205","0205 - POMACANCHI"]
[null,null,null,null,null,"04","CUSCO SUR","04 - CUSCO SUR",null,"02","06","CALCA                                                                                               ","0206 - CALCA                                                                                               ",null,"000002507","PACCARECTAMBO","01","03","10","07","0103","000002507 - PACCARECTAMBO",null,null,null,null,null,"02","06","RONDOCAN","0206","0206 - RONDOCAN"]
[null,null,null,null,null,"05","LA CONVENCION","05 - LA CONVENCION",null,"02","07","URUBAMBA                                                                                            ","0207 - URUBAMBA                                                                                            ",null,"000002509","YAURISQUE","01","03","10","09","0103","000002509 - YAURISQUE",null,null,null,null,null,"02","07","SANGARARA","0207","0207 - SANGARARA"]
[null,null,null,null,null,"06","HOSPITAL QUILLABAMBA","06 - HOSPITAL QUILLABAMBA",null,"02","08","YANATILE                                                                                            ","0208 - YANATILE                                                                                            ",null,"000006978","CCOCHIRIHUAY","01","03","10","04","0103","000006978 - CCOCHIRIHUAY",null,null,null,null,null,"03","00","(All)","0300","0300 - (All)"]
[null,null,null,null,null,"07","CANAS CANCHIS ESPINAR","07 - CANAS CANCHIS ESPINAR",null,"02","09","SIETE CUARTONES                                                                                     ","0209 - SIETE CUARTONES                                                                                     ",null,"000007147","PUESTO DE SALUD DE HUASQUILLAY","01","03","10","06","0103","000007147 - PUESTO DE SALUD DE HUASQUILLAY",null,null,null,null,null,"03","01","ANTA","0301","0301 - ANTA"]
[null,null,null,null,null,"08","HOSPITAL SICUANI","08 - HOSPITAL SICUANI",null,"02","99","(All)","0299 - (All)",null,"000012924","SAHUA SAHUA","01","03","10","06","0103","000012924 - SAHUA SAHUA",null,null,null,null,null,"03","02","ANCAHUASI","0302","0302 - ANCAHUASI"]
[null,null,null,null,null,"09","HOSPITAL ESPINAR","09 - HOSPITAL ESPINAR",null,"03","00","NO PERTENECE A NINGUNA MICRORED                                                                     ","0300 - NO PERTENECE A NINGUNA MICRORED                                                                     ",null,"000000000","(All)","01","06",null,null,"0106","000000000 - (All)",null,null,null,null,null,"03","03","CACHIMAYO","0303","0303 - CACHIMAYO"]
[null,null,null,null,null,"10","KIMBIRI PICHARI","10 - KIMBIRI PICHARI",null,"03","01","SANTA ANA                                                                                           ","0301 - SANTA ANA                                                                                           ",null,"000002510","PAUCARTAMBO","01","06","11","01","0106","000002510 - PAUCARTAMBO",null,null,null,null,null,"03","04","CHINCHAYPUJIO","0304","0304 - CHINCHAYPUJIO"]
[null,null,null,null,null,"11","CHUMBIVILCAS","11 - CHUMBIVILCAS",null,"03","02","MARANURA                                                                                            ","0302 - MARANURA                                                                                            ",null,"000002511","MOLLOMARCA","01","06","11","01","0106","000002511 - MOLLOMARCA",null,null,null,null,null,"03","05","HUAROCONDO","0305","0305 - HUAROCONDO"]
[null,null,null,null,null,"99","(ALL)",{"$f":"CONCATENATE(F33,\" - \",G33)","v":"99 - (ALL)"},null,"03","03","QUELLOUNO                                                                                           ","0303 - QUELLOUNO                                                                                           ",null,"000002512","CAICAY","01","06","11","02","0106","000002512 - CAICAY",null,null,null,null,null,"03","06","LIMATAMBO","0306","0306 - LIMATAMBO"]
[null,null,null,null,null,null,null,null,null,"03","04","KITENI                                                                                              ","0304 - KITENI                                                                                              ",null,"000002513","HUASAC","01","06","11","02","0106","000002513 - HUASAC",null,null,null,null,null,"03","07","MOLLEPATA","0307","0307 - MOLLEPATA"]
[null,null,null,null,null,null,null,null,null,"03","05","KAMISEA                                                                                             ","0305 - KAMISEA                                                                                             ",null,"000002514","CHALLABAMBA","01","06","11","03","0106","000002514 - CHALLABAMBA",null,null,null,null,null,"03","08","PUCYURA","0308","0308 - PUCYURA"]
[null,null,null,null,null,null,null,null,null,"03","06","PUCYURA                                                                                             ","0306 - PUCYURA                                                                                             ",null,"000002516","COLQUEPATA","01","06","11","04","0106","000002516 - COLQUEPATA",null,null,null,null,null,"03","09","ZURITE","0309","0309 - ZURITE"]
[null,null,null,null,null,null,null,null,null,"03","07","PALMA REAL","0307 - PALMA REAL",null,"000002517","PICHIHUA COLQUEPATA","01","06","11","04","0106","000002517 - PICHIHUA COLQUEPATA",null,null,null,null,null,"04","00","(All)","0400","0400 - (All)"]
[null,null,null,null,null,null,null,null,null,"03","99","(All)","0399 - (All)",null,"000002518","VIZCOCHONI","01","06","11","04","0106","000002518 - VIZCOCHONI",null,null,null,null,null,"04","01","CALCA","0401","0401 - CALCA"]
[null,null,null,null,null,null,null,null,null,"04","00","NO PERTENECE A NINGUNA MICRORED                                                                     ","0400 - NO PERTENECE A NINGUNA MICRORED                                                                     ",null,"000002519","AYRE","01","06","11","04","0106","000002519 - AYRE",null,null,null,null,null,"04","02","COYA","0402","0402 - COYA"]
[null,null,null,null,null,null,null,null,null,"04","01","YANAOCA                                                                                             ","0401 - YANAOCA                                                                                             ",null,"000002520","HUANCARANI","01","06","11","05","0106","000002520 - HUANCARANI",null,null,null,null,null,"04","03","LAMAY","0403","0403 - LAMAY"]
[null,null,null,null,null,null,null,null,null,"04","02","EL DESCANSO                                                                                         ","0402 - EL DESCANSO                                                                                         ",null,"000002521","PILCOPATA","01","06","11","06","0106","000002521 - PILCOPATA",null,null,null,null,null,"04","04","LARES","0404","0404 - LARES"]
[null,null,null,null,null,null,null,null,null,"04","03","COMBAPATA                                                                                           ","0403 - COMBAPATA                                                                                           ",null,"000002522","PATRIA","01","06","11","06","0106","000002522 - PATRIA",null,null,null,null,null,"04","05","PISAC","0405","0405 - PISAC"]
[null,null,null,null,null,null,null,null,null,"04","04","TECHO OBRERO                                                                                        ","0404 - TECHO OBRERO                                                                                        ",null,"000006979","TOCRA","01","06","11","04","0106","000006979 - TOCRA",null,null,null,null,null,"04","06","SAN SALVADOR","0406","0406 - SAN SALVADOR"]
[null,null,null,null,null,null,null,null,null,"04","05","PAMPAPHALLA                                                                                         ","0405 - PAMPAPHALLA                                                                                         ",null,"000010077","PAUCARTAMBO -ESSALUD","01","06","11","01","0106","000010077 - PAUCARTAMBO -ESSALUD",null,null,null,null,null,"04","07","TARAY","0407","0407 - TARAY"]
[null,null,null,null,null,null,null,null,null,"04","06","YAURI                                                                                               ","0406 - YAURI                                                                                               ",null,"000033777","MENTAL COMUNITARIO VIRGEN DEL ROSARIO","01","06","11","01","0106","000033777 - MENTAL COMUNITARIO VIRGEN DEL ROSARIO",null,null,null,null,null,"04","08","YANATILE","0408","0408 - YANATILE"]
[null,null,null,null,null,null,null,null,null,"04","99","(All)","0499 - (All)",null,"000000000","(All)","01","12",null,null,"0112","000000000 - (All)",null,null,null,null,null,"05","00","(All)","0500","0500 - (All)"]
[null,null,null,null,null,null,null,null,null,"05","00","NO PERTENECE A NINGUNA MICRORED                                                                     ","0500 - NO PERTENECE A NINGUNA MICRORED                                                                     ",null,"000002523","URCOS","01","12","12","01","0112","000002523 - URCOS",null,null,null,null,null,"05","01","YANAOCA","0501","0501 - YANAOCA"]
[null,null,null,null,null,null,null,null,null,"05","01","KIMBIRI                                                                                             ","0501 - KIMBIRI                                                                                             ",null,"000002525","ANDAHUAYLILLAS","01","12","12","02","0112","000002525 - ANDAHUAYLILLAS",null,null,null,null,null,"05","02","CHECCA","0502","0502 - CHECCA"]
[null,null,null,null,null,null,null,null,null,"05","02","PICHARI                                                                                             ","0502 - PICHARI                                                                                             ",null,"000002530","CUSIPATA","01","12","12","06","0112","000002530 - CUSIPATA",null,null,null,null,null,"05","03","KUNTURKANKI","0503","0503 - KUNTURKANKI"]
[null,null,null,null,null,null,null,null,null,"05","99","(All)","0599 - (All)",null,"000002532","HUARO","01","12","12","07","0112","000002532 - HUARO",null,null,null,null,null,"05","04","LANGUI","0504","0504 - LANGUI"]
[null,null,null,null,null,null,null,null,null,"06","00","NO PERTENECE A NINGUNA MICRORED                                                                     ","0600 - NO PERTENECE A NINGUNA MICRORED                                                                     ",null,"000002533","URPAY","01","12","12","07","0112","000002533 - URPAY",null,null,null,null,null,"05","05","LAYO","0505","0505 - LAYO"]
[null,null,null,null,null,null,null,null,null,"06","09","SANTO TOMAS                                                                                         ","0609 - SANTO TOMAS                                                                                         ",null,"000002534","LUCRE","01","12","12","08","0112","000002534 - LUCRE",null,null,null,null,null,"05","06","PAMPAMARCA","0506","0506 - PAMPAMARCA"]
[null,null,null,null,null,null,null,null,null,"06","01","LIVITACA                                                                                            ","0601 - LIVITACA                                                                                            ",null,"000002537","OROPESA","01","12","12","11","0112","000002537 - OROPESA",null,null,null,null,null,"05","07","QUEHUE","0507","0507 - QUEHUE"]
[null,null,null,null,null,null,null,null,null,"06","99","(All)","0699 - (All)",null,"000002538","QUIQUIJANA","01","12","12","12","0112","000002538 - QUIQUIJANA",null,null,null,null,null,"05","08","TUPAC AMARU","0508","0508 - TUPAC AMARU"]
[null,null,null,null,null,null,null,null,null,"99","99","(All)","9999 - (All)",null,"000002539","CCOLCA","01","12","12","12","0112","000002539 - CCOLCA",null,null,null,null,null,"06","00","(All)","0600","0600 - (All)"]
[null,null,null,null,null,null,null,null,null,null,null,null,null,null,"000006980","CHILLIHUANI","01","12","12","06","0112","000006980 - CHILLIHUANI",null,null,null,null,null,"06","01","SICUANI","0601","0601 - SICUANI"]
[null,null,null,null,null,null,null,null,null,null,null,null,null,null,"000008911","HUARA HUARA","01","12","12","05","0112","000008911 - HUARA HUARA",null,null,null,null,null,"06","02","CHECACUPE","0602","0602 - CHECACUPE"]
[null,null,null,null,null,null,null,null,null,null,null,null,null,null,"000011747","POSTA MEDICA POLICIAL PUCUTO","01","12","12","07","0112","000011747 - POSTA MEDICA POLICIAL PUCUTO",null,null,null,null,null,"06","03","COMBAPATA","0603","0603 - COMBAPATA"]
[null,null,null,null,null,null,null,null,null,null,null,null,null,null,"000026385","URCOS - ESSALUD","01","12","12","01","0112","000026385 - URCOS - ESSALUD",null,null,null,null,null,"06","04","MARANGANI","0604","0604 - MARANGANI"]
[null,null,null,null,null,null,null,null,null,null,null,null,null,null,"000030708","MENTAL COMUNITARIO HUARO","01","12","12","07","0112","000030708 - MENTAL COMUNITARIO HUARO",null,null,null,null,null,"06","05","PITUMARCA","0605","0605 - PITUMARCA"]
[null,null,null,null,null,null,null,null,null,null,null,null,null,null,"000000000","(All)","01","13",null,null,"0113","000000000 - (All)",null,null,null,null,null,"06","06","SAN PABLO","0606","0606 - SAN PABLO"]
[null,null,null,null,null,null,null,null,null,null,null,null,null,null,"000002317","ACOMAYO","01","13","02","01","0113","000002317 - ACOMAYO",null,null,null,null,null,"06","07","SAN PEDRO","0607","0607 - SAN PEDRO"]
[null,null,null,null,null,null,null,null,null,null,null,null,null,null,"000002318","ACOPIA","01","13","02","02","0113","000002318 - ACOPIA",null,null,null,null,null,"06","08","TINTA","0608","0608 - TINTA"]
[null,null,null,null,null,null,null,null,null,null,null,null,null,null,"000002319","ACOS","01","13","02","03","0113","000002319 - ACOS",null,null,null,null,null,"07","00","(All)","0700","0700 - (All)"]
[null,null,null,null,null,null,null,null,null,null,null,null,null,null,"000002321","POMACANCHI","01","13","02","05","0113","000002321 - POMACANCHI",null,null,null,null,null,"07","01","SANTO TOMAS","0701","0701 - SANTO TOMAS"]
[null,null,null,null,null,null,null,null,null,null,null,null,null,null,"000002322","SAN JUAN DE POMACANCHI","01","13","02","05","0113","000002322 - SAN JUAN DE POMACANCHI",null,null,null,null,null,"07","02","CAPACMARCA","0702","0702 - CAPACMARCA"]
[null,null,null,null,null,null,null,null,null,null,null,null,null,null,"000002324","PUESTO DE SALUD SANGARARA","01","13","02","07","0113","000002324 - PUESTO DE SALUD SANGARARA",null,null,null,null,null,"07","03","CHAMACA","0703","0703 - CHAMACA"]
[null,null,null,null,null,null,null,null,null,null,null,null,null,null,"000002325","PUESTO DE SALUD MARCACONGA","01","13","02","07","0113","000002325 - PUESTO DE SALUD MARCACONGA",null,null,null,null,null,"07","04","COLQUEMARCA","0704","0704 - COLQUEMARCA"]
[null,null,null,null,null,null,null,null,null,null,null,null,null,null,"000002508","PILLPINTO","01","13","10","08","0113","000002508 - PILLPINTO",null,null,null,null,null,"07","05","LIVITACA","0705","0705 - LIVITACA"]
[null,null,null,null,null,null,null,null,null,null,null,null,null,null,"000010076","ACOMAYO - ESSALUD","01","13","02","01","0113","000010076 - ACOMAYO - ESSALUD",null,null,null,null,null,"07","06","LLUSCO","0706","0706 - LLUSCO"]
[null,null,null,null,null,null,null,null,null,null,null,null,null,0,"000012926","SANTA LUCIA","01","13","02","05","0113","000012926 - SANTA LUCIA",null,null,null,null,null,"07","07","QUIÑOTA","0707","0707 - QUIÑOTA"]
[null,null,null,null,null,null,null,null,null,null,null,null,null,1,"000000000","(All)","01","15",null,null,"0115","000000000 - (All)",null,null,null,null,null,"07","08","VELILLE","0708","0708 - VELILLE"]
[null,null,null,null,null,null,null,null,null,null,null,null,null,2,"000002524","PAMPACAMARA","01","15","12","05","0115","000002524 - PAMPACAMARA",null,null,null,null,null,"08","00","(All)","0800","0800 - (All)"]
[null,null,null,null,null,null,null,null,null,null,null,null,null,3,"000002526","QUINCE MIL","01","15","12","03","0115","000002526 - QUINCE MIL",null,null,null,null,null,"08","01","ESPINAR","0801","0801 - ESPINAR"]
[null,null,null,null,null,null,null,null,null,null,null,null,null,4,"000002527","CCARHUAYO","01","15","12","04","0115","000002527 - CCARHUAYO",null,null,null,null,null,"08","02","CONDOROMA",{"$f":"CONCATENATE(AB75,AC75)","v":"0802"},{"$f":"CONCATENATE(AB75,AC75,\" - \",AD75)","v":"0802 - CONDOROMA"}]
[null,null,null,null,null,null,null,null,null,null,null,null,null,5,"000002528","CCATCCA","01","15","12","05","0115","000002528 - CCATCCA",null,null,null,null,null,"08","03","COPORAQUE","0803","0803 - COPORAQUE"]
[null,null,null,null,null,null,null,null,null,null,null,null,null,6,"000002529","KCAURY","01","15","12","05","0115","000002529 - KCAURY",null,null,null,null,null,"08","04","OCORURO","0804","0804 - OCORURO"]
[null,null,null,null,null,null,null,null,null,null,null,null,null,7,"000002535","MARCAPATA","01","15","12","09","0115","000002535 - MARCAPATA",null,null,null,null,null,"08","05","PALLPATA","0805","0805 - PALLPATA"]
[null,null,null,null,null,null,null,null,null,null,null,null,null,9,"000002536","OCONGATE","01","15","12","10","0115","000002536 - OCONGATE",null,null,null,null,null,"08","06","PICHIGUA","0806","0806 - PICHIGUA"]
[null,null,null,null,null,null,null,null,null,null,null,null,null,10,"000006977","TINKI","01","15","12","10",{"$f":"CONCATENATE(Q80,R80)","v":"0115"},{"$f":"CONCATENATE(O80,\" - \",P80)","v":"000006977 - TINKI"},null,null,null,null,null,"08","07","SUYCKUTAMBO","0807","0807 - SUYCKUTAMBO"]
[null,null,null,null,null,null,null,null,null,null,null,null,null,11,"000007110","INCACANCHA","01","15","12","09","0115","000007110 - INCACANCHA",null,null,null,null,null,"08","08","ALTO PICHIGUA","0808","0808 - ALTO PICHIGUA"]
[null,null,null,null,null,null,null,null,null,null,null,null,null,12,"000012931","CHICHINA","01","15","12","05","0115","000012931 - CHICHINA",null,null,null,null,null,"09","00","(All)","0900","0900 - (All)"]
[null,null,null,null,null,null,null,null,null,null,null,null,null,13,"000016335","CCAPANA","01","15","12","05","0115","000016335 - CCAPANA",null,null,null,null,null,"09","01","SANTA ANA","0901","0901 - SANTA ANA"]
[null,null,null,null,null,null,null,null,null,null,null,null,null,0,"000000000","(All)","01","16",null,null,"0116","000000000 - (All)",null,null,null,null,null,"09","02","ECHARATE","0902","0902 - ECHARATE"]
[null,null,null,null,null,null,null,null,null,null,null,null,null,1,"000002300","SAN JERONIMO","01","16","01","04","0116","000002300 - SAN JERONIMO",null,null,null,null,null,"09","03","HUAYOPATA","0903","0903 - HUAYOPATA"]
[null,null,null,null,null,null,null,null,null,null,null,null,null,2,"000002301","SAN SEBASTIAN","01","16","01","05","0116","000002301 - SAN SEBASTIAN",null,null,null,null,null,"09","04","MARANURA","0904","0904 - MARANURA"]
[null,null,null,null,null,null,null,null,null,null,null,null,null,3,"000002303","SANTA ROSA","01","16","01","05","0116","000002303 - SANTA ROSA",null,null,null,null,null,"09","05","OCOBAMBA","0905","0905 - OCOBAMBA"]
[null,null,null,null,null,null,null,null,null,null,null,null,null,4,"000002314","SAYLLA","01","16","01","07","0116","000002314 - SAYLLA",null,null,null,null,null,"09","06","QUELLOUNO","0906","0906 - QUELLOUNO"]
[null,null,null,null,null,null,null,null,null,null,null,null,null,5,"000002323","RONDOCAN","01","16","02","06","0116","000002323 - RONDOCAN",null,null,null,null,null,"09","07","KIMBIRI","0907","0907 - KIMBIRI"]
[null,null,null,null,null,null,null,null,null,null,null,null,null,6,"000007699","CONCHACALLE","01","16","01","04","0116","000007699 - CONCHACALLE",null,null,null,null,null,"09","08","SANTA TERESA","0908","0908 - SANTA TERESA"]
[null,null,null,null,null,null,null,null,null,null,null,null,null,7,"000010065","SAN SEBASTIAN ESSALUD","01","16","01","05","0116","000010065 - SAN SEBASTIAN ESSALUD",null,null,null,null,null,"09","09","VILCABAMBA","0909","0909 - VILCABAMBA"]
[null,null,null,null,null,null,null,null,null,null,null,null,null,8,"000011743","POLICIAL \"SANTA ROSA\"  CUSCO","01","16","01","05","0116","000011743 - POLICIAL \"SANTA ROSA\"  CUSCO",null,null,null,null,null,"09","10","PICHARI","0910","0910 - PICHARI"]
[null,null,null,null,null,null,null,null,null,null,null,null,null,9,"000018926","ESTABLECIMIENTO PENITENCIARIO CUSCO VARONES","01","16","01","04","0116","000018926 - ESTABLECIMIENTO PENITENCIARIO CUSCO VARONES",null,null,null,null,null,"09","11","INKAWASI                                ","0911","0911 - INKAWASI                                "]
[null,null,null,null,null,null,null,null,null,null,null,null,null,10,"000021187","ESTABLECIMIENTO PENITENCIARIO CUSCO MUJERES","01","16","01","04","0116","000021187 - ESTABLECIMIENTO PENITENCIARIO CUSCO MUJERES",null,null,null,null,null,"09","12","VILLA VIRGEN","0912","0912 - VILLA VIRGEN"]
[null,null,null,null,null,null,null,null,null,null,null,null,null,0,"000026181","MENTAL SAN SEBASTIAN","01","16","01","05","0116","000026181 - MENTAL SAN SEBASTIAN",null,null,null,null,null,"09","13","VILLA KINTIARINA","0913","0913 - VILLA KINTIARINA"]
[null,null,null,null,null,null,null,null,null,null,null,null,null,1,"000030727","PATRÓN SAN SEBASTIAN","01","16","01","04","0116","000030727 - PATRÓN SAN SEBASTIAN",null,null,null,null,null,"09","14","MEGANTONI","0914","0914 - MEGANTONI"]
[null,null,null,null,null,null,null,null,null,null,null,null,null,2,"999999999","(All)","01","99",null,null,"0199","999999999 - (All)",null,null,null,null,null,"09","15","KUMPIRUSHIATO","0915","0915 - KUMPIRUSHIATO"]
[null,null,null,null,null,null,null,null,null,null,null,null,null,3,"000000000","(All)","02","01",null,null,"0201","000000000 - (All)",null,null,null,null,null,"09","16","CIELO PUNCO","0916","0916 - CIELO PUNCO"]
[null,null,null,null,null,null,null,null,null,null,null,null,null,null,"000002292","INDEPENDENCIA","02","01","01","01","0201","000002292 - INDEPENDENCIA",null,null,null,null,null,"09","17","MANITEA","0917","0917 - MANITEA"]
[null,null,null,null,null,null,null,null,null,null,null,null,null,4,"000002297","CCORCCA","02","01","01","02","0201","000002297 - CCORCCA",null,null,null,null,null,"09","18","UNION ASHANINKA","0918","0918 - UNION ASHANINKA"]
[null,null,null,null,null,null,null,null,null,null,null,null,null,5,"000002306","BELEMPAMPA","02","01","01","06","0201","000002306 - BELEMPAMPA",null,null,null,null,null,"09","00","(All)","0900","0900 - (All)"]
[null,null,null,null,null,null,null,null,null,null,null,null,null,6,"000002308","ZARZUELA ALTA","02","01","01","06","0201","000002308 - ZARZUELA ALTA",null,null,null,null,null,"10","01","PARURO","1001","1001 - PARURO"]
[null,null,null,null,null,null,null,null,null,null,null,null,null,null,"000002309","DIGNIDAD NACIONAL","02","01","01","06","0201","000002309 - DIGNIDAD NACIONAL",null,null,null,null,null,"10","02","ACCHA","1002","1002 - ACCHA"]
[null,null,null,null,null,null,null,null,null,null,null,null,null,7,"000002313","OCCOPATA","02","01","01","06","0201","000002313 - OCCOPATA",null,null,null,null,null,"10","03","CCAPI","1003","1003 - CCAPI"]
[null,null,null,null,null,null,null,null,null,null,null,null,null,8,"000010067","C.M. SANTIAGO  ESSALUD","02","01","01","06","0201","000010067 - C.M. SANTIAGO  ESSALUD",null,null,null,null,null,"10","04","COLCHA","1004","1004 - COLCHA"]
[null,null,null,null,null,null,null,null,null,null,null,null,null,9,"000010920","QUINTA BRIGADA DE MONTAÑA","02","01","01","06","0201","000010920 - QUINTA BRIGADA DE MONTAÑA",null,null,null,null,null,"10","05","HUANOQUITE","1005","1005 - HUANOQUITE"]
[null,null,null,null,null,null,null,null,null,null,null,null,null,10,"000026182","MENTAL SANTIAGO","02","01","01","06","0201","000026182 - MENTAL SANTIAGO",null,null,null,null,null,"10","06","OMACHA","1006","1006 - OMACHA"]
[null,null,null,null,null,null,null,null,null,null,null,null,null,11,"000000000","(All)","02","02",null,null,"0202","000000000 - (All)",null,null,null,null,null,"10","07","PACCARITAMBO","1007","1007 - PACCARITAMBO"]
[null,null,null,null,null,null,null,null,null,null,null,null,null,0,"000002302","CCORAO","02","02","01","05","0202","000002302 - CCORAO",null,null,null,null,null,"10","08","PILLPINTO","1008","1008 - PILLPINTO"]
[null,null,null,null,null,null,null,null,null,null,null,null,null,1,"000002307","MANCO CAPAC","02","02","01","06","0202","000002307 - MANCO CAPAC",null,null,null,null,null,"10","09","YAURISQUE","1009","1009 - YAURISQUE"]
[null,null,null,null,null,null,null,null,null,null,null,null,null,null,"000002310","CHOCCO","02","02","01","06","0202","000002310 - CHOCCO",null,null,null,null,null,"11","00","(All)","1100","1100 - (All)"]
[null,null,null,null,null,null,null,null,null,null,null,null,null,null,"000002315","WANCHAQ","02","02","01","08","0202","000002315 - WANCHAQ",null,null,null,null,null,"11","01","PAUCARTAMBO","1101","1101 - PAUCARTAMBO"]
[null,null,null,null,null,null,null,null,null,null,null,null,null,2,"000002316","TTIO","02","02","01","08","0202","000002316 - TTIO",null,null,null,null,null,"11","02","CAICAY","1102","1102 - CAICAY"]
[null,null,null,null,null,null,null,null,null,null,null,null,null,3,"000010041","ADOLFO GUEVARA VELASCO","02","02","01","08","0202","000010041 - ADOLFO GUEVARA VELASCO",null,null,null,null,null,"11","03","CHALLABAMBA","1103","1103 - CHALLABAMBA"]
[null,null,null,null,null,null,null,null,null,null,null,null,null,4,"000026183","METROPOLITANO","02","02","01","08","0202","000026183 - METROPOLITANO",null,null,null,null,null,"11","04","COLQUEPATA","1104","1104 - COLQUEPATA"]
[null,null,null,null,null,null,null,null,null,null,null,null,null,5,"000030730","PATRON SANTIAGO","02","02","01","08","0202","000030730 - PATRON SANTIAGO",null,null,null,null,null,"11","05","HUANCARANI","1105","1105 - HUANCARANI"]
[null,null,null,null,null,null,null,null,null,null,null,null,null,6,"000000000","(All)","02","03",null,null,"0203","000000000 - (All)",null,null,null,null,null,"11","06","KOSÑIPATA","1106","1106 - KOSÑIPATA"]
[null,null,null,null,null,null,null,null,null,null,null,null,null,7,"000002326","ANTA","02","03","03","01","0203","000002326 - ANTA",null,null,null,null,null,"12","00","(All)","1200","1200 - (All)"]
[null,null,null,null,null,null,null,null,null,null,null,null,null,0,"000002327","CHACAN","02","03","03","01","0203","000002327 - CHACAN",null,null,null,null,null,"12","01","URCOS","1201","1201 - URCOS"]
[null,null,null,null,null,null,null,null,null,null,null,null,null,1,"000002328","COMPONE","02","03","03","01","0203","000002328 - COMPONE",null,null,null,null,null,"12","02","ANDAHUAYLILLAS","1202","1202 - ANDAHUAYLILLAS"]
[null,null,null,null,null,null,null,null,null,null,null,null,null,2,"000002329","CONCHACALLA","02","03","03","01","0203","000002329 - CONCHACALLA",null,null,null,null,null,"12","03","CAMANTI","1203","1203 - CAMANTI"]
[null,null,null,null,null,null,null,null,null,null,null,null,null,3,"000002330","ANCAHUASI","02","03","03","02","0203","000002330 - ANCAHUASI",null,null,null,null,null,"12","04","CCARHUAYO","1204","1204 - CCARHUAYO"]
[null,null,null,null,null,null,null,null,null,null,null,null,null,4,"000002331","CACHIMAYO","02","03","03","03","0203","000002331 - CACHIMAYO",null,null,null,null,null,"12","05","CCATCA","1205","1205 - CCATCA"]
[null,null,null,null,null,null,null,null,null,null,null,null,null,5,"000002332","CHINCHAYPUJIO","02","03","03","04","0203","000002332 - CHINCHAYPUJIO",null,null,null,null,null,"12","06","CUSIPATA","1206","1206 - CUSIPATA"]
[null,null,null,null,null,null,null,null,null,null,null,null,null,6,"000002333","HUAROCONDO","02","03","03","05","0203","000002333 - HUAROCONDO",null,null,null,null,null,"12","07","HUARO","1207","1207 - HUARO"]
[null,null,null,null,null,null,null,null,null,null,null,null,null,7,"000002334","HUAYLLACOCHA","02","03","03","05","0203","000002334 - HUAYLLACOCHA",null,null,null,null,null,"12","08","LUCRE","1208","1208 - LUCRE"]
[null,null,null,null,null,null,null,null,null,null,null,null,null,null,"000002339","PUCYURA ANTA","02","03","03","08","0203","000002339 - PUCYURA ANTA",null,null,null,null,null,"12","09","MARCAPATA","1209","1209 - MARCAPATA"]
[null,null,null,null,null,null,null,null,null,null,null,null,null,8,"000002340","ZURITE","02","03","03","09","0203","000002340 - ZURITE",null,null,null,null,null,"12","10","OCONGATE","1210","1210 - OCONGATE"]
[null,null,null,null,null,null,null,null,null,null,null,null,null,9,"000006972","PANTIPATA","02","03","03","04","0203","000006972 - PANTIPATA",null,null,null,null,null,"12","11","OROPESA","1211","1211 - OROPESA"]
[null,null,null,null,null,null,null,null,null,null,null,null,null,10,"000027790","MENTAL COMUNITARIO ANTA","02","03","03","01","0203","000027790 - MENTAL COMUNITARIO ANTA",null,null,null,null,null,"12","12","QUIQUIJANA","1212","1212 - QUIQUIJANA"]
[null,null,null,null,null,null,null,null,null,null,null,null,null,null,"000029514","ESSALUD ANTA","02","03","03","01","0203","000029514 - ESSALUD ANTA",null,null,null,null,null,"13","00","(All)","1300","1300 - (All)"]
[null,null,null,null,null,null,null,null,null,null,null,null,null,null,"000000000","(All)","02","04",null,null,"0204","000000000 - (All)",null,null,null,null,null,"13","01","URUBAMBA","1301","1301 - URUBAMBA"]
[null,null,null,null,null,null,null,null,null,null,null,null,null,null,"000002336","LIMATAMBO","02","04","03","06","0204","000002336 - LIMATAMBO",null,null,null,null,null,"13","02","CHINCHERO","1302","1302 - CHINCHERO"]
[null,null,null,null,null,null,null,null,null,null,null,null,null,null,"000002337","PAMPACONGA","02","04","03","06","0204","000002337 - PAMPACONGA",null,null,null,null,null,"13","03","HUAYLLABAMBA","1303","1303 - HUAYLLABAMBA"]
[null,null,null,null,null,null,null,null,null,null,null,null,null,null,"000002338","MOLLEPATA","02","04","03","07","0204","000002338 - MOLLEPATA",null,null,null,null,null,"13","04","MACHUPICCHU","1304","1304 - MACHUPICCHU"]
[null,null,null,null,null,null,null,null,null,null,null,null,null,null,"000010761","URATARI","02","04","03","06","0204","000010761 - URATARI",null,null,null,null,null,"13","05","MARAS","1305","1305 - MARAS"]
[null,null,null,null,null,null,null,null,null,null,null,null,null,null,"000021061","HUAMANPATA","02","04","03","07","0204","000021061 - HUAMANPATA",null,null,null,null,null,"13","06","OLLANTAYTAMBO","1306","1306 - OLLANTAYTAMBO"]
[null,null,null,null,null,null,null,null,null,null,null,null,null,null,"000000000","(All)","02","05",null,null,"0205","000000000 - (All)",null,null,null,null,null,"13","07","YUCAY",{"$f":"CONCATENATE(AB138,AC138)","v":"1307"},"1307 - YUCAY"]
[null,null,null,null,null,null,null,null,null,null,null,null,null,null,"000002343","COYA","02","05","04","02","0205","000002343 - COYA",null,null,null,null,null,"00","00","(All)",{"$f":"CONCATENATE(AB139,AC139)","v":"0000"},"0000 - (All)"]
[null,null,null,null,null,null,null,null,null,null,null,null,null,null,"000002344","LAMAY","02","05","04","03","0205","000002344 - LAMAY"]
[null,null,null,null,null,null,null,null,null,null,null,null,null,null,"000002348","PISAC","02","05","04","05","0205","000002348 - PISAC"]
[null,null,null,null,null,null,null,null,null,null,null,null,null,null,"000002349","CUYO CHICO","02","05","04","05","0205","000002349 - CUYO CHICO"]
[null,null,null,null,null,null,null,null,null,null,null,null,null,null,"000002350","CUYO GRANDE","02","05","04","05","0205","000002350 - CUYO GRANDE"]
[null,null,null,null,null,null,null,null,null,null,null,null,null,null,"000002351","QUELLO QUELLO","02","05","04","05","0205","000002351 - QUELLO QUELLO"]
[null,null,null,null,null,null,null,null,null,null,null,null,null,null,"000002352","SAN SALVADOR","02","05","04","06","0205","000002352 - SAN SALVADOR"]
[null,null,null,null,null,null,null,null,null,null,null,null,null,null,"000002353","TARAY","02","05","04","07","0205","000002353 - TARAY"]
[null,null,null,null,null,null,null,null,null,null,null,null,null,null,"000002354","HUANCALLE","02","05","04","07","0205","000002354 - HUANCALLE"]
[null,null,null,null,null,null,null,null,null,null,null,null,null,null,"000006970","TIRACANCHA","02","05","04","06","0205","000006970 - TIRACANCHA"]
[null,null,null,null,null,null,null,null,null,null,null,null,null,null,"000006975","SAYLLAFAYA","02","05","04","03","0205","000006975 - SAYLLAFAYA"]
[null,null,null,null,null,null,null,null,null,null,null,null,null,null,"000007145","HUAMA","02","05","04","03",{"$f":"CONCATENATE(Q150,R150)","v":"0205"},{"$f":"CONCATENATE(O150,\" - \",P150)","v":"000007145 - HUAMA"}]
[null,null,null,null,null,null,null,null,null,null,null,null,null,null,"000007146","POQUES","02","05","04","03","0205","000007146 - POQUES"]
[null,null,null,null,null,null,null,null,null,null,null,null,null,null,"000025368","HUARQUI","02","05","04","03","0205","000025368 - HUARQUI"]
[null,null,null,null,null,null,null,null,null,null,null,null,null,null,"000000000","(All)","02","06",null,null,"0206","000000000 - (All)"]
[null,null,null,null,null,null,null,null,null,null,null,null,null,null,"000002341","CALCA","02","06","04","01","0206","000002341 - CALCA"]
[null,null,null,null,null,null,null,null,null,null,null,null,null,null,"000002342","AMPARAES","02","06","04","04","0206","000002342 - AMPARAES"]
[null,null,null,null,null,null,null,null,null,null,null,null,null,null,"000002345","CCACHIN","02","06","04","04","0206","000002345 - CCACHIN"]
[null,null,null,null,null,null,null,null,null,null,null,null,null,null,"000002346","CHOQUECANCHA","02","06","04","04","0206","000002346 - CHOQUECANCHA"]
[null,null,null,null,null,null,null,null,null,null,null,null,null,null,"000002347","LARES","02","06","04","04","0206","000002347 - LARES"]
[null,null,null,null,null,null,null,null,null,null,null,null,null,null,"000002361","SUYO","02","06","04","04","0206","000002361 - SUYO"]
[null,null,null,null,null,null,null,null,null,null,null,null,null,null,"000002515","PAROBAMBA","02","06","11","03","0206","000002515 - PAROBAMBA"]
[null,null,null,null,null,null,null,null,null,null,null,null,null,null,"000007143","OTOCANI","02","06","11","03","0206","000007143 - OTOCANI"]
[null,null,null,null,null,null,null,null,null,null,null,null,null,null,"000007144","PATABAMBA","02","06","04","07","0206","000007144 - PATABAMBA"]
[null,null,null,null,null,null,null,null,null,null,null,null,null,null,"000010069","ESSALUD CALCA","02","06","04","01","0206","000010069 - ESSALUD CALCA"]
[null,null,null,null,null,null,null,null,null,null,null,null,null,null,"000010759","HUARAN","02","06","04","01","0206","000010759 - HUARAN"]
[null,null,null,null,null,null,null,null,null,null,null,null,null,null,"000010762","ACCHA ALTA - PAMPALLACTA","02","06","04","01","0206","000010762 - ACCHA ALTA - PAMPALLACTA"]
[null,null,null,null,null,null,null,null,null,null,null,null,null,null,"000026273","MENTAL COMUNITARIO VIRGEN ASUNTA DE CALCA","02","06","04","01","0206","000026273 - MENTAL COMUNITARIO VIRGEN ASUNTA DE CALCA"]
[null,null,null,null,null,null,null,null,null,null,null,null,null,null,"000000000","(All)","02","07",null,null,"0207","000000000 - (All)"]
[null,null,null,null,null,null,null,null,null,null,null,null,null,null,"000002540","URUBAMBA","02","07","13","01","0207","000002540 - URUBAMBA"]
[null,null,null,null,null,null,null,null,null,null,null,null,null,null,"000002541","YANAHUARA","02","07","13","01","0207","000002541 - YANAHUARA"]
[null,null,null,null,null,null,null,null,null,null,null,null,null,null,"000002543","CHINCHERO","02","07","13","02","0207","000002543 - CHINCHERO"]
[null,null,null,null,null,null,null,null,null,null,null,null,null,null,"000002544","OCCOTUAN","02","07","13","02","0207","000002544 - OCCOTUAN"]
[null,null,null,null,null,null,null,null,null,null,null,null,null,null,"000002545","HUAYLLABAMBA","02","07","13","03","0207","000002545 - HUAYLLABAMBA"]
[null,null,null,null,null,null,null,null,null,null,null,null,null,null,"000002546","MACHUPICCHU","02","07","13","04","0207","000002546 - MACHUPICCHU"]
[null,null,null,null,null,null,null,null,null,null,null,null,null,null,"000002547","COLLPANI","02","07","13","04","0207","000002547 - COLLPANI"]
[null,null,null,null,null,null,null,null,null,null,null,null,null,null,"000002548","MARAS","02","07","13","05","0207","000002548 - MARAS"]
[null,null,null,null,null,null,null,null,null,null,null,null,null,null,"000002549","OLLANTAYTAMBO","02","07","13","06","0207","000002549 - OLLANTAYTAMBO"]
[null,null,null,null,null,null,null,null,null,null,null,null,null,null,"000002550","CHILLCA","02","07","13","06","0207","000002550 - CHILLCA"]
[null,null,null,null,null,null,null,null,null,null,null,null,null,null,"000002551","YUCAY","02","07","13","07","0207","000002551 - YUCAY"]
[null,null,null,null,null,null,null,null,null,null,null,null,null,null,"000006974","CAMINO INCA HUAYLLABAMBA","02","07","13","04","0207","000006974 - CAMINO INCA HUAYLLABAMBA"]
[null,null,null,null,null,null,null,null,null,null,null,null,null,null,"000010060","CAS URUBAMBA -ESSALUD","02","07","13","01","0207","000010060 - CAS URUBAMBA -ESSALUD"]
[null,null,null,null,null,null,null,null,null,null,null,null,null,null,"000010073","MACHU PICCHU - ESSALUD","02","07","13","04","0207","000010073 - MACHU PICCHU - ESSALUD"]
[null,null,null,null,null,null,null,null,null,null,null,null,null,null,"000010758","CRUZPATA","02","07","13","05","0207","000010758 - CRUZPATA"]
[null,null,null,null,null,null,null,null,null,null,null,null,null,null,"000010760","PATACANCHA","02","07","13","06","0207","000010760 - PATACANCHA"]
[null,null,null,null,null,null,null,null,null,null,null,null,null,null,"000030666","MENTAL COMUNITARIO URUBAMBA","02","07","13","01","0207","000030666 - MENTAL COMUNITARIO URUBAMBA"]
[null,null,null,null,null,null,null,null,null,null,null,null,null,null,"000000000","(All)","02","08",null,null,"0208","000000000 - (All)"]
[null,null,null,null,null,null,null,null,null,null,null,null,null,null,"000002355","LA QUEBRADA","02","08","04","08","0208","000002355 - LA QUEBRADA"]
[null,null,null,null,null,null,null,null,null,null,null,null,null,null,"000002356","CCORIMAYO","02","08","04","08","0208","000002356 - CCORIMAYO"]
[null,null,null,null,null,null,null,null,null,null,null,null,null,null,"000002357","COLCCA YANATILE","02","08","04","08","0208","000002357 - COLCCA YANATILE"]
[null,null,null,null,null,null,null,null,null,null,null,null,null,null,"000002358","MUYUPAY","02","08","04","08","0208","000002358 - MUYUPAY"]
[null,null,null,null,null,null,null,null,null,null,null,null,null,null,"000002359","PUTUCUSI","02","08","04","08","0208","000002359 - PUTUCUSI"]
[null,null,null,null,null,null,null,null,null,null,null,null,null,null,"000002360","QUESQUENTO","02","08","04","08","0208","000002360 - QUESQUENTO"]
[null,null,null,null,null,null,null,null,null,null,null,null,null,null,"000002362","HUACHIBAMBA","02","08","04","08","0208","000002362 - HUACHIBAMBA"]
[null,null,null,null,null,null,null,null,null,null,null,null,null,null,"000002464","VERSALLES","02","08","09","05","0208","000002464 - VERSALLES"]
[null,null,null,null,null,null,null,null,null,null,null,null,null,null,"000002467","PUENTE SANTIAGO","02","08","09","06","0208","000002467 - PUENTE SANTIAGO"]
[null,null,null,null,null,null,null,null,null,null,null,null,null,null,"000006971","COMBAPATA YANATILE","02","08","04","08","0208","000006971 - COMBAPATA YANATILE"]
[null,null,null,null,null,null,null,null,null,null,null,null,null,null,"000006973","BELLAVISTA","02","08","04","08","0208","000006973 - BELLAVISTA"]
[null,null,null,null,null,null,null,null,null,null,null,null,null,null,"000007142","CHANCAMAYO","02","08","04","08","0208","000007142 - CHANCAMAYO"]
[null,null,null,null,null,null,null,null,null,null,null,null,null,null,"000000000","(All)","02","09",null,null,"0209","000000000 - (All)"]
[null,null,null,null,null,null,null,null,null,null,null,null,null,null,"000002290","SAN PEDRO CUSCO","02","09","01","01","0209","000002290 - SAN PEDRO CUSCO"]
[null,null,null,null,null,null,null,null,null,null,null,null,null,null,"000002291","SIETE CUARTONES","02","09","01","01","0209","000002291 - SIETE CUARTONES"]
[null,null,null,null,null,null,null,null,null,null,null,null,null,null,"000002293","MIRAFLORES","02","09","01","01","0209","000002293 - MIRAFLORES"]
[null,null,null,null,null,null,null,null,null,null,null,null,null,null,"000002294","PICCHU LA RINCONADA","02","09","01","01","0209","000002294 - PICCHU LA RINCONADA"]
[null,null,null,null,null,null,null,null,null,null,null,null,null,null,"000002295","BUENA VISTA","02","09","01","01","0209","000002295 - BUENA VISTA"]
[null,null,null,null,null,null,null,null,null,null,null,null,null,null,"000002299","POROY","02","09","01","03","0209","000002299 - POROY"]
[null,null,null,null,null,null,null,null,null,null,null,null,null,null,"999999999","(All)","02","99",null,null,"0299","999999999 - (All)"]
[null,null,null,null,null,null,null,null,null,null,null,null,null,null,"000002421","QUILLABAMBA","03","00","09","01","0300","000002421 - QUILLABAMBA"]
[null,null,null,null,null,null,null,null,null,null,null,null,null,null,"000000000","(All)","03","01",null,null,"0301","000000000 - (All)"]
[null,null,null,null,null,null,null,null,null,null,null,null,null,null,"000002422","HUAYANAY","03","01","09","01","0301","000002422 - HUAYANAY"]
[null,null,null,null,null,null,null,null,null,null,null,null,null,null,"000002423","IDMA","03","01","09","01","0301","000002423 - IDMA"]
[null,null,null,null,null,null,null,null,null,null,null,null,null,null,"000002424","POTRERO","03","01","09","01","0301","000002424 - POTRERO"]
[null,null,null,null,null,null,null,null,null,null,null,null,null,null,"000002425","ECHARATE","03","01","09","02","0301","000002425 - ECHARATE"]
[null,null,null,null,null,null,null,null,null,null,null,null,null,null,"000002430","PAMPA CONCEPCION","03","01","09","02","0301","000002430 - PAMPA CONCEPCION"]
[null,null,null,null,null,null,null,null,null,null,null,null,null,null,"000002446","CHACCO","03","01","09","02","0301","000002446 - CHACCO"]
[null,null,null,null,null,null,null,null,null,null,null,null,null,null,"000002451","CHAHUARES","03","01","09","02","0301","000002451 - CHAHUARES"]
[null,null,null,null,null,null,null,null,null,null,null,null,null,null,"000008910","SANTA ANA","03","01","09","01","0301","000008910 - SANTA ANA"]
[null,null,null,null,null,null,null,null,null,null,null,null,null,null,"000010062","QUILLABAMBA - ESSALUD","03","01","09","01","0301","000010062 - QUILLABAMBA - ESSALUD"]
[null,null,null,null,null,null,null,null,null,null,null,null,null,null,"000011744","POSTA MEDICO POLICIAL LA CONVENCION - QUILLABAMBA","03","01","09","01","0301","000011744 - POSTA MEDICO POLICIAL LA CONVENCION - QUILLABAMBA"]
[null,null,null,null,null,null,null,null,null,null,null,null,null,null,"000015842","PAVAYOC","03","01","09","01",{"$f":"CONCATENATE(Q218,R218)","v":"0301"},{"$f":"CONCATENATE(O218,\" - \",P218)","v":"000015842 - PAVAYOC"}]
[null,null,null,null,null,null,null,null,null,null,null,null,null,null,"000024653","INPE QUILLABAMBA","03","01","09","01","0301","000024653 - INPE QUILLABAMBA"]
[null,null,null,null,null,null,null,null,null,null,null,null,null,null,"000026386","MENTAL QUILLABAMBA","03","01","09","01","0301","000026386 - MENTAL QUILLABAMBA"]
[null,null,null,null,null,null,null,null,null,null,null,null,null,null,"000033273","SAN ISIDRO LABRADOR - ECHARATI","03","01","09","02","0301","000033273 - SAN ISIDRO LABRADOR - ECHARATI"]
[null,null,null,null,null,null,null,null,null,null,null,null,null,null,"000000000","(All)","03","02",null,null,"0302","000000000 - (All)"]
[null,null,null,null,null,null,null,null,null,null,null,null,null,null,"000002453","HUYRO","03","02","09","03","0302","000002453 - HUYRO"]
[null,null,null,null,null,null,null,null,null,null,null,null,null,null,"000002454","ALFAMAYO","03","02","09","03","0302","000002454 - ALFAMAYO"]
[null,null,null,null,null,null,null,null,null,null,null,null,null,null,"000002455","HUAYOPATA","03","02","09","03","0302","000002455 - HUAYOPATA"]
[null,null,null,null,null,null,null,null,null,null,null,null,null,null,"000002456","AMAYBAMBA","03","02","09","03","0302","000002456 - AMAYBAMBA"]
[null,null,null,null,null,null,null,null,null,null,null,null,null,null,"000002457","SAN PABLO HUAYOPATA","03","02","09","03","0302","000002457 - SAN PABLO HUAYOPATA"]
[null,null,null,null,null,null,null,null,null,null,null,null,null,null,"000002458","MARANURA","03","02","09","04","0302","000002458 - MARANURA"]
[null,null,null,null,null,null,null,null,null,null,null,null,null,null,"000002460","SANTA MARIA","03","02","09","04","0302","000002460 - SANTA MARIA"]
[null,null,null,null,null,null,null,null,null,null,null,null,null,null,"000002461","UCHUMAYO","03","02","09","04","0302","000002461 - UCHUMAYO"]
[null,null,null,null,null,null,null,null,null,null,null,null,null,null,"000002476","SANTA TERESA","03","02","09","08","0302","000002476 - SANTA TERESA"]
[null,null,null,null,null,null,null,null,null,null,null,null,null,null,"000002477","SULLUCUYOC","03","02","09","08","0302","000002477 - SULLUCUYOC"]
[null,null,null,null,null,null,null,null,null,null,null,null,null,null,"000002478","TOTORA","03","02","09","08","0302","000002478 - TOTORA"]
[null,null,null,null,null,null,null,null,null,null,null,null,null,null,"000010075","CAP HUYRO - ESSALUD","03","02","09","03","0302","000010075 - CAP HUYRO - ESSALUD"]
[null,null,null,null,null,null,null,null,null,null,null,null,null,null,"000000000","(All)","03","03",null,null,"0303","000000000 - (All)"]
[null,null,null,null,null,null,null,null,null,null,null,null,null,null,"000002363","TUPAC AMARU QUELLOUNO","03","03","04","08","0303","000002363 - TUPAC AMARU QUELLOUNO"]
[null,null,null,null,null,null,null,null,null,null,null,null,null,null,"000002462","OCCOBAMBA LACONVENCION","03","03","09","05","0303","000002462 - OCCOBAMBA LACONVENCION"]
[null,null,null,null,null,null,null,null,null,null,null,null,null,null,"000002463","CHINGANILLA","03","03","09","05","0303","000002463 - CHINGANILLA"]
[null,null,null,null,null,null,null,null,null,null,null,null,null,null,"000002465","QUELLOUNO","03","03","09","06","0303","000002465 - QUELLOUNO"]
[null,null,null,null,null,null,null,null,null,null,null,null,null,null,"000002466","HUILLCAPAMPA","03","03","09","06","0303","000002466 - HUILLCAPAMPA"]
[null,null,null,null,null,null,null,null,null,null,null,null,null,null,"000002468","SAN MARTIN","03","03","09","06","0303","000002468 - SAN MARTIN"]
[null,null,null,null,null,null,null,null,null,null,null,null,null,null,"000008906","ESTRELLA","03","03","09","06","0303","000008906 - ESTRELLA"]
[null,null,null,null,null,null,null,null,null,null,null,null,null,null,"000008907","MATORIATO","03","03","09","06","0303","000008907 - MATORIATO"]
[null,null,null,null,null,null,null,null,null,null,null,null,null,null,"000008908","CHIRUMBIA","03","03","09","06","0303","000008908 - CHIRUMBIA"]
[null,null,null,null,null,null,null,null,null,null,null,null,null,null,"000008909","CHAPO BOYERO","03","03","09","06","0303","000008909 - CHAPO BOYERO"]
[null,null,null,null,null,null,null,null,null,null,null,null,null,null,"000000000","(All)","03","04",null,null,"0304","000000000 - (All)"]
[null,null,null,null,null,null,null,null,null,null,null,null,null,null,"000002427","KITENI","03","04","09","02","0304","000002427 - KITENI"]
[null,null,null,null,null,null,null,null,null,null,null,null,null,null,"000002431","IVOCHOTE","03","04","09","02","0304","000002431 - IVOCHOTE"]
[null,null,null,null,null,null,null,null,null,null,null,null,null,null,"000002432","KEPASHIATO","03","04","09","02","0304","000002432 - KEPASHIATO"]
[null,null,null,null,null,null,null,null,null,null,null,null,null,null,"000002434","MATERIATO","03","04","09","02","0304","000002434 - MATERIATO"]
[null,null,null,null,null,null,null,null,null,null,null,null,null,null,"000002438","PACHIRI","03","04","09","02","0304","000002438 - PACHIRI"]
[null,null,null,null,null,null,null,null,null,null,null,null,null,null,"000002440","PANGOA","03","04","09","02","0304","000002440 - PANGOA"]
[null,null,null,null,null,null,null,null,null,null,null,null,null,null,"000002443","SANIRIATO","03","04","09","02","0304","000002443 - SANIRIATO"]
[null,null,null,null,null,null,null,null,null,null,null,null,null,null,"000002447","KAMANQUIRIATO","03","04","09","02","0304","000002447 - KAMANQUIRIATO"]
[null,null,null,null,null,null,null,null,null,null,null,null,null,null,"000002489","YUVENI","03","04","09","09","0304","000002489 - YUVENI"]
[null,null,null,null,null,null,null,null,null,null,null,null,null,null,"000002493","SELVA ALEGRE","03","04","09","09","0304","000002493 - SELVA ALEGRE"]
[null,null,null,null,null,null,null,null,null,null,null,null,null,null,"000006976","CHONTABAMBA","03","04","09","09","0304","000006976 - CHONTABAMBA"]
[null,null,null,null,null,null,null,null,null,null,null,null,null,null,"000013068","TRIO RIO","03","04","09","02","0304","000013068 - TRIO RIO"]
[null,null,null,null,null,null,null,null,null,null,null,null,null,null,"000013069","PUGUIENTIMARI","03","04","09","02","0304","000013069 - PUGUIENTIMARI"]
[null,null,null,null,null,null,null,null,null,null,null,null,null,null,"000014531","CENTRO DE ATENCIÓN PRIMARIA I ECHARATE - KITENI","03","04","09","02","0304","000014531 - CENTRO DE ATENCIÓN PRIMARIA I ECHARATE - KITENI"]
[null,null,null,null,null,null,null,null,null,null,null,null,null,null,"000024583","BCT N° 314 - KEPASHIATO","03","04","09","02","0304","000024583 - BCT N° 314 - KEPASHIATO"]
[null,null,null,null,null,null,null,null,null,null,null,null,null,null,"000000000","(All)","03","05",null,null,"0305","000000000 - (All)"]
[null,null,null,null,null,null,null,null,null,null,null,null,null,null,"000002426","KIRIGUETI","03","05","09","14","0305","000002426 - KIRIGUETI"]
[null,null,null,null,null,null,null,null,null,null,null,null,null,null,"000002428","CHOCORIARI","03","05","09","14","0305","000002428 - CHOCORIARI"]
[null,null,null,null,null,null,null,null,null,null,null,null,null,null,"000002435","MIARIA","03","05","09","14","0305","000002435 - MIARIA"]
[null,null,null,null,null,null,null,null,null,null,null,null,null,null,"000002436","NUEVA LUZ","03","05","09","14","0305","000002436 - NUEVA LUZ"]
[null,null,null,null,null,null,null,null,null,null,null,null,null,null,"000002437","NUEVO MUNDO","03","05","09","14","0305","000002437 - NUEVO MUNDO"]
[null,null,null,null,null,null,null,null,null,null,null,null,null,null,"000002441","PUERTO HUALLANA","03","05","09","14","0305","000002441 - PUERTO HUALLANA"]
[null,null,null,null,null,null,null,null,null,null,null,null,null,null,"000002442","PUERTO RICO","03","05","09","14","0305","000002442 - PUERTO RICO"]
[null,null,null,null,null,null,null,null,null,null,null,null,null,null,"000002444","SENSA","03","05","09","14","0305","000002444 - SENSA"]
[null,null,null,null,null,null,null,null,null,null,null,null,null,null,"000002445","TIMPIA","03","05","09","14","0305","000002445 - TIMPIA"]
[null,null,null,null,null,null,null,null,null,null,null,null,null,null,"000002448","KAMISEA","03","05","09","14","0305","000002448 - KAMISEA"]
[null,null,null,null,null,null,null,null,null,null,null,null,null,null,"000002452","SHIVANKORENI","03","05","09","14","0305","000002452 - SHIVANKORENI"]
[null,null,null,null,null,null,null,null,null,null,null,null,null,null,"000013066","MONTETONI","03","05","09","14","0305","000013066 - MONTETONI"]
[null,null,null,null,null,null,null,null,null,null,null,null,null,null,"000013067","TANGOSHIARI","03","05","09","14","0305","000013067 - TANGOSHIARI"]
[null,null,null,null,null,null,null,null,null,null,null,null,null,null,"000015235","NUEVA VIDA","03","05","09","14","0305","000015235 - NUEVA VIDA"]
[null,null,null,null,null,null,null,null,null,null,null,null,null,null,"000015843","CASHIRIARI","03","05","09","14","0305","000015843 - CASHIRIARI"]
[null,null,null,null,null,null,null,null,null,null,null,null,null,null,"000015844","CAMANA","03","05","09","14","0305","000015844 - CAMANA"]
[null,null,null,null,null,null,null,null,null,null,null,null,null,null,"000033274","BCT  NUEVO MUNDO","03","05","09","14","0305","000033274 - BCT  NUEVO MUNDO"]
[null,null,null,null,null,null,null,null,null,null,null,null,null,null,"000000000","(All)","03","06",null,null,"0306","000000000 - (All)"]
[null,null,null,null,null,null,null,null,null,null,null,null,null,null,"000002480","PUCYURA","03","06","09","09","0306","000002480 - PUCYURA"]
[null,null,null,null,null,null,null,null,null,null,null,null,null,null,"000002481","CCARCCO","03","06","09","11",{"$f":"CONCATENATE(Q282,R282)","v":"0306"},{"$f":"CONCATENATE(O282,\" - \",P282)","v":"000002481 - CCARCCO"}]
[null,null,null,null,null,null,null,null,null,null,null,null,null,null,"000002482","INCAHUASI","03","06","09","11","0306","000002482 - INCAHUASI"]
[null,null,null,null,null,null,null,null,null,null,null,null,null,null,"000002484","OYARA","03","06","09","09","0306","000002484 - OYARA"]
[null,null,null,null,null,null,null,null,null,null,null,null,null,null,"000002485","PACCAYBAMBA","03","06","09","11","0306","000002485 - PACCAYBAMBA"]
[null,null,null,null,null,null,null,null,null,null,null,null,null,null,"000002486","PAMPACONAS","03","06","09","09","0306","000002486 - PAMPACONAS"]
[null,null,null,null,null,null,null,null,null,null,null,null,null,null,"000002487","CHOQUETIRA","03","06","09","11","0306","000002487 - CHOQUETIRA"]
[null,null,null,null,null,null,null,null,null,null,null,null,null,null,"000002490","ARMA","03","06","09","09","0306","000002490 - ARMA"]
[null,null,null,null,null,null,null,null,null,null,null,null,null,null,"000002491","LUCMAHUAYCO","03","06","09","11","0306","000002491 - LUCMAHUAYCO"]
[null,null,null,null,null,null,null,null,null,null,null,null,null,null,"000002492","PALTAYBAMBA","03","06","09","09","0306","000002492 - PALTAYBAMBA"]
[null,null,null,null,null,null,null,null,null,null,null,null,null,null,"000013070","CHANCAVINE","03","06","09","12","0306","000013070 - CHANCAVINE"]
[null,null,null,null,null,null,null,null,null,null,null,null,null,null,"000000000","(All)","03","07",null,null,"0307","000000000 - (All)"]
[null,null,null,null,null,null,null,null,null,null,null,null,null,null,"000002429","CIRIALO                                                                                             ","03","07","09","02","0307","000002429 - CIRIALO                                                                                             "]
[null,null,null,null,null,null,null,null,null,null,null,null,null,null,"000002433","KORIBENI                                                                                            ","03","07","09","02","0307","000002433 - KORIBENI                                                                                            "]
[null,null,null,null,null,null,null,null,null,null,null,null,null,null,"000002439","PALMA REAL                                                                                          ","03","07","09","02","0307","000002439 - PALMA REAL                                                                                          "]
[null,null,null,null,null,null,null,null,null,null,null,null,null,null,"000002449","ICHIQUIATO                                                                                          ","03","07","09","02","0307","000002449 - ICHIQUIATO                                                                                          "]
[null,null,null,null,null,null,null,null,null,null,null,null,null,null,"000002450","SAN ANTONIO                                                                                         ","03","07","09","02","0307","000002450 - SAN ANTONIO                                                                                         "]
[null,null,null,null,null,null,null,null,null,null,null,null,null,null,"999999999","(All)","03","99",null,null,"0399","999999999 - (All)"]
[null,null,null,null,null,null,null,null,null,null,null,null,null,null,"000000000","(All)","04","00",null,null,"0400","000000000 - (All)"]
[null,null,null,null,null,null,null,null,null,null,null,null,null,null,"000002378","SICUANI","04","00","06","01","0400","000002378 - SICUANI"]
[null,null,null,null,null,null,null,null,null,null,null,null,null,null,"000007135","ESPINAR","04","00","08","01","0400","000007135 - ESPINAR"]
[null,null,null,null,null,null,null,null,null,null,null,null,null,null,"000000000","(All)","04","01",null,null,"0401","000000000 - (All)"]
[null,null,null,null,null,null,null,null,null,null,null,null,null,null,"000002364","YANAOCA","04","01","05","01","0401","000002364 - YANAOCA"]
[null,null,null,null,null,null,null,null,null,null,null,null,null,null,"000002365","PONGOÑA","04","01","05","01","0401","000002365 - PONGOÑA"]
[null,null,null,null,null,null,null,null,null,null,null,null,null,null,"000002372","PAMPAMARCA","04","01","05","06","0401","000002372 - PAMPAMARCA"]
[null,null,null,null,null,null,null,null,null,null,null,null,null,null,"000002373","QUEHUE","04","01","05","07","0401","000002373 - QUEHUE"]
[null,null,null,null,null,null,null,null,null,null,null,null,null,null,"000002374","HUINCHIRI","04","01","05","07","0401","000002374 - HUINCHIRI"]
[null,null,null,null,null,null,null,null,null,null,null,null,null,null,"000002375","SURIMANA","04","01","05","08","0401","000002375 - SURIMANA"]
[null,null,null,null,null,null,null,null,null,null,null,null,null,null,"000002376","TUNGASUCA","04","01","05","08","0401","000002376 - TUNGASUCA"]
[null,null,null,null,null,null,null,null,null,null,null,null,null,null,"000002377","TOCCOCCORI","04","01","05","08","0401","000002377 - TOCCOCCORI"]
[null,null,null,null,null,null,null,null,null,null,null,null,null,null,"000018241","HAMPATURA","04","01","05","01","0401","000018241 - HAMPATURA"]
[null,null,null,null,null,null,null,null,null,null,null,null,null,null,"000032339","CCOCHAPATA","04","01","05","08","0401","000032339 - CCOCHAPATA"]
[null,null,null,null,null,null,null,null,null,null,null,null,null,null,"000000000","(All)","04","02",null,null,"0402","000000000 - (All)"]
[null,null,null,null,null,null,null,null,null,null,null,null,null,null,"000002366","CHECCA","04","02","05","02","0402","000002366 - CHECCA"]
[null,null,null,null,null,null,null,null,null,null,null,null,null,null,"000002367","CHITIBAMBA","04","01","05","02","0401","000002367 - CHITIBAMBA"]
[null,null,null,null,null,null,null,null,null,null,null,null,null,null,"000007700","EL DESCANSO","04","02","05","03","0402","000007700 - EL DESCANSO"]
[null,null,null,null,null,null,null,null,null,null,null,null,null,null,"000000000","(All)","04","03",null,null,"0403","000000000 - (All)"]
[null,null,null,null,null,null,null,null,null,null,null,null,null,null,"000002320","MOSOCLLACTA","04","03","02","04","0403","000002320 - MOSOCLLACTA"]
[null,null,null,null,null,null,null,null,null,null,null,null,null,null,"000002385","CHECACUPE","04","03","06","02","0403","000002385 - CHECACUPE"]
[null,null,null,null,null,null,null,null,null,null,null,null,null,null,"000002386","COMBAPATA CANCHIS","04","03","06","03","0403","000002386 - COMBAPATA CANCHIS"]
[null,null,null,null,null,null,null,null,null,null,null,null,null,null,"000002387","CHIARA","04","03","06","03","0403","000002387 - CHIARA"]
[null,null,null,null,null,null,null,null,null,null,null,null,null,null,"000002392","PITUMARCA","04","03","06","05","0403","000002392 - PITUMARCA"]
[null,null,null,null,null,null,null,null,null,null,null,null,null,null,"000002397","TINTA","04","03","06","08","0403","000002397 - TINTA"]
[null,null,null,null,null,null,null,null,null,null,null,null,null,null,"000000000","(All)","04","04",null,null,"0404","000000000 - (All)"]
[null,null,null,null,null,null,null,null,null,null,null,null,null,null,"000002369","LANGUI","04","04","05","04","0404","000002369 - LANGUI"]
[null,null,null,null,null,null,null,null,null,null,null,null,null,null,"000002370","CONDEVILUYO","04","04","05","04","0404","000002370 - CONDEVILUYO"]
[null,null,null,null,null,null,null,null,null,null,null,null,null,null,"000002371","LAYO","04","04","05","05","0404","000002371 - LAYO"]
[null,null,null,null,null,null,null,null,null,null,null,null,null,null,"000002379","HERCCA","04","04","06","01","0404","000002379 - HERCCA"]
[null,null,null,null,null,null,null,null,null,null,null,null,null,null,"000002380","TECHO OBRERO","04","04","06","01","0404","000002380 - TECHO OBRERO"]
[null,null,null,null,null,null,null,null,null,null,null,null,null,null,"000002388","MARANGANI","04","04","06","04","0404","000002388 - MARANGANI"]
[null,null,null,null,null,null,null,null,null,null,null,null,null,null,"000002389","CHECTUYOC","04","04","06","04","0404","000002389 - CHECTUYOC"]
[null,null,null,null,null,null,null,null,null,null,null,null,null,null,"000002390","CCUYO","04","04","06","04","0404","000002390 - CCUYO"]
[null,null,null,null,null,null,null,null,null,null,null,null,null,null,"000002391","OCCOBAMBA MARANGANI","04","04","06","04","0404","000002391 - OCCOBAMBA MARANGANI"]
[null,null,null,null,null,null,null,null,null,null,null,null,null,null,"000010063","ESSALUD SICUANI","04","04","06","01","0404","000010063 - ESSALUD SICUANI"]
[null,null,null,null,null,null,null,null,null,null,null,null,null,null,"000024639","INPE SICUANI","04","04","06","01","0404","000024639 - INPE SICUANI"]
[null,null,null,null,null,null,null,null,null,null,null,null,null,null,"000024663","SANIDAD PNP  SICUANI","04","04","06","01","0404","000024663 - SANIDAD PNP  SICUANI"]
[null,null,null,null,null,null,null,null,null,null,null,null,null,null,"000000000","(All)","04","05",null,null,"0405","000000000 - (All)"]
[null,null,null,null,null,null,null,null,null,null,null,null,null,null,"000002381","QUEHUAR","04","05","06","01","0405","000002381 - QUEHUAR"]
[null,null,null,null,null,null,null,null,null,null,null,null,null,null,"000002382","UZCUPATA","04","05","06","01","0405","000002382 - UZCUPATA"]
[null,null,null,null,null,null,null,null,null,null,null,null,null,null,"000002383","LA FLORIDA","04","05","06","01","0405","000002383 - LA FLORIDA"]
[null,null,null,null,null,null,null,null,null,null,null,null,null,null,"000002384","PAMPAPHALLA","04","05","06","01","0405","000002384 - PAMPAPHALLA"]
[null,null,null,null,null,null,null,null,null,null,null,null,null,null,"000002393","PHINAYA","04","05","06","05","0405","000002393 - PHINAYA"]
[null,null,null,null,null,null,null,null,null,null,null,null,null,null,"000002394","SAN PABLO CANCHIS","04","05","06","06","0405","000002394 - SAN PABLO CANCHIS"]
[null,null,null,null,null,null,null,null,null,null,null,null,null,null,"000002395","SANTA BARBARA","04","05","06","06","0405","000002395 - SANTA BARBARA"]
[null,null,null,null,null,null,null,null,null,null,null,null,null,null,"000002396","SAN PEDRO CANCHIS","04","05","06","07","0405","000002396 - SAN PEDRO CANCHIS"]
[null,null,null,null,null,null,null,null,null,null,null,null,null,null,"000026387","MENTAL COMUNITARIO SICUANI","04","05","06","01","0405","000026387 - MENTAL COMUNITARIO SICUANI"]
[null,null,null,null,null,null,null,null,null,null,null,null,null,null,"000032923","SR DE PAMPACUCHO-SICUANI","04","05","06","01","0405","000032923 - SR DE PAMPACUCHO-SICUANI"]
[null,null,null,null,null,null,null,null,null,null,null,null,null,null,"000000000","(All)","04","06",null,null,"0406","000000000 - (All)"]
[null,null,null,null,null,null,null,null,null,null,null,null,null,null,"000002410","YAURI","04","06","08","01",{"$f":"CONCATENATE(Q349,R349)","v":"0406"},{"$f":"CONCATENATE(O349,\" - \",P349)","v":"000002410 - YAURI"}]
[null,null,null,null,null,null,null,null,null,null,null,null,null,null,"000002411","CONDOROMA","04","06","08","02","0406","000002411 - CONDOROMA"]
[null,null,null,null,null,null,null,null,null,null,null,null,null,null,"000002412","COPORAQUE","04","06","08","03","0406","000002412 - COPORAQUE"]
[null,null,null,null,null,null,null,null,null,null,null,null,null,null,"000002413","URINSAYA","04","06","08","03","0406","000002413 - URINSAYA"]
[null,null,null,null,null,null,null,null,null,null,null,null,null,null,"000002414","HUAYHUAHUASI","04","06","08","03","0406","000002414 - HUAYHUAHUASI"]
[null,null,null,null,null,null,null,null,null,null,null,null,null,null,"000002415","OCCORURO","04","06","08","04","0406","000002415 - OCCORURO"]
[null,null,null,null,null,null,null,null,null,null,null,null,null,null,"000002416","PALLPATA","04","06","08","05","0406","000002416 - PALLPATA"]
[null,null,null,null,null,null,null,null,null,null,null,null,null,null,"000002417","PICHIGUA ESPINAR","04","06","08","06","0406","000002417 - PICHIGUA ESPINAR"]
[null,null,null,null,null,null,null,null,null,null,null,null,null,null,"000002418","SAN MIGUEL","04","06","08","06","0406","000002418 - SAN MIGUEL"]
[null,null,null,null,null,null,null,null,null,null,null,null,null,null,"000002419","SUYKUTAMBO","04","06","08","07","0406","000002419 - SUYKUTAMBO"]
[null,null,null,null,null,null,null,null,null,null,null,null,null,null,"000002420","ACCOCUNCA","04","06","08","08","0406","000002420 - ACCOCUNCA"]
[null,null,null,null,null,null,null,null,null,null,null,null,null,null,"000006745","TINTAYA MARQUIRI","04","06","08","01","0406","000006745 - TINTAYA MARQUIRI"]
[null,null,null,null,null,null,null,null,null,null,null,null,null,null,"000010061","ESPINAR - ESSALUD","04","06","08","01","0406","000010061 - ESPINAR - ESSALUD"]
[null,null,null,null,null,null,null,null,null,null,null,null,null,null,"000030366","MENTAL COMUNITARIO ESPINAR \"MUSUQ KAWSAY\"","04","06","08","01","0406","000030366 - MENTAL COMUNITARIO ESPINAR \"MUSUQ KAWSAY\""]
[null,null,null,null,null,null,null,null,null,null,null,null,null,null,"999999999","(All)","04","99",null,null,"0499","999999999 - (All)"]
[null,null,null,null,null,null,null,null,null,null,null,null,null,null,"000002469","SAN JUAN DE KIMBIRI-VRAEM","05","00","09","07","0500","000002469 - SAN JUAN DE KIMBIRI-VRAEM"]
[null,null,null,null,null,null,null,null,null,null,null,null,null,null,"000000000","(All)","05","01",null,null,"0501","000000000 - (All)"]
[null,null,null,null,null,null,null,null,null,null,null,null,null,null,"000002470","CHIRUMPIARI","05","01","09","07","0501","000002470 - CHIRUMPIARI"]
[null,null,null,null,null,null,null,null,null,null,null,null,null,null,"000002471","LOBO TAHUANTINSUYO","05","01","09","07","0501","000002471 - LOBO TAHUANTINSUYO"]
[null,null,null,null,null,null,null,null,null,null,null,null,null,null,"000002472","MAPITUNARI","05","01","09","07","0501","000002472 - MAPITUNARI"]
[null,null,null,null,null,null,null,null,null,null,null,null,null,null,"000002473","UNION ROSALES","05","01","09","07","0501","000002473 - UNION ROSALES"]
[null,null,null,null,null,null,null,null,null,null,null,null,null,null,"000002474","SAMANIATO","05","01","09","07","0501","000002474 - SAMANIATO"]
[null,null,null,null,null,null,null,null,null,null,null,null,null,null,"000002475","KIMBIRI ALTO","05","01","09","07","0501","000002475 - KIMBIRI ALTO"]
[null,null,null,null,null,null,null,null,null,null,null,null,null,null,"000002479","VILLA VIRGEN","05","01","09","12","0501","000002479 - VILLA VIRGEN"]
[null,null,null,null,null,null,null,null,null,null,null,null,null,null,"000002488","VILLA KINTIARINA","05","01","09","13","0501","000002488 - VILLA KINTIARINA"]
[null,null,null,null,null,null,null,null,null,null,null,null,null,null,"000008283","PUEBLO LIBRE","05","01","09","13","0501","000008283 - PUEBLO LIBRE"]
[null,null,null,null,null,null,null,null,null,null,null,null,null,null,"000008284","MANITEA ALTA","05","01","09","07","0501","000008284 - MANITEA ALTA"]
[null,null,null,null,null,null,null,null,null,null,null,null,null,null,"000008285","ANGELES","05","01","09","07","0501","000008285 - ANGELES"]
[null,null,null,null,null,null,null,null,null,null,null,null,null,null,"000024957","BTC LA OROYA  N°34 VILLA VIRGEN","05","01","09","12","0501","000024957 - BTC LA OROYA  N°34 VILLA VIRGEN"]
[null,null,null,null,null,null,null,null,null,null,null,null,null,null,"000000000","(All)","05","02",null,null,"0502","000000000 - (All)"]
[null,null,null,null,null,null,null,null,null,null,null,null,null,null,"000002494","PICHARI","05","02","09","10","0502","000002494 - PICHARI"]
[null,null,null,null,null,null,null,null,null,null,null,null,null,null,"000002495","MANTARO","05","02","09","10","0502","000002495 - MANTARO"]
[null,null,null,null,null,null,null,null,null,null,null,null,null,null,"000002496","OMAYA","05","02","09","10","0502","000002496 - OMAYA"]
[null,null,null,null,null,null,null,null,null,null,null,null,null,null,"000002497","OTARI","05","02","09","10","0502","000002497 - OTARI"]
[null,null,null,null,null,null,null,null,null,null,null,null,null,null,"000002498","PUERTO MAYO","05","02","09","10","0502","000002498 - PUERTO MAYO"]
[null,null,null,null,null,null,null,null,null,null,null,null,null,null,"000007113","NATIVIDAD","05","02","09","10","0502","000007113 - NATIVIDAD"]
[null,null,null,null,null,null,null,null,null,null,null,null,null,null,"000007114","QUISTO CENTRAL","05","02","09","10","0502","000007114 - QUISTO CENTRAL"]
[null,null,null,null,null,null,null,null,null,null,null,null,null,null,"000015104","TAMBO DEL ENE","05","02","09","10","0502","000015104 - TAMBO DEL ENE"]
[null,null,null,null,null,null,null,null,null,null,null,null,null,null,"000015169","PITIRINQUINI","05","02","09","10","0502","000015169 - PITIRINQUINI"]
[null,null,null,null,null,null,null,null,null,null,null,null,null,null,"000015170","PICHARI BAJA","05","02","09","10","0502","000015170 - PICHARI BAJA"]
[null,null,null,null,null,null,null,null,null,null,null,null,null,null,"000024638","MILITAR PICHARI","05","02","09","10","0502","000024638 - MILITAR PICHARI"]
[null,null,null,null,null,null,null,null,null,null,null,null,null,null,"000027230","MEDICA POLICIAL PICHARI","05","02","09","10","0502","000027230 - MEDICA POLICIAL PICHARI"]
[null,null,null,null,null,null,null,null,null,null,null,null,null,null,"000027948","ESSALUD PICHARI","05","02","09","10","0502","000027948 - ESSALUD PICHARI"]
[null,null,null,null,null,null,null,null,null,null,null,null,null,null,"000032211","NUEVO PROGRESO","05","02","09","10","0502","000032211 - NUEVO PROGRESO"]
[null,null,null,null,null,null,null,null,null,null,null,null,null,null,"000033988","MENTAL COMUNITARIO PICHARI","05","02","09","10","0502","000033988 - MENTAL COMUNITARIO PICHARI"]
[null,null,null,null,null,null,null,null,null,null,null,null,null,null,"999999999","(All)","05","99",null,null,"0599","999999999 - (All)"]
[null,null,null,null,null,null,null,null,null,null,null,null,null,null,"000002398","SANTO TOMAS","06","00","07","01","0600","000002398 - SANTO TOMAS"]
[null,null,null,null,null,null,null,null,null,null,null,null,null,null,"000033097","SAMUE CHUMBIVILCAS","06","00","07","01","0600","000033097 - SAMUE CHUMBIVILCAS"]
[null,null,null,null,null,null,null,null,null,null,null,null,null,null,"000000000","(All)","06","01",null,null,"0601","000000000 - (All)"]
[null,null,null,null,null,null,null,null,null,null,null,null,null,null,"000002402","CHAMACA","06","01","07","03","0601","000002402 - CHAMACA"]
[null,null,null,null,null,null,null,null,null,null,null,null,null,null,"000002403","AÑAHUICHI","06","01","07","03","0601","000002403 - AÑAHUICHI"]
[null,null,null,null,null,null,null,null,null,null,null,null,null,null,"000002406","LIVITACA","06","01","07","05","0601","000002406 - LIVITACA"]
[null,null,null,null,null,null,null,null,null,null,null,null,null,null,"000016325","CHILLOROYA - LIVITACA","06","01","07","05","0601","000016325 - CHILLOROYA - LIVITACA"]
[null,null,null,null,null,null,null,null,null,null,null,null,null,null,"000016327","AUSANTA","06","01","07","05","0601","000016327 - AUSANTA"]
[null,null,null,null,null,null,null,null,null,null,null,null,null,null,"000016328","UCCHUCCARCCO","06","01","07","03","0601","000016328 - UCCHUCCARCCO"]
[null,null,null,null,null,null,null,null,null,null,null,null,null,null,"000016329","INGATA","06","01","07","03","0601","000016329 - INGATA"]
[null,null,null,null,null,null,null,null,null,null,null,null,null,null,"000016330","CCONCHACCOLLO","06","01","07","03","0601","000016330 - CCONCHACCOLLO"]
[null,null,null,null,null,null,null,null,null,null,null,null,null,null,"000016332","PATAQUEÑA - LIVITACA","06","01","07","05","0601","000016332 - PATAQUEÑA - LIVITACA"]
[null,null,null,null,null,null,null,null,null,null,null,null,null,null,"000016334","KISIO","06","01","07","05","0601","000016334 - KISIO"]
[null,null,null,null,null,null,null,null,null,null,null,null,null,null,"000025739","PISQUICOCHA","06","01","07","05","0601","000025739 - PISQUICOCHA"]
[null,null,null,null,null,null,null,null,null,null,null,null,null,null,"000025740","TOTORA - REYNA DE LOS ANGELES","06","01","07","05","0601","000025740 - TOTORA - REYNA DE LOS ANGELES"]
[null,null,null,null,null,null,null,null,null,null,null,null,null,null,"000000000","(All)","06","09",null,null,"0609","000000000 - (All)"]
[null,null,null,null,null,null,null,null,null,null,null,null,null,null,"000002399","PULPERA","06","09","07","01","0609","000002399 - PULPERA"]
[null,null,null,null,null,null,null,null,null,null,null,null,null,null,"000002400","ALHUACCHULLO","06","09","07","01","0609","000002400 - ALHUACCHULLO"]
[null,null,null,null,null,null,null,null,null,null,null,null,null,null,"000002401","CCAPACMARCA","06","09","07","02","0609","000002401 - CCAPACMARCA"]
[null,null,null,null,null,null,null,null,null,null,null,null,null,null,"000002404","COLQUEMARCA","06","09","07","04","0609","000002404 - COLQUEMARCA"]
[null,null,null,null,null,null,null,null,null,null,null,null,null,null,"000002405","CHARAMURAY","06","09","07","04","0609","000002405 - CHARAMURAY"]
[null,null,null,null,null,null,null,null,null,null,null,null,null,null,"000002407","LLUSCO","06","09","07","06","0609","000002407 - LLUSCO"]
[null,null,null,null,null,null,null,null,null,null,null,null,null,null,"000002408","QUIÑOTA","06","09","07","07","0609","000002408 - QUIÑOTA"]
[null,null,null,null,null,null,null,null,null,null,null,null,null,null,"000002409","VELILLE","06","09","07","08","0609","000002409 - VELILLE"]
[null,null,null,null,null,null,null,null,null,null,null,null,null,null,"000006746","LLIQUE","06","09","07","01","0609","000006746 - LLIQUE"]
[null,null,null,null,null,null,null,null,null,null,null,null,null,null,"000006747","LUTTO","06","09","07","06","0609","000006747 - LUTTO"]
[null,null,null,null,null,null,null,null,null,null,null,null,null,null,"000006748","COLLPA","06","09","07","06","0609","000006748 - COLLPA"]
[null,null,null,null,null,null,null,null,null,null,null,null,null,null,"000006981","CCOYO","06","09","07","01",{"$f":"CONCATENATE(Q422,R422)","v":"0609"},{"$f":"CONCATENATE(O422,\" - \",P422)","v":"000006981 - CCOYO"}]
[null,null,null,null,null,null,null,null,null,null,null,null,null,null,"000006982","MELLOTOTORA","06","09","07","01","0609","000006982 - MELLOTOTORA"]
[null,null,null,null,null,null,null,null,null,null,null,null,null,null,"000006983","ORCCOMA","06","09","07","01","0609","000006983 - ORCCOMA"]
[null,null,null,null,null,null,null,null,null,null,null,null,null,null,"000006984","CCOLLANA","06","09","07","07","0609","000006984 - CCOLLANA"]
[null,null,null,null,null,null,null,null,null,null,null,null,null,null,"000006985","TOTORAPALLCA","06","09","07","06","0609","000006985 - TOTORAPALLCA"]
[null,null,null,null,null,null,null,null,null,null,null,null,null,null,"000007111","YAVINA","06","09","07","01","0609","000007111 - YAVINA"]
[null,null,null,null,null,null,null,null,null,null,null,null,null,null,"000007112","YORENCCA","06","09","07","07","0609","000007112 - YORENCCA"]
[null,null,null,null,null,null,null,null,null,null,null,null,null,null,"000008912","ALCCA VICTORIA","06","09","07","08","0609","000008912 - ALCCA VICTORIA"]
[null,null,null,null,null,null,null,null,null,null,null,null,null,null,"000008913","HUARACO","06","09","07","04","0609","000008913 - HUARACO"]
[null,null,null,null,null,null,null,null,null,null,null,null,null,null,"000008914","HUAYLLANI","06","09","07","04","0609","000008914 - HUAYLLANI"]
[null,null,null,null,null,null,null,null,null,null,null,null,null,null,"000008915","PFULLPURI CONDEPAMPA","06","09","07","01","0609","000008915 - PFULLPURI CONDEPAMPA"]
[null,null,null,null,null,null,null,null,null,null,null,null,null,null,"000009963","CANCAHUANI","06","09","07","02","0609","000009963 - CANCAHUANI"]
[null,null,null,null,null,null,null,null,null,null,null,null,null,null,"000012932","YANQUE","06","09","07","04","0609","000012932 - YANQUE"]
[null,null,null,null,null,null,null,null,null,null,null,null,null,null,"000013185","CAP I SANTO TOMÁS  ESSALUD","06","09","07","01","0609","000013185 - CAP I SANTO TOMÁS  ESSALUD"]
[null,null,null,null,null,null,null,null,null,null,null,null,null,null,"000025369","PUMALLACTA","06","09","07","07","0609","000025369 - PUMALLACTA"]
[null,null,null,null,null,null,null,null,null,null,null,null,null,null,"000025371","TUNTUMA","06","09","07","08","0609","000025371 - TUNTUMA"]
[null,null,null,null,null,null,null,null,null,null,null,null,null,null,"000027008","ANTUYO","06","09","07","06","0609","000027008 - ANTUYO"]
[null,null,null,null,null,null,null,null,null,null,null,null,null,null,"000027009","TAHUAY","06","09","07","02","0609","000027009 - TAHUAY"]
[null,null,null,null,null,null,null,null,null,null,null,null,null,null,"000027011","AYACCASI","06","09","07","08","0609","000027011 - AYACCASI"]
[null,null,null,null,null,null,null,null,null,null,null,null,null,null,"000027016","HUAYCUÑUTA - URCURUTA","06","09","07","08","0609","000027016 - HUAYCUÑUTA - URCURUTA"]
[null,null,null,null,null,null,null,null,null,null,null,null,null,null,"000030940","ARCANGEL SAN MIGUEL DE ESQUINA CONGUNYA","06","09","07","01","0609","000030940 - ARCANGEL SAN MIGUEL DE ESQUINA CONGUNYA"]
[null,null,null,null,null,null,null,null,null,null,null,null,null,null,"999999999","(All)","06","99",null,null,"0699","999999999 - (All)"]
[null,null,null,null,null,null,null,null,null,null,null,null,null,null,"999999999","(All)","99","99",null,null,"9999","999999999 - (All)"]

{"sheet":"RABIA URBANA","index":3,"n_rows":313,"n_cols":28,"rows_kept":313,"cut":false,"hidden":false,"merged":[[269,1,269,2],[286,1,289,2],[282,1,285,2],[278,1,281,2],[274,1,277,2],[270,1,273,2],[304,1,304,2],[305,1,307,2],[299,1,301,2],[296,1,298,2],[293,1,295,2],[292,1,292,2],[241,1,242,2],[245,1,245,2],[246,1,248,2],[264,1,266,2],[261,1,263,2],[258,1,260,2],[255,1,257,2],[252,1,254,2],[249,1,251,2],[228,1,228,3],[229,1,229,3],[232,1,232,3],[233,1,233,3],[234,1,234,3],[235,1,235,3],[236,1,236,3],[237,1,237,3],[238,1,238,3],[24,1,32,1],[24,2,26,2],[27,2,29,2],[30,2,32,2],[5,1,5,9],[18,1,20,1],[18,2,20,2],[13,8,13,9],[7,2,7,3],[9,2,9,3],[11,2,11,3],[13,2,13,3],[7,5,7,6],[9,5,9,6],[36,1,47,1],[36,2,38,2],[36,3,38,3],[39,2,41,2],[39,3,41,3],[42,2,44,2],[42,3,44,3],[45,2,47,2],[45,3,47,3],[48,1,53,1],[48,2,50,2],[48,3,50,3],[51,2,53,2],[51,3,53,3],[54,1,59,1],[54,2,56,2],[54,3,56,3],[57,2,59,2],[57,3,59,3],[60,1,65,1],[60,2,62,2],[60,3,62,3],[63,2,65,2],[63,3,65,3],[66,1,71,1],[66,2,68,2],[66,3,68,3],[69,2,71,2],[69,3,71,3],[72,1,77,1],[72,2,74,2],[72,3,74,3],[75,2,77,2],[75,3,77,3],[78,1,83,1],[78,2,80,2],[78,3,80,3],[81,2,83,2],[81,3,83,3],[129,13,134,13],[135,13,142,13],[143,13,146,13],[147,13,150,13],[87,2,89,2],[87,3,89,3],[90,1,92,1],[90,2,92,2],[90,3,92,3],[84,1,89,1],[84,2,86,2],[84,3,86,3],[11,32,11,33],[19,32,19,33],[173,1,173,2],[174,1,178,2],[311,8,311,9],[179,1,183,2],[184,1,188,2],[189,1,193,2],[194,1,198,2],[199,1,200,2],[203,1,205,2],[208,1,208,2],[209,1,213,2],[214,1,218,2],[219,1,223,2],[226,1,226,3],[227,1,227,3],[151,13,155,13],[156,13,159,13],[160,13,163,13],[164,13,168,13],[173,13,173,16],[108,13,122,13],[123,13,128,13]]}
[null,"GERENCIA REGIONAL DE SALUD CUSCO"]
[]
[null,"DIRECCION DE ESTADISTICA, INFORMATICA Y TELECOMUNICACIONES"]
[]
[]
[null,"INFORME MENSUAL DE RABIA URBANA"]
[]
[null,"GERESA","CUSCO",null,"PROVINCIA",{"$f":"TRIM(TABLAS!O12)","v":""},null,"MINSA"]
[]
[null,"RED",{"$f":"TRIM(TABLAS!O9)","v":"03 - LA CONVENCION"},null,"DISTRITO",{"$f":"TRIM(TABLAS!O13)","v":""},null,"ESSALUD"]
[]
[null,"MICRO RED",{"$f":"TRIM(TABLAS!O10)","v":""},null,"MES",{"$f":"TRIM(TABLAS!N26)","v":"ENE - NOV"},null,"SANIDAD FFAA-PNP"]
[]
[null,"ESTABLECIMIENTO",{"$f":"TRIM(TABLAS!O11)","v":""},null,"AÑO",{"$f":"TRIM(TABLAS!J16)","v":"2024"},{"$f":"+TABLAS!N20","v":11},"EJECUTORA",{"$f":"TRIM(TABLAS!O14)","v":""}]
[]
[null,null,null,null,null,{"$f":"IF(G14=1,MID(C14,1,9)&\"_\"&MID(C14,13,20)&\"_\"&MID(F12,1,3)&\"_\"&F14,MID(C14,1,9)&\"_\"&MID(C14,13,20)&\"_\"&MID(F12,1,3)&\"_\"&MID(F12,7,3)&\"_\"&F14)","v":"__ENE_NOV_2024"}]
[]
[null,"1. Indicación de la profilaxis Pre-exposición en Rabia Urbana","Grupo de riesgo","SEXO","Total","0-11a","12-17a","18-29a","30-59a","60 y más",null,null,null,null,null,null,null,null,null,null,null,null,null,null,null,"=+IMPORTARDATOSDINAMICOS(\" BAS"]
[null,"Personas que manipulan muestras y tengan contacto con animales susceptibles de transmitir rabia urbana (laboratoristas, médico veterinario, técnicos sanitarios, etc","Personal de Salud","T",{"$f":"SUM(F20:J21)","v":17},{"$f":"SUM(F20:F21)","v":2},{"$f":"SUM(G20:G21)","v":0},1,13,1,null,null,"TD=P + DX=90675 + LAB1=PRE + LAB2=ST"]
[null,null,null,"M",{"$f":"SUM(F20:J20)","v":13},{"$f":"+GETPIVOTDATA(\" BAS001\",TABLAS!$A$75)","v":2},{"$f":"+GETPIVOTDATA(\" BAS002\",TABLAS!$A$75)","v":0},{"$f":"+GETPIVOTDATA(\" BAS003\",TABLAS!$A$75)","v":1},{"$f":"+GETPIVOTDATA(\" BAS004\",TABLAS!$A$75)","v":9},{"$f":"+GETPIVOTDATA(\" BAS005\",TABLAS!$A$75)","v":1},null,null,null,{"$f":"IF(T20<10,CONCATENATE($Z$18,\"00\",T20,$Z$20),IF(AND(T20>9,T20<100),CONCATENATE($Z$18,\"0\",T20,$Z$20),CONCATENATE($Z$18,T20,$Z$20)))","v":"=+IMPORTARDATOSDINAMICOS(\" BAS001\";TABLAS!$A$75)"},{"$f":"IF(U20<10,CONCATENATE($Z$18,\"00\",U20,$Z$20),IF(AND(U20>9,U20<100),CONCATENATE($Z$18,\"0\",U20,$Z$20),CONCATENATE($Z$18,U20,$Z$20)))","v":"=+IMPORTARDATOSDINAMICOS(\" BAS002\";TABLAS!$A$75)"},"=+IMPORTARDATOSDINAMICOS(\" BAS003\";TABLAS!$A$75)","=+IMPORTARDATOSDINAMICOS(\" BAS004\";TABLAS!$A$75)","=+IMPORTARDATOSDINAMICOS(\" BAS005\";TABLAS!$A$75)",null,1,{"$f":"+T20+1","v":2},{"$f":"+U20+1","v":3},4,5,null,"\";TABLAS!$A$75)"]
[null,null,null,"F",{"$f":"SUM(F21:J21)","v":4},{"$f":"+GETPIVOTDATA(\" BAS006\",TABLAS!$A$75)","v":0},{"$f":"+GETPIVOTDATA(\" BAS007\",TABLAS!$A$75)","v":0},{"$f":"+GETPIVOTDATA(\" BAS008\",TABLAS!$A$75)","v":0},{"$f":"+GETPIVOTDATA(\" BAS009\",TABLAS!$A$75)","v":4},{"$f":"+GETPIVOTDATA(\" BAS010\",TABLAS!$A$75)","v":0},null,null,null,{"$f":"IF(T21<10,CONCATENATE($Z$18,\"00\",T21,$Z$20),IF(AND(T21>9,T21<100),CONCATENATE($Z$18,\"0\",T21,$Z$20),CONCATENATE($Z$18,T21,$Z$20)))","v":"=+IMPORTARDATOSDINAMICOS(\" BAS006\";TABLAS!$A$75)"},{"$f":"IF(U21<10,CONCATENATE($Z$18,\"00\",U21,$Z$20),IF(AND(U21>9,U21<100),CONCATENATE($Z$18,\"0\",U21,$Z$20),CONCATENATE($Z$18,U21,$Z$20)))","v":"=+IMPORTARDATOSDINAMICOS(\" BAS007\";TABLAS!$A$75)"},{"$f":"IF(V21<10,CONCATENATE($Z$18,\"00\",V21,$Z$20),IF(AND(V21>9,V21<100),CONCATENATE($Z$18,\"0\",V21,$Z$20),CONCATENATE($Z$18,V21,$Z$20)))","v":"=+IMPORTARDATOSDINAMICOS(\" BAS008\";TABLAS!$A$75)"},{"$f":"IF(W21<10,CONCATENATE($Z$18,\"00\",W21,$Z$20),IF(AND(W21>9,W21<100),CONCATENATE($Z$18,\"0\",W21,$Z$20),CONCATENATE($Z$18,W21,$Z$20)))","v":"=+IMPORTARDATOSDINAMICOS(\" BAS009\";TABLAS!$A$75)"},{"$f":"IF(X21<10,CONCATENATE($Z$18,\"00\",X21,$Z$20),IF(AND(X21>9,X21<100),CONCATENATE($Z$18,\"0\",X21,$Z$20),CONCATENATE($Z$18,X21,$Z$20)))","v":"=+IMPORTARDATOSDINAMICOS(\" BAS010\";TABLAS!$A$75)"},null,{"$f":"+X20+1","v":6},{"$f":"+T21+1","v":7},8,9,10]
[]
[]
[null,"2. Administración de la Profilaxis Pre-Exposición en Rabia Urbana: Vacunación Antirrábica Humana","Estado Vacunal","SEXO","Total","0-11a","12-17a","18-29a","30-59a","60 y más"]
[null,"Personas que manipulan muestras y tengan contacto con animales susceptibles de transmitir rabia urbana (laboratoristas, médico veterinario, técnicos sanitarios, etc","ACC: 1","T",{"$f":"SUM(F25:J25)","v":13},{"$f":"SUM(F26:F27)","v":3},{"$f":"SUM(G26:G27)","v":0},3,7,0,null,null,"TD=D + DX=90675 + LAB1=1 + LAB2=PRE + LAB3=ST"]
[null,null,null,"M",{"$f":"SUM(F26:J26)","v":7},{"$f":"+GETPIVOTDATA(\" BAS011\",TABLAS!$A$75)","v":1},{"$f":"+GETPIVOTDATA(\" BAS012\",TABLAS!$A$75)","v":0},{"$f":"+GETPIVOTDATA(\" BAS013\",TABLAS!$A$75)","v":1},{"$f":"+GETPIVOTDATA(\" BAS014\",TABLAS!$A$75)","v":5},{"$f":"+GETPIVOTDATA(\" BAS015\",TABLAS!$A$75)","v":0},null,null,null,{"$f":"IF(T26<10,CONCATENATE($Z$18,\"00\",T26,$Z$20),IF(AND(T26>9,T26<100),CONCATENATE($Z$18,\"0\",T26,$Z$20),CONCATENATE($Z$18,T26,$Z$20)))","v":"=+IMPORTARDATOSDINAMICOS(\" BAS011\";TABLAS!$A$75)"},{"$f":"IF(U26<10,CONCATENATE($Z$18,\"00\",U26,$Z$20),IF(AND(U26>9,U26<100),CONCATENATE($Z$18,\"0\",U26,$Z$20),CONCATENATE($Z$18,U26,$Z$20)))","v":"=+IMPORTARDATOSDINAMICOS(\" BAS012\";TABLAS!$A$75)"},{"$f":"IF(V26<10,CONCATENATE($Z$18,\"00\",V26,$Z$20),IF(AND(V26>9,V26<100),CONCATENATE($Z$18,\"0\",V26,$Z$20),CONCATENATE($Z$18,V26,$Z$20)))","v":"=+IMPORTARDATOSDINAMICOS(\" BAS013\";TABLAS!$A$75)"},{"$f":"IF(W26<10,CONCATENATE($Z$18,\"00\",W26,$Z$20),IF(AND(W26>9,W26<100),CONCATENATE($Z$18,\"0\",W26,$Z$20),CONCATENATE($Z$18,W26,$Z$20)))","v":"=+IMPORTARDATOSDINAMICOS(\" BAS014\";TABLAS!$A$75)"},{"$f":"IF(X26<10,CONCATENATE($Z$18,\"00\",X26,$Z$20),IF(AND(X26>9,X26<100),CONCATENATE($Z$18,\"0\",X26,$Z$20),CONCATENATE($Z$18,X26,$Z$20)))","v":"=+IMPORTARDATOSDINAMICOS(\" BAS015\";TABLAS!$A$75)"},null,{"$f":"+X21+1","v":11},{"$f":"+T26+1","v":12},{"$f":"+U26+1","v":13},14,15]
[null,null,null,"F",6,{"$f":"+GETPIVOTDATA(\" BAS016\",TABLAS!$A$75)","v":2},{"$f":"+GETPIVOTDATA(\" BAS017\",TABLAS!$A$75)","v":0},{"$f":"+GETPIVOTDATA(\" BAS018\",TABLAS!$A$75)","v":2},{"$f":"+GETPIVOTDATA(\" BAS019\",TABLAS!$A$75)","v":2},{"$f":"+GETPIVOTDATA(\" BAS020\",TABLAS!$A$75)","v":0},null,null,null,{"$f":"IF(T27<10,CONCATENATE($Z$18,\"00\",T27,$Z$20),IF(AND(T27>9,T27<100),CONCATENATE($Z$18,\"0\",T27,$Z$20),CONCATENATE($Z$18,T27,$Z$20)))","v":"=+IMPORTARDATOSDINAMICOS(\" BAS016\";TABLAS!$A$75)"},"=+IMPORTARDATOSDINAMICOS(\" BAS017\";TABLAS!$A$75)","=+IMPORTARDATOSDINAMICOS(\" BAS018\";TABLAS!$A$75)","=+IMPORTARDATOSDINAMICOS(\" BAS019\";TABLAS!$A$75)","=+IMPORTARDATOSDINAMICOS(\" BAS020\";TABLAS!$A$75)",null,{"$f":"+X26+1","v":16},{"$f":"+T27+1","v":17},{"$f":"+U27+1","v":18},19,20]
[null,null,"SEG: 1 y 2","T",4,{"$f":"SUM(F29:F30)","v":1},{"$f":"SUM(G29:G30)","v":0},{"$f":"SUM(H29:H30)","v":0},{"$f":"SUM(I29:I30)","v":2},{"$f":"SUM(J29:J30)","v":1},null,null,"TD=D + DX=90675 + LAB1=2 + LAB2=PRE + LAB3=ST"]
[null,null,null,"M",2,{"$f":"+GETPIVOTDATA(\" BAS021\",TABLAS!$A$75)","v":1},{"$f":"+GETPIVOTDATA(\" BAS022\",TABLAS!$A$75)","v":0},{"$f":"+GETPIVOTDATA(\" BAS023\",TABLAS!$A$75)","v":0},{"$f":"+GETPIVOTDATA(\" BAS024\",TABLAS!$A$75)","v":0},{"$f":"+GETPIVOTDATA(\" BAS025\",TABLAS!$A$75)","v":1},null,null,null,{"$f":"IF(T29<10,CONCATENATE($Z$18,\"00\",T29,$Z$20),IF(AND(T29>9,T29<100),CONCATENATE($Z$18,\"0\",T29,$Z$20),CONCATENATE($Z$18,T29,$Z$20)))","v":"=+IMPORTARDATOSDINAMICOS(\" BAS021\";TABLAS!$A$75)"},{"$f":"IF(U29<10,CONCATENATE($Z$18,\"00\",U29,$Z$20),IF(AND(U29>9,U29<100),CONCATENATE($Z$18,\"0\",U29,$Z$20),CONCATENATE($Z$18,U29,$Z$20)))","v":"=+IMPORTARDATOSDINAMICOS(\" BAS022\";TABLAS!$A$75)"},{"$f":"IF(V29<10,CONCATENATE($Z$18,\"00\",V29,$Z$20),IF(AND(V29>9,V29<100),CONCATENATE($Z$18,\"0\",V29,$Z$20),CONCATENATE($Z$18,V29,$Z$20)))","v":"=+IMPORTARDATOSDINAMICOS(\" BAS023\";TABLAS!$A$75)"},{"$f":"IF(W29<10,CONCATENATE($Z$18,\"00\",W29,$Z$20),IF(AND(W29>9,W29<100),CONCATENATE($Z$18,\"0\",W29,$Z$20),CONCATENATE($Z$18,W29,$Z$20)))","v":"=+IMPORTARDATOSDINAMICOS(\" BAS024\";TABLAS!$A$75)"},{"$f":"IF(X29<10,CONCATENATE($Z$18,\"00\",X29,$Z$20),IF(AND(X29>9,X29<100),CONCATENATE($Z$18,\"0\",X29,$Z$20),CONCATENATE($Z$18,X29,$Z$20)))","v":"=+IMPORTARDATOSDINAMICOS(\" BAS025\";TABLAS!$A$75)"},null,{"$f":"+X27+1","v":21},{"$f":"+T29+1","v":22},{"$f":"+U29+1","v":23},24,25]
[null,null,null,"F",2,{"$f":"+GETPIVOTDATA(\" BAS026\",TABLAS!$A$75)","v":0},{"$f":"+GETPIVOTDATA(\" BAS027\",TABLAS!$A$75)","v":0},{"$f":"+GETPIVOTDATA(\" BAS028\",TABLAS!$A$75)","v":0},{"$f":"+GETPIVOTDATA(\" BAS029\",TABLAS!$A$75)","v":2},{"$f":"+GETPIVOTDATA(\" BAS030\",TABLAS!$A$75)","v":0},null,null,null,{"$f":"IF(T30<10,CONCATENATE($Z$18,\"00\",T30,$Z$20),IF(AND(T30>9,T30<100),CONCATENATE($Z$18,\"0\",T30,$Z$20),CONCATENATE($Z$18,T30,$Z$20)))","v":"=+IMPORTARDATOSDINAMICOS(\" BAS026\";TABLAS!$A$75)"},"=+IMPORTARDATOSDINAMICOS(\" BAS027\";TABLAS!$A$75)","=+IMPORTARDATOSDINAMICOS(\" BAS028\";TABLAS!$A$75)","=+IMPORTARDATOSDINAMICOS(\" BAS029\";TABLAS!$A$75)","=+IMPORTARDATOSDINAMICOS(\" BAS030\";TABLAS!$A$75)",null,{"$f":"+X29+1","v":26},{"$f":"+T30+1","v":27},{"$f":"+U30+1","v":28},29,30]
[null,null,"COB: 1,2 y 3","T",1,{"$f":"SUM(F32:F33)","v":0},{"$f":"SUM(G32:G33)","v":0},{"$f":"SUM(H32:H33)","v":0},{"$f":"SUM(I32:I33)","v":1},{"$f":"SUM(J32:J33)","v":0},null,null,"TD=D + DX=90675 + LAB1=3 + LAB2=PRE + LAB3=ST"]
[null,null,null,"M",1,{"$f":"+GETPIVOTDATA(\" BAS031\",TABLAS!$A$75)","v":0},{"$f":"+GETPIVOTDATA(\" BAS032\",TABLAS!$A$75)","v":0},{"$f":"+GETPIVOTDATA(\" BAS033\",TABLAS!$A$75)","v":0},{"$f":"+GETPIVOTDATA(\" BAS034\",TABLAS!$A$75)","v":1},{"$f":"+GETPIVOTDATA(\" BAS035\",TABLAS!$A$75)","v":0},null,null,null,{"$f":"IF(T32<10,CONCATENATE($Z$18,\"00\",T32,$Z$20),IF(AND(T32>9,T32<100),CONCATENATE($Z$18,\"0\",T32,$Z$20),CONCATENATE($Z$18,T32,$Z$20)))","v":"=+IMPORTARDATOSDINAMICOS(\" BAS031\";TABLAS!$A$75)"},{"$f":"IF(U32<10,CONCATENATE($Z$18,\"00\",U32,$Z$20),IF(AND(U32>9,U32<100),CONCATENATE($Z$18,\"0\",U32,$Z$20),CONCATENATE($Z$18,U32,$Z$20)))","v":"=+IMPORTARDATOSDINAMICOS(\" BAS032\";TABLAS!$A$75)"},{"$f":"IF(V32<10,CONCATENATE($Z$18,\"00\",V32,$Z$20),IF(AND(V32>9,V32<100),CONCATENATE($Z$18,\"0\",V32,$Z$20),CONCATENATE($Z$18,V32,$Z$20)))","v":"=+IMPORTARDATOSDINAMICOS(\" BAS033\";TABLAS!$A$75)"},{"$f":"IF(W32<10,CONCATENATE($Z$18,\"00\",W32,$Z$20),IF(AND(W32>9,W32<100),CONCATENATE($Z$18,\"0\",W32,$Z$20),CONCATENATE($Z$18,W32,$Z$20)))","v":"=+IMPORTARDATOSDINAMICOS(\" BAS034\";TABLAS!$A$75)"},{"$f":"IF(X32<10,CONCATENATE($Z$18,\"00\",X32,$Z$20),IF(AND(X32>9,X32<100),CONCATENATE($Z$18,\"0\",X32,$Z$20),CONCATENATE($Z$18,X32,$Z$20)))","v":"=+IMPORTARDATOSDINAMICOS(\" BAS035\";TABLAS!$A$75)"},null,{"$f":"+X30+1","v":31},{"$f":"+T32+1","v":32},{"$f":"+U32+1","v":33},34,35]
[null,null,null,"F",0,{"$f":"+GETPIVOTDATA(\" BAS036\",TABLAS!$A$75)","v":0},{"$f":"+GETPIVOTDATA(\" BAS037\",TABLAS!$A$75)","v":0},{"$f":"+GETPIVOTDATA(\" BAS038\",TABLAS!$A$75)","v":0},{"$f":"+GETPIVOTDATA(\" BAS039\",TABLAS!$A$75)","v":0},{"$f":"+GETPIVOTDATA(\" BAS040\",TABLAS!$A$75)","v":0},null,null,null,{"$f":"IF(T33<10,CONCATENATE($Z$18,\"00\",T33,$Z$20),IF(AND(T33>9,T33<100),CONCATENATE($Z$18,\"0\",T33,$Z$20),CONCATENATE($Z$18,T33,$Z$20)))","v":"=+IMPORTARDATOSDINAMICOS(\" BAS036\";TABLAS!$A$75)"},"=+IMPORTARDATOSDINAMICOS(\" BAS037\";TABLAS!$A$75)","=+IMPORTARDATOSDINAMICOS(\" BAS038\";TABLAS!$A$75)","=+IMPORTARDATOSDINAMICOS(\" BAS039\";TABLAS!$A$75)","=+IMPORTARDATOSDINAMICOS(\" BAS040\";TABLAS!$A$75)",null,{"$f":"+X32+1","v":36},{"$f":"+T33+1","v":37},{"$f":"+U33+1","v":38},39,40]
[]
[]
[null,"3. Profilaxis Post-Exposición en Rabia Urbana: Manejo de la herida por mordedura","Tipo de exposición","Ind. Tto","SEXO","Total","0-11a","12-17a","18-29a","30-59a","60 y más"]
[null,"TOTAL","SEV","Vac","T",{"$f":"G37+H37+I37+J37+K37","v":21},{"$f":"G49+G61+G73+G85","v":3},{"$f":"H49+H61+H73+H85","v":3},{"$f":"I49+I61+I73+I85","v":8},{"$f":"J49+J61+J73+J85","v":5},{"$f":"K49+K61+K73+K85","v":2}]
[null,null,null,null,"M"]
[null,null,null,null,"F"]
[null,null,"SEV","RIG Vac","T",0,{"$f":"G64+G76+G88","v":0},{"$f":"H64+H76+H88","v":0},{"$f":"I64+I76+I88","v":0},{"$f":"J64+J76+J88","v":0},{"$f":"K64+K76+K88","v":0}]
[null,null,null,null,"M"]
[null,null,null,null,"F"]
[null,null,"LEV",null,"T",87,{"$f":"G52","v":19},{"$f":"H52","v":4},{"$f":"I52","v":9},{"$f":"J52","v":37},{"$f":"K52","v":18}]
[null,null,null,null,"M"]
[null,null,null,null,"F"]
[null,null,"Sin riesgo",null,"T",0,{"$f":"G91","v":0},{"$f":"H91","v":0},{"$f":"I91","v":0},{"$f":"J91","v":0},{"$f":"K91","v":0}]
[null,null,null,null,"M"]
[null,null,null,null,"F"]
[null,"Mordedura por can conocido","SEV","Vac","T",{"$f":"SUM(G49:K49)","v":9},{"$f":"SUM(G50:G51)","v":2},{"$f":"SUM(H50:H51)","v":1},3,2,1]
[1,null,null,null,"M",{"$f":"SUM(G50:K50)","v":4},{"$f":"+GETPIVOTDATA(\" BAS041\",TABLAS!$A$75)","v":2},{"$f":"+GETPIVOTDATA(\" BAS042\",TABLAS!$A$75)","v":0},{"$f":"+GETPIVOTDATA(\" BAS043\",TABLAS!$A$75)","v":1},{"$f":"+GETPIVOTDATA(\" BAS044\",TABLAS!$A$75)","v":0},{"$f":"+GETPIVOTDATA(\" BAS045\",TABLAS!$A$75)","v":1},null,"(TD=D+DX=W540+LAB1=SEV+LAB2=C)+(TD=D+DX=99199.11+LAB1=1) ",{"$f":"IF(T50<10,CONCATENATE($Z$18,\"00\",T50,$Z$20),IF(AND(T50>9,T50<100),CONCATENATE($Z$18,\"0\",T50,$Z$20),CONCATENATE($Z$18,T50,$Z$20)))","v":"=+IMPORTARDATOSDINAMICOS(\" BAS041\";TABLAS!$A$75)"},{"$f":"IF(U50<10,CONCATENATE($Z$18,\"00\",U50,$Z$20),IF(AND(U50>9,U50<100),CONCATENATE($Z$18,\"0\",U50,$Z$20),CONCATENATE($Z$18,U50,$Z$20)))","v":"=+IMPORTARDATOSDINAMICOS(\" BAS042\";TABLAS!$A$75)"},{"$f":"IF(V50<10,CONCATENATE($Z$18,\"00\",V50,$Z$20),IF(AND(V50>9,V50<100),CONCATENATE($Z$18,\"0\",V50,$Z$20),CONCATENATE($Z$18,V50,$Z$20)))","v":"=+IMPORTARDATOSDINAMICOS(\" BAS043\";TABLAS!$A$75)"},{"$f":"IF(W50<10,CONCATENATE($Z$18,\"00\",W50,$Z$20),IF(AND(W50>9,W50<100),CONCATENATE($Z$18,\"0\",W50,$Z$20),CONCATENATE($Z$18,W50,$Z$20)))","v":"=+IMPORTARDATOSDINAMICOS(\" BAS044\";TABLAS!$A$75)"},{"$f":"IF(X50<10,CONCATENATE($Z$18,\"00\",X50,$Z$20),IF(AND(X50>9,X50<100),CONCATENATE($Z$18,\"0\",X50,$Z$20),CONCATENATE($Z$18,X50,$Z$20)))","v":"=+IMPORTARDATOSDINAMICOS(\" BAS045\";TABLAS!$A$75)"},null,{"$f":"+X33+1","v":41},{"$f":"+T50+1","v":42},{"$f":"+U50+1","v":43},44,45]
[null,null,null,null,"F",{"$f":"SUM(G51:K51)","v":5},{"$f":"+GETPIVOTDATA(\" BAS046\",TABLAS!$A$75)","v":0},{"$f":"+GETPIVOTDATA(\" BAS047\",TABLAS!$A$75)","v":1},{"$f":"+GETPIVOTDATA(\" BAS048\",TABLAS!$A$75)","v":2},{"$f":"+GETPIVOTDATA(\" BAS049\",TABLAS!$A$75)","v":2},{"$f":"+GETPIVOTDATA(\" BAS050\",TABLAS!$A$75)","v":0},null,null,{"$f":"IF(T51<10,CONCATENATE($Z$18,\"00\",T51,$Z$20),IF(AND(T51>9,T51<100),CONCATENATE($Z$18,\"0\",T51,$Z$20),CONCATENATE($Z$18,T51,$Z$20)))","v":"=+IMPORTARDATOSDINAMICOS(\" BAS046\";TABLAS!$A$75)"},"=+IMPORTARDATOSDINAMICOS(\" BAS047\";TABLAS!$A$75)","=+IMPORTARDATOSDINAMICOS(\" BAS048\";TABLAS!$A$75)","=+IMPORTARDATOSDINAMICOS(\" BAS049\";TABLAS!$A$75)","=+IMPORTARDATOSDINAMICOS(\" BAS050\";TABLAS!$A$75)",null,{"$f":"+X50+1","v":46},{"$f":"+T51+1","v":47},{"$f":"+U51+1","v":48},49,50]
[null,null,"LEV",null,"T",{"$f":"SUM(G52:K52)","v":87},{"$f":"SUM(G53:G54)","v":19},{"$f":"SUM(H53:H54)","v":4},{"$f":"SUM(I53:I54)","v":9},{"$f":"SUM(J53:J54)","v":37},{"$f":"SUM(K53:K54)","v":18},null,{"$f":"N52+O52+P52+Q52+R52","v":0}]
[2,null,null,null,"M",{"$f":"SUM(G53:K53)","v":56},{"$f":"+GETPIVOTDATA(\" BAS051\",TABLAS!$A$75)","v":14},{"$f":"+GETPIVOTDATA(\" BAS052\",TABLAS!$A$75)","v":2},{"$f":"+GETPIVOTDATA(\" BAS053\",TABLAS!$A$75)","v":7},{"$f":"+GETPIVOTDATA(\" BAS054\",TABLAS!$A$75)","v":21},{"$f":"+GETPIVOTDATA(\" BAS055\",TABLAS!$A$75)","v":12},null,"(TD=D+DX=W540+LAB1=LEV+LAB2=C)",{"$f":"IF(T53<10,CONCATENATE($Z$18,\"00\",T53,$Z$20),IF(AND(T53>9,T53<100),CONCATENATE($Z$18,\"0\",T53,$Z$20),CONCATENATE($Z$18,T53,$Z$20)))","v":"=+IMPORTARDATOSDINAMICOS(\" BAS051\";TABLAS!$A$75)"},{"$f":"IF(U53<10,CONCATENATE($Z$18,\"00\",U53,$Z$20),IF(AND(U53>9,U53<100),CONCATENATE($Z$18,\"0\",U53,$Z$20),CONCATENATE($Z$18,U53,$Z$20)))","v":"=+IMPORTARDATOSDINAMICOS(\" BAS052\";TABLAS!$A$75)"},{"$f":"IF(V53<10,CONCATENATE($Z$18,\"00\",V53,$Z$20),IF(AND(V53>9,V53<100),CONCATENATE($Z$18,\"0\",V53,$Z$20),CONCATENATE($Z$18,V53,$Z$20)))","v":"=+IMPORTARDATOSDINAMICOS(\" BAS053\";TABLAS!$A$75)"},{"$f":"IF(W53<10,CONCATENATE($Z$18,\"00\",W53,$Z$20),IF(AND(W53>9,W53<100),CONCATENATE($Z$18,\"0\",W53,$Z$20),CONCATENATE($Z$18,W53,$Z$20)))","v":"=+IMPORTARDATOSDINAMICOS(\" BAS054\";TABLAS!$A$75)"},{"$f":"IF(X53<10,CONCATENATE($Z$18,\"00\",X53,$Z$20),IF(AND(X53>9,X53<100),CONCATENATE($Z$18,\"0\",X53,$Z$20),CONCATENATE($Z$18,X53,$Z$20)))","v":"=+IMPORTARDATOSDINAMICOS(\" BAS055\";TABLAS!$A$75)"},null,{"$f":"+X51+1","v":51},{"$f":"+T53+1","v":52},{"$f":"+U53+1","v":53},54,55]
[null,null,null,null,"F",31,{"$f":"+GETPIVOTDATA(\" BAS056\",TABLAS!$A$75)","v":5},{"$f":"+GETPIVOTDATA(\" BAS057\",TABLAS!$A$75)","v":2},{"$f":"+GETPIVOTDATA(\" BAS058\",TABLAS!$A$75)","v":2},{"$f":"+GETPIVOTDATA(\" BAS059\",TABLAS!$A$75)","v":16},{"$f":"+GETPIVOTDATA(\" BAS060\",TABLAS!$A$75)","v":6},null,null,{"$f":"IF(T54<10,CONCATENATE($Z$18,\"00\",T54,$Z$20),IF(AND(T54>9,T54<100),CONCATENATE($Z$18,\"0\",T54,$Z$20),CONCATENATE($Z$18,T54,$Z$20)))","v":"=+IMPORTARDATOSDINAMICOS(\" BAS056\";TABLAS!$A$75)"},"=+IMPORTARDATOSDINAMICOS(\" BAS057\";TABLAS!$A$75)","=+IMPORTARDATOSDINAMICOS(\" BAS058\";TABLAS!$A$75)","=+IMPORTARDATOSDINAMICOS(\" BAS059\";TABLAS!$A$75)","=+IMPORTARDATOSDINAMICOS(\" BAS060\";TABLAS!$A$75)",null,{"$f":"+X53+1","v":56},{"$f":"+T54+1","v":57},{"$f":"+U54+1","v":58},59,60]
[null,"Mordedura por gato conocido","SEV","Vac","T",{"$f":"SUM(G55:K55)","v":1},{"$f":"SUM(G56:G57)","v":0},{"$f":"SUM(H56:H57)","v":0},{"$f":"SUM(I56:I57)","v":0},{"$f":"SUM(J56:J57)","v":0},{"$f":"SUM(K56:K57)","v":1},null,{"$f":"N55+O55+P55+Q55+R55","v":0}]
[3,null,null,null,"M",{"$f":"SUM(G56:K56)","v":0},{"$f":"+GETPIVOTDATA(\" BAS061\",TABLAS!$A$75)","v":0},{"$f":"+GETPIVOTDATA(\" BAS062\",TABLAS!$A$75)","v":0},{"$f":"+GETPIVOTDATA(\" BAS063\",TABLAS!$A$75)","v":0},{"$f":"+GETPIVOTDATA(\" BAS064\",TABLAS!$A$75)","v":0},{"$f":"+GETPIVOTDATA(\" BAS065\",TABLAS!$A$75)","v":0},null,"(TD=D+DX=W550+LAB1=SEV+LAB2=C)+(TD=D+DX=99199.11+LAB1=1) ",{"$f":"IF(T56<10,CONCATENATE($Z$18,\"00\",T56,$Z$20),IF(AND(T56>9,T56<100),CONCATENATE($Z$18,\"0\",T56,$Z$20),CONCATENATE($Z$18,T56,$Z$20)))","v":"=+IMPORTARDATOSDINAMICOS(\" BAS061\";TABLAS!$A$75)"},{"$f":"IF(U56<10,CONCATENATE($Z$18,\"00\",U56,$Z$20),IF(AND(U56>9,U56<100),CONCATENATE($Z$18,\"0\",U56,$Z$20),CONCATENATE($Z$18,U56,$Z$20)))","v":"=+IMPORTARDATOSDINAMICOS(\" BAS062\";TABLAS!$A$75)"},{"$f":"IF(V56<10,CONCATENATE($Z$18,\"00\",V56,$Z$20),IF(AND(V56>9,V56<100),CONCATENATE($Z$18,\"0\",V56,$Z$20),CONCATENATE($Z$18,V56,$Z$20)))","v":"=+IMPORTARDATOSDINAMICOS(\" BAS063\";TABLAS!$A$75)"},{"$f":"IF(W56<10,CONCATENATE($Z$18,\"00\",W56,$Z$20),IF(AND(W56>9,W56<100),CONCATENATE($Z$18,\"0\",W56,$Z$20),CONCATENATE($Z$18,W56,$Z$20)))","v":"=+IMPORTARDATOSDINAMICOS(\" BAS064\";TABLAS!$A$75)"},{"$f":"IF(X56<10,CONCATENATE($Z$18,\"00\",X56,$Z$20),IF(AND(X56>9,X56<100),CONCATENATE($Z$18,\"0\",X56,$Z$20),CONCATENATE($Z$18,X56,$Z$20)))","v":"=+IMPORTARDATOSDINAMICOS(\" BAS065\";TABLAS!$A$75)"},null,{"$f":"+X54+1","v":61},{"$f":"+T56+1","v":62},{"$f":"+U56+1","v":63},64,65]
[null,null,null,null,"F",1,{"$f":"+GETPIVOTDATA(\" BAS066\",TABLAS!$A$75)","v":0},{"$f":"+GETPIVOTDATA(\" BAS067\",TABLAS!$A$75)","v":0},{"$f":"+GETPIVOTDATA(\" BAS068\",TABLAS!$A$75)","v":0},{"$f":"+GETPIVOTDATA(\" BAS069\",TABLAS!$A$75)","v":0},{"$f":"+GETPIVOTDATA(\" BAS070\",TABLAS!$A$75)","v":1},null,null,{"$f":"IF(T57<10,CONCATENATE($Z$18,\"00\",T57,$Z$20),IF(AND(T57>9,T57<100),CONCATENATE($Z$18,\"0\",T57,$Z$20),CONCATENATE($Z$18,T57,$Z$20)))","v":"=+IMPORTARDATOSDINAMICOS(\" BAS066\";TABLAS!$A$75)"},"=+IMPORTARDATOSDINAMICOS(\" BAS067\";TABLAS!$A$75)","=+IMPORTARDATOSDINAMICOS(\" BAS068\";TABLAS!$A$75)","=+IMPORTARDATOSDINAMICOS(\" BAS069\";TABLAS!$A$75)","=+IMPORTARDATOSDINAMICOS(\" BAS070\";TABLAS!$A$75)",null,{"$f":"+X56+1","v":66},{"$f":"+T57+1","v":67},{"$f":"+U57+1","v":68},69,70]
[null,null,"LEV",null,"T",{"$f":"SUM(G58:K58)","v":3},{"$f":"SUM(G59:G60)","v":0},{"$f":"SUM(H59:H60)","v":1},{"$f":"SUM(I59:I60)","v":1},{"$f":"SUM(J59:J60)","v":0},{"$f":"SUM(K59:K60)","v":1},null,0]
[4,null,null,null,"M",{"$f":"SUM(G59:K59)","v":1},{"$f":"+GETPIVOTDATA(\" BAS071\",TABLAS!$A$75)","v":0},{"$f":"+GETPIVOTDATA(\" BAS072\",TABLAS!$A$75)","v":0},{"$f":"+GETPIVOTDATA(\" BAS073\",TABLAS!$A$75)","v":0},{"$f":"+GETPIVOTDATA(\" BAS074\",TABLAS!$A$75)","v":0},{"$f":"+GETPIVOTDATA(\" BAS075\",TABLAS!$A$75)","v":1},null,"(TD=D+DX=W550+LAB1=LEV+LAB2=C)",{"$f":"IF(T59<10,CONCATENATE($Z$18,\"00\",T59,$Z$20),IF(AND(T59>9,T59<100),CONCATENATE($Z$18,\"0\",T59,$Z$20),CONCATENATE($Z$18,T59,$Z$20)))","v":"=+IMPORTARDATOSDINAMICOS(\" BAS071\";TABLAS!$A$75)"},{"$f":"IF(U59<10,CONCATENATE($Z$18,\"00\",U59,$Z$20),IF(AND(U59>9,U59<100),CONCATENATE($Z$18,\"0\",U59,$Z$20),CONCATENATE($Z$18,U59,$Z$20)))","v":"=+IMPORTARDATOSDINAMICOS(\" BAS072\";TABLAS!$A$75)"},{"$f":"IF(V59<10,CONCATENATE($Z$18,\"00\",V59,$Z$20),IF(AND(V59>9,V59<100),CONCATENATE($Z$18,\"0\",V59,$Z$20),CONCATENATE($Z$18,V59,$Z$20)))","v":"=+IMPORTARDATOSDINAMICOS(\" BAS073\";TABLAS!$A$75)"},{"$f":"IF(W59<10,CONCATENATE($Z$18,\"00\",W59,$Z$20),IF(AND(W59>9,W59<100),CONCATENATE($Z$18,\"0\",W59,$Z$20),CONCATENATE($Z$18,W59,$Z$20)))","v":"=+IMPORTARDATOSDINAMICOS(\" BAS074\";TABLAS!$A$75)"},{"$f":"IF(X59<10,CONCATENATE($Z$18,\"00\",X59,$Z$20),IF(AND(X59>9,X59<100),CONCATENATE($Z$18,\"0\",X59,$Z$20),CONCATENATE($Z$18,X59,$Z$20)))","v":"=+IMPORTARDATOSDINAMICOS(\" BAS075\";TABLAS!$A$75)"},null,{"$f":"+X57+1","v":71},{"$f":"+T59+1","v":72},{"$f":"+U59+1","v":73},74,75]
[null,null,null,null,"F",2,{"$f":"+GETPIVOTDATA(\" BAS076\",TABLAS!$A$75)","v":0},{"$f":"+GETPIVOTDATA(\" BAS077\",TABLAS!$A$75)","v":1},{"$f":"+GETPIVOTDATA(\" BAS078\",TABLAS!$A$75)","v":1},{"$f":"+GETPIVOTDATA(\" BAS079\",TABLAS!$A$75)","v":0},{"$f":"+GETPIVOTDATA(\" BAS080\",TABLAS!$A$75)","v":0},null,null,{"$f":"IF(T60<10,CONCATENATE($Z$18,\"00\",T60,$Z$20),IF(AND(T60>9,T60<100),CONCATENATE($Z$18,\"0\",T60,$Z$20),CONCATENATE($Z$18,T60,$Z$20)))","v":"=+IMPORTARDATOSDINAMICOS(\" BAS076\";TABLAS!$A$75)"},"=+IMPORTARDATOSDINAMICOS(\" BAS077\";TABLAS!$A$75)","=+IMPORTARDATOSDINAMICOS(\" BAS078\";TABLAS!$A$75)","=+IMPORTARDATOSDINAMICOS(\" BAS079\";TABLAS!$A$75)","=+IMPORTARDATOSDINAMICOS(\" BAS080\";TABLAS!$A$75)",null,{"$f":"+X59+1","v":76},{"$f":"+T60+1","v":77},{"$f":"+U60+1","v":78},79,80]
[null,"Mordedura por can desconocido","SEV","Vac","T",{"$f":"SUM(G61:K61)","v":12},{"$f":"SUM(G62:G63)","v":1},{"$f":"SUM(H62:H63)","v":2},{"$f":"SUM(I62:I63)","v":5},{"$f":"SUM(J62:J63)","v":3},{"$f":"SUM(K62:K63)","v":1},null,0]
[5,null,null,null,"M",{"$f":"SUM(G62:K62)","v":8},{"$f":"+GETPIVOTDATA(\" BAS081\",TABLAS!$A$75)","v":0},{"$f":"+GETPIVOTDATA(\" BAS082\",TABLAS!$A$75)","v":2},{"$f":"+GETPIVOTDATA(\" BAS083\",TABLAS!$A$75)","v":3},{"$f":"+GETPIVOTDATA(\" BAS084\",TABLAS!$A$75)","v":2},{"$f":"+GETPIVOTDATA(\" BAS085\",TABLAS!$A$75)","v":1},null,"(TD=D+DX=W540+LAB1=SEV+LAB2=DS)+(TD=D+DX=99199.11+LAB1=1) ",{"$f":"IF(T62<10,CONCATENATE($Z$18,\"00\",T62,$Z$20),IF(AND(T62>9,T62<100),CONCATENATE($Z$18,\"0\",T62,$Z$20),CONCATENATE($Z$18,T62,$Z$20)))","v":"=+IMPORTARDATOSDINAMICOS(\" BAS081\";TABLAS!$A$75)"},{"$f":"IF(U62<10,CONCATENATE($Z$18,\"00\",U62,$Z$20),IF(AND(U62>9,U62<100),CONCATENATE($Z$18,\"0\",U62,$Z$20),CONCATENATE($Z$18,U62,$Z$20)))","v":"=+IMPORTARDATOSDINAMICOS(\" BAS082\";TABLAS!$A$75)"},{"$f":"IF(V62<10,CONCATENATE($Z$18,\"00\",V62,$Z$20),IF(AND(V62>9,V62<100),CONCATENATE($Z$18,\"0\",V62,$Z$20),CONCATENATE($Z$18,V62,$Z$20)))","v":"=+IMPORTARDATOSDINAMICOS(\" BAS083\";TABLAS!$A$75)"},{"$f":"IF(W62<10,CONCATENATE($Z$18,\"00\",W62,$Z$20),IF(AND(W62>9,W62<100),CONCATENATE($Z$18,\"0\",W62,$Z$20),CONCATENATE($Z$18,W62,$Z$20)))","v":"=+IMPORTARDATOSDINAMICOS(\" BAS084\";TABLAS!$A$75)"},{"$f":"IF(X62<10,CONCATENATE($Z$18,\"00\",X62,$Z$20),IF(AND(X62>9,X62<100),CONCATENATE($Z$18,\"0\",X62,$Z$20),CONCATENATE($Z$18,X62,$Z$20)))","v":"=+IMPORTARDATOSDINAMICOS(\" BAS085\";TABLAS!$A$75)"},null,{"$f":"+X60+1","v":81},{"$f":"+T62+1","v":82},{"$f":"+U62+1","v":83},84,85]
[null,null,null,null,"F",4,{"$f":"+GETPIVOTDATA(\" BAS086\",TABLAS!$A$75)","v":1},{"$f":"+GETPIVOTDATA(\" BAS087\",TABLAS!$A$75)","v":0},{"$f":"+GETPIVOTDATA(\" BAS088\",TABLAS!$A$75)","v":2},{"$f":"+GETPIVOTDATA(\" BAS089\",TABLAS!$A$75)","v":1},{"$f":"+GETPIVOTDATA(\" BAS090\",TABLAS!$A$75)","v":0},null,null,{"$f":"IF(T63<10,CONCATENATE($Z$18,\"00\",T63,$Z$20),IF(AND(T63>9,T63<100),CONCATENATE($Z$18,\"0\",T63,$Z$20),CONCATENATE($Z$18,T63,$Z$20)))","v":"=+IMPORTARDATOSDINAMICOS(\" BAS086\";TABLAS!$A$75)"},"=+IMPORTARDATOSDINAMICOS(\" BAS087\";TABLAS!$A$75)","=+IMPORTARDATOSDINAMICOS(\" BAS088\";TABLAS!$A$75)","=+IMPORTARDATOSDINAMICOS(\" BAS089\";TABLAS!$A$75)","=+IMPORTARDATOSDINAMICOS(\" BAS090\";TABLAS!$A$75)",null,{"$f":"+X62+1","v":86},{"$f":"+T63+1","v":87},{"$f":"+U63+1","v":88},89,90]
[null,null,"SEV","RIG Vac","T",{"$f":"SUM(G64:K64)","v":0},{"$f":"SUM(G65:G66)","v":0},{"$f":"SUM(H65:H66)","v":0},{"$f":"SUM(I65:I66)","v":0},{"$f":"SUM(J65:J66)","v":0},{"$f":"SUM(K65:K66)","v":0},null,0]
[6,null,null,null,"M",{"$f":"SUM(G65:K65)","v":0},{"$f":"+GETPIVOTDATA(\" BAS091\",TABLAS!$A$75)","v":0},{"$f":"+GETPIVOTDATA(\" BAS092\",TABLAS!$A$75)","v":0},{"$f":"+GETPIVOTDATA(\" BAS093\",TABLAS!$A$75)","v":0},{"$f":"+GETPIVOTDATA(\" BAS094\",TABLAS!$A$75)","v":0},{"$f":"+GETPIVOTDATA(\" BAS095\",TABLAS!$A$75)","v":0},null,"(TD=D+DX=W540+LAB1=SEV+LAB2=DS)+(TD=D+DX=99199.11+LAB1=2) ",{"$f":"IF(T65<10,CONCATENATE($Z$18,\"00\",T65,$Z$20),IF(AND(T65>9,T65<100),CONCATENATE($Z$18,\"0\",T65,$Z$20),CONCATENATE($Z$18,T65,$Z$20)))","v":"=+IMPORTARDATOSDINAMICOS(\" BAS091\";TABLAS!$A$75)"},{"$f":"IF(U65<10,CONCATENATE($Z$18,\"00\",U65,$Z$20),IF(AND(U65>9,U65<100),CONCATENATE($Z$18,\"0\",U65,$Z$20),CONCATENATE($Z$18,U65,$Z$20)))","v":"=+IMPORTARDATOSDINAMICOS(\" BAS092\";TABLAS!$A$75)"},{"$f":"IF(V65<10,CONCATENATE($Z$18,\"00\",V65,$Z$20),IF(AND(V65>9,V65<100),CONCATENATE($Z$18,\"0\",V65,$Z$20),CONCATENATE($Z$18,V65,$Z$20)))","v":"=+IMPORTARDATOSDINAMICOS(\" BAS093\";TABLAS!$A$75)"},{"$f":"IF(W65<10,CONCATENATE($Z$18,\"00\",W65,$Z$20),IF(AND(W65>9,W65<100),CONCATENATE($Z$18,\"0\",W65,$Z$20),CONCATENATE($Z$18,W65,$Z$20)))","v":"=+IMPORTARDATOSDINAMICOS(\" BAS094\";TABLAS!$A$75)"},{"$f":"IF(X65<10,CONCATENATE($Z$18,\"00\",X65,$Z$20),IF(AND(X65>9,X65<100),CONCATENATE($Z$18,\"0\",X65,$Z$20),CONCATENATE($Z$18,X65,$Z$20)))","v":"=+IMPORTARDATOSDINAMICOS(\" BAS095\";TABLAS!$A$75)"},null,{"$f":"+X63+1","v":91},{"$f":"+T65+1","v":92},{"$f":"+U65+1","v":93},94,95]
[null,null,null,null,"F",0,{"$f":"+GETPIVOTDATA(\" BAS096\",TABLAS!$A$75)","v":0},{"$f":"+GETPIVOTDATA(\" BAS097\",TABLAS!$A$75)","v":0},{"$f":"+GETPIVOTDATA(\" BAS098\",TABLAS!$A$75)","v":0},{"$f":"+GETPIVOTDATA(\" BAS099\",TABLAS!$A$75)","v":0},{"$f":"+GETPIVOTDATA(\" BAS100\",TABLAS!$A$75)","v":0},null,null,{"$f":"IF(T66<10,CONCATENATE($Z$18,\"00\",T66,$Z$20),IF(AND(T66>9,T66<100),CONCATENATE($Z$18,\"0\",T66,$Z$20),CONCATENATE($Z$18,T66,$Z$20)))","v":"=+IMPORTARDATOSDINAMICOS(\" BAS096\";TABLAS!$A$75)"},"=+IMPORTARDATOSDINAMICOS(\" BAS097\";TABLAS!$A$75)","=+IMPORTARDATOSDINAMICOS(\" BAS098\";TABLAS!$A$75)","=+IMPORTARDATOSDINAMICOS(\" BAS099\";TABLAS!$A$75)","=+IMPORTARDATOSDINAMICOS(\" BAS100\";TABLAS!$A$75)",null,{"$f":"+X65+1","v":96},{"$f":"+T66+1","v":97},{"$f":"+U66+1","v":98},99,100]
[null,"Mordedura por gato desconocido","SEV","Vac","T",{"$f":"SUM(G67:K67)","v":0},{"$f":"SUM(G68:G69)","v":0},{"$f":"SUM(H68:H69)","v":0},{"$f":"SUM(I68:I69)","v":0},{"$f":"SUM(J68:J69)","v":0},{"$f":"SUM(K68:K69)","v":0},null,{"$f":"N67+O67+P67+Q67+R67","v":0}]
[7,null,null,null,"M",{"$f":"SUM(G68:K68)","v":0},{"$f":"+GETPIVOTDATA(\" BAS101\",TABLAS!$A$75)","v":0},{"$f":"+GETPIVOTDATA(\" BAS102\",TABLAS!$A$75)","v":0},{"$f":"+GETPIVOTDATA(\" BAS103\",TABLAS!$A$75)","v":0},{"$f":"+GETPIVOTDATA(\" BAS104\",TABLAS!$A$75)","v":0},{"$f":"+GETPIVOTDATA(\" BAS105\",TABLAS!$A$75)","v":0},null,"(TD=D+DX=W550+LAB1=SEV+LAB2=DS)+(TD=D+DX=99199.11+LAB1=1) ",{"$f":"IF(T68<10,CONCATENATE($Z$18,\"00\",T68,$Z$20),IF(AND(T68>9,T68<100),CONCATENATE($Z$18,\"0\",T68,$Z$20),CONCATENATE($Z$18,T68,$Z$20)))","v":"=+IMPORTARDATOSDINAMICOS(\" BAS101\";TABLAS!$A$75)"},{"$f":"IF(U68<10,CONCATENATE($Z$18,\"00\",U68,$Z$20),IF(AND(U68>9,U68<100),CONCATENATE($Z$18,\"0\",U68,$Z$20),CONCATENATE($Z$18,U68,$Z$20)))","v":"=+IMPORTARDATOSDINAMICOS(\" BAS102\";TABLAS!$A$75)"},{"$f":"IF(V68<10,CONCATENATE($Z$18,\"00\",V68,$Z$20),IF(AND(V68>9,V68<100),CONCATENATE($Z$18,\"0\",V68,$Z$20),CONCATENATE($Z$18,V68,$Z$20)))","v":"=+IMPORTARDATOSDINAMICOS(\" BAS103\";TABLAS!$A$75)"},{"$f":"IF(W68<10,CONCATENATE($Z$18,\"00\",W68,$Z$20),IF(AND(W68>9,W68<100),CONCATENATE($Z$18,\"0\",W68,$Z$20),CONCATENATE($Z$18,W68,$Z$20)))","v":"=+IMPORTARDATOSDINAMICOS(\" BAS104\";TABLAS!$A$75)"},{"$f":"IF(X68<10,CONCATENATE($Z$18,\"00\",X68,$Z$20),IF(AND(X68>9,X68<100),CONCATENATE($Z$18,\"0\",X68,$Z$20),CONCATENATE($Z$18,X68,$Z$20)))","v":"=+IMPORTARDATOSDINAMICOS(\" BAS105\";TABLAS!$A$75)"},null,{"$f":"+X66+1","v":101},{"$f":"+T68+1","v":102},{"$f":"+U68+1","v":103},104,105]
[null,null,null,null,"F",0,{"$f":"+GETPIVOTDATA(\" BAS106\",TABLAS!$A$75)","v":0},{"$f":"+GETPIVOTDATA(\" BAS107\",TABLAS!$A$75)","v":0},{"$f":"+GETPIVOTDATA(\" BAS108\",TABLAS!$A$75)","v":0},{"$f":"+GETPIVOTDATA(\" BAS109\",TABLAS!$A$75)","v":0},{"$f":"+GETPIVOTDATA(\" BAS110\",TABLAS!$A$75)","v":0},null,null,{"$f":"IF(T69<10,CONCATENATE($Z$18,\"00\",T69,$Z$20),IF(AND(T69>9,T69<100),CONCATENATE($Z$18,\"0\",T69,$Z$20),CONCATENATE($Z$18,T69,$Z$20)))","v":"=+IMPORTARDATOSDINAMICOS(\" BAS106\";TABLAS!$A$75)"},"=+IMPORTARDATOSDINAMICOS(\" BAS107\";TABLAS!$A$75)","=+IMPORTARDATOSDINAMICOS(\" BAS108\";TABLAS!$A$75)","=+IMPORTARDATOSDINAMICOS(\" BAS109\";TABLAS!$A$75)","=+IMPORTARDATOSDINAMICOS(\" BAS110\";TABLAS!$A$75)",null,{"$f":"+X68+1","v":106},{"$f":"+T69+1","v":107},{"$f":"+U69+1","v":108},109,110]
[null,null,"SEV","RIG Vac","T",{"$f":"SUM(G70:K70)","v":0},{"$f":"SUM(G71:G72)","v":0},{"$f":"SUM(H71:H72)","v":0},{"$f":"SUM(I71:I72)","v":0},{"$f":"SUM(J71:J72)","v":0},{"$f":"SUM(K71:K72)","v":0},null,0]
[8,null,null,null,"M",{"$f":"SUM(G71:K71)","v":0},{"$f":"+GETPIVOTDATA(\" BAS111\",TABLAS!$A$75)","v":0},{"$f":"+GETPIVOTDATA(\" BAS112\",TABLAS!$A$75)","v":0},{"$f":"+GETPIVOTDATA(\" BAS113\",TABLAS!$A$75)","v":0},{"$f":"+GETPIVOTDATA(\" BAS114\",TABLAS!$A$75)","v":0},{"$f":"+GETPIVOTDATA(\" BAS115\",TABLAS!$A$75)","v":0},null,"(TD=D+DX=W550+LAB1=SEV+LAB2=DS)+(TD=D+DX=99199.11+LAB1=2) ",{"$f":"IF(T71<10,CONCATENATE($Z$18,\"00\",T71,$Z$20),IF(AND(T71>9,T71<100),CONCATENATE($Z$18,\"0\",T71,$Z$20),CONCATENATE($Z$18,T71,$Z$20)))","v":"=+IMPORTARDATOSDINAMICOS(\" BAS111\";TABLAS!$A$75)"},{"$f":"IF(U71<10,CONCATENATE($Z$18,\"00\",U71,$Z$20),IF(AND(U71>9,U71<100),CONCATENATE($Z$18,\"0\",U71,$Z$20),CONCATENATE($Z$18,U71,$Z$20)))","v":"=+IMPORTARDATOSDINAMICOS(\" BAS112\";TABLAS!$A$75)"},{"$f":"IF(V71<10,CONCATENATE($Z$18,\"00\",V71,$Z$20),IF(AND(V71>9,V71<100),CONCATENATE($Z$18,\"0\",V71,$Z$20),CONCATENATE($Z$18,V71,$Z$20)))","v":"=+IMPORTARDATOSDINAMICOS(\" BAS113\";TABLAS!$A$75)"},{"$f":"IF(W71<10,CONCATENATE($Z$18,\"00\",W71,$Z$20),IF(AND(W71>9,W71<100),CONCATENATE($Z$18,\"0\",W71,$Z$20),CONCATENATE($Z$18,W71,$Z$20)))","v":"=+IMPORTARDATOSDINAMICOS(\" BAS114\";TABLAS!$A$75)"},{"$f":"IF(X71<10,CONCATENATE($Z$18,\"00\",X71,$Z$20),IF(AND(X71>9,X71<100),CONCATENATE($Z$18,\"0\",X71,$Z$20),CONCATENATE($Z$18,X71,$Z$20)))","v":"=+IMPORTARDATOSDINAMICOS(\" BAS115\";TABLAS!$A$75)"},null,{"$f":"+X69+1","v":111},{"$f":"+T71+1","v":112},{"$f":"+U71+1","v":113},114,115]
[null,null,null,null,"F",0,{"$f":"+GETPIVOTDATA(\" BAS116\",TABLAS!$A$75)","v":0},{"$f":"+GETPIVOTDATA(\" BAS117\",TABLAS!$A$75)","v":0},{"$f":"+GETPIVOTDATA(\" BAS118\",TABLAS!$A$75)","v":0},{"$f":"+GETPIVOTDATA(\" BAS119\",TABLAS!$A$75)","v":0},{"$f":"+GETPIVOTDATA(\" BAS120\",TABLAS!$A$75)","v":0},null,null,{"$f":"IF(T72<10,CONCATENATE($Z$18,\"00\",T72,$Z$20),IF(AND(T72>9,T72<100),CONCATENATE($Z$18,\"0\",T72,$Z$20),CONCATENATE($Z$18,T72,$Z$20)))","v":"=+IMPORTARDATOSDINAMICOS(\" BAS116\";TABLAS!$A$75)"},"=+IMPORTARDATOSDINAMICOS(\" BAS117\";TABLAS!$A$75)","=+IMPORTARDATOSDINAMICOS(\" BAS118\";TABLAS!$A$75)","=+IMPORTARDATOSDINAMICOS(\" BAS119\";TABLAS!$A$75)","=+IMPORTARDATOSDINAMICOS(\" BAS120\";TABLAS!$A$75)",null,{"$f":"+X71+1","v":116},{"$f":"+T72+1","v":117},{"$f":"+U72+1","v":118},119,120]
[null,"Mordedura por can sospechoso de rabia","SEV","Vac","T",{"$f":"SUM(G73:K73)","v":0},{"$f":"SUM(G74:G75)","v":0},{"$f":"SUM(H74:H75)","v":0},{"$f":"SUM(I74:I75)","v":0},{"$f":"SUM(J74:J75)","v":0},{"$f":"SUM(K74:K75)","v":0},null,0]
[9,null,null,null,"M",{"$f":"SUM(G74:K74)","v":0},{"$f":"+GETPIVOTDATA(\" BAS121\",TABLAS!$A$75)","v":0},{"$f":"+GETPIVOTDATA(\" BAS122\",TABLAS!$A$75)","v":0},{"$f":"+GETPIVOTDATA(\" BAS123\",TABLAS!$A$75)","v":0},{"$f":"+GETPIVOTDATA(\" BAS124\",TABLAS!$A$75)","v":0},{"$f":"+GETPIVOTDATA(\" BAS125\",TABLAS!$A$75)","v":0},null,"(TD=D+DX=W540+LAB1=SEV+LAB2=SR)+(TD=D+DX=99199.11+LAB1=1) ",{"$f":"IF(T74<10,CONCATENATE($Z$18,\"00\",T74,$Z$20),IF(AND(T74>9,T74<100),CONCATENATE($Z$18,\"0\",T74,$Z$20),CONCATENATE($Z$18,T74,$Z$20)))","v":"=+IMPORTARDATOSDINAMICOS(\" BAS121\";TABLAS!$A$75)"},{"$f":"IF(U74<10,CONCATENATE($Z$18,\"00\",U74,$Z$20),IF(AND(U74>9,U74<100),CONCATENATE($Z$18,\"0\",U74,$Z$20),CONCATENATE($Z$18,U74,$Z$20)))","v":"=+IMPORTARDATOSDINAMICOS(\" BAS122\";TABLAS!$A$75)"},{"$f":"IF(V74<10,CONCATENATE($Z$18,\"00\",V74,$Z$20),IF(AND(V74>9,V74<100),CONCATENATE($Z$18,\"0\",V74,$Z$20),CONCATENATE($Z$18,V74,$Z$20)))","v":"=+IMPORTARDATOSDINAMICOS(\" BAS123\";TABLAS!$A$75)"},{"$f":"IF(W74<10,CONCATENATE($Z$18,\"00\",W74,$Z$20),IF(AND(W74>9,W74<100),CONCATENATE($Z$18,\"0\",W74,$Z$20),CONCATENATE($Z$18,W74,$Z$20)))","v":"=+IMPORTARDATOSDINAMICOS(\" BAS124\";TABLAS!$A$75)"},{"$f":"IF(X74<10,CONCATENATE($Z$18,\"00\",X74,$Z$20),IF(AND(X74>9,X74<100),CONCATENATE($Z$18,\"0\",X74,$Z$20),CONCATENATE($Z$18,X74,$Z$20)))","v":"=+IMPORTARDATOSDINAMICOS(\" BAS125\";TABLAS!$A$75)"},null,{"$f":"+X72+1","v":121},{"$f":"+T74+1","v":122},{"$f":"+U74+1","v":123},124,125]
[null,null,null,null,"F",0,{"$f":"+GETPIVOTDATA(\" BAS126\",TABLAS!$A$75)","v":0},{"$f":"+GETPIVOTDATA(\" BAS127\",TABLAS!$A$75)","v":0},{"$f":"+GETPIVOTDATA(\" BAS128\",TABLAS!$A$75)","v":0},{"$f":"+GETPIVOTDATA(\" BAS129\",TABLAS!$A$75)","v":0},{"$f":"+GETPIVOTDATA(\" BAS130\",TABLAS!$A$75)","v":0},null,null,{"$f":"IF(T75<10,CONCATENATE($Z$18,\"00\",T75,$Z$20),IF(AND(T75>9,T75<100),CONCATENATE($Z$18,\"0\",T75,$Z$20),CONCATENATE($Z$18,T75,$Z$20)))","v":"=+IMPORTARDATOSDINAMICOS(\" BAS126\";TABLAS!$A$75)"},"=+IMPORTARDATOSDINAMICOS(\" BAS127\";TABLAS!$A$75)","=+IMPORTARDATOSDINAMICOS(\" BAS128\";TABLAS!$A$75)","=+IMPORTARDATOSDINAMICOS(\" BAS129\";TABLAS!$A$75)","=+IMPORTARDATOSDINAMICOS(\" BAS130\";TABLAS!$A$75)",null,{"$f":"+X74+1","v":126},{"$f":"+T75+1","v":127},{"$f":"+U75+1","v":128},129,130]
[null,null,"SEV","RIG Vac","T",{"$f":"SUM(G76:K76)","v":0},{"$f":"SUM(G77:G78)","v":0},{"$f":"SUM(H77:H78)","v":0},{"$f":"SUM(I77:I78)","v":0},{"$f":"SUM(J77:J78)","v":0},{"$f":"SUM(K77:K78)","v":0},null,0]
[10,null,null,null,"M",{"$f":"SUM(G77:K77)","v":0},{"$f":"+GETPIVOTDATA(\" BAS131\",TABLAS!$A$75)","v":0},{"$f":"+GETPIVOTDATA(\" BAS132\",TABLAS!$A$75)","v":0},{"$f":"+GETPIVOTDATA(\" BAS133\",TABLAS!$A$75)","v":0},{"$f":"+GETPIVOTDATA(\" BAS134\",TABLAS!$A$75)","v":0},{"$f":"+GETPIVOTDATA(\" BAS135\",TABLAS!$A$75)","v":0},null,"(TD=D+DX=W540+LAB1=SEV+LAB2=SR)+(TD=D+DX=99199.11+LAB1=2) ",{"$f":"IF(T77<10,CONCATENATE($Z$18,\"00\",T77,$Z$20),IF(AND(T77>9,T77<100),CONCATENATE($Z$18,\"0\",T77,$Z$20),CONCATENATE($Z$18,T77,$Z$20)))","v":"=+IMPORTARDATOSDINAMICOS(\" BAS131\";TABLAS!$A$75)"},{"$f":"IF(U77<10,CONCATENATE($Z$18,\"00\",U77,$Z$20),IF(AND(U77>9,U77<100),CONCATENATE($Z$18,\"0\",U77,$Z$20),CONCATENATE($Z$18,U77,$Z$20)))","v":"=+IMPORTARDATOSDINAMICOS(\" BAS132\";TABLAS!$A$75)"},{"$f":"IF(V77<10,CONCATENATE($Z$18,\"00\",V77,$Z$20),IF(AND(V77>9,V77<100),CONCATENATE($Z$18,\"0\",V77,$Z$20),CONCATENATE($Z$18,V77,$Z$20)))","v":"=+IMPORTARDATOSDINAMICOS(\" BAS133\";TABLAS!$A$75)"},{"$f":"IF(W77<10,CONCATENATE($Z$18,\"00\",W77,$Z$20),IF(AND(W77>9,W77<100),CONCATENATE($Z$18,\"0\",W77,$Z$20),CONCATENATE($Z$18,W77,$Z$20)))","v":"=+IMPORTARDATOSDINAMICOS(\" BAS134\";TABLAS!$A$75)"},{"$f":"IF(X77<10,CONCATENATE($Z$18,\"00\",X77,$Z$20),IF(AND(X77>9,X77<100),CONCATENATE($Z$18,\"0\",X77,$Z$20),CONCATENATE($Z$18,X77,$Z$20)))","v":"=+IMPORTARDATOSDINAMICOS(\" BAS135\";TABLAS!$A$75)"},null,{"$f":"+X75+1","v":131},{"$f":"+T77+1","v":132},{"$f":"+U77+1","v":133},134,135]
[null,null,null,null,"F",0,{"$f":"+GETPIVOTDATA(\" BAS136\",TABLAS!$A$75)","v":0},{"$f":"+GETPIVOTDATA(\" BAS137\",TABLAS!$A$75)","v":0},{"$f":"+GETPIVOTDATA(\" BAS138\",TABLAS!$A$75)","v":0},{"$f":"+GETPIVOTDATA(\" BAS139\",TABLAS!$A$75)","v":0},{"$f":"+GETPIVOTDATA(\" BAS140\",TABLAS!$A$75)","v":0},null,null,{"$f":"IF(T78<10,CONCATENATE($Z$18,\"00\",T78,$Z$20),IF(AND(T78>9,T78<100),CONCATENATE($Z$18,\"0\",T78,$Z$20),CONCATENATE($Z$18,T78,$Z$20)))","v":"=+IMPORTARDATOSDINAMICOS(\" BAS136\";TABLAS!$A$75)"},"=+IMPORTARDATOSDINAMICOS(\" BAS137\";TABLAS!$A$75)","=+IMPORTARDATOSDINAMICOS(\" BAS138\";TABLAS!$A$75)","=+IMPORTARDATOSDINAMICOS(\" BAS139\";TABLAS!$A$75)","=+IMPORTARDATOSDINAMICOS(\" BAS140\";TABLAS!$A$75)",null,{"$f":"+X77+1","v":136},{"$f":"+T78+1","v":137},{"$f":"+U78+1","v":138},139,140]
[null,"Mordedura por gato sospechoso de rabia","SEV","Vac","T",{"$f":"SUM(G79:K79)","v":0},{"$f":"SUM(G80:G81)","v":0},{"$f":"SUM(H80:H81)","v":0},{"$f":"SUM(I80:I81)","v":0},{"$f":"SUM(J80:J81)","v":0},{"$f":"SUM(K80:K81)","v":0},null,{"$f":"N79+O79+P79+Q79+R79","v":0}]
[11,null,null,null,"M",{"$f":"SUM(G80:K80)","v":0},{"$f":"+GETPIVOTDATA(\" BAS141\",TABLAS!$A$75)","v":0},{"$f":"+GETPIVOTDATA(\" BAS142\",TABLAS!$A$75)","v":0},{"$f":"+GETPIVOTDATA(\" BAS143\",TABLAS!$A$75)","v":0},{"$f":"+GETPIVOTDATA(\" BAS144\",TABLAS!$A$75)","v":0},{"$f":"+GETPIVOTDATA(\" BAS145\",TABLAS!$A$75)","v":0},null,"(TD=D+DX=W550+LAB1=SEV+LAB2=SR)+(TD=D+DX=99199.11+LAB1=1) ",{"$f":"IF(T80<10,CONCATENATE($Z$18,\"00\",T80,$Z$20),IF(AND(T80>9,T80<100),CONCATENATE($Z$18,\"0\",T80,$Z$20),CONCATENATE($Z$18,T80,$Z$20)))","v":"=+IMPORTARDATOSDINAMICOS(\" BAS141\";TABLAS!$A$75)"},{"$f":"IF(U80<10,CONCATENATE($Z$18,\"00\",U80,$Z$20),IF(AND(U80>9,U80<100),CONCATENATE($Z$18,\"0\",U80,$Z$20),CONCATENATE($Z$18,U80,$Z$20)))","v":"=+IMPORTARDATOSDINAMICOS(\" BAS142\";TABLAS!$A$75)"},{"$f":"IF(V80<10,CONCATENATE($Z$18,\"00\",V80,$Z$20),IF(AND(V80>9,V80<100),CONCATENATE($Z$18,\"0\",V80,$Z$20),CONCATENATE($Z$18,V80,$Z$20)))","v":"=+IMPORTARDATOSDINAMICOS(\" BAS143\";TABLAS!$A$75)"},{"$f":"IF(W80<10,CONCATENATE($Z$18,\"00\",W80,$Z$20),IF(AND(W80>9,W80<100),CONCATENATE($Z$18,\"0\",W80,$Z$20),CONCATENATE($Z$18,W80,$Z$20)))","v":"=+IMPORTARDATOSDINAMICOS(\" BAS144\";TABLAS!$A$75)"},{"$f":"IF(X80<10,CONCATENATE($Z$18,\"00\",X80,$Z$20),IF(AND(X80>9,X80<100),CONCATENATE($Z$18,\"0\",X80,$Z$20),CONCATENATE($Z$18,X80,$Z$20)))","v":"=+IMPORTARDATOSDINAMICOS(\" BAS145\";TABLAS!$A$75)"},null,{"$f":"+X78+1","v":141},{"$f":"+T80+1","v":142},{"$f":"+U80+1","v":143},144,145]
[null,null,null,null,"F",0,{"$f":"+GETPIVOTDATA(\" BAS146\",TABLAS!$A$75)","v":0},{"$f":"+GETPIVOTDATA(\" BAS147\",TABLAS!$A$75)","v":0},{"$f":"+GETPIVOTDATA(\" BAS148\",TABLAS!$A$75)","v":0},{"$f":"+GETPIVOTDATA(\" BAS149\",TABLAS!$A$75)","v":0},{"$f":"+GETPIVOTDATA(\" BAS150\",TABLAS!$A$75)","v":0},null,null,{"$f":"IF(T81<10,CONCATENATE($Z$18,\"00\",T81,$Z$20),IF(AND(T81>9,T81<100),CONCATENATE($Z$18,\"0\",T81,$Z$20),CONCATENATE($Z$18,T81,$Z$20)))","v":"=+IMPORTARDATOSDINAMICOS(\" BAS146\";TABLAS!$A$75)"},"=+IMPORTARDATOSDINAMICOS(\" BAS147\";TABLAS!$A$75)","=+IMPORTARDATOSDINAMICOS(\" BAS148\";TABLAS!$A$75)","=+IMPORTARDATOSDINAMICOS(\" BAS149\";TABLAS!$A$75)","=+IMPORTARDATOSDINAMICOS(\" BAS150\";TABLAS!$A$75)",null,{"$f":"+X80+1","v":146},{"$f":"+T81+1","v":147},{"$f":"+U81+1","v":148},149,150]
[null,null,"SEV","RIG Vac","T",{"$f":"SUM(G82:K82)","v":0},{"$f":"SUM(G83:G84)","v":0},{"$f":"SUM(H83:H84)","v":0},{"$f":"SUM(I83:I84)","v":0},{"$f":"SUM(J83:J84)","v":0},{"$f":"SUM(K83:K84)","v":0},null,0]
[12,null,null,null,"M",{"$f":"SUM(G83:K83)","v":0},{"$f":"+GETPIVOTDATA(\" BAS151\",TABLAS!$A$75)","v":0},{"$f":"+GETPIVOTDATA(\" BAS152\",TABLAS!$A$75)","v":0},{"$f":"+GETPIVOTDATA(\" BAS153\",TABLAS!$A$75)","v":0},{"$f":"+GETPIVOTDATA(\" BAS154\",TABLAS!$A$75)","v":0},{"$f":"+GETPIVOTDATA(\" BAS155\",TABLAS!$A$75)","v":0},null,"(TD=D+DX=W550+LAB1=SEV+LAB2=SR)+(TD=D+DX=99199.11+LAB1=2) ",{"$f":"IF(T83<10,CONCATENATE($Z$18,\"00\",T83,$Z$20),IF(AND(T83>9,T83<100),CONCATENATE($Z$18,\"0\",T83,$Z$20),CONCATENATE($Z$18,T83,$Z$20)))","v":"=+IMPORTARDATOSDINAMICOS(\" BAS151\";TABLAS!$A$75)"},{"$f":"IF(U83<10,CONCATENATE($Z$18,\"00\",U83,$Z$20),IF(AND(U83>9,U83<100),CONCATENATE($Z$18,\"0\",U83,$Z$20),CONCATENATE($Z$18,U83,$Z$20)))","v":"=+IMPORTARDATOSDINAMICOS(\" BAS152\";TABLAS!$A$75)"},{"$f":"IF(V83<10,CONCATENATE($Z$18,\"00\",V83,$Z$20),IF(AND(V83>9,V83<100),CONCATENATE($Z$18,\"0\",V83,$Z$20),CONCATENATE($Z$18,V83,$Z$20)))","v":"=+IMPORTARDATOSDINAMICOS(\" BAS153\";TABLAS!$A$75)"},{"$f":"IF(W83<10,CONCATENATE($Z$18,\"00\",W83,$Z$20),IF(AND(W83>9,W83<100),CONCATENATE($Z$18,\"0\",W83,$Z$20),CONCATENATE($Z$18,W83,$Z$20)))","v":"=+IMPORTARDATOSDINAMICOS(\" BAS154\";TABLAS!$A$75)"},{"$f":"IF(X83<10,CONCATENATE($Z$18,\"00\",X83,$Z$20),IF(AND(X83>9,X83<100),CONCATENATE($Z$18,\"0\",X83,$Z$20),CONCATENATE($Z$18,X83,$Z$20)))","v":"=+IMPORTARDATOSDINAMICOS(\" BAS155\";TABLAS!$A$75)"},null,{"$f":"+X81+1","v":151},{"$f":"+T83+1","v":152},{"$f":"+U83+1","v":153},154,155]
[null,null,null,null,"F",0,{"$f":"+GETPIVOTDATA(\" BAS156\",TABLAS!$A$75)","v":0},{"$f":"+GETPIVOTDATA(\" BAS157\",TABLAS!$A$75)","v":0},{"$f":"+GETPIVOTDATA(\" BAS158\",TABLAS!$A$75)","v":0},{"$f":"+GETPIVOTDATA(\" BAS159\",TABLAS!$A$75)","v":0},{"$f":"+GETPIVOTDATA(\" BAS160\",TABLAS!$A$75)","v":0},null,null,{"$f":"IF(T84<10,CONCATENATE($Z$18,\"00\",T84,$Z$20),IF(AND(T84>9,T84<100),CONCATENATE($Z$18,\"0\",T84,$Z$20),CONCATENATE($Z$18,T84,$Z$20)))","v":"=+IMPORTARDATOSDINAMICOS(\" BAS156\";TABLAS!$A$75)"},"=+IMPORTARDATOSDINAMICOS(\" BAS157\";TABLAS!$A$75)","=+IMPORTARDATOSDINAMICOS(\" BAS158\";TABLAS!$A$75)","=+IMPORTARDATOSDINAMICOS(\" BAS159\";TABLAS!$A$75)","=+IMPORTARDATOSDINAMICOS(\" BAS160\";TABLAS!$A$75)",null,{"$f":"+X83+1","v":156},{"$f":"+T84+1","v":157},{"$f":"+U84+1","v":158},159,160]
[null,"Mordedura por otro mamífero doméstico-rabia urbana","SEV","Vac","T",{"$f":"SUM(G85:K85)","v":0},{"$f":"SUM(G86:G87)","v":0},{"$f":"SUM(H86:H87)","v":0},{"$f":"SUM(I86:I87)","v":0},{"$f":"SUM(J86:J87)","v":0},{"$f":"SUM(K86:K87)","v":0},null,0]
[13,null,null,null,"M",{"$f":"SUM(G86:K86)","v":0},{"$f":"+GETPIVOTDATA(\" BAS161\",TABLAS!$A$75)","v":0},{"$f":"+GETPIVOTDATA(\" BAS162\",TABLAS!$A$75)","v":0},{"$f":"+GETPIVOTDATA(\" BAS163\",TABLAS!$A$75)","v":0},{"$f":"+GETPIVOTDATA(\" BAS164\",TABLAS!$A$75)","v":0},{"$f":"+GETPIVOTDATA(\" BAS165\",TABLAS!$A$75)","v":0},null,"(TD=D+DX=W558+LAB1=SEV+LAB2=SR)+(TD=D+DX=99199.11+LAB1=1) ",{"$f":"IF(T86<10,CONCATENATE($Z$18,\"00\",T86,$Z$20),IF(AND(T86>9,T86<100),CONCATENATE($Z$18,\"0\",T86,$Z$20),CONCATENATE($Z$18,T86,$Z$20)))","v":"=+IMPORTARDATOSDINAMICOS(\" BAS161\";TABLAS!$A$75)"},{"$f":"IF(U86<10,CONCATENATE($Z$18,\"00\",U86,$Z$20),IF(AND(U86>9,U86<100),CONCATENATE($Z$18,\"0\",U86,$Z$20),CONCATENATE($Z$18,U86,$Z$20)))","v":"=+IMPORTARDATOSDINAMICOS(\" BAS162\";TABLAS!$A$75)"},{"$f":"IF(V86<10,CONCATENATE($Z$18,\"00\",V86,$Z$20),IF(AND(V86>9,V86<100),CONCATENATE($Z$18,\"0\",V86,$Z$20),CONCATENATE($Z$18,V86,$Z$20)))","v":"=+IMPORTARDATOSDINAMICOS(\" BAS163\";TABLAS!$A$75)"},{"$f":"IF(W86<10,CONCATENATE($Z$18,\"00\",W86,$Z$20),IF(AND(W86>9,W86<100),CONCATENATE($Z$18,\"0\",W86,$Z$20),CONCATENATE($Z$18,W86,$Z$20)))","v":"=+IMPORTARDATOSDINAMICOS(\" BAS164\";TABLAS!$A$75)"},{"$f":"IF(X86<10,CONCATENATE($Z$18,\"00\",X86,$Z$20),IF(AND(X86>9,X86<100),CONCATENATE($Z$18,\"0\",X86,$Z$20),CONCATENATE($Z$18,X86,$Z$20)))","v":"=+IMPORTARDATOSDINAMICOS(\" BAS165\";TABLAS!$A$75)"},null,{"$f":"+X84+1","v":161},{"$f":"+T86+1","v":162},{"$f":"+U86+1","v":163},164,165]
[null,null,null,null,"F",0,{"$f":"+GETPIVOTDATA(\" BAS166\",TABLAS!$A$75)","v":0},{"$f":"+GETPIVOTDATA(\" BAS167\",TABLAS!$A$75)","v":0},{"$f":"+GETPIVOTDATA(\" BAS168\",TABLAS!$A$75)","v":0},{"$f":"+GETPIVOTDATA(\" BAS169\",TABLAS!$A$75)","v":0},{"$f":"+GETPIVOTDATA(\" BAS170\",TABLAS!$A$75)","v":0},null,null,{"$f":"IF(T87<10,CONCATENATE($Z$18,\"00\",T87,$Z$20),IF(AND(T87>9,T87<100),CONCATENATE($Z$18,\"0\",T87,$Z$20),CONCATENATE($Z$18,T87,$Z$20)))","v":"=+IMPORTARDATOSDINAMICOS(\" BAS166\";TABLAS!$A$75)"},"=+IMPORTARDATOSDINAMICOS(\" BAS167\";TABLAS!$A$75)","=+IMPORTARDATOSDINAMICOS(\" BAS168\";TABLAS!$A$75)","=+IMPORTARDATOSDINAMICOS(\" BAS169\";TABLAS!$A$75)","=+IMPORTARDATOSDINAMICOS(\" BAS170\";TABLAS!$A$75)",null,{"$f":"+X86+1","v":166},{"$f":"+T87+1","v":167},{"$f":"+U87+1","v":168},169,170]
[null,null,"SEV","RIG Vac","T",{"$f":"SUM(G88:K88)","v":0},{"$f":"SUM(G89:G90)","v":0},{"$f":"SUM(H89:H90)","v":0},{"$f":"SUM(I89:I90)","v":0},{"$f":"SUM(J89:J90)","v":0},{"$f":"SUM(K89:K90)","v":0},null,0]
[14,null,null,null,"M",{"$f":"SUM(G89:K89)","v":0},{"$f":"+GETPIVOTDATA(\" BAS171\",TABLAS!$A$75)","v":0},{"$f":"+GETPIVOTDATA(\" BAS172\",TABLAS!$A$75)","v":0},{"$f":"+GETPIVOTDATA(\" BAS173\",TABLAS!$A$75)","v":0},{"$f":"+GETPIVOTDATA(\" BAS174\",TABLAS!$A$75)","v":0},{"$f":"+GETPIVOTDATA(\" BAS175\",TABLAS!$A$75)","v":0},null,"(TD=D+DX=W558+LAB1=SEV+LAB2=SR)+(TD=D+DX=99199.11+LAB1=2) ",{"$f":"IF(T89<10,CONCATENATE($Z$18,\"00\",T89,$Z$20),IF(AND(T89>9,T89<100),CONCATENATE($Z$18,\"0\",T89,$Z$20),CONCATENATE($Z$18,T89,$Z$20)))","v":"=+IMPORTARDATOSDINAMICOS(\" BAS171\";TABLAS!$A$75)"},{"$f":"IF(U89<10,CONCATENATE($Z$18,\"00\",U89,$Z$20),IF(AND(U89>9,U89<100),CONCATENATE($Z$18,\"0\",U89,$Z$20),CONCATENATE($Z$18,U89,$Z$20)))","v":"=+IMPORTARDATOSDINAMICOS(\" BAS172\";TABLAS!$A$75)"},{"$f":"IF(V89<10,CONCATENATE($Z$18,\"00\",V89,$Z$20),IF(AND(V89>9,V89<100),CONCATENATE($Z$18,\"0\",V89,$Z$20),CONCATENATE($Z$18,V89,$Z$20)))","v":"=+IMPORTARDATOSDINAMICOS(\" BAS173\";TABLAS!$A$75)"},{"$f":"IF(W89<10,CONCATENATE($Z$18,\"00\",W89,$Z$20),IF(AND(W89>9,W89<100),CONCATENATE($Z$18,\"0\",W89,$Z$20),CONCATENATE($Z$18,W89,$Z$20)))","v":"=+IMPORTARDATOSDINAMICOS(\" BAS174\";TABLAS!$A$75)"},{"$f":"IF(X89<10,CONCATENATE($Z$18,\"00\",X89,$Z$20),IF(AND(X89>9,X89<100),CONCATENATE($Z$18,\"0\",X89,$Z$20),CONCATENATE($Z$18,X89,$Z$20)))","v":"=+IMPORTARDATOSDINAMICOS(\" BAS175\";TABLAS!$A$75)"},null,{"$f":"+X87+1","v":171},{"$f":"+T89+1","v":172},{"$f":"+U89+1","v":173},174,175]
[null,null,null,null,"F",0,{"$f":"+GETPIVOTDATA(\" BAS176\",TABLAS!$A$75)","v":0},{"$f":"+GETPIVOTDATA(\" BAS177\",TABLAS!$A$75)","v":0},{"$f":"+GETPIVOTDATA(\" BAS178\",TABLAS!$A$75)","v":0},{"$f":"+GETPIVOTDATA(\" BAS179\",TABLAS!$A$75)","v":0},{"$f":"+GETPIVOTDATA(\" BAS180\",TABLAS!$A$75)","v":0},null,null,{"$f":"IF(T90<10,CONCATENATE($Z$18,\"00\",T90,$Z$20),IF(AND(T90>9,T90<100),CONCATENATE($Z$18,\"0\",T90,$Z$20),CONCATENATE($Z$18,T90,$Z$20)))","v":"=+IMPORTARDATOSDINAMICOS(\" BAS176\";TABLAS!$A$75)"},"=+IMPORTARDATOSDINAMICOS(\" BAS177\";TABLAS!$A$75)","=+IMPORTARDATOSDINAMICOS(\" BAS178\";TABLAS!$A$75)","=+IMPORTARDATOSDINAMICOS(\" BAS179\";TABLAS!$A$75)","=+IMPORTARDATOSDINAMICOS(\" BAS180\";TABLAS!$A$75)",null,{"$f":"+X89+1","v":176},{"$f":"+T90+1","v":177},{"$f":"+U90+1","v":178},179,180]
[null,"Mordedura por roedor","Sin riesgo",null,"T",{"$f":"SUM(G91:K91)","v":0},{"$f":"SUM(G92:G93)","v":0},{"$f":"SUM(H92:H93)","v":0},{"$f":"SUM(I92:I93)","v":0},{"$f":"SUM(J92:J93)","v":0},{"$f":"SUM(K92:K93)","v":0},null,0]
[15,null,null,null,"M",{"$f":"SUM(G92:K92)","v":0},{"$f":"+GETPIVOTDATA(\" BAS181\",TABLAS!$A$75)","v":0},{"$f":"+GETPIVOTDATA(\" BAS182\",TABLAS!$A$75)","v":0},{"$f":"+GETPIVOTDATA(\" BAS183\",TABLAS!$A$75)","v":0},{"$f":"+GETPIVOTDATA(\" BAS184\",TABLAS!$A$75)","v":0},{"$f":"+GETPIVOTDATA(\" BAS185\",TABLAS!$A$75)","v":0},null,"(TD=D+DX=W530)",{"$f":"IF(T92<10,CONCATENATE($Z$18,\"00\",T92,$Z$20),IF(AND(T92>9,T92<100),CONCATENATE($Z$18,\"0\",T92,$Z$20),CONCATENATE($Z$18,T92,$Z$20)))","v":"=+IMPORTARDATOSDINAMICOS(\" BAS181\";TABLAS!$A$75)"},{"$f":"IF(U92<10,CONCATENATE($Z$18,\"00\",U92,$Z$20),IF(AND(U92>9,U92<100),CONCATENATE($Z$18,\"0\",U92,$Z$20),CONCATENATE($Z$18,U92,$Z$20)))","v":"=+IMPORTARDATOSDINAMICOS(\" BAS182\";TABLAS!$A$75)"},{"$f":"IF(V92<10,CONCATENATE($Z$18,\"00\",V92,$Z$20),IF(AND(V92>9,V92<100),CONCATENATE($Z$18,\"0\",V92,$Z$20),CONCATENATE($Z$18,V92,$Z$20)))","v":"=+IMPORTARDATOSDINAMICOS(\" BAS183\";TABLAS!$A$75)"},{"$f":"IF(W92<10,CONCATENATE($Z$18,\"00\",W92,$Z$20),IF(AND(W92>9,W92<100),CONCATENATE($Z$18,\"0\",W92,$Z$20),CONCATENATE($Z$18,W92,$Z$20)))","v":"=+IMPORTARDATOSDINAMICOS(\" BAS184\";TABLAS!$A$75)"},{"$f":"IF(X92<10,CONCATENATE($Z$18,\"00\",X92,$Z$20),IF(AND(X92>9,X92<100),CONCATENATE($Z$18,\"0\",X92,$Z$20),CONCATENATE($Z$18,X92,$Z$20)))","v":"=+IMPORTARDATOSDINAMICOS(\" BAS185\";TABLAS!$A$75)"},null,{"$f":"+X90+1","v":181},{"$f":"+T92+1","v":182},{"$f":"+U92+1","v":183},184,185]
[null,null,null,null,"F",0,{"$f":"+GETPIVOTDATA(\" BAS186\",TABLAS!$A$75)","v":0},{"$f":"+GETPIVOTDATA(\" BAS187\",TABLAS!$A$75)","v":0},{"$f":"+GETPIVOTDATA(\" BAS188\",TABLAS!$A$75)","v":0},{"$f":"+GETPIVOTDATA(\" BAS189\",TABLAS!$A$75)","v":0},{"$f":"+GETPIVOTDATA(\" BAS190\",TABLAS!$A$75)","v":0},null,null,{"$f":"IF(T93<10,CONCATENATE($Z$18,\"00\",T93,$Z$20),IF(AND(T93>9,T93<100),CONCATENATE($Z$18,\"0\",T93,$Z$20),CONCATENATE($Z$18,T93,$Z$20)))","v":"=+IMPORTARDATOSDINAMICOS(\" BAS186\";TABLAS!$A$75)"},"=+IMPORTARDATOSDINAMICOS(\" BAS187\";TABLAS!$A$75)","=+IMPORTARDATOSDINAMICOS(\" BAS188\";TABLAS!$A$75)","=+IMPORTARDATOSDINAMICOS(\" BAS189\";TABLAS!$A$75)","=+IMPORTARDATOSDINAMICOS(\" BAS190\";TABLAS!$A$75)",null,{"$f":"+X92+1","v":186},{"$f":"+T93+1","v":187},{"$f":"+U93+1","v":188},189,190]
[]
[null,"CUADRO: Diagnósticos CIE-10 del tipo de Heridas (ANEXO 01 MANUAL)",null,null,null,null,null,null,null,null,null,null,null,{"$f":"IF(T95<10,CONCATENATE($Z$18,\"00\",T95,$Z$20),IF(AND(T95>9,T95<100),CONCATENATE($Z$18,\"0\",T95,$Z$20),CONCATENATE($Z$18,T95,$Z$20)))","v":"=+IMPORTARDATOSDINAMICOS(\" BAS191\";TABLAS!$A$75)"},{"$f":"IF(U95<10,CONCATENATE($Z$18,\"00\",U95,$Z$20),IF(AND(U95>9,U95<100),CONCATENATE($Z$18,\"0\",U95,$Z$20),CONCATENATE($Z$18,U95,$Z$20)))","v":"=+IMPORTARDATOSDINAMICOS(\" BAS192\";TABLAS!$A$75)"},{"$f":"IF(V95<10,CONCATENATE($Z$18,\"00\",V95,$Z$20),IF(AND(V95>9,V95<100),CONCATENATE($Z$18,\"0\",V95,$Z$20),CONCATENATE($Z$18,V95,$Z$20)))","v":"=+IMPORTARDATOSDINAMICOS(\" BAS193\";TABLAS!$A$75)"},{"$f":"IF(W95<10,CONCATENATE($Z$18,\"00\",W95,$Z$20),IF(AND(W95>9,W95<100),CONCATENATE($Z$18,\"0\",W95,$Z$20),CONCATENATE($Z$18,W95,$Z$20)))","v":"=+IMPORTARDATOSDINAMICOS(\" BAS194\";TABLAS!$A$75)"},{"$f":"IF(X95<10,CONCATENATE($Z$18,\"00\",X95,$Z$20),IF(AND(X95>9,X95<100),CONCATENATE($Z$18,\"0\",X95,$Z$20),CONCATENATE($Z$18,X95,$Z$20)))","v":"=+IMPORTARDATOSDINAMICOS(\" BAS195\";TABLAS!$A$75)"},null,{"$f":"+X93+1","v":191},{"$f":"+T95+1","v":192},{"$f":"+U95+1","v":193},194,195]
[null,"Subcategorías","TOTAL","Mordedura por can conocido","Mordedura por gato conocido","Mordedura por can desconocido","Mordedura por gato desconocido","Mordedura por can sospechoso de rabia","Mordedura por gato sospechoso de rabia","Mordedura por otro mamífero doméstico-rabia urbana","Mordedura por roedor",null,null,{"$f":"IF(T96<10,CONCATENATE($Z$18,\"00\",T96,$Z$20),IF(AND(T96>9,T96<100),CONCATENATE($Z$18,\"0\",T96,$Z$20),CONCATENATE($Z$18,T96,$Z$20)))","v":"=+IMPORTARDATOSDINAMICOS(\" BAS196\";TABLAS!$A$75)"},"=+IMPORTARDATOSDINAMICOS(\" BAS197\";TABLAS!$A$75)","=+IMPORTARDATOSDINAMICOS(\" BAS198\";TABLAS!$A$75)","=+IMPORTARDATOSDINAMICOS(\" BAS199\";TABLAS!$A$75)","=+IMPORTARDATOSDINAMICOS(\" BAS200\";TABLAS!$A$75)",null,{"$f":"+X95+1","v":196},{"$f":"+T96+1","v":197},{"$f":"+U96+1","v":198},199,200]
[null,"S010 - Herida del Cuero Cabelludo",1]
[null,null,2,null,null,null,null,null,null,null,null,null,null,{"$f":"IF(T98<10,CONCATENATE($Z$18,\"00\",T98,$Z$20),IF(AND(T98>9,T98<100),CONCATENATE($Z$18,\"0\",T98,$Z$20),CONCATENATE($Z$18,T98,$Z$20)))","v":"=+IMPORTARDATOSDINAMICOS(\" BAS201\";TABLAS!$A$75)"},{"$f":"IF(U98<10,CONCATENATE($Z$18,\"00\",U98,$Z$20),IF(AND(U98>9,U98<100),CONCATENATE($Z$18,\"0\",U98,$Z$20),CONCATENATE($Z$18,U98,$Z$20)))","v":"=+IMPORTARDATOSDINAMICOS(\" BAS202\";TABLAS!$A$75)"},{"$f":"IF(V98<10,CONCATENATE($Z$18,\"00\",V98,$Z$20),IF(AND(V98>9,V98<100),CONCATENATE($Z$18,\"0\",V98,$Z$20),CONCATENATE($Z$18,V98,$Z$20)))","v":"=+IMPORTARDATOSDINAMICOS(\" BAS203\";TABLAS!$A$75)"},{"$f":"IF(W98<10,CONCATENATE($Z$18,\"00\",W98,$Z$20),IF(AND(W98>9,W98<100),CONCATENATE($Z$18,\"0\",W98,$Z$20),CONCATENATE($Z$18,W98,$Z$20)))","v":"=+IMPORTARDATOSDINAMICOS(\" BAS204\";TABLAS!$A$75)"},{"$f":"IF(X98<10,CONCATENATE($Z$18,\"00\",X98,$Z$20),IF(AND(X98>9,X98<100),CONCATENATE($Z$18,\"0\",X98,$Z$20),CONCATENATE($Z$18,X98,$Z$20)))","v":"=+IMPORTARDATOSDINAMICOS(\" BAS205\";TABLAS!$A$75)"},null,{"$f":"+X96+1","v":201},{"$f":"+T98+1","v":202},{"$f":"+U98+1","v":203},204,205]
[null,null,3,null,null,null,null,null,null,null,null,null,null,{"$f":"IF(T99<10,CONCATENATE($Z$18,\"00\",T99,$Z$20),IF(AND(T99>9,T99<100),CONCATENATE($Z$18,\"0\",T99,$Z$20),CONCATENATE($Z$18,T99,$Z$20)))","v":"=+IMPORTARDATOSDINAMICOS(\" BAS206\";TABLAS!$A$75)"},"=+IMPORTARDATOSDINAMICOS(\" BAS207\";TABLAS!$A$75)","=+IMPORTARDATOSDINAMICOS(\" BAS208\";TABLAS!$A$75)","=+IMPORTARDATOSDINAMICOS(\" BAS209\";TABLAS!$A$75)","=+IMPORTARDATOSDINAMICOS(\" BAS210\";TABLAS!$A$75)",null,{"$f":"+X98+1","v":206},{"$f":"+T99+1","v":207},{"$f":"+U99+1","v":208},209,210]
[null,null,"1 Y 2"]
[null,null,"1 Y 3",null,null,null,null,null,null,null,null,null,null,{"$f":"IF(T101<10,CONCATENATE($Z$18,\"00\",T101,$Z$20),IF(AND(T101>9,T101<100),CONCATENATE($Z$18,\"0\",T101,$Z$20),CONCATENATE($Z$18,T101,$Z$20)))","v":"=+IMPORTARDATOSDINAMICOS(\" BAS211\";TABLAS!$A$75)"},{"$f":"IF(U101<10,CONCATENATE($Z$18,\"00\",U101,$Z$20),IF(AND(U101>9,U101<100),CONCATENATE($Z$18,\"0\",U101,$Z$20),CONCATENATE($Z$18,U101,$Z$20)))","v":"=+IMPORTARDATOSDINAMICOS(\" BAS212\";TABLAS!$A$75)"},{"$f":"IF(V101<10,CONCATENATE($Z$18,\"00\",V101,$Z$20),IF(AND(V101>9,V101<100),CONCATENATE($Z$18,\"0\",V101,$Z$20),CONCATENATE($Z$18,V101,$Z$20)))","v":"=+IMPORTARDATOSDINAMICOS(\" BAS213\";TABLAS!$A$75)"},{"$f":"IF(W101<10,CONCATENATE($Z$18,\"00\",W101,$Z$20),IF(AND(W101>9,W101<100),CONCATENATE($Z$18,\"0\",W101,$Z$20),CONCATENATE($Z$18,W101,$Z$20)))","v":"=+IMPORTARDATOSDINAMICOS(\" BAS214\";TABLAS!$A$75)"},{"$f":"IF(X101<10,CONCATENATE($Z$18,\"00\",X101,$Z$20),IF(AND(X101>9,X101<100),CONCATENATE($Z$18,\"0\",X101,$Z$20),CONCATENATE($Z$18,X101,$Z$20)))","v":"=+IMPORTARDATOSDINAMICOS(\" BAS215\";TABLAS!$A$75)"},null,{"$f":"+X99+1","v":211},{"$f":"+T101+1","v":212},{"$f":"+U101+1","v":213},214,215]
[null,null,"2 Y 3",null,null,null,null,null,null,null,null,null,null,{"$f":"IF(T102<10,CONCATENATE($Z$18,\"00\",T102,$Z$20),IF(AND(T102>9,T102<100),CONCATENATE($Z$18,\"0\",T102,$Z$20),CONCATENATE($Z$18,T102,$Z$20)))","v":"=+IMPORTARDATOSDINAMICOS(\" BAS216\";TABLAS!$A$75)"},"=+IMPORTARDATOSDINAMICOS(\" BAS217\";TABLAS!$A$75)","=+IMPORTARDATOSDINAMICOS(\" BAS218\";TABLAS!$A$75)","=+IMPORTARDATOSDINAMICOS(\" BAS219\";TABLAS!$A$75)","=+IMPORTARDATOSDINAMICOS(\" BAS220\";TABLAS!$A$75)",null,{"$f":"+X101+1","v":216},{"$f":"+T102+1","v":217},{"$f":"+U102+1","v":218},219,220]
[null,null,"1, 2 Y 3"]
[null,"S011 - Herida del Parpado y de la Región Periocular",null,null,null,null,null,null,null,null,null,null,null,{"$f":"IF(T104<10,CONCATENATE($Z$18,\"00\",T104,$Z$20),IF(AND(T104>9,T104<100),CONCATENATE($Z$18,\"0\",T104,$Z$20),CONCATENATE($Z$18,T104,$Z$20)))","v":"=+IMPORTARDATOSDINAMICOS(\" BAS221\";TABLAS!$A$75)"},{"$f":"IF(U104<10,CONCATENATE($Z$18,\"00\",U104,$Z$20),IF(AND(U104>9,U104<100),CONCATENATE($Z$18,\"0\",U104,$Z$20),CONCATENATE($Z$18,U104,$Z$20)))","v":"=+IMPORTARDATOSDINAMICOS(\" BAS222\";TABLAS!$A$75)"},{"$f":"IF(V104<10,CONCATENATE($Z$18,\"00\",V104,$Z$20),IF(AND(V104>9,V104<100),CONCATENATE($Z$18,\"0\",V104,$Z$20),CONCATENATE($Z$18,V104,$Z$20)))","v":"=+IMPORTARDATOSDINAMICOS(\" BAS223\";TABLAS!$A$75)"},{"$f":"IF(W104<10,CONCATENATE($Z$18,\"00\",W104,$Z$20),IF(AND(W104>9,W104<100),CONCATENATE($Z$18,\"0\",W104,$Z$20),CONCATENATE($Z$18,W104,$Z$20)))","v":"=+IMPORTARDATOSDINAMICOS(\" BAS224\";TABLAS!$A$75)"},{"$f":"IF(X104<10,CONCATENATE($Z$18,\"00\",X104,$Z$20),IF(AND(X104>9,X104<100),CONCATENATE($Z$18,\"0\",X104,$Z$20),CONCATENATE($Z$18,X104,$Z$20)))","v":"=+IMPORTARDATOSDINAMICOS(\" BAS225\";TABLAS!$A$75)"},null,{"$f":"+X102+1","v":221},{"$f":"+T104+1","v":222},{"$f":"+U104+1","v":223},224,225]
[null,"S012 - Herida de la Nariz",null,null,null,null,null,null,null,null,null,null,null,{"$f":"IF(T105<10,CONCATENATE($Z$18,\"00\",T105,$Z$20),IF(AND(T105>9,T105<100),CONCATENATE($Z$18,\"0\",T105,$Z$20),CONCATENATE($Z$18,T105,$Z$20)))","v":"=+IMPORTARDATOSDINAMICOS(\" BAS226\";TABLAS!$A$75)"},"=+IMPORTARDATOSDINAMICOS(\" BAS227\";TABLAS!$A$75)","=+IMPORTARDATOSDINAMICOS(\" BAS228\";TABLAS!$A$75)","=+IMPORTARDATOSDINAMICOS(\" BAS229\";TABLAS!$A$75)","=+IMPORTARDATOSDINAMICOS(\" BAS230\";TABLAS!$A$75)",null,{"$f":"+X104+1","v":226},{"$f":"+T105+1","v":227},{"$f":"+U105+1","v":228},229,230]
[null,"S013 - Herida del Oído"]
[null,"S014 - Herida de la Mejilla y de la Región Temporomandibular"]
[null,"S015 - Herida del Labio y de la Cavidad Bucal",null,null,null,null,null,null,null,null,null,null,null,"Categorías","Característica de la herida","TOTAL","Mordedura por can conocido","Mordedura por gato conocido","Mordedura por can desconocido","Mordedura por gato desconocido","Mordedura por can sospechoso de rabia","Mordedura por gato sospechoso de rabia","Mordedura por otro mamífero doméstico-rabia urbana","Mordedura por roedor"]
[null,"S017 - Heridas Múltiples de la Cabeza",null,null,null,null,null,null,null,null,null,null,null,"S01 - HERIDA DE LA CABEZA","lesión sea en cara, cabeza, cuello, genitales, pulpejo de dedos de manos y pies"]
[null,"S018 - Herida de otras partes de la Cabeza",null,null,null,null,null,null,null,null,null,null,null,null,"lesiones profundas "]
[null,"S019 - Herida de la Cabeza, parte no Especificada",null,null,null,null,null,null,null,null,null,null,null,null,"lesiones desgarradas o múltiples"]
[null,"S110 - Herida que Compromete la Laringe y la Tráquea",null,null,null,null,null,null,null,null,null,null,null,null,"1 Y 2"]
[null,"S111 - Herida que Compromete la Glándula Tiroides",null,null,null,null,null,null,null,null,null,null,null,null,"1 Y 3"]
[null,"S112 - Herida que Compromete la Faringe y el Esófago Cervical",null,null,null,null,null,null,null,null,null,null,null,null,"2 Y 3"]
[null,"S117 - Heridas Múltiples del Cuello",null,null,null,null,null,null,null,null,null,null,null,null,"1, 2 Y 3"]
[null,"S118 - Heridas de otras partes del Cuello"]
[null,"S119 - Herida de Cuello, parte no Especificada"]
[null,"S210 - Herida de la Mama"]
[null,"S211 - Herida de la Pared Anterior del Tórax"]
[null,"S212 - Herida de la Pared Posterior del Tórax"]
[null,"S217 - Herida Múltiple de la Pared Torácica"]
[null,"S218 - Herida de otras partes del Tórax"]
[null,"S219 - Herida del Tórax, parte no Especificada"]
[null,"S310 - Herida de la Región Lumbosacra y de la Pelvis",null,null,null,null,null,null,null,null,null,null,null,"S11 - HERIDA DEL CUELLO"]
[null,"S311 - Herida de la Pared Abdominal"]
[null,"S312 - Herida del Pene"]
[null,"S313 - Herida del Escroto y de los Testículos"]
[null,"S314 - Herida de la Vagina y de la Vulva"]
[null,"S315 - Herida de otros Órganos Genitales Externos y de los no Especificados"]
[null,"S317 - Heridas Múltiples del Abdomen, de la Región Lumbosacra y de la Pelvis",null,null,null,null,null,null,null,null,null,null,null,"S21 - HERIDA DEL TORAX"]
[null,"S318 - Heridas de otras partes y de las no Especificadas del Abdomen"]
[null,"S410 - Herida del Hombro"]
[null,"S411 - Herida del Brazo"]
[null,"S417 - Heridas Múltiples del Hombro y del Brazo"]
[null,"S418 - Herida de otras partes y de las no Especificadas del Hombro y del Brazo"]
[null,"S510 - Herida del Codo",null,null,null,null,null,null,null,null,null,null,null,"S31 - HERIDA DEL ABDOMEN, DE LA REGION LUMBOSACRA Y DE LA PELVIS"]
[null,"S517 - Heridas Múltiples del Antebrazo"]
[null,"S518 - Herida de otras partes del Antebrazo"]
[null,"S519 - Herida del Antebrazo, parte no Especificada"]
[null,"S610 - Herida de dedo (s) de la Mano, sin daño de La (s) Una (s)"]
[null,"S611 - Herida de dedo (s) de la Mano, con daño de La (s) Una (s)"]
[null,"S617 - Heridas Múltiples de la Muñeca y de la Mano"]
[null,"S618 - Herida de otras partes de la Muñeca y de la Mano"]
[null,"S619 - Herida de la Muñeca y de la Mano, parte no Especificada",null,null,null,null,null,null,null,null,null,null,null,"S41 - HERIDA DEL HOMBRO Y DEL BRAZO"]
[null,"S710 - Herida de la Cadera"]
[null,"S711 - Herida del Muslo"]
[null,"S717 - Heridas Múltiples de la Cadera y del Muslo"]
[null,"S718 - Herida de otras partes y de las no Especificadas de la Cintura Pélvica",null,null,null,null,null,null,null,null,null,null,null,"S51 - HERIDA DEL ANTEBRAZO Y DEL CODO"]
[null,"S810 - Herida de la Rodilla"]
[null,"S817 - Heridas Múltiples de la Pierna"]
[null,"S818 - Herida de otras partes de la Pierna"]
[null,"S819 - Herida de la Pierna, parte no Especificada",null,null,null,null,null,null,null,null,null,null,null,"S61 - HERIDA DE LA MUÑECA Y DE LA MANO"]
[null,"S910 - Herida del Tobillo"]
[null,"S911 - Herida de dedo (s) del Pie sin daño de La (s) Una (s)"]
[null,"S912 - Herida de dedo (s) del Pie con daño de La (s) Una (s)"]
[null,"S913 - Herida de otras partes del Pie"]
[null,"S917 - Heridas Múltiples del Tobillo y del Pie",null,null,null,null,null,null,null,null,null,null,null,"S71 - HERIDA DE LA CADERA Y DEL MUSLO"]
[null,"T010 - Heridas que Afectan la Cabeza con el Cuello"]
[null,"T011 - Heridas que Afectan el Tórax con el Abdomen, la Región Lumbosacra y la Pelvis"]
[null,"T012 - Heridas que Afectan Múltiples Regiones del (de Los) Miembro (s) Superior(Es)"]
[null,"T013 - Heridas que Afectan Múltiples Regiones del (de Los) Miembro (s) Inferior(Es)",null,null,null,null,null,null,null,null,null,null,null,"S81 - HERIDA DE LA PIERNA"]
[null,"T016 - Heridas que Afectan Múltiples Regiones del (de Los) Miembro (s) Superior(Es) con Miembro"]
[null,"T018 - Heridas que Afectan otras Combinaciones de las Regiones del Cuerpo"]
[null,"T019 - Heridas Múltiples, no Especificadas"]
[null,"T091 - Herida del Tronco, nivel no Especificado",null,null,null,null,null,null,null,null,null,null,null,"S91 - HERIDA DEL TOBILLO Y DEL PIE"]
[null,"T111 - Herida de Miembro Superior, nivel no Especificado"]
[null,"T131 - Herida de Miembro Inferior, nivel no Especificado"]
[null,"T141 - Herida de Región no Especificada del Cuerpo"]
[]
[]
[]
[]
[]
[null,"4. Profilaxis Post-Exposición en Rabia Urbana: Vacunación Antirrábica Humana",null,"Situación Vacunal","Total Personas","0-11a","12-17a","18-29a","30-59a","60 y más"]
[1,"4.1 Tratamiento en caso de animal mordedor MOC luego de una exposición LEV",null,"ACCESO: 1",{"$f":"SUM(F175:J175)","v":0},{"$f":"+GETPIVOTDATA(\" BAS001\",TABLAS!$A$106)","v":0},{"$f":"+GETPIVOTDATA(\" BAS002\",TABLAS!$A$106)","v":0},{"$f":"+GETPIVOTDATA(\" BAS003\",TABLAS!$A$106)","v":0},{"$f":"+GETPIVOTDATA(\" BAS004\",TABLAS!$A$106)","v":0},{"$f":"+GETPIVOTDATA(\" BAS005\",TABLAS!$A$106)","v":0},null,"(TD=D+DX=90675+LAB1=1+LAB2=MOC)",null,null,null,{"$f":"IF(V175<10,CONCATENATE($AB$175,\"00\",V175,$AB$176),IF(AND(V175>9,V175<100),CONCATENATE($AB$175,\"0\",V175,$AB$176),CONCATENATE($AB$175,V175,$AB$176)))","v":"=+IMPORTARDATOSDINAMICOS(\" BAS001\";TABLAS!$A$106)"},{"$f":"IF(W175<10,CONCATENATE($AB$175,\"00\",W175,$AB$176),IF(AND(W175>9,W175<100),CONCATENATE($AB$175,\"0\",W175,$AB$176),CONCATENATE($AB$175,W175,$AB$176)))","v":"=+IMPORTARDATOSDINAMICOS(\" BAS002\";TABLAS!$A$106)"},"=+IMPORTARDATOSDINAMICOS(\" BAS003\";TABLAS!$A$106)","=+IMPORTARDATOSDINAMICOS(\" BAS004\";TABLAS!$A$106)","=+IMPORTARDATOSDINAMICOS(\" BAS005\";TABLAS!$A$106)",null,1,{"$f":"+V175+1","v":2},{"$f":"+W175+1","v":3},4,5,null,"=+IMPORTARDATOSDINAMICOS(\" BAS"]
[2,null,null,"SEGUIMIENTO: 2",0,{"$f":"+GETPIVOTDATA(\" BAS006\",TABLAS!$A$106)","v":0},{"$f":"+GETPIVOTDATA(\" BAS007\",TABLAS!$A$106)","v":0},{"$f":"+GETPIVOTDATA(\" BAS008\",TABLAS!$A$106)","v":0},{"$f":"+GETPIVOTDATA(\" BAS009\",TABLAS!$A$106)","v":0},{"$f":"+GETPIVOTDATA(\" BAS010\",TABLAS!$A$106)","v":0},null,"(TD=D+DX=90675+LAB1=2+LAB2=MOC)",null,null,null,{"$f":"IF(V176<10,CONCATENATE($AB$175,\"00\",V176,$AB$176),IF(AND(V176>9,V176<100),CONCATENATE($AB$175,\"0\",V176,$AB$176),CONCATENATE($AB$175,V176,$AB$176)))","v":"=+IMPORTARDATOSDINAMICOS(\" BAS006\";TABLAS!$A$106)"},{"$f":"IF(W176<10,CONCATENATE($AB$175,\"00\",W176,$AB$176),IF(AND(W176>9,W176<100),CONCATENATE($AB$175,\"0\",W176,$AB$176),CONCATENATE($AB$175,W176,$AB$176)))","v":"=+IMPORTARDATOSDINAMICOS(\" BAS007\";TABLAS!$A$106)"},{"$f":"IF(X176<10,CONCATENATE($AB$175,\"00\",X176,$AB$176),IF(AND(X176>9,X176<100),CONCATENATE($AB$175,\"0\",X176,$AB$176),CONCATENATE($AB$175,X176,$AB$176)))","v":"=+IMPORTARDATOSDINAMICOS(\" BAS008\";TABLAS!$A$106)"},{"$f":"IF(Y176<10,CONCATENATE($AB$175,\"00\",Y176,$AB$176),IF(AND(Y176>9,Y176<100),CONCATENATE($AB$175,\"0\",Y176,$AB$176),CONCATENATE($AB$175,Y176,$AB$176)))","v":"=+IMPORTARDATOSDINAMICOS(\" BAS009\";TABLAS!$A$106)"},{"$f":"IF(Z176<10,CONCATENATE($AB$175,\"00\",Z176,$AB$176),IF(AND(Z176>9,Z176<100),CONCATENATE($AB$175,\"0\",Z176,$AB$176),CONCATENATE($AB$175,Z176,$AB$176)))","v":"=+IMPORTARDATOSDINAMICOS(\" BAS010\";TABLAS!$A$106)"},null,{"$f":"+Z175+1","v":6},{"$f":"+V176+1","v":7},{"$f":"+W176+1","v":8},9,10,null,"\";TABLAS!$A$106)"]
[3,null,null,"SEGUIMIENTO: 3",0,{"$f":"+GETPIVOTDATA(\" BAS011\",TABLAS!$A$106)","v":0},{"$f":"+GETPIVOTDATA(\" BAS012\",TABLAS!$A$106)","v":0},{"$f":"+GETPIVOTDATA(\" BAS013\",TABLAS!$A$106)","v":0},{"$f":"+GETPIVOTDATA(\" BAS014\",TABLAS!$A$106)","v":0},{"$f":"+GETPIVOTDATA(\" BAS015\",TABLAS!$A$106)","v":0},null,"(TD=D+DX=90675+LAB1=3+LAB2=MOC)",null,null,null,{"$f":"IF(V177<10,CONCATENATE($AB$175,\"00\",V177,$AB$176),IF(AND(V177>9,V177<100),CONCATENATE($AB$175,\"0\",V177,$AB$176),CONCATENATE($AB$175,V177,$AB$176)))","v":"=+IMPORTARDATOSDINAMICOS(\" BAS011\";TABLAS!$A$106)"},{"$f":"IF(W177<10,CONCATENATE($AB$175,\"00\",W177,$AB$176),IF(AND(W177>9,W177<100),CONCATENATE($AB$175,\"0\",W177,$AB$176),CONCATENATE($AB$175,W177,$AB$176)))","v":"=+IMPORTARDATOSDINAMICOS(\" BAS012\";TABLAS!$A$106)"},{"$f":"IF(X177<10,CONCATENATE($AB$175,\"00\",X177,$AB$176),IF(AND(X177>9,X177<100),CONCATENATE($AB$175,\"0\",X177,$AB$176),CONCATENATE($AB$175,X177,$AB$176)))","v":"=+IMPORTARDATOSDINAMICOS(\" BAS013\";TABLAS!$A$106)"},{"$f":"IF(Y177<10,CONCATENATE($AB$175,\"00\",Y177,$AB$176),IF(AND(Y177>9,Y177<100),CONCATENATE($AB$175,\"0\",Y177,$AB$176),CONCATENATE($AB$175,Y177,$AB$176)))","v":"=+IMPORTARDATOSDINAMICOS(\" BAS014\";TABLAS!$A$106)"},{"$f":"IF(Z177<10,CONCATENATE($AB$175,\"00\",Z177,$AB$176),IF(AND(Z177>9,Z177<100),CONCATENATE($AB$175,\"0\",Z177,$AB$176),CONCATENATE($AB$175,Z177,$AB$176)))","v":"=+IMPORTARDATOSDINAMICOS(\" BAS015\";TABLAS!$A$106)"},null,{"$f":"+Z176+1","v":11},{"$f":"+V177+1","v":12},{"$f":"+W177+1","v":13},{"$f":"+X177+1","v":14},{"$f":"+Y177+1","v":15}]
[4,null,null,"SEGUIMIENTO: 4",0,{"$f":"+GETPIVOTDATA(\" BAS016\",TABLAS!$A$106)","v":0},{"$f":"+GETPIVOTDATA(\" BAS017\",TABLAS!$A$106)","v":0},{"$f":"+GETPIVOTDATA(\" BAS018\",TABLAS!$A$106)","v":0},{"$f":"+GETPIVOTDATA(\" BAS019\",TABLAS!$A$106)","v":0},{"$f":"+GETPIVOTDATA(\" BAS020\",TABLAS!$A$106)","v":0},null,"(TD=D+DX=90675+LAB1=4+LAB2=MOC)",null,null,null,{"$f":"IF(V178<10,CONCATENATE($AB$175,\"00\",V178,$AB$176),IF(AND(V178>9,V178<100),CONCATENATE($AB$175,\"0\",V178,$AB$176),CONCATENATE($AB$175,V178,$AB$176)))","v":"=+IMPORTARDATOSDINAMICOS(\" BAS016\";TABLAS!$A$106)"},"=+IMPORTARDATOSDINAMICOS(\" BAS017\";TABLAS!$A$106)","=+IMPORTARDATOSDINAMICOS(\" BAS018\";TABLAS!$A$106)","=+IMPORTARDATOSDINAMICOS(\" BAS019\";TABLAS!$A$106)","=+IMPORTARDATOSDINAMICOS(\" BAS020\";TABLAS!$A$106)",null,{"$f":"+Z177+1","v":16},{"$f":"+V178+1","v":17},18,19,20]
[5,null,null,"COBERTURA: 5",0,{"$f":"+GETPIVOTDATA(\" BAS021\",TABLAS!$A$106)","v":0},{"$f":"+GETPIVOTDATA(\" BAS022\",TABLAS!$A$106)","v":0},{"$f":"+GETPIVOTDATA(\" BAS023\",TABLAS!$A$106)","v":0},{"$f":"+GETPIVOTDATA(\" BAS024\",TABLAS!$A$106)","v":0},{"$f":"+GETPIVOTDATA(\" BAS025\",TABLAS!$A$106)","v":0},null,"(TD=D+DX=90675+LAB1=5+LAB2=MOC)",null,null,null,{"$f":"IF(V179<10,CONCATENATE($AB$175,\"00\",V179,$AB$176),IF(AND(V179>9,V179<100),CONCATENATE($AB$175,\"0\",V179,$AB$176),CONCATENATE($AB$175,V179,$AB$176)))","v":"=+IMPORTARDATOSDINAMICOS(\" BAS021\";TABLAS!$A$106)"},"=+IMPORTARDATOSDINAMICOS(\" BAS022\";TABLAS!$A$106)","=+IMPORTARDATOSDINAMICOS(\" BAS023\";TABLAS!$A$106)","=+IMPORTARDATOSDINAMICOS(\" BAS024\";TABLAS!$A$106)","=+IMPORTARDATOSDINAMICOS(\" BAS025\";TABLAS!$A$106)",null,{"$f":"+Z178+1","v":21},{"$f":"+V179+1","v":22},23,24,25]
[6,"4.1 Tratamiento en caso de animal mordedor DS luego de una exposición LEV; 4.3 Tratamiento en caso de animal mordedor DS EXCEPTO en Cara, cabeza, cuello, genitales, pulpejo de dedos de manos y pies, lesiones desgarradas, profundas o múltiples; y 4.4 Tratamiento en caso de animal mordedor DS en Cara, cabeza, cuello, genitales, pulpejo de dedos de manos y pies, lesiones desgarradas, profundas o múltiples.",null,"ACCESO: 1",55,{"$f":"+GETPIVOTDATA(\" BAS026\",TABLAS!$A$106)","v":8},{"$f":"+GETPIVOTDATA(\" BAS027\",TABLAS!$A$106)","v":2},{"$f":"+GETPIVOTDATA(\" BAS028\",TABLAS!$A$106)","v":17},{"$f":"+GETPIVOTDATA(\" BAS029\",TABLAS!$A$106)","v":17},{"$f":"+GETPIVOTDATA(\" BAS030\",TABLAS!$A$106)","v":11},null,"(TD=D+DX=90675+LAB1=1+LAB2=DS)",null,null,null,"=+IMPORTARDATOSDINAMICOS(\" BAS026\";TABLAS!$A$106)","=+IMPORTARDATOSDINAMICOS(\" BAS027\";TABLAS!$A$106)","=+IMPORTARDATOSDINAMICOS(\" BAS028\";TABLAS!$A$106)","=+IMPORTARDATOSDINAMICOS(\" BAS029\";TABLAS!$A$106)","=+IMPORTARDATOSDINAMICOS(\" BAS030\";TABLAS!$A$106)",null,26,27,28,29,30]
[7,null,null,"SEGUIMIENTO: 2",50,{"$f":"+GETPIVOTDATA(\" BAS031\",TABLAS!$A$106)","v":7},{"$f":"+GETPIVOTDATA(\" BAS032\",TABLAS!$A$106)","v":3},{"$f":"+GETPIVOTDATA(\" BAS033\",TABLAS!$A$106)","v":14},{"$f":"+GETPIVOTDATA(\" BAS034\",TABLAS!$A$106)","v":16},{"$f":"+GETPIVOTDATA(\" BAS035\",TABLAS!$A$106)","v":10},null,"(TD=D+DX=90675+LAB1=2+LAB2=DS)",null,null,null,"=+IMPORTARDATOSDINAMICOS(\" BAS031\";TABLAS!$A$106)","=+IMPORTARDATOSDINAMICOS(\" BAS032\";TABLAS!$A$106)","=+IMPORTARDATOSDINAMICOS(\" BAS033\";TABLAS!$A$106)","=+IMPORTARDATOSDINAMICOS(\" BAS034\";TABLAS!$A$106)","=+IMPORTARDATOSDINAMICOS(\" BAS035\";TABLAS!$A$106)",null,31,32,33,34,35]
[8,null,null,"SEGUIMIENTO: 3",51,{"$f":"+GETPIVOTDATA(\" BAS036\",TABLAS!$A$106)","v":5},{"$f":"+GETPIVOTDATA(\" BAS037\",TABLAS!$A$106)","v":3},{"$f":"+GETPIVOTDATA(\" BAS038\",TABLAS!$A$106)","v":13},{"$f":"+GETPIVOTDATA(\" BAS039\",TABLAS!$A$106)","v":20},{"$f":"+GETPIVOTDATA(\" BAS040\",TABLAS!$A$106)","v":10},null,"(TD=D+DX=90675+LAB1=3+LAB2=DS)",null,null,null,"=+IMPORTARDATOSDINAMICOS(\" BAS036\";TABLAS!$A$106)","=+IMPORTARDATOSDINAMICOS(\" BAS037\";TABLAS!$A$106)","=+IMPORTARDATOSDINAMICOS(\" BAS038\";TABLAS!$A$106)","=+IMPORTARDATOSDINAMICOS(\" BAS039\";TABLAS!$A$106)","=+IMPORTARDATOSDINAMICOS(\" BAS040\";TABLAS!$A$106)",null,36,37,38,39,40]
[9,null,null,"SEGUIMIENTO: 4",37,{"$f":"+GETPIVOTDATA(\" BAS041\",TABLAS!$A$106)","v":2},{"$f":"+GETPIVOTDATA(\" BAS042\",TABLAS!$A$106)","v":2},{"$f":"+GETPIVOTDATA(\" BAS043\",TABLAS!$A$106)","v":11},{"$f":"+GETPIVOTDATA(\" BAS044\",TABLAS!$A$106)","v":14},{"$f":"+GETPIVOTDATA(\" BAS045\",TABLAS!$A$106)","v":8},null,"(TD=D+DX=90675+LAB1=4+LAB2=DS)",null,null,null,"=+IMPORTARDATOSDINAMICOS(\" BAS041\";TABLAS!$A$106)","=+IMPORTARDATOSDINAMICOS(\" BAS042\";TABLAS!$A$106)","=+IMPORTARDATOSDINAMICOS(\" BAS043\";TABLAS!$A$106)","=+IMPORTARDATOSDINAMICOS(\" BAS044\";TABLAS!$A$106)","=+IMPORTARDATOSDINAMICOS(\" BAS045\";TABLAS!$A$106)",null,41,42,43,44,45]
[10,null,null,"COBERTURA: 5",23,{"$f":"+GETPIVOTDATA(\" BAS046\",TABLAS!$A$106)","v":4},{"$f":"+GETPIVOTDATA(\" BAS047\",TABLAS!$A$106)","v":2},{"$f":"+GETPIVOTDATA(\" BAS048\",TABLAS!$A$106)","v":5},{"$f":"+GETPIVOTDATA(\" BAS049\",TABLAS!$A$106)","v":8},{"$f":"+GETPIVOTDATA(\" BAS050\",TABLAS!$A$106)","v":4},null,"(TD=D+DX=90675+LAB1=5+LAB2=DS)",null,null,null,"=+IMPORTARDATOSDINAMICOS(\" BAS046\";TABLAS!$A$106)","=+IMPORTARDATOSDINAMICOS(\" BAS047\";TABLAS!$A$106)","=+IMPORTARDATOSDINAMICOS(\" BAS048\";TABLAS!$A$106)","=+IMPORTARDATOSDINAMICOS(\" BAS049\";TABLAS!$A$106)","=+IMPORTARDATOSDINAMICOS(\" BAS050\";TABLAS!$A$106)",null,46,47,48,49,50]
[11,"4.1 Tratamiento en caso de animal mordedor SR luego de una exposición LEV; 4.5 Tratamiento en caso de animal mordedor SR EXCEPTO en Cara, cabeza, cuello, genitales, pulpejo de dedos de manos y pies, lesiones desgarradas, profundas o múltiples; y 4.6 Tratamiento en caso de animal mordedor SR en Cara, cabeza, cuello, genitales, pulpejo de dedos de manos y pies, lesiones desgarradas, profundas o múltiples.",null,"ACCESO: 1",14,{"$f":"+GETPIVOTDATA(\" BAS051\",TABLAS!$A$106)","v":4},{"$f":"+GETPIVOTDATA(\" BAS052\",TABLAS!$A$106)","v":1},{"$f":"+GETPIVOTDATA(\" BAS053\",TABLAS!$A$106)","v":2},{"$f":"+GETPIVOTDATA(\" BAS054\",TABLAS!$A$106)","v":3},{"$f":"+GETPIVOTDATA(\" BAS055\",TABLAS!$A$106)","v":4},null,"(TD=D+DX=90675+LAB1=1+LAB2=SR)",null,null,null,"=+IMPORTARDATOSDINAMICOS(\" BAS051\";TABLAS!$A$106)","=+IMPORTARDATOSDINAMICOS(\" BAS052\";TABLAS!$A$106)","=+IMPORTARDATOSDINAMICOS(\" BAS053\";TABLAS!$A$106)","=+IMPORTARDATOSDINAMICOS(\" BAS054\";TABLAS!$A$106)","=+IMPORTARDATOSDINAMICOS(\" BAS055\";TABLAS!$A$106)",null,51,52,53,54,55]
[12,null,null,"SEGUIMIENTO: 2",12,{"$f":"+GETPIVOTDATA(\" BAS056\",TABLAS!$A$106)","v":5},{"$f":"+GETPIVOTDATA(\" BAS057\",TABLAS!$A$106)","v":0},{"$f":"+GETPIVOTDATA(\" BAS058\",TABLAS!$A$106)","v":2},{"$f":"+GETPIVOTDATA(\" BAS059\",TABLAS!$A$106)","v":3},{"$f":"+GETPIVOTDATA(\" BAS060\",TABLAS!$A$106)","v":2},null,"(TD=D+DX=90675+LAB1=2+LAB2=SR)",null,null,null,"=+IMPORTARDATOSDINAMICOS(\" BAS056\";TABLAS!$A$106)","=+IMPORTARDATOSDINAMICOS(\" BAS057\";TABLAS!$A$106)","=+IMPORTARDATOSDINAMICOS(\" BAS058\";TABLAS!$A$106)","=+IMPORTARDATOSDINAMICOS(\" BAS059\";TABLAS!$A$106)","=+IMPORTARDATOSDINAMICOS(\" BAS060\";TABLAS!$A$106)",null,56,57,58,59,60]
[13,null,null,"SEGUIMIENTO: 3",13,{"$f":"+GETPIVOTDATA(\" BAS061\",TABLAS!$A$106)","v":2},{"$f":"+GETPIVOTDATA(\" BAS062\",TABLAS!$A$106)","v":0},{"$f":"+GETPIVOTDATA(\" BAS063\",TABLAS!$A$106)","v":1},{"$f":"+GETPIVOTDATA(\" BAS064\",TABLAS!$A$106)","v":4},{"$f":"+GETPIVOTDATA(\" BAS065\",TABLAS!$A$106)","v":6},null,"(TD=D+DX=90675+LAB1=3+LAB2=SR)",null,null,null,"=+IMPORTARDATOSDINAMICOS(\" BAS061\";TABLAS!$A$106)","=+IMPORTARDATOSDINAMICOS(\" BAS062\";TABLAS!$A$106)","=+IMPORTARDATOSDINAMICOS(\" BAS063\";TABLAS!$A$106)","=+IMPORTARDATOSDINAMICOS(\" BAS064\";TABLAS!$A$106)","=+IMPORTARDATOSDINAMICOS(\" BAS065\";TABLAS!$A$106)",null,61,62,63,64,65]
[14,null,null,"SEGUIMIENTO: 4",8,{"$f":"+GETPIVOTDATA(\" BAS066\",TABLAS!$A$106)","v":3},{"$f":"+GETPIVOTDATA(\" BAS067\",TABLAS!$A$106)","v":0},{"$f":"+GETPIVOTDATA(\" BAS068\",TABLAS!$A$106)","v":2},{"$f":"+GETPIVOTDATA(\" BAS069\",TABLAS!$A$106)","v":1},{"$f":"+GETPIVOTDATA(\" BAS070\",TABLAS!$A$106)","v":2},null,"(TD=D+DX=90675+LAB1=4+LAB2=SR)",null,null,null,"=+IMPORTARDATOSDINAMICOS(\" BAS066\";TABLAS!$A$106)","=+IMPORTARDATOSDINAMICOS(\" BAS067\";TABLAS!$A$106)","=+IMPORTARDATOSDINAMICOS(\" BAS068\";TABLAS!$A$106)","=+IMPORTARDATOSDINAMICOS(\" BAS069\";TABLAS!$A$106)","=+IMPORTARDATOSDINAMICOS(\" BAS070\";TABLAS!$A$106)",null,66,67,68,69,70]
[15,null,null,"COBERTURA: 5",2,{"$f":"+GETPIVOTDATA(\" BAS071\",TABLAS!$A$106)","v":0},{"$f":"+GETPIVOTDATA(\" BAS072\",TABLAS!$A$106)","v":0},{"$f":"+GETPIVOTDATA(\" BAS073\",TABLAS!$A$106)","v":0},{"$f":"+GETPIVOTDATA(\" BAS074\",TABLAS!$A$106)","v":1},{"$f":"+GETPIVOTDATA(\" BAS075\",TABLAS!$A$106)","v":1},null,"(TD=D+DX=90675+LAB1=5+LAB2=SR)",null,null,null,"=+IMPORTARDATOSDINAMICOS(\" BAS071\";TABLAS!$A$106)","=+IMPORTARDATOSDINAMICOS(\" BAS072\";TABLAS!$A$106)","=+IMPORTARDATOSDINAMICOS(\" BAS073\";TABLAS!$A$106)","=+IMPORTARDATOSDINAMICOS(\" BAS074\";TABLAS!$A$106)","=+IMPORTARDATOSDINAMICOS(\" BAS075\";TABLAS!$A$106)",null,71,72,73,74,75]
[16,"4.2 Tratamiento en caso de mordedura por can o gato SIN SIGNOS O SÍNTOMAS DE RABIA en Cara, cabeza, cuello, genitales, pulpejo de dedos de manos y pies, lesiones desgarradas, profundas o múltiples",null,"ACCESO: 1",51,{"$f":"+GETPIVOTDATA(\" BAS076\",TABLAS!$A$106)","v":17},{"$f":"+GETPIVOTDATA(\" BAS077\",TABLAS!$A$106)","v":5},{"$f":"+GETPIVOTDATA(\" BAS078\",TABLAS!$A$106)","v":12},{"$f":"+GETPIVOTDATA(\" BAS079\",TABLAS!$A$106)","v":13},{"$f":"+GETPIVOTDATA(\" BAS080\",TABLAS!$A$106)","v":4},null,"(TD=D+DX=90675+LAB1=1+LAB2=POS)",null,null,null,"=+IMPORTARDATOSDINAMICOS(\" BAS076\";TABLAS!$A$106)","=+IMPORTARDATOSDINAMICOS(\" BAS077\";TABLAS!$A$106)","=+IMPORTARDATOSDINAMICOS(\" BAS078\";TABLAS!$A$106)","=+IMPORTARDATOSDINAMICOS(\" BAS079\";TABLAS!$A$106)","=+IMPORTARDATOSDINAMICOS(\" BAS080\";TABLAS!$A$106)",null,76,77,78,79,80]
[17,null,null,"SEGUIMIENTO: 2",175,{"$f":"+GETPIVOTDATA(\" BAS081\",TABLAS!$A$106)","v":39},{"$f":"+GETPIVOTDATA(\" BAS082\",TABLAS!$A$106)","v":27},{"$f":"+GETPIVOTDATA(\" BAS083\",TABLAS!$A$106)","v":38},{"$f":"+GETPIVOTDATA(\" BAS084\",TABLAS!$A$106)","v":53},{"$f":"+GETPIVOTDATA(\" BAS085\",TABLAS!$A$106)","v":18},null,"(TD=D+DX=90675+LAB1=2+LAB2=POS)",null,null,null,"=+IMPORTARDATOSDINAMICOS(\" BAS081\";TABLAS!$A$106)","=+IMPORTARDATOSDINAMICOS(\" BAS082\";TABLAS!$A$106)","=+IMPORTARDATOSDINAMICOS(\" BAS083\";TABLAS!$A$106)","=+IMPORTARDATOSDINAMICOS(\" BAS084\";TABLAS!$A$106)","=+IMPORTARDATOSDINAMICOS(\" BAS085\";TABLAS!$A$106)",null,81,82,83,84,85]
[18,null,null,"SEGUIMIENTO: 3",25,{"$f":"+GETPIVOTDATA(\" BAS086\",TABLAS!$A$106)","v":8},{"$f":"+GETPIVOTDATA(\" BAS087\",TABLAS!$A$106)","v":2},{"$f":"+GETPIVOTDATA(\" BAS088\",TABLAS!$A$106)","v":2},{"$f":"+GETPIVOTDATA(\" BAS089\",TABLAS!$A$106)","v":8},{"$f":"+GETPIVOTDATA(\" BAS090\",TABLAS!$A$106)","v":5},null,"(TD=D+DX=90675+LAB1=3+LAB2=POS)",null,null,null,"=+IMPORTARDATOSDINAMICOS(\" BAS086\";TABLAS!$A$106)","=+IMPORTARDATOSDINAMICOS(\" BAS087\";TABLAS!$A$106)","=+IMPORTARDATOSDINAMICOS(\" BAS088\";TABLAS!$A$106)","=+IMPORTARDATOSDINAMICOS(\" BAS089\";TABLAS!$A$106)","=+IMPORTARDATOSDINAMICOS(\" BAS090\";TABLAS!$A$106)",null,86,87,88,89,90]
[19,null,null,"SEGUIMIENTO: 4",15,{"$f":"+GETPIVOTDATA(\" BAS091\",TABLAS!$A$106)","v":2},{"$f":"+GETPIVOTDATA(\" BAS092\",TABLAS!$A$106)","v":1},{"$f":"+GETPIVOTDATA(\" BAS093\",TABLAS!$A$106)","v":2},{"$f":"+GETPIVOTDATA(\" BAS094\",TABLAS!$A$106)","v":7},{"$f":"+GETPIVOTDATA(\" BAS095\",TABLAS!$A$106)","v":3},null,"(TD=D+DX=90675+LAB1=4+LAB2=POS)",null,null,null,"=+IMPORTARDATOSDINAMICOS(\" BAS091\";TABLAS!$A$106)","=+IMPORTARDATOSDINAMICOS(\" BAS092\";TABLAS!$A$106)","=+IMPORTARDATOSDINAMICOS(\" BAS093\";TABLAS!$A$106)","=+IMPORTARDATOSDINAMICOS(\" BAS094\";TABLAS!$A$106)","=+IMPORTARDATOSDINAMICOS(\" BAS095\";TABLAS!$A$106)",null,91,92,93,94,95]
[20,null,null,"COBERTURA: 5",15,{"$f":"+GETPIVOTDATA(\" BAS096\",TABLAS!$A$106)","v":3},{"$f":"+GETPIVOTDATA(\" BAS097\",TABLAS!$A$106)","v":0},{"$f":"+GETPIVOTDATA(\" BAS098\",TABLAS!$A$106)","v":3},{"$f":"+GETPIVOTDATA(\" BAS099\",TABLAS!$A$106)","v":6},{"$f":"+GETPIVOTDATA(\" BAS100\",TABLAS!$A$106)","v":3},null,"(TD=D+DX=90675+LAB1=5+LAB2=POS)",null,null,null,"=+IMPORTARDATOSDINAMICOS(\" BAS096\";TABLAS!$A$106)","=+IMPORTARDATOSDINAMICOS(\" BAS097\";TABLAS!$A$106)","=+IMPORTARDATOSDINAMICOS(\" BAS098\";TABLAS!$A$106)","=+IMPORTARDATOSDINAMICOS(\" BAS099\";TABLAS!$A$106)","=+IMPORTARDATOSDINAMICOS(\" BAS100\";TABLAS!$A$106)",null,96,97,98,99,100]
[21,"4.7 Tratamiento en caso de Contacto o Animal confirmado de rabia",null,"ACCESO: 1",0,{"$f":"+GETPIVOTDATA(\" BAS101\",TABLAS!$A$106)","v":0},{"$f":"+GETPIVOTDATA(\" BAS102\",TABLAS!$A$106)","v":0},{"$f":"+GETPIVOTDATA(\" BAS103\",TABLAS!$A$106)","v":0},{"$f":"+GETPIVOTDATA(\" BAS104\",TABLAS!$A$106)","v":0},{"$f":"+GETPIVOTDATA(\" BAS105\",TABLAS!$A$106)","v":0},null,"(TD=D+DX=90675+LAB1=1+LAB2=CE)",null,null,null,"=+IMPORTARDATOSDINAMICOS(\" BAS101\";TABLAS!$A$106)","=+IMPORTARDATOSDINAMICOS(\" BAS102\";TABLAS!$A$106)","=+IMPORTARDATOSDINAMICOS(\" BAS103\";TABLAS!$A$106)","=+IMPORTARDATOSDINAMICOS(\" BAS104\";TABLAS!$A$106)","=+IMPORTARDATOSDINAMICOS(\" BAS105\";TABLAS!$A$106)",null,101,102,103,104,105]
[22,null,null,"SEGUIMIENTO: 2",0,{"$f":"+GETPIVOTDATA(\" BAS106\",TABLAS!$A$106)","v":0},{"$f":"+GETPIVOTDATA(\" BAS107\",TABLAS!$A$106)","v":0},{"$f":"+GETPIVOTDATA(\" BAS108\",TABLAS!$A$106)","v":0},{"$f":"+GETPIVOTDATA(\" BAS109\",TABLAS!$A$106)","v":0},{"$f":"+GETPIVOTDATA(\" BAS110\",TABLAS!$A$106)","v":0},null,"(TD=D+DX=90675+LAB1=2+LAB2=CE)",null,null,null,"=+IMPORTARDATOSDINAMICOS(\" BAS106\";TABLAS!$A$106)","=+IMPORTARDATOSDINAMICOS(\" BAS107\";TABLAS!$A$106)","=+IMPORTARDATOSDINAMICOS(\" BAS108\";TABLAS!$A$106)","=+IMPORTARDATOSDINAMICOS(\" BAS109\";TABLAS!$A$106)","=+IMPORTARDATOSDINAMICOS(\" BAS110\";TABLAS!$A$106)",null,106,107,108,109,110]
[23,null,null,"SEGUIMIENTO: 3",0,{"$f":"+GETPIVOTDATA(\" BAS111\",TABLAS!$A$106)","v":0},{"$f":"+GETPIVOTDATA(\" BAS112\",TABLAS!$A$106)","v":0},{"$f":"+GETPIVOTDATA(\" BAS113\",TABLAS!$A$106)","v":0},{"$f":"+GETPIVOTDATA(\" BAS114\",TABLAS!$A$106)","v":0},{"$f":"+GETPIVOTDATA(\" BAS115\",TABLAS!$A$106)","v":0},null,"(TD=D+DX=90675+LAB1=3+LAB2=CE)",null,null,null,"=+IMPORTARDATOSDINAMICOS(\" BAS111\";TABLAS!$A$106)","=+IMPORTARDATOSDINAMICOS(\" BAS112\";TABLAS!$A$106)","=+IMPORTARDATOSDINAMICOS(\" BAS113\";TABLAS!$A$106)","=+IMPORTARDATOSDINAMICOS(\" BAS114\";TABLAS!$A$106)","=+IMPORTARDATOSDINAMICOS(\" BAS115\";TABLAS!$A$106)",null,111,112,113,114,115]
[24,null,null,"SEGUIMIENTO: 4",0,{"$f":"+GETPIVOTDATA(\" BAS116\",TABLAS!$A$106)","v":0},{"$f":"+GETPIVOTDATA(\" BAS117\",TABLAS!$A$106)","v":0},{"$f":"+GETPIVOTDATA(\" BAS118\",TABLAS!$A$106)","v":0},{"$f":"+GETPIVOTDATA(\" BAS119\",TABLAS!$A$106)","v":0},{"$f":"+GETPIVOTDATA(\" BAS120\",TABLAS!$A$106)","v":0},null,"(TD=D+DX=90675+LAB1=4+LAB2=CE)",null,null,null,"=+IMPORTARDATOSDINAMICOS(\" BAS116\";TABLAS!$A$106)","=+IMPORTARDATOSDINAMICOS(\" BAS117\";TABLAS!$A$106)","=+IMPORTARDATOSDINAMICOS(\" BAS118\";TABLAS!$A$106)","=+IMPORTARDATOSDINAMICOS(\" BAS119\";TABLAS!$A$106)","=+IMPORTARDATOSDINAMICOS(\" BAS120\";TABLAS!$A$106)",null,116,117,118,119,120]
[25,null,null,"COBERTURA: 5",0,{"$f":"+GETPIVOTDATA(\" BAS121\",TABLAS!$A$106)","v":0},{"$f":"+GETPIVOTDATA(\" BAS122\",TABLAS!$A$106)","v":0},{"$f":"+GETPIVOTDATA(\" BAS123\",TABLAS!$A$106)","v":0},{"$f":"+GETPIVOTDATA(\" BAS124\",TABLAS!$A$106)","v":0},{"$f":"+GETPIVOTDATA(\" BAS125\",TABLAS!$A$106)","v":0},null,"(TD=D+DX=90675+LAB1=5+LAB2=CE)",null,null,null,"=+IMPORTARDATOSDINAMICOS(\" BAS121\";TABLAS!$A$106)","=+IMPORTARDATOSDINAMICOS(\" BAS122\";TABLAS!$A$106)","=+IMPORTARDATOSDINAMICOS(\" BAS123\";TABLAS!$A$106)","=+IMPORTARDATOSDINAMICOS(\" BAS124\";TABLAS!$A$106)","=+IMPORTARDATOSDINAMICOS(\" BAS125\";TABLAS!$A$106)",null,121,122,123,124,125]
[26,"4.8 Tratamiento en caso de Re-exposición",null,"ACCESO: 1",1,{"$f":"+GETPIVOTDATA(\" BAS126\",TABLAS!$A$106)","v":0},{"$f":"+GETPIVOTDATA(\" BAS127\",TABLAS!$A$106)","v":0},{"$f":"+GETPIVOTDATA(\" BAS128\",TABLAS!$A$106)","v":0},{"$f":"+GETPIVOTDATA(\" BAS129\",TABLAS!$A$106)","v":1},{"$f":"+GETPIVOTDATA(\" BAS130\",TABLAS!$A$106)","v":0},null,"(TD=D+DX=90675+LAB1=1+LAB2=DA)",null,null,null,"=+IMPORTARDATOSDINAMICOS(\" BAS126\";TABLAS!$A$106)","=+IMPORTARDATOSDINAMICOS(\" BAS127\";TABLAS!$A$106)","=+IMPORTARDATOSDINAMICOS(\" BAS128\";TABLAS!$A$106)","=+IMPORTARDATOSDINAMICOS(\" BAS129\";TABLAS!$A$106)","=+IMPORTARDATOSDINAMICOS(\" BAS130\";TABLAS!$A$106)",null,126,127,128,129,130]
[27,null,null,"COBERTURA: 2",0,{"$f":"+GETPIVOTDATA(\" BAS131\",TABLAS!$A$106)","v":0},{"$f":"+GETPIVOTDATA(\" BAS132\",TABLAS!$A$106)","v":0},{"$f":"+GETPIVOTDATA(\" BAS133\",TABLAS!$A$106)","v":0},{"$f":"+GETPIVOTDATA(\" BAS134\",TABLAS!$A$106)","v":0},{"$f":"+GETPIVOTDATA(\" BAS135\",TABLAS!$A$106)","v":0},null,"(TD=D+DX=90675+LAB1=2+LAB2=DA)",null,null,null,"=+IMPORTARDATOSDINAMICOS(\" BAS131\";TABLAS!$A$106)","=+IMPORTARDATOSDINAMICOS(\" BAS132\";TABLAS!$A$106)","=+IMPORTARDATOSDINAMICOS(\" BAS133\";TABLAS!$A$106)","=+IMPORTARDATOSDINAMICOS(\" BAS134\";TABLAS!$A$106)","=+IMPORTARDATOSDINAMICOS(\" BAS135\";TABLAS!$A$106)",null,131,132,133,134,135]
[]
[]
[null,"5. Suspensión de la Vacunación Antirrábica Humana en Profilaxis Post-Exposición.",null,"Situación Vacunal","Total Personas","0-11a","12-17a","18-29a","30-59a","60 y más"]
[null,null,null,"SUS temporal",{"$f":"SUM(F205:J205)","v":0},{"$f":"+GETPIVOTDATA(\" BAS136\",TABLAS!$A$106)","v":0},{"$f":"+GETPIVOTDATA(\" BAS137\",TABLAS!$A$106)","v":0},{"$f":"+GETPIVOTDATA(\" BAS138\",TABLAS!$A$106)","v":0},{"$f":"+GETPIVOTDATA(\" BAS139\",TABLAS!$A$106)","v":0},{"$f":"+GETPIVOTDATA(\" BAS140\",TABLAS!$A$106)","v":0},null,null,"(TD=D+DX=90675+LAB1=2 + LAB2=SUS + LAB3=blanco)",null,null,{"$f":"IF(V205<10,CONCATENATE($AB$175,\"00\",V205,$AB$176),IF(AND(V205>9,V205<100),CONCATENATE($AB$175,\"0\",V205,$AB$176),CONCATENATE($AB$175,V205,$AB$176)))","v":"=+IMPORTARDATOSDINAMICOS(\" BAS136\";TABLAS!$A$106)"},{"$f":"IF(W205<10,CONCATENATE($AB$175,\"00\",W205,$AB$176),IF(AND(W205>9,W205<100),CONCATENATE($AB$175,\"0\",W205,$AB$176),CONCATENATE($AB$175,W205,$AB$176)))","v":"=+IMPORTARDATOSDINAMICOS(\" BAS137\";TABLAS!$A$106)"},{"$f":"IF(X205<10,CONCATENATE($AB$175,\"00\",X205,$AB$176),IF(AND(X205>9,X205<100),CONCATENATE($AB$175,\"0\",X205,$AB$176),CONCATENATE($AB$175,X205,$AB$176)))","v":"=+IMPORTARDATOSDINAMICOS(\" BAS138\";TABLAS!$A$106)"},{"$f":"IF(Y205<10,CONCATENATE($AB$175,\"00\",Y205,$AB$176),IF(AND(Y205>9,Y205<100),CONCATENATE($AB$175,\"0\",Y205,$AB$176),CONCATENATE($AB$175,Y205,$AB$176)))","v":"=+IMPORTARDATOSDINAMICOS(\" BAS139\";TABLAS!$A$106)"},{"$f":"IF(Z205<10,CONCATENATE($AB$175,\"00\",Z205,$AB$176),IF(AND(Z205>9,Z205<100),CONCATENATE($AB$175,\"0\",Z205,$AB$176),CONCATENATE($AB$175,Z205,$AB$176)))","v":"=+IMPORTARDATOSDINAMICOS(\" BAS140\";TABLAS!$A$106)"},null,{"$f":"+Z201+1","v":136},{"$f":"+V205+1","v":137},{"$f":"+W205+1","v":138},{"$f":"+X205+1","v":139},{"$f":"+Y205+1","v":140}]
[null,null,null,"SUS Definitiva",{"$f":"SUM(F206:J206)","v":0},{"$f":"+GETPIVOTDATA(\" BAS141\",TABLAS!$A$106)","v":0},{"$f":"+GETPIVOTDATA(\" BAS142\",TABLAS!$A$106)","v":0},{"$f":"+GETPIVOTDATA(\" BAS143\",TABLAS!$A$106)","v":0},{"$f":"+GETPIVOTDATA(\" BAS144\",TABLAS!$A$106)","v":0},{"$f":"+GETPIVOTDATA(\" BAS145\",TABLAS!$A$106)","v":0},null,null,"(TD=D+DX=90675+ LAB2=SUS + LAB3=TA)",null,null,"=+IMPORTARDATOSDINAMICOS(\" BAS141\";TABLAS!$A$106)","=+IMPORTARDATOSDINAMICOS(\" BAS142\";TABLAS!$A$106)","=+IMPORTARDATOSDINAMICOS(\" BAS143\";TABLAS!$A$106)","=+IMPORTARDATOSDINAMICOS(\" BAS144\";TABLAS!$A$106)","=+IMPORTARDATOSDINAMICOS(\" BAS145\";TABLAS!$A$106)",null,{"$f":"+Z205+1","v":141},142,143,144,145]
[]
[]
[null,"6. Referencias y Contrarreferencias para el tratamiento antirrábico",null,"Situación Vacunal","Total Personas","0-11a","12-17a","18-29a","30-59a","60 y más"]
[null,"DVR Transferencia realizada",null,"ACCESO: 1",{"$f":"SUM(F210:J210)","v":0},{"$f":"+GETPIVOTDATA(\" BAS146\",TABLAS!$A$106)","v":0},{"$f":"+GETPIVOTDATA(\" BAS147\",TABLAS!$A$106)","v":0},{"$f":"+GETPIVOTDATA(\" BAS148\",TABLAS!$A$106)","v":0},{"$f":"+GETPIVOTDATA(\" BAS149\",TABLAS!$A$106)","v":0},{"$f":"+GETPIVOTDATA(\" BAS150\",TABLAS!$A$106)","v":0},null,null,"(TD=D+DX=90675+LAB1=1+LAB2=DVR)",null,null,{"$f":"IF(V210<10,CONCATENATE($AB$175,\"00\",V210,$AB$176),IF(AND(V210>9,V210<100),CONCATENATE($AB$175,\"0\",V210,$AB$176),CONCATENATE($AB$175,V210,$AB$176)))","v":"=+IMPORTARDATOSDINAMICOS(\" BAS146\";TABLAS!$A$106)"},{"$f":"IF(W210<10,CONCATENATE($AB$175,\"00\",W210,$AB$176),IF(AND(W210>9,W210<100),CONCATENATE($AB$175,\"0\",W210,$AB$176),CONCATENATE($AB$175,W210,$AB$176)))","v":"=+IMPORTARDATOSDINAMICOS(\" BAS147\";TABLAS!$A$106)"},{"$f":"IF(X210<10,CONCATENATE($AB$175,\"00\",X210,$AB$176),IF(AND(X210>9,X210<100),CONCATENATE($AB$175,\"0\",X210,$AB$176),CONCATENATE($AB$175,X210,$AB$176)))","v":"=+IMPORTARDATOSDINAMICOS(\" BAS148\";TABLAS!$A$106)"},{"$f":"IF(Y210<10,CONCATENATE($AB$175,\"00\",Y210,$AB$176),IF(AND(Y210>9,Y210<100),CONCATENATE($AB$175,\"0\",Y210,$AB$176),CONCATENATE($AB$175,Y210,$AB$176)))","v":"=+IMPORTARDATOSDINAMICOS(\" BAS149\";TABLAS!$A$106)"},{"$f":"IF(Z210<10,CONCATENATE($AB$175,\"00\",Z210,$AB$176),IF(AND(Z210>9,Z210<100),CONCATENATE($AB$175,\"0\",Z210,$AB$176),CONCATENATE($AB$175,Z210,$AB$176)))","v":"=+IMPORTARDATOSDINAMICOS(\" BAS150\";TABLAS!$A$106)"},null,{"$f":"+Z206+1","v":146},{"$f":"+V210+1","v":147},{"$f":"+W210+1","v":148},{"$f":"+X210+1","v":149},{"$f":"+Y210+1","v":150}]
[null,null,null,"SEGUIMIENTO: 2",0,{"$f":"+GETPIVOTDATA(\" BAS151\",TABLAS!$A$106)","v":0},{"$f":"+GETPIVOTDATA(\" BAS152\",TABLAS!$A$106)","v":0},{"$f":"+GETPIVOTDATA(\" BAS153\",TABLAS!$A$106)","v":0},{"$f":"+GETPIVOTDATA(\" BAS154\",TABLAS!$A$106)","v":0},{"$f":"+GETPIVOTDATA(\" BAS155\",TABLAS!$A$106)","v":0},null,null,"(TD=D+DX=90675+LAB1=2+LAB2=DVR)",null,null,"=+IMPORTARDATOSDINAMICOS(\" BAS151\";TABLAS!$A$106)","=+IMPORTARDATOSDINAMICOS(\" BAS152\";TABLAS!$A$106)","=+IMPORTARDATOSDINAMICOS(\" BAS153\";TABLAS!$A$106)","=+IMPORTARDATOSDINAMICOS(\" BAS154\";TABLAS!$A$106)","=+IMPORTARDATOSDINAMICOS(\" BAS155\";TABLAS!$A$106)",null,{"$f":"+Z210+1","v":151},152,153,154,155]
[null,null,null,"SEGUIMIENTO: 3",0,{"$f":"+GETPIVOTDATA(\" BAS156\",TABLAS!$A$106)","v":0},{"$f":"+GETPIVOTDATA(\" BAS157\",TABLAS!$A$106)","v":0},{"$f":"+GETPIVOTDATA(\" BAS158\",TABLAS!$A$106)","v":0},{"$f":"+GETPIVOTDATA(\" BAS159\",TABLAS!$A$106)","v":0},{"$f":"+GETPIVOTDATA(\" BAS160\",TABLAS!$A$106)","v":0},null,null,"(TD=D+DX=90675+LAB1=3+LAB2=DVR)",null,null,"=+IMPORTARDATOSDINAMICOS(\" BAS156\";TABLAS!$A$106)","=+IMPORTARDATOSDINAMICOS(\" BAS157\";TABLAS!$A$106)","=+IMPORTARDATOSDINAMICOS(\" BAS158\";TABLAS!$A$106)","=+IMPORTARDATOSDINAMICOS(\" BAS159\";TABLAS!$A$106)","=+IMPORTARDATOSDINAMICOS(\" BAS160\";TABLAS!$A$106)",null,156,157,158,159,160]
[null,null,null,"SEGUIMIENTO: 4",0,{"$f":"+GETPIVOTDATA(\" BAS161\",TABLAS!$A$106)","v":0},{"$f":"+GETPIVOTDATA(\" BAS162\",TABLAS!$A$106)","v":0},{"$f":"+GETPIVOTDATA(\" BAS163\",TABLAS!$A$106)","v":0},{"$f":"+GETPIVOTDATA(\" BAS164\",TABLAS!$A$106)","v":0},{"$f":"+GETPIVOTDATA(\" BAS165\",TABLAS!$A$106)","v":0},null,null,"(TD=D+DX=90675+LAB1=4+LAB2=DVR)",null,null,"=+IMPORTARDATOSDINAMICOS(\" BAS161\";TABLAS!$A$106)","=+IMPORTARDATOSDINAMICOS(\" BAS162\";TABLAS!$A$106)","=+IMPORTARDATOSDINAMICOS(\" BAS163\";TABLAS!$A$106)","=+IMPORTARDATOSDINAMICOS(\" BAS164\";TABLAS!$A$106)","=+IMPORTARDATOSDINAMICOS(\" BAS165\";TABLAS!$A$106)",null,161,162,163,164,165]
[null,null,null,"COBERTURA: 5",0,{"$f":"+GETPIVOTDATA(\" BAS166\",TABLAS!$A$106)","v":0},{"$f":"+GETPIVOTDATA(\" BAS167\",TABLAS!$A$106)","v":0},{"$f":"+GETPIVOTDATA(\" BAS168\",TABLAS!$A$106)","v":0},{"$f":"+GETPIVOTDATA(\" BAS169\",TABLAS!$A$106)","v":0},{"$f":"+GETPIVOTDATA(\" BAS170\",TABLAS!$A$106)","v":0},null,null,"(TD=D+DX=90675+LAB1=5+LAB2=DVR)",null,null,"=+IMPORTARDATOSDINAMICOS(\" BAS166\";TABLAS!$A$106)","=+IMPORTARDATOSDINAMICOS(\" BAS167\";TABLAS!$A$106)","=+IMPORTARDATOSDINAMICOS(\" BAS168\";TABLAS!$A$106)","=+IMPORTARDATOSDINAMICOS(\" BAS169\";TABLAS!$A$106)","=+IMPORTARDATOSDINAMICOS(\" BAS170\";TABLAS!$A$106)",null,166,167,168,169,170]
[null,"DVC Transferencia controlada",null,"ACCESO: 1",0,{"$f":"+GETPIVOTDATA(\" BAS171\",TABLAS!$A$106)","v":0},{"$f":"+GETPIVOTDATA(\" BAS172\",TABLAS!$A$106)","v":0},{"$f":"+GETPIVOTDATA(\" BAS173\",TABLAS!$A$106)","v":0},{"$f":"+GETPIVOTDATA(\" BAS174\",TABLAS!$A$106)","v":0},{"$f":"+GETPIVOTDATA(\" BAS175\",TABLAS!$A$106)","v":0},null,null,"(TD=D+DX=90675+LAB1=1+LAB2=DVC)",null,null,"=+IMPORTARDATOSDINAMICOS(\" BAS171\";TABLAS!$A$106)","=+IMPORTARDATOSDINAMICOS(\" BAS172\";TABLAS!$A$106)","=+IMPORTARDATOSDINAMICOS(\" BAS173\";TABLAS!$A$106)","=+IMPORTARDATOSDINAMICOS(\" BAS174\";TABLAS!$A$106)","=+IMPORTARDATOSDINAMICOS(\" BAS175\";TABLAS!$A$106)",null,171,172,173,174,175]
[null,null,null,"SEGUIMIENTO: 2",0,{"$f":"+GETPIVOTDATA(\" BAS176\",TABLAS!$A$106)","v":0},{"$f":"+GETPIVOTDATA(\" BAS177\",TABLAS!$A$106)","v":0},{"$f":"+GETPIVOTDATA(\" BAS178\",TABLAS!$A$106)","v":0},{"$f":"+GETPIVOTDATA(\" BAS179\",TABLAS!$A$106)","v":0},{"$f":"+GETPIVOTDATA(\" BAS180\",TABLAS!$A$106)","v":0},null,null,"(TD=D+DX=90675+LAB1=2+LAB2=DVC)",null,null,"=+IMPORTARDATOSDINAMICOS(\" BAS176\";TABLAS!$A$106)","=+IMPORTARDATOSDINAMICOS(\" BAS177\";TABLAS!$A$106)","=+IMPORTARDATOSDINAMICOS(\" BAS178\";TABLAS!$A$106)","=+IMPORTARDATOSDINAMICOS(\" BAS179\";TABLAS!$A$106)","=+IMPORTARDATOSDINAMICOS(\" BAS180\";TABLAS!$A$106)",null,176,177,178,179,180]
[null,null,null,"SEGUIMIENTO: 3",0,{"$f":"+GETPIVOTDATA(\" BAS181\",TABLAS!$A$106)","v":0},{"$f":"+GETPIVOTDATA(\" BAS182\",TABLAS!$A$106)","v":0},{"$f":"+GETPIVOTDATA(\" BAS183\",TABLAS!$A$106)","v":0},{"$f":"+GETPIVOTDATA(\" BAS184\",TABLAS!$A$106)","v":0},{"$f":"+GETPIVOTDATA(\" BAS185\",TABLAS!$A$106)","v":0},null,null,"(TD=D+DX=90675+LAB1=3+LAB2=DVC)",null,null,"=+IMPORTARDATOSDINAMICOS(\" BAS181\";TABLAS!$A$106)","=+IMPORTARDATOSDINAMICOS(\" BAS182\";TABLAS!$A$106)","=+IMPORTARDATOSDINAMICOS(\" BAS183\";TABLAS!$A$106)","=+IMPORTARDATOSDINAMICOS(\" BAS184\";TABLAS!$A$106)","=+IMPORTARDATOSDINAMICOS(\" BAS185\";TABLAS!$A$106)",null,181,182,183,184,185]
[null,null,null,"SEGUIMIENTO: 4",0,{"$f":"+GETPIVOTDATA(\" BAS186\",TABLAS!$A$106)","v":0},{"$f":"+GETPIVOTDATA(\" BAS187\",TABLAS!$A$106)","v":0},{"$f":"+GETPIVOTDATA(\" BAS188\",TABLAS!$A$106)","v":0},{"$f":"+GETPIVOTDATA(\" BAS189\",TABLAS!$A$106)","v":0},{"$f":"+GETPIVOTDATA(\" BAS190\",TABLAS!$A$106)","v":0},null,null,"(TD=D+DX=90675+LAB1=4+LAB2=DVC)",null,null,"=+IMPORTARDATOSDINAMICOS(\" BAS186\";TABLAS!$A$106)","=+IMPORTARDATOSDINAMICOS(\" BAS187\";TABLAS!$A$106)","=+IMPORTARDATOSDINAMICOS(\" BAS188\";TABLAS!$A$106)","=+IMPORTARDATOSDINAMICOS(\" BAS189\";TABLAS!$A$106)","=+IMPORTARDATOSDINAMICOS(\" BAS190\";TABLAS!$A$106)",null,186,187,188,189,190]
[null,null,null,"COBERTURA: 5",0,{"$f":"+GETPIVOTDATA(\" BAS191\",TABLAS!$A$106)","v":0},{"$f":"+GETPIVOTDATA(\" BAS192\",TABLAS!$A$106)","v":0},{"$f":"+GETPIVOTDATA(\" BAS193\",TABLAS!$A$106)","v":0},{"$f":"+GETPIVOTDATA(\" BAS194\",TABLAS!$A$106)","v":0},{"$f":"+GETPIVOTDATA(\" BAS195\",TABLAS!$A$106)","v":0},null,null,"(TD=D+DX=90675+LAB1=5+LAB2=DVC)",null,null,"=+IMPORTARDATOSDINAMICOS(\" BAS191\";TABLAS!$A$106)","=+IMPORTARDATOSDINAMICOS(\" BAS192\";TABLAS!$A$106)","=+IMPORTARDATOSDINAMICOS(\" BAS193\";TABLAS!$A$106)","=+IMPORTARDATOSDINAMICOS(\" BAS194\";TABLAS!$A$106)","=+IMPORTARDATOSDINAMICOS(\" BAS195\";TABLAS!$A$106)",null,191,192,193,194,195]
[null,"CC Contrarreferencia controlada",null,"ACCESO: 1",0,{"$f":"+GETPIVOTDATA(\" BAS196\",TABLAS!$A$106)","v":0},{"$f":"+GETPIVOTDATA(\" BAS197\",TABLAS!$A$106)","v":0},{"$f":"+GETPIVOTDATA(\" BAS198\",TABLAS!$A$106)","v":0},{"$f":"+GETPIVOTDATA(\" BAS199\",TABLAS!$A$106)","v":0},{"$f":"+GETPIVOTDATA(\" BAS200\",TABLAS!$A$106)","v":0},null,null,"(TD=D+DX=90675+LAB1=1+LAB2=CC)",null,null,"=+IMPORTARDATOSDINAMICOS(\" BAS196\";TABLAS!$A$106)","=+IMPORTARDATOSDINAMICOS(\" BAS197\";TABLAS!$A$106)","=+IMPORTARDATOSDINAMICOS(\" BAS198\";TABLAS!$A$106)","=+IMPORTARDATOSDINAMICOS(\" BAS199\";TABLAS!$A$106)","=+IMPORTARDATOSDINAMICOS(\" BAS200\";TABLAS!$A$106)",null,196,197,198,199,200]
[null,null,null,"SEGUIMIENTO: 2",0,{"$f":"+GETPIVOTDATA(\" BAS201\",TABLAS!$A$106)","v":0},{"$f":"+GETPIVOTDATA(\" BAS202\",TABLAS!$A$106)","v":0},{"$f":"+GETPIVOTDATA(\" BAS203\",TABLAS!$A$106)","v":0},{"$f":"+GETPIVOTDATA(\" BAS204\",TABLAS!$A$106)","v":0},{"$f":"+GETPIVOTDATA(\" BAS205\",TABLAS!$A$106)","v":0},null,null,"(TD=D+DX=90675+LAB1=2+LAB2=CC)",null,null,"=+IMPORTARDATOSDINAMICOS(\" BAS201\";TABLAS!$A$106)","=+IMPORTARDATOSDINAMICOS(\" BAS202\";TABLAS!$A$106)","=+IMPORTARDATOSDINAMICOS(\" BAS203\";TABLAS!$A$106)","=+IMPORTARDATOSDINAMICOS(\" BAS204\";TABLAS!$A$106)","=+IMPORTARDATOSDINAMICOS(\" BAS205\";TABLAS!$A$106)",null,201,202,203,204,205]
[null,null,null,"SEGUIMIENTO: 3",0,{"$f":"+GETPIVOTDATA(\" BAS206\",TABLAS!$A$106)","v":0},{"$f":"+GETPIVOTDATA(\" BAS207\",TABLAS!$A$106)","v":0},{"$f":"+GETPIVOTDATA(\" BAS208\",TABLAS!$A$106)","v":0},{"$f":"+GETPIVOTDATA(\" BAS209\",TABLAS!$A$106)","v":0},{"$f":"+GETPIVOTDATA(\" BAS210\",TABLAS!$A$106)","v":0},null,null,"(TD=D+DX=90675+LAB1=3+LAB2=CC)",null,null,"=+IMPORTARDATOSDINAMICOS(\" BAS206\";TABLAS!$A$106)","=+IMPORTARDATOSDINAMICOS(\" BAS207\";TABLAS!$A$106)","=+IMPORTARDATOSDINAMICOS(\" BAS208\";TABLAS!$A$106)","=+IMPORTARDATOSDINAMICOS(\" BAS209\";TABLAS!$A$106)","=+IMPORTARDATOSDINAMICOS(\" BAS210\";TABLAS!$A$106)",null,206,207,208,209,210]
[null,null,null,"SEGUIMIENTO: 4",0,{"$f":"+GETPIVOTDATA(\" BAS211\",TABLAS!$A$106)","v":0},{"$f":"+GETPIVOTDATA(\" BAS212\",TABLAS!$A$106)","v":0},{"$f":"+GETPIVOTDATA(\" BAS213\",TABLAS!$A$106)","v":0},{"$f":"+GETPIVOTDATA(\" BAS214\",TABLAS!$A$106)","v":0},{"$f":"+GETPIVOTDATA(\" BAS215\",TABLAS!$A$106)","v":0},null,null,"(TD=D+DX=90675+LAB1=4+LAB2=CC)",null,null,"=+IMPORTARDATOSDINAMICOS(\" BAS211\";TABLAS!$A$106)","=+IMPORTARDATOSDINAMICOS(\" BAS212\";TABLAS!$A$106)","=+IMPORTARDATOSDINAMICOS(\" BAS213\";TABLAS!$A$106)","=+IMPORTARDATOSDINAMICOS(\" BAS214\";TABLAS!$A$106)","=+IMPORTARDATOSDINAMICOS(\" BAS215\";TABLAS!$A$106)",null,211,212,213,214,215]
[null,null,null,"COBERTURA: 5",0,{"$f":"+GETPIVOTDATA(\" BAS216\",TABLAS!$A$106)","v":0},{"$f":"+GETPIVOTDATA(\" BAS217\",TABLAS!$A$106)","v":0},{"$f":"+GETPIVOTDATA(\" BAS218\",TABLAS!$A$106)","v":0},{"$f":"+GETPIVOTDATA(\" BAS219\",TABLAS!$A$106)","v":0},{"$f":"+GETPIVOTDATA(\" BAS220\",TABLAS!$A$106)","v":0},null,null,"(TD=D+DX=90675+LAB1=5+LAB2=CC)",null,null,"=+IMPORTARDATOSDINAMICOS(\" BAS216\";TABLAS!$A$106)","=+IMPORTARDATOSDINAMICOS(\" BAS217\";TABLAS!$A$106)","=+IMPORTARDATOSDINAMICOS(\" BAS218\";TABLAS!$A$106)","=+IMPORTARDATOSDINAMICOS(\" BAS219\";TABLAS!$A$106)","=+IMPORTARDATOSDINAMICOS(\" BAS220\";TABLAS!$A$106)",null,216,217,218,219,220]
[]
[]
[null,"Frascos Monodosis de Vacunación Antirrábica Humana IM",null,null,"Total dosis","0-11a","12-17a","18-29a","30-59a","60 y más"]
[null,"Total"]
[null,"VARH PRE (monodosis)",null,null,null,{"$f":"+GETPIVOTDATA(\" BAS136\",TABLAS!$A$137)","v":4},{"$f":"+GETPIVOTDATA(\" BAS137\",TABLAS!$A$137)","v":0},{"$f":"+GETPIVOTDATA(\" BAS138\",TABLAS!$A$137)","v":3},{"$f":"+GETPIVOTDATA(\" BAS139\",TABLAS!$A$137)","v":13},{"$f":"+GETPIVOTDATA(\" BAS140\",TABLAS!$A$137)","v":1},null,null,"(TD=D+DX=90675+LAB2=PRE + LAB=ST)",null,null,{"$f":"IF(V229<10,CONCATENATE($AB$229,\"00\",V229,$AB$230),IF(AND(V229>9,V229<100),CONCATENATE($AB$229,\"0\",V229,$AB$230),CONCATENATE($AB$229,V229,$AB$230)))","v":"=+IMPORTARDATOSDINAMICOS(\" BAS136\";TABLAS!$A$137)"},{"$f":"IF(W229<10,CONCATENATE($AB$229,\"00\",W229,$AB$230),IF(AND(W229>9,W229<100),CONCATENATE($AB$229,\"0\",W229,$AB$230),CONCATENATE($AB$229,W229,$AB$230)))","v":"=+IMPORTARDATOSDINAMICOS(\" BAS137\";TABLAS!$A$137)"},"=+IMPORTARDATOSDINAMICOS(\" BAS138\";TABLAS!$A$137)","=+IMPORTARDATOSDINAMICOS(\" BAS139\";TABLAS!$A$137)","=+IMPORTARDATOSDINAMICOS(\" BAS140\";TABLAS!$A$137)",null,136,{"$f":"+V229+1","v":137},{"$f":"+W229+1","v":138},{"$f":"+X229+1","v":139},{"$f":"+Y229+1","v":140},null,"=+IMPORTARDATOSDINAMICOS(\" BAS"]
[null,"VARH POS (monodosis)",null,null,null,{"$f":"+GETPIVOTDATA(\" BAS141\",TABLAS!$A$137)","v":0},{"$f":"+GETPIVOTDATA(\" BAS142\",TABLAS!$A$137)","v":0},{"$f":"+GETPIVOTDATA(\" BAS143\",TABLAS!$A$137)","v":0},{"$f":"+GETPIVOTDATA(\" BAS144\",TABLAS!$A$137)","v":0},{"$f":"+GETPIVOTDATA(\" BAS145\",TABLAS!$A$137)","v":0},null,null,"(TD=D+DX=90675+ ( LAB2=MOC/DS/SR/POS/CE/DA/DVR/DVC/CC + LAB3=BLANCO) / (LAB2=SUS + LAB3=BLANCO/TA)",null,null,{"$f":"IF(V230<10,CONCATENATE($AB$229,\"00\",V230,$AB$230),IF(AND(V230>9,V230<100),CONCATENATE($AB$229,\"0\",V230,$AB$230),CONCATENATE($AB$229,V230,$AB$230)))","v":"=+IMPORTARDATOSDINAMICOS(\" BAS141\";TABLAS!$A$137)"},{"$f":"IF(W230<10,CONCATENATE($AB$229,\"00\",W230,$AB$230),IF(AND(W230>9,W230<100),CONCATENATE($AB$229,\"0\",W230,$AB$230),CONCATENATE($AB$229,W230,$AB$230)))","v":"=+IMPORTARDATOSDINAMICOS(\" BAS142\";TABLAS!$A$137)"},{"$f":"IF(X230<10,CONCATENATE($AB$229,\"00\",X230,$AB$230),IF(AND(X230>9,X230<100),CONCATENATE($AB$229,\"0\",X230,$AB$230),CONCATENATE($AB$229,X230,$AB$230)))","v":"=+IMPORTARDATOSDINAMICOS(\" BAS143\";TABLAS!$A$137)"},{"$f":"IF(Y230<10,CONCATENATE($AB$229,\"00\",Y230,$AB$230),IF(AND(Y230>9,Y230<100),CONCATENATE($AB$229,\"0\",Y230,$AB$230),CONCATENATE($AB$229,Y230,$AB$230)))","v":"=+IMPORTARDATOSDINAMICOS(\" BAS144\";TABLAS!$A$137)"},{"$f":"IF(Z230<10,CONCATENATE($AB$229,\"00\",Z230,$AB$230),IF(AND(Z230>9,Z230<100),CONCATENATE($AB$229,\"0\",Z230,$AB$230),CONCATENATE($AB$229,Z230,$AB$230)))","v":"=+IMPORTARDATOSDINAMICOS(\" BAS145\";TABLAS!$A$137)"},null,{"$f":"+Z229+1","v":141},{"$f":"+V230+1","v":142},143,144,145,null,"\";TABLAS!$A$137)"]
[]
[]
[null,"Frascos de Inmunoglobulina Antirrábica para Humanos (RIG) administrados",null,null,"Total Frascos RIG","0-11a","12-17a","18-29a","30-59a","60 y más"]
[null,"Total",null,null,{"$f":"SUM(F234:J234)","v":0},{"$f":"SUM(F235:F239)","v":0},{"$f":"SUM(G235:G239)","v":0},0,0,0]
[null,"4.4 Tratamiento en caso de animal mordedor DS en Cara, cabeza, cuello, genitales, pulpejo de dedos de manos y pies, lesiones desgarradas, profundas o múltiples.",null,null,{"$f":"SUM(F235:J235)","v":0},{"$f":"+GETPIVOTDATA(\" BAS146\",TABLAS!$A$137)","v":0},{"$f":"+GETPIVOTDATA(\" BAS147\",TABLAS!$A$137)","v":0},{"$f":"+GETPIVOTDATA(\" BAS148\",TABLAS!$A$137)","v":0},{"$f":"+GETPIVOTDATA(\" BAS149\",TABLAS!$A$137)","v":0},{"$f":"+GETPIVOTDATA(\" BAS150\",TABLAS!$A$137)","v":0},null,null,"SUMA( (TD=D+DX=90675+LAB1=1+LAB2=DS) + (TD=D + DX=90375 + LAB=? )",null,null,{"$f":"IF(V235<10,CONCATENATE($AB$229,\"00\",V235,$AB$230),IF(AND(V235>9,V235<100),CONCATENATE($AB$229,\"0\",V235,$AB$230),CONCATENATE($AB$229,V235,$AB$230)))","v":"=+IMPORTARDATOSDINAMICOS(\" BAS146\";TABLAS!$A$137)"},{"$f":"IF(W235<10,CONCATENATE($AB$229,\"00\",W235,$AB$230),IF(AND(W235>9,W235<100),CONCATENATE($AB$229,\"0\",W235,$AB$230),CONCATENATE($AB$229,W235,$AB$230)))","v":"=+IMPORTARDATOSDINAMICOS(\" BAS147\";TABLAS!$A$137)"},{"$f":"IF(X235<10,CONCATENATE($AB$229,\"00\",X235,$AB$230),IF(AND(X235>9,X235<100),CONCATENATE($AB$229,\"0\",X235,$AB$230),CONCATENATE($AB$229,X235,$AB$230)))","v":"=+IMPORTARDATOSDINAMICOS(\" BAS148\";TABLAS!$A$137)"},{"$f":"IF(Y235<10,CONCATENATE($AB$229,\"00\",Y235,$AB$230),IF(AND(Y235>9,Y235<100),CONCATENATE($AB$229,\"0\",Y235,$AB$230),CONCATENATE($AB$229,Y235,$AB$230)))","v":"=+IMPORTARDATOSDINAMICOS(\" BAS149\";TABLAS!$A$137)"},{"$f":"IF(Z235<10,CONCATENATE($AB$229,\"00\",Z235,$AB$230),IF(AND(Z235>9,Z235<100),CONCATENATE($AB$229,\"0\",Z235,$AB$230),CONCATENATE($AB$229,Z235,$AB$230)))","v":"=+IMPORTARDATOSDINAMICOS(\" BAS150\";TABLAS!$A$137)"},null,{"$f":"+Z230+1","v":146},{"$f":"+V235+1","v":147},{"$f":"+W235+1","v":148},{"$f":"+X235+1","v":149},{"$f":"+Y235+1","v":150}]
[null," 4.6 Tratamiento en caso de animal mordedor SR en Cara, cabeza, cuello, genitales, pulpejo de dedos de manos y pies, lesiones desgarradas, profundas o múltiples.",null,null,0,{"$f":"+GETPIVOTDATA(\" BAS151\",TABLAS!$A$137)","v":0},{"$f":"+GETPIVOTDATA(\" BAS152\",TABLAS!$A$137)","v":0},{"$f":"+GETPIVOTDATA(\" BAS153\",TABLAS!$A$137)","v":0},{"$f":"+GETPIVOTDATA(\" BAS154\",TABLAS!$A$137)","v":0},{"$f":"+GETPIVOTDATA(\" BAS155\",TABLAS!$A$137)","v":0},null,null,"SUMA( (TD=D+DX=90675+LAB1=1+LAB2=SR) + (TD=D + DX=90375 + LAB=? )",null,null,"=+IMPORTARDATOSDINAMICOS(\" BAS151\";TABLAS!$A$137)","=+IMPORTARDATOSDINAMICOS(\" BAS152\";TABLAS!$A$137)","=+IMPORTARDATOSDINAMICOS(\" BAS153\";TABLAS!$A$137)","=+IMPORTARDATOSDINAMICOS(\" BAS154\";TABLAS!$A$137)","=+IMPORTARDATOSDINAMICOS(\" BAS155\";TABLAS!$A$137)",null,{"$f":"+Z235+1","v":151},152,153,154,155]
[null,"4.7 Tratamiento en caso de Contacto o Animal confirmado de rabia",null,null,0,{"$f":"+GETPIVOTDATA(\" BAS156\",TABLAS!$A$137)","v":0},{"$f":"+GETPIVOTDATA(\" BAS157\",TABLAS!$A$137)","v":0},{"$f":"+GETPIVOTDATA(\" BAS158\",TABLAS!$A$137)","v":0},{"$f":"+GETPIVOTDATA(\" BAS159\",TABLAS!$A$137)","v":0},{"$f":"+GETPIVOTDATA(\" BAS160\",TABLAS!$A$137)","v":0},null,null,"SUMA( (TD=D+DX=90675+LAB1=1+LAB2=CE) + (TD=D + DX=90375 + LAB=? )",null,null,"=+IMPORTARDATOSDINAMICOS(\" BAS156\";TABLAS!$A$137)","=+IMPORTARDATOSDINAMICOS(\" BAS157\";TABLAS!$A$137)","=+IMPORTARDATOSDINAMICOS(\" BAS158\";TABLAS!$A$137)","=+IMPORTARDATOSDINAMICOS(\" BAS159\";TABLAS!$A$137)","=+IMPORTARDATOSDINAMICOS(\" BAS160\";TABLAS!$A$137)",null,156,157,158,159,160]
[null,"DVR Transferencia realizada",null,null,0,{"$f":"+GETPIVOTDATA(\" BAS161\",TABLAS!$A$137)","v":0},{"$f":"+GETPIVOTDATA(\" BAS162\",TABLAS!$A$137)","v":0},{"$f":"+GETPIVOTDATA(\" BAS163\",TABLAS!$A$137)","v":0},{"$f":"+GETPIVOTDATA(\" BAS164\",TABLAS!$A$137)","v":0},{"$f":"+GETPIVOTDATA(\" BAS165\",TABLAS!$A$137)","v":0},null,null,"SUMA( (TD=D+DX=90675+LAB1=1+LAB2=DVR) + (TD=D + DX=90375 + LAB=? )",null,null,"=+IMPORTARDATOSDINAMICOS(\" BAS161\";TABLAS!$A$137)","=+IMPORTARDATOSDINAMICOS(\" BAS162\";TABLAS!$A$137)","=+IMPORTARDATOSDINAMICOS(\" BAS163\";TABLAS!$A$137)","=+IMPORTARDATOSDINAMICOS(\" BAS164\";TABLAS!$A$137)","=+IMPORTARDATOSDINAMICOS(\" BAS165\";TABLAS!$A$137)",null,161,162,163,164,165]
[null,"DVC Transferencia controlada",null,null,0,{"$f":"+GETPIVOTDATA(\" BAS166\",TABLAS!$A$137)","v":0},{"$f":"+GETPIVOTDATA(\" BAS167\",TABLAS!$A$137)","v":0},{"$f":"+GETPIVOTDATA(\" BAS168\",TABLAS!$A$137)","v":0},{"$f":"+GETPIVOTDATA(\" BAS169\",TABLAS!$A$137)","v":0},{"$f":"+GETPIVOTDATA(\" BAS170\",TABLAS!$A$137)","v":0},null,null,"SUMA( (TD=D+DX=90675+LAB1=1+LAB2=DVC) + (TD=D + DX=90375 + LAB=? )",null,null,"=+IMPORTARDATOSDINAMICOS(\" BAS166\";TABLAS!$A$137)","=+IMPORTARDATOSDINAMICOS(\" BAS167\";TABLAS!$A$137)","=+IMPORTARDATOSDINAMICOS(\" BAS168\";TABLAS!$A$137)","=+IMPORTARDATOSDINAMICOS(\" BAS169\";TABLAS!$A$137)","=+IMPORTARDATOSDINAMICOS(\" BAS170\";TABLAS!$A$137)",null,166,167,168,169,170]
[]
[]
[null,"7. Diagnóstico de Rabia Humana Urbana",null,"Total","0-11a","12-17a","18-29a","30-59a","60 y más","Gestante"]
[null,null,null,{"$f":"SUM(E243:J243)","v":0},{"$f":"+GETPIVOTDATA(\" BAS171\",TABLAS!$A$137)","v":0},{"$f":"+GETPIVOTDATA(\" BAS172\",TABLAS!$A$137)","v":0},{"$f":"+GETPIVOTDATA(\" BAS173\",TABLAS!$A$137)","v":0},{"$f":"+GETPIVOTDATA(\" BAS174\",TABLAS!$A$137)","v":0},{"$f":"+GETPIVOTDATA(\" BAS175\",TABLAS!$A$137)","v":0},null,null,null,null,null,null,{"$f":"IF(V243<10,CONCATENATE($AB$229,\"00\",V243,$AB$230),IF(AND(V243>9,V243<100),CONCATENATE($AB$229,\"0\",V243,$AB$230),CONCATENATE($AB$229,V243,$AB$230)))","v":"=+IMPORTARDATOSDINAMICOS(\" BAS171\";TABLAS!$A$137)"},{"$f":"IF(W243<10,CONCATENATE($AB$229,\"00\",W243,$AB$230),IF(AND(W243>9,W243<100),CONCATENATE($AB$229,\"0\",W243,$AB$230),CONCATENATE($AB$229,W243,$AB$230)))","v":"=+IMPORTARDATOSDINAMICOS(\" BAS172\";TABLAS!$A$137)"},{"$f":"IF(X243<10,CONCATENATE($AB$229,\"00\",X243,$AB$230),IF(AND(X243>9,X243<100),CONCATENATE($AB$229,\"0\",X243,$AB$230),CONCATENATE($AB$229,X243,$AB$230)))","v":"=+IMPORTARDATOSDINAMICOS(\" BAS173\";TABLAS!$A$137)"},{"$f":"IF(Y243<10,CONCATENATE($AB$229,\"00\",Y243,$AB$230),IF(AND(Y243>9,Y243<100),CONCATENATE($AB$229,\"0\",Y243,$AB$230),CONCATENATE($AB$229,Y243,$AB$230)))","v":"=+IMPORTARDATOSDINAMICOS(\" BAS174\";TABLAS!$A$137)"},{"$f":"IF(Z243<10,CONCATENATE($AB$229,\"00\",Z243,$AB$230),IF(AND(Z243>9,Z243<100),CONCATENATE($AB$229,\"0\",Z243,$AB$230),CONCATENATE($AB$229,Z243,$AB$230)))","v":"=+IMPORTARDATOSDINAMICOS(\" BAS175\";TABLAS!$A$137)"},null,{"$f":"+Z239+1","v":171},{"$f":"+V243+1","v":172},{"$f":"+W243+1","v":173},{"$f":"+X243+1","v":174},{"$f":"+Y243+1","v":175}]
[]
[]
[null,"8. Observación del Animal Mordedor",null,"N° Visita","Total"]
[null,"TOTAL",null,"1 era",{"$f":"+E250+E253+E256+E259+E262+E265","v":61}]
[null,null,null,"2 da",{"$f":"+E251+E254+E257+E260+E263+E266","v":59}]
[null,null,null,"3 era",35]
[1,"Perro observado AS",null,"1 era",{"$f":"+GETPIVOTDATA(\" BAS176\",TABLAS!$A$137)","v":61},null,null,null,null,null,null,null,"fichafam=AAA04 + TD=D + DX=C5092 + LAB1=1+LAB2=AS",null,null,{"$f":"IF(V250<10,CONCATENATE($AB$229,\"00\",V250,$AB$230),IF(AND(V250>9,V250<100),CONCATENATE($AB$229,\"0\",V250,$AB$230),CONCATENATE($AB$229,V250,$AB$230)))","v":"=+IMPORTARDATOSDINAMICOS(\" BAS176\";TABLAS!$A$137)"},null,null,null,null,null,{"$f":"+Z243+1","v":176}]
[2,null,null,"2 da",{"$f":"+GETPIVOTDATA(\" BAS177\",TABLAS!$A$137)","v":59},null,null,null,null,null,null,null,"fichafam=AAA04 + TD=D + DX=C5092 + LAB1=2+LAB2=AS",null,null,{"$f":"IF(V251<10,CONCATENATE($AB$229,\"00\",V251,$AB$230),IF(AND(V251>9,V251<100),CONCATENATE($AB$229,\"0\",V251,$AB$230),CONCATENATE($AB$229,V251,$AB$230)))","v":"=+IMPORTARDATOSDINAMICOS(\" BAS177\";TABLAS!$A$137)"},null,null,null,null,null,{"$f":"+V250+1","v":177}]
[null,null,null,"3 era",{"$f":"+GETPIVOTDATA(\" BAS178\",TABLAS!$A$137)","v":35},null,null,null,null,null,null,null,"fichafam=AAA04 + TD=D + DX=C5092 + LAB1=3+LAB2=AS",null,null,{"$f":"IF(V252<10,CONCATENATE($AB$229,\"00\",V252,$AB$230),IF(AND(V252>9,V252<100),CONCATENATE($AB$229,\"0\",V252,$AB$230),CONCATENATE($AB$229,V252,$AB$230)))","v":"=+IMPORTARDATOSDINAMICOS(\" BAS178\";TABLAS!$A$137)"},null,null,null,null,null,{"$f":"+V251+1","v":178}]
[null,"Gato observado AS",null,"1 era",{"$f":"+GETPIVOTDATA(\" BAS179\",TABLAS!$A$137)","v":0},null,null,null,null,null,null,null,"fichafam=AAA09 + TD=D + DX=C5092 + LAB1=1+LAB2=AS",null,null,"=+IMPORTARDATOSDINAMICOS(\" BAS179\";TABLAS!$A$137)",null,null,null,null,null,179]
[null,null,null,"2 da",{"$f":"+GETPIVOTDATA(\" BAS180\",TABLAS!$A$137)","v":0},null,null,null,null,null,null,null,"fichafam=AAA09 + TD=D + DX=C5092 + LAB1=2+LAB2=AS",null,null,"=+IMPORTARDATOSDINAMICOS(\" BAS180\";TABLAS!$A$137)",null,null,null,null,null,180]
[null,null,null,"3 era",{"$f":"+GETPIVOTDATA(\" BAS181\",TABLAS!$A$137)","v":0},null,null,null,null,null,null,null,"fichafam=AAA09 + TD=D + DX=C5092 + LAB1=3+LAB2=AS",null,null,"=+IMPORTARDATOSDINAMICOS(\" BAS181\";TABLAS!$A$137)",null,null,null,null,null,181]
[null,"Perro observado SR",null,"1 era",{"$f":"+GETPIVOTDATA(\" BAS182\",TABLAS!$A$137)","v":0},null,null,null,null,null,null,null,"fichafam=AAA04 + TD=D + DX=C5092 + LAB1=1+LAB2=SR",null,null,"=+IMPORTARDATOSDINAMICOS(\" BAS182\";TABLAS!$A$137)",null,null,null,null,null,182]
[null,null,null,"2 da",{"$f":"+GETPIVOTDATA(\" BAS183\",TABLAS!$A$137)","v":0},null,null,null,null,null,null,null,"fichafam=AAA04 + TD=D + DX=C5092 + LAB1=2+LAB2=SR",null,null,"=+IMPORTARDATOSDINAMICOS(\" BAS183\";TABLAS!$A$137)",null,null,null,null,null,183]
[null,null,null,"3 era",{"$f":"+GETPIVOTDATA(\" BAS184\",TABLAS!$A$137)","v":0},null,null,null,null,null,null,null,"fichafam=AAA04 + TD=D + DX=C5092 + LAB1=3+LAB2=SR",null,null,"=+IMPORTARDATOSDINAMICOS(\" BAS184\";TABLAS!$A$137)",null,null,null,null,null,184]
[null,"Gato observado SR",null,"1 era",{"$f":"+GETPIVOTDATA(\" BAS185\",TABLAS!$A$137)","v":0},null,null,null,null,null,null,null,"fichafam=AAA09 + TD=D + DX=C5092 + LAB1=1+LAB2=SR",null,null,"=+IMPORTARDATOSDINAMICOS(\" BAS185\";TABLAS!$A$137)",null,null,null,null,null,185]
[null,null,null,"2 da",{"$f":"+GETPIVOTDATA(\" BAS186\",TABLAS!$A$137)","v":0},null,null,null,null,null,null,null,"fichafam=AAA09 + TD=D + DX=C5092 + LAB1=2+LAB2=SR",null,null,"=+IMPORTARDATOSDINAMICOS(\" BAS186\";TABLAS!$A$137)",null,null,null,null,null,186]
[null,null,null,"3 era",{"$f":"+GETPIVOTDATA(\" BAS187\",TABLAS!$A$137)","v":0},null,null,null,null,null,null,null,"fichafam=AAA09 + TD=D + DX=C5092 + LAB1=3+LAB2=SR",null,null,"=+IMPORTARDATOSDINAMICOS(\" BAS187\";TABLAS!$A$137)",null,null,null,null,null,187]
[null,"Perro observado MOC",null,"1 era",{"$f":"+GETPIVOTDATA(\" BAS188\",TABLAS!$A$137)","v":0},null,null,null,null,null,null,null,"fichafam=AAA04 + TD=D + DX=C5092 + LAB1=1+LAB2=MOC",null,null,"=+IMPORTARDATOSDINAMICOS(\" BAS188\";TABLAS!$A$137)",null,null,null,null,null,188]
[null,null,null,"2 da",{"$f":"+GETPIVOTDATA(\" BAS189\",TABLAS!$A$137)","v":0},null,null,null,null,null,null,null,"fichafam=AAA04 + TD=D + DX=C5092 + LAB1=2+LAB2=MOC",null,null,"=+IMPORTARDATOSDINAMICOS(\" BAS189\";TABLAS!$A$137)",null,null,null,null,null,189]
[null,null,null,"3 era",{"$f":"+GETPIVOTDATA(\" BAS190\",TABLAS!$A$137)","v":0},null,null,null,null,null,null,null,"fichafam=AAA04 + TD=D + DX=C5092 + LAB1=3+LAB2=MOC",null,null,"=+IMPORTARDATOSDINAMICOS(\" BAS190\";TABLAS!$A$137)",null,null,null,null,null,190]
[null,"Gato observado MOC",null,"1 era",{"$f":"+GETPIVOTDATA(\" BAS191\",TABLAS!$A$137)","v":0},null,null,null,null,null,null,null,"fichafam=AAA09 + TD=D + DX=C5092 + LAB1=1+LAB2=MOC",null,null,"=+IMPORTARDATOSDINAMICOS(\" BAS191\";TABLAS!$A$137)",null,null,null,null,null,191]
[null,null,null,"2 da",{"$f":"+GETPIVOTDATA(\" BAS192\",TABLAS!$A$137)","v":0},null,null,null,null,null,null,null,"fichafam=AAA09 + TD=D + DX=C5092 + LAB1=2+LAB2=MOC",null,null,"=+IMPORTARDATOSDINAMICOS(\" BAS192\";TABLAS!$A$137)",null,null,null,null,null,192]
[null,null,null,"3 era",{"$f":"+GETPIVOTDATA(\" BAS193\",TABLAS!$A$137)","v":0},null,null,null,null,null,null,null,"fichafam=AAA09 + TD=D + DX=C5092 + LAB1=3+LAB2=MOC",null,null,"=+IMPORTARDATOSDINAMICOS(\" BAS193\";TABLAS!$A$137)",null,null,null,null,null,193]
[]
[]
[null,"9. Vigilancia del reservorio y Diagnóstico Laboratorial",null,"Situación de la muestra","Total"]
[null,"TOTAL",null,"Remitida",{"$f":"+E275+E279+E283+E287","v":0}]
[null,null,null,"Procesada",{"$f":"+E276+E280+E284+E288","v":0}]
[null,null,null,"Resultado positivo",0]
[null,null,null,"Resultado Negativo",0]
[null,"Muestras de can en vigilancia activa",null,"Remitida",{"$f":"+GETPIVOTDATA(\" BAS194\",TABLAS!$A$137)","v":0},null,null,null,null,null,null,null,"SUMA LAB1 ( fichafam=AAA04+(TD=D+DX=88025+LAB1 + LAB2=MR)+(TD=D+DX=C0041+LAB1=1) )",null,null,{"$f":"IF(V275<10,CONCATENATE($AB$229,\"00\",V275,$AB$230),IF(AND(V275>9,V275<100),CONCATENATE($AB$229,\"0\",V275,$AB$230),CONCATENATE($AB$229,V275,$AB$230)))","v":"=+IMPORTARDATOSDINAMICOS(\" BAS194\";TABLAS!$A$137)"},null,null,null,null,null,{"$f":"+V267+1","v":194}]
[null,null,null,"Procesada",{"$f":"+GETPIVOTDATA(\" BAS195\",TABLAS!$A$137)","v":0},null,null,null,null,null,null,null,"SUMA LAB1 ( fichafam=AAA04+(TD=D+DX=88025+LAB1 + LAB2=MT)+(TD=D+DX=C0041+LAB1=1) )",null,null,"=+IMPORTARDATOSDINAMICOS(\" BAS195\";TABLAS!$A$137)",null,null,null,null,null,{"$f":"+V275+1","v":195}]
[null,null,null,"Resultado positivo",{"$f":"+GETPIVOTDATA(\" BAS196\",TABLAS!$A$137)","v":0},null,null,null,null,null,null,null,"SUMA LAB1 ( fichafam=AAA04+(TD=D+DX=88025+LAB1 + LAB2=RP)+(TD=D+DX=C0041+LAB1=1) )",null,null,"=+IMPORTARDATOSDINAMICOS(\" BAS196\";TABLAS!$A$137)",null,null,null,null,null,196]
[null,null,null,"Resultado Negativo",{"$f":"+GETPIVOTDATA(\" BAS197\",TABLAS!$A$137)","v":0},null,null,null,null,null,null,null,"SUMA LAB1 ( fichafam=AAA04+(TD=D+DX=88025+LAB1 + LAB2=RN)+(TD=D+DX=C0041+LAB1=1) )",null,null,"=+IMPORTARDATOSDINAMICOS(\" BAS197\";TABLAS!$A$137)",null,null,null,null,null,197]
[null,"Muestras de can en vigilancia pasiva",null,"Remitida",{"$f":"+GETPIVOTDATA(\" BAS198\",TABLAS!$A$137)","v":0},null,null,null,null,null,null,null,"SUMA LAB1 ( fichafam=AAA04+(TD=D+DX=88025+LAB1 + LAB2=MR)+(TD=D+DX=C0041+LAB1=2) )",null,null,"=+IMPORTARDATOSDINAMICOS(\" BAS198\";TABLAS!$A$137)",null,null,null,null,null,198]
[null,null,null,"Procesada",{"$f":"+GETPIVOTDATA(\" BAS199\",TABLAS!$A$137)","v":0},null,null,null,null,null,null,null,"SUMA LAB1 ( fichafam=AAA04+(TD=D+DX=88025+LAB1 + LAB2=MT)+(TD=D+DX=C0041+LAB1=2) )",null,null,"=+IMPORTARDATOSDINAMICOS(\" BAS199\";TABLAS!$A$137)",null,null,null,null,null,199]
[null,null,null,"Resultado positivo",{"$f":"+GETPIVOTDATA(\" BAS200\",TABLAS!$A$137)","v":0},null,null,null,null,null,null,null,"SUMA LAB1 ( fichafam=AAA04+(TD=D+DX=88025+LAB1 + LAB2=RP)+(TD=D+DX=C0041+LAB1=2) )",null,null,"=+IMPORTARDATOSDINAMICOS(\" BAS200\";TABLAS!$A$137)",null,null,null,null,null,200]
[null,null,null,"Resultado Negativo",{"$f":"+GETPIVOTDATA(\" BAS201\",TABLAS!$A$137)","v":0},null,null,null,null,null,null,null,"SUMA LAB1 ( fichafam=AAA04+(TD=D+DX=88025+LAB1 + LAB2=RN)+(TD=D+DX=C0041+LAB1=2) )",null,null,"=+IMPORTARDATOSDINAMICOS(\" BAS201\";TABLAS!$A$137)",null,null,null,null,null,201]
[null,"Muestras de gato en vigilancia pasiva",null,"Remitida",{"$f":"+GETPIVOTDATA(\" BAS202\",TABLAS!$A$137)","v":0},null,null,null,null,null,null,null,"SUMA LAB1 ( fichafam=AAA09+(TD=D+DX=88025+LAB1 + LAB2=MR)+(TD=D+DX=C0041+LAB1=2) )",null,null,"=+IMPORTARDATOSDINAMICOS(\" BAS202\";TABLAS!$A$137)",null,null,null,null,null,202]
[null,null,null,"Procesada",{"$f":"+GETPIVOTDATA(\" BAS203\",TABLAS!$A$137)","v":0},null,null,null,null,null,null,null,"SUMA LAB1 ( fichafam=AAA09+(TD=D+DX=88025+LAB1 + LAB2=MT)+(TD=D+DX=C0041+LAB1=2) )",null,null,"=+IMPORTARDATOSDINAMICOS(\" BAS203\";TABLAS!$A$137)",null,null,null,null,null,203]
[null,null,null,"Resultado positivo",{"$f":"+GETPIVOTDATA(\" BAS204\",TABLAS!$A$137)","v":0},null,null,null,null,null,null,null,"SUMA LAB1 ( fichafam=AAA09+(TD=D+DX=88025+LAB1 + LAB2=RP)+(TD=D+DX=C0041+LAB1=2) )",null,null,"=+IMPORTARDATOSDINAMICOS(\" BAS204\";TABLAS!$A$137)",null,null,null,null,null,204]
[null,null,null,"Resultado Negativo",{"$f":"+GETPIVOTDATA(\" BAS205\",TABLAS!$A$137)","v":0},null,null,null,null,null,null,null,"SUMA LAB1 ( fichafam=AAA09+(TD=D+DX=88025+LAB1 + LAB2=RN)+(TD=D+DX=C0041+LAB1=2) )",null,null,"=+IMPORTARDATOSDINAMICOS(\" BAS205\";TABLAS!$A$137)",null,null,null,null,null,205]
[null,"Muestras de otros mamíferos domésticos (equino, porcino, bovino, ovino, etc) en rabia urbana, vigilancia pasiva",null,"Remitida",{"$f":"+GETPIVOTDATA(\" BAS206\",TABLAS!$A$137)","v":0},null,null,null,null,null,null,null,"SUMA LAB1 ( fichafam=AAA91+(TD=D+DX=88025+LAB1 + LAB2=MR)+(TD=D+DX=C0041+LAB1=2) )",null,null,"=+IMPORTARDATOSDINAMICOS(\" BAS206\";TABLAS!$A$137)",null,null,null,null,null,206]
[null,null,null,"Procesada",{"$f":"+GETPIVOTDATA(\" BAS207\",TABLAS!$A$137)","v":0},null,null,null,null,null,null,null,"SUMA LAB1 ( fichafam=AAA91+(TD=D+DX=88025+LAB1 + LAB2=MT)+(TD=D+DX=C0041+LAB1=2) )",null,null,"=+IMPORTARDATOSDINAMICOS(\" BAS207\";TABLAS!$A$137)",null,null,null,null,null,207]
[null,null,null,"Resultado positivo",{"$f":"+GETPIVOTDATA(\" BAS208\",TABLAS!$A$137)","v":0},null,null,null,null,null,null,null,"SUMA LAB1 ( fichafam=AAA91+(TD=D+DX=88025+LAB1 + LAB2=RP)+(TD=D+DX=C0041+LAB1=2) )",null,null,"=+IMPORTARDATOSDINAMICOS(\" BAS208\";TABLAS!$A$137)",null,null,null,null,null,208]
[null,null,null,"Resultado Negativo",{"$f":"+GETPIVOTDATA(\" BAS209\",TABLAS!$A$137)","v":0},null,null,null,null,null,null,null,"SUMA LAB1 ( fichafam=AAA91+(TD=D+DX=88025+LAB1 + LAB2=RN)+(TD=D+DX=C0041+LAB1=2) )",null,null,"=+IMPORTARDATOSDINAMICOS(\" BAS209\";TABLAS!$A$137)",null,null,null,null,null,209]
[]
[]
[null,"10. Control Epidemiológico (Control de Foco).",null,"Situación del foco","Total"]
[null,"TOTAL",null,"Notificado",{"$f":"+E297+E300","v":0}]
[null,null,null,"Investigado",{"$f":"+E298+E301","v":0}]
[null,null,null,"Controlado",0]
[null,"Control de foco en vigilancia activa",null,"Notificado",{"$f":"+GETPIVOTDATA(\" BAS210\",TABLAS!$A$137)","v":0},null,null,null,null,null,null,null,"SUMA LAB1 ( fichafam=APP108+(TD=D+DX=C0091+LAB1 + LAB2=NOT)+(TD=D+DX=C0041+LAB1=1) )",null,null,{"$f":"IF(V297<10,CONCATENATE($AB$229,\"00\",V297,$AB$230),IF(AND(V297>9,V297<100),CONCATENATE($AB$229,\"0\",V297,$AB$230),CONCATENATE($AB$229,V297,$AB$230)))","v":"=+IMPORTARDATOSDINAMICOS(\" BAS210\";TABLAS!$A$137)"},null,null,null,null,null,{"$f":"+V290+1","v":210}]
[null,null,null,"Investigado",{"$f":"+GETPIVOTDATA(\" BAS211\",TABLAS!$A$137)","v":0},null,null,null,null,null,null,null,"SUMA LAB1 ( fichafam=APP108+(TD=D+DX=C0091+LAB1 + LAB2=IN)+(TD=D+DX=C0041+LAB1=1) )",null,null,"=+IMPORTARDATOSDINAMICOS(\" BAS211\";TABLAS!$A$137)",null,null,null,null,null,{"$f":"+V297+1","v":211}]
[null,null,null,"Controlado",{"$f":"+GETPIVOTDATA(\" BAS212\",TABLAS!$A$137)","v":0},null,null,null,null,null,null,null,"SUMA LAB1 ( fichafam=APP108+(TD=D+DX=C0091+LAB1 + LAB2=CC)+(TD=D+DX=C0041+LAB1=1) )",null,null,"=+IMPORTARDATOSDINAMICOS(\" BAS212\";TABLAS!$A$137)",null,null,null,null,null,212]
[null,"Control de foco en vigilancia pasiva",null,"Notificado",{"$f":"+GETPIVOTDATA(\" BAS213\",TABLAS!$A$137)","v":0},null,null,null,null,null,null,null,"SUMA LAB1 ( fichafam=APP108+(TD=D+DX=C0091+LAB1 + LAB2=NOT)+(TD=D+DX=C0041+LAB1=2) )",null,null,"=+IMPORTARDATOSDINAMICOS(\" BAS213\";TABLAS!$A$137)",null,null,null,null,null,213]
[null,null,null,"Investigado",{"$f":"+GETPIVOTDATA(\" BAS214\",TABLAS!$A$137)","v":0},null,null,null,null,null,null,null,"SUMA LAB1 ( fichafam=APP108+(TD=D+DX=C0091+LAB1 + LAB2=IN)+(TD=D+DX=C0041+LAB1=2) )",null,null,"=+IMPORTARDATOSDINAMICOS(\" BAS214\";TABLAS!$A$137)",null,null,null,null,null,214]
[null,null,null,"Controlado",{"$f":"+GETPIVOTDATA(\" BAS215\",TABLAS!$A$137)","v":0},null,null,null,null,null,null,null,"SUMA LAB1 ( fichafam=APP108+(TD=D+DX=C0091+LAB1 + LAB2=CC)+(TD=D+DX=C0041+LAB1=2) )",null,null,"=+IMPORTARDATOSDINAMICOS(\" BAS215\";TABLAS!$A$137)",null,null,null,null,null,215]
[]
[]
[null,"11. Vacunación Antirrábica Canina",null,"Situación vacunal","Total"]
[null,"TOTAL",null,"Centros antirrábicos",{"$f":"+GETPIVOTDATA(\" BAS216\",TABLAS!$A$137)","v":60},null,null,null,null,null,null,null,"SUMA LAB1 ( fichafam=APP99+(TD=D+DX=C5041+LAB1)",null,null,{"$f":"IF(V306<10,CONCATENATE($AB$229,\"00\",V306,$AB$230),IF(AND(V306>9,V306<100),CONCATENATE($AB$229,\"0\",V306,$AB$230),CONCATENATE($AB$229,V306,$AB$230)))","v":"=+IMPORTARDATOSDINAMICOS(\" BAS216\";TABLAS!$A$137)"},null,null,null,null,null,{"$f":"+V302+1","v":216}]
[null,null,null,"VANCAN",{"$f":"+GETPIVOTDATA(\" BAS217\",TABLAS!$A$137)","v":9261},null,null,null,null,null,null,null,"SUMA LAB1 ( fichafam=APP108+(TD=D+DX=C5041+LAB1)",null,null,"=+IMPORTARDATOSDINAMICOS(\" BAS217\";TABLAS!$A$137)",null,null,null,null,null,{"$f":"+V306+1","v":217}]
[null,null,null,"Control de foco",{"$f":"+GETPIVOTDATA(\" BAS218\",TABLAS!$A$137)","v":5890},null,null,null,null,null,null,null,"SUMA LAB1 ( fichafam=APP98+(TD=D+DX=C5041+LAB1)",null,null,"=+IMPORTARDATOSDINAMICOS(\" BAS218\";TABLAS!$A$137)",null,null,null,null,null,218]
[]
[]
[]
[null,"Fuente: Sistema de Información de Consulta Externa HIS",null,null,null,null,null,"Reporte Generado:","dd / mm /aaaa"]
[null,"Oficina de Gestión de la Información - MINSA"]

{"sheet":"RABIA URB_90676","index":4,"n_rows":270,"n_cols":33,"rows_kept":270,"cut":false,"hidden":false,"merged":[[5,1,5,9],[7,2,7,3],[7,5,7,6],[9,2,9,3],[9,5,9,6],[19,1,19,2],[19,13,19,16],[11,32,11,33],[13,2,13,3],[13,8,13,9],[11,2,11,3],[11,5,11,6],[183,1,183,3],[20,1,24,2],[25,1,29,2],[30,1,34,2],[35,1,39,2],[40,1,44,2],[45,1,46,2],[49,1,51,2],[165,1,165,2],[166,1,170,2],[171,1,175,2],[176,1,180,2],[202,1,202,2],[184,1,184,3],[185,1,185,3],[186,1,186,3],[189,1,189,3],[190,1,190,3],[191,1,191,3],[192,1,192,3],[193,1,193,3],[194,1,194,3],[195,1,195,3],[198,1,199,2],[239,1,242,2],[203,1,205,2],[206,1,208,2],[209,1,211,2],[212,1,214,2],[215,1,217,2],[218,1,220,2],[262,1,264,2],[268,8,268,9],[58,1,62,1],[63,1,67,1],[68,1,69,1],[243,1,246,2],[249,1,249,2],[250,1,252,2],[253,1,255,2],[256,1,258,2],[261,1,261,2],[221,1,223,2],[226,1,226,2],[227,1,230,2],[231,1,234,2],[235,1,238,2]]}
[null,"GERENCIA REGIONAL DE SALUD CUSCO"]
[]
[null,"DIRECCION DE ESTADISTICA, INFORMATICA Y TELECOMUNICACIONES"]
[]
[]
[null,"INFORME MENSUAL DE RABIA URBANA - SILVESTRE - VACUNA ID"]
[]
[null,"GERESA","CUSCO",null,"PROVINCIA",{"$f":"TRIM(TABLAS!O12)","v":""},null,"MINSA"]
[]
[null,"RED",{"$f":"TRIM(TABLAS!O9)","v":"03 - LA CONVENCION"},null,"DISTRITO",{"$f":"TRIM(TABLAS!O13)","v":""},null,"ESSALUD"]
[]
[null,"MICRO RED",{"$f":"TRIM(TABLAS!O10)","v":""},null,"MES",{"$f":"TRIM(TABLAS!N26)","v":"ENE - NOV"},null,"SANIDAD FFAA-PNP",null,null,null,null,null,null,null,null,null,null,null,null,null,null,null,null,null,null,null,null,null,null,null,null,{"$f":"+TABLAS!O11","v":""}]
[]
[null,"ESTABLECIMIENTO",{"$f":"TRIM(TABLAS!O11)","v":""},null,"AÑO",{"$f":"TRIM(TABLAS!J16)","v":"2024"},null,"EJECUTORA",{"$f":"TRIM(TABLAS!O14)","v":""}]
[]
[]
[]
[null,"RABIA URBANA"]
[]
[null,"4. Profilaxis Post-Exposición en Rabia Urbana: Vacunación Antirrábica Humana",null,"Situación Vacunal","Total Personas","0-11a","12-17a","18-29a","30-59a","60 y más"]
[1,"4.1 Tratamiento en caso de animal mordedor MOC luego de una exposición LEV",null,"ACCESO: 1",{"$f":"SUM(F21:J21)","v":0},{"$f":"+GETPIVOTDATA(\" BAS001\",TABLAS!$A$168)","v":0},{"$f":"+GETPIVOTDATA(\" BAS002\",TABLAS!$A$168)","v":0},{"$f":"+GETPIVOTDATA(\" BAS003\",TABLAS!$A$168)","v":0},{"$f":"+GETPIVOTDATA(\" BAS004\",TABLAS!$A$168)","v":0},{"$f":"+GETPIVOTDATA(\" BAS005\",TABLAS!$A$168)","v":0},null,"(TD=D+DX=90675+LAB1=1+LAB2=MOC)",null,null,null,{"$f":"IF(V21<10,CONCATENATE($AB$21,\"00\",V21,$AB$22),IF(AND(V21>9,V21<100),CONCATENATE($AB$21,\"0\",V21,$AB$22),CONCATENATE($AB$21,V21,$AB$22)))","v":"=+IMPORTARDATOSDINAMICOS(\" BAS001\";TABLAS!$A$106)"},{"$f":"IF(W21<10,CONCATENATE($AB$21,\"00\",W21,$AB$22),IF(AND(W21>9,W21<100),CONCATENATE($AB$21,\"0\",W21,$AB$22),CONCATENATE($AB$21,W21,$AB$22)))","v":"=+IMPORTARDATOSDINAMICOS(\" BAS002\";TABLAS!$A$106)"},"=+IMPORTARDATOSDINAMICOS(\" BAS003\";TABLAS!$A$106)","=+IMPORTARDATOSDINAMICOS(\" BAS004\";TABLAS!$A$106)","=+IMPORTARDATOSDINAMICOS(\" BAS005\";TABLAS!$A$106)",null,1,{"$f":"+V21+1","v":2},{"$f":"+W21+1","v":3},4,5,null,"=+IMPORTARDATOSDINAMICOS(\" BAS"]
[2,null,null,"SEGUIMIENTO: 2",0,{"$f":"+GETPIVOTDATA(\" BAS006\",TABLAS!$A$168)","v":0},{"$f":"+GETPIVOTDATA(\" BAS007\",TABLAS!$A$168)","v":0},{"$f":"+GETPIVOTDATA(\" BAS008\",TABLAS!$A$168)","v":0},{"$f":"+GETPIVOTDATA(\" BAS009\",TABLAS!$A$168)","v":0},{"$f":"+GETPIVOTDATA(\" BAS010\",TABLAS!$A$168)","v":0},null,"(TD=D+DX=90675+LAB1=2+LAB2=MOC)",null,null,null,{"$f":"IF(V22<10,CONCATENATE($AB$21,\"00\",V22,$AB$22),IF(AND(V22>9,V22<100),CONCATENATE($AB$21,\"0\",V22,$AB$22),CONCATENATE($AB$21,V22,$AB$22)))","v":"=+IMPORTARDATOSDINAMICOS(\" BAS006\";TABLAS!$A$106)"},"=+IMPORTARDATOSDINAMICOS(\" BAS007\";TABLAS!$A$106)","=+IMPORTARDATOSDINAMICOS(\" BAS008\";TABLAS!$A$106)","=+IMPORTARDATOSDINAMICOS(\" BAS009\";TABLAS!$A$106)","=+IMPORTARDATOSDINAMICOS(\" BAS010\";TABLAS!$A$106)",null,{"$f":"+Z21+1","v":6},{"$f":"+V22+1","v":7},8,9,10,null,"\";TABLAS!$A$106)"]
[3,null,null,"SEGUIMIENTO: 3",0,{"$f":"+GETPIVOTDATA(\" BAS011\",TABLAS!$A$168)","v":0},{"$f":"+GETPIVOTDATA(\" BAS012\",TABLAS!$A$168)","v":0},{"$f":"+GETPIVOTDATA(\" BAS013\",TABLAS!$A$168)","v":0},{"$f":"+GETPIVOTDATA(\" BAS014\",TABLAS!$A$168)","v":0},{"$f":"+GETPIVOTDATA(\" BAS015\",TABLAS!$A$168)","v":0},null,"(TD=D+DX=90675+LAB1=3+LAB2=MOC)",null,null,null,{"$f":"IF(V23<10,CONCATENATE($AB$21,\"00\",V23,$AB$22),IF(AND(V23>9,V23<100),CONCATENATE($AB$21,\"0\",V23,$AB$22),CONCATENATE($AB$21,V23,$AB$22)))","v":"=+IMPORTARDATOSDINAMICOS(\" BAS011\";TABLAS!$A$106)"},"=+IMPORTARDATOSDINAMICOS(\" BAS012\";TABLAS!$A$106)","=+IMPORTARDATOSDINAMICOS(\" BAS013\";TABLAS!$A$106)","=+IMPORTARDATOSDINAMICOS(\" BAS014\";TABLAS!$A$106)","=+IMPORTARDATOSDINAMICOS(\" BAS015\";TABLAS!$A$106)",null,{"$f":"+Z22+1","v":11},{"$f":"+V23+1","v":12},13,14,15]
[4,null,null,"SEGUIMIENTO: 4",0,{"$f":"+GETPIVOTDATA(\" BAS016\",TABLAS!$A$168)","v":0},{"$f":"+GETPIVOTDATA(\" BAS017\",TABLAS!$A$168)","v":0},{"$f":"+GETPIVOTDATA(\" BAS018\",TABLAS!$A$168)","v":0},{"$f":"+GETPIVOTDATA(\" BAS019\",TABLAS!$A$168)","v":0},{"$f":"+GETPIVOTDATA(\" BAS020\",TABLAS!$A$168)","v":0},null,"(TD=D+DX=90675+LAB1=4+LAB2=MOC)",null,null,null,{"$f":"IF(V24<10,CONCATENATE($AB$21,\"00\",V24,$AB$22),IF(AND(V24>9,V24<100),CONCATENATE($AB$21,\"0\",V24,$AB$22),CONCATENATE($AB$21,V24,$AB$22)))","v":"=+IMPORTARDATOSDINAMICOS(\" BAS016\";TABLAS!$A$106)"},"=+IMPORTARDATOSDINAMICOS(\" BAS017\";TABLAS!$A$106)","=+IMPORTARDATOSDINAMICOS(\" BAS018\";TABLAS!$A$106)","=+IMPORTARDATOSDINAMICOS(\" BAS019\";TABLAS!$A$106)","=+IMPORTARDATOSDINAMICOS(\" BAS020\";TABLAS!$A$106)",null,{"$f":"+Z23+1","v":16},{"$f":"+V24+1","v":17},18,19,20]
[5,null,null,"COBERTURA: 5",0,{"$f":"+GETPIVOTDATA(\" BAS021\",TABLAS!$A$168)","v":0},{"$f":"+GETPIVOTDATA(\" BAS022\",TABLAS!$A$168)","v":0},{"$f":"+GETPIVOTDATA(\" BAS023\",TABLAS!$A$168)","v":0},{"$f":"+GETPIVOTDATA(\" BAS024\",TABLAS!$A$168)","v":0},{"$f":"+GETPIVOTDATA(\" BAS025\",TABLAS!$A$168)","v":0},null,"(TD=D+DX=90675+LAB1=5+LAB2=MOC)",null,null,null,{"$f":"IF(V25<10,CONCATENATE($AB$21,\"00\",V25,$AB$22),IF(AND(V25>9,V25<100),CONCATENATE($AB$21,\"0\",V25,$AB$22),CONCATENATE($AB$21,V25,$AB$22)))","v":"=+IMPORTARDATOSDINAMICOS(\" BAS021\";TABLAS!$A$106)"},"=+IMPORTARDATOSDINAMICOS(\" BAS022\";TABLAS!$A$106)","=+IMPORTARDATOSDINAMICOS(\" BAS023\";TABLAS!$A$106)","=+IMPORTARDATOSDINAMICOS(\" BAS024\";TABLAS!$A$106)","=+IMPORTARDATOSDINAMICOS(\" BAS025\";TABLAS!$A$106)",null,{"$f":"+Z24+1","v":21},{"$f":"+V25+1","v":22},23,24,25]
[6,"4.1 Tratamiento en caso de animal mordedor DS luego de una exposición LEV; 4.3 Tratamiento en caso de animal mordedor DS EXCEPTO en Cara, cabeza, cuello, genitales, pulpejo de dedos de manos y pies, lesiones desgarradas, profundas o múltiples; y 4.4 Tratamiento en caso de animal mordedor DS en Cara, cabeza, cuello, genitales, pulpejo de dedos de manos y pies, lesiones desgarradas, profundas o múltiples.",null,"ACCESO: 1",0,{"$f":"+GETPIVOTDATA(\" BAS026\",TABLAS!$A$168)","v":0},{"$f":"+GETPIVOTDATA(\" BAS027\",TABLAS!$A$168)","v":0},{"$f":"+GETPIVOTDATA(\" BAS028\",TABLAS!$A$168)","v":0},{"$f":"+GETPIVOTDATA(\" BAS029\",TABLAS!$A$168)","v":0},{"$f":"+GETPIVOTDATA(\" BAS030\",TABLAS!$A$168)","v":0},null,"(TD=D+DX=90675+LAB1=1+LAB2=DS)",null,null,null,"=+IMPORTARDATOSDINAMICOS(\" BAS026\";TABLAS!$A$106)","=+IMPORTARDATOSDINAMICOS(\" BAS027\";TABLAS!$A$106)","=+IMPORTARDATOSDINAMICOS(\" BAS028\";TABLAS!$A$106)","=+IMPORTARDATOSDINAMICOS(\" BAS029\";TABLAS!$A$106)","=+IMPORTARDATOSDINAMICOS(\" BAS030\";TABLAS!$A$106)",null,26,27,28,29,30]
[7,null,null,"SEGUIMIENTO: 2",1,{"$f":"+GETPIVOTDATA(\" BAS031\",TABLAS!$A$168)","v":0},{"$f":"+GETPIVOTDATA(\" BAS032\",TABLAS!$A$168)","v":0},{"$f":"+GETPIVOTDATA(\" BAS033\",TABLAS!$A$168)","v":0},{"$f":"+GETPIVOTDATA(\" BAS034\",TABLAS!$A$168)","v":1},{"$f":"+GETPIVOTDATA(\" BAS035\",TABLAS!$A$168)","v":0},null,"(TD=D+DX=90675+LAB1=2+LAB2=DS)",null,null,null,"=+IMPORTARDATOSDINAMICOS(\" BAS031\";TABLAS!$A$106)","=+IMPORTARDATOSDINAMICOS(\" BAS032\";TABLAS!$A$106)","=+IMPORTARDATOSDINAMICOS(\" BAS033\";TABLAS!$A$106)","=+IMPORTARDATOSDINAMICOS(\" BAS034\";TABLAS!$A$106)","=+IMPORTARDATOSDINAMICOS(\" BAS035\";TABLAS!$A$106)",null,31,32,33,34,35]
[8,null,null,"SEGUIMIENTO: 3",3,{"$f":"+GETPIVOTDATA(\" BAS036\",TABLAS!$A$168)","v":1},{"$f":"+GETPIVOTDATA(\" BAS037\",TABLAS!$A$168)","v":0},{"$f":"+GETPIVOTDATA(\" BAS038\",TABLAS!$A$168)","v":0},{"$f":"+GETPIVOTDATA(\" BAS039\",TABLAS!$A$168)","v":2},{"$f":"+GETPIVOTDATA(\" BAS040\",TABLAS!$A$168)","v":0},null,"(TD=D+DX=90675+LAB1=3+LAB2=DS)",null,null,null,"=+IMPORTARDATOSDINAMICOS(\" BAS036\";TABLAS!$A$106)","=+IMPORTARDATOSDINAMICOS(\" BAS037\";TABLAS!$A$106)","=+IMPORTARDATOSDINAMICOS(\" BAS038\";TABLAS!$A$106)","=+IMPORTARDATOSDINAMICOS(\" BAS039\";TABLAS!$A$106)","=+IMPORTARDATOSDINAMICOS(\" BAS040\";TABLAS!$A$106)",null,36,37,38,39,40]
[9,null,null,"SEGUIMIENTO: 4",3,{"$f":"+GETPIVOTDATA(\" BAS041\",TABLAS!$A$168)","v":1},{"$f":"+GETPIVOTDATA(\" BAS042\",TABLAS!$A$168)","v":0},{"$f":"+GETPIVOTDATA(\" BAS043\",TABLAS!$A$168)","v":0},{"$f":"+GETPIVOTDATA(\" BAS044\",TABLAS!$A$168)","v":2},{"$f":"+GETPIVOTDATA(\" BAS045\",TABLAS!$A$168)","v":0},null,"(TD=D+DX=90675+LAB1=4+LAB2=DS)",null,null,null,"=+IMPORTARDATOSDINAMICOS(\" BAS041\";TABLAS!$A$106)","=+IMPORTARDATOSDINAMICOS(\" BAS042\";TABLAS!$A$106)","=+IMPORTARDATOSDINAMICOS(\" BAS043\";TABLAS!$A$106)","=+IMPORTARDATOSDINAMICOS(\" BAS044\";TABLAS!$A$106)","=+IMPORTARDATOSDINAMICOS(\" BAS045\";TABLAS!$A$106)",null,41,42,43,44,45]
[10,null,null,"COBERTURA: 5",0,{"$f":"+GETPIVOTDATA(\" BAS046\",TABLAS!$A$168)","v":0},{"$f":"+GETPIVOTDATA(\" BAS047\",TABLAS!$A$168)","v":0},{"$f":"+GETPIVOTDATA(\" BAS048\",TABLAS!$A$168)","v":0},{"$f":"+GETPIVOTDATA(\" BAS049\",TABLAS!$A$168)","v":0},{"$f":"+GETPIVOTDATA(\" BAS050\",TABLAS!$A$168)","v":0},null,"(TD=D+DX=90675+LAB1=5+LAB2=DS)",null,null,null,"=+IMPORTARDATOSDINAMICOS(\" BAS046\";TABLAS!$A$106)","=+IMPORTARDATOSDINAMICOS(\" BAS047\";TABLAS!$A$106)","=+IMPORTARDATOSDINAMICOS(\" BAS048\";TABLAS!$A$106)","=+IMPORTARDATOSDINAMICOS(\" BAS049\";TABLAS!$A$106)","=+IMPORTARDATOSDINAMICOS(\" BAS050\";TABLAS!$A$106)",null,46,47,48,49,50]
[11,"4.1 Tratamiento en caso de animal mordedor SR luego de una exposición LEV; 4.5 Tratamiento en caso de animal mordedor SR EXCEPTO en Cara, cabeza, cuello, genitales, pulpejo de dedos de manos y pies, lesiones desgarradas, profundas o múltiples; y 4.6 Tratamiento en caso de animal mordedor SR en Cara, cabeza, cuello, genitales, pulpejo de dedos de manos y pies, lesiones desgarradas, profundas o múltiples.",null,"ACCESO: 1",1,{"$f":"+GETPIVOTDATA(\" BAS051\",TABLAS!$A$168)","v":0},{"$f":"+GETPIVOTDATA(\" BAS052\",TABLAS!$A$168)","v":0},{"$f":"+GETPIVOTDATA(\" BAS053\",TABLAS!$A$168)","v":0},{"$f":"+GETPIVOTDATA(\" BAS054\",TABLAS!$A$168)","v":1},{"$f":"+GETPIVOTDATA(\" BAS055\",TABLAS!$A$168)","v":0},null,"(TD=D+DX=90675+LAB1=1+LAB2=SR)",null,null,null,"=+IMPORTARDATOSDINAMICOS(\" BAS051\";TABLAS!$A$106)","=+IMPORTARDATOSDINAMICOS(\" BAS052\";TABLAS!$A$106)","=+IMPORTARDATOSDINAMICOS(\" BAS053\";TABLAS!$A$106)","=+IMPORTARDATOSDINAMICOS(\" BAS054\";TABLAS!$A$106)","=+IMPORTARDATOSDINAMICOS(\" BAS055\";TABLAS!$A$106)",null,51,52,53,54,55]
[12,null,null,"SEGUIMIENTO: 2",3,{"$f":"+GETPIVOTDATA(\" BAS056\",TABLAS!$A$168)","v":0},{"$f":"+GETPIVOTDATA(\" BAS057\",TABLAS!$A$168)","v":0},{"$f":"+GETPIVOTDATA(\" BAS058\",TABLAS!$A$168)","v":0},{"$f":"+GETPIVOTDATA(\" BAS059\",TABLAS!$A$168)","v":1},{"$f":"+GETPIVOTDATA(\" BAS060\",TABLAS!$A$168)","v":2},null,"(TD=D+DX=90675+LAB1=2+LAB2=SR)",null,null,null,"=+IMPORTARDATOSDINAMICOS(\" BAS056\";TABLAS!$A$106)","=+IMPORTARDATOSDINAMICOS(\" BAS057\";TABLAS!$A$106)","=+IMPORTARDATOSDINAMICOS(\" BAS058\";TABLAS!$A$106)","=+IMPORTARDATOSDINAMICOS(\" BAS059\";TABLAS!$A$106)","=+IMPORTARDATOSDINAMICOS(\" BAS060\";TABLAS!$A$106)",null,56,57,58,59,60]
[13,null,null,"SEGUIMIENTO: 3",1,{"$f":"+GETPIVOTDATA(\" BAS061\",TABLAS!$A$168)","v":0},{"$f":"+GETPIVOTDATA(\" BAS062\",TABLAS!$A$168)","v":0},{"$f":"+GETPIVOTDATA(\" BAS063\",TABLAS!$A$168)","v":0},{"$f":"+GETPIVOTDATA(\" BAS064\",TABLAS!$A$168)","v":1},{"$f":"+GETPIVOTDATA(\" BAS065\",TABLAS!$A$168)","v":0},null,"(TD=D+DX=90675+LAB1=3+LAB2=SR)",null,null,null,"=+IMPORTARDATOSDINAMICOS(\" BAS061\";TABLAS!$A$106)","=+IMPORTARDATOSDINAMICOS(\" BAS062\";TABLAS!$A$106)","=+IMPORTARDATOSDINAMICOS(\" BAS063\";TABLAS!$A$106)","=+IMPORTARDATOSDINAMICOS(\" BAS064\";TABLAS!$A$106)","=+IMPORTARDATOSDINAMICOS(\" BAS065\";TABLAS!$A$106)",null,61,62,63,64,65]
[14,null,null,"SEGUIMIENTO: 4",0,{"$f":"+GETPIVOTDATA(\" BAS066\",TABLAS!$A$168)","v":0},{"$f":"+GETPIVOTDATA(\" BAS067\",TABLAS!$A$168)","v":0},{"$f":"+GETPIVOTDATA(\" BAS068\",TABLAS!$A$168)","v":0},{"$f":"+GETPIVOTDATA(\" BAS069\",TABLAS!$A$168)","v":0},{"$f":"+GETPIVOTDATA(\" BAS070\",TABLAS!$A$168)","v":0},null,"(TD=D+DX=90675+LAB1=4+LAB2=SR)",null,null,null,"=+IMPORTARDATOSDINAMICOS(\" BAS066\";TABLAS!$A$106)","=+IMPORTARDATOSDINAMICOS(\" BAS067\";TABLAS!$A$106)","=+IMPORTARDATOSDINAMICOS(\" BAS068\";TABLAS!$A$106)","=+IMPORTARDATOSDINAMICOS(\" BAS069\";TABLAS!$A$106)","=+IMPORTARDATOSDINAMICOS(\" BAS070\";TABLAS!$A$106)",null,66,67,68,69,70]
[15,null,null,"COBERTURA: 5",0,{"$f":"+GETPIVOTDATA(\" BAS071\",TABLAS!$A$168)","v":0},{"$f":"+GETPIVOTDATA(\" BAS072\",TABLAS!$A$168)","v":0},{"$f":"+GETPIVOTDATA(\" BAS073\",TABLAS!$A$168)","v":0},{"$f":"+GETPIVOTDATA(\" BAS074\",TABLAS!$A$168)","v":0},{"$f":"+GETPIVOTDATA(\" BAS075\",TABLAS!$A$168)","v":0},null,"(TD=D+DX=90675+LAB1=5+LAB2=SR)",null,null,null,"=+IMPORTARDATOSDINAMICOS(\" BAS071\";TABLAS!$A$106)","=+IMPORTARDATOSDINAMICOS(\" BAS072\";TABLAS!$A$106)","=+IMPORTARDATOSDINAMICOS(\" BAS073\";TABLAS!$A$106)","=+IMPORTARDATOSDINAMICOS(\" BAS074\";TABLAS!$A$106)","=+IMPORTARDATOSDINAMICOS(\" BAS075\";TABLAS!$A$106)",null,71,72,73,74,75]
[16,"4.2 Tratamiento en caso de mordedura por can o gato SIN SIGNOS O SÍNTOMAS DE RABIA en Cara, cabeza, cuello, genitales, pulpejo de dedos de manos y pies, lesiones desgarradas, profundas o múltiples",null,"ACCESO: 1",5,{"$f":"+GETPIVOTDATA(\" BAS076\",TABLAS!$A$168)","v":1},{"$f":"+GETPIVOTDATA(\" BAS077\",TABLAS!$A$168)","v":0},{"$f":"+GETPIVOTDATA(\" BAS078\",TABLAS!$A$168)","v":0},{"$f":"+GETPIVOTDATA(\" BAS079\",TABLAS!$A$168)","v":4},{"$f":"+GETPIVOTDATA(\" BAS080\",TABLAS!$A$168)","v":0},null,"(TD=D+DX=90675+LAB1=1+LAB2=POS)",null,null,null,"=+IMPORTARDATOSDINAMICOS(\" BAS076\";TABLAS!$A$106)","=+IMPORTARDATOSDINAMICOS(\" BAS077\";TABLAS!$A$106)","=+IMPORTARDATOSDINAMICOS(\" BAS078\";TABLAS!$A$106)","=+IMPORTARDATOSDINAMICOS(\" BAS079\";TABLAS!$A$106)","=+IMPORTARDATOSDINAMICOS(\" BAS080\";TABLAS!$A$106)",null,76,77,78,79,80]
[17,null,null,"SEGUIMIENTO: 2",4,{"$f":"+GETPIVOTDATA(\" BAS081\",TABLAS!$A$168)","v":1},{"$f":"+GETPIVOTDATA(\" BAS082\",TABLAS!$A$168)","v":0},{"$f":"+GETPIVOTDATA(\" BAS083\",TABLAS!$A$168)","v":0},{"$f":"+GETPIVOTDATA(\" BAS084\",TABLAS!$A$168)","v":3},{"$f":"+GETPIVOTDATA(\" BAS085\",TABLAS!$A$168)","v":0},null,"(TD=D+DX=90675+LAB1=2+LAB2=POS)",null,null,null,"=+IMPORTARDATOSDINAMICOS(\" BAS081\";TABLAS!$A$106)","=+IMPORTARDATOSDINAMICOS(\" BAS082\";TABLAS!$A$106)","=+IMPORTARDATOSDINAMICOS(\" BAS083\";TABLAS!$A$106)","=+IMPORTARDATOSDINAMICOS(\" BAS084\";TABLAS!$A$106)","=+IMPORTARDATOSDINAMICOS(\" BAS085\";TABLAS!$A$106)",null,81,82,83,84,85]
[18,null,null,"SEGUIMIENTO: 3",1,{"$f":"+GETPIVOTDATA(\" BAS086\",TABLAS!$A$168)","v":0},{"$f":"+GETPIVOTDATA(\" BAS087\",TABLAS!$A$168)","v":0},{"$f":"+GETPIVOTDATA(\" BAS088\",TABLAS!$A$168)","v":0},{"$f":"+GETPIVOTDATA(\" BAS089\",TABLAS!$A$168)","v":1},{"$f":"+GETPIVOTDATA(\" BAS090\",TABLAS!$A$168)","v":0},null,"(TD=D+DX=90675+LAB1=3+LAB2=POS)",null,null,null,"=+IMPORTARDATOSDINAMICOS(\" BAS086\";TABLAS!$A$106)","=+IMPORTARDATOSDINAMICOS(\" BAS087\";TABLAS!$A$106)","=+IMPORTARDATOSDINAMICOS(\" BAS088\";TABLAS!$A$106)","=+IMPORTARDATOSDINAMICOS(\" BAS089\";TABLAS!$A$106)","=+IMPORTARDATOSDINAMICOS(\" BAS090\";TABLAS!$A$106)",null,86,87,88,89,90]
[19,null,null,"SEGUIMIENTO: 4",1,{"$f":"+GETPIVOTDATA(\" BAS091\",TABLAS!$A$168)","v":0},{"$f":"+GETPIVOTDATA(\" BAS092\",TABLAS!$A$168)","v":0},{"$f":"+GETPIVOTDATA(\" BAS093\",TABLAS!$A$168)","v":0},{"$f":"+GETPIVOTDATA(\" BAS094\",TABLAS!$A$168)","v":1},{"$f":"+GETPIVOTDATA(\" BAS095\",TABLAS!$A$168)","v":0},null,"(TD=D+DX=90675+LAB1=4+LAB2=POS)",null,null,null,"=+IMPORTARDATOSDINAMICOS(\" BAS091\";TABLAS!$A$106)","=+IMPORTARDATOSDINAMICOS(\" BAS092\";TABLAS!$A$106)","=+IMPORTARDATOSDINAMICOS(\" BAS093\";TABLAS!$A$106)","=+IMPORTARDATOSDINAMICOS(\" BAS094\";TABLAS!$A$106)","=+IMPORTARDATOSDINAMICOS(\" BAS095\";TABLAS!$A$106)",null,91,92,93,94,95]
[20,null,null,"COBERTURA: 5",0,{"$f":"+GETPIVOTDATA(\" BAS096\",TABLAS!$A$168)","v":0},{"$f":"+GETPIVOTDATA(\" BAS097\",TABLAS!$A$168)","v":0},{"$f":"+GETPIVOTDATA(\" BAS098\",TABLAS!$A$168)","v":0},{"$f":"+GETPIVOTDATA(\" BAS099\",TABLAS!$A$168)","v":0},{"$f":"+GETPIVOTDATA(\" BAS100\",TABLAS!$A$168)","v":0},null,"(TD=D+DX=90675+LAB1=5+LAB2=POS)",null,null,null,"=+IMPORTARDATOSDINAMICOS(\" BAS096\";TABLAS!$A$106)","=+IMPORTARDATOSDINAMICOS(\" BAS097\";TABLAS!$A$106)","=+IMPORTARDATOSDINAMICOS(\" BAS098\";TABLAS!$A$106)","=+IMPORTARDATOSDINAMICOS(\" BAS099\";TABLAS!$A$106)","=+IMPORTARDATOSDINAMICOS(\" BAS100\";TABLAS!$A$106)",null,96,97,98,99,100]
[21,"4.7 Tratamiento en caso de Contacto o Animal confirmado de rabia",null,"ACCESO: 1",0,{"$f":"+GETPIVOTDATA(\" BAS101\",TABLAS!$A$168)","v":0},{"$f":"+GETPIVOTDATA(\" BAS102\",TABLAS!$A$168)","v":0},{"$f":"+GETPIVOTDATA(\" BAS103\",TABLAS!$A$168)","v":0},{"$f":"+GETPIVOTDATA(\" BAS104\",TABLAS!$A$168)","v":0},{"$f":"+GETPIVOTDATA(\" BAS105\",TABLAS!$A$168)","v":0},null,"(TD=D+DX=90675+LAB1=1+LAB2=CE)",null,null,null,"=+IMPORTARDATOSDINAMICOS(\" BAS101\";TABLAS!$A$106)","=+IMPORTARDATOSDINAMICOS(\" BAS102\";TABLAS!$A$106)","=+IMPORTARDATOSDINAMICOS(\" BAS103\";TABLAS!$A$106)","=+IMPORTARDATOSDINAMICOS(\" BAS104\";TABLAS!$A$106)","=+IMPORTARDATOSDINAMICOS(\" BAS105\";TABLAS!$A$106)",null,101,102,103,104,105]
[22,null,null,"SEGUIMIENTO: 2",0,{"$f":"+GETPIVOTDATA(\" BAS106\",TABLAS!$A$168)","v":0},{"$f":"+GETPIVOTDATA(\" BAS107\",TABLAS!$A$168)","v":0},{"$f":"+GETPIVOTDATA(\" BAS108\",TABLAS!$A$168)","v":0},{"$f":"+GETPIVOTDATA(\" BAS109\",TABLAS!$A$168)","v":0},{"$f":"+GETPIVOTDATA(\" BAS110\",TABLAS!$A$168)","v":0},null,"(TD=D+DX=90675+LAB1=2+LAB2=CE)",null,null,null,"=+IMPORTARDATOSDINAMICOS(\" BAS106\";TABLAS!$A$106)","=+IMPORTARDATOSDINAMICOS(\" BAS107\";TABLAS!$A$106)","=+IMPORTARDATOSDINAMICOS(\" BAS108\";TABLAS!$A$106)","=+IMPORTARDATOSDINAMICOS(\" BAS109\";TABLAS!$A$106)","=+IMPORTARDATOSDINAMICOS(\" BAS110\";TABLAS!$A$106)",null,106,107,108,109,110]
[23,null,null,"SEGUIMIENTO: 3",0,{"$f":"+GETPIVOTDATA(\" BAS111\",TABLAS!$A$168)","v":0},{"$f":"+GETPIVOTDATA(\" BAS112\",TABLAS!$A$168)","v":0},{"$f":"+GETPIVOTDATA(\" BAS113\",TABLAS!$A$168)","v":0},{"$f":"+GETPIVOTDATA(\" BAS114\",TABLAS!$A$168)","v":0},{"$f":"+GETPIVOTDATA(\" BAS115\",TABLAS!$A$168)","v":0},null,"(TD=D+DX=90675+LAB1=3+LAB2=CE)",null,null,null,"=+IMPORTARDATOSDINAMICOS(\" BAS111\";TABLAS!$A$106)","=+IMPORTARDATOSDINAMICOS(\" BAS112\";TABLAS!$A$106)","=+IMPORTARDATOSDINAMICOS(\" BAS113\";TABLAS!$A$106)","=+IMPORTARDATOSDINAMICOS(\" BAS114\";TABLAS!$A$106)","=+IMPORTARDATOSDINAMICOS(\" BAS115\";TABLAS!$A$106)",null,111,112,113,114,115]
[24,null,null,"SEGUIMIENTO: 4",0,{"$f":"+GETPIVOTDATA(\" BAS116\",TABLAS!$A$168)","v":0},{"$f":"+GETPIVOTDATA(\" BAS117\",TABLAS!$A$168)","v":0},{"$f":"+GETPIVOTDATA(\" BAS118\",TABLAS!$A$168)","v":0},{"$f":"+GETPIVOTDATA(\" BAS119\",TABLAS!$A$168)","v":0},{"$f":"+GETPIVOTDATA(\" BAS120\",TABLAS!$A$168)","v":0},null,"(TD=D+DX=90675+LAB1=4+LAB2=CE)",null,null,null,"=+IMPORTARDATOSDINAMICOS(\" BAS116\";TABLAS!$A$106)","=+IMPORTARDATOSDINAMICOS(\" BAS117\";TABLAS!$A$106)","=+IMPORTARDATOSDINAMICOS(\" BAS118\";TABLAS!$A$106)","=+IMPORTARDATOSDINAMICOS(\" BAS119\";TABLAS!$A$106)","=+IMPORTARDATOSDINAMICOS(\" BAS120\";TABLAS!$A$106)",null,116,117,118,119,120]
[25,null,null,"COBERTURA: 5",0,{"$f":"+GETPIVOTDATA(\" BAS121\",TABLAS!$A$168)","v":0},{"$f":"+GETPIVOTDATA(\" BAS122\",TABLAS!$A$168)","v":0},{"$f":"+GETPIVOTDATA(\" BAS123\",TABLAS!$A$168)","v":0},{"$f":"+GETPIVOTDATA(\" BAS124\",TABLAS!$A$168)","v":0},{"$f":"+GETPIVOTDATA(\" BAS125\",TABLAS!$A$168)","v":0},null,"(TD=D+DX=90675+LAB1=5+LAB2=CE)",null,null,null,"=+IMPORTARDATOSDINAMICOS(\" BAS121\";TABLAS!$A$106)","=+IMPORTARDATOSDINAMICOS(\" BAS122\";TABLAS!$A$106)","=+IMPORTARDATOSDINAMICOS(\" BAS123\";TABLAS!$A$106)","=+IMPORTARDATOSDINAMICOS(\" BAS124\";TABLAS!$A$106)","=+IMPORTARDATOSDINAMICOS(\" BAS125\";TABLAS!$A$106)",null,121,122,123,124,125]
[26,"4.8 Tratamiento en caso de Re-exposición",null,"ACCESO: 1",0,{"$f":"+GETPIVOTDATA(\" BAS126\",TABLAS!$A$168)","v":0},{"$f":"+GETPIVOTDATA(\" BAS127\",TABLAS!$A$168)","v":0},{"$f":"+GETPIVOTDATA(\" BAS128\",TABLAS!$A$168)","v":0},{"$f":"+GETPIVOTDATA(\" BAS129\",TABLAS!$A$168)","v":0},{"$f":"+GETPIVOTDATA(\" BAS130\",TABLAS!$A$168)","v":0},null,"(TD=D+DX=90675+LAB1=1+LAB2=DA)",null,null,null,"=+IMPORTARDATOSDINAMICOS(\" BAS126\";TABLAS!$A$106)","=+IMPORTARDATOSDINAMICOS(\" BAS127\";TABLAS!$A$106)","=+IMPORTARDATOSDINAMICOS(\" BAS128\";TABLAS!$A$106)","=+IMPORTARDATOSDINAMICOS(\" BAS129\";TABLAS!$A$106)","=+IMPORTARDATOSDINAMICOS(\" BAS130\";TABLAS!$A$106)",null,126,127,128,129,130]
[27,null,null,"COBERTURA: 2",0,{"$f":"+GETPIVOTDATA(\" BAS131\",TABLAS!$A$168)","v":0},{"$f":"+GETPIVOTDATA(\" BAS132\",TABLAS!$A$168)","v":0},{"$f":"+GETPIVOTDATA(\" BAS133\",TABLAS!$A$168)","v":0},{"$f":"+GETPIVOTDATA(\" BAS134\",TABLAS!$A$168)","v":0},{"$f":"+GETPIVOTDATA(\" BAS135\",TABLAS!$A$168)","v":0},null,"(TD=D+DX=90675+LAB1=2+LAB2=DA)",null,null,null,"=+IMPORTARDATOSDINAMICOS(\" BAS131\";TABLAS!$A$106)","=+IMPORTARDATOSDINAMICOS(\" BAS132\";TABLAS!$A$106)","=+IMPORTARDATOSDINAMICOS(\" BAS133\";TABLAS!$A$106)","=+IMPORTARDATOSDINAMICOS(\" BAS134\";TABLAS!$A$106)","=+IMPORTARDATOSDINAMICOS(\" BAS135\";TABLAS!$A$106)",null,131,132,133,134,135]
[]
[]
[null,"5. Suspensión de la Vacunación Antirrábica Humana en Profilaxis Post-Exposición.",null,"Situación Vacunal","Total Personas","0-11a","12-17a","18-29a","30-59a","60 y más"]
[null,null,null,"SUS temporal",{"$f":"SUM(F51:J51)","v":0},{"$f":"+GETPIVOTDATA(\" BAS136\",TABLAS!$A$168)","v":0},{"$f":"+GETPIVOTDATA(\" BAS137\",TABLAS!$A$168)","v":0},{"$f":"+GETPIVOTDATA(\" BAS138\",TABLAS!$A$168)","v":0},{"$f":"+GETPIVOTDATA(\" BAS139\",TABLAS!$A$168)","v":0},{"$f":"+GETPIVOTDATA(\" BAS140\",TABLAS!$A$168)","v":0},null,null,"(TD=D+DX=90675+LAB1=2 + LAB2=SUS + LAB3=blanco)",null,null,{"$f":"IF(V51<10,CONCATENATE($AB$21,\"00\",V51,$AB$22),IF(AND(V51>9,V51<100),CONCATENATE($AB$21,\"0\",V51,$AB$22),CONCATENATE($AB$21,V51,$AB$22)))","v":"=+IMPORTARDATOSDINAMICOS(\" BAS136\";TABLAS!$A$106)"},"=+IMPORTARDATOSDINAMICOS(\" BAS137\";TABLAS!$A$106)","=+IMPORTARDATOSDINAMICOS(\" BAS138\";TABLAS!$A$106)","=+IMPORTARDATOSDINAMICOS(\" BAS139\";TABLAS!$A$106)","=+IMPORTARDATOSDINAMICOS(\" BAS140\";TABLAS!$A$106)",null,{"$f":"+Z47+1","v":136},{"$f":"+V51+1","v":137},138,139,140]
[null,null,null,"SUS Definitiva",{"$f":"SUM(F52:J52)","v":0},{"$f":"+GETPIVOTDATA(\" BAS141\",TABLAS!$A$168)","v":0},{"$f":"+GETPIVOTDATA(\" BAS142\",TABLAS!$A$168)","v":0},{"$f":"+GETPIVOTDATA(\" BAS143\",TABLAS!$A$168)","v":0},{"$f":"+GETPIVOTDATA(\" BAS144\",TABLAS!$A$168)","v":0},{"$f":"+GETPIVOTDATA(\" BAS145\",TABLAS!$A$168)","v":0},null,null,"(TD=D+DX=90675+ LAB2=SUS + LAB3=TA)",null,null,"=+IMPORTARDATOSDINAMICOS(\" BAS141\";TABLAS!$A$106)","=+IMPORTARDATOSDINAMICOS(\" BAS142\";TABLAS!$A$106)","=+IMPORTARDATOSDINAMICOS(\" BAS143\";TABLAS!$A$106)","=+IMPORTARDATOSDINAMICOS(\" BAS144\";TABLAS!$A$106)","=+IMPORTARDATOSDINAMICOS(\" BAS145\";TABLAS!$A$106)",null,{"$f":"+Z51+1","v":141},142,143,144,145]
[]
[]
[]
[null,"RABIA SILVESTRE"]
[]
[null,"4. Profilaxis Post-Exposición en Rabia Silvestre: Vacunación Antirrábica Humana","Situación Vacunal","Frascos RIG","Total Personas","0-11a","12-17a","18-29a","30-59a","60 y más"]
[1," 4.1 Tratamiento en caso de animal mordedor SILVESTRE EXCEPTO en Cara, cabeza, cuello, genitales, pulpejo de dedos de manos y pies, lesiones desgarradas, profundas o múltiples; y 4.2 Tratamiento en caso de animal mordedor SILVESTRE en Cara, cabeza, cuello, genitales, pulpejo de dedos de manos y pies, lesiones desgarradas, profundas o múltiples.","ACCESO: 1",{"$f":"+GETPIVOTDATA(\" BAS151\",TABLAS!$A$168)","v":0},{"$f":"F59+G59+H59+I59+J59","v":0},{"$f":"+GETPIVOTDATA(\" BAS152\",TABLAS!$A$168)","v":0},{"$f":"+GETPIVOTDATA(\" BAS153\",TABLAS!$A$168)","v":0},{"$f":"+GETPIVOTDATA(\" BAS154\",TABLAS!$A$168)","v":0},{"$f":"+GETPIVOTDATA(\" BAS155\",TABLAS!$A$168)","v":0},{"$f":"+GETPIVOTDATA(\" BAS156\",TABLAS!$A$168)","v":0},null,{"$f":"IF(S59<10,CONCATENATE($Z$20,\"00\",S59,$Z$21),IF(AND(R59>9,S59<100),CONCATENATE($Z$20,\"0\",S59,$Z$21),CONCATENATE($Z$20,S59,$Z$21)))","v":"0015"},null,{"$f":"IF(T59<10,CONCATENATE($Z$20,\"00\",T59,$Z$21),IF(AND(T59>9,T59<100),CONCATENATE($Z$20,\"0\",T59,$Z$21),CONCATENATE($Z$20,T59,$Z$21)))","v":"0025"},{"$f":"IF(U59<10,CONCATENATE($Z$20,\"00\",U59,$Z$21),IF(AND(U59>9,U59<100),CONCATENATE($Z$20,\"0\",U59,$Z$21),CONCATENATE($Z$20,U59,$Z$21)))","v":"0035"},"0045","0055","0065",{"$f":"+X11+1","v":1},{"$f":"+S59+1","v":2},{"$f":"+T59+1","v":3},4,5,6,null,"SUMA LAB (TD=D + DX=90675 + LAB1=1 + LAB2=POS + LAB3=ZOO) + (TD=D + DX=90375 + LAB)","TD=D + DX=90675 + LAB1=1 + LAB2=POS + LAB3=ZOO"]
[null,null,"SEGUIMIENTO: 2",{"$f":"+GETPIVOTDATA(\" BAS157\",TABLAS!$A$168)","v":0},0,{"$f":"+GETPIVOTDATA(\" BAS158\",TABLAS!$A$168)","v":0},{"$f":"+GETPIVOTDATA(\" BAS159\",TABLAS!$A$168)","v":0},{"$f":"+GETPIVOTDATA(\" BAS160\",TABLAS!$A$168)","v":0},{"$f":"+GETPIVOTDATA(\" BAS161\",TABLAS!$A$168)","v":0},{"$f":"+GETPIVOTDATA(\" BAS162\",TABLAS!$A$168)","v":0},null,{"$f":"IF(S60<10,CONCATENATE($Z$20,\"00\",S60,$Z$21),IF(AND(R60>9,S60<100),CONCATENATE($Z$20,\"0\",S60,$Z$21),CONCATENATE($Z$20,S60,$Z$21)))","v":"0075"},null,{"$f":"IF(T60<10,CONCATENATE($Z$20,\"00\",T60,$Z$21),IF(AND(T60>9,T60<100),CONCATENATE($Z$20,\"0\",T60,$Z$21),CONCATENATE($Z$20,T60,$Z$21)))","v":"0085"},"0095","0105","0115","0125",{"$f":"+X59+1","v":7},{"$f":"+S60+1","v":8},9,10,11,12,null,"SUMA LAB (TD=D + DX=90675 + LAB1=2 + LAB2=POS + LAB3=ZOO) + (TD=D + DX=90375 + LAB)","TD=D + DX=90675 + LAB1=2 + LAB2=POS + LAB3=ZOO"]
[null,null,"SEGUIMIENTO: 3",{"$f":"+GETPIVOTDATA(\" BAS163\",TABLAS!$A$168)","v":0},0,{"$f":"+GETPIVOTDATA(\" BAS164\",TABLAS!$A$168)","v":0},{"$f":"+GETPIVOTDATA(\" BAS165\",TABLAS!$A$168)","v":0},{"$f":"+GETPIVOTDATA(\" BAS166\",TABLAS!$A$168)","v":0},{"$f":"+GETPIVOTDATA(\" BAS167\",TABLAS!$A$168)","v":0},{"$f":"+GETPIVOTDATA(\" BAS168\",TABLAS!$A$168)","v":0},null,"0135",null,{"$f":"IF(T61<10,CONCATENATE($Z$20,\"00\",T61,$Z$21),IF(AND(T61>9,T61<100),CONCATENATE($Z$20,\"0\",T61,$Z$21),CONCATENATE($Z$20,T61,$Z$21)))","v":"0145"},"0155","0165","0175","0185",{"$f":"+X60+1","v":13},{"$f":"+S61+1","v":14},15,16,17,18,null,"SUMA LAB (TD=D + DX=90675 + LAB1=3 + LAB2=POS + LAB3=ZOO) + (TD=D + DX=90375 + LAB)","TD=D + DX=90675 + LAB1=3 + LAB2=POS + LAB3=ZOO"]
[null,null,"SEGUIMIENTO: 4",{"$f":"+GETPIVOTDATA(\" BAS169\",TABLAS!$A$168)","v":0},0,{"$f":"+GETPIVOTDATA(\" BAS170\",TABLAS!$A$168)","v":0},{"$f":"+GETPIVOTDATA(\" BAS171\",TABLAS!$A$168)","v":0},{"$f":"+GETPIVOTDATA(\" BAS172\",TABLAS!$A$168)","v":0},{"$f":"+GETPIVOTDATA(\" BAS173\",TABLAS!$A$168)","v":0},{"$f":"+GETPIVOTDATA(\" BAS174\",TABLAS!$A$168)","v":0},null,"0195",null,{"$f":"IF(T62<10,CONCATENATE($Z$20,\"00\",T62,$Z$21),IF(AND(T62>9,T62<100),CONCATENATE($Z$20,\"0\",T62,$Z$21),CONCATENATE($Z$20,T62,$Z$21)))","v":"0205"},"0215","0225","0235","0245",19,20,21,22,23,24,null,"SUMA LAB (TD=D + DX=90675 + LAB1=4 + LAB2=POS + LAB3=ZOO) + (TD=D + DX=90375 + LAB)","TD=D + DX=90675 + LAB1=4 + LAB2=POS + LAB3=ZOO"]
[null,null,"COBERTURA: 5",{"$f":"+GETPIVOTDATA(\" BAS175\",TABLAS!$A$168)","v":0},0,{"$f":"+GETPIVOTDATA(\" BAS176\",TABLAS!$A$168)","v":0},{"$f":"+GETPIVOTDATA(\" BAS177\",TABLAS!$A$168)","v":0},{"$f":"+GETPIVOTDATA(\" BAS178\",TABLAS!$A$168)","v":0},{"$f":"+GETPIVOTDATA(\" BAS179\",TABLAS!$A$168)","v":0},{"$f":"+GETPIVOTDATA(\" BAS180\",TABLAS!$A$168)","v":0},null,"0255",null,{"$f":"IF(T63<10,CONCATENATE($Z$20,\"00\",T63,$Z$21),IF(AND(T63>9,T63<100),CONCATENATE($Z$20,\"0\",T63,$Z$21),CONCATENATE($Z$20,T63,$Z$21)))","v":"0265"},"0275","0285","0295","0305",25,26,27,28,29,30,null,"SUMA LAB (TD=D + DX=90675 + LAB1=5 + LAB2=POS + LAB3=ZOO) + (TD=D + DX=90375 + LAB)","TD=D + DX=90675 + LAB1=5 + LAB2=POS + LAB3=ZOO"]
[2,"4.3 Tratamiento en caso de Contacto o Animal confirmado de rabia","ACCESO: 1",{"$f":"+GETPIVOTDATA(\" BAS181\",TABLAS!$A$168)","v":0},0,{"$f":"+GETPIVOTDATA(\" BAS182\",TABLAS!$A$168)","v":0},{"$f":"+GETPIVOTDATA(\" BAS183\",TABLAS!$A$168)","v":0},{"$f":"+GETPIVOTDATA(\" BAS184\",TABLAS!$A$168)","v":0},{"$f":"+GETPIVOTDATA(\" BAS185\",TABLAS!$A$168)","v":0},{"$f":"+GETPIVOTDATA(\" BAS186\",TABLAS!$A$168)","v":0},null,"0315",null,{"$f":"IF(T64<10,CONCATENATE($Z$20,\"00\",T64,$Z$21),IF(AND(T64>9,T64<100),CONCATENATE($Z$20,\"0\",T64,$Z$21),CONCATENATE($Z$20,T64,$Z$21)))","v":"0325"},"0335","0345","0355","0365",31,32,33,34,35,36,null,"SUMA LAB (TD=D + DX=90675 + LAB1=1 + LAB2=CE + LAB3=ZOO) + (TD=D + DX=90375 + LAB)","TD=D + DX=90675 + LAB1=1 + LAB2=CE + LAB3=ZOO"]
[null,null,"SEGUIMIENTO: 2",{"$f":"+GETPIVOTDATA(\" BAS187\",TABLAS!$A$168)","v":0},0,{"$f":"+GETPIVOTDATA(\" BAS188\",TABLAS!$A$168)","v":0},{"$f":"+GETPIVOTDATA(\" BAS189\",TABLAS!$A$168)","v":0},{"$f":"+GETPIVOTDATA(\" BAS190\",TABLAS!$A$168)","v":0},{"$f":"+GETPIVOTDATA(\" BAS191\",TABLAS!$A$168)","v":0},{"$f":"+GETPIVOTDATA(\" BAS192\",TABLAS!$A$168)","v":0},null,"0375",null,"0385","0395","0405","0415","0425",37,38,39,40,41,42,null,"SUMA LAB (TD=D + DX=90675 + LAB1=2 + LAB2=CE + LAB3=ZOO) + (TD=D + DX=90375 + LAB)","TD=D + DX=90675 + LAB1=2 + LAB2=CE + LAB3=ZOO"]
[null,null,"SEGUIMIENTO: 3",{"$f":"+GETPIVOTDATA(\" BAS193\",TABLAS!$A$168)","v":0},0,{"$f":"+GETPIVOTDATA(\" BAS194\",TABLAS!$A$168)","v":0},{"$f":"+GETPIVOTDATA(\" BAS195\",TABLAS!$A$168)","v":0},{"$f":"+GETPIVOTDATA(\" BAS196\",TABLAS!$A$168)","v":0},{"$f":"+GETPIVOTDATA(\" BAS197\",TABLAS!$A$168)","v":0},{"$f":"+GETPIVOTDATA(\" BAS198\",TABLAS!$A$168)","v":0},null,"0435",null,"0445","0455","0465","0475","0485",43,44,45,46,47,48,null,"SUMA LAB (TD=D + DX=90675 + LAB1=3 + LAB2=CE + LAB3=ZOO) + (TD=D + DX=90375 + LAB)","TD=D + DX=90675 + LAB1=3 + LAB2=CE + LAB3=ZOO"]
[null,null,"SEGUIMIENTO: 4",{"$f":"+GETPIVOTDATA(\" BAS199\",TABLAS!$A$168)","v":0},0,{"$f":"+GETPIVOTDATA(\" BAS200\",TABLAS!$A$168)","v":0},{"$f":"+GETPIVOTDATA(\" BAS201\",TABLAS!$A$168)","v":0},{"$f":"+GETPIVOTDATA(\" BAS202\",TABLAS!$A$168)","v":0},{"$f":"+GETPIVOTDATA(\" BAS203\",TABLAS!$A$168)","v":0},{"$f":"+GETPIVOTDATA(\" BAS204\",TABLAS!$A$168)","v":0},null,"0495",null,"0505","0515","0525","0535","0545",49,50,51,52,53,54,null,"SUMA LAB (TD=D + DX=90675 + LAB1=4 + LAB2=CE + LAB3=ZOO) + (TD=D + DX=90375 + LAB)","TD=D + DX=90675 + LAB1=4 + LAB2=CE + LAB3=ZOO"]
[null,null,"COBERTURA: 5",{"$f":"+GETPIVOTDATA(\" BAS205\",TABLAS!$A$168)","v":0},0,{"$f":"+GETPIVOTDATA(\" BAS206\",TABLAS!$A$168)","v":0},{"$f":"+GETPIVOTDATA(\" BAS207\",TABLAS!$A$168)","v":0},{"$f":"+GETPIVOTDATA(\" BAS208\",TABLAS!$A$168)","v":0},{"$f":"+GETPIVOTDATA(\" BAS209\",TABLAS!$A$168)","v":0},{"$f":"+GETPIVOTDATA(\" BAS210\",TABLAS!$A$168)","v":0},null,"0555",null,"0565","0575","0585","0595","0605",55,56,57,58,59,60,null,"SUMA LAB (TD=D + DX=90675 + LAB1=5 + LAB2=CE + LAB3=ZOO) + (TD=D + DX=90375 + LAB)","TD=D + DX=90675 + LAB1=5 + LAB2=CE + LAB3=ZOO"]
[3,"4.4 Tratamiento en caso de Re-exposición","ACCESO: 1",null,0,{"$f":"+GETPIVOTDATA(\" BAS211\",TABLAS!$A$168)","v":0},{"$f":"+GETPIVOTDATA(\" BAS212\",TABLAS!$A$168)","v":0},{"$f":"+GETPIVOTDATA(\" BAS213\",TABLAS!$A$168)","v":0},{"$f":"+GETPIVOTDATA(\" BAS214\",TABLAS!$A$168)","v":0},{"$f":"+GETPIVOTDATA(\" BAS215\",TABLAS!$A$168)","v":0},null,null,null,"0615","0625","0635","0645","0655",null,{"$f":"+X68+1","v":61},62,63,64,65,null,null,"TD=D + DX=90675 + LAB1=1 + LAB2=DA + LAB3=ZOO"]
[null,null,"COBERTURA: 2",null,0,{"$f":"+GETPIVOTDATA(\" BAS216\",TABLAS!$A$168)","v":0},{"$f":"+GETPIVOTDATA(\" BAS217\",TABLAS!$A$168)","v":0},{"$f":"+GETPIVOTDATA(\" BAS218\",TABLAS!$A$168)","v":0},{"$f":"+GETPIVOTDATA(\" BAS219\",TABLAS!$A$168)","v":0},{"$f":"+GETPIVOTDATA(\" BAS220\",TABLAS!$A$168)","v":0},null,null,null,"0665","0675","0685","0695","0705",null,66,67,68,69,70,null,null,"TD=D + DX=90675 + LAB1=2 + LAB2=DA + LAB3=ZOO"]
[]
[]
[]
[]
[]
[]
[]
[]
[]
[]
[]
[]
[]
[]
[]
[]
[]
[]
[]
[]
[]
[]
[]
[]
[]
[]
[]
[]
[]
[]
[]
[]
[]
[]
[]
[]
[]
[]
[]
[]
[]
[]
[]
[]
[]
[]
[]
[]
[]
[]
[]
[]
[]
[]
[]
[]
[]
[]
[]
[]
[]
[]
[]
[]
[]
[]
[]
[]
[]
[]
[]
[]
[]
[]
[]
[]
[]
[]
[]
[]
[]
[]
[]
[]
[]
[]
[]
[]
[]
[]
[]
[]
[]
[]
[]
[null,"6. Referencias y Contrarreferencias para el tratamiento antirrábico",null,"Situación Vacunal","Total Personas","0-11a","12-17a","18-29a","30-59a","60 y más"]
[null,"DVR Transferencia realizada",null,"ACCESO: 1",{"$f":"SUM(F167:J167)","v":0},{"$f":"+GETPIVOTDATA(\" BAS146\",TABLAS!$A$106)","v":0},{"$f":"+GETPIVOTDATA(\" BAS147\",TABLAS!$A$106)","v":0},{"$f":"+GETPIVOTDATA(\" BAS148\",TABLAS!$A$106)","v":0},{"$f":"+GETPIVOTDATA(\" BAS149\",TABLAS!$A$106)","v":0},{"$f":"+GETPIVOTDATA(\" BAS150\",TABLAS!$A$106)","v":0},null,null,"(TD=D+DX=90675+LAB1=1+LAB2=DVR)",null,null,{"$f":"IF(V167<10,CONCATENATE($AB$21,\"00\",V167,$AB$22),IF(AND(V167>9,V167<100),CONCATENATE($AB$21,\"0\",V167,$AB$22),CONCATENATE($AB$21,V167,$AB$22)))","v":"=+IMPORTARDATOSDINAMICOS(\" BAS146\";TABLAS!$A$106)"},"=+IMPORTARDATOSDINAMICOS(\" BAS147\";TABLAS!$A$106)","=+IMPORTARDATOSDINAMICOS(\" BAS148\";TABLAS!$A$106)","=+IMPORTARDATOSDINAMICOS(\" BAS149\";TABLAS!$A$106)","=+IMPORTARDATOSDINAMICOS(\" BAS150\";TABLAS!$A$106)",null,{"$f":"+Z52+1","v":146},{"$f":"+V167+1","v":147},148,149,150]
[null,null,null,"SEGUIMIENTO: 2",0,{"$f":"+GETPIVOTDATA(\" BAS151\",TABLAS!$A$106)","v":0},{"$f":"+GETPIVOTDATA(\" BAS152\",TABLAS!$A$106)","v":0},{"$f":"+GETPIVOTDATA(\" BAS153\",TABLAS!$A$106)","v":0},{"$f":"+GETPIVOTDATA(\" BAS154\",TABLAS!$A$106)","v":0},{"$f":"+GETPIVOTDATA(\" BAS155\",TABLAS!$A$106)","v":0},null,null,"(TD=D+DX=90675+LAB1=2+LAB2=DVR)",null,null,"=+IMPORTARDATOSDINAMICOS(\" BAS151\";TABLAS!$A$106)","=+IMPORTARDATOSDINAMICOS(\" BAS152\";TABLAS!$A$106)","=+IMPORTARDATOSDINAMICOS(\" BAS153\";TABLAS!$A$106)","=+IMPORTARDATOSDINAMICOS(\" BAS154\";TABLAS!$A$106)","=+IMPORTARDATOSDINAMICOS(\" BAS155\";TABLAS!$A$106)",null,{"$f":"+Z167+1","v":151},152,153,154,155]
[null,null,null,"SEGUIMIENTO: 3",0,{"$f":"+GETPIVOTDATA(\" BAS156\",TABLAS!$A$106)","v":0},{"$f":"+GETPIVOTDATA(\" BAS157\",TABLAS!$A$106)","v":0},{"$f":"+GETPIVOTDATA(\" BAS158\",TABLAS!$A$106)","v":0},{"$f":"+GETPIVOTDATA(\" BAS159\",TABLAS!$A$106)","v":0},{"$f":"+GETPIVOTDATA(\" BAS160\",TABLAS!$A$106)","v":0},null,null,"(TD=D+DX=90675+LAB1=3+LAB2=DVR)",null,null,"=+IMPORTARDATOSDINAMICOS(\" BAS156\";TABLAS!$A$106)","=+IMPORTARDATOSDINAMICOS(\" BAS157\";TABLAS!$A$106)","=+IMPORTARDATOSDINAMICOS(\" BAS158\";TABLAS!$A$106)","=+IMPORTARDATOSDINAMICOS(\" BAS159\";TABLAS!$A$106)","=+IMPORTARDATOSDINAMICOS(\" BAS160\";TABLAS!$A$106)",null,156,157,158,159,160]
[null,null,null,"SEGUIMIENTO: 4",0,{"$f":"+GETPIVOTDATA(\" BAS161\",TABLAS!$A$106)","v":0},{"$f":"+GETPIVOTDATA(\" BAS162\",TABLAS!$A$106)","v":0},{"$f":"+GETPIVOTDATA(\" BAS163\",TABLAS!$A$106)","v":0},{"$f":"+GETPIVOTDATA(\" BAS164\",TABLAS!$A$106)","v":0},{"$f":"+GETPIVOTDATA(\" BAS165\",TABLAS!$A$106)","v":0},null,null,"(TD=D+DX=90675+LAB1=4+LAB2=DVR)",null,null,"=+IMPORTARDATOSDINAMICOS(\" BAS161\";TABLAS!$A$106)","=+IMPORTARDATOSDINAMICOS(\" BAS162\";TABLAS!$A$106)","=+IMPORTARDATOSDINAMICOS(\" BAS163\";TABLAS!$A$106)","=+IMPORTARDATOSDINAMICOS(\" BAS164\";TABLAS!$A$106)","=+IMPORTARDATOSDINAMICOS(\" BAS165\";TABLAS!$A$106)",null,161,162,163,164,165]
[null,null,null,"COBERTURA: 5",0,{"$f":"+GETPIVOTDATA(\" BAS166\",TABLAS!$A$106)","v":0},{"$f":"+GETPIVOTDATA(\" BAS167\",TABLAS!$A$106)","v":0},{"$f":"+GETPIVOTDATA(\" BAS168\",TABLAS!$A$106)","v":0},{"$f":"+GETPIVOTDATA(\" BAS169\",TABLAS!$A$106)","v":0},{"$f":"+GETPIVOTDATA(\" BAS170\",TABLAS!$A$106)","v":0},null,null,"(TD=D+DX=90675+LAB1=5+LAB2=DVR)",null,null,"=+IMPORTARDATOSDINAMICOS(\" BAS166\";TABLAS!$A$106)","=+IMPORTARDATOSDINAMICOS(\" BAS167\";TABLAS!$A$106)","=+IMPORTARDATOSDINAMICOS(\" BAS168\";TABLAS!$A$106)","=+IMPORTARDATOSDINAMICOS(\" BAS169\";TABLAS!$A$106)","=+IMPORTARDATOSDINAMICOS(\" BAS170\";TABLAS!$A$106)",null,166,167,168,169,170]
[null,"DVC Transferencia controlada",null,"ACCESO: 1",0,{"$f":"+GETPIVOTDATA(\" BAS171\",TABLAS!$A$106)","v":0},{"$f":"+GETPIVOTDATA(\" BAS172\",TABLAS!$A$106)","v":0},{"$f":"+GETPIVOTDATA(\" BAS173\",TABLAS!$A$106)","v":0},{"$f":"+GETPIVOTDATA(\" BAS174\",TABLAS!$A$106)","v":0},{"$f":"+GETPIVOTDATA(\" BAS175\",TABLAS!$A$106)","v":0},null,null,"(TD=D+DX=90675+LAB1=1+LAB2=DVC)",null,null,"=+IMPORTARDATOSDINAMICOS(\" BAS171\";TABLAS!$A$106)","=+IMPORTARDATOSDINAMICOS(\" BAS172\";TABLAS!$A$106)","=+IMPORTARDATOSDINAMICOS(\" BAS173\";TABLAS!$A$106)","=+IMPORTARDATOSDINAMICOS(\" BAS174\";TABLAS!$A$106)","=+IMPORTARDATOSDINAMICOS(\" BAS175\";TABLAS!$A$106)",null,171,172,173,174,175]
[null,null,null,"SEGUIMIENTO: 2",0,{"$f":"+GETPIVOTDATA(\" BAS176\",TABLAS!$A$106)","v":0},{"$f":"+GETPIVOTDATA(\" BAS177\",TABLAS!$A$106)","v":0},{"$f":"+GETPIVOTDATA(\" BAS178\",TABLAS!$A$106)","v":0},{"$f":"+GETPIVOTDATA(\" BAS179\",TABLAS!$A$106)","v":0},{"$f":"+GETPIVOTDATA(\" BAS180\",TABLAS!$A$106)","v":0},null,null,"(TD=D+DX=90675+LAB1=2+LAB2=DVC)",null,null,"=+IMPORTARDATOSDINAMICOS(\" BAS176\";TABLAS!$A$106)","=+IMPORTARDATOSDINAMICOS(\" BAS177\";TABLAS!$A$106)","=+IMPORTARDATOSDINAMICOS(\" BAS178\";TABLAS!$A$106)","=+IMPORTARDATOSDINAMICOS(\" BAS179\";TABLAS!$A$106)","=+IMPORTARDATOSDINAMICOS(\" BAS180\";TABLAS!$A$106)",null,176,177,178,179,180]
[null,null,null,"SEGUIMIENTO: 3",0,{"$f":"+GETPIVOTDATA(\" BAS181\",TABLAS!$A$106)","v":0},{"$f":"+GETPIVOTDATA(\" BAS182\",TABLAS!$A$106)","v":0},{"$f":"+GETPIVOTDATA(\" BAS183\",TABLAS!$A$106)","v":0},{"$f":"+GETPIVOTDATA(\" BAS184\",TABLAS!$A$106)","v":0},{"$f":"+GETPIVOTDATA(\" BAS185\",TABLAS!$A$106)","v":0},null,null,"(TD=D+DX=90675+LAB1=3+LAB2=DVC)",null,null,"=+IMPORTARDATOSDINAMICOS(\" BAS181\";TABLAS!$A$106)","=+IMPORTARDATOSDINAMICOS(\" BAS182\";TABLAS!$A$106)","=+IMPORTARDATOSDINAMICOS(\" BAS183\";TABLAS!$A$106)","=+IMPORTARDATOSDINAMICOS(\" BAS184\";TABLAS!$A$106)","=+IMPORTARDATOSDINAMICOS(\" BAS185\";TABLAS!$A$106)",null,181,182,183,184,185]
[null,null,null,"SEGUIMIENTO: 4",0,{"$f":"+GETPIVOTDATA(\" BAS186\",TABLAS!$A$106)","v":0},{"$f":"+GETPIVOTDATA(\" BAS187\",TABLAS!$A$106)","v":0},{"$f":"+GETPIVOTDATA(\" BAS188\",TABLAS!$A$106)","v":0},{"$f":"+GETPIVOTDATA(\" BAS189\",TABLAS!$A$106)","v":0},{"$f":"+GETPIVOTDATA(\" BAS190\",TABLAS!$A$106)","v":0},null,null,"(TD=D+DX=90675+LAB1=4+LAB2=DVC)",null,null,"=+IMPORTARDATOSDINAMICOS(\" BAS186\";TABLAS!$A$106)","=+IMPORTARDATOSDINAMICOS(\" BAS187\";TABLAS!$A$106)","=+IMPORTARDATOSDINAMICOS(\" BAS188\";TABLAS!$A$106)","=+IMPORTARDATOSDINAMICOS(\" BAS189\";TABLAS!$A$106)","=+IMPORTARDATOSDINAMICOS(\" BAS190\";TABLAS!$A$106)",null,186,187,188,189,190]
[null,null,null,"COBERTURA: 5",0,{"$f":"+GETPIVOTDATA(\" BAS191\",TABLAS!$A$106)","v":0},{"$f":"+GETPIVOTDATA(\" BAS192\",TABLAS!$A$106)","v":0},{"$f":"+GETPIVOTDATA(\" BAS193\",TABLAS!$A$106)","v":0},{"$f":"+GETPIVOTDATA(\" BAS194\",TABLAS!$A$106)","v":0},{"$f":"+GETPIVOTDATA(\" BAS195\",TABLAS!$A$106)","v":0},null,null,"(TD=D+DX=90675+LAB1=5+LAB2=DVC)",null,null,"=+IMPORTARDATOSDINAMICOS(\" BAS191\";TABLAS!$A$106)","=+IMPORTARDATOSDINAMICOS(\" BAS192\";TABLAS!$A$106)","=+IMPORTARDATOSDINAMICOS(\" BAS193\";TABLAS!$A$106)","=+IMPORTARDATOSDINAMICOS(\" BAS194\";TABLAS!$A$106)","=+IMPORTARDATOSDINAMICOS(\" BAS195\";TABLAS!$A$106)",null,191,192,193,194,195]
[null,"CC Contrarreferencia controlada",null,"ACCESO: 1",0,{"$f":"+GETPIVOTDATA(\" BAS196\",TABLAS!$A$106)","v":0},{"$f":"+GETPIVOTDATA(\" BAS197\",TABLAS!$A$106)","v":0},{"$f":"+GETPIVOTDATA(\" BAS198\",TABLAS!$A$106)","v":0},{"$f":"+GETPIVOTDATA(\" BAS199\",TABLAS!$A$106)","v":0},{"$f":"+GETPIVOTDATA(\" BAS200\",TABLAS!$A$106)","v":0},null,null,"(TD=D+DX=90675+LAB1=1+LAB2=CC)",null,null,"=+IMPORTARDATOSDINAMICOS(\" BAS196\";TABLAS!$A$106)","=+IMPORTARDATOSDINAMICOS(\" BAS197\";TABLAS!$A$106)","=+IMPORTARDATOSDINAMICOS(\" BAS198\";TABLAS!$A$106)","=+IMPORTARDATOSDINAMICOS(\" BAS199\";TABLAS!$A$106)","=+IMPORTARDATOSDINAMICOS(\" BAS200\";TABLAS!$A$106)",null,196,197,198,199,200]
[null,null,null,"SEGUIMIENTO: 2",0,{"$f":"+GETPIVOTDATA(\" BAS201\",TABLAS!$A$106)","v":0},{"$f":"+GETPIVOTDATA(\" BAS202\",TABLAS!$A$106)","v":0},{"$f":"+GETPIVOTDATA(\" BAS203\",TABLAS!$A$106)","v":0},{"$f":"+GETPIVOTDATA(\" BAS204\",TABLAS!$A$106)","v":0},{"$f":"+GETPIVOTDATA(\" BAS205\",TABLAS!$A$106)","v":0},null,null,"(TD=D+DX=90675+LAB1=2+LAB2=CC)",null,null,"=+IMPORTARDATOSDINAMICOS(\" BAS201\";TABLAS!$A$106)","=+IMPORTARDATOSDINAMICOS(\" BAS202\";TABLAS!$A$106)","=+IMPORTARDATOSDINAMICOS(\" BAS203\";TABLAS!$A$106)","=+IMPORTARDATOSDINAMICOS(\" BAS204\";TABLAS!$A$106)","=+IMPORTARDATOSDINAMICOS(\" BAS205\";TABLAS!$A$106)",null,201,202,203,204,205]
[null,null,null,"SEGUIMIENTO: 3",0,{"$f":"+GETPIVOTDATA(\" BAS206\",TABLAS!$A$106)","v":0},{"$f":"+GETPIVOTDATA(\" BAS207\",TABLAS!$A$106)","v":0},{"$f":"+GETPIVOTDATA(\" BAS208\",TABLAS!$A$106)","v":0},{"$f":"+GETPIVOTDATA(\" BAS209\",TABLAS!$A$106)","v":0},{"$f":"+GETPIVOTDATA(\" BAS210\",TABLAS!$A$106)","v":0},null,null,"(TD=D+DX=90675+LAB1=3+LAB2=CC)",null,null,"=+IMPORTARDATOSDINAMICOS(\" BAS206\";TABLAS!$A$106)","=+IMPORTARDATOSDINAMICOS(\" BAS207\";TABLAS!$A$106)","=+IMPORTARDATOSDINAMICOS(\" BAS208\";TABLAS!$A$106)","=+IMPORTARDATOSDINAMICOS(\" BAS209\";TABLAS!$A$106)","=+IMPORTARDATOSDINAMICOS(\" BAS210\";TABLAS!$A$106)",null,206,207,208,209,210]
[null,null,null,"SEGUIMIENTO: 4",0,{"$f":"+GETPIVOTDATA(\" BAS211\",TABLAS!$A$106)","v":0},{"$f":"+GETPIVOTDATA(\" BAS212\",TABLAS!$A$106)","v":0},{"$f":"+GETPIVOTDATA(\" BAS213\",TABLAS!$A$106)","v":0},{"$f":"+GETPIVOTDATA(\" BAS214\",TABLAS!$A$106)","v":0},{"$f":"+GETPIVOTDATA(\" BAS215\",TABLAS!$A$106)","v":0},null,null,"(TD=D+DX=90675+LAB1=4+LAB2=CC)",null,null,"=+IMPORTARDATOSDINAMICOS(\" BAS211\";TABLAS!$A$106)","=+IMPORTARDATOSDINAMICOS(\" BAS212\";TABLAS!$A$106)","=+IMPORTARDATOSDINAMICOS(\" BAS213\";TABLAS!$A$106)","=+IMPORTARDATOSDINAMICOS(\" BAS214\";TABLAS!$A$106)","=+IMPORTARDATOSDINAMICOS(\" BAS215\";TABLAS!$A$106)",null,211,212,213,214,215]
[null,null,null,"COBERTURA: 5",0,{"$f":"+GETPIVOTDATA(\" BAS216\",TABLAS!$A$106)","v":0},{"$f":"+GETPIVOTDATA(\" BAS217\",TABLAS!$A$106)","v":0},{"$f":"+GETPIVOTDATA(\" BAS218\",TABLAS!$A$106)","v":0},{"$f":"+GETPIVOTDATA(\" BAS219\",TABLAS!$A$106)","v":0},{"$f":"+GETPIVOTDATA(\" BAS220\",TABLAS!$A$106)","v":0},null,null,"(TD=D+DX=90675+LAB1=5+LAB2=CC)",null,null,"=+IMPORTARDATOSDINAMICOS(\" BAS216\";TABLAS!$A$106)","=+IMPORTARDATOSDINAMICOS(\" BAS217\";TABLAS!$A$106)","=+IMPORTARDATOSDINAMICOS(\" BAS218\";TABLAS!$A$106)","=+IMPORTARDATOSDINAMICOS(\" BAS219\";TABLAS!$A$106)","=+IMPORTARDATOSDINAMICOS(\" BAS220\";TABLAS!$A$106)",null,216,217,218,219,220]
[]
[]
[null,"Frascos Monodosis de Vacunación Antirrábica Humana IM",null,null,"Total dosis","0-11a","12-17a","18-29a","30-59a","60 y más"]
[null,"Total"]
[null,"VARH PRE (monodosis)",null,null,null,{"$f":"+GETPIVOTDATA(\" BAS136\",TABLAS!$A$137)","v":4},{"$f":"+GETPIVOTDATA(\" BAS137\",TABLAS!$A$137)","v":0},{"$f":"+GETPIVOTDATA(\" BAS138\",TABLAS!$A$137)","v":3},{"$f":"+GETPIVOTDATA(\" BAS139\",TABLAS!$A$137)","v":13},{"$f":"+GETPIVOTDATA(\" BAS140\",TABLAS!$A$137)","v":1},null,null,"(TD=D+DX=90675+LAB2=PRE + LAB=ST)",null,null,{"$f":"IF(V186<10,CONCATENATE($AB$186,\"00\",V186,$AB$187),IF(AND(V186>9,V186<100),CONCATENATE($AB$186,\"0\",V186,$AB$187),CONCATENATE($AB$186,V186,$AB$187)))","v":"=+IMPORTARDATOSDINAMICOS(\" BAS136\";TABLAS!$A$137)"},{"$f":"IF(W186<10,CONCATENATE($AB$186,\"00\",W186,$AB$187),IF(AND(W186>9,W186<100),CONCATENATE($AB$186,\"0\",W186,$AB$187),CONCATENATE($AB$186,W186,$AB$187)))","v":"=+IMPORTARDATOSDINAMICOS(\" BAS137\";TABLAS!$A$137)"},"=+IMPORTARDATOSDINAMICOS(\" BAS138\";TABLAS!$A$137)","=+IMPORTARDATOSDINAMICOS(\" BAS139\";TABLAS!$A$137)","=+IMPORTARDATOSDINAMICOS(\" BAS140\";TABLAS!$A$137)",null,136,{"$f":"+V186+1","v":137},{"$f":"+W186+1","v":138},139,140,null,"=+IMPORTARDATOSDINAMICOS(\" BAS"]
[null,"VARH POS (monodosis)",null,null,null,{"$f":"+GETPIVOTDATA(\" BAS141\",TABLAS!$A$137)","v":0},{"$f":"+GETPIVOTDATA(\" BAS142\",TABLAS!$A$137)","v":0},{"$f":"+GETPIVOTDATA(\" BAS143\",TABLAS!$A$137)","v":0},{"$f":"+GETPIVOTDATA(\" BAS144\",TABLAS!$A$137)","v":0},{"$f":"+GETPIVOTDATA(\" BAS145\",TABLAS!$A$137)","v":0},null,null,"(TD=D+DX=90675+ ( LAB2=MOC/DS/SR/POS/CE/DA/DVR/DVC/CC + LAB3=BLANCO) / (LAB2=SUS + LAB3=BLANCO/TA)",null,null,{"$f":"IF(V187<10,CONCATENATE($AB$186,\"00\",V187,$AB$187),IF(AND(V187>9,V187<100),CONCATENATE($AB$186,\"0\",V187,$AB$187),CONCATENATE($AB$186,V187,$AB$187)))","v":"=+IMPORTARDATOSDINAMICOS(\" BAS141\";TABLAS!$A$137)"},"=+IMPORTARDATOSDINAMICOS(\" BAS142\";TABLAS!$A$137)","=+IMPORTARDATOSDINAMICOS(\" BAS143\";TABLAS!$A$137)","=+IMPORTARDATOSDINAMICOS(\" BAS144\";TABLAS!$A$137)","=+IMPORTARDATOSDINAMICOS(\" BAS145\";TABLAS!$A$137)",null,{"$f":"+Z186+1","v":141},{"$f":"+V187+1","v":142},143,144,145,null,"\";TABLAS!$A$137)"]
[]
[]
[null,"Frascos de Inmunoglobulina Antirrábica para Humanos (RIG) administrados",null,null,"Total Frascos RIG","0-11a","12-17a","18-29a","30-59a","60 y más"]
[null,"Total",null,null,{"$f":"SUM(F191:J191)","v":0},{"$f":"SUM(F192:F196)","v":0},{"$f":"SUM(G192:G196)","v":0},0,0,0]
[null,"4.4 Tratamiento en caso de animal mordedor DS en Cara, cabeza, cuello, genitales, pulpejo de dedos de manos y pies, lesiones desgarradas, profundas o múltiples.",null,null,{"$f":"SUM(F192:J192)","v":0},{"$f":"+GETPIVOTDATA(\" BAS146\",TABLAS!$A$137)","v":0},{"$f":"+GETPIVOTDATA(\" BAS147\",TABLAS!$A$137)","v":0},{"$f":"+GETPIVOTDATA(\" BAS148\",TABLAS!$A$137)","v":0},{"$f":"+GETPIVOTDATA(\" BAS149\",TABLAS!$A$137)","v":0},{"$f":"+GETPIVOTDATA(\" BAS150\",TABLAS!$A$137)","v":0},null,null,"SUMA( (TD=D+DX=90675+LAB1=1+LAB2=DS) + (TD=D + DX=90375 + LAB=? )",null,null,{"$f":"IF(V192<10,CONCATENATE($AB$186,\"00\",V192,$AB$187),IF(AND(V192>9,V192<100),CONCATENATE($AB$186,\"0\",V192,$AB$187),CONCATENATE($AB$186,V192,$AB$187)))","v":"=+IMPORTARDATOSDINAMICOS(\" BAS146\";TABLAS!$A$137)"},"=+IMPORTARDATOSDINAMICOS(\" BAS147\";TABLAS!$A$137)","=+IMPORTARDATOSDINAMICOS(\" BAS148\";TABLAS!$A$137)","=+IMPORTARDATOSDINAMICOS(\" BAS149\";TABLAS!$A$137)","=+IMPORTARDATOSDINAMICOS(\" BAS150\";TABLAS!$A$137)",null,{"$f":"+Z187+1","v":146},{"$f":"+V192+1","v":147},148,149,150]
[null," 4.6 Tratamiento en caso de animal mordedor SR en Cara, cabeza, cuello, genitales, pulpejo de dedos de manos y pies, lesiones desgarradas, profundas o múltiples.",null,null,0,{"$f":"+GETPIVOTDATA(\" BAS151\",TABLAS!$A$137)","v":0},{"$f":"+GETPIVOTDATA(\" BAS152\",TABLAS!$A$137)","v":0},{"$f":"+GETPIVOTDATA(\" BAS153\",TABLAS!$A$137)","v":0},{"$f":"+GETPIVOTDATA(\" BAS154\",TABLAS!$A$137)","v":0},{"$f":"+GETPIVOTDATA(\" BAS155\",TABLAS!$A$137)","v":0},null,null,"SUMA( (TD=D+DX=90675+LAB1=1+LAB2=SR) + (TD=D + DX=90375 + LAB=? )",null,null,"=+IMPORTARDATOSDINAMICOS(\" BAS151\";TABLAS!$A$137)","=+IMPORTARDATOSDINAMICOS(\" BAS152\";TABLAS!$A$137)","=+IMPORTARDATOSDINAMICOS(\" BAS153\";TABLAS!$A$137)","=+IMPORTARDATOSDINAMICOS(\" BAS154\";TABLAS!$A$137)","=+IMPORTARDATOSDINAMICOS(\" BAS155\";TABLAS!$A$137)",null,{"$f":"+Z192+1","v":151},152,153,154,155]
[null,"4.7 Tratamiento en caso de Contacto o Animal confirmado de rabia",null,null,0,{"$f":"+GETPIVOTDATA(\" BAS156\",TABLAS!$A$137)","v":0},{"$f":"+GETPIVOTDATA(\" BAS157\",TABLAS!$A$137)","v":0},{"$f":"+GETPIVOTDATA(\" BAS158\",TABLAS!$A$137)","v":0},{"$f":"+GETPIVOTDATA(\" BAS159\",TABLAS!$A$137)","v":0},{"$f":"+GETPIVOTDATA(\" BAS160\",TABLAS!$A$137)","v":0},null,null,"SUMA( (TD=D+DX=90675+LAB1=1+LAB2=CE) + (TD=D + DX=90375 + LAB=? )",null,null,"=+IMPORTARDATOSDINAMICOS(\" BAS156\";TABLAS!$A$137)","=+IMPORTARDATOSDINAMICOS(\" BAS157\";TABLAS!$A$137)","=+IMPORTARDATOSDINAMICOS(\" BAS158\";TABLAS!$A$137)","=+IMPORTARDATOSDINAMICOS(\" BAS159\";TABLAS!$A$137)","=+IMPORTARDATOSDINAMICOS(\" BAS160\";TABLAS!$A$137)",null,156,157,158,159,160]
[null,"DVR Transferencia realizada",null,null,0,{"$f":"+GETPIVOTDATA(\" BAS161\",TABLAS!$A$137)","v":0},{"$f":"+GETPIVOTDATA(\" BAS162\",TABLAS!$A$137)","v":0},{"$f":"+GETPIVOTDATA(\" BAS163\",TABLAS!$A$137)","v":0},{"$f":"+GETPIVOTDATA(\" BAS164\",TABLAS!$A$137)","v":0},{"$f":"+GETPIVOTDATA(\" BAS165\",TABLAS!$A$137)","v":0},null,null,"SUMA( (TD=D+DX=90675+LAB1=1+LAB2=DVR) + (TD=D + DX=90375 + LAB=? )",null,null,"=+IMPORTARDATOSDINAMICOS(\" BAS161\";TABLAS!$A$137)","=+IMPORTARDATOSDINAMICOS(\" BAS162\";TABLAS!$A$137)","=+IMPORTARDATOSDINAMICOS(\" BAS163\";TABLAS!$A$137)","=+IMPORTARDATOSDINAMICOS(\" BAS164\";TABLAS!$A$137)","=+IMPORTARDATOSDINAMICOS(\" BAS165\";TABLAS!$A$137)",null,161,162,163,164,165]
[null,"DVC Transferencia controlada",null,null,0,{"$f":"+GETPIVOTDATA(\" BAS166\",TABLAS!$A$137)","v":0},{"$f":"+GETPIVOTDATA(\" BAS167\",TABLAS!$A$137)","v":0},{"$f":"+GETPIVOTDATA(\" BAS168\",TABLAS!$A$137)","v":0},{"$f":"+GETPIVOTDATA(\" BAS169\",TABLAS!$A$137)","v":0},{"$f":"+GETPIVOTDATA(\" BAS170\",TABLAS!$A$137)","v":0},null,null,"SUMA( (TD=D+DX=90675+LAB1=1+LAB2=DVC) + (TD=D + DX=90375 + LAB=? )",null,null,"=+IMPORTARDATOSDINAMICOS(\" BAS166\";TABLAS!$A$137)","=+IMPORTARDATOSDINAMICOS(\" BAS167\";TABLAS!$A$137)","=+IMPORTARDATOSDINAMICOS(\" BAS168\";TABLAS!$A$137)","=+IMPORTARDATOSDINAMICOS(\" BAS169\";TABLAS!$A$137)","=+IMPORTARDATOSDINAMICOS(\" BAS170\";TABLAS!$A$137)",null,166,167,168,169,170]
[]
[]
[null,"7. Diagnóstico de Rabia Humana Urbana",null,"Total","0-11a","12-17a","18-29a","30-59a","60 y más","Gestante"]
[null,null,null,{"$f":"SUM(E200:J200)","v":0},{"$f":"+GETPIVOTDATA(\" BAS171\",TABLAS!$A$137)","v":0},{"$f":"+GETPIVOTDATA(\" BAS172\",TABLAS!$A$137)","v":0},{"$f":"+GETPIVOTDATA(\" BAS173\",TABLAS!$A$137)","v":0},{"$f":"+GETPIVOTDATA(\" BAS174\",TABLAS!$A$137)","v":0},{"$f":"+GETPIVOTDATA(\" BAS175\",TABLAS!$A$137)","v":0},null,null,null,null,null,null,{"$f":"IF(V200<10,CONCATENATE($AB$186,\"00\",V200,$AB$187),IF(AND(V200>9,V200<100),CONCATENATE($AB$186,\"0\",V200,$AB$187),CONCATENATE($AB$186,V200,$AB$187)))","v":"=+IMPORTARDATOSDINAMICOS(\" BAS171\";TABLAS!$A$137)"},{"$f":"IF(W200<10,CONCATENATE($AB$186,\"00\",W200,$AB$187),IF(AND(W200>9,W200<100),CONCATENATE($AB$186,\"0\",W200,$AB$187),CONCATENATE($AB$186,W200,$AB$187)))","v":"=+IMPORTARDATOSDINAMICOS(\" BAS172\";TABLAS!$A$137)"},"=+IMPORTARDATOSDINAMICOS(\" BAS173\";TABLAS!$A$137)","=+IMPORTARDATOSDINAMICOS(\" BAS174\";TABLAS!$A$137)","=+IMPORTARDATOSDINAMICOS(\" BAS175\";TABLAS!$A$137)",null,{"$f":"+Z196+1","v":171},{"$f":"+V200+1","v":172},{"$f":"+W200+1","v":173},174,175]
[]
[]
[null,"8. Observación del Animal Mordedor",null,"N° Visita","Total"]
[null,"TOTAL",null,"1 era",{"$f":"+E207+E210+E213+E216+E219+E222","v":61}]
[null,null,null,"2 da",{"$f":"+E208+E211+E214+E217+E220+E223","v":59}]
[null,null,null,"3 era",35]
[1,"Perro observado AS",null,"1 era",{"$f":"+GETPIVOTDATA(\" BAS176\",TABLAS!$A$137)","v":61},null,null,null,null,null,null,null,"fichafam=AAA04 + TD=D + DX=C5092 + LAB1=1+LAB2=AS",null,null,{"$f":"IF(V207<10,CONCATENATE($AB$186,\"00\",V207,$AB$187),IF(AND(V207>9,V207<100),CONCATENATE($AB$186,\"0\",V207,$AB$187),CONCATENATE($AB$186,V207,$AB$187)))","v":"=+IMPORTARDATOSDINAMICOS(\" BAS176\";TABLAS!$A$137)"},null,null,null,null,null,{"$f":"+Z200+1","v":176}]
[2,null,null,"2 da",{"$f":"+GETPIVOTDATA(\" BAS177\",TABLAS!$A$137)","v":59},null,null,null,null,null,null,null,"fichafam=AAA04 + TD=D + DX=C5092 + LAB1=2+LAB2=AS",null,null,{"$f":"IF(V208<10,CONCATENATE($AB$186,\"00\",V208,$AB$187),IF(AND(V208>9,V208<100),CONCATENATE($AB$186,\"0\",V208,$AB$187),CONCATENATE($AB$186,V208,$AB$187)))","v":"=+IMPORTARDATOSDINAMICOS(\" BAS177\";TABLAS!$A$137)"},null,null,null,null,null,{"$f":"+V207+1","v":177}]
[null,null,null,"3 era",{"$f":"+GETPIVOTDATA(\" BAS178\",TABLAS!$A$137)","v":35},null,null,null,null,null,null,null,"fichafam=AAA04 + TD=D + DX=C5092 + LAB1=3+LAB2=AS",null,null,{"$f":"IF(V209<10,CONCATENATE($AB$186,\"00\",V209,$AB$187),IF(AND(V209>9,V209<100),CONCATENATE($AB$186,\"0\",V209,$AB$187),CONCATENATE($AB$186,V209,$AB$187)))","v":"=+IMPORTARDATOSDINAMICOS(\" BAS178\";TABLAS!$A$137)"},null,null,null,null,null,{"$f":"+V208+1","v":178}]
[null,"Gato observado AS",null,"1 era",{"$f":"+GETPIVOTDATA(\" BAS179\",TABLAS!$A$137)","v":0},null,null,null,null,null,null,null,"fichafam=AAA09 + TD=D + DX=C5092 + LAB1=1+LAB2=AS",null,null,"=+IMPORTARDATOSDINAMICOS(\" BAS179\";TABLAS!$A$137)",null,null,null,null,null,179]
[null,null,null,"2 da",{"$f":"+GETPIVOTDATA(\" BAS180\",TABLAS!$A$137)","v":0},null,null,null,null,null,null,null,"fichafam=AAA09 + TD=D + DX=C5092 + LAB1=2+LAB2=AS",null,null,"=+IMPORTARDATOSDINAMICOS(\" BAS180\";TABLAS!$A$137)",null,null,null,null,null,180]
[null,null,null,"3 era",{"$f":"+GETPIVOTDATA(\" BAS181\",TABLAS!$A$137)","v":0},null,null,null,null,null,null,null,"fichafam=AAA09 + TD=D + DX=C5092 + LAB1=3+LAB2=AS",null,null,"=+IMPORTARDATOSDINAMICOS(\" BAS181\";TABLAS!$A$137)",null,null,null,null,null,181]
[null,"Perro observado SR",null,"1 era",{"$f":"+GETPIVOTDATA(\" BAS182\",TABLAS!$A$137)","v":0},null,null,null,null,null,null,null,"fichafam=AAA04 + TD=D + DX=C5092 + LAB1=1+LAB2=SR",null,null,"=+IMPORTARDATOSDINAMICOS(\" BAS182\";TABLAS!$A$137)",null,null,null,null,null,182]
[null,null,null,"2 da",{"$f":"+GETPIVOTDATA(\" BAS183\",TABLAS!$A$137)","v":0},null,null,null,null,null,null,null,"fichafam=AAA04 + TD=D + DX=C5092 + LAB1=2+LAB2=SR",null,null,"=+IMPORTARDATOSDINAMICOS(\" BAS183\";TABLAS!$A$137)",null,null,null,null,null,183]
[null,null,null,"3 era",{"$f":"+GETPIVOTDATA(\" BAS184\",TABLAS!$A$137)","v":0},null,null,null,null,null,null,null,"fichafam=AAA04 + TD=D + DX=C5092 + LAB1=3+LAB2=SR",null,null,"=+IMPORTARDATOSDINAMICOS(\" BAS184\";TABLAS!$A$137)",null,null,null,null,null,184]
[null,"Gato observado SR",null,"1 era",{"$f":"+GETPIVOTDATA(\" BAS185\",TABLAS!$A$137)","v":0},null,null,null,null,null,null,null,"fichafam=AAA09 + TD=D + DX=C5092 + LAB1=1+LAB2=SR",null,null,"=+IMPORTARDATOSDINAMICOS(\" BAS185\";TABLAS!$A$137)",null,null,null,null,null,185]
[null,null,null,"2 da",{"$f":"+GETPIVOTDATA(\" BAS186\",TABLAS!$A$137)","v":0},null,null,null,null,null,null,null,"fichafam=AAA09 + TD=D + DX=C5092 + LAB1=2+LAB2=SR",null,null,"=+IMPORTARDATOSDINAMICOS(\" BAS186\";TABLAS!$A$137)",null,null,null,null,null,186]
[null,null,null,"3 era",{"$f":"+GETPIVOTDATA(\" BAS187\",TABLAS!$A$137)","v":0},null,null,null,null,null,null,null,"fichafam=AAA09 + TD=D + DX=C5092 + LAB1=3+LAB2=SR",null,null,"=+IMPORTARDATOSDINAMICOS(\" BAS187\";TABLAS!$A$137)",null,null,null,null,null,187]
[null,"Perro observado MOC",null,"1 era",{"$f":"+GETPIVOTDATA(\" BAS188\",TABLAS!$A$137)","v":0},null,null,null,null,null,null,null,"fichafam=AAA04 + TD=D + DX=C5092 + LAB1=1+LAB2=MOC",null,null,"=+IMPORTARDATOSDINAMICOS(\" BAS188\";TABLAS!$A$137)",null,null,null,null,null,188]
[null,null,null,"2 da",{"$f":"+GETPIVOTDATA(\" BAS189\",TABLAS!$A$137)","v":0},null,null,null,null,null,null,null,"fichafam=AAA04 + TD=D + DX=C5092 + LAB1=2+LAB2=MOC",null,null,"=+IMPORTARDATOSDINAMICOS(\" BAS189\";TABLAS!$A$137)",null,null,null,null,null,189]
[null,null,null,"3 era",{"$f":"+GETPIVOTDATA(\" BAS190\",TABLAS!$A$137)","v":0},null,null,null,null,null,null,null,"fichafam=AAA04 + TD=D + DX=C5092 + LAB1=3+LAB2=MOC",null,null,"=+IMPORTARDATOSDINAMICOS(\" BAS190\";TABLAS!$A$137)",null,null,null,null,null,190]
[null,"Gato observado MOC",null,"1 era",{"$f":"+GETPIVOTDATA(\" BAS191\",TABLAS!$A$137)","v":0},null,null,null,null,null,null,null,"fichafam=AAA09 + TD=D + DX=C5092 + LAB1=1+LAB2=MOC",null,null,"=+IMPORTARDATOSDINAMICOS(\" BAS191\";TABLAS!$A$137)",null,null,null,null,null,191]
[null,null,null,"2 da",{"$f":"+GETPIVOTDATA(\" BAS192\",TABLAS!$A$137)","v":0},null,null,null,null,null,null,null,"fichafam=AAA09 + TD=D + DX=C5092 + LAB1=2+LAB2=MOC",null,null,"=+IMPORTARDATOSDINAMICOS(\" BAS192\";TABLAS!$A$137)",null,null,null,null,null,192]
[null,null,null,"3 era",{"$f":"+GETPIVOTDATA(\" BAS193\",TABLAS!$A$137)","v":0},null,null,null,null,null,null,null,"fichafam=AAA09 + TD=D + DX=C5092 + LAB1=3+LAB2=MOC",null,null,"=+IMPORTARDATOSDINAMICOS(\" BAS193\";TABLAS!$A$137)",null,null,null,null,null,193]
[]
[]
[null,"9. Vigilancia del reservorio y Diagnóstico Laboratorial",null,"Situación de la muestra","Total"]
[null,"TOTAL",null,"Remitida",{"$f":"+E232+E236+E240+E244","v":0}]
[null,null,null,"Procesada",{"$f":"+E233+E237+E241+E245","v":0}]
[null,null,null,"Resultado positivo",0]
[null,null,null,"Resultado Negativo",0]
[null,"Muestras de can en vigilancia activa",null,"Remitida",{"$f":"+GETPIVOTDATA(\" BAS194\",TABLAS!$A$137)","v":0},null,null,null,null,null,null,null,"SUMA LAB1 ( fichafam=AAA04+(TD=D+DX=88025+LAB1 + LAB2=MR)+(TD=D+DX=C0041+LAB1=1) )",null,null,{"$f":"IF(V232<10,CONCATENATE($AB$186,\"00\",V232,$AB$187),IF(AND(V232>9,V232<100),CONCATENATE($AB$186,\"0\",V232,$AB$187),CONCATENATE($AB$186,V232,$AB$187)))","v":"=+IMPORTARDATOSDINAMICOS(\" BAS194\";TABLAS!$A$137)"},null,null,null,null,null,{"$f":"+V224+1","v":194}]
[null,null,null,"Procesada",{"$f":"+GETPIVOTDATA(\" BAS195\",TABLAS!$A$137)","v":0},null,null,null,null,null,null,null,"SUMA LAB1 ( fichafam=AAA04+(TD=D+DX=88025+LAB1 + LAB2=MT)+(TD=D+DX=C0041+LAB1=1) )",null,null,"=+IMPORTARDATOSDINAMICOS(\" BAS195\";TABLAS!$A$137)",null,null,null,null,null,{"$f":"+V232+1","v":195}]
[null,null,null,"Resultado positivo",{"$f":"+GETPIVOTDATA(\" BAS196\",TABLAS!$A$137)","v":0},null,null,null,null,null,null,null,"SUMA LAB1 ( fichafam=AAA04+(TD=D+DX=88025+LAB1 + LAB2=RP)+(TD=D+DX=C0041+LAB1=1) )",null,null,"=+IMPORTARDATOSDINAMICOS(\" BAS196\";TABLAS!$A$137)",null,null,null,null,null,196]
[null,null,null,"Resultado Negativo",{"$f":"+GETPIVOTDATA(\" BAS197\",TABLAS!$A$137)","v":0},null,null,null,null,null,null,null,"SUMA LAB1 ( fichafam=AAA04+(TD=D+DX=88025+LAB1 + LAB2=RN)+(TD=D+DX=C0041+LAB1=1) )",null,null,"=+IMPORTARDATOSDINAMICOS(\" BAS197\";TABLAS!$A$137)",null,null,null,null,null,197]
[null,"Muestras de can en vigilancia pasiva",null,"Remitida",{"$f":"+GETPIVOTDATA(\" BAS198\",TABLAS!$A$137)","v":0},null,null,null,null,null,null,null,"SUMA LAB1 ( fichafam=AAA04+(TD=D+DX=88025+LAB1 + LAB2=MR)+(TD=D+DX=C0041+LAB1=2) )",null,null,"=+IMPORTARDATOSDINAMICOS(\" BAS198\";TABLAS!$A$137)",null,null,null,null,null,198]
[null,null,null,"Procesada",{"$f":"+GETPIVOTDATA(\" BAS199\",TABLAS!$A$137)","v":0},null,null,null,null,null,null,null,"SUMA LAB1 ( fichafam=AAA04+(TD=D+DX=88025+LAB1 + LAB2=MT)+(TD=D+DX=C0041+LAB1=2) )",null,null,"=+IMPORTARDATOSDINAMICOS(\" BAS199\";TABLAS!$A$137)",null,null,null,null,null,199]
[null,null,null,"Resultado positivo",{"$f":"+GETPIVOTDATA(\" BAS200\",TABLAS!$A$137)","v":0},null,null,null,null,null,null,null,"SUMA LAB1 ( fichafam=AAA04+(TD=D+DX=88025+LAB1 + LAB2=RP)+(TD=D+DX=C0041+LAB1=2) )",null,null,"=+IMPORTARDATOSDINAMICOS(\" BAS200\";TABLAS!$A$137)",null,null,null,null,null,200]
[null,null,null,"Resultado Negativo",{"$f":"+GETPIVOTDATA(\" BAS201\",TABLAS!$A$137)","v":0},null,null,null,null,null,null,null,"SUMA LAB1 ( fichafam=AAA04+(TD=D+DX=88025+LAB1 + LAB2=RN)+(TD=D+DX=C0041+LAB1=2) )",null,null,"=+IMPORTARDATOSDINAMICOS(\" BAS201\";TABLAS!$A$137)",null,null,null,null,null,201]
[null,"Muestras de gato en vigilancia pasiva",null,"Remitida",{"$f":"+GETPIVOTDATA(\" BAS202\",TABLAS!$A$137)","v":0},null,null,null,null,null,null,null,"SUMA LAB1 ( fichafam=AAA09+(TD=D+DX=88025+LAB1 + LAB2=MR)+(TD=D+DX=C0041+LAB1=2) )",null,null,"=+IMPORTARDATOSDINAMICOS(\" BAS202\";TABLAS!$A$137)",null,null,null,null,null,202]
[null,null,null,"Procesada",{"$f":"+GETPIVOTDATA(\" BAS203\",TABLAS!$A$137)","v":0},null,null,null,null,null,null,null,"SUMA LAB1 ( fichafam=AAA09+(TD=D+DX=88025+LAB1 + LAB2=MT)+(TD=D+DX=C0041+LAB1=2) )",null,null,"=+IMPORTARDATOSDINAMICOS(\" BAS203\";TABLAS!$A$137)",null,null,null,null,null,203]
[null,null,null,"Resultado positivo",{"$f":"+GETPIVOTDATA(\" BAS204\",TABLAS!$A$137)","v":0},null,null,null,null,null,null,null,"SUMA LAB1 ( fichafam=AAA09+(TD=D+DX=88025+LAB1 + LAB2=RP)+(TD=D+DX=C0041+LAB1=2) )",null,null,"=+IMPORTARDATOSDINAMICOS(\" BAS204\";TABLAS!$A$137)",null,null,null,null,null,204]
[null,null,null,"Resultado Negativo",{"$f":"+GETPIVOTDATA(\" BAS205\",TABLAS!$A$137)","v":0},null,null,null,null,null,null,null,"SUMA LAB1 ( fichafam=AAA09+(TD=D+DX=88025+LAB1 + LAB2=RN)+(TD=D+DX=C0041+LAB1=2) )",null,null,"=+IMPORTARDATOSDINAMICOS(\" BAS205\";TABLAS!$A$137)",null,null,null,null,null,205]
[null,"Muestras de otros mamíferos domésticos (equino, porcino, bovino, ovino, etc) en rabia urbana, vigilancia pasiva",null,"Remitida",{"$f":"+GETPIVOTDATA(\" BAS206\",TABLAS!$A$137)","v":0},null,null,null,null,null,null,null,"SUMA LAB1 ( fichafam=AAA91+(TD=D+DX=88025+LAB1 + LAB2=MR)+(TD=D+DX=C0041+LAB1=2) )",null,null,"=+IMPORTARDATOSDINAMICOS(\" BAS206\";TABLAS!$A$137)",null,null,null,null,null,206]
[null,null,null,"Procesada",{"$f":"+GETPIVOTDATA(\" BAS207\",TABLAS!$A$137)","v":0},null,null,null,null,null,null,null,"SUMA LAB1 ( fichafam=AAA91+(TD=D+DX=88025+LAB1 + LAB2=MT)+(TD=D+DX=C0041+LAB1=2) )",null,null,"=+IMPORTARDATOSDINAMICOS(\" BAS207\";TABLAS!$A$137)",null,null,null,null,null,207]
[null,null,null,"Resultado positivo",{"$f":"+GETPIVOTDATA(\" BAS208\",TABLAS!$A$137)","v":0},null,null,null,null,null,null,null,"SUMA LAB1 ( fichafam=AAA91+(TD=D+DX=88025+LAB1 + LAB2=RP)+(TD=D+DX=C0041+LAB1=2) )",null,null,"=+IMPORTARDATOSDINAMICOS(\" BAS208\";TABLAS!$A$137)",null,null,null,null,null,208]
[null,null,null,"Resultado Negativo",{"$f":"+GETPIVOTDATA(\" BAS209\",TABLAS!$A$137)","v":0},null,null,null,null,null,null,null,"SUMA LAB1 ( fichafam=AAA91+(TD=D+DX=88025+LAB1 + LAB2=RN)+(TD=D+DX=C0041+LAB1=2) )",null,null,"=+IMPORTARDATOSDINAMICOS(\" BAS209\";TABLAS!$A$137)",null,null,null,null,null,209]
[]
[]
[null,"10. Control Epidemiológico (Control de Foco).",null,"Situación del foco","Total"]
[null,"TOTAL",null,"Notificado",{"$f":"+E254+E257","v":0}]
[null,null,null,"Investigado",{"$f":"+E255+E258","v":0}]
[null,null,null,"Controlado",0]
[null,"Control de foco en vigilancia activa",null,"Notificado",{"$f":"+GETPIVOTDATA(\" BAS210\",TABLAS!$A$137)","v":0},null,null,null,null,null,null,null,"SUMA LAB1 ( fichafam=APP108+(TD=D+DX=C0091+LAB1 + LAB2=NOT)+(TD=D+DX=C0041+LAB1=1) )",null,null,{"$f":"IF(V254<10,CONCATENATE($AB$186,\"00\",V254,$AB$187),IF(AND(V254>9,V254<100),CONCATENATE($AB$186,\"0\",V254,$AB$187),CONCATENATE($AB$186,V254,$AB$187)))","v":"=+IMPORTARDATOSDINAMICOS(\" BAS210\";TABLAS!$A$137)"},null,null,null,null,null,{"$f":"+V247+1","v":210}]
[null,null,null,"Investigado",{"$f":"+GETPIVOTDATA(\" BAS211\",TABLAS!$A$137)","v":0},null,null,null,null,null,null,null,"SUMA LAB1 ( fichafam=APP108+(TD=D+DX=C0091+LAB1 + LAB2=IN)+(TD=D+DX=C0041+LAB1=1) )",null,null,"=+IMPORTARDATOSDINAMICOS(\" BAS211\";TABLAS!$A$137)",null,null,null,null,null,{"$f":"+V254+1","v":211}]
[null,null,null,"Controlado",{"$f":"+GETPIVOTDATA(\" BAS212\",TABLAS!$A$137)","v":0},null,null,null,null,null,null,null,"SUMA LAB1 ( fichafam=APP108+(TD=D+DX=C0091+LAB1 + LAB2=CC)+(TD=D+DX=C0041+LAB1=1) )",null,null,"=+IMPORTARDATOSDINAMICOS(\" BAS212\";TABLAS!$A$137)",null,null,null,null,null,212]
[null,"Control de foco en vigilancia pasiva",null,"Notificado",{"$f":"+GETPIVOTDATA(\" BAS213\",TABLAS!$A$137)","v":0},null,null,null,null,null,null,null,"SUMA LAB1 ( fichafam=APP108+(TD=D+DX=C0091+LAB1 + LAB2=NOT)+(TD=D+DX=C0041+LAB1=2) )",null,null,"=+IMPORTARDATOSDINAMICOS(\" BAS213\";TABLAS!$A$137)",null,null,null,null,null,213]
[null,null,null,"Investigado",{"$f":"+GETPIVOTDATA(\" BAS214\",TABLAS!$A$137)","v":0},null,null,null,null,null,null,null,"SUMA LAB1 ( fichafam=APP108+(TD=D+DX=C0091+LAB1 + LAB2=IN)+(TD=D+DX=C0041+LAB1=2) )",null,null,"=+IMPORTARDATOSDINAMICOS(\" BAS214\";TABLAS!$A$137)",null,null,null,null,null,214]
[null,null,null,"Controlado",{"$f":"+GETPIVOTDATA(\" BAS215\",TABLAS!$A$137)","v":0},null,null,null,null,null,null,null,"SUMA LAB1 ( fichafam=APP108+(TD=D+DX=C0091+LAB1 + LAB2=CC)+(TD=D+DX=C0041+LAB1=2) )",null,null,"=+IMPORTARDATOSDINAMICOS(\" BAS215\";TABLAS!$A$137)",null,null,null,null,null,215]
[]
[]
[null,"11. Vacunación Antirrábica Canina",null,"Situación vacunal","Total"]
[null,"TOTAL",null,"Centros antirrábicos",{"$f":"+GETPIVOTDATA(\" BAS216\",TABLAS!$A$137)","v":60},null,null,null,null,null,null,null,"SUMA LAB1 ( fichafam=APP99+(TD=D+DX=C5041+LAB1)",null,null,{"$f":"IF(V263<10,CONCATENATE($AB$186,\"00\",V263,$AB$187),IF(AND(V263>9,V263<100),CONCATENATE($AB$186,\"0\",V263,$AB$187),CONCATENATE($AB$186,V263,$AB$187)))","v":"=+IMPORTARDATOSDINAMICOS(\" BAS216\";TABLAS!$A$137)"},null,null,null,null,null,{"$f":"+V259+1","v":216}]
[null,null,null,"VANCAN",{"$f":"+GETPIVOTDATA(\" BAS217\",TABLAS!$A$137)","v":9261},null,null,null,null,null,null,null,"SUMA LAB1 ( fichafam=APP108+(TD=D+DX=C5041+LAB1)",null,null,"=+IMPORTARDATOSDINAMICOS(\" BAS217\";TABLAS!$A$137)",null,null,null,null,null,{"$f":"+V263+1","v":217}]
[null,null,null,"Control de foco",{"$f":"+GETPIVOTDATA(\" BAS218\",TABLAS!$A$137)","v":5890},null,null,null,null,null,null,null,"SUMA LAB1 ( fichafam=APP98+(TD=D+DX=C5041+LAB1)",null,null,"=+IMPORTARDATOSDINAMICOS(\" BAS218\";TABLAS!$A$137)",null,null,null,null,null,218]
[]
[]
[]
[null,"Fuente: Sistema de Información de Consulta Externa HIS",null,null,null,null,null,"Reporte Generado:","dd / mm /aaaa"]
[null,"Oficina de Gestión de la Información - MINSA"]

{"sheet":"RABIA SILVESTRE","index":5,"n_rows":171,"n_cols":29,"rows_kept":171,"cut":false,"hidden":false,"merged":[[126,1,126,2],[127,1,127,2],[24,1,26,1],[3,1,3,9],[17,1,19,1],[5,2,5,3],[5,5,5,6],[7,2,7,3],[7,5,7,6],[9,2,9,3],[9,5,9,6],[11,2,11,3],[11,8,11,9],[61,1,72,1],[61,2,65,2],[66,2,70,2],[71,2,72,2],[27,1,29,1],[30,1,32,1],[36,1,37,1],[38,1,39,1],[40,1,41,1],[42,1,43,1],[47,1,47,9],[49,1,60,1],[49,2,53,2],[54,2,58,2],[59,2,60,2],[137,1,138,1],[73,1,84,1],[73,2,77,2],[78,2,82,2],[83,2,84,2],[89,1,93,1],[94,1,98,1],[99,1,100,1],[104,1,108,1],[109,1,113,1],[114,1,118,1],[130,1,133,1],[122,1,122,2],[123,1,123,2],[124,1,124,2],[125,1,125,2],[169,8,169,9],[143,1,146,1],[147,1,150,1],[151,1,154,1],[155,1,158,1],[162,1,164,1]]}
[]
[]
[]
[null,"INFORME MENSUAL DE RABIA SILVESTRE"]
[]
[null,"GERESA","CUSCO",null,"PROVINCIA",{"$f":"TRIM(TABLAS!O12)","v":""},null,"MINSA"]
[]
[null,"RED",{"$f":"TRIM(TABLAS!O9)","v":"03 - LA CONVENCION"},null,"DISTRITO",{"$f":"TRIM(TABLAS!O13)","v":""},null,"ESSALUD"]
[]
[null,"MICRO RED",{"$f":"TRIM(TABLAS!O10)","v":""},null,"MES",{"$f":"TRIM(TABLAS!N26)","v":"ENE - NOV"},null,"SANIDAD FFAA-PNP"]
[]
[null,"ESTABLECIMIENTO",{"$f":"TRIM(TABLAS!O11)","v":""},null,"AÑO",{"$f":"TRIM(TABLAS!J16)","v":"2024"},null,"EJECUTORA",{"$f":"TRIM(TABLAS!O14)","v":""}]
[]
[]
[]
[]
[null,"1. Indicación de la profilaxis Pre-exposición en Rabia Silvestre","Grupo de riesgo","Total","0-11a","12-17a","18-29a","30-59a","60 y más"]
[null,"En caso se indique la administración de la Vacuna Antirrábica Humana como Pre-exposición: En rabia silvestre sólo se aplicará a las personas que por motivos laborales o de investigación estén en contacto con animales silvestres o ingresen a áreas de alto riesgo a rabia silvestre","Fuerzas Armadas del Perú",{"$f":"SUM(E18:I18)","v":0},{"$f":"+GETPIVOTDATA(\" BAS001\",TABLAS!$A$200)","v":0},{"$f":"+GETPIVOTDATA(\" BAS002\",TABLAS!$A$200)","v":0},{"$f":"+GETPIVOTDATA(\" BAS003\",TABLAS!$A$200)","v":0},{"$f":"+GETPIVOTDATA(\" BAS004\",TABLAS!$A$200)","v":0},{"$f":"+GETPIVOTDATA(\" BAS005\",TABLAS!$A$200)","v":0},null,null,null,"TD=P + DX=90675 + LAB1=PRE + LAB2=M",{"$f":"IF(T18<10,CONCATENATE($Z$18,\"00\",T18,$Z$19),IF(AND(T18>9,T18<100),CONCATENATE($Z$18,\"0\",T18,$Z$19),CONCATENATE($Z$18,T18,$Z$19)))","v":"=+IMPORTARDATOSDINAMICOS(\" BAS001\";TABLAS!$A$169)"},{"$f":"IF(U18<10,CONCATENATE($Z$18,\"00\",U18,$Z$19),IF(AND(U18>9,U18<100),CONCATENATE($Z$18,\"0\",U18,$Z$19),CONCATENATE($Z$18,U18,$Z$19)))","v":"=+IMPORTARDATOSDINAMICOS(\" BAS002\";TABLAS!$A$169)"},"=+IMPORTARDATOSDINAMICOS(\" BAS003\";TABLAS!$A$169)","=+IMPORTARDATOSDINAMICOS(\" BAS004\";TABLAS!$A$169)","=+IMPORTARDATOSDINAMICOS(\" BAS005\";TABLAS!$A$169)",null,1,{"$f":"+T18+1","v":2},{"$f":"+U18+1","v":3},4,5,null,"=+IMPORTARDATOSDINAMICOS(\" BAS"]
[null,null,"Policia Nacional del Perú",{"$f":"SUM(E19:I19)","v":0},{"$f":"+GETPIVOTDATA(\" BAS006\",TABLAS!$A$200)","v":0},{"$f":"+GETPIVOTDATA(\" BAS007\",TABLAS!$A$200)","v":0},{"$f":"+GETPIVOTDATA(\" BAS008\",TABLAS!$A$200)","v":0},{"$f":"+GETPIVOTDATA(\" BAS009\",TABLAS!$A$200)","v":0},{"$f":"+GETPIVOTDATA(\" BAS010\",TABLAS!$A$200)","v":0},null,null,null,"TD=P + DX=90675 + LAB1=PRE + LAB2=PNP",{"$f":"IF(T19<10,CONCATENATE($Z$18,\"00\",T19,$Z$19),IF(AND(T19>9,T19<100),CONCATENATE($Z$18,\"0\",T19,$Z$19),CONCATENATE($Z$18,T19,$Z$19)))","v":"=+IMPORTARDATOSDINAMICOS(\" BAS006\";TABLAS!$A$169)"},{"$f":"IF(U19<10,CONCATENATE($Z$18,\"00\",U19,$Z$19),IF(AND(U19>9,U19<100),CONCATENATE($Z$18,\"0\",U19,$Z$19),CONCATENATE($Z$18,U19,$Z$19)))","v":"=+IMPORTARDATOSDINAMICOS(\" BAS007\";TABLAS!$A$169)"},{"$f":"IF(V19<10,CONCATENATE($Z$18,\"00\",V19,$Z$19),IF(AND(V19>9,V19<100),CONCATENATE($Z$18,\"0\",V19,$Z$19),CONCATENATE($Z$18,V19,$Z$19)))","v":"=+IMPORTARDATOSDINAMICOS(\" BAS008\";TABLAS!$A$169)"},{"$f":"IF(W19<10,CONCATENATE($Z$18,\"00\",W19,$Z$19),IF(AND(W19>9,W19<100),CONCATENATE($Z$18,\"0\",W19,$Z$19),CONCATENATE($Z$18,W19,$Z$19)))","v":"=+IMPORTARDATOSDINAMICOS(\" BAS009\";TABLAS!$A$169)"},{"$f":"IF(X19<10,CONCATENATE($Z$18,\"00\",X19,$Z$19),IF(AND(X19>9,X19<100),CONCATENATE($Z$18,\"0\",X19,$Z$19),CONCATENATE($Z$18,X19,$Z$19)))","v":"=+IMPORTARDATOSDINAMICOS(\" BAS010\";TABLAS!$A$169)"},null,{"$f":"+X18+1","v":6},{"$f":"+T19+1","v":7},8,9,10,null,"\";TABLAS!$A$169)"]
[null,null,"Grupo Ocupacional",0,{"$f":"+GETPIVOTDATA(\" BAS011\",TABLAS!$A$200)","v":0},{"$f":"+GETPIVOTDATA(\" BAS012\",TABLAS!$A$200)","v":0},{"$f":"+GETPIVOTDATA(\" BAS013\",TABLAS!$A$200)","v":0},{"$f":"+GETPIVOTDATA(\" BAS014\",TABLAS!$A$200)","v":0},{"$f":"+GETPIVOTDATA(\" BAS015\",TABLAS!$A$200)","v":0},null,null,null,"TD=P + DX=90675 + LAB1=PRE + LAB2=OCU",{"$f":"IF(T20<10,CONCATENATE($Z$18,\"00\",T20,$Z$19),IF(AND(T20>9,T20<100),CONCATENATE($Z$18,\"0\",T20,$Z$19),CONCATENATE($Z$18,T20,$Z$19)))","v":"=+IMPORTARDATOSDINAMICOS(\" BAS011\";TABLAS!$A$169)"},{"$f":"IF(U20<10,CONCATENATE($Z$18,\"00\",U20,$Z$19),IF(AND(U20>9,U20<100),CONCATENATE($Z$18,\"0\",U20,$Z$19),CONCATENATE($Z$18,U20,$Z$19)))","v":"=+IMPORTARDATOSDINAMICOS(\" BAS012\";TABLAS!$A$169)"},{"$f":"IF(V20<10,CONCATENATE($Z$18,\"00\",V20,$Z$19),IF(AND(V20>9,V20<100),CONCATENATE($Z$18,\"0\",V20,$Z$19),CONCATENATE($Z$18,V20,$Z$19)))","v":"=+IMPORTARDATOSDINAMICOS(\" BAS013\";TABLAS!$A$169)"},{"$f":"IF(W20<10,CONCATENATE($Z$18,\"00\",W20,$Z$19),IF(AND(W20>9,W20<100),CONCATENATE($Z$18,\"0\",W20,$Z$19),CONCATENATE($Z$18,W20,$Z$19)))","v":"=+IMPORTARDATOSDINAMICOS(\" BAS014\";TABLAS!$A$169)"},{"$f":"IF(X20<10,CONCATENATE($Z$18,\"00\",X20,$Z$19),IF(AND(X20>9,X20<100),CONCATENATE($Z$18,\"0\",X20,$Z$19),CONCATENATE($Z$18,X20,$Z$19)))","v":"=+IMPORTARDATOSDINAMICOS(\" BAS015\";TABLAS!$A$169)"},null,{"$f":"+X19+1","v":11},{"$f":"+T20+1","v":12},{"$f":"+U20+1","v":13},{"$f":"+V20+1","v":14},{"$f":"+W20+1","v":15}]
[]
[]
[null,"2. Administración de la Profilaxis Pre-Exposición en Rabia Silvestre: Vacunación Antirrábica Humana","Estado Vacunal","Total","0-11a","12-17a","18-29a","30-59a","60 y más"]
[null,"TOTAL",null,{"$f":"SUM(D25:D33)","v":722},{"$f":"SUM(E25:E33)","v":0},{"$f":"SUM(F25:F33)","v":0},589,133,0]
[null,"Fuezas Armadas del Perú","ACC: 1",{"$f":"SUM(E25:I25)","v":239},{"$f":"+GETPIVOTDATA(\" BAS016\",TABLAS!$A$200)","v":0},{"$f":"+GETPIVOTDATA(\" BAS017\",TABLAS!$A$200)","v":0},{"$f":"+GETPIVOTDATA(\" BAS018\",TABLAS!$A$200)","v":195},{"$f":"+GETPIVOTDATA(\" BAS019\",TABLAS!$A$200)","v":44},{"$f":"+GETPIVOTDATA(\" BAS020\",TABLAS!$A$200)","v":0},null,null,null,"TD=D + DX=90675 + LAB1=1 + LAB2=PRE + LAB3=M",{"$f":"IF(T25<10,CONCATENATE($Z$18,\"00\",T25,$Z$19),IF(AND(T25>9,T25<100),CONCATENATE($Z$18,\"0\",T25,$Z$19),CONCATENATE($Z$18,T25,$Z$19)))","v":"=+IMPORTARDATOSDINAMICOS(\" BAS016\";TABLAS!$A$169)"},{"$f":"IF(U25<10,CONCATENATE($Z$18,\"00\",U25,$Z$19),IF(AND(U25>9,U25<100),CONCATENATE($Z$18,\"0\",U25,$Z$19),CONCATENATE($Z$18,U25,$Z$19)))","v":"=+IMPORTARDATOSDINAMICOS(\" BAS017\";TABLAS!$A$169)"},{"$f":"IF(V25<10,CONCATENATE($Z$18,\"00\",V25,$Z$19),IF(AND(V25>9,V25<100),CONCATENATE($Z$18,\"0\",V25,$Z$19),CONCATENATE($Z$18,V25,$Z$19)))","v":"=+IMPORTARDATOSDINAMICOS(\" BAS018\";TABLAS!$A$169)"},{"$f":"IF(W25<10,CONCATENATE($Z$18,\"00\",W25,$Z$19),IF(AND(W25>9,W25<100),CONCATENATE($Z$18,\"0\",W25,$Z$19),CONCATENATE($Z$18,W25,$Z$19)))","v":"=+IMPORTARDATOSDINAMICOS(\" BAS019\";TABLAS!$A$169)"},{"$f":"IF(X25<10,CONCATENATE($Z$18,\"00\",X25,$Z$19),IF(AND(X25>9,X25<100),CONCATENATE($Z$18,\"0\",X25,$Z$19),CONCATENATE($Z$18,X25,$Z$19)))","v":"=+IMPORTARDATOSDINAMICOS(\" BAS020\";TABLAS!$A$169)"},null,{"$f":"+X20+1","v":16},{"$f":"+T25+1","v":17},{"$f":"+U25+1","v":18},{"$f":"+V25+1","v":19},{"$f":"+W25+1","v":20}]
[null,null,"SEG: 1 y 2",{"$f":"SUM(E26:I26)","v":238},{"$f":"+GETPIVOTDATA(\" BAS021\",TABLAS!$A$200)","v":0},{"$f":"+GETPIVOTDATA(\" BAS022\",TABLAS!$A$200)","v":0},{"$f":"+GETPIVOTDATA(\" BAS023\",TABLAS!$A$200)","v":194},{"$f":"+GETPIVOTDATA(\" BAS024\",TABLAS!$A$200)","v":44},{"$f":"+GETPIVOTDATA(\" BAS025\",TABLAS!$A$200)","v":0},null,null,null,"TD=D + DX=90675 + LAB1=2 + LAB2=PRE + LAB3=M","=+IMPORTARDATOSDINAMICOS(\" BAS021\";TABLAS!$A$169)","=+IMPORTARDATOSDINAMICOS(\" BAS022\";TABLAS!$A$169)","=+IMPORTARDATOSDINAMICOS(\" BAS023\";TABLAS!$A$169)","=+IMPORTARDATOSDINAMICOS(\" BAS024\";TABLAS!$A$169)","=+IMPORTARDATOSDINAMICOS(\" BAS025\";TABLAS!$A$169)",null,{"$f":"+X25+1","v":21},22,23,24,25]
[null,null,"COB: 1,2 y 3",245,{"$f":"+GETPIVOTDATA(\" BAS026\",TABLAS!$A$200)","v":0},{"$f":"+GETPIVOTDATA(\" BAS027\",TABLAS!$A$200)","v":0},{"$f":"+GETPIVOTDATA(\" BAS028\",TABLAS!$A$200)","v":200},{"$f":"+GETPIVOTDATA(\" BAS029\",TABLAS!$A$200)","v":45},{"$f":"+GETPIVOTDATA(\" BAS030\",TABLAS!$A$200)","v":0},null,null,null,"TD=D + DX=90675 + LAB1=3 + LAB2=PRE + LAB3=M","=+IMPORTARDATOSDINAMICOS(\" BAS026\";TABLAS!$A$169)","=+IMPORTARDATOSDINAMICOS(\" BAS027\";TABLAS!$A$169)","=+IMPORTARDATOSDINAMICOS(\" BAS028\";TABLAS!$A$169)","=+IMPORTARDATOSDINAMICOS(\" BAS029\";TABLAS!$A$169)","=+IMPORTARDATOSDINAMICOS(\" BAS030\";TABLAS!$A$169)",null,26,27,28,29,30]
[null,"Policia Nacional del Perú","ACC: 1",0,{"$f":"+GETPIVOTDATA(\" BAS031\",TABLAS!$A$200)","v":0},{"$f":"+GETPIVOTDATA(\" BAS032\",TABLAS!$A$200)","v":0},{"$f":"+GETPIVOTDATA(\" BAS033\",TABLAS!$A$200)","v":0},{"$f":"+GETPIVOTDATA(\" BAS034\",TABLAS!$A$200)","v":0},{"$f":"+GETPIVOTDATA(\" BAS035\",TABLAS!$A$200)","v":0},null,null,null,"TD=D + DX=90675 + LAB1=1 + LAB2=PRE + LAB3=PNP","=+IMPORTARDATOSDINAMICOS(\" BAS031\";TABLAS!$A$169)","=+IMPORTARDATOSDINAMICOS(\" BAS032\";TABLAS!$A$169)","=+IMPORTARDATOSDINAMICOS(\" BAS033\";TABLAS!$A$169)","=+IMPORTARDATOSDINAMICOS(\" BAS034\";TABLAS!$A$169)","=+IMPORTARDATOSDINAMICOS(\" BAS035\";TABLAS!$A$169)",null,31,32,33,34,35]
[null,null,"SEG: 1 y 2",0,{"$f":"+GETPIVOTDATA(\" BAS036\",TABLAS!$A$200)","v":0},{"$f":"+GETPIVOTDATA(\" BAS037\",TABLAS!$A$200)","v":0},{"$f":"+GETPIVOTDATA(\" BAS038\",TABLAS!$A$200)","v":0},{"$f":"+GETPIVOTDATA(\" BAS039\",TABLAS!$A$200)","v":0},{"$f":"+GETPIVOTDATA(\" BAS040\",TABLAS!$A$200)","v":0},null,null,null,"TD=D + DX=90675 + LAB1=2 + LAB2=PRE + LAB3=PNP","=+IMPORTARDATOSDINAMICOS(\" BAS036\";TABLAS!$A$169)","=+IMPORTARDATOSDINAMICOS(\" BAS037\";TABLAS!$A$169)","=+IMPORTARDATOSDINAMICOS(\" BAS038\";TABLAS!$A$169)","=+IMPORTARDATOSDINAMICOS(\" BAS039\";TABLAS!$A$169)","=+IMPORTARDATOSDINAMICOS(\" BAS040\";TABLAS!$A$169)",null,36,37,38,39,40]
[null,null,"COB: 1,2 y 3",0,{"$f":"+GETPIVOTDATA(\" BAS041\",TABLAS!$A$200)","v":0},{"$f":"+GETPIVOTDATA(\" BAS042\",TABLAS!$A$200)","v":0},{"$f":"+GETPIVOTDATA(\" BAS043\",TABLAS!$A$200)","v":0},{"$f":"+GETPIVOTDATA(\" BAS044\",TABLAS!$A$200)","v":0},{"$f":"+GETPIVOTDATA(\" BAS045\",TABLAS!$A$200)","v":0},null,null,null,"TD=D + DX=90675 + LAB1=3 + LAB2=PRE + LAB3=PNP","=+IMPORTARDATOSDINAMICOS(\" BAS041\";TABLAS!$A$169)","=+IMPORTARDATOSDINAMICOS(\" BAS042\";TABLAS!$A$169)","=+IMPORTARDATOSDINAMICOS(\" BAS043\";TABLAS!$A$169)","=+IMPORTARDATOSDINAMICOS(\" BAS044\";TABLAS!$A$169)","=+IMPORTARDATOSDINAMICOS(\" BAS045\";TABLAS!$A$169)",null,41,42,43,44,45]
[null,"Grupo Ocupacional","ACC: 1",0,{"$f":"+GETPIVOTDATA(\" BAS046\",TABLAS!$A$200)","v":0},{"$f":"+GETPIVOTDATA(\" BAS047\",TABLAS!$A$200)","v":0},{"$f":"+GETPIVOTDATA(\" BAS048\",TABLAS!$A$200)","v":0},{"$f":"+GETPIVOTDATA(\" BAS049\",TABLAS!$A$200)","v":0},{"$f":"+GETPIVOTDATA(\" BAS050\",TABLAS!$A$200)","v":0},null,null,null,"TD=D + DX=90675 + LAB1=1 + LAB2=PRE + LAB3=OCU","=+IMPORTARDATOSDINAMICOS(\" BAS046\";TABLAS!$A$169)","=+IMPORTARDATOSDINAMICOS(\" BAS047\";TABLAS!$A$169)","=+IMPORTARDATOSDINAMICOS(\" BAS048\";TABLAS!$A$169)","=+IMPORTARDATOSDINAMICOS(\" BAS049\";TABLAS!$A$169)","=+IMPORTARDATOSDINAMICOS(\" BAS050\";TABLAS!$A$169)",null,46,47,48,49,50]
[null,null,"SEG: 1 y 2",0,{"$f":"+GETPIVOTDATA(\" BAS051\",TABLAS!$A$200)","v":0},{"$f":"+GETPIVOTDATA(\" BAS052\",TABLAS!$A$200)","v":0},{"$f":"+GETPIVOTDATA(\" BAS053\",TABLAS!$A$200)","v":0},{"$f":"+GETPIVOTDATA(\" BAS054\",TABLAS!$A$200)","v":0},{"$f":"+GETPIVOTDATA(\" BAS055\",TABLAS!$A$200)","v":0},null,null,null,"TD=D + DX=90675 + LAB1=2 + LAB2=PRE + LAB3=OCU","=+IMPORTARDATOSDINAMICOS(\" BAS051\";TABLAS!$A$169)","=+IMPORTARDATOSDINAMICOS(\" BAS052\";TABLAS!$A$169)","=+IMPORTARDATOSDINAMICOS(\" BAS053\";TABLAS!$A$169)","=+IMPORTARDATOSDINAMICOS(\" BAS054\";TABLAS!$A$169)","=+IMPORTARDATOSDINAMICOS(\" BAS055\";TABLAS!$A$169)",null,51,52,53,54,55]
[null,null,"COB: 1,2 y 3",0,{"$f":"+GETPIVOTDATA(\" BAS056\",TABLAS!$A$200)","v":0},{"$f":"+GETPIVOTDATA(\" BAS057\",TABLAS!$A$200)","v":0},{"$f":"+GETPIVOTDATA(\" BAS058\",TABLAS!$A$200)","v":0},{"$f":"+GETPIVOTDATA(\" BAS059\",TABLAS!$A$200)","v":0},{"$f":"+GETPIVOTDATA(\" BAS060\",TABLAS!$A$200)","v":0},null,null,null,"TD=D + DX=90675 + LAB1=3 + LAB2=PRE + LAB3=OCU","=+IMPORTARDATOSDINAMICOS(\" BAS056\";TABLAS!$A$169)","=+IMPORTARDATOSDINAMICOS(\" BAS057\";TABLAS!$A$169)","=+IMPORTARDATOSDINAMICOS(\" BAS058\";TABLAS!$A$169)","=+IMPORTARDATOSDINAMICOS(\" BAS059\";TABLAS!$A$169)","=+IMPORTARDATOSDINAMICOS(\" BAS060\";TABLAS!$A$169)",null,56,57,58,59,60]
[]
[]
[null,"3. Profilaxis Post-Exposición en Rabia Silvestre: Manejo de la herida por mordedura","Tipo de exposición","Ind. Tto","Total","0-11a","12-17a","18-29a","30-59a","60 y más"]
[null,"TOTAL","SEV","Vac",{"$f":"F37+G37+H37+I37+J37","v":3},{"$f":"F39+F41+F43","v":0},{"$f":"G39+G41+G43","v":0},1,1,1]
[null,null,"SEV","RIG Vac",{"$f":"F38+G38+H38+I38+J38","v":1},{"$f":"F40+F42+F44+F90","v":1},{"$f":"G42+G44+G152","v":0},{"$f":"H42+H44+H152","v":0},{"$f":"I42+I44+I152","v":0},{"$f":"J42+J44+J152","v":0}]
[null,"Mordedura de Murciélago","SEV","Vac",{"$f":"F39+G39+H39+I39+J39","v":0},{"$f":"+GETPIVOTDATA(\" BAS061\",TABLAS!$A$200)","v":0},{"$f":"+GETPIVOTDATA(\" BAS062\",TABLAS!$A$200)","v":0},{"$f":"+GETPIVOTDATA(\" BAS063\",TABLAS!$A$200)","v":0},{"$f":"+GETPIVOTDATA(\" BAS064\",TABLAS!$A$200)","v":0},{"$f":"+GETPIVOTDATA(\" BAS065\",TABLAS!$A$200)","v":0},null,null,"(TD=D + DX=W5591) + (TD=D + DX=99199.11 + LAB1=1)",{"$f":"IF(T39<10,CONCATENATE($Z$18,\"00\",T39,$Z$19),IF(AND(T39>9,T39<100),CONCATENATE($Z$18,\"0\",T39,$Z$19),CONCATENATE($Z$18,T39,$Z$19)))","v":"=+IMPORTARDATOSDINAMICOS(\" BAS061\";TABLAS!$A$169)"},{"$f":"IF(U39<10,CONCATENATE($Z$18,\"00\",U39,$Z$19),IF(AND(U39>9,U39<100),CONCATENATE($Z$18,\"0\",U39,$Z$19),CONCATENATE($Z$18,U39,$Z$19)))","v":"=+IMPORTARDATOSDINAMICOS(\" BAS062\";TABLAS!$A$169)"},{"$f":"IF(V39<10,CONCATENATE($Z$18,\"00\",V39,$Z$19),IF(AND(V39>9,V39<100),CONCATENATE($Z$18,\"0\",V39,$Z$19),CONCATENATE($Z$18,V39,$Z$19)))","v":"=+IMPORTARDATOSDINAMICOS(\" BAS063\";TABLAS!$A$169)"},{"$f":"IF(W39<10,CONCATENATE($Z$18,\"00\",W39,$Z$19),IF(AND(W39>9,W39<100),CONCATENATE($Z$18,\"0\",W39,$Z$19),CONCATENATE($Z$18,W39,$Z$19)))","v":"=+IMPORTARDATOSDINAMICOS(\" BAS064\";TABLAS!$A$169)"},{"$f":"IF(X39<10,CONCATENATE($Z$18,\"00\",X39,$Z$19),IF(AND(X39>9,X39<100),CONCATENATE($Z$18,\"0\",X39,$Z$19),CONCATENATE($Z$18,X39,$Z$19)))","v":"=+IMPORTARDATOSDINAMICOS(\" BAS065\";TABLAS!$A$169)"},null,{"$f":"+X33+1","v":61},{"$f":"+T39+1","v":62},{"$f":"+U39+1","v":63},{"$f":"+V39+1","v":64},{"$f":"+W39+1","v":65}]
[null,null,"SEV","RIG Vac",0,{"$f":"+GETPIVOTDATA(\" BAS066\",TABLAS!$A$200)","v":0},{"$f":"+GETPIVOTDATA(\" BAS067\",TABLAS!$A$200)","v":0},{"$f":"+GETPIVOTDATA(\" BAS068\",TABLAS!$A$200)","v":0},{"$f":"+GETPIVOTDATA(\" BAS069\",TABLAS!$A$200)","v":0},{"$f":"+GETPIVOTDATA(\" BAS070\",TABLAS!$A$200)","v":0},null,null,"(TD=D + DX=W5591) + (TD=D + DX=99199.11 + LAB1=2)","=+IMPORTARDATOSDINAMICOS(\" BAS066\";TABLAS!$A$169)","=+IMPORTARDATOSDINAMICOS(\" BAS067\";TABLAS!$A$169)","=+IMPORTARDATOSDINAMICOS(\" BAS068\";TABLAS!$A$169)","=+IMPORTARDATOSDINAMICOS(\" BAS069\";TABLAS!$A$169)","=+IMPORTARDATOSDINAMICOS(\" BAS070\";TABLAS!$A$169)",null,{"$f":"+X39+1","v":66},67,68,69,70]
[null,"Mordedura por otros animales silvestres ","SEV","Vac",3,{"$f":"+GETPIVOTDATA(\" BAS071\",TABLAS!$A$200)","v":0},{"$f":"+GETPIVOTDATA(\" BAS072\",TABLAS!$A$200)","v":0},{"$f":"+GETPIVOTDATA(\" BAS073\",TABLAS!$A$200)","v":1},{"$f":"+GETPIVOTDATA(\" BAS074\",TABLAS!$A$200)","v":1},{"$f":"+GETPIVOTDATA(\" BAS075\",TABLAS!$A$200)","v":1},null,null,"(TD=D + DX=W559) + (TD=D + DX=99199.11 + LAB1=1)","=+IMPORTARDATOSDINAMICOS(\" BAS071\";TABLAS!$A$169)","=+IMPORTARDATOSDINAMICOS(\" BAS072\";TABLAS!$A$169)","=+IMPORTARDATOSDINAMICOS(\" BAS073\";TABLAS!$A$169)","=+IMPORTARDATOSDINAMICOS(\" BAS074\";TABLAS!$A$169)","=+IMPORTARDATOSDINAMICOS(\" BAS075\";TABLAS!$A$169)",null,71,72,73,74,75]
[null,null,"SEV","RIG Vac",0,{"$f":"+GETPIVOTDATA(\" BAS076\",TABLAS!$A$200)","v":0},{"$f":"+GETPIVOTDATA(\" BAS077\",TABLAS!$A$200)","v":0},{"$f":"+GETPIVOTDATA(\" BAS078\",TABLAS!$A$200)","v":0},{"$f":"+GETPIVOTDATA(\" BAS079\",TABLAS!$A$200)","v":0},{"$f":"+GETPIVOTDATA(\" BAS080\",TABLAS!$A$200)","v":0},null,null,"(TD=D + DX=W559) + (TD=D + DX=99199.11 + LAB1=2)","=+IMPORTARDATOSDINAMICOS(\" BAS076\";TABLAS!$A$169)","=+IMPORTARDATOSDINAMICOS(\" BAS077\";TABLAS!$A$169)","=+IMPORTARDATOSDINAMICOS(\" BAS078\";TABLAS!$A$169)","=+IMPORTARDATOSDINAMICOS(\" BAS079\";TABLAS!$A$169)","=+IMPORTARDATOSDINAMICOS(\" BAS080\";TABLAS!$A$169)",null,76,77,78,79,80]
[null,"Mordedura por otros mamífero doméstico-rabia silvestre","SEV","Vac",0,{"$f":"+GETPIVOTDATA(\" BAS081\",TABLAS!$A$200)","v":0},{"$f":"+GETPIVOTDATA(\" BAS082\",TABLAS!$A$200)","v":0},{"$f":"+GETPIVOTDATA(\" BAS083\",TABLAS!$A$200)","v":0},{"$f":"+GETPIVOTDATA(\" BAS084\",TABLAS!$A$200)","v":0},{"$f":"+GETPIVOTDATA(\" BAS085\",TABLAS!$A$200)","v":0},null,null,"(TD=D + DX=W557) + (TD=D + DX=99199.11 + LAB1=1)","=+IMPORTARDATOSDINAMICOS(\" BAS081\";TABLAS!$A$169)","=+IMPORTARDATOSDINAMICOS(\" BAS082\";TABLAS!$A$169)","=+IMPORTARDATOSDINAMICOS(\" BAS083\";TABLAS!$A$169)","=+IMPORTARDATOSDINAMICOS(\" BAS084\";TABLAS!$A$169)","=+IMPORTARDATOSDINAMICOS(\" BAS085\";TABLAS!$A$169)",null,81,82,83,84,85]
[null,null,"SEV","RIG Vac",0,{"$f":"+GETPIVOTDATA(\" BAS086\",TABLAS!$A$200)","v":0},{"$f":"+GETPIVOTDATA(\" BAS087\",TABLAS!$A$200)","v":0},{"$f":"+GETPIVOTDATA(\" BAS088\",TABLAS!$A$200)","v":0},{"$f":"+GETPIVOTDATA(\" BAS089\",TABLAS!$A$200)","v":0},{"$f":"+GETPIVOTDATA(\" BAS090\",TABLAS!$A$200)","v":0},null,null,"(TD=D + DX=W557) + (TD=D + DX=99199.11 + LAB1=2)","=+IMPORTARDATOSDINAMICOS(\" BAS086\";TABLAS!$A$169)","=+IMPORTARDATOSDINAMICOS(\" BAS087\";TABLAS!$A$169)","=+IMPORTARDATOSDINAMICOS(\" BAS088\";TABLAS!$A$169)","=+IMPORTARDATOSDINAMICOS(\" BAS089\";TABLAS!$A$169)","=+IMPORTARDATOSDINAMICOS(\" BAS090\";TABLAS!$A$169)",null,86,87,88,89,90]
[]
[]
[]
[null,"SITUACIÓN DE LA RABIA EN MAMÍFEROS DOMÉSTICOS Y EL RIESGO DE RABIA HUMANA SILVESTRE"]
[null,"Animal Mordedor","Grado de la exposición","Situación Vacunal","TOTAL","0-11a","12-17a","18-29a","30-59a","60 y más"]
[null,"Mordedura por otros mamífero doméstico-rabia silvestre"," 4.1 Tratamiento en caso de animal mordedor SILVESTRE EXCEPTO en Cara, cabeza, cuello, genitales, pulpejo de dedos de manos y pies, lesiones desgarradas, profundas o múltiples; y 4.2 Tratamiento en caso de animal mordedor SILVESTRE en Cara, cabeza, cuello, genitales, pulpejo de dedos de manos y pies, lesiones desgarradas, profundas o múltiples.","ACCESO: 1"]
[null,null,null,"SEGUIMIENTO: 2"]
[null,null,null,"SEGUIMIENTO: 3"]
[null,null,null,"SEGUIMIENTO: 4"]
[null,null,null,"COBERTURA: 5"]
[null,null,"4.3 Tratamiento en caso de Contacto o Animal confirmado de rabia","ACCESO: 1"]
[null,null,null,"SEGUIMIENTO: 2"]
[null,null,null,"SEGUIMIENTO: 3"]
[null,null,null,"SEGUIMIENTO: 4"]
[null,null,null,"COBERTURA: 5"]
[null,null,"4.4 Tratamiento en caso de Re-exposición","ACCESO: 1"]
[null,null,null,"COBERTURA: 2"]
[null,"Mordedura por otros animales silvestres "," 4.1 Tratamiento en caso de animal mordedor SILVESTRE EXCEPTO en Cara, cabeza, cuello, genitales, pulpejo de dedos de manos y pies, lesiones desgarradas, profundas o múltiples; y 4.2 Tratamiento en caso de animal mordedor SILVESTRE en Cara, cabeza, cuello, genitales, pulpejo de dedos de manos y pies, lesiones desgarradas, profundas o múltiples.","ACCESO: 1"]
[null,null,null,"SEGUIMIENTO: 2"]
[null,null,null,"SEGUIMIENTO: 3"]
[null,null,null,"SEGUIMIENTO: 4"]
[null,null,null,"COBERTURA: 5"]
[null,null,"4.3 Tratamiento en caso de Contacto o Animal confirmado de rabia","ACCESO: 1"]
[null,null,null,"SEGUIMIENTO: 2"]
[null,null,null,"SEGUIMIENTO: 3"]
[null,null,null,"SEGUIMIENTO: 4"]
[null,null,null,"COBERTURA: 5"]
[null,null,"4.4 Tratamiento en caso de Re-exposición","ACCESO: 1"]
[null,null,null,"COBERTURA: 2"]
[null,"Mordedura de Murciélago"," 4.1 Tratamiento en caso de animal mordedor SILVESTRE EXCEPTO en Cara, cabeza, cuello, genitales, pulpejo de dedos de manos y pies, lesiones desgarradas, profundas o múltiples; y 4.2 Tratamiento en caso de animal mordedor SILVESTRE en Cara, cabeza, cuello, genitales, pulpejo de dedos de manos y pies, lesiones desgarradas, profundas o múltiples.","ACCESO: 1"]
[null,null,null,"SEGUIMIENTO: 2"]
[null,null,null,"SEGUIMIENTO: 3"]
[null,null,null,"SEGUIMIENTO: 4"]
[null,null,null,"COBERTURA: 5"]
[null,null,"4.3 Tratamiento en caso de Contacto o Animal confirmado de rabia","ACCESO: 1"]
[null,null,null,"SEGUIMIENTO: 2"]
[null,null,null,"SEGUIMIENTO: 3"]
[null,null,null,"SEGUIMIENTO: 4"]
[null,null,null,"COBERTURA: 5"]
[null,null,"4.4 Tratamiento en caso de Re-exposición","ACCESO: 1"]
[null,null,null,"COBERTURA: 2"]
[]
[]
[]
[null,"4. Profilaxis Post-Exposición en Rabia Silvestre: Vacunación Antirrábica Humana","Situación Vacunal","Frascos RIG","Total Personas","0-11a","12-17a","18-29a","30-59a","60 y más"]
[1," 4.1 Tratamiento en caso de animal mordedor SILVESTRE EXCEPTO en Cara, cabeza, cuello, genitales, pulpejo de dedos de manos y pies, lesiones desgarradas, profundas o múltiples; y 4.2 Tratamiento en caso de animal mordedor SILVESTRE en Cara, cabeza, cuello, genitales, pulpejo de dedos de manos y pies, lesiones desgarradas, profundas o múltiples.","ACCESO: 1",{"$f":"+GETPIVOTDATA(\" BAS091\",TABLAS!$A$200)","v":0},{"$f":"F90+G90+H90+I90+J90","v":9},{"$f":"+GETPIVOTDATA(\" BAS092\",TABLAS!$A$200)","v":1},{"$f":"+GETPIVOTDATA(\" BAS093\",TABLAS!$A$200)","v":0},{"$f":"+GETPIVOTDATA(\" BAS094\",TABLAS!$A$200)","v":5},{"$f":"+GETPIVOTDATA(\" BAS095\",TABLAS!$A$200)","v":2},{"$f":"+GETPIVOTDATA(\" BAS096\",TABLAS!$A$200)","v":1},null,{"$f":"IF(S90<10,CONCATENATE($Z$18,\"00\",S90,$Z$19),IF(AND(R90>9,S90<100),CONCATENATE($Z$18,\"0\",S90,$Z$19),CONCATENATE($Z$18,S90,$Z$19)))","v":"=+IMPORTARDATOSDINAMICOS(\" BAS091\";TABLAS!$A$169)"},null,{"$f":"IF(T90<10,CONCATENATE($Z$18,\"00\",T90,$Z$19),IF(AND(T90>9,T90<100),CONCATENATE($Z$18,\"0\",T90,$Z$19),CONCATENATE($Z$18,T90,$Z$19)))","v":"=+IMPORTARDATOSDINAMICOS(\" BAS092\";TABLAS!$A$169)"},{"$f":"IF(U90<10,CONCATENATE($Z$18,\"00\",U90,$Z$19),IF(AND(U90>9,U90<100),CONCATENATE($Z$18,\"0\",U90,$Z$19),CONCATENATE($Z$18,U90,$Z$19)))","v":"=+IMPORTARDATOSDINAMICOS(\" BAS093\";TABLAS!$A$169)"},{"$f":"IF(V90<10,CONCATENATE($Z$18,\"00\",V90,$Z$19),IF(AND(V90>9,V90<100),CONCATENATE($Z$18,\"0\",V90,$Z$19),CONCATENATE($Z$18,V90,$Z$19)))","v":"=+IMPORTARDATOSDINAMICOS(\" BAS094\";TABLAS!$A$169)"},{"$f":"IF(W90<10,CONCATENATE($Z$18,\"00\",W90,$Z$19),IF(AND(W90>9,W90<100),CONCATENATE($Z$18,\"0\",W90,$Z$19),CONCATENATE($Z$18,W90,$Z$19)))","v":"=+IMPORTARDATOSDINAMICOS(\" BAS095\";TABLAS!$A$169)"},{"$f":"IF(X90<10,CONCATENATE($Z$18,\"00\",X90,$Z$19),IF(AND(X90>9,X90<100),CONCATENATE($Z$18,\"0\",X90,$Z$19),CONCATENATE($Z$18,X90,$Z$19)))","v":"=+IMPORTARDATOSDINAMICOS(\" BAS096\";TABLAS!$A$169)"},{"$f":"+X44+1","v":91},{"$f":"+S90+1","v":92},{"$f":"+T90+1","v":93},{"$f":"+U90+1","v":94},{"$f":"+V90+1","v":95},{"$f":"+W90+1","v":96},null,"SUMA LAB (TD=D + DX=90675 + LAB1=1 + LAB2=POS + LAB3=ZOO) + (TD=D + DX=90375 + LAB)","TD=D + DX=90675 + LAB1=1 + LAB2=POS + LAB3=ZOO"]
[null,null,"SEGUIMIENTO: 2",{"$f":"+GETPIVOTDATA(\" BAS097\",TABLAS!$A$200)","v":0},9,{"$f":"+GETPIVOTDATA(\" BAS098\",TABLAS!$A$200)","v":1},{"$f":"+GETPIVOTDATA(\" BAS099\",TABLAS!$A$200)","v":0},{"$f":"+GETPIVOTDATA(\" BAS100\",TABLAS!$A$200)","v":5},{"$f":"+GETPIVOTDATA(\" BAS101\",TABLAS!$A$200)","v":2},{"$f":"+GETPIVOTDATA(\" BAS102\",TABLAS!$A$200)","v":1},null,{"$f":"IF(S91<10,CONCATENATE($Z$18,\"00\",S91,$Z$19),IF(AND(R91>9,S91<100),CONCATENATE($Z$18,\"0\",S91,$Z$19),CONCATENATE($Z$18,S91,$Z$19)))","v":"=+IMPORTARDATOSDINAMICOS(\" BAS097\";TABLAS!$A$169)"},null,{"$f":"IF(T91<10,CONCATENATE($Z$18,\"00\",T91,$Z$19),IF(AND(T91>9,T91<100),CONCATENATE($Z$18,\"0\",T91,$Z$19),CONCATENATE($Z$18,T91,$Z$19)))","v":"=+IMPORTARDATOSDINAMICOS(\" BAS098\";TABLAS!$A$169)"},"=+IMPORTARDATOSDINAMICOS(\" BAS099\";TABLAS!$A$169)","=+IMPORTARDATOSDINAMICOS(\" BAS100\";TABLAS!$A$169)","=+IMPORTARDATOSDINAMICOS(\" BAS101\";TABLAS!$A$169)","=+IMPORTARDATOSDINAMICOS(\" BAS102\";TABLAS!$A$169)",{"$f":"+X90+1","v":97},{"$f":"+S91+1","v":98},99,100,101,102,null,"SUMA LAB (TD=D + DX=90675 + LAB1=2 + LAB2=POS + LAB3=ZOO) + (TD=D + DX=90375 + LAB)","TD=D + DX=90675 + LAB1=2 + LAB2=POS + LAB3=ZOO"]
[null,null,"SEGUIMIENTO: 3",{"$f":"+GETPIVOTDATA(\" BAS103\",TABLAS!$A$200)","v":0},1,{"$f":"+GETPIVOTDATA(\" BAS104\",TABLAS!$A$200)","v":0},{"$f":"+GETPIVOTDATA(\" BAS105\",TABLAS!$A$200)","v":0},{"$f":"+GETPIVOTDATA(\" BAS106\",TABLAS!$A$200)","v":0},{"$f":"+GETPIVOTDATA(\" BAS107\",TABLAS!$A$200)","v":0},{"$f":"+GETPIVOTDATA(\" BAS108\",TABLAS!$A$200)","v":1},null,"=+IMPORTARDATOSDINAMICOS(\" BAS103\";TABLAS!$A$169)",null,{"$f":"IF(T92<10,CONCATENATE($Z$18,\"00\",T92,$Z$19),IF(AND(T92>9,T92<100),CONCATENATE($Z$18,\"0\",T92,$Z$19),CONCATENATE($Z$18,T92,$Z$19)))","v":"=+IMPORTARDATOSDINAMICOS(\" BAS104\";TABLAS!$A$169)"},"=+IMPORTARDATOSDINAMICOS(\" BAS105\";TABLAS!$A$169)","=+IMPORTARDATOSDINAMICOS(\" BAS106\";TABLAS!$A$169)","=+IMPORTARDATOSDINAMICOS(\" BAS107\";TABLAS!$A$169)","=+IMPORTARDATOSDINAMICOS(\" BAS108\";TABLAS!$A$169)",{"$f":"+X91+1","v":103},{"$f":"+S92+1","v":104},105,106,107,108,null,"SUMA LAB (TD=D + DX=90675 + LAB1=3 + LAB2=POS + LAB3=ZOO) + (TD=D + DX=90375 + LAB)","TD=D + DX=90675 + LAB1=3 + LAB2=POS + LAB3=ZOO"]
[null,null,"SEGUIMIENTO: 4",{"$f":"+GETPIVOTDATA(\" BAS109\",TABLAS!$A$200)","v":0},0,{"$f":"+GETPIVOTDATA(\" BAS110\",TABLAS!$A$200)","v":0},{"$f":"+GETPIVOTDATA(\" BAS111\",TABLAS!$A$200)","v":0},{"$f":"+GETPIVOTDATA(\" BAS112\",TABLAS!$A$200)","v":0},{"$f":"+GETPIVOTDATA(\" BAS113\",TABLAS!$A$200)","v":0},{"$f":"+GETPIVOTDATA(\" BAS114\",TABLAS!$A$200)","v":0},null,"=+IMPORTARDATOSDINAMICOS(\" BAS109\";TABLAS!$A$169)",null,{"$f":"IF(T93<10,CONCATENATE($Z$18,\"00\",T93,$Z$19),IF(AND(T93>9,T93<100),CONCATENATE($Z$18,\"0\",T93,$Z$19),CONCATENATE($Z$18,T93,$Z$19)))","v":"=+IMPORTARDATOSDINAMICOS(\" BAS110\";TABLAS!$A$169)"},"=+IMPORTARDATOSDINAMICOS(\" BAS111\";TABLAS!$A$169)","=+IMPORTARDATOSDINAMICOS(\" BAS112\";TABLAS!$A$169)","=+IMPORTARDATOSDINAMICOS(\" BAS113\";TABLAS!$A$169)","=+IMPORTARDATOSDINAMICOS(\" BAS114\";TABLAS!$A$169)",109,110,111,112,113,114,null,"SUMA LAB (TD=D + DX=90675 + LAB1=4 + LAB2=POS + LAB3=ZOO) + (TD=D + DX=90375 + LAB)","TD=D + DX=90675 + LAB1=4 + LAB2=POS + LAB3=ZOO"]
[null,null,"COBERTURA: 5",{"$f":"+GETPIVOTDATA(\" BAS115\",TABLAS!$A$200)","v":0},0,{"$f":"+GETPIVOTDATA(\" BAS116\",TABLAS!$A$200)","v":0},{"$f":"+GETPIVOTDATA(\" BAS117\",TABLAS!$A$200)","v":0},{"$f":"+GETPIVOTDATA(\" BAS118\",TABLAS!$A$200)","v":0},{"$f":"+GETPIVOTDATA(\" BAS119\",TABLAS!$A$200)","v":0},{"$f":"+GETPIVOTDATA(\" BAS120\",TABLAS!$A$200)","v":0},null,"=+IMPORTARDATOSDINAMICOS(\" BAS115\";TABLAS!$A$169)",null,{"$f":"IF(T94<10,CONCATENATE($Z$18,\"00\",T94,$Z$19),IF(AND(T94>9,T94<100),CONCATENATE($Z$18,\"0\",T94,$Z$19),CONCATENATE($Z$18,T94,$Z$19)))","v":"=+IMPORTARDATOSDINAMICOS(\" BAS116\";TABLAS!$A$169)"},"=+IMPORTARDATOSDINAMICOS(\" BAS117\";TABLAS!$A$169)","=+IMPORTARDATOSDINAMICOS(\" BAS118\";TABLAS!$A$169)","=+IMPORTARDATOSDINAMICOS(\" BAS119\";TABLAS!$A$169)","=+IMPORTARDATOSDINAMICOS(\" BAS120\";TABLAS!$A$169)",115,116,117,118,119,120,null,"SUMA LAB (TD=D + DX=90675 + LAB1=5 + LAB2=POS + LAB3=ZOO) + (TD=D + DX=90375 + LAB)","TD=D + DX=90675 + LAB1=5 + LAB2=POS + LAB3=ZOO"]
[2,"4.3 Tratamiento en caso de Contacto o Animal confirmado de rabia","ACCESO: 1",{"$f":"+GETPIVOTDATA(\" BAS121\",TABLAS!$A$200)","v":0},0,{"$f":"+GETPIVOTDATA(\" BAS122\",TABLAS!$A$200)","v":0},{"$f":"+GETPIVOTDATA(\" BAS123\",TABLAS!$A$200)","v":0},{"$f":"+GETPIVOTDATA(\" BAS124\",TABLAS!$A$200)","v":0},{"$f":"+GETPIVOTDATA(\" BAS125\",TABLAS!$A$200)","v":0},{"$f":"+GETPIVOTDATA(\" BAS126\",TABLAS!$A$200)","v":0},null,"=+IMPORTARDATOSDINAMICOS(\" BAS121\";TABLAS!$A$169)",null,{"$f":"IF(T95<10,CONCATENATE($Z$18,\"00\",T95,$Z$19),IF(AND(T95>9,T95<100),CONCATENATE($Z$18,\"0\",T95,$Z$19),CONCATENATE($Z$18,T95,$Z$19)))","v":"=+IMPORTARDATOSDINAMICOS(\" BAS122\";TABLAS!$A$169)"},"=+IMPORTARDATOSDINAMICOS(\" BAS123\";TABLAS!$A$169)","=+IMPORTARDATOSDINAMICOS(\" BAS124\";TABLAS!$A$169)","=+IMPORTARDATOSDINAMICOS(\" BAS125\";TABLAS!$A$169)","=+IMPORTARDATOSDINAMICOS(\" BAS126\";TABLAS!$A$169)",121,122,123,124,125,126,null,"SUMA LAB (TD=D + DX=90675 + LAB1=1 + LAB2=CE + LAB3=ZOO) + (TD=D + DX=90375 + LAB)","TD=D + DX=90675 + LAB1=1 + LAB2=CE + LAB3=ZOO"]
[null,null,"SEGUIMIENTO: 2",{"$f":"+GETPIVOTDATA(\" BAS127\",TABLAS!$A$200)","v":0},0,{"$f":"+GETPIVOTDATA(\" BAS128\",TABLAS!$A$200)","v":0},{"$f":"+GETPIVOTDATA(\" BAS129\",TABLAS!$A$200)","v":0},{"$f":"+GETPIVOTDATA(\" BAS130\",TABLAS!$A$200)","v":0},{"$f":"+GETPIVOTDATA(\" BAS131\",TABLAS!$A$200)","v":0},{"$f":"+GETPIVOTDATA(\" BAS132\",TABLAS!$A$200)","v":0},null,"=+IMPORTARDATOSDINAMICOS(\" BAS127\";TABLAS!$A$169)",null,"=+IMPORTARDATOSDINAMICOS(\" BAS128\";TABLAS!$A$169)","=+IMPORTARDATOSDINAMICOS(\" BAS129\";TABLAS!$A$169)","=+IMPORTARDATOSDINAMICOS(\" BAS130\";TABLAS!$A$169)","=+IMPORTARDATOSDINAMICOS(\" BAS131\";TABLAS!$A$169)","=+IMPORTARDATOSDINAMICOS(\" BAS132\";TABLAS!$A$169)",127,128,129,130,131,132,null,"SUMA LAB (TD=D + DX=90675 + LAB1=2 + LAB2=CE + LAB3=ZOO) + (TD=D + DX=90375 + LAB)","TD=D + DX=90675 + LAB1=2 + LAB2=CE + LAB3=ZOO"]
[null,null,"SEGUIMIENTO: 3",{"$f":"+GETPIVOTDATA(\" BAS133\",TABLAS!$A$200)","v":0},0,{"$f":"+GETPIVOTDATA(\" BAS134\",TABLAS!$A$200)","v":0},{"$f":"+GETPIVOTDATA(\" BAS135\",TABLAS!$A$200)","v":0},{"$f":"+GETPIVOTDATA(\" BAS136\",TABLAS!$A$200)","v":0},{"$f":"+GETPIVOTDATA(\" BAS137\",TABLAS!$A$200)","v":0},{"$f":"+GETPIVOTDATA(\" BAS138\",TABLAS!$A$200)","v":0},null,"=+IMPORTARDATOSDINAMICOS(\" BAS133\";TABLAS!$A$169)",null,"=+IMPORTARDATOSDINAMICOS(\" BAS134\";TABLAS!$A$169)","=+IMPORTARDATOSDINAMICOS(\" BAS135\";TABLAS!$A$169)","=+IMPORTARDATOSDINAMICOS(\" BAS136\";TABLAS!$A$169)","=+IMPORTARDATOSDINAMICOS(\" BAS137\";TABLAS!$A$169)","=+IMPORTARDATOSDINAMICOS(\" BAS138\";TABLAS!$A$169)",133,134,135,136,137,138,null,"SUMA LAB (TD=D + DX=90675 + LAB1=3 + LAB2=CE + LAB3=ZOO) + (TD=D + DX=90375 + LAB)","TD=D + DX=90675 + LAB1=3 + LAB2=CE + LAB3=ZOO"]
[null,null,"SEGUIMIENTO: 4",{"$f":"+GETPIVOTDATA(\" BAS139\",TABLAS!$A$200)","v":0},0,{"$f":"+GETPIVOTDATA(\" BAS140\",TABLAS!$A$200)","v":0},{"$f":"+GETPIVOTDATA(\" BAS141\",TABLAS!$A$200)","v":0},{"$f":"+GETPIVOTDATA(\" BAS142\",TABLAS!$A$200)","v":0},{"$f":"+GETPIVOTDATA(\" BAS143\",TABLAS!$A$200)","v":0},{"$f":"+GETPIVOTDATA(\" BAS144\",TABLAS!$A$200)","v":0},null,"=+IMPORTARDATOSDINAMICOS(\" BAS139\";TABLAS!$A$169)",null,"=+IMPORTARDATOSDINAMICOS(\" BAS140\";TABLAS!$A$169)","=+IMPORTARDATOSDINAMICOS(\" BAS141\";TABLAS!$A$169)","=+IMPORTARDATOSDINAMICOS(\" BAS142\";TABLAS!$A$169)","=+IMPORTARDATOSDINAMICOS(\" BAS143\";TABLAS!$A$169)","=+IMPORTARDATOSDINAMICOS(\" BAS144\";TABLAS!$A$169)",139,140,141,142,143,144,null,"SUMA LAB (TD=D + DX=90675 + LAB1=4 + LAB2=CE + LAB3=ZOO) + (TD=D + DX=90375 + LAB)","TD=D + DX=90675 + LAB1=4 + LAB2=CE + LAB3=ZOO"]
[null,null,"COBERTURA: 5",{"$f":"+GETPIVOTDATA(\" BAS145\",TABLAS!$A$200)","v":0},0,{"$f":"+GETPIVOTDATA(\" BAS146\",TABLAS!$A$200)","v":0},{"$f":"+GETPIVOTDATA(\" BAS147\",TABLAS!$A$200)","v":0},{"$f":"+GETPIVOTDATA(\" BAS148\",TABLAS!$A$200)","v":0},{"$f":"+GETPIVOTDATA(\" BAS149\",TABLAS!$A$200)","v":0},{"$f":"+GETPIVOTDATA(\" BAS150\",TABLAS!$A$200)","v":0},null,"=+IMPORTARDATOSDINAMICOS(\" BAS145\";TABLAS!$A$169)",null,"=+IMPORTARDATOSDINAMICOS(\" BAS146\";TABLAS!$A$169)","=+IMPORTARDATOSDINAMICOS(\" BAS147\";TABLAS!$A$169)","=+IMPORTARDATOSDINAMICOS(\" BAS148\";TABLAS!$A$169)","=+IMPORTARDATOSDINAMICOS(\" BAS149\";TABLAS!$A$169)","=+IMPORTARDATOSDINAMICOS(\" BAS150\";TABLAS!$A$169)",145,146,147,148,149,150,null,"SUMA LAB (TD=D + DX=90675 + LAB1=5 + LAB2=CE + LAB3=ZOO) + (TD=D + DX=90375 + LAB)","TD=D + DX=90675 + LAB1=5 + LAB2=CE + LAB3=ZOO"]
[3,"4.4 Tratamiento en caso de Re-exposición","ACCESO: 1",null,0,{"$f":"+GETPIVOTDATA(\" BAS151\",TABLAS!$A$200)","v":0},{"$f":"+GETPIVOTDATA(\" BAS152\",TABLAS!$A$200)","v":0},{"$f":"+GETPIVOTDATA(\" BAS153\",TABLAS!$A$200)","v":0},{"$f":"+GETPIVOTDATA(\" BAS154\",TABLAS!$A$200)","v":0},{"$f":"+GETPIVOTDATA(\" BAS155\",TABLAS!$A$200)","v":0},null,null,null,"=+IMPORTARDATOSDINAMICOS(\" BAS151\";TABLAS!$A$169)","=+IMPORTARDATOSDINAMICOS(\" BAS152\";TABLAS!$A$169)","=+IMPORTARDATOSDINAMICOS(\" BAS153\";TABLAS!$A$169)","=+IMPORTARDATOSDINAMICOS(\" BAS154\";TABLAS!$A$169)","=+IMPORTARDATOSDINAMICOS(\" BAS155\";TABLAS!$A$169)",null,{"$f":"+X99+1","v":151},152,153,154,155,null,null,"TD=D + DX=90675 + LAB1=1 + LAB2=DA + LAB3=ZOO"]
[null,null,"COBERTURA: 2",null,0,{"$f":"+GETPIVOTDATA(\" BAS156\",TABLAS!$A$200)","v":0},{"$f":"+GETPIVOTDATA(\" BAS157\",TABLAS!$A$200)","v":0},{"$f":"+GETPIVOTDATA(\" BAS158\",TABLAS!$A$200)","v":0},{"$f":"+GETPIVOTDATA(\" BAS159\",TABLAS!$A$200)","v":0},{"$f":"+GETPIVOTDATA(\" BAS160\",TABLAS!$A$200)","v":0},null,null,null,"=+IMPORTARDATOSDINAMICOS(\" BAS156\";TABLAS!$A$169)","=+IMPORTARDATOSDINAMICOS(\" BAS157\";TABLAS!$A$169)","=+IMPORTARDATOSDINAMICOS(\" BAS158\";TABLAS!$A$169)","=+IMPORTARDATOSDINAMICOS(\" BAS159\";TABLAS!$A$169)","=+IMPORTARDATOSDINAMICOS(\" BAS160\";TABLAS!$A$169)",null,156,157,158,159,160,null,null,"TD=D + DX=90675 + LAB1=2 + LAB2=DA + LAB3=ZOO"]
[]
[]
[null,"5. Referencias y Contrarreferencias para el tratamiento antirrábico","Situación Vacunal","Frascos RIG","Total Personas","0-11a","12-17a","18-29a","30-59a","60 y más"]
[null,"DVR Transferencia realizada","ACCESO: 1",{"$f":"+GETPIVOTDATA(\" BAS161\",TABLAS!$A$200)","v":0},{"$f":"SUM(F105:J105)","v":0},{"$f":"+GETPIVOTDATA(\" BAS162\",TABLAS!$A$200)","v":0},{"$f":"+GETPIVOTDATA(\" BAS163\",TABLAS!$A$200)","v":0},{"$f":"+GETPIVOTDATA(\" BAS164\",TABLAS!$A$200)","v":0},{"$f":"+GETPIVOTDATA(\" BAS165\",TABLAS!$A$200)","v":0},{"$f":"+GETPIVOTDATA(\" BAS166\",TABLAS!$A$200)","v":0},null,{"$f":"IF(S105<10,CONCATENATE($Z$18,\"00\",S105,$Z$19),IF(AND(S105>9,S105<100),CONCATENATE($Z$18,\"0\",S105,$Z$19),CONCATENATE($Z$18,S105,$Z$19)))","v":"=+IMPORTARDATOSDINAMICOS(\" BAS161\";TABLAS!$A$169)"},null,{"$f":"IF(T105<10,CONCATENATE($Z$18,\"00\",T105,$Z$19),IF(AND(T105>9,T105<100),CONCATENATE($Z$18,\"0\",T105,$Z$19),CONCATENATE($Z$18,T105,$Z$19)))","v":"=+IMPORTARDATOSDINAMICOS(\" BAS162\";TABLAS!$A$169)"},{"$f":"IF(U105<10,CONCATENATE($Z$18,\"00\",U105,$Z$19),IF(AND(U105>9,U105<100),CONCATENATE($Z$18,\"0\",U105,$Z$19),CONCATENATE($Z$18,U105,$Z$19)))","v":"=+IMPORTARDATOSDINAMICOS(\" BAS163\";TABLAS!$A$169)"},{"$f":"IF(V105<10,CONCATENATE($Z$18,\"00\",V105,$Z$19),IF(AND(V105>9,V105<100),CONCATENATE($Z$18,\"0\",V105,$Z$19),CONCATENATE($Z$18,V105,$Z$19)))","v":"=+IMPORTARDATOSDINAMICOS(\" BAS164\";TABLAS!$A$169)"},{"$f":"IF(W105<10,CONCATENATE($Z$18,\"00\",W105,$Z$19),IF(AND(W105>9,W105<100),CONCATENATE($Z$18,\"0\",W105,$Z$19),CONCATENATE($Z$18,W105,$Z$19)))","v":"=+IMPORTARDATOSDINAMICOS(\" BAS165\";TABLAS!$A$169)"},{"$f":"IF(X105<10,CONCATENATE($Z$18,\"00\",X105,$Z$19),IF(AND(X105>9,X105<100),CONCATENATE($Z$18,\"0\",X105,$Z$19),CONCATENATE($Z$18,X105,$Z$19)))","v":"=+IMPORTARDATOSDINAMICOS(\" BAS166\";TABLAS!$A$169)"},{"$f":"+X101+1","v":161},{"$f":"+S105+1","v":162},{"$f":"+T105+1","v":163},{"$f":"+U105+1","v":164},{"$f":"+V105+1","v":165},{"$f":"+W105+1","v":166},null,null,null,"SUMA LAB (TD=D + DX=90675 + LAB1=1 + LAB2=DVR + LAB3=ZOO) + (TD=D + DX=90375 + LAB)","TD=D + DX=90675 + LAB1=1 + LAB2=DVR + LAB3=ZOO"]
[null,null,"SEGUIMIENTO: 2",{"$f":"+GETPIVOTDATA(\" BAS167\",TABLAS!$A$200)","v":0},{"$f":"SUM(F106:J106)","v":0},{"$f":"+GETPIVOTDATA(\" BAS168\",TABLAS!$A$200)","v":0},{"$f":"+GETPIVOTDATA(\" BAS169\",TABLAS!$A$200)","v":0},{"$f":"+GETPIVOTDATA(\" BAS170\",TABLAS!$A$200)","v":0},{"$f":"+GETPIVOTDATA(\" BAS171\",TABLAS!$A$200)","v":0},{"$f":"+GETPIVOTDATA(\" BAS172\",TABLAS!$A$200)","v":0},null,{"$f":"IF(S106<10,CONCATENATE($Z$18,\"00\",S106,$Z$19),IF(AND(S106>9,S106<100),CONCATENATE($Z$18,\"0\",S106,$Z$19),CONCATENATE($Z$18,S106,$Z$19)))","v":"=+IMPORTARDATOSDINAMICOS(\" BAS167\";TABLAS!$A$169)"},null,"=+IMPORTARDATOSDINAMICOS(\" BAS168\";TABLAS!$A$169)","=+IMPORTARDATOSDINAMICOS(\" BAS169\";TABLAS!$A$169)","=+IMPORTARDATOSDINAMICOS(\" BAS170\";TABLAS!$A$169)","=+IMPORTARDATOSDINAMICOS(\" BAS171\";TABLAS!$A$169)","=+IMPORTARDATOSDINAMICOS(\" BAS172\";TABLAS!$A$169)",{"$f":"+X105+1","v":167},{"$f":"+S106+1","v":168},169,170,171,172,null,null,null,"SUMA LAB (TD=D + DX=90675 + LAB1=1 + LAB2=DVR + LAB3=ZOO) + (TD=D + DX=90375 + LAB)","TD=D + DX=90675 + LAB1=2 + LAB2=DVR + LAB3=ZOO"]
[null,null,"SEGUIMIENTO: 3",{"$f":"+GETPIVOTDATA(\" BAS173\",TABLAS!$A$200)","v":0},0,{"$f":"+GETPIVOTDATA(\" BAS174\",TABLAS!$A$200)","v":0},{"$f":"+GETPIVOTDATA(\" BAS175\",TABLAS!$A$200)","v":0},{"$f":"+GETPIVOTDATA(\" BAS176\",TABLAS!$A$200)","v":0},{"$f":"+GETPIVOTDATA(\" BAS177\",TABLAS!$A$200)","v":0},{"$f":"+GETPIVOTDATA(\" BAS178\",TABLAS!$A$200)","v":0},null,"=+IMPORTARDATOSDINAMICOS(\" BAS173\";TABLAS!$A$169)",null,"=+IMPORTARDATOSDINAMICOS(\" BAS174\";TABLAS!$A$169)","=+IMPORTARDATOSDINAMICOS(\" BAS175\";TABLAS!$A$169)","=+IMPORTARDATOSDINAMICOS(\" BAS176\";TABLAS!$A$169)","=+IMPORTARDATOSDINAMICOS(\" BAS177\";TABLAS!$A$169)","=+IMPORTARDATOSDINAMICOS(\" BAS178\";TABLAS!$A$169)",{"$f":"+X106+1","v":173},{"$f":"+S107+1","v":174},175,176,177,178,null,null,null,"SUMA LAB (TD=D + DX=90675 + LAB1=1 + LAB2=DVR + LAB3=ZOO) + (TD=D + DX=90375 + LAB)","TD=D + DX=90675 + LAB1=3 + LAB2=DVR + LAB3=ZOO"]
[null,null,"SEGUIMIENTO: 4",{"$f":"+GETPIVOTDATA(\" BAS179\",TABLAS!$A$200)","v":0},0,{"$f":"+GETPIVOTDATA(\" BAS180\",TABLAS!$A$200)","v":0},{"$f":"+GETPIVOTDATA(\" BAS181\",TABLAS!$A$200)","v":0},{"$f":"+GETPIVOTDATA(\" BAS182\",TABLAS!$A$200)","v":0},{"$f":"+GETPIVOTDATA(\" BAS183\",TABLAS!$A$200)","v":0},{"$f":"+GETPIVOTDATA(\" BAS184\",TABLAS!$A$200)","v":0},null,"=+IMPORTARDATOSDINAMICOS(\" BAS179\";TABLAS!$A$169)",null,"=+IMPORTARDATOSDINAMICOS(\" BAS180\";TABLAS!$A$169)","=+IMPORTARDATOSDINAMICOS(\" BAS181\";TABLAS!$A$169)","=+IMPORTARDATOSDINAMICOS(\" BAS182\";TABLAS!$A$169)","=+IMPORTARDATOSDINAMICOS(\" BAS183\";TABLAS!$A$169)","=+IMPORTARDATOSDINAMICOS(\" BAS184\";TABLAS!$A$169)",179,180,181,182,183,184,null,null,null,"SUMA LAB (TD=D + DX=90675 + LAB1=4 + LAB2=DVR + LAB3=ZOO) + (TD=D + DX=90375 + LAB)","TD=D + DX=90675 + LAB1=4 + LAB2=DVR + LAB3=ZOO"]
[null,null,"COBERTURA: 5",{"$f":"+GETPIVOTDATA(\" BAS185\",TABLAS!$A$200)","v":0},0,{"$f":"+GETPIVOTDATA(\" BAS186\",TABLAS!$A$200)","v":0},{"$f":"+GETPIVOTDATA(\" BAS187\",TABLAS!$A$200)","v":0},{"$f":"+GETPIVOTDATA(\" BAS188\",TABLAS!$A$200)","v":0},{"$f":"+GETPIVOTDATA(\" BAS189\",TABLAS!$A$200)","v":0},{"$f":"+GETPIVOTDATA(\" BAS190\",TABLAS!$A$200)","v":0},null,"=+IMPORTARDATOSDINAMICOS(\" BAS185\";TABLAS!$A$169)",null,"=+IMPORTARDATOSDINAMICOS(\" BAS186\";TABLAS!$A$169)","=+IMPORTARDATOSDINAMICOS(\" BAS187\";TABLAS!$A$169)","=+IMPORTARDATOSDINAMICOS(\" BAS188\";TABLAS!$A$169)","=+IMPORTARDATOSDINAMICOS(\" BAS189\";TABLAS!$A$169)","=+IMPORTARDATOSDINAMICOS(\" BAS190\";TABLAS!$A$169)",185,186,187,188,189,190,null,null,null,"SUMA LAB (TD=D + DX=90675 + LAB1=5 + LAB2=DVR + LAB3=ZOO) + (TD=D + DX=90375 + LAB)","TD=D + DX=90675 + LAB1=5 + LAB2=DVR + LAB3=ZOO"]
[null,"DVC Transferencia controlada","ACCESO: 1",{"$f":"+GETPIVOTDATA(\" BAS191\",TABLAS!$A$200)","v":0},0,{"$f":"+GETPIVOTDATA(\" BAS192\",TABLAS!$A$200)","v":0},{"$f":"+GETPIVOTDATA(\" BAS193\",TABLAS!$A$200)","v":0},{"$f":"+GETPIVOTDATA(\" BAS194\",TABLAS!$A$200)","v":0},{"$f":"+GETPIVOTDATA(\" BAS195\",TABLAS!$A$200)","v":0},{"$f":"+GETPIVOTDATA(\" BAS196\",TABLAS!$A$200)","v":0},null,"=+IMPORTARDATOSDINAMICOS(\" BAS191\";TABLAS!$A$169)",null,"=+IMPORTARDATOSDINAMICOS(\" BAS192\";TABLAS!$A$169)","=+IMPORTARDATOSDINAMICOS(\" BAS193\";TABLAS!$A$169)","=+IMPORTARDATOSDINAMICOS(\" BAS194\";TABLAS!$A$169)","=+IMPORTARDATOSDINAMICOS(\" BAS195\";TABLAS!$A$169)","=+IMPORTARDATOSDINAMICOS(\" BAS196\";TABLAS!$A$169)",191,192,193,194,195,196,null,null,null,"SUMA LAB (TD=D + DX=90675 + LAB1=1 + LAB2=DVC + LAB3=ZOO) + (TD=D + DX=90375 + LAB)","TD=D + DX=90675 + LAB1=1 + LAB2=DVC + LAB3=ZOO"]
[null,null,"SEGUIMIENTO: 2",{"$f":"+GETPIVOTDATA(\" BAS197\",TABLAS!$A$200)","v":0},0,{"$f":"+GETPIVOTDATA(\" BAS198\",TABLAS!$A$200)","v":0},{"$f":"+GETPIVOTDATA(\" BAS199\",TABLAS!$A$200)","v":0},{"$f":"+GETPIVOTDATA(\" BAS200\",TABLAS!$A$200)","v":0},{"$f":"+GETPIVOTDATA(\" BAS201\",TABLAS!$A$200)","v":0},{"$f":"+GETPIVOTDATA(\" BAS202\",TABLAS!$A$200)","v":0},null,"=+IMPORTARDATOSDINAMICOS(\" BAS197\";TABLAS!$A$169)",null,"=+IMPORTARDATOSDINAMICOS(\" BAS198\";TABLAS!$A$169)","=+IMPORTARDATOSDINAMICOS(\" BAS199\";TABLAS!$A$169)","=+IMPORTARDATOSDINAMICOS(\" BAS200\";TABLAS!$A$169)",{"$f":"IF(W111<10,CONCATENATE($Z$18,\"00\",W111,$Z$19),IF(AND(W111>9,W111<100),CONCATENATE($Z$18,\"0\",W111,$Z$19),CONCATENATE($Z$18,W111,$Z$19)))","v":"=+IMPORTARDATOSDINAMICOS(\" BAS201\";TABLAS!$A$169)"},"=+IMPORTARDATOSDINAMICOS(\" BAS202\";TABLAS!$A$169)",197,198,199,200,201,202,null,null,null,"SUMA LAB (TD=D + DX=90675 + LAB1=1 + LAB2=DVC + LAB3=ZOO) + (TD=D + DX=90375 + LAB)","TD=D + DX=90675 + LAB1=2 + LAB2=DVC + LAB3=ZOO"]
[null,null,"SEGUIMIENTO: 3",{"$f":"+GETPIVOTDATA(\" BAS203\",TABLAS!$A$200)","v":0},0,{"$f":"+GETPIVOTDATA(\" BAS204\",TABLAS!$A$200)","v":0},{"$f":"+GETPIVOTDATA(\" BAS205\",TABLAS!$A$200)","v":0},{"$f":"+GETPIVOTDATA(\" BAS206\",TABLAS!$A$200)","v":0},{"$f":"+GETPIVOTDATA(\" BAS207\",TABLAS!$A$200)","v":0},{"$f":"+GETPIVOTDATA(\" BAS208\",TABLAS!$A$200)","v":0},null,"=+IMPORTARDATOSDINAMICOS(\" BAS203\";TABLAS!$A$169)",null,"=+IMPORTARDATOSDINAMICOS(\" BAS204\";TABLAS!$A$169)","=+IMPORTARDATOSDINAMICOS(\" BAS205\";TABLAS!$A$169)","=+IMPORTARDATOSDINAMICOS(\" BAS206\";TABLAS!$A$169)","=+IMPORTARDATOSDINAMICOS(\" BAS207\";TABLAS!$A$169)",{"$f":"IF(X112<10,CONCATENATE($Z$18,\"00\",X112,$Z$19),IF(AND(X112>9,X112<100),CONCATENATE($Z$18,\"0\",X112,$Z$19),CONCATENATE($Z$18,X112,$Z$19)))","v":"=+IMPORTARDATOSDINAMICOS(\" BAS208\";TABLAS!$A$169)"},203,204,205,206,207,208,null,null,null,"SUMA LAB (TD=D + DX=90675 + LAB1=1 + LAB2=DVC + LAB3=ZOO) + (TD=D + DX=90375 + LAB)","TD=D + DX=90675 + LAB1=3 + LAB2=DVC + LAB3=ZOO"]
[null,null,"SEGUIMIENTO: 4",{"$f":"+GETPIVOTDATA(\" BAS209\",TABLAS!$A$200)","v":0},0,{"$f":"+GETPIVOTDATA(\" BAS210\",TABLAS!$A$200)","v":0},{"$f":"+GETPIVOTDATA(\" BAS211\",TABLAS!$A$200)","v":0},{"$f":"+GETPIVOTDATA(\" BAS212\",TABLAS!$A$200)","v":0},{"$f":"+GETPIVOTDATA(\" BAS213\",TABLAS!$A$200)","v":0},{"$f":"+GETPIVOTDATA(\" BAS214\",TABLAS!$A$200)","v":0},null,"=+IMPORTARDATOSDINAMICOS(\" BAS209\";TABLAS!$A$169)",null,"=+IMPORTARDATOSDINAMICOS(\" BAS210\";TABLAS!$A$169)","=+IMPORTARDATOSDINAMICOS(\" BAS211\";TABLAS!$A$169)","=+IMPORTARDATOSDINAMICOS(\" BAS212\";TABLAS!$A$169)","=+IMPORTARDATOSDINAMICOS(\" BAS213\";TABLAS!$A$169)","=+IMPORTARDATOSDINAMICOS(\" BAS214\";TABLAS!$A$169)",209,210,211,212,213,214,null,null,null,"SUMA LAB (TD=D + DX=90675 + LAB1=4 + LAB2=DVC + LAB3=ZOO) + (TD=D + DX=90375 + LAB)","TD=D + DX=90675 + LAB1=4 + LAB2=DVC + LAB3=ZOO"]
[null,null,"COBERTURA: 5",{"$f":"+GETPIVOTDATA(\" BAS215\",TABLAS!$A$200)","v":0},0,{"$f":"+GETPIVOTDATA(\" BAS216\",TABLAS!$A$200)","v":0},{"$f":"+GETPIVOTDATA(\" BAS217\",TABLAS!$A$200)","v":0},{"$f":"+GETPIVOTDATA(\" BAS218\",TABLAS!$A$200)","v":0},{"$f":"+GETPIVOTDATA(\" BAS219\",TABLAS!$A$200)","v":0},{"$f":"+GETPIVOTDATA(\" BAS220\",TABLAS!$A$200)","v":0},null,"=+IMPORTARDATOSDINAMICOS(\" BAS215\";TABLAS!$A$169)",null,"=+IMPORTARDATOSDINAMICOS(\" BAS216\";TABLAS!$A$169)","=+IMPORTARDATOSDINAMICOS(\" BAS217\";TABLAS!$A$169)","=+IMPORTARDATOSDINAMICOS(\" BAS218\";TABLAS!$A$169)","=+IMPORTARDATOSDINAMICOS(\" BAS219\";TABLAS!$A$169)",{"$f":"IF(X114<10,CONCATENATE($Z$18,\"00\",X114,$Z$19),IF(AND(X114>9,X114<100),CONCATENATE($Z$18,\"0\",X114,$Z$19),CONCATENATE($Z$18,X114,$Z$19)))","v":"=+IMPORTARDATOSDINAMICOS(\" BAS220\";TABLAS!$A$169)"},215,216,217,218,219,220,null,null,null,"SUMA LAB (TD=D + DX=90675 + LAB1=5 + LAB2=DVC + LAB3=ZOO) + (TD=D + DX=90375 + LAB)","TD=D + DX=90675 + LAB1=5 + LAB2=DVC + LAB3=ZOO"]
[null,"CC Contrarreferencia controlada","ACCESO: 1",{"$f":"+GETPIVOTDATA(\" BAS001\",TABLAS!$A$231)","v":0},0,{"$f":"+GETPIVOTDATA(\" BAS002\",TABLAS!$A$231)","v":0},{"$f":"+GETPIVOTDATA(\" BAS003\",TABLAS!$A$231)","v":0},{"$f":"+GETPIVOTDATA(\" BAS004\",TABLAS!$A$231)","v":0},{"$f":"+GETPIVOTDATA(\" BAS005\",TABLAS!$A$231)","v":0},{"$f":"+GETPIVOTDATA(\" BAS006\",TABLAS!$A$231)","v":0},null,{"$f":"IF(S115<10,CONCATENATE($Z$115,\"00\",S115,$Z$116),IF(AND(S115>9,S115<100),CONCATENATE($Z$115,\"0\",S115,$Z$116),CONCATENATE($Z$115,S115,$Z$116)))","v":"=+IMPORTARDATOSDINAMICOS(\" BAS001\";TABLAS!$A$200)"},null,{"$f":"IF(T115<10,CONCATENATE($Z$115,\"00\",T115,$Z$116),IF(AND(T115>9,T115<100),CONCATENATE($Z$115,\"0\",T115,$Z$116),CONCATENATE($Z$115,T115,$Z$116)))","v":"=+IMPORTARDATOSDINAMICOS(\" BAS002\";TABLAS!$A$200)"},{"$f":"IF(U115<10,CONCATENATE($Z$115,\"00\",U115,$Z$116),IF(AND(U115>9,U115<100),CONCATENATE($Z$115,\"0\",U115,$Z$116),CONCATENATE($Z$115,U115,$Z$116)))","v":"=+IMPORTARDATOSDINAMICOS(\" BAS003\";TABLAS!$A$200)"},"=+IMPORTARDATOSDINAMICOS(\" BAS004\";TABLAS!$A$200)","=+IMPORTARDATOSDINAMICOS(\" BAS005\";TABLAS!$A$200)","=+IMPORTARDATOSDINAMICOS(\" BAS006\";TABLAS!$A$200)",1,2,3,4,5,6,null,"=+IMPORTARDATOSDINAMICOS(\" BAS",null,"SUMA LAB (TD=D + DX=90675 + LAB1=1 + LAB2=CC + LAB3=ZOO) + (TD=D + DX=90375 + LAB)","TD=D + DX=90675 + LAB1=1 + LAB2=CC + LAB3=ZOO"]
[null,null,"SEGUIMIENTO: 2",{"$f":"+GETPIVOTDATA(\" BAS007\",TABLAS!$A$231)","v":0},0,{"$f":"+GETPIVOTDATA(\" BAS008\",TABLAS!$A$231)","v":0},{"$f":"+GETPIVOTDATA(\" BAS009\",TABLAS!$A$231)","v":0},{"$f":"+GETPIVOTDATA(\" BAS010\",TABLAS!$A$231)","v":0},{"$f":"+GETPIVOTDATA(\" BAS011\",TABLAS!$A$231)","v":0},{"$f":"+GETPIVOTDATA(\" BAS012\",TABLAS!$A$231)","v":0},null,{"$f":"IF(S116<10,CONCATENATE($Z$115,\"00\",S116,$Z$116),IF(AND(S116>9,S116<100),CONCATENATE($Z$115,\"0\",S116,$Z$116),CONCATENATE($Z$115,S116,$Z$116)))","v":"=+IMPORTARDATOSDINAMICOS(\" BAS007\";TABLAS!$A$200)"},null,{"$f":"IF(T116<10,CONCATENATE($Z$115,\"00\",T116,$Z$116),IF(AND(T116>9,T116<100),CONCATENATE($Z$115,\"0\",T116,$Z$116),CONCATENATE($Z$115,T116,$Z$116)))","v":"=+IMPORTARDATOSDINAMICOS(\" BAS008\";TABLAS!$A$200)"},{"$f":"IF(U116<10,CONCATENATE($Z$115,\"00\",U116,$Z$116),IF(AND(U116>9,U116<100),CONCATENATE($Z$115,\"0\",U116,$Z$116),CONCATENATE($Z$115,U116,$Z$116)))","v":"=+IMPORTARDATOSDINAMICOS(\" BAS009\";TABLAS!$A$200)"},{"$f":"IF(V116<10,CONCATENATE($Z$115,\"00\",V116,$Z$116),IF(AND(V116>9,V116<100),CONCATENATE($Z$115,\"0\",V116,$Z$116),CONCATENATE($Z$115,V116,$Z$116)))","v":"=+IMPORTARDATOSDINAMICOS(\" BAS010\";TABLAS!$A$200)"},{"$f":"IF(W116<10,CONCATENATE($Z$115,\"00\",W116,$Z$116),IF(AND(W116>9,W116<100),CONCATENATE($Z$115,\"0\",W116,$Z$116),CONCATENATE($Z$115,W116,$Z$116)))","v":"=+IMPORTARDATOSDINAMICOS(\" BAS011\";TABLAS!$A$200)"},{"$f":"IF(X116<10,CONCATENATE($Z$115,\"00\",X116,$Z$116),IF(AND(X116>9,X116<100),CONCATENATE($Z$115,\"0\",X116,$Z$116),CONCATENATE($Z$115,X116,$Z$116)))","v":"=+IMPORTARDATOSDINAMICOS(\" BAS012\";TABLAS!$A$200)"},7,8,9,10,11,12,null,"\";TABLAS!$A$200)",null,"SUMA LAB (TD=D + DX=90675 + LAB1=1 + LAB2=CC + LAB3=ZOO) + (TD=D + DX=90375 + LAB)","TD=D + DX=90675 + LAB1=2 + LAB2=CC + LAB3=ZOO"]
[null,null,"SEGUIMIENTO: 3",{"$f":"+GETPIVOTDATA(\" BAS013\",TABLAS!$A$231)","v":0},0,{"$f":"+GETPIVOTDATA(\" BAS014\",TABLAS!$A$231)","v":0},{"$f":"+GETPIVOTDATA(\" BAS015\",TABLAS!$A$231)","v":0},{"$f":"+GETPIVOTDATA(\" BAS016\",TABLAS!$A$231)","v":0},{"$f":"+GETPIVOTDATA(\" BAS017\",TABLAS!$A$231)","v":0},{"$f":"+GETPIVOTDATA(\" BAS018\",TABLAS!$A$231)","v":0},null,{"$f":"IF(S117<10,CONCATENATE($Z$115,\"00\",S117,$Z$116),IF(AND(S117>9,S117<100),CONCATENATE($Z$115,\"0\",S117,$Z$116),CONCATENATE($Z$115,S117,$Z$116)))","v":"=+IMPORTARDATOSDINAMICOS(\" BAS013\";TABLAS!$A$200)"},null,{"$f":"IF(T117<10,CONCATENATE($Z$115,\"00\",T117,$Z$116),IF(AND(T117>9,T117<100),CONCATENATE($Z$115,\"0\",T117,$Z$116),CONCATENATE($Z$115,T117,$Z$116)))","v":"=+IMPORTARDATOSDINAMICOS(\" BAS014\";TABLAS!$A$200)"},"=+IMPORTARDATOSDINAMICOS(\" BAS015\";TABLAS!$A$200)","=+IMPORTARDATOSDINAMICOS(\" BAS016\";TABLAS!$A$200)","=+IMPORTARDATOSDINAMICOS(\" BAS017\";TABLAS!$A$200)","=+IMPORTARDATOSDINAMICOS(\" BAS018\";TABLAS!$A$200)",13,14,15,16,17,18,null,null,null,"SUMA LAB (TD=D + DX=90675 + LAB1=1 + LAB2=CC + LAB3=ZOO) + (TD=D + DX=90375 + LAB)","TD=D + DX=90675 + LAB1=3 + LAB2=CC + LAB3=ZOO"]
[null,null,"SEGUIMIENTO: 4",{"$f":"+GETPIVOTDATA(\" BAS019\",TABLAS!$A$231)","v":0},0,{"$f":"+GETPIVOTDATA(\" BAS020\",TABLAS!$A$231)","v":0},{"$f":"+GETPIVOTDATA(\" BAS021\",TABLAS!$A$231)","v":0},{"$f":"+GETPIVOTDATA(\" BAS022\",TABLAS!$A$231)","v":0},{"$f":"+GETPIVOTDATA(\" BAS023\",TABLAS!$A$231)","v":0},{"$f":"+GETPIVOTDATA(\" BAS024\",TABLAS!$A$231)","v":0},null,"=+IMPORTARDATOSDINAMICOS(\" BAS019\";TABLAS!$A$200)",null,{"$f":"IF(T118<10,CONCATENATE($Z$115,\"00\",T118,$Z$116),IF(AND(T118>9,T118<100),CONCATENATE($Z$115,\"0\",T118,$Z$116),CONCATENATE($Z$115,T118,$Z$116)))","v":"=+IMPORTARDATOSDINAMICOS(\" BAS020\";TABLAS!$A$200)"},"=+IMPORTARDATOSDINAMICOS(\" BAS021\";TABLAS!$A$200)","=+IMPORTARDATOSDINAMICOS(\" BAS022\";TABLAS!$A$200)","=+IMPORTARDATOSDINAMICOS(\" BAS023\";TABLAS!$A$200)",{"$f":"IF(X118<10,CONCATENATE($Z$115,\"00\",X118,$Z$116),IF(AND(X118>9,X118<100),CONCATENATE($Z$115,\"0\",X118,$Z$116),CONCATENATE($Z$115,X118,$Z$116)))","v":"=+IMPORTARDATOSDINAMICOS(\" BAS024\";TABLAS!$A$200)"},19,20,21,22,23,24,null,null,null,"SUMA LAB (TD=D + DX=90675 + LAB1=4 + LAB2=CC + LAB3=ZOO) + (TD=D + DX=90375 + LAB)","TD=D + DX=90675 + LAB1=4 + LAB2=CC + LAB3=ZOO"]
[null,null,"COBERTURA: 5",{"$f":"+GETPIVOTDATA(\" BAS025\",TABLAS!$A$231)","v":0},0,{"$f":"+GETPIVOTDATA(\" BAS026\",TABLAS!$A$231)","v":0},{"$f":"+GETPIVOTDATA(\" BAS027\",TABLAS!$A$231)","v":0},{"$f":"+GETPIVOTDATA(\" BAS028\",TABLAS!$A$231)","v":0},{"$f":"+GETPIVOTDATA(\" BAS029\",TABLAS!$A$231)","v":0},{"$f":"+GETPIVOTDATA(\" BAS030\",TABLAS!$A$231)","v":0},null,"=+IMPORTARDATOSDINAMICOS(\" BAS025\";TABLAS!$A$200)",null,{"$f":"IF(T119<10,CONCATENATE($Z$115,\"00\",T119,$Z$116),IF(AND(T119>9,T119<100),CONCATENATE($Z$115,\"0\",T119,$Z$116),CONCATENATE($Z$115,T119,$Z$116)))","v":"=+IMPORTARDATOSDINAMICOS(\" BAS026\";TABLAS!$A$200)"},"=+IMPORTARDATOSDINAMICOS(\" BAS027\";TABLAS!$A$200)","=+IMPORTARDATOSDINAMICOS(\" BAS028\";TABLAS!$A$200)","=+IMPORTARDATOSDINAMICOS(\" BAS029\";TABLAS!$A$200)",{"$f":"IF(X119<10,CONCATENATE($Z$115,\"00\",X119,$Z$116),IF(AND(X119>9,X119<100),CONCATENATE($Z$115,\"0\",X119,$Z$116),CONCATENATE($Z$115,X119,$Z$116)))","v":"=+IMPORTARDATOSDINAMICOS(\" BAS030\";TABLAS!$A$200)"},25,26,27,28,29,30,null,null,null,"SUMA LAB (TD=D + DX=90675 + LAB1=5 + LAB2=CC + LAB3=ZOO) + (TD=D + DX=90375 + LAB)","TD=D + DX=90675 + LAB1=5 + LAB2=CC + LAB3=ZOO"]
[]
[]
[]
[null,"Frascos de Inmunoglobulina Antirrábica para Humanos (RIG) administrados",null,"Total Frascos RIG","0-11a","12-17a","18-29a","30-59a","60 y más"]
[null,"Total",null,{"$f":"SUM(E124:I124)","v":0},{"$f":"SUM(E125:E128)","v":0},{"$f":"SUM(F125:F128)","v":0},0,0,0]
[null,"4.2 Tratamiento en caso de animal mordedor SILVESTRE en Cara, cabeza, cuello, genitales, pulpejo de dedos de manos y pies, lesiones desgarradas, profundas o múltiples. ",null,{"$f":"SUM(E125:I125)","v":0},{"$f":"+GETPIVOTDATA(\" BAS031\",TABLAS!$A$231)","v":0},{"$f":"+GETPIVOTDATA(\" BAS032\",TABLAS!$A$231)","v":0},{"$f":"+GETPIVOTDATA(\" BAS033\",TABLAS!$A$231)","v":0},{"$f":"+GETPIVOTDATA(\" BAS034\",TABLAS!$A$231)","v":0},{"$f":"+GETPIVOTDATA(\" BAS035\",TABLAS!$A$231)","v":0},null,null,null,null,{"$f":"IF(T125<10,CONCATENATE($Z$115,\"00\",T125,$Z$116),IF(AND(T125>9,T125<100),CONCATENATE($Z$115,\"0\",T125,$Z$116),CONCATENATE($Z$115,T125,$Z$116)))","v":"=+IMPORTARDATOSDINAMICOS(\" BAS031\";TABLAS!$A$200)"},"=+IMPORTARDATOSDINAMICOS(\" BAS032\";TABLAS!$A$200)","=+IMPORTARDATOSDINAMICOS(\" BAS033\";TABLAS!$A$200)","=+IMPORTARDATOSDINAMICOS(\" BAS034\";TABLAS!$A$200)",{"$f":"IF(X125<10,CONCATENATE($Z$115,\"00\",X125,$Z$116),IF(AND(X125>9,X125<100),CONCATENATE($Z$115,\"0\",X125,$Z$116),CONCATENATE($Z$115,X125,$Z$116)))","v":"=+IMPORTARDATOSDINAMICOS(\" BAS035\";TABLAS!$A$200)"},null,{"$f":"+X119+1","v":31},{"$f":"+T125+1","v":32},33,34,35,null,null,null,null,"SUMA LAB (TD=D + DX=90675 + LAB2=POS + LAB3=ZOO) + (TD=D + DX=90375 + LAB)"]
[null,"4.3 Tratamiento en caso de Contacto o Animal confirmado de rabia",null,0,{"$f":"+GETPIVOTDATA(\" BAS036\",TABLAS!$A$231)","v":0},{"$f":"+GETPIVOTDATA(\" BAS037\",TABLAS!$A$231)","v":0},{"$f":"+GETPIVOTDATA(\" BAS038\",TABLAS!$A$231)","v":0},{"$f":"+GETPIVOTDATA(\" BAS039\",TABLAS!$A$231)","v":0},{"$f":"+GETPIVOTDATA(\" BAS040\",TABLAS!$A$231)","v":0},null,null,null,null,"=+IMPORTARDATOSDINAMICOS(\" BAS036\";TABLAS!$A$200)","=+IMPORTARDATOSDINAMICOS(\" BAS037\";TABLAS!$A$200)","=+IMPORTARDATOSDINAMICOS(\" BAS038\";TABLAS!$A$200)","=+IMPORTARDATOSDINAMICOS(\" BAS039\";TABLAS!$A$200)","=+IMPORTARDATOSDINAMICOS(\" BAS040\";TABLAS!$A$200)",null,{"$f":"+X125+1","v":36},37,38,39,40,null,null,null,null,"SUMA LAB (TD=D + DX=90675 + LAB2=CE + LAB3=ZOO) + (TD=D + DX=90375 + LAB)"]
[null,"DVR Transferencia realizada",null,0,{"$f":"+GETPIVOTDATA(\" BAS041\",TABLAS!$A$231)","v":0},{"$f":"+GETPIVOTDATA(\" BAS042\",TABLAS!$A$231)","v":0},{"$f":"+GETPIVOTDATA(\" BAS043\",TABLAS!$A$231)","v":0},{"$f":"+GETPIVOTDATA(\" BAS044\",TABLAS!$A$231)","v":0},{"$f":"+GETPIVOTDATA(\" BAS045\",TABLAS!$A$231)","v":0},null,null,null,null,"=+IMPORTARDATOSDINAMICOS(\" BAS041\";TABLAS!$A$200)","=+IMPORTARDATOSDINAMICOS(\" BAS042\";TABLAS!$A$200)","=+IMPORTARDATOSDINAMICOS(\" BAS043\";TABLAS!$A$200)","=+IMPORTARDATOSDINAMICOS(\" BAS044\";TABLAS!$A$200)","=+IMPORTARDATOSDINAMICOS(\" BAS045\";TABLAS!$A$200)",null,{"$f":"+X126+1","v":41},42,43,44,45,null,null,null,null,"SUMA LAB (TD=D + DX=90675 + LAB2=DVR + LAB3=ZOO) + (TD=D + DX=90375 + LAB)"]
[null,"DVC Transferencia controlada",null,0,{"$f":"+GETPIVOTDATA(\" BAS046\",TABLAS!$A$231)","v":0},{"$f":"+GETPIVOTDATA(\" BAS047\",TABLAS!$A$231)","v":0},{"$f":"+GETPIVOTDATA(\" BAS048\",TABLAS!$A$231)","v":0},{"$f":"+GETPIVOTDATA(\" BAS049\",TABLAS!$A$231)","v":0},{"$f":"+GETPIVOTDATA(\" BAS050\",TABLAS!$A$231)","v":0},null,null,null,null,{"$f":"IF(T128<10,CONCATENATE($Z$115,\"00\",T128,$Z$116),IF(AND(T128>9,T128<100),CONCATENATE($Z$115,\"0\",T128,$Z$116),CONCATENATE($Z$115,T128,$Z$116)))","v":"=+IMPORTARDATOSDINAMICOS(\" BAS046\";TABLAS!$A$200)"},"=+IMPORTARDATOSDINAMICOS(\" BAS047\";TABLAS!$A$200)","=+IMPORTARDATOSDINAMICOS(\" BAS048\";TABLAS!$A$200)","=+IMPORTARDATOSDINAMICOS(\" BAS049\";TABLAS!$A$200)",{"$f":"IF(X128<10,CONCATENATE($Z$115,\"00\",X128,$Z$116),IF(AND(X128>9,X128<100),CONCATENATE($Z$115,\"0\",X128,$Z$116),CONCATENATE($Z$115,X128,$Z$116)))","v":"=+IMPORTARDATOSDINAMICOS(\" BAS050\";TABLAS!$A$200)"},null,{"$f":"+X127+1","v":46},47,48,49,50,null,null,null,null,"SUMA LAB (TD=D + DX=90675 + LAB2=DVC + LAB3=ZOO) + (TD=D + DX=90375 + LAB)"]
[]
[]
[null,"TOTAL DE DOSIS","Tipo de Biológico","Total","0-11a","12-17a","18-29a","30-59a","60 y más"]
[null,null,"VARH PRE (monodosis)",{"$f":"SUM(E132:I132)","v":722},{"$f":"+GETPIVOTDATA(\" BAS051\",TABLAS!$A$231)","v":0},{"$f":"+GETPIVOTDATA(\" BAS052\",TABLAS!$A$231)","v":0},{"$f":"+GETPIVOTDATA(\" BAS053\",TABLAS!$A$231)","v":589},{"$f":"+GETPIVOTDATA(\" BAS054\",TABLAS!$A$231)","v":133},{"$f":"+GETPIVOTDATA(\" BAS055\",TABLAS!$A$231)","v":0},null,null,null,null,{"$f":"IF(T132<10,CONCATENATE($Z$115,\"00\",T132,$Z$116),IF(AND(T132>9,T132<100),CONCATENATE($Z$115,\"0\",T132,$Z$116),CONCATENATE($Z$115,T132,$Z$116)))","v":"=+IMPORTARDATOSDINAMICOS(\" BAS051\";TABLAS!$A$200)"},{"$f":"IF(U132<10,CONCATENATE($Z$115,\"00\",U132,$Z$116),IF(AND(U132>9,U132<100),CONCATENATE($Z$115,\"0\",U132,$Z$116),CONCATENATE($Z$115,U132,$Z$116)))","v":"=+IMPORTARDATOSDINAMICOS(\" BAS052\";TABLAS!$A$200)"},"=+IMPORTARDATOSDINAMICOS(\" BAS053\";TABLAS!$A$200)","=+IMPORTARDATOSDINAMICOS(\" BAS054\";TABLAS!$A$200)",{"$f":"IF(X132<10,CONCATENATE($Z$115,\"00\",X132,$Z$116),IF(AND(X132>9,X132<100),CONCATENATE($Z$115,\"0\",X132,$Z$116),CONCATENATE($Z$115,X132,$Z$116)))","v":"=+IMPORTARDATOSDINAMICOS(\" BAS055\";TABLAS!$A$200)"},null,{"$f":"+X128+1","v":51},{"$f":"+T132+1","v":52},53,54,55,null,null,null,null,"(TD=D+DX=90675+LAB2=PRE + LAB3=M/PNP/OCU)"]
[null,null,"VARH POS (monodosis)",{"$f":"SUM(E133:I133)","v":19},{"$f":"+GETPIVOTDATA(\" BAS056\",TABLAS!$A$231)","v":2},{"$f":"+GETPIVOTDATA(\" BAS057\",TABLAS!$A$231)","v":0},{"$f":"+GETPIVOTDATA(\" BAS058\",TABLAS!$A$231)","v":10},{"$f":"+GETPIVOTDATA(\" BAS059\",TABLAS!$A$231)","v":4},{"$f":"+GETPIVOTDATA(\" BAS060\",TABLAS!$A$231)","v":3},null,null,null,null,"=+IMPORTARDATOSDINAMICOS(\" BAS056\";TABLAS!$A$200)","=+IMPORTARDATOSDINAMICOS(\" BAS057\";TABLAS!$A$200)","=+IMPORTARDATOSDINAMICOS(\" BAS058\";TABLAS!$A$200)","=+IMPORTARDATOSDINAMICOS(\" BAS059\";TABLAS!$A$200)",{"$f":"IF(X133<10,CONCATENATE($Z$115,\"00\",X133,$Z$116),IF(AND(X133>9,X133<100),CONCATENATE($Z$115,\"0\",X133,$Z$116),CONCATENATE($Z$115,X133,$Z$116)))","v":"=+IMPORTARDATOSDINAMICOS(\" BAS060\";TABLAS!$A$200)"},null,{"$f":"+X132+1","v":56},57,58,59,60,null,null,null,null,"(TD=D+DX=90675+LAB2=POS/CE/DA/DVR/DVC/CC + LAB3=ZOO)"]
[null,null,"RIG (Frascos)",0,{"$f":"+GETPIVOTDATA(\" BAS061\",TABLAS!$A$231)","v":0},{"$f":"+GETPIVOTDATA(\" BAS062\",TABLAS!$A$231)","v":0},{"$f":"+GETPIVOTDATA(\" BAS063\",TABLAS!$A$231)","v":0},{"$f":"+GETPIVOTDATA(\" BAS064\",TABLAS!$A$231)","v":0},{"$f":"+GETPIVOTDATA(\" BAS065\",TABLAS!$A$231)","v":0},null,null,null,null,{"$f":"IF(T134<10,CONCATENATE($Z$115,\"00\",T134,$Z$116),IF(AND(T134>9,T134<100),CONCATENATE($Z$115,\"0\",T134,$Z$116),CONCATENATE($Z$115,T134,$Z$116)))","v":"=+IMPORTARDATOSDINAMICOS(\" BAS061\";TABLAS!$A$200)"},{"$f":"IF(U134<10,CONCATENATE($Z$115,\"00\",U134,$Z$116),IF(AND(U134>9,U134<100),CONCATENATE($Z$115,\"0\",U134,$Z$116),CONCATENATE($Z$115,U134,$Z$116)))","v":"=+IMPORTARDATOSDINAMICOS(\" BAS062\";TABLAS!$A$200)"},{"$f":"IF(V134<10,CONCATENATE($Z$115,\"00\",V134,$Z$116),IF(AND(V134>9,V134<100),CONCATENATE($Z$115,\"0\",V134,$Z$116),CONCATENATE($Z$115,V134,$Z$116)))","v":"=+IMPORTARDATOSDINAMICOS(\" BAS063\";TABLAS!$A$200)"},{"$f":"IF(W134<10,CONCATENATE($Z$115,\"00\",W134,$Z$116),IF(AND(W134>9,W134<100),CONCATENATE($Z$115,\"0\",W134,$Z$116),CONCATENATE($Z$115,W134,$Z$116)))","v":"=+IMPORTARDATOSDINAMICOS(\" BAS064\";TABLAS!$A$200)"},{"$f":"IF(X134<10,CONCATENATE($Z$115,\"00\",X134,$Z$116),IF(AND(X134>9,X134<100),CONCATENATE($Z$115,\"0\",X134,$Z$116),CONCATENATE($Z$115,X134,$Z$116)))","v":"=+IMPORTARDATOSDINAMICOS(\" BAS065\";TABLAS!$A$200)"},null,{"$f":"+X133+1","v":61},62,63,64,65,null,null,null,null,"SUMA LAB (TD=D + DX=90675 + LAB3=ZOO) + (TD=D + DX=90375 + LAB)"]
[]
[]
[]
[null,"6. Diagnóstico de Rabia Humana Silvestre","Total","0-11a","12-17a","18-29a","30-59a","60 y más","Gestante"]
[null,null,{"$f":"SUM(E139:I139)","v":0},{"$f":"+GETPIVOTDATA(\" BAS066\",TABLAS!$A$231)","v":0},{"$f":"+GETPIVOTDATA(\" BAS067\",TABLAS!$A$231)","v":0},{"$f":"+GETPIVOTDATA(\" BAS068\",TABLAS!$A$231)","v":0},{"$f":"+GETPIVOTDATA(\" BAS069\",TABLAS!$A$231)","v":0},{"$f":"+GETPIVOTDATA(\" BAS070\",TABLAS!$A$231)","v":0},{"$f":"+GETPIVOTDATA(\" BAS071\",TABLAS!$A$231)","v":0},null,null,null,null,{"$f":"IF(T139<10,CONCATENATE($Z$115,\"00\",T139,$Z$116),IF(AND(T139>9,T139<100),CONCATENATE($Z$115,\"0\",T139,$Z$116),CONCATENATE($Z$115,T139,$Z$116)))","v":"=+IMPORTARDATOSDINAMICOS(\" BAS066\";TABLAS!$A$200)"},{"$f":"IF(U139<10,CONCATENATE($Z$115,\"00\",U139,$Z$116),IF(AND(U139>9,U139<100),CONCATENATE($Z$115,\"0\",U139,$Z$116),CONCATENATE($Z$115,U139,$Z$116)))","v":"=+IMPORTARDATOSDINAMICOS(\" BAS067\";TABLAS!$A$200)"},{"$f":"IF(V139<10,CONCATENATE($Z$115,\"00\",V139,$Z$116),IF(AND(V139>9,V139<100),CONCATENATE($Z$115,\"0\",V139,$Z$116),CONCATENATE($Z$115,V139,$Z$116)))","v":"=+IMPORTARDATOSDINAMICOS(\" BAS068\";TABLAS!$A$200)"},"=+IMPORTARDATOSDINAMICOS(\" BAS069\";TABLAS!$A$200)","=+IMPORTARDATOSDINAMICOS(\" BAS070\";TABLAS!$A$200)",{"$f":"IF(Y139<10,CONCATENATE($Z$115,\"00\",Y139,$Z$116),IF(AND(Y139>9,Y139<100),CONCATENATE($Z$115,\"0\",Y139,$Z$116),CONCATENATE($Z$115,Y139,$Z$116)))","v":"=+IMPORTARDATOSDINAMICOS(\" BAS071\";TABLAS!$A$200)"},{"$f":"+X134+1","v":66},{"$f":"+T139+1","v":67},{"$f":"+U139+1","v":68},{"$f":"+V139+1","v":69},{"$f":"+W139+1","v":70},{"$f":"+X139+1","v":71},null,null,null,"TD=D+DX=A820"]
[]
[]
[]
[null,"7. Vigilancia del reservorio y Diagnóstico Laboratorial","Situación de la muestra","Total"]
[null,"TOTAL","Remitida",{"$f":"+D148+D152+D156","v":0}]
[null,null,"Procesada",{"$f":"+D149+D153+D157","v":0}]
[null,null,"Resultado positivo",0]
[null,null,"Resultado Negativo",0]
[null,"Muestras de murciélago en vigilancia pasiva","Remitida",{"$f":"+GETPIVOTDATA(\" BAS072\",TABLAS!$A$231)","v":0},null,null,null,null,null,null,null,null,null,{"$f":"IF(T148<10,CONCATENATE($Z$115,\"00\",T148,$Z$116),IF(AND(T148>9,T148<100),CONCATENATE($Z$115,\"0\",T148,$Z$116),CONCATENATE($Z$115,T148,$Z$116)))","v":"=+IMPORTARDATOSDINAMICOS(\" BAS072\";TABLAS!$A$200)"},null,null,null,null,null,{"$f":"+Y139+1","v":72},null,null,null,null,null,null,null,null,"SUMA LAB1 (fichafam=AAA02 + (TD=D + DX=88025 + LAB1 + LAB2=MR) + (TD=D + DX=C0041 + LAB1=3) )"]
[null,null,"Procesada",{"$f":"+GETPIVOTDATA(\" BAS073\",TABLAS!$A$231)","v":0},null,null,null,null,null,null,null,null,null,{"$f":"IF(T149<10,CONCATENATE($Z$115,\"00\",T149,$Z$116),IF(AND(T149>9,T149<100),CONCATENATE($Z$115,\"0\",T149,$Z$116),CONCATENATE($Z$115,T149,$Z$116)))","v":"=+IMPORTARDATOSDINAMICOS(\" BAS073\";TABLAS!$A$200)"},null,null,null,null,null,{"$f":"+T148+1","v":73},null,null,null,null,null,null,null,null,"SUMA LAB1 (fichafam=AAA02 + (TD=D + DX=88025 + LAB1 + LAB2=MT) + (TD=D + DX=C0041 + LAB1=3) )"]
[null,null,"Resultado positivo",{"$f":"+GETPIVOTDATA(\" BAS074\",TABLAS!$A$231)","v":0},null,null,null,null,null,null,null,null,null,"=+IMPORTARDATOSDINAMICOS(\" BAS074\";TABLAS!$A$200)",null,null,null,null,null,{"$f":"+T149+1","v":74},null,null,null,null,null,null,null,null,"SUMA LAB1 (fichafam=AAA02 + (TD=D + DX=88025 + LAB1 + LAB2=RP) + (TD=D + DX=C0041 + LAB1=3) )"]
[null,null,"Resultado Negativo",{"$f":"+GETPIVOTDATA(\" BAS075\",TABLAS!$A$231)","v":0},null,null,null,null,null,null,null,null,null,"=+IMPORTARDATOSDINAMICOS(\" BAS075\";TABLAS!$A$200)",null,null,null,null,null,75,null,null,null,null,null,null,null,null,"SUMA LAB1 (fichafam=AAA02 + (TD=D + DX=88025 + LAB1 + LAB2=RN) + (TD=D + DX=C0041 + LAB1=3) )"]
[null,"Muestras de otros mamíferos domésticos (equino, porcino, bovino, ovino, etc.) en rabia silvestre, vigilancia pasiva","Remitida",{"$f":"+GETPIVOTDATA(\" BAS076\",TABLAS!$A$231)","v":0},null,null,null,null,null,null,null,null,null,"=+IMPORTARDATOSDINAMICOS(\" BAS076\";TABLAS!$A$200)",null,null,null,null,null,76,null,null,null,null,null,null,null,null,"SUMA LAB1 (fichafam=AAA03 + (TD=D + DX=88025 + LAB1 + LAB2=MR) + (TD=D + DX=C0041 + LAB1=3) )"]
[null,null,"Procesada",{"$f":"+GETPIVOTDATA(\" BAS077\",TABLAS!$A$231)","v":0},null,null,null,null,null,null,null,null,null,"=+IMPORTARDATOSDINAMICOS(\" BAS077\";TABLAS!$A$200)",null,null,null,null,null,77,null,null,null,null,null,null,null,null,"SUMA LAB1 (fichafam=AAA03 + (TD=D + DX=88025 + LAB1 + LAB2=MT) + (TD=D + DX=C0041 + LAB1=3) )"]
[null,null,"Resultado positivo",{"$f":"+GETPIVOTDATA(\" BAS078\",TABLAS!$A$231)","v":0},null,null,null,null,null,null,null,null,null,"=+IMPORTARDATOSDINAMICOS(\" BAS078\";TABLAS!$A$200)",null,null,null,null,null,78,null,null,null,null,null,null,null,null,"SUMA LAB1 (fichafam=AAA03 + (TD=D + DX=88025 + LAB1 + LAB2=RP) + (TD=D + DX=C0041 + LAB1=3) )"]
[null,null,"Resultado Negativo",{"$f":"+GETPIVOTDATA(\" BAS079\",TABLAS!$A$231)","v":0},null,null,null,null,null,null,null,null,null,"=+IMPORTARDATOSDINAMICOS(\" BAS079\";TABLAS!$A$200)",null,null,null,null,null,79,null,null,null,null,null,null,null,null,"SUMA LAB1 (fichafam=AAA03 + (TD=D + DX=88025 + LAB1 + LAB2=RN) + (TD=D + DX=C0041 + LAB1=3) )"]
[null,"Muestras de otros animales silvestres (mono, jaguar, etc.), vigilancia pasiva","Remitida",{"$f":"+GETPIVOTDATA(\" BAS080\",TABLAS!$A$231)","v":0},null,null,null,null,null,null,null,null,null,"=+IMPORTARDATOSDINAMICOS(\" BAS080\";TABLAS!$A$200)",null,null,null,null,null,80,null,null,null,null,null,null,null,null,"SUMA LAB1 (fichafam=AAA92 + (TD=D + DX=88025 + LAB1 + LAB2=MR) + (TD=D + DX=C0041 + LAB1=3) )"]
[null,null,"Procesada",{"$f":"+GETPIVOTDATA(\" BAS081\",TABLAS!$A$231)","v":0},null,null,null,null,null,null,null,null,null,"=+IMPORTARDATOSDINAMICOS(\" BAS081\";TABLAS!$A$200)",null,null,null,null,null,81,null,null,null,null,null,null,null,null,"SUMA LAB1 (fichafam=AAA92 + (TD=D + DX=88025 + LAB1 + LAB2=MT) + (TD=D + DX=C0041 + LAB1=3) )"]
[null,null,"Resultado positivo",{"$f":"+GETPIVOTDATA(\" BAS082\",TABLAS!$A$231)","v":0},null,null,null,null,null,null,null,null,null,"=+IMPORTARDATOSDINAMICOS(\" BAS082\";TABLAS!$A$200)",null,null,null,null,null,82,null,null,null,null,null,null,null,null,"SUMA LAB1 (fichafam=AAA92 + (TD=D + DX=88025 + LAB1 + LAB2=RP) + (TD=D + DX=C0041 + LAB1=3) )"]
[null,null,"Resultado Negativo",{"$f":"+GETPIVOTDATA(\" BAS083\",TABLAS!$A$231)","v":0},null,null,null,null,null,null,null,null,null,"=+IMPORTARDATOSDINAMICOS(\" BAS083\";TABLAS!$A$200)",null,null,null,null,null,83,null,null,null,null,null,null,null,null,"SUMA LAB1 (fichafam=AAA92 + (TD=D + DX=88025 + LAB1 + LAB2=RN) + (TD=D + DX=C0041 + LAB1=3) )"]
[]
[]
[null,"8. Control Epidemiológico (Control de Foco).","Situación del foco","Total"]
[null,"Control de foco en vigilancia pasiva","Notificado",{"$f":"+GETPIVOTDATA(\" BAS084\",TABLAS!$A$231)","v":0},null,null,null,null,null,null,null,null,null,{"$f":"IF(T163<10,CONCATENATE($Z$115,\"00\",T163,$Z$116),IF(AND(T163>9,T163<100),CONCATENATE($Z$115,\"0\",T163,$Z$116),CONCATENATE($Z$115,T163,$Z$116)))","v":"=+IMPORTARDATOSDINAMICOS(\" BAS084\";TABLAS!$A$200)"},null,null,null,null,null,{"$f":"+T159+1","v":84},null,null,null,null,null,null,null,null,"SUMA LAB1 (fichafam=APP108 + (TD=D + DX=C0091 + LAB1 + LAB2=NOT) + (TD=D + DX=C0041 + LAB1=3) )"]
[null,null,"Investigado",{"$f":"+GETPIVOTDATA(\" BAS085\",TABLAS!$A$231)","v":0},null,null,null,null,null,null,null,null,null,"=+IMPORTARDATOSDINAMICOS(\" BAS085\";TABLAS!$A$200)",null,null,null,null,null,{"$f":"+T163+1","v":85},null,null,null,null,null,null,null,null,"SUMA LAB1 (fichafam=APP108 + (TD=D + DX=C0091 + LAB1 + LAB2=IN) + (TD=D + DX=C0041 + LAB1=3) )"]
[null,null,"Controlado",{"$f":"+GETPIVOTDATA(\" BAS086\",TABLAS!$A$231)","v":0},null,null,null,null,null,null,null,null,null,"=+IMPORTARDATOSDINAMICOS(\" BAS086\";TABLAS!$A$200)",null,null,null,null,null,{"$f":"+T164+1","v":86},null,null,null,null,null,null,null,null,"SUMA LAB1 (fichafam=APP108 + (TD=D + DX=C0091 + LAB1 + LAB2=CC) + (TD=D + DX=C0041 + LAB1=3) )"]
[]
[]
[]
[]
[null,"Fuente: Sistema de Información de Consulta Externa HIS",null,null,null,null,null,"Reporte Generado:","dd / mm /aaaa"]
[null,"Oficina de Gestión de la Información - MINSA"]

{"sheet":"RABIA SILV PRE-EXPOSICION","index":6,"n_rows":34,"n_cols":28,"rows_kept":34,"cut":false,"hidden":false,"merged":[[11,1,11,2],[11,7,11,8],[5,1,5,2],[5,4,5,5],[7,1,7,2],[7,4,7,5],[9,1,9,2],[9,4,9,5]]}
[]
[]
[]
["INFORME MENSUAL DE RABIA SILVESTRE (PRE-EXPOSICION)"]
[]
["GERESA","CUSCO",null,"PROVINCIA",{"$f":"TRIM(TABLAS!N12)","v":""},null,"MINSA"]
[]
["RED",{"$f":"TRIM(TABLAS!N9)","v":""},null,"DISTRITO",{"$f":"TRIM(TABLAS!N13)","v":""},null,"ESSALUD"]
[]
["MICRO RED",{"$f":"TRIM(TABLAS!N10)","v":""},null,"MES",{"$f":"TRIM(TABLAS!M26)","v":""},null,"SANIDAD FFAA-PNP"]
[]
["ESTABLECIMIENTO",{"$f":"TRIM(TABLAS!N11)","v":""},null,"AÑO",{"$f":"TRIM(TABLAS!I16)","v":"2024"},null,"EJECUTORA",{"$f":"TRIM(TABLAS!N14)","v":""}]
[]
[]
[]
["TRATAMIENTO CULTIVO CELULAR PRE EXPOSICION"]
["TRATAMIENTO","SEXO","Total","0-11a","12-17a","18-29a","30-59a","60 y más","Gestante"]
["1° Dosis","T",null,null,null,null,null,null,null,null,null,null,"LOTE=\"ACT\" & [(TD=D) & (CODIGO1=90675 & LAB1=1) &  LAB2=PRE"]
[null,"M",{"$f":"SUM(D19:H19)","v":8},{"$f":"+GETPIVOTDATA(\" BAS091\",TABLAS!$A$200)","v":0},{"$f":"+GETPIVOTDATA(\" BAS092\",TABLAS!$A$200)","v":1},{"$f":"+GETPIVOTDATA(\" BAS093\",TABLAS!$A$200)","v":0},{"$f":"+GETPIVOTDATA(\" BAS094\",TABLAS!$A$200)","v":5},{"$f":"+GETPIVOTDATA(\" BAS095\",TABLAS!$A$200)","v":2},null,null,null,null,null,null,{"$f":"IF(U19<10,CONCATENATE($AB$19,\"00\",U19,$AB$20),IF(AND(U19>9,U19<100),CONCATENATE($AB$19,\"0\",U19,$AB$20),CONCATENATE($AB$19,U19,$AB$20)))","v":"=+IMPORTARDATOSDINAMICOS(\" BAS091\";TABLAS!$A$169)"},{"$f":"IF(V19<10,CONCATENATE($AB$19,\"00\",V19,$AB$20),IF(AND(V19>9,V19<100),CONCATENATE($AB$19,\"0\",V19,$AB$20),CONCATENATE($AB$19,V19,$AB$20)))","v":"=+IMPORTARDATOSDINAMICOS(\" BAS092\";TABLAS!$A$169)"},"=+IMPORTARDATOSDINAMICOS(\" BAS093\";TABLAS!$A$169)","=+IMPORTARDATOSDINAMICOS(\" BAS094\";TABLAS!$A$169)","=+IMPORTARDATOSDINAMICOS(\" BAS095\";TABLAS!$A$169)",null,91,{"$f":"+U19+1","v":92},{"$f":"+V19+1","v":93},94,95,null,null,"=+IMPORTARDATOSDINAMICOS(\" BAS"]
[null,"F",7,{"$f":"+GETPIVOTDATA(\" BAS096\",TABLAS!$A$200)","v":1},{"$f":"+GETPIVOTDATA(\" BAS097\",TABLAS!$A$200)","v":0},{"$f":"+GETPIVOTDATA(\" BAS098\",TABLAS!$A$200)","v":1},{"$f":"+GETPIVOTDATA(\" BAS099\",TABLAS!$A$200)","v":0},{"$f":"+GETPIVOTDATA(\" BAS100\",TABLAS!$A$200)","v":5},{"$f":"+GETPIVOTDATA(\" BAS101\",TABLAS!$A$200)","v":2},null,null,null,null,null,{"$f":"IF(U20<10,CONCATENATE($AB$19,\"00\",U20,$AB$20),IF(AND(U20>9,U20<100),CONCATENATE($AB$19,\"0\",U20,$AB$20),CONCATENATE($AB$19,U20,$AB$20)))","v":"=+IMPORTARDATOSDINAMICOS(\" BAS096\";TABLAS!$A$169)"},{"$f":"IF(V20<10,CONCATENATE($AB$19,\"00\",V20,$AB$20),IF(AND(V20>9,V20<100),CONCATENATE($AB$19,\"0\",V20,$AB$20),CONCATENATE($AB$19,V20,$AB$20)))","v":"=+IMPORTARDATOSDINAMICOS(\" BAS097\";TABLAS!$A$169)"},{"$f":"IF(W20<10,CONCATENATE($AB$19,\"00\",W20,$AB$20),IF(AND(W20>9,W20<100),CONCATENATE($AB$19,\"0\",W20,$AB$20),CONCATENATE($AB$19,W20,$AB$20)))","v":"=+IMPORTARDATOSDINAMICOS(\" BAS098\";TABLAS!$A$169)"},{"$f":"IF(X20<10,CONCATENATE($AB$19,\"00\",X20,$AB$20),IF(AND(X20>9,X20<100),CONCATENATE($AB$19,\"0\",X20,$AB$20),CONCATENATE($AB$19,X20,$AB$20)))","v":"=+IMPORTARDATOSDINAMICOS(\" BAS099\";TABLAS!$A$169)"},{"$f":"IF(Y20<10,CONCATENATE($AB$19,\"00\",Y20,$AB$20),IF(AND(Y20>9,Y20<100),CONCATENATE($AB$19,\"0\",Y20,$AB$20),CONCATENATE($AB$19,Y20,$AB$20)))","v":"=+IMPORTARDATOSDINAMICOS(\" BAS100\";TABLAS!$A$169)"},"=+IMPORTARDATOSDINAMICOS(\" BAS101\";TABLAS!$A$169)",{"$f":"+Y19+1","v":96},{"$f":"+U20+1","v":97},98,99,100,{"$f":"+Y20+1","v":101},null,"\";TABLAS!$A$169)"]
["2° Dosis","T",null,null,null,null,null,null,null,null,null,null,"LOTE=\"ACT\" & [(TD=D) & (CODIGO1=90675 & LAB1=2) &  LAB2=PRE"]
[null,"M",1,{"$f":"+GETPIVOTDATA(\" BAS102\",TABLAS!$A$200)","v":1},{"$f":"+GETPIVOTDATA(\" BAS103\",TABLAS!$A$200)","v":0},{"$f":"+GETPIVOTDATA(\" BAS104\",TABLAS!$A$200)","v":0},{"$f":"+GETPIVOTDATA(\" BAS105\",TABLAS!$A$200)","v":0},{"$f":"+GETPIVOTDATA(\" BAS106\",TABLAS!$A$200)","v":0},null,null,null,null,null,null,{"$f":"IF(U22<10,CONCATENATE($AB$19,\"00\",U22,$AB$20),IF(AND(U22>9,U22<100),CONCATENATE($AB$19,\"0\",U22,$AB$20),CONCATENATE($AB$19,U22,$AB$20)))","v":"=+IMPORTARDATOSDINAMICOS(\" BAS102\";TABLAS!$A$169)"},{"$f":"IF(V22<10,CONCATENATE($AB$19,\"00\",V22,$AB$20),IF(AND(V22>9,V22<100),CONCATENATE($AB$19,\"0\",V22,$AB$20),CONCATENATE($AB$19,V22,$AB$20)))","v":"=+IMPORTARDATOSDINAMICOS(\" BAS103\";TABLAS!$A$169)"},{"$f":"IF(W22<10,CONCATENATE($AB$19,\"00\",W22,$AB$20),IF(AND(W22>9,W22<100),CONCATENATE($AB$19,\"0\",W22,$AB$20),CONCATENATE($AB$19,W22,$AB$20)))","v":"=+IMPORTARDATOSDINAMICOS(\" BAS104\";TABLAS!$A$169)"},{"$f":"IF(X22<10,CONCATENATE($AB$19,\"00\",X22,$AB$20),IF(AND(X22>9,X22<100),CONCATENATE($AB$19,\"0\",X22,$AB$20),CONCATENATE($AB$19,X22,$AB$20)))","v":"=+IMPORTARDATOSDINAMICOS(\" BAS105\";TABLAS!$A$169)"},{"$f":"IF(Y22<10,CONCATENATE($AB$19,\"00\",Y22,$AB$20),IF(AND(Y22>9,Y22<100),CONCATENATE($AB$19,\"0\",Y22,$AB$20),CONCATENATE($AB$19,Y22,$AB$20)))","v":"=+IMPORTARDATOSDINAMICOS(\" BAS106\";TABLAS!$A$169)"},null,{"$f":"+Z20+1","v":102},{"$f":"+U22+1","v":103},{"$f":"+V22+1","v":104},{"$f":"+W22+1","v":105},{"$f":"+X22+1","v":106}]
[null,"F",1,{"$f":"+GETPIVOTDATA(\" BAS107\",TABLAS!$A$200)","v":0},{"$f":"+GETPIVOTDATA(\" BAS108\",TABLAS!$A$200)","v":1},{"$f":"+GETPIVOTDATA(\" BAS109\",TABLAS!$A$200)","v":0},{"$f":"+GETPIVOTDATA(\" BAS110\",TABLAS!$A$200)","v":0},{"$f":"+GETPIVOTDATA(\" BAS111\",TABLAS!$A$200)","v":0},{"$f":"+GETPIVOTDATA(\" BAS112\",TABLAS!$A$200)","v":0},null,null,null,null,null,{"$f":"IF(U23<10,CONCATENATE($AB$19,\"00\",U23,$AB$20),IF(AND(U23>9,U23<100),CONCATENATE($AB$19,\"0\",U23,$AB$20),CONCATENATE($AB$19,U23,$AB$20)))","v":"=+IMPORTARDATOSDINAMICOS(\" BAS107\";TABLAS!$A$169)"},{"$f":"IF(V23<10,CONCATENATE($AB$19,\"00\",V23,$AB$20),IF(AND(V23>9,V23<100),CONCATENATE($AB$19,\"0\",V23,$AB$20),CONCATENATE($AB$19,V23,$AB$20)))","v":"=+IMPORTARDATOSDINAMICOS(\" BAS108\";TABLAS!$A$169)"},{"$f":"IF(W23<10,CONCATENATE($AB$19,\"00\",W23,$AB$20),IF(AND(W23>9,W23<100),CONCATENATE($AB$19,\"0\",W23,$AB$20),CONCATENATE($AB$19,W23,$AB$20)))","v":"=+IMPORTARDATOSDINAMICOS(\" BAS109\";TABLAS!$A$169)"},{"$f":"IF(X23<10,CONCATENATE($AB$19,\"00\",X23,$AB$20),IF(AND(X23>9,X23<100),CONCATENATE($AB$19,\"0\",X23,$AB$20),CONCATENATE($AB$19,X23,$AB$20)))","v":"=+IMPORTARDATOSDINAMICOS(\" BAS110\";TABLAS!$A$169)"},{"$f":"IF(Y23<10,CONCATENATE($AB$19,\"00\",Y23,$AB$20),IF(AND(Y23>9,Y23<100),CONCATENATE($AB$19,\"0\",Y23,$AB$20),CONCATENATE($AB$19,Y23,$AB$20)))","v":"=+IMPORTARDATOSDINAMICOS(\" BAS111\";TABLAS!$A$169)"},{"$f":"IF(Z23<10,CONCATENATE($AB$19,\"00\",Z23,$AB$20),IF(AND(Z23>9,Z23<100),CONCATENATE($AB$19,\"0\",Z23,$AB$20),CONCATENATE($AB$19,Z23,$AB$20)))","v":"=+IMPORTARDATOSDINAMICOS(\" BAS112\";TABLAS!$A$169)"},{"$f":"+Y22+1","v":107},{"$f":"+U23+1","v":108},{"$f":"+V23+1","v":109},{"$f":"+W23+1","v":110},{"$f":"+X23+1","v":111},{"$f":"+Y23+1","v":112}]
["3° Dosis","T",null,null,null,null,null,null,null,null,null,null,"LOTE=\"ACT\" & [(TD=D) & (CODIGO1=90675 & LAB1=3) &  LAB2=PRE"]
[null,"M",{"$f":"SUM(D25:H25)","v":0},{"$f":"+GETPIVOTDATA(\" BAS113\",TABLAS!$A$200)","v":0},{"$f":"+GETPIVOTDATA(\" BAS114\",TABLAS!$A$200)","v":0},{"$f":"+GETPIVOTDATA(\" BAS115\",TABLAS!$A$200)","v":0},{"$f":"+GETPIVOTDATA(\" BAS116\",TABLAS!$A$200)","v":0},{"$f":"+GETPIVOTDATA(\" BAS117\",TABLAS!$A$200)","v":0},null,null,null,null,null,null,{"$f":"IF(U25<10,CONCATENATE($AB$19,\"00\",U25,$AB$20),IF(AND(U25>9,U25<100),CONCATENATE($AB$19,\"0\",U25,$AB$20),CONCATENATE($AB$19,U25,$AB$20)))","v":"=+IMPORTARDATOSDINAMICOS(\" BAS113\";TABLAS!$A$169)"},{"$f":"IF(V25<10,CONCATENATE($AB$19,\"00\",V25,$AB$20),IF(AND(V25>9,V25<100),CONCATENATE($AB$19,\"0\",V25,$AB$20),CONCATENATE($AB$19,V25,$AB$20)))","v":"=+IMPORTARDATOSDINAMICOS(\" BAS114\";TABLAS!$A$169)"},{"$f":"IF(W25<10,CONCATENATE($AB$19,\"00\",W25,$AB$20),IF(AND(W25>9,W25<100),CONCATENATE($AB$19,\"0\",W25,$AB$20),CONCATENATE($AB$19,W25,$AB$20)))","v":"=+IMPORTARDATOSDINAMICOS(\" BAS115\";TABLAS!$A$169)"},{"$f":"IF(X25<10,CONCATENATE($AB$19,\"00\",X25,$AB$20),IF(AND(X25>9,X25<100),CONCATENATE($AB$19,\"0\",X25,$AB$20),CONCATENATE($AB$19,X25,$AB$20)))","v":"=+IMPORTARDATOSDINAMICOS(\" BAS116\";TABLAS!$A$169)"},{"$f":"IF(Y25<10,CONCATENATE($AB$19,\"00\",Y25,$AB$20),IF(AND(Y25>9,Y25<100),CONCATENATE($AB$19,\"0\",Y25,$AB$20),CONCATENATE($AB$19,Y25,$AB$20)))","v":"=+IMPORTARDATOSDINAMICOS(\" BAS117\";TABLAS!$A$169)"},null,{"$f":"+Z23+1","v":113},{"$f":"+U25+1","v":114},{"$f":"+V25+1","v":115},{"$f":"+W25+1","v":116},{"$f":"+X25+1","v":117}]
[null,"F",0,{"$f":"+GETPIVOTDATA(\" BAS118\",TABLAS!$A$200)","v":0},{"$f":"+GETPIVOTDATA(\" BAS119\",TABLAS!$A$200)","v":0},{"$f":"+GETPIVOTDATA(\" BAS120\",TABLAS!$A$200)","v":0},{"$f":"+GETPIVOTDATA(\" BAS121\",TABLAS!$A$200)","v":0},{"$f":"+GETPIVOTDATA(\" BAS122\",TABLAS!$A$200)","v":0},{"$f":"+GETPIVOTDATA(\" BAS123\",TABLAS!$A$200)","v":0},null,null,null,null,null,{"$f":"IF(U26<10,CONCATENATE($AB$19,\"00\",U26,$AB$20),IF(AND(U26>9,U26<100),CONCATENATE($AB$19,\"0\",U26,$AB$20),CONCATENATE($AB$19,U26,$AB$20)))","v":"=+IMPORTARDATOSDINAMICOS(\" BAS118\";TABLAS!$A$169)"},{"$f":"IF(V26<10,CONCATENATE($AB$19,\"00\",V26,$AB$20),IF(AND(V26>9,V26<100),CONCATENATE($AB$19,\"0\",V26,$AB$20),CONCATENATE($AB$19,V26,$AB$20)))","v":"=+IMPORTARDATOSDINAMICOS(\" BAS119\";TABLAS!$A$169)"},{"$f":"IF(W26<10,CONCATENATE($AB$19,\"00\",W26,$AB$20),IF(AND(W26>9,W26<100),CONCATENATE($AB$19,\"0\",W26,$AB$20),CONCATENATE($AB$19,W26,$AB$20)))","v":"=+IMPORTARDATOSDINAMICOS(\" BAS120\";TABLAS!$A$169)"},{"$f":"IF(X26<10,CONCATENATE($AB$19,\"00\",X26,$AB$20),IF(AND(X26>9,X26<100),CONCATENATE($AB$19,\"0\",X26,$AB$20),CONCATENATE($AB$19,X26,$AB$20)))","v":"=+IMPORTARDATOSDINAMICOS(\" BAS121\";TABLAS!$A$169)"},{"$f":"IF(Y26<10,CONCATENATE($AB$19,\"00\",Y26,$AB$20),IF(AND(Y26>9,Y26<100),CONCATENATE($AB$19,\"0\",Y26,$AB$20),CONCATENATE($AB$19,Y26,$AB$20)))","v":"=+IMPORTARDATOSDINAMICOS(\" BAS122\";TABLAS!$A$169)"},{"$f":"IF(Z26<10,CONCATENATE($AB$19,\"00\",Z26,$AB$20),IF(AND(Z26>9,Z26<100),CONCATENATE($AB$19,\"0\",Z26,$AB$20),CONCATENATE($AB$19,Z26,$AB$20)))","v":"=+IMPORTARDATOSDINAMICOS(\" BAS123\";TABLAS!$A$169)"},{"$f":"+Y25+1","v":118},{"$f":"+U26+1","v":119},{"$f":"+V26+1","v":120},{"$f":"+W26+1","v":121},{"$f":"+X26+1","v":122},{"$f":"+Y26+1","v":123}]
["TOTAL DOSIS APLICADAS","T",null,null,null,null,null,null,null,null,null,null,"LOTE=\"ACT\" & [(TD=D) & (CODIGO1=90675 & LAB1=3) &  LAB2=PRE"]
[null,"M",0]
[null,"F",0]
[]
[]
[]
["Fuente: Sistema de Información de Consulta Externa HIS",null,null,null,null,null,"Reporte Generado:","dd / mm /aaaa"]
["Oficina General de Estadística e Informática - MINSA"]

{"sheet":"PONZOÑOSOS","index":7,"n_rows":86,"n_cols":29,"rows_kept":86,"cut":false,"hidden":false,"merged":[[5,2,5,3],[5,5,5,6],[7,2,7,3],[7,5,7,6],[9,2,9,3],[9,5,9,6],[28,1,30,2],[25,1,27,2],[22,1,24,2],[11,8,11,9],[19,1,21,2],[16,1,18,2],[11,2,11,3],[69,1,69,3],[3,1,3,10],[13,1,13,4],[68,1,68,3],[64,1,66,2],[61,1,63,2],[58,1,60,2],[55,1,57,2],[52,1,54,2],[49,1,51,2],[46,1,48,2],[43,1,45,2],[40,1,42,2],[37,1,39,2],[34,1,36,2],[31,1,33,2],[77,1,77,3],[70,1,70,3],[71,1,71,3],[72,1,72,3],[74,1,74,3],[75,1,75,3],[76,1,76,3]]}
[]
[]
[]
[null,"INFORME MENSUAL DE ACCIDENTES POR ANIMALES PONZOÑOSOS"]
[]
[null,"GERESA","CUSCO",null,"PROVINCIA",{"$f":"TRIM(TABLAS!O12)","v":""},null,"MINSA"]
[]
[null,"RED",{"$f":"TRIM(TABLAS!O9)","v":"03 - LA CONVENCION"},null,"DISTRITO",{"$f":"TRIM(TABLAS!O13)","v":""},null,"ESSALUD"]
[]
[null,"MICRO RED",{"$f":"TRIM(TABLAS!O10)","v":""},null,"MES",{"$f":"TRIM(TABLAS!N26)","v":"ENE - NOV"},null,"SANIDAD FFAA-PNP"]
[]
[null,"ESTABLECIMIENTO",{"$f":"TRIM(TABLAS!O11)","v":""},null,"AÑO",{"$f":"TRIM(TABLAS!J16)","v":"2024"},null,"EJECUTORA",{"$f":"TRIM(TABLAS!O14)","v":""}]
[]
[]
[null,null,null,null,null,1,2,3,4,5,6]
[null,"MORBILIDAD",null,"SEXO","Total","0-11a","12-17a","18-29a","30-59a","60 y más","Gestante"]
[null,"TOTAL",null,"T"]
[null,null,null,"M"]
[null,null,null,"F"]
[null,"ACCIDENTES POR ANIMALES OFÍDICOS",null,"T"]
[null,null,null,"M"]
[null,null,null,"F",null,null,null,null,null,null,null,null,null,null,null,null,null,null,null,null,null,{"$f":"+GETPIVOTDATA(\" BAS001\",TABLAS!$A$262)","v":2}]
[null,"Persona mordida por Bothroops (Jergon, Loro, Machaco)",null,"T",{"$f":"SUM(F23:K23)","v":23},{"$f":"SUM(F24:F25)","v":4},{"$f":"SUM(G24:G25)","v":2},8,6,3,0]
[1,null,null,"M",{"$f":"SUM(F24:K24)","v":14},{"$f":"+GETPIVOTDATA(\" BAS001\",TABLAS!$A$262)","v":2},{"$f":"+GETPIVOTDATA(\" BAS002\",TABLAS!$A$262)","v":0},{"$f":"+GETPIVOTDATA(\" BAS003\",TABLAS!$A$262)","v":5},{"$f":"+GETPIVOTDATA(\" BAS004\",TABLAS!$A$262)","v":4},{"$f":"+GETPIVOTDATA(\" BAS005\",TABLAS!$A$262)","v":3},null,null,"D/T630 + D/X2091",null,null,{"$f":"IF(V24<10,CONCATENATE($AC$24,\"00\",V24,$AC$25),IF(AND(V24>9,V24<100),CONCATENATE($AC$24,\"0\",V24,$AC$25),CONCATENATE($AC$24,V24,$AC$25)))","v":"=+IMPORTARDATOSDINAMICOS(\" BAS001\";TABLAS!$A$231)"},{"$f":"IF(W24<10,CONCATENATE($AC$24,\"00\",W24,$AC$25),IF(AND(W24>9,W24<100),CONCATENATE($AC$24,\"0\",W24,$AC$25),CONCATENATE($AC$24,W24,$AC$25)))","v":"=+IMPORTARDATOSDINAMICOS(\" BAS002\";TABLAS!$A$231)"},"=+IMPORTARDATOSDINAMICOS(\" BAS003\";TABLAS!$A$231)","=+IMPORTARDATOSDINAMICOS(\" BAS004\";TABLAS!$A$231)","=+IMPORTARDATOSDINAMICOS(\" BAS005\";TABLAS!$A$231)",null,1,{"$f":"+V24+1","v":2},{"$f":"+W24+1","v":3},4,5,null,null,"=+IMPORTARDATOSDINAMICOS(\" BAS"]
[2,null,null,"F",{"$f":"SUM(F25:K25)","v":9},{"$f":"+GETPIVOTDATA(\" BAS006\",TABLAS!$A$262)","v":2},{"$f":"+GETPIVOTDATA(\" BAS007\",TABLAS!$A$262)","v":2},{"$f":"+GETPIVOTDATA(\" BAS008\",TABLAS!$A$262)","v":3},{"$f":"+GETPIVOTDATA(\" BAS009\",TABLAS!$A$262)","v":2},{"$f":"+GETPIVOTDATA(\" BAS010\",TABLAS!$A$262)","v":0},{"$f":"+GETPIVOTDATA(\" BAS011\",TABLAS!$A$262)","v":0},null,null,null,null,{"$f":"IF(V25<10,CONCATENATE($AC$24,\"00\",V25,$AC$25),IF(AND(V25>9,V25<100),CONCATENATE($AC$24,\"0\",V25,$AC$25),CONCATENATE($AC$24,V25,$AC$25)))","v":"=+IMPORTARDATOSDINAMICOS(\" BAS006\";TABLAS!$A$231)"},{"$f":"IF(W25<10,CONCATENATE($AC$24,\"00\",W25,$AC$25),IF(AND(W25>9,W25<100),CONCATENATE($AC$24,\"0\",W25,$AC$25),CONCATENATE($AC$24,W25,$AC$25)))","v":"=+IMPORTARDATOSDINAMICOS(\" BAS007\";TABLAS!$A$231)"},{"$f":"IF(X25<10,CONCATENATE($AC$24,\"00\",X25,$AC$25),IF(AND(X25>9,X25<100),CONCATENATE($AC$24,\"0\",X25,$AC$25),CONCATENATE($AC$24,X25,$AC$25)))","v":"=+IMPORTARDATOSDINAMICOS(\" BAS008\";TABLAS!$A$231)"},{"$f":"IF(Y25<10,CONCATENATE($AC$24,\"00\",Y25,$AC$25),IF(AND(Y25>9,Y25<100),CONCATENATE($AC$24,\"0\",Y25,$AC$25),CONCATENATE($AC$24,Y25,$AC$25)))","v":"=+IMPORTARDATOSDINAMICOS(\" BAS009\";TABLAS!$A$231)"},{"$f":"IF(Z25<10,CONCATENATE($AC$24,\"00\",Z25,$AC$25),IF(AND(Z25>9,Z25<100),CONCATENATE($AC$24,\"0\",Z25,$AC$25),CONCATENATE($AC$24,Z25,$AC$25)))","v":"=+IMPORTARDATOSDINAMICOS(\" BAS010\";TABLAS!$A$231)"},"=+IMPORTARDATOSDINAMICOS(\" BAS011\";TABLAS!$A$231)",{"$f":"+Z24+1","v":6},{"$f":"+V25+1","v":7},8,9,10,{"$f":"+Z25+1","v":11},null,"\";TABLAS!$A$231)"]
[null,"Persona mordida por Mordedura de Lachesis (Shushupe)",null,"T",{"$f":"SUM(F26:K26)","v":0},{"$f":"SUM(F27:F28)","v":0},{"$f":"SUM(G27:G28)","v":0},{"$f":"SUM(H27:H28)","v":0},{"$f":"SUM(I27:I28)","v":0},{"$f":"SUM(J27:J28)","v":0},{"$f":"SUM(K27:K28)","v":0}]
[3,null,null,"M",0,{"$f":"+GETPIVOTDATA(\" BAS012\",TABLAS!$A$262)","v":0},{"$f":"+GETPIVOTDATA(\" BAS013\",TABLAS!$A$262)","v":0},{"$f":"+GETPIVOTDATA(\" BAS014\",TABLAS!$A$262)","v":0},{"$f":"+GETPIVOTDATA(\" BAS015\",TABLAS!$A$262)","v":0},{"$f":"+GETPIVOTDATA(\" BAS016\",TABLAS!$A$262)","v":0},null,null,"D/T630 + D/X2092",null,null,{"$f":"IF(V27<10,CONCATENATE($AC$24,\"00\",V27,$AC$25),IF(AND(V27>9,V27<100),CONCATENATE($AC$24,\"0\",V27,$AC$25),CONCATENATE($AC$24,V27,$AC$25)))","v":"=+IMPORTARDATOSDINAMICOS(\" BAS012\";TABLAS!$A$231)"},{"$f":"IF(W27<10,CONCATENATE($AC$24,\"00\",W27,$AC$25),IF(AND(W27>9,W27<100),CONCATENATE($AC$24,\"0\",W27,$AC$25),CONCATENATE($AC$24,W27,$AC$25)))","v":"=+IMPORTARDATOSDINAMICOS(\" BAS013\";TABLAS!$A$231)"},{"$f":"IF(X27<10,CONCATENATE($AC$24,\"00\",X27,$AC$25),IF(AND(X27>9,X27<100),CONCATENATE($AC$24,\"0\",X27,$AC$25),CONCATENATE($AC$24,X27,$AC$25)))","v":"=+IMPORTARDATOSDINAMICOS(\" BAS014\";TABLAS!$A$231)"},{"$f":"IF(Y27<10,CONCATENATE($AC$24,\"00\",Y27,$AC$25),IF(AND(Y27>9,Y27<100),CONCATENATE($AC$24,\"0\",Y27,$AC$25),CONCATENATE($AC$24,Y27,$AC$25)))","v":"=+IMPORTARDATOSDINAMICOS(\" BAS015\";TABLAS!$A$231)"},{"$f":"IF(Z27<10,CONCATENATE($AC$24,\"00\",Z27,$AC$25),IF(AND(Z27>9,Z27<100),CONCATENATE($AC$24,\"0\",Z27,$AC$25),CONCATENATE($AC$24,Z27,$AC$25)))","v":"=+IMPORTARDATOSDINAMICOS(\" BAS016\";TABLAS!$A$231)"},null,{"$f":"+AA25+1","v":12},{"$f":"+V27+1","v":13},{"$f":"+W27+1","v":14},{"$f":"+X27+1","v":15},{"$f":"+Y27+1","v":16}]
[4,null,null,"F",0,{"$f":"+GETPIVOTDATA(\" BAS017\",TABLAS!$A$262)","v":0},{"$f":"+GETPIVOTDATA(\" BAS018\",TABLAS!$A$262)","v":0},{"$f":"+GETPIVOTDATA(\" BAS019\",TABLAS!$A$262)","v":0},{"$f":"+GETPIVOTDATA(\" BAS020\",TABLAS!$A$262)","v":0},{"$f":"+GETPIVOTDATA(\" BAS021\",TABLAS!$A$262)","v":0},{"$f":"+GETPIVOTDATA(\" BAS022\",TABLAS!$A$262)","v":0},null,null,null,null,{"$f":"IF(V28<10,CONCATENATE($AC$24,\"00\",V28,$AC$25),IF(AND(V28>9,V28<100),CONCATENATE($AC$24,\"0\",V28,$AC$25),CONCATENATE($AC$24,V28,$AC$25)))","v":"=+IMPORTARDATOSDINAMICOS(\" BAS017\";TABLAS!$A$231)"},"=+IMPORTARDATOSDINAMICOS(\" BAS018\";TABLAS!$A$231)","=+IMPORTARDATOSDINAMICOS(\" BAS019\";TABLAS!$A$231)","=+IMPORTARDATOSDINAMICOS(\" BAS020\";TABLAS!$A$231)","=+IMPORTARDATOSDINAMICOS(\" BAS021\";TABLAS!$A$231)",{"$f":"IF(AA28<10,CONCATENATE($AC$24,\"00\",AA28,$AC$25),IF(AND(AA28>9,AA28<100),CONCATENATE($AC$24,\"0\",AA28,$AC$25),CONCATENATE($AC$24,AA28,$AC$25)))","v":"=+IMPORTARDATOSDINAMICOS(\" BAS022\";TABLAS!$A$231)"},{"$f":"+Z27+1","v":17},{"$f":"+V28+1","v":18},{"$f":"+W28+1","v":19},20,21,{"$f":"+Z28+1","v":22}]
[null,"Persona mordida por Crotalus ",null,"T",{"$f":"SUM(F29:K29)","v":0},{"$f":"SUM(F30:F31)","v":0},{"$f":"SUM(G30:G31)","v":0},{"$f":"SUM(H30:H31)","v":0},{"$f":"SUM(I30:I31)","v":0},{"$f":"SUM(J30:J31)","v":0},{"$f":"SUM(K30:K31)","v":0}]
[5,null,null,"M",0,{"$f":"+GETPIVOTDATA(\" BAS023\",TABLAS!$A$262)","v":0},{"$f":"+GETPIVOTDATA(\" BAS024\",TABLAS!$A$262)","v":0},{"$f":"+GETPIVOTDATA(\" BAS025\",TABLAS!$A$262)","v":0},{"$f":"+GETPIVOTDATA(\" BAS026\",TABLAS!$A$262)","v":0},{"$f":"+GETPIVOTDATA(\" BAS027\",TABLAS!$A$262)","v":0},null,null,"D/T630 + D/X2093",null,null,{"$f":"IF(V30<10,CONCATENATE($AC$24,\"00\",V30,$AC$25),IF(AND(V30>9,V30<100),CONCATENATE($AC$24,\"0\",V30,$AC$25),CONCATENATE($AC$24,V30,$AC$25)))","v":"=+IMPORTARDATOSDINAMICOS(\" BAS023\";TABLAS!$A$231)"},{"$f":"IF(W30<10,CONCATENATE($AC$24,\"00\",W30,$AC$25),IF(AND(W30>9,W30<100),CONCATENATE($AC$24,\"0\",W30,$AC$25),CONCATENATE($AC$24,W30,$AC$25)))","v":"=+IMPORTARDATOSDINAMICOS(\" BAS024\";TABLAS!$A$231)"},{"$f":"IF(X30<10,CONCATENATE($AC$24,\"00\",X30,$AC$25),IF(AND(X30>9,X30<100),CONCATENATE($AC$24,\"0\",X30,$AC$25),CONCATENATE($AC$24,X30,$AC$25)))","v":"=+IMPORTARDATOSDINAMICOS(\" BAS025\";TABLAS!$A$231)"},{"$f":"IF(Y30<10,CONCATENATE($AC$24,\"00\",Y30,$AC$25),IF(AND(Y30>9,Y30<100),CONCATENATE($AC$24,\"0\",Y30,$AC$25),CONCATENATE($AC$24,Y30,$AC$25)))","v":"=+IMPORTARDATOSDINAMICOS(\" BAS026\";TABLAS!$A$231)"},{"$f":"IF(Z30<10,CONCATENATE($AC$24,\"00\",Z30,$AC$25),IF(AND(Z30>9,Z30<100),CONCATENATE($AC$24,\"0\",Z30,$AC$25),CONCATENATE($AC$24,Z30,$AC$25)))","v":"=+IMPORTARDATOSDINAMICOS(\" BAS027\";TABLAS!$A$231)"},null,{"$f":"+AA28+1","v":23},{"$f":"+V30+1","v":24},{"$f":"+W30+1","v":25},{"$f":"+X30+1","v":26},{"$f":"+Y30+1","v":27}]
[6,null,null,"F",0,{"$f":"+GETPIVOTDATA(\" BAS028\",TABLAS!$A$262)","v":0},{"$f":"+GETPIVOTDATA(\" BAS029\",TABLAS!$A$262)","v":0},{"$f":"+GETPIVOTDATA(\" BAS030\",TABLAS!$A$262)","v":0},{"$f":"+GETPIVOTDATA(\" BAS031\",TABLAS!$A$262)","v":0},{"$f":"+GETPIVOTDATA(\" BAS032\",TABLAS!$A$262)","v":0},{"$f":"+GETPIVOTDATA(\" BAS033\",TABLAS!$A$262)","v":0},null,null,null,null,{"$f":"IF(V31<10,CONCATENATE($AC$24,\"00\",V31,$AC$25),IF(AND(V31>9,V31<100),CONCATENATE($AC$24,\"0\",V31,$AC$25),CONCATENATE($AC$24,V31,$AC$25)))","v":"=+IMPORTARDATOSDINAMICOS(\" BAS028\";TABLAS!$A$231)"},"=+IMPORTARDATOSDINAMICOS(\" BAS029\";TABLAS!$A$231)","=+IMPORTARDATOSDINAMICOS(\" BAS030\";TABLAS!$A$231)","=+IMPORTARDATOSDINAMICOS(\" BAS031\";TABLAS!$A$231)","=+IMPORTARDATOSDINAMICOS(\" BAS032\";TABLAS!$A$231)",{"$f":"IF(AA31<10,CONCATENATE($AC$24,\"00\",AA31,$AC$25),IF(AND(AA31>9,AA31<100),CONCATENATE($AC$24,\"0\",AA31,$AC$25),CONCATENATE($AC$24,AA31,$AC$25)))","v":"=+IMPORTARDATOSDINAMICOS(\" BAS033\";TABLAS!$A$231)"},{"$f":"+Z30+1","v":28},{"$f":"+V31+1","v":29},{"$f":"+W31+1","v":30},31,32,{"$f":"+Z31+1","v":33}]
[null,"Personas mordidas por otras especies (serpientes y lagartos venenosos)",null,"T",{"$f":"SUM(F32:K32)","v":3},{"$f":"SUM(F33:F34)","v":1},{"$f":"SUM(G33:G34)","v":0},{"$f":"SUM(H33:H34)","v":1},{"$f":"SUM(I33:I34)","v":1},{"$f":"SUM(J33:J34)","v":0},{"$f":"SUM(K33:K34)","v":0}]
[7,null,null,"M",0,{"$f":"+GETPIVOTDATA(\" BAS034\",TABLAS!$A$262)","v":0},{"$f":"+GETPIVOTDATA(\" BAS035\",TABLAS!$A$262)","v":0},{"$f":"+GETPIVOTDATA(\" BAS036\",TABLAS!$A$262)","v":0},{"$f":"+GETPIVOTDATA(\" BAS037\",TABLAS!$A$262)","v":0},{"$f":"+GETPIVOTDATA(\" BAS038\",TABLAS!$A$262)","v":0},null,null,"D/T630,T631 + D/X2094",null,null,{"$f":"IF(V33<10,CONCATENATE($AC$24,\"00\",V33,$AC$25),IF(AND(V33>9,V33<100),CONCATENATE($AC$24,\"0\",V33,$AC$25),CONCATENATE($AC$24,V33,$AC$25)))","v":"=+IMPORTARDATOSDINAMICOS(\" BAS034\";TABLAS!$A$231)"},{"$f":"IF(W33<10,CONCATENATE($AC$24,\"00\",W33,$AC$25),IF(AND(W33>9,W33<100),CONCATENATE($AC$24,\"0\",W33,$AC$25),CONCATENATE($AC$24,W33,$AC$25)))","v":"=+IMPORTARDATOSDINAMICOS(\" BAS035\";TABLAS!$A$231)"},{"$f":"IF(X33<10,CONCATENATE($AC$24,\"00\",X33,$AC$25),IF(AND(X33>9,X33<100),CONCATENATE($AC$24,\"0\",X33,$AC$25),CONCATENATE($AC$24,X33,$AC$25)))","v":"=+IMPORTARDATOSDINAMICOS(\" BAS036\";TABLAS!$A$231)"},{"$f":"IF(Y33<10,CONCATENATE($AC$24,\"00\",Y33,$AC$25),IF(AND(Y33>9,Y33<100),CONCATENATE($AC$24,\"0\",Y33,$AC$25),CONCATENATE($AC$24,Y33,$AC$25)))","v":"=+IMPORTARDATOSDINAMICOS(\" BAS037\";TABLAS!$A$231)"},{"$f":"IF(Z33<10,CONCATENATE($AC$24,\"00\",Z33,$AC$25),IF(AND(Z33>9,Z33<100),CONCATENATE($AC$24,\"0\",Z33,$AC$25),CONCATENATE($AC$24,Z33,$AC$25)))","v":"=+IMPORTARDATOSDINAMICOS(\" BAS038\";TABLAS!$A$231)"},null,{"$f":"+AA31+1","v":34},{"$f":"+V33+1","v":35},{"$f":"+W33+1","v":36},{"$f":"+X33+1","v":37},{"$f":"+Y33+1","v":38}]
[8,null,null,"F",3,{"$f":"+GETPIVOTDATA(\" BAS039\",TABLAS!$A$262)","v":1},{"$f":"+GETPIVOTDATA(\" BAS040\",TABLAS!$A$262)","v":0},{"$f":"+GETPIVOTDATA(\" BAS041\",TABLAS!$A$262)","v":1},{"$f":"+GETPIVOTDATA(\" BAS042\",TABLAS!$A$262)","v":1},{"$f":"+GETPIVOTDATA(\" BAS043\",TABLAS!$A$262)","v":0},{"$f":"+GETPIVOTDATA(\" BAS044\",TABLAS!$A$262)","v":0},null,null,null,null,{"$f":"IF(V34<10,CONCATENATE($AC$24,\"00\",V34,$AC$25),IF(AND(V34>9,V34<100),CONCATENATE($AC$24,\"0\",V34,$AC$25),CONCATENATE($AC$24,V34,$AC$25)))","v":"=+IMPORTARDATOSDINAMICOS(\" BAS039\";TABLAS!$A$231)"},"=+IMPORTARDATOSDINAMICOS(\" BAS040\";TABLAS!$A$231)","=+IMPORTARDATOSDINAMICOS(\" BAS041\";TABLAS!$A$231)","=+IMPORTARDATOSDINAMICOS(\" BAS042\";TABLAS!$A$231)","=+IMPORTARDATOSDINAMICOS(\" BAS043\";TABLAS!$A$231)",{"$f":"IF(AA34<10,CONCATENATE($AC$24,\"00\",AA34,$AC$25),IF(AND(AA34>9,AA34<100),CONCATENATE($AC$24,\"0\",AA34,$AC$25),CONCATENATE($AC$24,AA34,$AC$25)))","v":"=+IMPORTARDATOSDINAMICOS(\" BAS044\";TABLAS!$A$231)"},{"$f":"+Z33+1","v":39},{"$f":"+V34+1","v":40},{"$f":"+W34+1","v":41},{"$f":"+X34+1","v":42},{"$f":"+Y34+1","v":43},{"$f":"+Z34+1","v":44}]
[null,"Personas mordidas por ofidios sin identificación",null,"T",{"$f":"SUM(F35:K35)","v":7},{"$f":"SUM(F36:F37)","v":1},{"$f":"SUM(G36:G37)","v":0},{"$f":"SUM(H36:H37)","v":1},{"$f":"SUM(I36:I37)","v":4},{"$f":"SUM(J36:J37)","v":1},{"$f":"SUM(K36:K37)","v":0}]
[9,null,null,"M",5,{"$f":"+GETPIVOTDATA(\" BAS045\",TABLAS!$A$262)","v":0},{"$f":"+GETPIVOTDATA(\" BAS046\",TABLAS!$A$262)","v":0},{"$f":"+GETPIVOTDATA(\" BAS047\",TABLAS!$A$262)","v":1},{"$f":"+GETPIVOTDATA(\" BAS048\",TABLAS!$A$262)","v":4},{"$f":"+GETPIVOTDATA(\" BAS049\",TABLAS!$A$262)","v":0},null,null,"D/T630 + D/X209",null,null,{"$f":"IF(V36<10,CONCATENATE($AC$24,\"00\",V36,$AC$25),IF(AND(V36>9,V36<100),CONCATENATE($AC$24,\"0\",V36,$AC$25),CONCATENATE($AC$24,V36,$AC$25)))","v":"=+IMPORTARDATOSDINAMICOS(\" BAS045\";TABLAS!$A$231)"},{"$f":"IF(W36<10,CONCATENATE($AC$24,\"00\",W36,$AC$25),IF(AND(W36>9,W36<100),CONCATENATE($AC$24,\"0\",W36,$AC$25),CONCATENATE($AC$24,W36,$AC$25)))","v":"=+IMPORTARDATOSDINAMICOS(\" BAS046\";TABLAS!$A$231)"},{"$f":"IF(X36<10,CONCATENATE($AC$24,\"00\",X36,$AC$25),IF(AND(X36>9,X36<100),CONCATENATE($AC$24,\"0\",X36,$AC$25),CONCATENATE($AC$24,X36,$AC$25)))","v":"=+IMPORTARDATOSDINAMICOS(\" BAS047\";TABLAS!$A$231)"},{"$f":"IF(Y36<10,CONCATENATE($AC$24,\"00\",Y36,$AC$25),IF(AND(Y36>9,Y36<100),CONCATENATE($AC$24,\"0\",Y36,$AC$25),CONCATENATE($AC$24,Y36,$AC$25)))","v":"=+IMPORTARDATOSDINAMICOS(\" BAS048\";TABLAS!$A$231)"},{"$f":"IF(Z36<10,CONCATENATE($AC$24,\"00\",Z36,$AC$25),IF(AND(Z36>9,Z36<100),CONCATENATE($AC$24,\"0\",Z36,$AC$25),CONCATENATE($AC$24,Z36,$AC$25)))","v":"=+IMPORTARDATOSDINAMICOS(\" BAS049\";TABLAS!$A$231)"},null,{"$f":"+AA34+1","v":45},{"$f":"+V36+1","v":46},{"$f":"+W36+1","v":47},{"$f":"+X36+1","v":48},{"$f":"+Y36+1","v":49}]
[10,null,null,"F",2,{"$f":"+GETPIVOTDATA(\" BAS050\",TABLAS!$A$262)","v":1},{"$f":"+GETPIVOTDATA(\" BAS051\",TABLAS!$A$262)","v":0},{"$f":"+GETPIVOTDATA(\" BAS052\",TABLAS!$A$262)","v":0},{"$f":"+GETPIVOTDATA(\" BAS053\",TABLAS!$A$262)","v":0},{"$f":"+GETPIVOTDATA(\" BAS054\",TABLAS!$A$262)","v":1},{"$f":"+GETPIVOTDATA(\" BAS055\",TABLAS!$A$262)","v":0},null,null,null,null,{"$f":"IF(V37<10,CONCATENATE($AC$24,\"00\",V37,$AC$25),IF(AND(V37>9,V37<100),CONCATENATE($AC$24,\"0\",V37,$AC$25),CONCATENATE($AC$24,V37,$AC$25)))","v":"=+IMPORTARDATOSDINAMICOS(\" BAS050\";TABLAS!$A$231)"},"=+IMPORTARDATOSDINAMICOS(\" BAS051\";TABLAS!$A$231)","=+IMPORTARDATOSDINAMICOS(\" BAS052\";TABLAS!$A$231)","=+IMPORTARDATOSDINAMICOS(\" BAS053\";TABLAS!$A$231)","=+IMPORTARDATOSDINAMICOS(\" BAS054\";TABLAS!$A$231)",{"$f":"IF(AA37<10,CONCATENATE($AC$24,\"00\",AA37,$AC$25),IF(AND(AA37>9,AA37<100),CONCATENATE($AC$24,\"0\",AA37,$AC$25),CONCATENATE($AC$24,AA37,$AC$25)))","v":"=+IMPORTARDATOSDINAMICOS(\" BAS055\";TABLAS!$A$231)"},{"$f":"+Z36+1","v":50},{"$f":"+V37+1","v":51},{"$f":"+W37+1","v":52},{"$f":"+X37+1","v":53},{"$f":"+Y37+1","v":54},{"$f":"+Z37+1","v":55}]
[null,"ACCIDENTES POR ARÁCNIDOS",null,"T",{"$f":"SUM(F38:K38)","v":0},{"$f":"SUM(F39:F40)","v":0},{"$f":"SUM(G39:G40)","v":0},{"$f":"SUM(H39:H40)","v":0},{"$f":"SUM(I39:I40)","v":0},{"$f":"SUM(J39:J40)","v":0},{"$f":"SUM(K39:K40)","v":0}]
[null,null,null,"M",0]
[null,null,null,"F",0]
[null,"Persona mordida por Loxosceles (araña casera)",null,"T",{"$f":"SUM(F41:K41)","v":4},{"$f":"SUM(F42:F43)","v":1},{"$f":"SUM(G42:G43)","v":0},{"$f":"SUM(H42:H43)","v":1},{"$f":"SUM(I42:I43)","v":1},{"$f":"SUM(J42:J43)","v":1},{"$f":"SUM(K42:K43)","v":0}]
[11,null,null,"M",3,{"$f":"+GETPIVOTDATA(\" BAS056\",TABLAS!$A$262)","v":1},{"$f":"+GETPIVOTDATA(\" BAS057\",TABLAS!$A$262)","v":0},{"$f":"+GETPIVOTDATA(\" BAS058\",TABLAS!$A$262)","v":1},{"$f":"+GETPIVOTDATA(\" BAS059\",TABLAS!$A$262)","v":1},{"$f":"+GETPIVOTDATA(\" BAS060\",TABLAS!$A$262)","v":0},null,null,"D/T633 + D/X2191",null,null,{"$f":"IF(V42<10,CONCATENATE($AC$24,\"00\",V42,$AC$25),IF(AND(V42>9,V42<100),CONCATENATE($AC$24,\"0\",V42,$AC$25),CONCATENATE($AC$24,V42,$AC$25)))","v":"=+IMPORTARDATOSDINAMICOS(\" BAS056\";TABLAS!$A$231)"},{"$f":"IF(W42<10,CONCATENATE($AC$24,\"00\",W42,$AC$25),IF(AND(W42>9,W42<100),CONCATENATE($AC$24,\"0\",W42,$AC$25),CONCATENATE($AC$24,W42,$AC$25)))","v":"=+IMPORTARDATOSDINAMICOS(\" BAS057\";TABLAS!$A$231)"},{"$f":"IF(X42<10,CONCATENATE($AC$24,\"00\",X42,$AC$25),IF(AND(X42>9,X42<100),CONCATENATE($AC$24,\"0\",X42,$AC$25),CONCATENATE($AC$24,X42,$AC$25)))","v":"=+IMPORTARDATOSDINAMICOS(\" BAS058\";TABLAS!$A$231)"},{"$f":"IF(Y42<10,CONCATENATE($AC$24,\"00\",Y42,$AC$25),IF(AND(Y42>9,Y42<100),CONCATENATE($AC$24,\"0\",Y42,$AC$25),CONCATENATE($AC$24,Y42,$AC$25)))","v":"=+IMPORTARDATOSDINAMICOS(\" BAS059\";TABLAS!$A$231)"},{"$f":"IF(Z42<10,CONCATENATE($AC$24,\"00\",Z42,$AC$25),IF(AND(Z42>9,Z42<100),CONCATENATE($AC$24,\"0\",Z42,$AC$25),CONCATENATE($AC$24,Z42,$AC$25)))","v":"=+IMPORTARDATOSDINAMICOS(\" BAS060\";TABLAS!$A$231)"},null,{"$f":"+AA37+1","v":56},{"$f":"+V42+1","v":57},{"$f":"+W42+1","v":58},{"$f":"+X42+1","v":59},{"$f":"+Y42+1","v":60}]
[12,null,null,"F",1,{"$f":"+GETPIVOTDATA(\" BAS061\",TABLAS!$A$262)","v":0},{"$f":"+GETPIVOTDATA(\" BAS062\",TABLAS!$A$262)","v":0},{"$f":"+GETPIVOTDATA(\" BAS063\",TABLAS!$A$262)","v":0},{"$f":"+GETPIVOTDATA(\" BAS064\",TABLAS!$A$262)","v":0},{"$f":"+GETPIVOTDATA(\" BAS065\",TABLAS!$A$262)","v":1},{"$f":"+GETPIVOTDATA(\" BAS066\",TABLAS!$A$262)","v":0},null,null,null,null,{"$f":"IF(V43<10,CONCATENATE($AC$24,\"00\",V43,$AC$25),IF(AND(V43>9,V43<100),CONCATENATE($AC$24,\"0\",V43,$AC$25),CONCATENATE($AC$24,V43,$AC$25)))","v":"=+IMPORTARDATOSDINAMICOS(\" BAS061\";TABLAS!$A$231)"},"=+IMPORTARDATOSDINAMICOS(\" BAS062\";TABLAS!$A$231)","=+IMPORTARDATOSDINAMICOS(\" BAS063\";TABLAS!$A$231)","=+IMPORTARDATOSDINAMICOS(\" BAS064\";TABLAS!$A$231)","=+IMPORTARDATOSDINAMICOS(\" BAS065\";TABLAS!$A$231)",{"$f":"IF(AA43<10,CONCATENATE($AC$24,\"00\",AA43,$AC$25),IF(AND(AA43>9,AA43<100),CONCATENATE($AC$24,\"0\",AA43,$AC$25),CONCATENATE($AC$24,AA43,$AC$25)))","v":"=+IMPORTARDATOSDINAMICOS(\" BAS066\";TABLAS!$A$231)"},{"$f":"+Z42+1","v":61},{"$f":"+V43+1","v":62},{"$f":"+W43+1","v":63},{"$f":"+X43+1","v":64},{"$f":"+Y43+1","v":65},{"$f":"+Z43+1","v":66}]
[null,"Persona mordida por Lacrodectus (araña silvestre o viuda negra)",null,"T",{"$f":"SUM(F44:K44)","v":1},{"$f":"SUM(F45:F46)","v":0},{"$f":"SUM(G45:G46)","v":0},{"$f":"SUM(H45:H46)","v":0},{"$f":"SUM(I45:I46)","v":1},{"$f":"SUM(J45:J46)","v":0},{"$f":"SUM(K45:K46)","v":0}]
[13,null,null,"M",0,{"$f":"+GETPIVOTDATA(\" BAS067\",TABLAS!$A$262)","v":0},{"$f":"+GETPIVOTDATA(\" BAS068\",TABLAS!$A$262)","v":0},{"$f":"+GETPIVOTDATA(\" BAS069\",TABLAS!$A$262)","v":0},{"$f":"+GETPIVOTDATA(\" BAS070\",TABLAS!$A$262)","v":0},{"$f":"+GETPIVOTDATA(\" BAS071\",TABLAS!$A$262)","v":0},null,null,"D/T633 + D/X2192",null,null,{"$f":"IF(V45<10,CONCATENATE($AC$24,\"00\",V45,$AC$25),IF(AND(V45>9,V45<100),CONCATENATE($AC$24,\"0\",V45,$AC$25),CONCATENATE($AC$24,V45,$AC$25)))","v":"=+IMPORTARDATOSDINAMICOS(\" BAS067\";TABLAS!$A$231)"},{"$f":"IF(W45<10,CONCATENATE($AC$24,\"00\",W45,$AC$25),IF(AND(W45>9,W45<100),CONCATENATE($AC$24,\"0\",W45,$AC$25),CONCATENATE($AC$24,W45,$AC$25)))","v":"=+IMPORTARDATOSDINAMICOS(\" BAS068\";TABLAS!$A$231)"},{"$f":"IF(X45<10,CONCATENATE($AC$24,\"00\",X45,$AC$25),IF(AND(X45>9,X45<100),CONCATENATE($AC$24,\"0\",X45,$AC$25),CONCATENATE($AC$24,X45,$AC$25)))","v":"=+IMPORTARDATOSDINAMICOS(\" BAS069\";TABLAS!$A$231)"},{"$f":"IF(Y45<10,CONCATENATE($AC$24,\"00\",Y45,$AC$25),IF(AND(Y45>9,Y45<100),CONCATENATE($AC$24,\"0\",Y45,$AC$25),CONCATENATE($AC$24,Y45,$AC$25)))","v":"=+IMPORTARDATOSDINAMICOS(\" BAS070\";TABLAS!$A$231)"},{"$f":"IF(Z45<10,CONCATENATE($AC$24,\"00\",Z45,$AC$25),IF(AND(Z45>9,Z45<100),CONCATENATE($AC$24,\"0\",Z45,$AC$25),CONCATENATE($AC$24,Z45,$AC$25)))","v":"=+IMPORTARDATOSDINAMICOS(\" BAS071\";TABLAS!$A$231)"},null,{"$f":"+AA43+1","v":67},{"$f":"+V45+1","v":68},{"$f":"+W45+1","v":69},{"$f":"+X45+1","v":70},{"$f":"+Y45+1","v":71}]
[14,null,null,"F",1,{"$f":"+GETPIVOTDATA(\" BAS072\",TABLAS!$A$262)","v":0},{"$f":"+GETPIVOTDATA(\" BAS073\",TABLAS!$A$262)","v":0},{"$f":"+GETPIVOTDATA(\" BAS074\",TABLAS!$A$262)","v":0},{"$f":"+GETPIVOTDATA(\" BAS075\",TABLAS!$A$262)","v":1},{"$f":"+GETPIVOTDATA(\" BAS076\",TABLAS!$A$262)","v":0},{"$f":"+GETPIVOTDATA(\" BAS077\",TABLAS!$A$262)","v":0},null,null,null,null,{"$f":"IF(V46<10,CONCATENATE($AC$24,\"00\",V46,$AC$25),IF(AND(V46>9,V46<100),CONCATENATE($AC$24,\"0\",V46,$AC$25),CONCATENATE($AC$24,V46,$AC$25)))","v":"=+IMPORTARDATOSDINAMICOS(\" BAS072\";TABLAS!$A$231)"},"=+IMPORTARDATOSDINAMICOS(\" BAS073\";TABLAS!$A$231)","=+IMPORTARDATOSDINAMICOS(\" BAS074\";TABLAS!$A$231)","=+IMPORTARDATOSDINAMICOS(\" BAS075\";TABLAS!$A$231)","=+IMPORTARDATOSDINAMICOS(\" BAS076\";TABLAS!$A$231)",{"$f":"IF(AA46<10,CONCATENATE($AC$24,\"00\",AA46,$AC$25),IF(AND(AA46>9,AA46<100),CONCATENATE($AC$24,\"0\",AA46,$AC$25),CONCATENATE($AC$24,AA46,$AC$25)))","v":"=+IMPORTARDATOSDINAMICOS(\" BAS077\";TABLAS!$A$231)"},{"$f":"+Z45+1","v":72},{"$f":"+V46+1","v":73},{"$f":"+W46+1","v":74},{"$f":"+X46+1","v":75},{"$f":"+Y46+1","v":76},{"$f":"+Z46+1","v":77}]
[null,"Persona mordida por Phoneutria (araña de platano o mercado de frutas)",null,"T",{"$f":"SUM(F47:K47)","v":10},{"$f":"SUM(F48:F49)","v":0},{"$f":"SUM(G48:G49)","v":1},{"$f":"SUM(H48:H49)","v":1},{"$f":"SUM(I48:I49)","v":2},{"$f":"SUM(J48:J49)","v":6},{"$f":"SUM(K48:K49)","v":0}]
[15,null,null,"M",7,{"$f":"+GETPIVOTDATA(\" BAS078\",TABLAS!$A$262)","v":0},{"$f":"+GETPIVOTDATA(\" BAS079\",TABLAS!$A$262)","v":1},{"$f":"+GETPIVOTDATA(\" BAS080\",TABLAS!$A$262)","v":1},{"$f":"+GETPIVOTDATA(\" BAS081\",TABLAS!$A$262)","v":0},{"$f":"+GETPIVOTDATA(\" BAS082\",TABLAS!$A$262)","v":5},null,null,"D/T633 + D/X219",null,null,{"$f":"IF(V48<10,CONCATENATE($AC$24,\"00\",V48,$AC$25),IF(AND(V48>9,V48<100),CONCATENATE($AC$24,\"0\",V48,$AC$25),CONCATENATE($AC$24,V48,$AC$25)))","v":"=+IMPORTARDATOSDINAMICOS(\" BAS078\";TABLAS!$A$231)"},{"$f":"IF(W48<10,CONCATENATE($AC$24,\"00\",W48,$AC$25),IF(AND(W48>9,W48<100),CONCATENATE($AC$24,\"0\",W48,$AC$25),CONCATENATE($AC$24,W48,$AC$25)))","v":"=+IMPORTARDATOSDINAMICOS(\" BAS079\";TABLAS!$A$231)"},{"$f":"IF(X48<10,CONCATENATE($AC$24,\"00\",X48,$AC$25),IF(AND(X48>9,X48<100),CONCATENATE($AC$24,\"0\",X48,$AC$25),CONCATENATE($AC$24,X48,$AC$25)))","v":"=+IMPORTARDATOSDINAMICOS(\" BAS080\";TABLAS!$A$231)"},{"$f":"IF(Y48<10,CONCATENATE($AC$24,\"00\",Y48,$AC$25),IF(AND(Y48>9,Y48<100),CONCATENATE($AC$24,\"0\",Y48,$AC$25),CONCATENATE($AC$24,Y48,$AC$25)))","v":"=+IMPORTARDATOSDINAMICOS(\" BAS081\";TABLAS!$A$231)"},{"$f":"IF(Z48<10,CONCATENATE($AC$24,\"00\",Z48,$AC$25),IF(AND(Z48>9,Z48<100),CONCATENATE($AC$24,\"0\",Z48,$AC$25),CONCATENATE($AC$24,Z48,$AC$25)))","v":"=+IMPORTARDATOSDINAMICOS(\" BAS082\";TABLAS!$A$231)"},null,{"$f":"+AA46+1","v":78},{"$f":"+V48+1","v":79},{"$f":"+W48+1","v":80},{"$f":"+X48+1","v":81},{"$f":"+Y48+1","v":82}]
[16,null,null,"F",3,{"$f":"+GETPIVOTDATA(\" BAS083\",TABLAS!$A$262)","v":0},{"$f":"+GETPIVOTDATA(\" BAS084\",TABLAS!$A$262)","v":0},{"$f":"+GETPIVOTDATA(\" BAS085\",TABLAS!$A$262)","v":0},{"$f":"+GETPIVOTDATA(\" BAS086\",TABLAS!$A$262)","v":2},{"$f":"+GETPIVOTDATA(\" BAS087\",TABLAS!$A$262)","v":1},{"$f":"+GETPIVOTDATA(\" BAS088\",TABLAS!$A$262)","v":0},null,null,null,null,{"$f":"IF(V49<10,CONCATENATE($AC$24,\"00\",V49,$AC$25),IF(AND(V49>9,V49<100),CONCATENATE($AC$24,\"0\",V49,$AC$25),CONCATENATE($AC$24,V49,$AC$25)))","v":"=+IMPORTARDATOSDINAMICOS(\" BAS083\";TABLAS!$A$231)"},"=+IMPORTARDATOSDINAMICOS(\" BAS084\";TABLAS!$A$231)","=+IMPORTARDATOSDINAMICOS(\" BAS085\";TABLAS!$A$231)","=+IMPORTARDATOSDINAMICOS(\" BAS086\";TABLAS!$A$231)","=+IMPORTARDATOSDINAMICOS(\" BAS087\";TABLAS!$A$231)",{"$f":"IF(AA49<10,CONCATENATE($AC$24,\"00\",AA49,$AC$25),IF(AND(AA49>9,AA49<100),CONCATENATE($AC$24,\"0\",AA49,$AC$25),CONCATENATE($AC$24,AA49,$AC$25)))","v":"=+IMPORTARDATOSDINAMICOS(\" BAS088\";TABLAS!$A$231)"},{"$f":"+Z48+1","v":83},{"$f":"+V49+1","v":84},{"$f":"+W49+1","v":85},{"$f":"+X49+1","v":86},{"$f":"+Y49+1","v":87},{"$f":"+Z49+1","v":88}]
[null,"Persona mordida por Escorpión o Alacrán",null,"T",{"$f":"SUM(F50:K50)","v":7},{"$f":"SUM(F51:F52)","v":2},{"$f":"SUM(G51:G52)","v":0},{"$f":"SUM(H51:H52)","v":3},{"$f":"SUM(I51:I52)","v":2},{"$f":"SUM(J51:J52)","v":0},{"$f":"SUM(K51:K52)","v":0}]
[17,null,null,"M",6,{"$f":"+GETPIVOTDATA(\" BAS089\",TABLAS!$A$262)","v":2},{"$f":"+GETPIVOTDATA(\" BAS090\",TABLAS!$A$262)","v":0},{"$f":"+GETPIVOTDATA(\" BAS091\",TABLAS!$A$262)","v":2},{"$f":"+GETPIVOTDATA(\" BAS092\",TABLAS!$A$262)","v":2},{"$f":"+GETPIVOTDATA(\" BAS093\",TABLAS!$A$262)","v":0},null,null,"D/T632 + D/X229",null,null,{"$f":"IF(V51<10,CONCATENATE($AC$24,\"00\",V51,$AC$25),IF(AND(V51>9,V51<100),CONCATENATE($AC$24,\"0\",V51,$AC$25),CONCATENATE($AC$24,V51,$AC$25)))","v":"=+IMPORTARDATOSDINAMICOS(\" BAS089\";TABLAS!$A$231)"},{"$f":"IF(W51<10,CONCATENATE($AC$24,\"00\",W51,$AC$25),IF(AND(W51>9,W51<100),CONCATENATE($AC$24,\"0\",W51,$AC$25),CONCATENATE($AC$24,W51,$AC$25)))","v":"=+IMPORTARDATOSDINAMICOS(\" BAS090\";TABLAS!$A$231)"},{"$f":"IF(X51<10,CONCATENATE($AC$24,\"00\",X51,$AC$25),IF(AND(X51>9,X51<100),CONCATENATE($AC$24,\"0\",X51,$AC$25),CONCATENATE($AC$24,X51,$AC$25)))","v":"=+IMPORTARDATOSDINAMICOS(\" BAS091\";TABLAS!$A$231)"},{"$f":"IF(Y51<10,CONCATENATE($AC$24,\"00\",Y51,$AC$25),IF(AND(Y51>9,Y51<100),CONCATENATE($AC$24,\"0\",Y51,$AC$25),CONCATENATE($AC$24,Y51,$AC$25)))","v":"=+IMPORTARDATOSDINAMICOS(\" BAS092\";TABLAS!$A$231)"},{"$f":"IF(Z51<10,CONCATENATE($AC$24,\"00\",Z51,$AC$25),IF(AND(Z51>9,Z51<100),CONCATENATE($AC$24,\"0\",Z51,$AC$25),CONCATENATE($AC$24,Z51,$AC$25)))","v":"=+IMPORTARDATOSDINAMICOS(\" BAS093\";TABLAS!$A$231)"},null,{"$f":"+AA49+1","v":89},{"$f":"+V51+1","v":90},{"$f":"+W51+1","v":91},{"$f":"+X51+1","v":92},{"$f":"+Y51+1","v":93}]
[18,null,null,"F",1,{"$f":"+GETPIVOTDATA(\" BAS094\",TABLAS!$A$262)","v":0},{"$f":"+GETPIVOTDATA(\" BAS095\",TABLAS!$A$262)","v":0},{"$f":"+GETPIVOTDATA(\" BAS096\",TABLAS!$A$262)","v":1},{"$f":"+GETPIVOTDATA(\" BAS097\",TABLAS!$A$262)","v":0},{"$f":"+GETPIVOTDATA(\" BAS098\",TABLAS!$A$262)","v":0},{"$f":"+GETPIVOTDATA(\" BAS099\",TABLAS!$A$262)","v":0},null,null,null,null,{"$f":"IF(V52<10,CONCATENATE($AC$24,\"00\",V52,$AC$25),IF(AND(V52>9,V52<100),CONCATENATE($AC$24,\"0\",V52,$AC$25),CONCATENATE($AC$24,V52,$AC$25)))","v":"=+IMPORTARDATOSDINAMICOS(\" BAS094\";TABLAS!$A$231)"},"=+IMPORTARDATOSDINAMICOS(\" BAS095\";TABLAS!$A$231)","=+IMPORTARDATOSDINAMICOS(\" BAS096\";TABLAS!$A$231)","=+IMPORTARDATOSDINAMICOS(\" BAS097\";TABLAS!$A$231)","=+IMPORTARDATOSDINAMICOS(\" BAS098\";TABLAS!$A$231)",{"$f":"IF(AA52<10,CONCATENATE($AC$24,\"00\",AA52,$AC$25),IF(AND(AA52>9,AA52<100),CONCATENATE($AC$24,\"0\",AA52,$AC$25),CONCATENATE($AC$24,AA52,$AC$25)))","v":"=+IMPORTARDATOSDINAMICOS(\" BAS099\";TABLAS!$A$231)"},{"$f":"+Z51+1","v":94},{"$f":"+V52+1","v":95},{"$f":"+W52+1","v":96},{"$f":"+X52+1","v":97},{"$f":"+Y52+1","v":98},{"$f":"+Z52+1","v":99}]
[null,"Persona mordida por Otros arácnidos o no definidos",null,"T",{"$f":"SUM(F53:K53)","v":12},{"$f":"SUM(F54:F55)","v":2},{"$f":"SUM(G54:G55)","v":1},{"$f":"SUM(H54:H55)","v":1},{"$f":"SUM(I54:I55)","v":5},{"$f":"SUM(J54:J55)","v":3},{"$f":"SUM(K54:K55)","v":0}]
[19,null,null,"M",8,{"$f":"+GETPIVOTDATA(\" BAS100\",TABLAS!$A$262)","v":0},{"$f":"+GETPIVOTDATA(\" BAS101\",TABLAS!$A$262)","v":1},{"$f":"+GETPIVOTDATA(\" BAS102\",TABLAS!$A$262)","v":1},{"$f":"+GETPIVOTDATA(\" BAS103\",TABLAS!$A$262)","v":3},{"$f":"+GETPIVOTDATA(\" BAS104\",TABLAS!$A$262)","v":3},null,null,"D/T632 + D/X2193",null,null,{"$f":"IF(V54<10,CONCATENATE($AC$24,\"00\",V54,$AC$25),IF(AND(V54>9,V54<100),CONCATENATE($AC$24,\"0\",V54,$AC$25),CONCATENATE($AC$24,V54,$AC$25)))","v":"=+IMPORTARDATOSDINAMICOS(\" BAS100\";TABLAS!$A$231)"},{"$f":"IF(W54<10,CONCATENATE($AC$24,\"00\",W54,$AC$25),IF(AND(W54>9,W54<100),CONCATENATE($AC$24,\"0\",W54,$AC$25),CONCATENATE($AC$24,W54,$AC$25)))","v":"=+IMPORTARDATOSDINAMICOS(\" BAS101\";TABLAS!$A$231)"},{"$f":"IF(X54<10,CONCATENATE($AC$24,\"00\",X54,$AC$25),IF(AND(X54>9,X54<100),CONCATENATE($AC$24,\"0\",X54,$AC$25),CONCATENATE($AC$24,X54,$AC$25)))","v":"=+IMPORTARDATOSDINAMICOS(\" BAS102\";TABLAS!$A$231)"},{"$f":"IF(Y54<10,CONCATENATE($AC$24,\"00\",Y54,$AC$25),IF(AND(Y54>9,Y54<100),CONCATENATE($AC$24,\"0\",Y54,$AC$25),CONCATENATE($AC$24,Y54,$AC$25)))","v":"=+IMPORTARDATOSDINAMICOS(\" BAS103\";TABLAS!$A$231)"},{"$f":"IF(Z54<10,CONCATENATE($AC$24,\"00\",Z54,$AC$25),IF(AND(Z54>9,Z54<100),CONCATENATE($AC$24,\"0\",Z54,$AC$25),CONCATENATE($AC$24,Z54,$AC$25)))","v":"=+IMPORTARDATOSDINAMICOS(\" BAS104\";TABLAS!$A$231)"},null,{"$f":"+AA52+1","v":100},{"$f":"+V54+1","v":101},{"$f":"+W54+1","v":102},{"$f":"+X54+1","v":103},{"$f":"+Y54+1","v":104}]
[20,null,null,"F",4,{"$f":"+GETPIVOTDATA(\" BAS105\",TABLAS!$A$262)","v":2},{"$f":"+GETPIVOTDATA(\" BAS106\",TABLAS!$A$262)","v":0},{"$f":"+GETPIVOTDATA(\" BAS107\",TABLAS!$A$262)","v":0},{"$f":"+GETPIVOTDATA(\" BAS108\",TABLAS!$A$262)","v":2},{"$f":"+GETPIVOTDATA(\" BAS109\",TABLAS!$A$262)","v":0},{"$f":"+GETPIVOTDATA(\" BAS110\",TABLAS!$A$262)","v":0},null,null,null,null,{"$f":"IF(V55<10,CONCATENATE($AC$24,\"00\",V55,$AC$25),IF(AND(V55>9,V55<100),CONCATENATE($AC$24,\"0\",V55,$AC$25),CONCATENATE($AC$24,V55,$AC$25)))","v":"=+IMPORTARDATOSDINAMICOS(\" BAS105\";TABLAS!$A$231)"},"=+IMPORTARDATOSDINAMICOS(\" BAS106\";TABLAS!$A$231)","=+IMPORTARDATOSDINAMICOS(\" BAS107\";TABLAS!$A$231)","=+IMPORTARDATOSDINAMICOS(\" BAS108\";TABLAS!$A$231)","=+IMPORTARDATOSDINAMICOS(\" BAS109\";TABLAS!$A$231)",{"$f":"IF(AA55<10,CONCATENATE($AC$24,\"00\",AA55,$AC$25),IF(AND(AA55>9,AA55<100),CONCATENATE($AC$24,\"0\",AA55,$AC$25),CONCATENATE($AC$24,AA55,$AC$25)))","v":"=+IMPORTARDATOSDINAMICOS(\" BAS110\";TABLAS!$A$231)"},{"$f":"+Z54+1","v":105},{"$f":"+V55+1","v":106},{"$f":"+W55+1","v":107},{"$f":"+X55+1","v":108},{"$f":"+Y55+1","v":109},{"$f":"+Z55+1","v":110}]
[null,"ACCIDENTES POR OTRAS ESPECIES",null,"T",{"$f":"SUM(F56:K56)","v":0},{"$f":"SUM(F57:F58)","v":0},{"$f":"SUM(G57:G58)","v":0},{"$f":"SUM(H57:H58)","v":0},{"$f":"SUM(I57:I58)","v":0},{"$f":"SUM(J57:J58)","v":0},{"$f":"SUM(K57:K58)","v":0}]
[null,null,null,"M",0]
[null,null,null,"F",0]
[null,"Por especies larvarias (orugas, gusanos, etc)",null,"T",{"$f":"SUM(F59:K59)","v":11},{"$f":"SUM(F60:F61)","v":2},{"$f":"SUM(G60:G61)","v":1},{"$f":"SUM(H60:H61)","v":2},{"$f":"SUM(I60:I61)","v":5},{"$f":"SUM(J60:J61)","v":1},{"$f":"SUM(K60:K61)","v":0}]
[21,null,null,"M",6,{"$f":"+GETPIVOTDATA(\" BAS111\",TABLAS!$A$262)","v":2},{"$f":"+GETPIVOTDATA(\" BAS112\",TABLAS!$A$262)","v":0},{"$f":"+GETPIVOTDATA(\" BAS113\",TABLAS!$A$262)","v":0},{"$f":"+GETPIVOTDATA(\" BAS114\",TABLAS!$A$262)","v":3},{"$f":"+GETPIVOTDATA(\" BAS115\",TABLAS!$A$262)","v":1},null,null,"D/T634 + D/X249",null,null,{"$f":"IF(V60<10,CONCATENATE($AC$24,\"00\",V60,$AC$25),IF(AND(V60>9,V60<100),CONCATENATE($AC$24,\"0\",V60,$AC$25),CONCATENATE($AC$24,V60,$AC$25)))","v":"=+IMPORTARDATOSDINAMICOS(\" BAS111\";TABLAS!$A$231)"},{"$f":"IF(W60<10,CONCATENATE($AC$24,\"00\",W60,$AC$25),IF(AND(W60>9,W60<100),CONCATENATE($AC$24,\"0\",W60,$AC$25),CONCATENATE($AC$24,W60,$AC$25)))","v":"=+IMPORTARDATOSDINAMICOS(\" BAS112\";TABLAS!$A$231)"},{"$f":"IF(X60<10,CONCATENATE($AC$24,\"00\",X60,$AC$25),IF(AND(X60>9,X60<100),CONCATENATE($AC$24,\"0\",X60,$AC$25),CONCATENATE($AC$24,X60,$AC$25)))","v":"=+IMPORTARDATOSDINAMICOS(\" BAS113\";TABLAS!$A$231)"},{"$f":"IF(Y60<10,CONCATENATE($AC$24,\"00\",Y60,$AC$25),IF(AND(Y60>9,Y60<100),CONCATENATE($AC$24,\"0\",Y60,$AC$25),CONCATENATE($AC$24,Y60,$AC$25)))","v":"=+IMPORTARDATOSDINAMICOS(\" BAS114\";TABLAS!$A$231)"},{"$f":"IF(Z60<10,CONCATENATE($AC$24,\"00\",Z60,$AC$25),IF(AND(Z60>9,Z60<100),CONCATENATE($AC$24,\"0\",Z60,$AC$25),CONCATENATE($AC$24,Z60,$AC$25)))","v":"=+IMPORTARDATOSDINAMICOS(\" BAS115\";TABLAS!$A$231)"},null,{"$f":"+AA55+1","v":111},{"$f":"+V60+1","v":112},{"$f":"+W60+1","v":113},{"$f":"+X60+1","v":114},{"$f":"+Y60+1","v":115}]
[22,null,null,"F",5,{"$f":"+GETPIVOTDATA(\" BAS116\",TABLAS!$A$262)","v":0},{"$f":"+GETPIVOTDATA(\" BAS117\",TABLAS!$A$262)","v":1},{"$f":"+GETPIVOTDATA(\" BAS118\",TABLAS!$A$262)","v":2},{"$f":"+GETPIVOTDATA(\" BAS119\",TABLAS!$A$262)","v":2},{"$f":"+GETPIVOTDATA(\" BAS120\",TABLAS!$A$262)","v":0},{"$f":"+GETPIVOTDATA(\" BAS121\",TABLAS!$A$262)","v":0},null,null,null,null,{"$f":"IF(V61<10,CONCATENATE($AC$24,\"00\",V61,$AC$25),IF(AND(V61>9,V61<100),CONCATENATE($AC$24,\"0\",V61,$AC$25),CONCATENATE($AC$24,V61,$AC$25)))","v":"=+IMPORTARDATOSDINAMICOS(\" BAS116\";TABLAS!$A$231)"},"=+IMPORTARDATOSDINAMICOS(\" BAS117\";TABLAS!$A$231)","=+IMPORTARDATOSDINAMICOS(\" BAS118\";TABLAS!$A$231)","=+IMPORTARDATOSDINAMICOS(\" BAS119\";TABLAS!$A$231)","=+IMPORTARDATOSDINAMICOS(\" BAS120\";TABLAS!$A$231)",{"$f":"IF(AA61<10,CONCATENATE($AC$24,\"00\",AA61,$AC$25),IF(AND(AA61>9,AA61<100),CONCATENATE($AC$24,\"0\",AA61,$AC$25),CONCATENATE($AC$24,AA61,$AC$25)))","v":"=+IMPORTARDATOSDINAMICOS(\" BAS121\";TABLAS!$A$231)"},{"$f":"+Z60+1","v":116},{"$f":"+V61+1","v":117},{"$f":"+W61+1","v":118},{"$f":"+X61+1","v":119},{"$f":"+Y61+1","v":120},{"$f":"+Z61+1","v":121}]
[null,"Por Avispones, Avispas, Abejas",null,"T",{"$f":"SUM(F62:K62)","v":18},{"$f":"SUM(F63:F64)","v":4},{"$f":"SUM(G63:G64)","v":1},{"$f":"SUM(H63:H64)","v":1},{"$f":"SUM(I63:I64)","v":12},{"$f":"SUM(J63:J64)","v":0},{"$f":"SUM(K63:K64)","v":0}]
[23,null,null,"M",11,{"$f":"+GETPIVOTDATA(\" BAS122\",TABLAS!$A$262)","v":3},{"$f":"+GETPIVOTDATA(\" BAS123\",TABLAS!$A$262)","v":1},{"$f":"+GETPIVOTDATA(\" BAS124\",TABLAS!$A$262)","v":1},{"$f":"+GETPIVOTDATA(\" BAS125\",TABLAS!$A$262)","v":6},{"$f":"+GETPIVOTDATA(\" BAS126\",TABLAS!$A$262)","v":0},null,null,"D/T634 + D/X239",null,null,{"$f":"IF(V63<10,CONCATENATE($AC$24,\"00\",V63,$AC$25),IF(AND(V63>9,V63<100),CONCATENATE($AC$24,\"0\",V63,$AC$25),CONCATENATE($AC$24,V63,$AC$25)))","v":"=+IMPORTARDATOSDINAMICOS(\" BAS122\";TABLAS!$A$231)"},{"$f":"IF(W63<10,CONCATENATE($AC$24,\"00\",W63,$AC$25),IF(AND(W63>9,W63<100),CONCATENATE($AC$24,\"0\",W63,$AC$25),CONCATENATE($AC$24,W63,$AC$25)))","v":"=+IMPORTARDATOSDINAMICOS(\" BAS123\";TABLAS!$A$231)"},{"$f":"IF(X63<10,CONCATENATE($AC$24,\"00\",X63,$AC$25),IF(AND(X63>9,X63<100),CONCATENATE($AC$24,\"0\",X63,$AC$25),CONCATENATE($AC$24,X63,$AC$25)))","v":"=+IMPORTARDATOSDINAMICOS(\" BAS124\";TABLAS!$A$231)"},{"$f":"IF(Y63<10,CONCATENATE($AC$24,\"00\",Y63,$AC$25),IF(AND(Y63>9,Y63<100),CONCATENATE($AC$24,\"0\",Y63,$AC$25),CONCATENATE($AC$24,Y63,$AC$25)))","v":"=+IMPORTARDATOSDINAMICOS(\" BAS125\";TABLAS!$A$231)"},{"$f":"IF(Z63<10,CONCATENATE($AC$24,\"00\",Z63,$AC$25),IF(AND(Z63>9,Z63<100),CONCATENATE($AC$24,\"0\",Z63,$AC$25),CONCATENATE($AC$24,Z63,$AC$25)))","v":"=+IMPORTARDATOSDINAMICOS(\" BAS126\";TABLAS!$A$231)"},null,{"$f":"+AA61+1","v":122},{"$f":"+V63+1","v":123},{"$f":"+W63+1","v":124},{"$f":"+X63+1","v":125},{"$f":"+Y63+1","v":126}]
[24,null,null,"F",7,{"$f":"+GETPIVOTDATA(\" BAS127\",TABLAS!$A$262)","v":1},{"$f":"+GETPIVOTDATA(\" BAS128\",TABLAS!$A$262)","v":0},{"$f":"+GETPIVOTDATA(\" BAS129\",TABLAS!$A$262)","v":0},{"$f":"+GETPIVOTDATA(\" BAS130\",TABLAS!$A$262)","v":6},{"$f":"+GETPIVOTDATA(\" BAS131\",TABLAS!$A$262)","v":0},{"$f":"+GETPIVOTDATA(\" BAS132\",TABLAS!$A$262)","v":0},null,null,null,null,{"$f":"IF(V64<10,CONCATENATE($AC$24,\"00\",V64,$AC$25),IF(AND(V64>9,V64<100),CONCATENATE($AC$24,\"0\",V64,$AC$25),CONCATENATE($AC$24,V64,$AC$25)))","v":"=+IMPORTARDATOSDINAMICOS(\" BAS127\";TABLAS!$A$231)"},"=+IMPORTARDATOSDINAMICOS(\" BAS128\";TABLAS!$A$231)","=+IMPORTARDATOSDINAMICOS(\" BAS129\";TABLAS!$A$231)","=+IMPORTARDATOSDINAMICOS(\" BAS130\";TABLAS!$A$231)","=+IMPORTARDATOSDINAMICOS(\" BAS131\";TABLAS!$A$231)",{"$f":"IF(AA64<10,CONCATENATE($AC$24,\"00\",AA64,$AC$25),IF(AND(AA64>9,AA64<100),CONCATENATE($AC$24,\"0\",AA64,$AC$25),CONCATENATE($AC$24,AA64,$AC$25)))","v":"=+IMPORTARDATOSDINAMICOS(\" BAS132\";TABLAS!$A$231)"},{"$f":"+Z63+1","v":127},{"$f":"+V64+1","v":128},{"$f":"+W64+1","v":129},{"$f":"+X64+1","v":130},{"$f":"+Y64+1","v":131},{"$f":"+Z64+1","v":132}]
[null,"Por otros artrópodos Venenosos (hormigas, etc)",null,"T",{"$f":"SUM(F65:K65)","v":4},{"$f":"SUM(F66:F67)","v":1},{"$f":"SUM(G66:G67)","v":0},{"$f":"SUM(H66:H67)","v":1},{"$f":"SUM(I66:I67)","v":2},{"$f":"SUM(J66:J67)","v":0},{"$f":"SUM(K66:K67)","v":0}]
[25,null,null,"M",4,{"$f":"+GETPIVOTDATA(\" BAS133\",TABLAS!$A$262)","v":1},{"$f":"+GETPIVOTDATA(\" BAS134\",TABLAS!$A$262)","v":0},{"$f":"+GETPIVOTDATA(\" BAS135\",TABLAS!$A$262)","v":1},{"$f":"+GETPIVOTDATA(\" BAS136\",TABLAS!$A$262)","v":2},{"$f":"+GETPIVOTDATA(\" BAS137\",TABLAS!$A$262)","v":0},null,null,"D/T634 + D/X259",null,null,{"$f":"IF(V66<10,CONCATENATE($AC$24,\"00\",V66,$AC$25),IF(AND(V66>9,V66<100),CONCATENATE($AC$24,\"0\",V66,$AC$25),CONCATENATE($AC$24,V66,$AC$25)))","v":"=+IMPORTARDATOSDINAMICOS(\" BAS133\";TABLAS!$A$231)"},{"$f":"IF(W66<10,CONCATENATE($AC$24,\"00\",W66,$AC$25),IF(AND(W66>9,W66<100),CONCATENATE($AC$24,\"0\",W66,$AC$25),CONCATENATE($AC$24,W66,$AC$25)))","v":"=+IMPORTARDATOSDINAMICOS(\" BAS134\";TABLAS!$A$231)"},{"$f":"IF(X66<10,CONCATENATE($AC$24,\"00\",X66,$AC$25),IF(AND(X66>9,X66<100),CONCATENATE($AC$24,\"0\",X66,$AC$25),CONCATENATE($AC$24,X66,$AC$25)))","v":"=+IMPORTARDATOSDINAMICOS(\" BAS135\";TABLAS!$A$231)"},{"$f":"IF(Y66<10,CONCATENATE($AC$24,\"00\",Y66,$AC$25),IF(AND(Y66>9,Y66<100),CONCATENATE($AC$24,\"0\",Y66,$AC$25),CONCATENATE($AC$24,Y66,$AC$25)))","v":"=+IMPORTARDATOSDINAMICOS(\" BAS136\";TABLAS!$A$231)"},{"$f":"IF(Z66<10,CONCATENATE($AC$24,\"00\",Z66,$AC$25),IF(AND(Z66>9,Z66<100),CONCATENATE($AC$24,\"0\",Z66,$AC$25),CONCATENATE($AC$24,Z66,$AC$25)))","v":"=+IMPORTARDATOSDINAMICOS(\" BAS137\";TABLAS!$A$231)"},null,{"$f":"+AA64+1","v":133},{"$f":"+V66+1","v":134},{"$f":"+W66+1","v":135},{"$f":"+X66+1","v":136},{"$f":"+Y66+1","v":137}]
[26,null,null,"F",0,{"$f":"+GETPIVOTDATA(\" BAS138\",TABLAS!$A$262)","v":0},{"$f":"+GETPIVOTDATA(\" BAS139\",TABLAS!$A$262)","v":0},{"$f":"+GETPIVOTDATA(\" BAS140\",TABLAS!$A$262)","v":0},{"$f":"+GETPIVOTDATA(\" BAS141\",TABLAS!$A$262)","v":0},{"$f":"+GETPIVOTDATA(\" BAS142\",TABLAS!$A$262)","v":0},{"$f":"+GETPIVOTDATA(\" BAS143\",TABLAS!$A$262)","v":0},null,null,null,null,{"$f":"IF(V67<10,CONCATENATE($AC$24,\"00\",V67,$AC$25),IF(AND(V67>9,V67<100),CONCATENATE($AC$24,\"0\",V67,$AC$25),CONCATENATE($AC$24,V67,$AC$25)))","v":"=+IMPORTARDATOSDINAMICOS(\" BAS138\";TABLAS!$A$231)"},"=+IMPORTARDATOSDINAMICOS(\" BAS139\";TABLAS!$A$231)","=+IMPORTARDATOSDINAMICOS(\" BAS140\";TABLAS!$A$231)","=+IMPORTARDATOSDINAMICOS(\" BAS141\";TABLAS!$A$231)","=+IMPORTARDATOSDINAMICOS(\" BAS142\";TABLAS!$A$231)",{"$f":"IF(AA67<10,CONCATENATE($AC$24,\"00\",AA67,$AC$25),IF(AND(AA67>9,AA67<100),CONCATENATE($AC$24,\"0\",AA67,$AC$25),CONCATENATE($AC$24,AA67,$AC$25)))","v":"=+IMPORTARDATOSDINAMICOS(\" BAS143\";TABLAS!$A$231)"},{"$f":"+Z66+1","v":138},{"$f":"+V67+1","v":139},{"$f":"+W67+1","v":140},{"$f":"+X67+1","v":141},{"$f":"+Y67+1","v":142},{"$f":"+Z67+1","v":143}]
[]
[null,"TRATAMIENTO",null,null,"Total","0-11a","12-17a","18-29a","30-59a","60 y más","Gestante"]
[null,"TOTAL"]
[27,"POR  ANIMALES OFÍDICOS:",null,null,"++ U310",null,null,null,null,null,null,null,null,null,null,{"$f":"IF(V71<10,CONCATENATE($AC$24,\"00\",V71,$AC$25),IF(AND(V71>9,V71<100),CONCATENATE($AC$24,\"0\",V71,$AC$25),CONCATENATE($AC$24,V71,$AC$25)))","v":"=+IMPORTARDATOSDINAMICOS(\" BAS144\";TABLAS!$A$231)"},{"$f":"IF(W71<10,CONCATENATE($AC$24,\"00\",W71,$AC$25),IF(AND(W71>9,W71<100),CONCATENATE($AC$24,\"0\",W71,$AC$25),CONCATENATE($AC$24,W71,$AC$25)))","v":"=+IMPORTARDATOSDINAMICOS(\" BAS145\";TABLAS!$A$231)"},{"$f":"IF(X71<10,CONCATENATE($AC$24,\"00\",X71,$AC$25),IF(AND(X71>9,X71<100),CONCATENATE($AC$24,\"0\",X71,$AC$25),CONCATENATE($AC$24,X71,$AC$25)))","v":"=+IMPORTARDATOSDINAMICOS(\" BAS146\";TABLAS!$A$231)"},{"$f":"IF(Y71<10,CONCATENATE($AC$24,\"00\",Y71,$AC$25),IF(AND(Y71>9,Y71<100),CONCATENATE($AC$24,\"0\",Y71,$AC$25),CONCATENATE($AC$24,Y71,$AC$25)))","v":"=+IMPORTARDATOSDINAMICOS(\" BAS147\";TABLAS!$A$231)"},{"$f":"IF(Z71<10,CONCATENATE($AC$24,\"00\",Z71,$AC$25),IF(AND(Z71>9,Z71<100),CONCATENATE($AC$24,\"0\",Z71,$AC$25),CONCATENATE($AC$24,Z71,$AC$25)))","v":"=+IMPORTARDATOSDINAMICOS(\" BAS148\";TABLAS!$A$231)"},{"$f":"IF(AA71<10,CONCATENATE($AC$24,\"00\",AA71,$AC$25),IF(AND(AA71>9,AA71<100),CONCATENATE($AC$24,\"0\",AA71,$AC$25),CONCATENATE($AC$24,AA71,$AC$25)))","v":"=+IMPORTARDATOSDINAMICOS(\" BAS149\";TABLAS!$A$231)"},{"$f":"+AA67+1","v":144},{"$f":"+V71+1","v":145},{"$f":"+W71+1","v":146},{"$f":"+X71+1","v":147},{"$f":"+Y71+1","v":148},{"$f":"+Z71+1","v":149}]
[28,"POR ARACNIDOS:",null,null,"++ U310",null,null,null,null,null,null,null,null,null,null,{"$f":"IF(V72<10,CONCATENATE($AC$24,\"00\",V72,$AC$25),IF(AND(V72>9,V72<100),CONCATENATE($AC$24,\"0\",V72,$AC$25),CONCATENATE($AC$24,V72,$AC$25)))","v":"=+IMPORTARDATOSDINAMICOS(\" BAS150\";TABLAS!$A$231)"},"=+IMPORTARDATOSDINAMICOS(\" BAS151\";TABLAS!$A$231)","=+IMPORTARDATOSDINAMICOS(\" BAS152\";TABLAS!$A$231)","=+IMPORTARDATOSDINAMICOS(\" BAS153\";TABLAS!$A$231)","=+IMPORTARDATOSDINAMICOS(\" BAS154\";TABLAS!$A$231)","=+IMPORTARDATOSDINAMICOS(\" BAS155\";TABLAS!$A$231)",{"$f":"+AA71+1","v":150},{"$f":"+V72+1","v":151},152,153,154,{"$f":"+Z72+1","v":155}]
[29,"POR OTRAS ESPECIES:",null,null,"++ U310",null,null,null,null,null,null,null,null,null,null,{"$f":"IF(V73<10,CONCATENATE($AC$24,\"00\",V73,$AC$25),IF(AND(V73>9,V73<100),CONCATENATE($AC$24,\"0\",V73,$AC$25),CONCATENATE($AC$24,V73,$AC$25)))","v":"=+IMPORTARDATOSDINAMICOS(\" BAS156\";TABLAS!$A$231)"},"=+IMPORTARDATOSDINAMICOS(\" BAS157\";TABLAS!$A$231)","=+IMPORTARDATOSDINAMICOS(\" BAS158\";TABLAS!$A$231)","=+IMPORTARDATOSDINAMICOS(\" BAS159\";TABLAS!$A$231)","=+IMPORTARDATOSDINAMICOS(\" BAS160\";TABLAS!$A$231)","=+IMPORTARDATOSDINAMICOS(\" BAS161\";TABLAS!$A$231)",{"$f":"+AA72+1","v":156},{"$f":"+V73+1","v":157},158,159,160,{"$f":"+Z73+1","v":161}]
[]
[null,"SECUELAS DE DISCAPACIDAD",null,null,"Total","0-11a","12-17a","18-29a","30-59a","60 y más","Gestante"]
[null,"TOTAL"]
[null,"Por accidentes ofídicos"]
[null,"Por accidentes de arácnidos"]
[]
[null,"N° DE PERSONAS QUE INICIAN TRAT. SUERO ESPECIFICO",null,"Personas","Fcs usado"]
[null,"TOTAL"]
[null,"Antibotropico"]
[null,"Antilachesico"]
[null,"Anticrotalico"]
[null,"Antiloxocelico"]
[null,"Otros"]

{"sheet":"EQUINOCOCOSIS","index":8,"n_rows":50,"n_cols":31,"rows_kept":50,"cut":false,"hidden":false,"merged":[[17,1,19,1],[47,1,49,1],[44,1,46,1],[41,1,43,1],[38,1,40,1],[35,1,37,1],[32,1,34,1],[29,1,31,1],[26,1,28,1],[23,1,25,1],[20,1,22,1],[3,1,3,9],[14,1,14,3],[5,2,5,3],[5,5,5,6],[7,2,7,3],[7,5,7,6],[9,2,9,3],[9,5,9,6],[11,2,11,3],[11,8,11,9]]}
[]
[]
[]
[null," INFORME MENSUAL DE ACTIVIDADES DE EQUINOCOCOSIS QUÍSTICA (HIDATIDOSIS)"]
[]
[null,"GERESA","CUSCO",null,"PROVINCIA",{"$f":"TRIM(TABLAS!O12)","v":""},null,"MINSA"]
[]
[null,"RED",{"$f":"TRIM(TABLAS!O9)","v":"03 - LA CONVENCION"},null,"DISTRITO",{"$f":"TRIM(TABLAS!O13)","v":""},null,"ESSALUD"]
[]
[null,"MICRO RED",{"$f":"TRIM(TABLAS!O10)","v":""},null,"MES",{"$f":"TRIM(TABLAS!N26)","v":"ENE - NOV"},null,"SANIDAD FFAA-PNP"]
[]
[null,"ESTABLECIMIENTO",{"$f":"TRIM(TABLAS!O11)","v":""},null,"AÑO",{"$f":"TRIM(TABLAS!J16)","v":"2024"},null,"EJECUTORA",{"$f":"TRIM(TABLAS!O14)","v":""}]
[]
[]
[]
[null,"MORBILIDAD"]
[null,"DIAGNOSTICO CONFIRMADO","SEXO","Total","0-11a","12-17a","18-29a","30-59a","60 y más","Gestante"]
[null,"TOTAL","T"]
[null,null,"M"]
[null,null,"F",null,null,null,null,null,null,null,null,null,null,null,{"$f":"+GETPIVOTDATA(\" BAS001\",TABLAS!$A$293)","v":0}]
[1,"Infección del hígado debida a Echinococcus granulosus","T",{"$f":"SUM(E21:J21)","v":6},{"$f":"SUM(E22:E23)","v":0},{"$f":"SUM(F22:F23)","v":1},0,5,0,0,null,null,null,null,null,null,null,null,null,null,null,null,null,null,null,null,null,null,null,null,"TD=D + B670"]
[null,null,"M",{"$f":"SUM(E22:J22)","v":2},{"$f":"+GETPIVOTDATA(\" BAS001\",TABLAS!$A$293)","v":0},{"$f":"+GETPIVOTDATA(\" BAS002\",TABLAS!$A$293)","v":1},{"$f":"+GETPIVOTDATA(\" BAS003\",TABLAS!$A$293)","v":0},{"$f":"+GETPIVOTDATA(\" BAS004\",TABLAS!$A$293)","v":1},{"$f":"+GETPIVOTDATA(\" BAS005\",TABLAS!$A$293)","v":0},null,null,null,null,null,{"$f":"IF(U22<10,CONCATENATE($AB$22,\"00\",U22,$AB$23),IF(AND(U22>9,U22<100),CONCATENATE($AB$22,\"0\",U22,$AB$23),CONCATENATE($AB$22,U22,$AB$23)))","v":"=+IMPORTARDATOSDINAMICOS(\" BAS001\";TABLAS!$A$262)"},{"$f":"IF(V22<10,CONCATENATE($AB$22,\"00\",V22,$AB$23),IF(AND(V22>9,V22<100),CONCATENATE($AB$22,\"0\",V22,$AB$23),CONCATENATE($AB$22,V22,$AB$23)))","v":"=+IMPORTARDATOSDINAMICOS(\" BAS002\";TABLAS!$A$262)"},"=+IMPORTARDATOSDINAMICOS(\" BAS003\";TABLAS!$A$262)","=+IMPORTARDATOSDINAMICOS(\" BAS004\";TABLAS!$A$262)","=+IMPORTARDATOSDINAMICOS(\" BAS005\";TABLAS!$A$262)",null,1,{"$f":"+U22+1","v":2},{"$f":"+V22+1","v":3},4,5,null,null,"=+IMPORTARDATOSDINAMICOS(\" BAS",null,null,0]
[null,null,"F",{"$f":"SUM(E23:J23)","v":4},{"$f":"+GETPIVOTDATA(\" BAS006\",TABLAS!$A$293)","v":0},{"$f":"+GETPIVOTDATA(\" BAS007\",TABLAS!$A$293)","v":0},{"$f":"+GETPIVOTDATA(\" BAS008\",TABLAS!$A$293)","v":0},{"$f":"+GETPIVOTDATA(\" BAS009\",TABLAS!$A$293)","v":4},{"$f":"+GETPIVOTDATA(\" BAS010\",TABLAS!$A$293)","v":0},{"$f":"+GETPIVOTDATA(\" BAS011\",TABLAS!$A$293)","v":0},null,null,null,null,{"$f":"IF(U23<10,CONCATENATE($AB$22,\"00\",U23,$AB$23),IF(AND(U23>9,U23<100),CONCATENATE($AB$22,\"0\",U23,$AB$23),CONCATENATE($AB$22,U23,$AB$23)))","v":"=+IMPORTARDATOSDINAMICOS(\" BAS006\";TABLAS!$A$262)"},{"$f":"IF(V23<10,CONCATENATE($AB$22,\"00\",V23,$AB$23),IF(AND(V23>9,V23<100),CONCATENATE($AB$22,\"0\",V23,$AB$23),CONCATENATE($AB$22,V23,$AB$23)))","v":"=+IMPORTARDATOSDINAMICOS(\" BAS007\";TABLAS!$A$262)"},{"$f":"IF(W23<10,CONCATENATE($AB$22,\"00\",W23,$AB$23),IF(AND(W23>9,W23<100),CONCATENATE($AB$22,\"0\",W23,$AB$23),CONCATENATE($AB$22,W23,$AB$23)))","v":"=+IMPORTARDATOSDINAMICOS(\" BAS008\";TABLAS!$A$262)"},{"$f":"IF(X23<10,CONCATENATE($AB$22,\"00\",X23,$AB$23),IF(AND(X23>9,X23<100),CONCATENATE($AB$22,\"0\",X23,$AB$23),CONCATENATE($AB$22,X23,$AB$23)))","v":"=+IMPORTARDATOSDINAMICOS(\" BAS009\";TABLAS!$A$262)"},{"$f":"IF(Y23<10,CONCATENATE($AB$22,\"00\",Y23,$AB$23),IF(AND(Y23>9,Y23<100),CONCATENATE($AB$22,\"0\",Y23,$AB$23),CONCATENATE($AB$22,Y23,$AB$23)))","v":"=+IMPORTARDATOSDINAMICOS(\" BAS010\";TABLAS!$A$262)"},"=+IMPORTARDATOSDINAMICOS(\" BAS011\";TABLAS!$A$262)",{"$f":"+Y22+1","v":6},{"$f":"+U23+1","v":7},8,9,10,{"$f":"+Y23+1","v":11},null,"\";TABLAS!$A$262)",null,null,0]
[2,"Infección del pulmón debida a Echinococcus granulosus","T",{"$f":"SUM(E24:J24)","v":0},{"$f":"SUM(E25:E26)","v":0},{"$f":"SUM(F25:F26)","v":0},{"$f":"SUM(G25:G26)","v":0},{"$f":"SUM(H25:H26)","v":0},{"$f":"SUM(I25:I26)","v":0},{"$f":"SUM(J25:J26)","v":0},null,null,null,null,null,null,null,null,null,null,null,null,null,null,null,null,null,null,null,null,"TD=D + B671"]
[null,null,"M",0,{"$f":"+GETPIVOTDATA(\" BAS012\",TABLAS!$A$293)","v":0},{"$f":"+GETPIVOTDATA(\" BAS013\",TABLAS!$A$293)","v":0},{"$f":"+GETPIVOTDATA(\" BAS014\",TABLAS!$A$293)","v":0},{"$f":"+GETPIVOTDATA(\" BAS015\",TABLAS!$A$293)","v":0},{"$f":"+GETPIVOTDATA(\" BAS016\",TABLAS!$A$293)","v":0},null,null,null,null,null,{"$f":"IF(U25<10,CONCATENATE($AB$22,\"00\",U25,$AB$23),IF(AND(U25>9,U25<100),CONCATENATE($AB$22,\"0\",U25,$AB$23),CONCATENATE($AB$22,U25,$AB$23)))","v":"=+IMPORTARDATOSDINAMICOS(\" BAS012\";TABLAS!$A$262)"},{"$f":"IF(V25<10,CONCATENATE($AB$22,\"00\",V25,$AB$23),IF(AND(V25>9,V25<100),CONCATENATE($AB$22,\"0\",V25,$AB$23),CONCATENATE($AB$22,V25,$AB$23)))","v":"=+IMPORTARDATOSDINAMICOS(\" BAS013\";TABLAS!$A$262)"},{"$f":"IF(W25<10,CONCATENATE($AB$22,\"00\",W25,$AB$23),IF(AND(W25>9,W25<100),CONCATENATE($AB$22,\"0\",W25,$AB$23),CONCATENATE($AB$22,W25,$AB$23)))","v":"=+IMPORTARDATOSDINAMICOS(\" BAS014\";TABLAS!$A$262)"},{"$f":"IF(X25<10,CONCATENATE($AB$22,\"00\",X25,$AB$23),IF(AND(X25>9,X25<100),CONCATENATE($AB$22,\"0\",X25,$AB$23),CONCATENATE($AB$22,X25,$AB$23)))","v":"=+IMPORTARDATOSDINAMICOS(\" BAS015\";TABLAS!$A$262)"},{"$f":"IF(Y25<10,CONCATENATE($AB$22,\"00\",Y25,$AB$23),IF(AND(Y25>9,Y25<100),CONCATENATE($AB$22,\"0\",Y25,$AB$23),CONCATENATE($AB$22,Y25,$AB$23)))","v":"=+IMPORTARDATOSDINAMICOS(\" BAS016\";TABLAS!$A$262)"},null,{"$f":"+Z23+1","v":12},{"$f":"+U25+1","v":13},{"$f":"+V25+1","v":14},{"$f":"+W25+1","v":15},{"$f":"+X25+1","v":16},null,null,null,null,null,0]
[null,null,"F",0,{"$f":"+GETPIVOTDATA(\" BAS017\",TABLAS!$A$293)","v":0},{"$f":"+GETPIVOTDATA(\" BAS018\",TABLAS!$A$293)","v":0},{"$f":"+GETPIVOTDATA(\" BAS019\",TABLAS!$A$293)","v":0},{"$f":"+GETPIVOTDATA(\" BAS020\",TABLAS!$A$293)","v":0},{"$f":"+GETPIVOTDATA(\" BAS021\",TABLAS!$A$293)","v":0},{"$f":"+GETPIVOTDATA(\" BAS022\",TABLAS!$A$293)","v":0},null,null,null,null,{"$f":"IF(U26<10,CONCATENATE($AB$22,\"00\",U26,$AB$23),IF(AND(U26>9,U26<100),CONCATENATE($AB$22,\"0\",U26,$AB$23),CONCATENATE($AB$22,U26,$AB$23)))","v":"=+IMPORTARDATOSDINAMICOS(\" BAS017\";TABLAS!$A$262)"},"=+IMPORTARDATOSDINAMICOS(\" BAS018\";TABLAS!$A$262)","=+IMPORTARDATOSDINAMICOS(\" BAS019\";TABLAS!$A$262)","=+IMPORTARDATOSDINAMICOS(\" BAS020\";TABLAS!$A$262)","=+IMPORTARDATOSDINAMICOS(\" BAS021\";TABLAS!$A$262)",{"$f":"IF(Z26<10,CONCATENATE($AB$22,\"00\",Z26,$AB$23),IF(AND(Z26>9,Z26<100),CONCATENATE($AB$22,\"0\",Z26,$AB$23),CONCATENATE($AB$22,Z26,$AB$23)))","v":"=+IMPORTARDATOSDINAMICOS(\" BAS022\";TABLAS!$A$262)"},{"$f":"+Y25+1","v":17},{"$f":"+U26+1","v":18},{"$f":"+V26+1","v":19},20,21,{"$f":"+Y26+1","v":22},null,null,null,null,0]
[3,"Infección de hueso debida a Echinococcus granulosus","T",{"$f":"SUM(E27:J27)","v":0},{"$f":"SUM(E28:E29)","v":0},{"$f":"SUM(F28:F29)","v":0},{"$f":"SUM(G28:G29)","v":0},{"$f":"SUM(H28:H29)","v":0},{"$f":"SUM(I28:I29)","v":0},{"$f":"SUM(J28:J29)","v":0},null,null,null,null,null,null,null,null,null,null,null,null,null,null,null,null,null,null,null,null,"TD=D + B672"]
[null,null,"M",0,{"$f":"+GETPIVOTDATA(\" BAS023\",TABLAS!$A$293)","v":0},{"$f":"+GETPIVOTDATA(\" BAS024\",TABLAS!$A$293)","v":0},{"$f":"+GETPIVOTDATA(\" BAS025\",TABLAS!$A$293)","v":0},{"$f":"+GETPIVOTDATA(\" BAS026\",TABLAS!$A$293)","v":0},{"$f":"+GETPIVOTDATA(\" BAS027\",TABLAS!$A$293)","v":0},null,null,null,null,null,{"$f":"IF(U28<10,CONCATENATE($AB$22,\"00\",U28,$AB$23),IF(AND(U28>9,U28<100),CONCATENATE($AB$22,\"0\",U28,$AB$23),CONCATENATE($AB$22,U28,$AB$23)))","v":"=+IMPORTARDATOSDINAMICOS(\" BAS023\";TABLAS!$A$262)"},{"$f":"IF(V28<10,CONCATENATE($AB$22,\"00\",V28,$AB$23),IF(AND(V28>9,V28<100),CONCATENATE($AB$22,\"0\",V28,$AB$23),CONCATENATE($AB$22,V28,$AB$23)))","v":"=+IMPORTARDATOSDINAMICOS(\" BAS024\";TABLAS!$A$262)"},{"$f":"IF(W28<10,CONCATENATE($AB$22,\"00\",W28,$AB$23),IF(AND(W28>9,W28<100),CONCATENATE($AB$22,\"0\",W28,$AB$23),CONCATENATE($AB$22,W28,$AB$23)))","v":"=+IMPORTARDATOSDINAMICOS(\" BAS025\";TABLAS!$A$262)"},{"$f":"IF(X28<10,CONCATENATE($AB$22,\"00\",X28,$AB$23),IF(AND(X28>9,X28<100),CONCATENATE($AB$22,\"0\",X28,$AB$23),CONCATENATE($AB$22,X28,$AB$23)))","v":"=+IMPORTARDATOSDINAMICOS(\" BAS026\";TABLAS!$A$262)"},{"$f":"IF(Y28<10,CONCATENATE($AB$22,\"00\",Y28,$AB$23),IF(AND(Y28>9,Y28<100),CONCATENATE($AB$22,\"0\",Y28,$AB$23),CONCATENATE($AB$22,Y28,$AB$23)))","v":"=+IMPORTARDATOSDINAMICOS(\" BAS027\";TABLAS!$A$262)"},null,{"$f":"+Z26+1","v":23},{"$f":"+U28+1","v":24},{"$f":"+V28+1","v":25},{"$f":"+W28+1","v":26},{"$f":"+X28+1","v":27},null,null,null,null,null,0]
[null,null,"F",0,{"$f":"+GETPIVOTDATA(\" BAS028\",TABLAS!$A$293)","v":0},{"$f":"+GETPIVOTDATA(\" BAS029\",TABLAS!$A$293)","v":0},{"$f":"+GETPIVOTDATA(\" BAS030\",TABLAS!$A$293)","v":0},{"$f":"+GETPIVOTDATA(\" BAS031\",TABLAS!$A$293)","v":0},{"$f":"+GETPIVOTDATA(\" BAS032\",TABLAS!$A$293)","v":0},{"$f":"+GETPIVOTDATA(\" BAS033\",TABLAS!$A$293)","v":0},null,null,null,null,{"$f":"IF(U29<10,CONCATENATE($AB$22,\"00\",U29,$AB$23),IF(AND(U29>9,U29<100),CONCATENATE($AB$22,\"0\",U29,$AB$23),CONCATENATE($AB$22,U29,$AB$23)))","v":"=+IMPORTARDATOSDINAMICOS(\" BAS028\";TABLAS!$A$262)"},"=+IMPORTARDATOSDINAMICOS(\" BAS029\";TABLAS!$A$262)","=+IMPORTARDATOSDINAMICOS(\" BAS030\";TABLAS!$A$262)","=+IMPORTARDATOSDINAMICOS(\" BAS031\";TABLAS!$A$262)","=+IMPORTARDATOSDINAMICOS(\" BAS032\";TABLAS!$A$262)",{"$f":"IF(Z29<10,CONCATENATE($AB$22,\"00\",Z29,$AB$23),IF(AND(Z29>9,Z29<100),CONCATENATE($AB$22,\"0\",Z29,$AB$23),CONCATENATE($AB$22,Z29,$AB$23)))","v":"=+IMPORTARDATOSDINAMICOS(\" BAS033\";TABLAS!$A$262)"},{"$f":"+Y28+1","v":28},{"$f":"+U29+1","v":29},{"$f":"+V29+1","v":30},{"$f":"+W29+1","v":31},{"$f":"+X29+1","v":32},{"$f":"+Y29+1","v":33},null,null,null,null,0]
[4,"Infección otro órgano y sitios múltiples debida a Echinococcus granulosus","T",{"$f":"SUM(E30:J30)","v":0},{"$f":"SUM(E31:E32)","v":0},{"$f":"SUM(F31:F32)","v":0},{"$f":"SUM(G31:G32)","v":0},{"$f":"SUM(H31:H32)","v":0},{"$f":"SUM(I31:I32)","v":0},{"$f":"SUM(J31:J32)","v":0},null,null,null,null,null,null,null,null,null,null,null,null,null,null,null,null,null,null,null,null,"TD=D + B673"]
[null,null,"M",0,{"$f":"+GETPIVOTDATA(\" BAS034\",TABLAS!$A$293)","v":0},{"$f":"+GETPIVOTDATA(\" BAS035\",TABLAS!$A$293)","v":0},{"$f":"+GETPIVOTDATA(\" BAS036\",TABLAS!$A$293)","v":0},{"$f":"+GETPIVOTDATA(\" BAS037\",TABLAS!$A$293)","v":0},{"$f":"+GETPIVOTDATA(\" BAS038\",TABLAS!$A$293)","v":0},null,null,null,null,null,{"$f":"IF(U31<10,CONCATENATE($AB$22,\"00\",U31,$AB$23),IF(AND(U31>9,U31<100),CONCATENATE($AB$22,\"0\",U31,$AB$23),CONCATENATE($AB$22,U31,$AB$23)))","v":"=+IMPORTARDATOSDINAMICOS(\" BAS034\";TABLAS!$A$262)"},{"$f":"IF(V31<10,CONCATENATE($AB$22,\"00\",V31,$AB$23),IF(AND(V31>9,V31<100),CONCATENATE($AB$22,\"0\",V31,$AB$23),CONCATENATE($AB$22,V31,$AB$23)))","v":"=+IMPORTARDATOSDINAMICOS(\" BAS035\";TABLAS!$A$262)"},{"$f":"IF(W31<10,CONCATENATE($AB$22,\"00\",W31,$AB$23),IF(AND(W31>9,W31<100),CONCATENATE($AB$22,\"0\",W31,$AB$23),CONCATENATE($AB$22,W31,$AB$23)))","v":"=+IMPORTARDATOSDINAMICOS(\" BAS036\";TABLAS!$A$262)"},{"$f":"IF(X31<10,CONCATENATE($AB$22,\"00\",X31,$AB$23),IF(AND(X31>9,X31<100),CONCATENATE($AB$22,\"0\",X31,$AB$23),CONCATENATE($AB$22,X31,$AB$23)))","v":"=+IMPORTARDATOSDINAMICOS(\" BAS037\";TABLAS!$A$262)"},{"$f":"IF(Y31<10,CONCATENATE($AB$22,\"00\",Y31,$AB$23),IF(AND(Y31>9,Y31<100),CONCATENATE($AB$22,\"0\",Y31,$AB$23),CONCATENATE($AB$22,Y31,$AB$23)))","v":"=+IMPORTARDATOSDINAMICOS(\" BAS038\";TABLAS!$A$262)"},null,{"$f":"+Z29+1","v":34},{"$f":"+U31+1","v":35},{"$f":"+V31+1","v":36},{"$f":"+W31+1","v":37},{"$f":"+X31+1","v":38},null,null,null,null,null,0]
[null,null,"F",0,{"$f":"+GETPIVOTDATA(\" BAS039\",TABLAS!$A$293)","v":0},{"$f":"+GETPIVOTDATA(\" BAS040\",TABLAS!$A$293)","v":0},{"$f":"+GETPIVOTDATA(\" BAS041\",TABLAS!$A$293)","v":0},{"$f":"+GETPIVOTDATA(\" BAS042\",TABLAS!$A$293)","v":0},{"$f":"+GETPIVOTDATA(\" BAS043\",TABLAS!$A$293)","v":0},{"$f":"+GETPIVOTDATA(\" BAS044\",TABLAS!$A$293)","v":0},null,null,null,null,{"$f":"IF(U32<10,CONCATENATE($AB$22,\"00\",U32,$AB$23),IF(AND(U32>9,U32<100),CONCATENATE($AB$22,\"0\",U32,$AB$23),CONCATENATE($AB$22,U32,$AB$23)))","v":"=+IMPORTARDATOSDINAMICOS(\" BAS039\";TABLAS!$A$262)"},"=+IMPORTARDATOSDINAMICOS(\" BAS040\";TABLAS!$A$262)","=+IMPORTARDATOSDINAMICOS(\" BAS041\";TABLAS!$A$262)","=+IMPORTARDATOSDINAMICOS(\" BAS042\";TABLAS!$A$262)","=+IMPORTARDATOSDINAMICOS(\" BAS043\";TABLAS!$A$262)",{"$f":"IF(Z32<10,CONCATENATE($AB$22,\"00\",Z32,$AB$23),IF(AND(Z32>9,Z32<100),CONCATENATE($AB$22,\"0\",Z32,$AB$23),CONCATENATE($AB$22,Z32,$AB$23)))","v":"=+IMPORTARDATOSDINAMICOS(\" BAS044\";TABLAS!$A$262)"},{"$f":"+Y31+1","v":39},{"$f":"+U32+1","v":40},{"$f":"+V32+1","v":41},{"$f":"+W32+1","v":42},{"$f":"+X32+1","v":43},{"$f":"+Y32+1","v":44},null,null,null,null,0]
[5,"Infección debida a Echinococcus granulosus, sin otra especificación","T",{"$f":"SUM(E33:J33)","v":0},{"$f":"SUM(E34:E35)","v":0},{"$f":"SUM(F34:F35)","v":0},{"$f":"SUM(G34:G35)","v":0},{"$f":"SUM(H34:H35)","v":0},{"$f":"SUM(I34:I35)","v":0},{"$f":"SUM(J34:J35)","v":0},null,null,null,null,null,null,null,null,null,null,null,null,null,null,null,null,null,null,null,null,"TD=D + B674"]
[null,null,"M",0,{"$f":"+GETPIVOTDATA(\" BAS045\",TABLAS!$A$293)","v":0},{"$f":"+GETPIVOTDATA(\" BAS046\",TABLAS!$A$293)","v":0},{"$f":"+GETPIVOTDATA(\" BAS047\",TABLAS!$A$293)","v":0},{"$f":"+GETPIVOTDATA(\" BAS048\",TABLAS!$A$293)","v":0},{"$f":"+GETPIVOTDATA(\" BAS049\",TABLAS!$A$293)","v":0},null,null,null,null,null,{"$f":"IF(U34<10,CONCATENATE($AB$22,\"00\",U34,$AB$23),IF(AND(U34>9,U34<100),CONCATENATE($AB$22,\"0\",U34,$AB$23),CONCATENATE($AB$22,U34,$AB$23)))","v":"=+IMPORTARDATOSDINAMICOS(\" BAS045\";TABLAS!$A$262)"},{"$f":"IF(V34<10,CONCATENATE($AB$22,\"00\",V34,$AB$23),IF(AND(V34>9,V34<100),CONCATENATE($AB$22,\"0\",V34,$AB$23),CONCATENATE($AB$22,V34,$AB$23)))","v":"=+IMPORTARDATOSDINAMICOS(\" BAS046\";TABLAS!$A$262)"},{"$f":"IF(W34<10,CONCATENATE($AB$22,\"00\",W34,$AB$23),IF(AND(W34>9,W34<100),CONCATENATE($AB$22,\"0\",W34,$AB$23),CONCATENATE($AB$22,W34,$AB$23)))","v":"=+IMPORTARDATOSDINAMICOS(\" BAS047\";TABLAS!$A$262)"},{"$f":"IF(X34<10,CONCATENATE($AB$22,\"00\",X34,$AB$23),IF(AND(X34>9,X34<100),CONCATENATE($AB$22,\"0\",X34,$AB$23),CONCATENATE($AB$22,X34,$AB$23)))","v":"=+IMPORTARDATOSDINAMICOS(\" BAS048\";TABLAS!$A$262)"},{"$f":"IF(Y34<10,CONCATENATE($AB$22,\"00\",Y34,$AB$23),IF(AND(Y34>9,Y34<100),CONCATENATE($AB$22,\"0\",Y34,$AB$23),CONCATENATE($AB$22,Y34,$AB$23)))","v":"=+IMPORTARDATOSDINAMICOS(\" BAS049\";TABLAS!$A$262)"},null,{"$f":"+Z32+1","v":45},{"$f":"+U34+1","v":46},{"$f":"+V34+1","v":47},{"$f":"+W34+1","v":48},{"$f":"+X34+1","v":49},null,null,null,null,null,0]
[null,null,"F",0,{"$f":"+GETPIVOTDATA(\" BAS050\",TABLAS!$A$293)","v":0},{"$f":"+GETPIVOTDATA(\" BAS051\",TABLAS!$A$293)","v":0},{"$f":"+GETPIVOTDATA(\" BAS052\",TABLAS!$A$293)","v":0},{"$f":"+GETPIVOTDATA(\" BAS053\",TABLAS!$A$293)","v":0},{"$f":"+GETPIVOTDATA(\" BAS054\",TABLAS!$A$293)","v":0},{"$f":"+GETPIVOTDATA(\" BAS055\",TABLAS!$A$293)","v":0},null,null,null,null,{"$f":"IF(U35<10,CONCATENATE($AB$22,\"00\",U35,$AB$23),IF(AND(U35>9,U35<100),CONCATENATE($AB$22,\"0\",U35,$AB$23),CONCATENATE($AB$22,U35,$AB$23)))","v":"=+IMPORTARDATOSDINAMICOS(\" BAS050\";TABLAS!$A$262)"},"=+IMPORTARDATOSDINAMICOS(\" BAS051\";TABLAS!$A$262)","=+IMPORTARDATOSDINAMICOS(\" BAS052\";TABLAS!$A$262)","=+IMPORTARDATOSDINAMICOS(\" BAS053\";TABLAS!$A$262)","=+IMPORTARDATOSDINAMICOS(\" BAS054\";TABLAS!$A$262)",{"$f":"IF(Z35<10,CONCATENATE($AB$22,\"00\",Z35,$AB$23),IF(AND(Z35>9,Z35<100),CONCATENATE($AB$22,\"0\",Z35,$AB$23),CONCATENATE($AB$22,Z35,$AB$23)))","v":"=+IMPORTARDATOSDINAMICOS(\" BAS055\";TABLAS!$A$262)"},{"$f":"+Y34+1","v":50},{"$f":"+U35+1","v":51},{"$f":"+V35+1","v":52},{"$f":"+W35+1","v":53},{"$f":"+X35+1","v":54},{"$f":"+Y35+1","v":55},null,null,null,null,0]
[6,"Infección del hígado debida a Echinococcus multilocularis","T",{"$f":"SUM(E36:J36)","v":0},{"$f":"SUM(E37:E38)","v":0},{"$f":"SUM(F37:F38)","v":0},{"$f":"SUM(G37:G38)","v":0},{"$f":"SUM(H37:H38)","v":0},{"$f":"SUM(I37:I38)","v":0},{"$f":"SUM(J37:J38)","v":0},null,null,null,null,null,null,null,null,null,null,null,null,null,null,null,null,null,null,null,null,"TD=D + B675"]
[null,null,"M",0,{"$f":"+GETPIVOTDATA(\" BAS056\",TABLAS!$A$293)","v":0},{"$f":"+GETPIVOTDATA(\" BAS057\",TABLAS!$A$293)","v":0},{"$f":"+GETPIVOTDATA(\" BAS058\",TABLAS!$A$293)","v":0},{"$f":"+GETPIVOTDATA(\" BAS059\",TABLAS!$A$293)","v":0},{"$f":"+GETPIVOTDATA(\" BAS060\",TABLAS!$A$293)","v":0},null,null,null,null,null,{"$f":"IF(U37<10,CONCATENATE($AB$22,\"00\",U37,$AB$23),IF(AND(U37>9,U37<100),CONCATENATE($AB$22,\"0\",U37,$AB$23),CONCATENATE($AB$22,U37,$AB$23)))","v":"=+IMPORTARDATOSDINAMICOS(\" BAS056\";TABLAS!$A$262)"},{"$f":"IF(V37<10,CONCATENATE($AB$22,\"00\",V37,$AB$23),IF(AND(V37>9,V37<100),CONCATENATE($AB$22,\"0\",V37,$AB$23),CONCATENATE($AB$22,V37,$AB$23)))","v":"=+IMPORTARDATOSDINAMICOS(\" BAS057\";TABLAS!$A$262)"},{"$f":"IF(W37<10,CONCATENATE($AB$22,\"00\",W37,$AB$23),IF(AND(W37>9,W37<100),CONCATENATE($AB$22,\"0\",W37,$AB$23),CONCATENATE($AB$22,W37,$AB$23)))","v":"=+IMPORTARDATOSDINAMICOS(\" BAS058\";TABLAS!$A$262)"},{"$f":"IF(X37<10,CONCATENATE($AB$22,\"00\",X37,$AB$23),IF(AND(X37>9,X37<100),CONCATENATE($AB$22,\"0\",X37,$AB$23),CONCATENATE($AB$22,X37,$AB$23)))","v":"=+IMPORTARDATOSDINAMICOS(\" BAS059\";TABLAS!$A$262)"},{"$f":"IF(Y37<10,CONCATENATE($AB$22,\"00\",Y37,$AB$23),IF(AND(Y37>9,Y37<100),CONCATENATE($AB$22,\"0\",Y37,$AB$23),CONCATENATE($AB$22,Y37,$AB$23)))","v":"=+IMPORTARDATOSDINAMICOS(\" BAS060\";TABLAS!$A$262)"},null,{"$f":"+Z35+1","v":56},{"$f":"+U37+1","v":57},{"$f":"+V37+1","v":58},{"$f":"+W37+1","v":59},{"$f":"+X37+1","v":60},null,null,null,null,null,0]
[null,null,"F",0,{"$f":"+GETPIVOTDATA(\" BAS061\",TABLAS!$A$293)","v":0},{"$f":"+GETPIVOTDATA(\" BAS062\",TABLAS!$A$293)","v":0},{"$f":"+GETPIVOTDATA(\" BAS063\",TABLAS!$A$293)","v":0},{"$f":"+GETPIVOTDATA(\" BAS064\",TABLAS!$A$293)","v":0},{"$f":"+GETPIVOTDATA(\" BAS065\",TABLAS!$A$293)","v":0},{"$f":"+GETPIVOTDATA(\" BAS066\",TABLAS!$A$293)","v":0},null,null,null,null,{"$f":"IF(U38<10,CONCATENATE($AB$22,\"00\",U38,$AB$23),IF(AND(U38>9,U38<100),CONCATENATE($AB$22,\"0\",U38,$AB$23),CONCATENATE($AB$22,U38,$AB$23)))","v":"=+IMPORTARDATOSDINAMICOS(\" BAS061\";TABLAS!$A$262)"},"=+IMPORTARDATOSDINAMICOS(\" BAS062\";TABLAS!$A$262)","=+IMPORTARDATOSDINAMICOS(\" BAS063\";TABLAS!$A$262)","=+IMPORTARDATOSDINAMICOS(\" BAS064\";TABLAS!$A$262)","=+IMPORTARDATOSDINAMICOS(\" BAS065\";TABLAS!$A$262)",{"$f":"IF(Z38<10,CONCATENATE($AB$22,\"00\",Z38,$AB$23),IF(AND(Z38>9,Z38<100),CONCATENATE($AB$22,\"0\",Z38,$AB$23),CONCATENATE($AB$22,Z38,$AB$23)))","v":"=+IMPORTARDATOSDINAMICOS(\" BAS066\";TABLAS!$A$262)"},{"$f":"+Y37+1","v":61},{"$f":"+U38+1","v":62},{"$f":"+V38+1","v":63},{"$f":"+W38+1","v":64},{"$f":"+X38+1","v":65},{"$f":"+Y38+1","v":66},null,null,null,null,0]
[7,"Infección otro órgano y sitios múltiples debida Echinococcus multilocularis","T",{"$f":"SUM(E39:J39)","v":0},{"$f":"SUM(E40:E41)","v":0},{"$f":"SUM(F40:F41)","v":0},{"$f":"SUM(G40:G41)","v":0},{"$f":"SUM(H40:H41)","v":0},{"$f":"SUM(I40:I41)","v":0},{"$f":"SUM(J40:J41)","v":0},null,null,null,null,null,null,null,null,null,null,null,null,null,null,null,null,null,null,null,null,"TD=D + B676"]
[null,null,"M",0,{"$f":"+GETPIVOTDATA(\" BAS067\",TABLAS!$A$293)","v":0},{"$f":"+GETPIVOTDATA(\" BAS068\",TABLAS!$A$293)","v":0},{"$f":"+GETPIVOTDATA(\" BAS069\",TABLAS!$A$293)","v":0},{"$f":"+GETPIVOTDATA(\" BAS070\",TABLAS!$A$293)","v":0},{"$f":"+GETPIVOTDATA(\" BAS071\",TABLAS!$A$293)","v":0},null,null,null,null,null,{"$f":"IF(U40<10,CONCATENATE($AB$22,\"00\",U40,$AB$23),IF(AND(U40>9,U40<100),CONCATENATE($AB$22,\"0\",U40,$AB$23),CONCATENATE($AB$22,U40,$AB$23)))","v":"=+IMPORTARDATOSDINAMICOS(\" BAS067\";TABLAS!$A$262)"},{"$f":"IF(V40<10,CONCATENATE($AB$22,\"00\",V40,$AB$23),IF(AND(V40>9,V40<100),CONCATENATE($AB$22,\"0\",V40,$AB$23),CONCATENATE($AB$22,V40,$AB$23)))","v":"=+IMPORTARDATOSDINAMICOS(\" BAS068\";TABLAS!$A$262)"},{"$f":"IF(W40<10,CONCATENATE($AB$22,\"00\",W40,$AB$23),IF(AND(W40>9,W40<100),CONCATENATE($AB$22,\"0\",W40,$AB$23),CONCATENATE($AB$22,W40,$AB$23)))","v":"=+IMPORTARDATOSDINAMICOS(\" BAS069\";TABLAS!$A$262)"},{"$f":"IF(X40<10,CONCATENATE($AB$22,\"00\",X40,$AB$23),IF(AND(X40>9,X40<100),CONCATENATE($AB$22,\"0\",X40,$AB$23),CONCATENATE($AB$22,X40,$AB$23)))","v":"=+IMPORTARDATOSDINAMICOS(\" BAS070\";TABLAS!$A$262)"},{"$f":"IF(Y40<10,CONCATENATE($AB$22,\"00\",Y40,$AB$23),IF(AND(Y40>9,Y40<100),CONCATENATE($AB$22,\"0\",Y40,$AB$23),CONCATENATE($AB$22,Y40,$AB$23)))","v":"=+IMPORTARDATOSDINAMICOS(\" BAS071\";TABLAS!$A$262)"},null,{"$f":"+Z38+1","v":67},{"$f":"+U40+1","v":68},{"$f":"+V40+1","v":69},{"$f":"+W40+1","v":70},{"$f":"+X40+1","v":71},null,null,null,null,null,0]
[null,null,"F",0,{"$f":"+GETPIVOTDATA(\" BAS072\",TABLAS!$A$293)","v":0},{"$f":"+GETPIVOTDATA(\" BAS073\",TABLAS!$A$293)","v":0},{"$f":"+GETPIVOTDATA(\" BAS074\",TABLAS!$A$293)","v":0},{"$f":"+GETPIVOTDATA(\" BAS075\",TABLAS!$A$293)","v":0},{"$f":"+GETPIVOTDATA(\" BAS076\",TABLAS!$A$293)","v":0},{"$f":"+GETPIVOTDATA(\" BAS077\",TABLAS!$A$293)","v":0},null,null,null,null,{"$f":"IF(U41<10,CONCATENATE($AB$22,\"00\",U41,$AB$23),IF(AND(U41>9,U41<100),CONCATENATE($AB$22,\"0\",U41,$AB$23),CONCATENATE($AB$22,U41,$AB$23)))","v":"=+IMPORTARDATOSDINAMICOS(\" BAS072\";TABLAS!$A$262)"},"=+IMPORTARDATOSDINAMICOS(\" BAS073\";TABLAS!$A$262)","=+IMPORTARDATOSDINAMICOS(\" BAS074\";TABLAS!$A$262)","=+IMPORTARDATOSDINAMICOS(\" BAS075\";TABLAS!$A$262)","=+IMPORTARDATOSDINAMICOS(\" BAS076\";TABLAS!$A$262)",{"$f":"IF(Z41<10,CONCATENATE($AB$22,\"00\",Z41,$AB$23),IF(AND(Z41>9,Z41<100),CONCATENATE($AB$22,\"0\",Z41,$AB$23),CONCATENATE($AB$22,Z41,$AB$23)))","v":"=+IMPORTARDATOSDINAMICOS(\" BAS077\";TABLAS!$A$262)"},{"$f":"+Y40+1","v":72},{"$f":"+U41+1","v":73},{"$f":"+V41+1","v":74},{"$f":"+W41+1","v":75},{"$f":"+X41+1","v":76},{"$f":"+Y41+1","v":77},null,null,null,null,0]
[8,"Infección debida a Echinococcus multilocularis, sin otra especificación","T",{"$f":"SUM(E42:J42)","v":0},{"$f":"SUM(E43:E44)","v":0},{"$f":"SUM(F43:F44)","v":0},{"$f":"SUM(G43:G44)","v":0},{"$f":"SUM(H43:H44)","v":0},{"$f":"SUM(I43:I44)","v":0},{"$f":"SUM(J43:J44)","v":0},null,null,null,null,null,null,null,null,null,null,null,null,null,null,null,null,null,null,null,null,"TD=D + B677"]
[null,null,"M",0,{"$f":"+GETPIVOTDATA(\" BAS078\",TABLAS!$A$293)","v":0},{"$f":"+GETPIVOTDATA(\" BAS079\",TABLAS!$A$293)","v":0},{"$f":"+GETPIVOTDATA(\" BAS080\",TABLAS!$A$293)","v":0},{"$f":"+GETPIVOTDATA(\" BAS081\",TABLAS!$A$293)","v":0},{"$f":"+GETPIVOTDATA(\" BAS082\",TABLAS!$A$293)","v":0},null,null,null,null,null,{"$f":"IF(U43<10,CONCATENATE($AB$22,\"00\",U43,$AB$23),IF(AND(U43>9,U43<100),CONCATENATE($AB$22,\"0\",U43,$AB$23),CONCATENATE($AB$22,U43,$AB$23)))","v":"=+IMPORTARDATOSDINAMICOS(\" BAS078\";TABLAS!$A$262)"},{"$f":"IF(V43<10,CONCATENATE($AB$22,\"00\",V43,$AB$23),IF(AND(V43>9,V43<100),CONCATENATE($AB$22,\"0\",V43,$AB$23),CONCATENATE($AB$22,V43,$AB$23)))","v":"=+IMPORTARDATOSDINAMICOS(\" BAS079\";TABLAS!$A$262)"},{"$f":"IF(W43<10,CONCATENATE($AB$22,\"00\",W43,$AB$23),IF(AND(W43>9,W43<100),CONCATENATE($AB$22,\"0\",W43,$AB$23),CONCATENATE($AB$22,W43,$AB$23)))","v":"=+IMPORTARDATOSDINAMICOS(\" BAS080\";TABLAS!$A$262)"},{"$f":"IF(X43<10,CONCATENATE($AB$22,\"00\",X43,$AB$23),IF(AND(X43>9,X43<100),CONCATENATE($AB$22,\"0\",X43,$AB$23),CONCATENATE($AB$22,X43,$AB$23)))","v":"=+IMPORTARDATOSDINAMICOS(\" BAS081\";TABLAS!$A$262)"},{"$f":"IF(Y43<10,CONCATENATE($AB$22,\"00\",Y43,$AB$23),IF(AND(Y43>9,Y43<100),CONCATENATE($AB$22,\"0\",Y43,$AB$23),CONCATENATE($AB$22,Y43,$AB$23)))","v":"=+IMPORTARDATOSDINAMICOS(\" BAS082\";TABLAS!$A$262)"},null,{"$f":"+Z41+1","v":78},{"$f":"+U43+1","v":79},{"$f":"+V43+1","v":80},{"$f":"+W43+1","v":81},{"$f":"+X43+1","v":82},null,null,null,null,null,0]
[null,null,"F",0,{"$f":"+GETPIVOTDATA(\" BAS083\",TABLAS!$A$293)","v":0},{"$f":"+GETPIVOTDATA(\" BAS084\",TABLAS!$A$293)","v":0},{"$f":"+GETPIVOTDATA(\" BAS085\",TABLAS!$A$293)","v":0},{"$f":"+GETPIVOTDATA(\" BAS086\",TABLAS!$A$293)","v":0},{"$f":"+GETPIVOTDATA(\" BAS087\",TABLAS!$A$293)","v":0},{"$f":"+GETPIVOTDATA(\" BAS088\",TABLAS!$A$293)","v":0},null,null,null,null,{"$f":"IF(U44<10,CONCATENATE($AB$22,\"00\",U44,$AB$23),IF(AND(U44>9,U44<100),CONCATENATE($AB$22,\"0\",U44,$AB$23),CONCATENATE($AB$22,U44,$AB$23)))","v":"=+IMPORTARDATOSDINAMICOS(\" BAS083\";TABLAS!$A$262)"},"=+IMPORTARDATOSDINAMICOS(\" BAS084\";TABLAS!$A$262)","=+IMPORTARDATOSDINAMICOS(\" BAS085\";TABLAS!$A$262)","=+IMPORTARDATOSDINAMICOS(\" BAS086\";TABLAS!$A$262)","=+IMPORTARDATOSDINAMICOS(\" BAS087\";TABLAS!$A$262)",{"$f":"IF(Z44<10,CONCATENATE($AB$22,\"00\",Z44,$AB$23),IF(AND(Z44>9,Z44<100),CONCATENATE($AB$22,\"0\",Z44,$AB$23),CONCATENATE($AB$22,Z44,$AB$23)))","v":"=+IMPORTARDATOSDINAMICOS(\" BAS088\";TABLAS!$A$262)"},{"$f":"+Y43+1","v":83},{"$f":"+U44+1","v":84},{"$f":"+V44+1","v":85},{"$f":"+W44+1","v":86},{"$f":"+X44+1","v":87},{"$f":"+Y44+1","v":88},null,null,null,null,0]
[9,"Equinococosis del hígado, no especificada","T",{"$f":"SUM(E45:J45)","v":0},{"$f":"SUM(E46:E47)","v":0},{"$f":"SUM(F46:F47)","v":0},{"$f":"SUM(G46:G47)","v":0},{"$f":"SUM(H46:H47)","v":0},{"$f":"SUM(I46:I47)","v":0},{"$f":"SUM(J46:J47)","v":0},null,null,null,null,null,null,null,null,null,null,null,null,null,null,null,null,null,null,null,null,"TD=D + B678"]
[null,null,"M",0,{"$f":"+GETPIVOTDATA(\" BAS089\",TABLAS!$A$293)","v":0},{"$f":"+GETPIVOTDATA(\" BAS090\",TABLAS!$A$293)","v":0},{"$f":"+GETPIVOTDATA(\" BAS091\",TABLAS!$A$293)","v":0},{"$f":"+GETPIVOTDATA(\" BAS092\",TABLAS!$A$293)","v":0},{"$f":"+GETPIVOTDATA(\" BAS093\",TABLAS!$A$293)","v":0},null,null,null,null,null,{"$f":"IF(U46<10,CONCATENATE($AB$22,\"00\",U46,$AB$23),IF(AND(U46>9,U46<100),CONCATENATE($AB$22,\"0\",U46,$AB$23),CONCATENATE($AB$22,U46,$AB$23)))","v":"=+IMPORTARDATOSDINAMICOS(\" BAS089\";TABLAS!$A$262)"},{"$f":"IF(V46<10,CONCATENATE($AB$22,\"00\",V46,$AB$23),IF(AND(V46>9,V46<100),CONCATENATE($AB$22,\"0\",V46,$AB$23),CONCATENATE($AB$22,V46,$AB$23)))","v":"=+IMPORTARDATOSDINAMICOS(\" BAS090\";TABLAS!$A$262)"},{"$f":"IF(W46<10,CONCATENATE($AB$22,\"00\",W46,$AB$23),IF(AND(W46>9,W46<100),CONCATENATE($AB$22,\"0\",W46,$AB$23),CONCATENATE($AB$22,W46,$AB$23)))","v":"=+IMPORTARDATOSDINAMICOS(\" BAS091\";TABLAS!$A$262)"},{"$f":"IF(X46<10,CONCATENATE($AB$22,\"00\",X46,$AB$23),IF(AND(X46>9,X46<100),CONCATENATE($AB$22,\"0\",X46,$AB$23),CONCATENATE($AB$22,X46,$AB$23)))","v":"=+IMPORTARDATOSDINAMICOS(\" BAS092\";TABLAS!$A$262)"},{"$f":"IF(Y46<10,CONCATENATE($AB$22,\"00\",Y46,$AB$23),IF(AND(Y46>9,Y46<100),CONCATENATE($AB$22,\"0\",Y46,$AB$23),CONCATENATE($AB$22,Y46,$AB$23)))","v":"=+IMPORTARDATOSDINAMICOS(\" BAS093\";TABLAS!$A$262)"},null,{"$f":"+Z44+1","v":89},{"$f":"+U46+1","v":90},{"$f":"+V46+1","v":91},{"$f":"+W46+1","v":92},{"$f":"+X46+1","v":93},null,null,null,null,null,0]
[null,null,"F",0,{"$f":"+GETPIVOTDATA(\" BAS094\",TABLAS!$A$293)","v":0},{"$f":"+GETPIVOTDATA(\" BAS095\",TABLAS!$A$293)","v":0},{"$f":"+GETPIVOTDATA(\" BAS096\",TABLAS!$A$293)","v":0},{"$f":"+GETPIVOTDATA(\" BAS097\",TABLAS!$A$293)","v":0},{"$f":"+GETPIVOTDATA(\" BAS098\",TABLAS!$A$293)","v":0},{"$f":"+GETPIVOTDATA(\" BAS099\",TABLAS!$A$293)","v":0},null,null,null,null,{"$f":"IF(U47<10,CONCATENATE($AB$22,\"00\",U47,$AB$23),IF(AND(U47>9,U47<100),CONCATENATE($AB$22,\"0\",U47,$AB$23),CONCATENATE($AB$22,U47,$AB$23)))","v":"=+IMPORTARDATOSDINAMICOS(\" BAS094\";TABLAS!$A$262)"},"=+IMPORTARDATOSDINAMICOS(\" BAS095\";TABLAS!$A$262)","=+IMPORTARDATOSDINAMICOS(\" BAS096\";TABLAS!$A$262)","=+IMPORTARDATOSDINAMICOS(\" BAS097\";TABLAS!$A$262)","=+IMPORTARDATOSDINAMICOS(\" BAS098\";TABLAS!$A$262)",{"$f":"IF(Z47<10,CONCATENATE($AB$22,\"00\",Z47,$AB$23),IF(AND(Z47>9,Z47<100),CONCATENATE($AB$22,\"0\",Z47,$AB$23),CONCATENATE($AB$22,Z47,$AB$23)))","v":"=+IMPORTARDATOSDINAMICOS(\" BAS099\";TABLAS!$A$262)"},{"$f":"+Y46+1","v":94},{"$f":"+U47+1","v":95},{"$f":"+V47+1","v":96},{"$f":"+W47+1","v":97},{"$f":"+X47+1","v":98},{"$f":"+Y47+1","v":99},null,null,null,null,0]
[10,"Equinococosis, otra y la no especificada","T",{"$f":"SUM(E48:J48)","v":2},{"$f":"SUM(E49:E50)","v":1},{"$f":"SUM(F49:F50)","v":0},{"$f":"SUM(G49:G50)","v":0},{"$f":"SUM(H49:H50)","v":0},{"$f":"SUM(I49:I50)","v":1},{"$f":"SUM(J49:J50)","v":0},null,null,null,null,null,null,null,null,null,null,null,null,null,null,null,null,null,null,null,null,"TD=D + B679"]
[null,null,"M",1,{"$f":"+GETPIVOTDATA(\" BAS100\",TABLAS!$A$293)","v":0},{"$f":"+GETPIVOTDATA(\" BAS101\",TABLAS!$A$293)","v":0},{"$f":"+GETPIVOTDATA(\" BAS102\",TABLAS!$A$293)","v":0},{"$f":"+GETPIVOTDATA(\" BAS103\",TABLAS!$A$293)","v":0},{"$f":"+GETPIVOTDATA(\" BAS104\",TABLAS!$A$293)","v":1},null,null,null,null,null,{"$f":"IF(U49<10,CONCATENATE($AB$22,\"00\",U49,$AB$23),IF(AND(U49>9,U49<100),CONCATENATE($AB$22,\"0\",U49,$AB$23),CONCATENATE($AB$22,U49,$AB$23)))","v":"=+IMPORTARDATOSDINAMICOS(\" BAS100\";TABLAS!$A$262)"},{"$f":"IF(V49<10,CONCATENATE($AB$22,\"00\",V49,$AB$23),IF(AND(V49>9,V49<100),CONCATENATE($AB$22,\"0\",V49,$AB$23),CONCATENATE($AB$22,V49,$AB$23)))","v":"=+IMPORTARDATOSDINAMICOS(\" BAS101\";TABLAS!$A$262)"},{"$f":"IF(W49<10,CONCATENATE($AB$22,\"00\",W49,$AB$23),IF(AND(W49>9,W49<100),CONCATENATE($AB$22,\"0\",W49,$AB$23),CONCATENATE($AB$22,W49,$AB$23)))","v":"=+IMPORTARDATOSDINAMICOS(\" BAS102\";TABLAS!$A$262)"},{"$f":"IF(X49<10,CONCATENATE($AB$22,\"00\",X49,$AB$23),IF(AND(X49>9,X49<100),CONCATENATE($AB$22,\"0\",X49,$AB$23),CONCATENATE($AB$22,X49,$AB$23)))","v":"=+IMPORTARDATOSDINAMICOS(\" BAS103\";TABLAS!$A$262)"},{"$f":"IF(Y49<10,CONCATENATE($AB$22,\"00\",Y49,$AB$23),IF(AND(Y49>9,Y49<100),CONCATENATE($AB$22,\"0\",Y49,$AB$23),CONCATENATE($AB$22,Y49,$AB$23)))","v":"=+IMPORTARDATOSDINAMICOS(\" BAS104\";TABLAS!$A$262)"},null,{"$f":"+Z47+1","v":100},{"$f":"+U49+1","v":101},{"$f":"+V49+1","v":102},{"$f":"+W49+1","v":103},{"$f":"+X49+1","v":104}]
[null,null,"F",1,{"$f":"+GETPIVOTDATA(\" BAS105\",TABLAS!$A$293)","v":1},{"$f":"+GETPIVOTDATA(\" BAS106\",TABLAS!$A$293)","v":0},{"$f":"+GETPIVOTDATA(\" BAS107\",TABLAS!$A$293)","v":0},{"$f":"+GETPIVOTDATA(\" BAS108\",TABLAS!$A$293)","v":0},{"$f":"+GETPIVOTDATA(\" BAS109\",TABLAS!$A$293)","v":0},{"$f":"+GETPIVOTDATA(\" BAS110\",TABLAS!$A$293)","v":0},null,null,null,null,{"$f":"IF(U50<10,CONCATENATE($AB$22,\"00\",U50,$AB$23),IF(AND(U50>9,U50<100),CONCATENATE($AB$22,\"0\",U50,$AB$23),CONCATENATE($AB$22,U50,$AB$23)))","v":"=+IMPORTARDATOSDINAMICOS(\" BAS105\";TABLAS!$A$262)"},"=+IMPORTARDATOSDINAMICOS(\" BAS106\";TABLAS!$A$262)","=+IMPORTARDATOSDINAMICOS(\" BAS107\";TABLAS!$A$262)","=+IMPORTARDATOSDINAMICOS(\" BAS108\";TABLAS!$A$262)","=+IMPORTARDATOSDINAMICOS(\" BAS109\";TABLAS!$A$262)",{"$f":"IF(Z50<10,CONCATENATE($AB$22,\"00\",Z50,$AB$23),IF(AND(Z50>9,Z50<100),CONCATENATE($AB$22,\"0\",Z50,$AB$23),CONCATENATE($AB$22,Z50,$AB$23)))","v":"=+IMPORTARDATOSDINAMICOS(\" BAS110\";TABLAS!$A$262)"},{"$f":"+Y49+1","v":105},{"$f":"+U50+1","v":106},{"$f":"+V50+1","v":107},{"$f":"+W50+1","v":108},{"$f":"+X50+1","v":109},{"$f":"+Y50+1","v":110}]

{"sheet":"FASCIOLIASIS","index":9,"n_rows":33,"n_cols":32,"rows_kept":33,"cut":false,"hidden":false,"merged":[[13,2,13,3],[0,1,0,11],[1,1,1,11],[2,1,2,11],[4,1,4,11],[7,2,7,3],[7,5,7,6],[7,9,7,10],[13,9,13,11],[9,9,9,10],[11,9,11,10],[9,2,9,3],[9,5,9,6],[11,2,11,3],[11,5,11,6],[25,1,27,2],[25,4,27,4],[29,1,29,2],[30,1,32,2],[30,4,32,4],[16,1,16,2],[17,1,19,2],[17,4,19,4],[21,1,21,2],[22,1,24,2],[22,4,24,4]]}
[null,"DIRECCION REGIONAL DE SALUD CUSCO"]
[null,"DIRECCION EJECUTIVA DE INTELIGENCIA SANITARIA"]
[null,"DIRECCION DE ESTADISTICA, INFORMATICA Y TELECOMUNICACION"]
[]
[null,"INFORME MENSUAL DE ACTIVIDADES DE FASCIOLIASIS"]
[]
[]
[null,"DIRESA/DISA","CUSCO",null,"PROVINCIA",{"$f":"TRIM(TABLAS!O12)","v":""},null,null,"MINSA"]
[]
[null,"RED",{"$f":"TRIM(TABLAS!O9)","v":"03 - LA CONVENCION"},null,"DISTRITO",{"$f":"TRIM(TABLAS!O13)","v":""},null,null,"ESSALUD"]
[]
[null,"MICRO RED",{"$f":"TRIM(TABLAS!O10)","v":""},null,"MES",{"$f":"TRIM(TABLAS!N26)","v":"ENE - NOV"},null,null,"SANIDAD FFAA-PNP"]
[]
[null,"ESTABLECIMIENTO",{"$f":"TRIM(TABLAS!O11)","v":""},null,"AÑO",{"$f":"TRIM(TABLAS!J16)","v":"2024"},null,null,"EJECUTORA",{"$f":"TRIM(TABLAS!O14)","v":""}]
[]
[]
[null,"ATENDIDOS ",null,"SEXO","META PROG.","Total","0-11a","12-17a","18-29a","30-59a","60 y más","Gestante",null,null,null,null,null,null,null,null,null,null,null,null,{"$f":"+GETPIVOTDATA(\" BAS001\",TABLAS!$A$324)","v":0}]
[null,"Pacientes atendidos por Sospecha de Fascioliasis",null,"T",null,{"$f":"SUM(G18:K18)","v":0},{"$f":"SUM(G19:G20)","v":0},{"$f":"SUM(H19:H20)","v":0},0,0,0,0]
[null,null,null,"M",null,{"$f":"SUM(G19:K19)","v":0},{"$f":"+GETPIVOTDATA(\" BAS001\",TABLAS!$A$324)","v":0},{"$f":"+GETPIVOTDATA(\" BAS002\",TABLAS!$A$324)","v":0},{"$f":"+GETPIVOTDATA(\" BAS003\",TABLAS!$A$324)","v":0},{"$f":"+GETPIVOTDATA(\" BAS004\",TABLAS!$A$324)","v":0},{"$f":"+GETPIVOTDATA(\" BAS005\",TABLAS!$A$324)","v":0},null,null,null,null,null,null,null,{"$f":"IF(Y19<10,CONCATENATE($AF$19,\"00\",Y19,$AF$20),IF(AND(Y19>9,Y19<100),CONCATENATE($AF$19,\"0\",Y19,$AF$20),CONCATENATE($AF$19,Y19,$AF$20)))","v":"=+IMPORTARDATOSDINAMICOS(\" BAS001\";TABLAS!$A$293)"},{"$f":"IF(Z19<10,CONCATENATE($AF$19,\"00\",Z19,$AF$20),IF(AND(Z19>9,Z19<100),CONCATENATE($AF$19,\"0\",Z19,$AF$20),CONCATENATE($AF$19,Z19,$AF$20)))","v":"=+IMPORTARDATOSDINAMICOS(\" BAS002\";TABLAS!$A$293)"},"=+IMPORTARDATOSDINAMICOS(\" BAS003\";TABLAS!$A$293)","=+IMPORTARDATOSDINAMICOS(\" BAS004\";TABLAS!$A$293)","=+IMPORTARDATOSDINAMICOS(\" BAS005\";TABLAS!$A$293)",null,1,{"$f":"+Y19+1","v":2},{"$f":"+Z19+1","v":3},4,5,null,null,"=+IMPORTARDATOSDINAMICOS(\" BAS"]
[null,null,null,"F",null,{"$f":"SUM(G20:K20)","v":0},{"$f":"+GETPIVOTDATA(\" BAS006\",TABLAS!$A$324)","v":0},{"$f":"+GETPIVOTDATA(\" BAS007\",TABLAS!$A$324)","v":0},{"$f":"+GETPIVOTDATA(\" BAS008\",TABLAS!$A$324)","v":0},{"$f":"+GETPIVOTDATA(\" BAS009\",TABLAS!$A$324)","v":0},{"$f":"+GETPIVOTDATA(\" BAS010\",TABLAS!$A$324)","v":0},{"$f":"+GETPIVOTDATA(\" BAS011\",TABLAS!$A$324)","v":0},null,null,null,null,null,null,{"$f":"IF(Y20<10,CONCATENATE($AF$19,\"00\",Y20,$AF$20),IF(AND(Y20>9,Y20<100),CONCATENATE($AF$19,\"0\",Y20,$AF$20),CONCATENATE($AF$19,Y20,$AF$20)))","v":"=+IMPORTARDATOSDINAMICOS(\" BAS006\";TABLAS!$A$293)"},{"$f":"IF(Z20<10,CONCATENATE($AF$19,\"00\",Z20,$AF$20),IF(AND(Z20>9,Z20<100),CONCATENATE($AF$19,\"0\",Z20,$AF$20),CONCATENATE($AF$19,Z20,$AF$20)))","v":"=+IMPORTARDATOSDINAMICOS(\" BAS007\";TABLAS!$A$293)"},{"$f":"IF(AA20<10,CONCATENATE($AF$19,\"00\",AA20,$AF$20),IF(AND(AA20>9,AA20<100),CONCATENATE($AF$19,\"0\",AA20,$AF$20),CONCATENATE($AF$19,AA20,$AF$20)))","v":"=+IMPORTARDATOSDINAMICOS(\" BAS008\";TABLAS!$A$293)"},{"$f":"IF(AB20<10,CONCATENATE($AF$19,\"00\",AB20,$AF$20),IF(AND(AB20>9,AB20<100),CONCATENATE($AF$19,\"0\",AB20,$AF$20),CONCATENATE($AF$19,AB20,$AF$20)))","v":"=+IMPORTARDATOSDINAMICOS(\" BAS009\";TABLAS!$A$293)"},{"$f":"IF(AC20<10,CONCATENATE($AF$19,\"00\",AC20,$AF$20),IF(AND(AC20>9,AC20<100),CONCATENATE($AF$19,\"0\",AC20,$AF$20),CONCATENATE($AF$19,AC20,$AF$20)))","v":"=+IMPORTARDATOSDINAMICOS(\" BAS010\";TABLAS!$A$293)"},"=+IMPORTARDATOSDINAMICOS(\" BAS011\";TABLAS!$A$293)",{"$f":"+AC19+1","v":6},{"$f":"+Y20+1","v":7},8,9,10,{"$f":"+AC20+1","v":11},null,"\";TABLAS!$A$293)"]
[]
[null,"DIAGNOSTICO",null,"SEXO","META PROG.","Total"]
[null,"Fascioliasis probable",null,"T",null,{"$f":"SUM(G23:K23)","v":0},{"$f":"SUM(G24:G25)","v":0},{"$f":"SUM(H24:H25)","v":0},0,0,0,0]
[null,null,null,"M",null,{"$f":"SUM(G24:K24)","v":0},{"$f":"+GETPIVOTDATA(\" BAS012\",TABLAS!$A$324)","v":0},{"$f":"+GETPIVOTDATA(\" BAS013\",TABLAS!$A$324)","v":0},{"$f":"+GETPIVOTDATA(\" BAS014\",TABLAS!$A$324)","v":0},{"$f":"+GETPIVOTDATA(\" BAS015\",TABLAS!$A$324)","v":0},{"$f":"+GETPIVOTDATA(\" BAS016\",TABLAS!$A$324)","v":0},null,null,null,null,null,null,null,{"$f":"IF(Y24<10,CONCATENATE($AF$19,\"00\",Y24,$AF$20),IF(AND(Y24>9,Y24<100),CONCATENATE($AF$19,\"0\",Y24,$AF$20),CONCATENATE($AF$19,Y24,$AF$20)))","v":"=+IMPORTARDATOSDINAMICOS(\" BAS012\";TABLAS!$A$293)"},{"$f":"IF(Z24<10,CONCATENATE($AF$19,\"00\",Z24,$AF$20),IF(AND(Z24>9,Z24<100),CONCATENATE($AF$19,\"0\",Z24,$AF$20),CONCATENATE($AF$19,Z24,$AF$20)))","v":"=+IMPORTARDATOSDINAMICOS(\" BAS013\";TABLAS!$A$293)"},{"$f":"IF(AA24<10,CONCATENATE($AF$19,\"00\",AA24,$AF$20),IF(AND(AA24>9,AA24<100),CONCATENATE($AF$19,\"0\",AA24,$AF$20),CONCATENATE($AF$19,AA24,$AF$20)))","v":"=+IMPORTARDATOSDINAMICOS(\" BAS014\";TABLAS!$A$293)"},{"$f":"IF(AB24<10,CONCATENATE($AF$19,\"00\",AB24,$AF$20),IF(AND(AB24>9,AB24<100),CONCATENATE($AF$19,\"0\",AB24,$AF$20),CONCATENATE($AF$19,AB24,$AF$20)))","v":"=+IMPORTARDATOSDINAMICOS(\" BAS015\";TABLAS!$A$293)"},{"$f":"IF(AC24<10,CONCATENATE($AF$19,\"00\",AC24,$AF$20),IF(AND(AC24>9,AC24<100),CONCATENATE($AF$19,\"0\",AC24,$AF$20),CONCATENATE($AF$19,AC24,$AF$20)))","v":"=+IMPORTARDATOSDINAMICOS(\" BAS016\";TABLAS!$A$293)"},null,{"$f":"+AD20+1","v":12},{"$f":"+Y24+1","v":13},{"$f":"+Z24+1","v":14},{"$f":"+AA24+1","v":15},{"$f":"+AB24+1","v":16}]
[null,null,null,"F",null,{"$f":"SUM(G25:K25)","v":0},{"$f":"+GETPIVOTDATA(\" BAS017\",TABLAS!$A$324)","v":0},{"$f":"+GETPIVOTDATA(\" BAS018\",TABLAS!$A$324)","v":0},{"$f":"+GETPIVOTDATA(\" BAS019\",TABLAS!$A$324)","v":0},{"$f":"+GETPIVOTDATA(\" BAS020\",TABLAS!$A$324)","v":0},{"$f":"+GETPIVOTDATA(\" BAS021\",TABLAS!$A$324)","v":0},{"$f":"+GETPIVOTDATA(\" BAS022\",TABLAS!$A$324)","v":0},null,null,null,null,null,null,{"$f":"IF(Y25<10,CONCATENATE($AF$19,\"00\",Y25,$AF$20),IF(AND(Y25>9,Y25<100),CONCATENATE($AF$19,\"0\",Y25,$AF$20),CONCATENATE($AF$19,Y25,$AF$20)))","v":"=+IMPORTARDATOSDINAMICOS(\" BAS017\";TABLAS!$A$293)"},"=+IMPORTARDATOSDINAMICOS(\" BAS018\";TABLAS!$A$293)","=+IMPORTARDATOSDINAMICOS(\" BAS019\";TABLAS!$A$293)","=+IMPORTARDATOSDINAMICOS(\" BAS020\";TABLAS!$A$293)","=+IMPORTARDATOSDINAMICOS(\" BAS021\";TABLAS!$A$293)",{"$f":"IF(AD25<10,CONCATENATE($AF$19,\"00\",AD25,$AF$20),IF(AND(AD25>9,AD25<100),CONCATENATE($AF$19,\"0\",AD25,$AF$20),CONCATENATE($AF$19,AD25,$AF$20)))","v":"=+IMPORTARDATOSDINAMICOS(\" BAS022\";TABLAS!$A$293)"},{"$f":"+AC24+1","v":17},{"$f":"+Y25+1","v":18},19,20,21,{"$f":"+AC25+1","v":22}]
[null,"Fascioliasis confirmada ",null,"T",null,{"$f":"SUM(G26:K26)","v":0}]
[null,null,null,"M",null,{"$f":"SUM(G27:K27)","v":0},{"$f":"+GETPIVOTDATA(\" BAS023\",TABLAS!$A$324)","v":0},{"$f":"+GETPIVOTDATA(\" BAS024\",TABLAS!$A$324)","v":0},{"$f":"+GETPIVOTDATA(\" BAS025\",TABLAS!$A$324)","v":0},{"$f":"+GETPIVOTDATA(\" BAS026\",TABLAS!$A$324)","v":0},{"$f":"+GETPIVOTDATA(\" BAS027\",TABLAS!$A$324)","v":0},null,null,null,null,null,null,null,{"$f":"IF(Y27<10,CONCATENATE($AF$19,\"00\",Y27,$AF$20),IF(AND(Y27>9,Y27<100),CONCATENATE($AF$19,\"0\",Y27,$AF$20),CONCATENATE($AF$19,Y27,$AF$20)))","v":"=+IMPORTARDATOSDINAMICOS(\" BAS023\";TABLAS!$A$293)"},{"$f":"IF(Z27<10,CONCATENATE($AF$19,\"00\",Z27,$AF$20),IF(AND(Z27>9,Z27<100),CONCATENATE($AF$19,\"0\",Z27,$AF$20),CONCATENATE($AF$19,Z27,$AF$20)))","v":"=+IMPORTARDATOSDINAMICOS(\" BAS024\";TABLAS!$A$293)"},{"$f":"IF(AA27<10,CONCATENATE($AF$19,\"00\",AA27,$AF$20),IF(AND(AA27>9,AA27<100),CONCATENATE($AF$19,\"0\",AA27,$AF$20),CONCATENATE($AF$19,AA27,$AF$20)))","v":"=+IMPORTARDATOSDINAMICOS(\" BAS025\";TABLAS!$A$293)"},{"$f":"IF(AB27<10,CONCATENATE($AF$19,\"00\",AB27,$AF$20),IF(AND(AB27>9,AB27<100),CONCATENATE($AF$19,\"0\",AB27,$AF$20),CONCATENATE($AF$19,AB27,$AF$20)))","v":"=+IMPORTARDATOSDINAMICOS(\" BAS026\";TABLAS!$A$293)"},{"$f":"IF(AC27<10,CONCATENATE($AF$19,\"00\",AC27,$AF$20),IF(AND(AC27>9,AC27<100),CONCATENATE($AF$19,\"0\",AC27,$AF$20),CONCATENATE($AF$19,AC27,$AF$20)))","v":"=+IMPORTARDATOSDINAMICOS(\" BAS027\";TABLAS!$A$293)"},null,{"$f":"+AD25+1","v":23},{"$f":"+Y27+1","v":24},{"$f":"+Z27+1","v":25},{"$f":"+AA27+1","v":26},{"$f":"+AB27+1","v":27}]
[null,null,null,"F",null,{"$f":"SUM(G28:K28)","v":0},{"$f":"+GETPIVOTDATA(\" BAS028\",TABLAS!$A$324)","v":0},{"$f":"+GETPIVOTDATA(\" BAS029\",TABLAS!$A$324)","v":0},{"$f":"+GETPIVOTDATA(\" BAS030\",TABLAS!$A$324)","v":0},{"$f":"+GETPIVOTDATA(\" BAS031\",TABLAS!$A$324)","v":0},{"$f":"+GETPIVOTDATA(\" BAS032\",TABLAS!$A$324)","v":0},{"$f":"+GETPIVOTDATA(\" BAS033\",TABLAS!$A$324)","v":0},null,null,null,null,null,null,{"$f":"IF(Y28<10,CONCATENATE($AF$19,\"00\",Y28,$AF$20),IF(AND(Y28>9,Y28<100),CONCATENATE($AF$19,\"0\",Y28,$AF$20),CONCATENATE($AF$19,Y28,$AF$20)))","v":"=+IMPORTARDATOSDINAMICOS(\" BAS028\";TABLAS!$A$293)"},"=+IMPORTARDATOSDINAMICOS(\" BAS029\";TABLAS!$A$293)","=+IMPORTARDATOSDINAMICOS(\" BAS030\";TABLAS!$A$293)","=+IMPORTARDATOSDINAMICOS(\" BAS031\";TABLAS!$A$293)","=+IMPORTARDATOSDINAMICOS(\" BAS032\";TABLAS!$A$293)",{"$f":"IF(AD28<10,CONCATENATE($AF$19,\"00\",AD28,$AF$20),IF(AND(AD28>9,AD28<100),CONCATENATE($AF$19,\"0\",AD28,$AF$20),CONCATENATE($AF$19,AD28,$AF$20)))","v":"=+IMPORTARDATOSDINAMICOS(\" BAS033\";TABLAS!$A$293)"},{"$f":"+AC27+1","v":28},{"$f":"+Y28+1","v":29},30,31,32,{"$f":"+AC28+1","v":33}]
[]
[null,"TRATAMIENTO",null,"SEXO","META PROG.","Total"]
[null,"Farmacológico",null,"T",null,{"$f":"SUM(G31:K31)","v":0}]
[null,null,null,"M",null,{"$f":"SUM(G32:K32)","v":0},{"$f":"+GETPIVOTDATA(\" BAS034\",TABLAS!$A$324)","v":0},{"$f":"+GETPIVOTDATA(\" BAS035\",TABLAS!$A$324)","v":0},{"$f":"+GETPIVOTDATA(\" BAS036\",TABLAS!$A$324)","v":0},{"$f":"+GETPIVOTDATA(\" BAS037\",TABLAS!$A$324)","v":0},{"$f":"+GETPIVOTDATA(\" BAS038\",TABLAS!$A$324)","v":0},null,null,null,null,null,null,null,{"$f":"IF(Y32<10,CONCATENATE($AF$19,\"00\",Y32,$AF$20),IF(AND(Y32>9,Y32<100),CONCATENATE($AF$19,\"0\",Y32,$AF$20),CONCATENATE($AF$19,Y32,$AF$20)))","v":"=+IMPORTARDATOSDINAMICOS(\" BAS034\";TABLAS!$A$293)"},{"$f":"IF(Z32<10,CONCATENATE($AF$19,\"00\",Z32,$AF$20),IF(AND(Z32>9,Z32<100),CONCATENATE($AF$19,\"0\",Z32,$AF$20),CONCATENATE($AF$19,Z32,$AF$20)))","v":"=+IMPORTARDATOSDINAMICOS(\" BAS035\";TABLAS!$A$293)"},{"$f":"IF(AA32<10,CONCATENATE($AF$19,\"00\",AA32,$AF$20),IF(AND(AA32>9,AA32<100),CONCATENATE($AF$19,\"0\",AA32,$AF$20),CONCATENATE($AF$19,AA32,$AF$20)))","v":"=+IMPORTARDATOSDINAMICOS(\" BAS036\";TABLAS!$A$293)"},{"$f":"IF(AB32<10,CONCATENATE($AF$19,\"00\",AB32,$AF$20),IF(AND(AB32>9,AB32<100),CONCATENATE($AF$19,\"0\",AB32,$AF$20),CONCATENATE($AF$19,AB32,$AF$20)))","v":"=+IMPORTARDATOSDINAMICOS(\" BAS037\";TABLAS!$A$293)"},{"$f":"IF(AC32<10,CONCATENATE($AF$19,\"00\",AC32,$AF$20),IF(AND(AC32>9,AC32<100),CONCATENATE($AF$19,\"0\",AC32,$AF$20),CONCATENATE($AF$19,AC32,$AF$20)))","v":"=+IMPORTARDATOSDINAMICOS(\" BAS038\";TABLAS!$A$293)"},null,{"$f":"+AD28+1","v":34},{"$f":"+Y32+1","v":35},{"$f":"+Z32+1","v":36},{"$f":"+AA32+1","v":37},{"$f":"+AB32+1","v":38}]
[null,null,null,"F",null,{"$f":"SUM(G33:K33)","v":0},{"$f":"+GETPIVOTDATA(\" BAS039\",TABLAS!$A$324)","v":0},{"$f":"+GETPIVOTDATA(\" BAS040\",TABLAS!$A$324)","v":0},{"$f":"+GETPIVOTDATA(\" BAS041\",TABLAS!$A$324)","v":0},{"$f":"+GETPIVOTDATA(\" BAS042\",TABLAS!$A$324)","v":0},{"$f":"+GETPIVOTDATA(\" BAS043\",TABLAS!$A$324)","v":0},{"$f":"+GETPIVOTDATA(\" BAS044\",TABLAS!$A$324)","v":0},null,null,null,null,null,null,{"$f":"IF(Y33<10,CONCATENATE($AF$19,\"00\",Y33,$AF$20),IF(AND(Y33>9,Y33<100),CONCATENATE($AF$19,\"0\",Y33,$AF$20),CONCATENATE($AF$19,Y33,$AF$20)))","v":"=+IMPORTARDATOSDINAMICOS(\" BAS039\";TABLAS!$A$293)"},"=+IMPORTARDATOSDINAMICOS(\" BAS040\";TABLAS!$A$293)","=+IMPORTARDATOSDINAMICOS(\" BAS041\";TABLAS!$A$293)","=+IMPORTARDATOSDINAMICOS(\" BAS042\";TABLAS!$A$293)","=+IMPORTARDATOSDINAMICOS(\" BAS043\";TABLAS!$A$293)",{"$f":"IF(AD33<10,CONCATENATE($AF$19,\"00\",AD33,$AF$20),IF(AND(AD33>9,AD33<100),CONCATENATE($AF$19,\"0\",AD33,$AF$20),CONCATENATE($AF$19,AD33,$AF$20)))","v":"=+IMPORTARDATOSDINAMICOS(\" BAS044\";TABLAS!$A$293)"},{"$f":"+AC32+1","v":39},{"$f":"+Y33+1","v":40},41,42,43,{"$f":"+AC33+1","v":44}]

{"sheet":"LEPTOSPIROSIS","index":10,"n_rows":59,"n_cols":31,"rows_kept":59,"cut":false,"hidden":false,"merged":[[9,9,9,10],[11,9,11,10],[13,9,13,11],[9,2,9,3],[9,5,9,6],[11,2,11,3],[11,5,11,6],[13,2,13,3],[0,1,0,11],[1,1,1,11],[2,1,2,11],[4,1,4,11],[7,2,7,3],[7,5,7,6],[7,9,7,10],[16,1,16,2],[17,1,19,2],[17,4,19,4],[21,1,21,2],[22,1,24,2],[22,4,24,4],[25,1,27,2],[25,4,27,4],[29,1,29,2],[30,1,30,2],[31,1,33,2],[31,4,33,4],[46,1,46,3],[34,1,36,2],[34,4,36,4],[37,1,39,2],[37,4,39,4],[40,1,42,2],[40,4,42,4],[44,1,44,3],[45,1,45,3],[55,1,55,3],[56,1,56,3],[57,1,57,3],[58,1,58,3],[47,1,47,3],[49,1,49,3],[50,1,50,3],[51,1,51,3],[52,1,52,3],[54,1,54,3]]}
[null,"DIRECCION REGIONAL DE SALUD CUSCO"]
[null,"DIRECCION EJECUTIVA DE INTELIGENCIA SANITARIA"]
[null,"DIRECCION DE ESTADISTICA, INFORMATICA Y TELECOMUNICACION"]
[]
[null,"INFORME MENSUAL DE ACTIVIDADES DE LEPTOSPIROSIS"]
[]
[]
[null,"DIRESA/DISA","CUSCO",null,"PROVINCIA",{"$f":"TRIM(TABLAS!O12)","v":""},null,null,"MINSA"]
[]
[null,"RED",{"$f":"TRIM(TABLAS!O9)","v":"03 - LA CONVENCION"},null,"DISTRITO",{"$f":"TRIM(TABLAS!O13)","v":""},null,null,"ESSALUD"]
[]
[null,"MICRO RED",{"$f":"TRIM(TABLAS!O10)","v":""},null,"MES",{"$f":"TRIM(TABLAS!N26)","v":"ENE - NOV"},null,null,"SANIDAD FFAA-PNP"]
[]
[null,"ESTABLECIMIENTO",{"$f":"TRIM(TABLAS!O11)","v":""},null,"AÑO",{"$f":"TRIM(TABLAS!J16)","v":"2024"},null,null,"EJECUTORA",{"$f":"TRIM(TABLAS!O14)","v":""}]
[]
[]
[null,"ATENDIDOS",null,"SEXO","META","Total","0-11a","12-17a","18-29a","30-59a","60 y más","Gestante",null,null,null,null,null,null,null,null,null,null,null,{"$f":"+GETPIVOTDATA(\" BAS001\",TABLAS!$A$355)","v":0}]
[null,"Pacientes atendidos por sospecha clínica de Leptospirosis",null,"T",null,{"$f":"SUM(G18:K18)","v":0},{"$f":"SUM(G19:G20)","v":0},{"$f":"SUM(H19:H20)","v":0},0,0,0,0]
[null,null,null,"M",null,{"$f":"SUM(G19:K19)","v":0},{"$f":"+GETPIVOTDATA(\" BAS001\",TABLAS!$A$355)","v":0},{"$f":"+GETPIVOTDATA(\" BAS002\",TABLAS!$A$355)","v":0},{"$f":"+GETPIVOTDATA(\" BAS003\",TABLAS!$A$355)","v":0},{"$f":"+GETPIVOTDATA(\" BAS004\",TABLAS!$A$355)","v":0},{"$f":"+GETPIVOTDATA(\" BAS005\",TABLAS!$A$355)","v":0},null,null,null,null,null,null,{"$f":"IF(X19<10,CONCATENATE($AE$19,\"00\",X19,$AE$20),IF(AND(X19>9,X19<100),CONCATENATE($AE$19,\"0\",X19,$AE$20),CONCATENATE($AE$19,X19,$AE$20)))","v":"=+IMPORTARDATOSDINAMICOS(\" BAS001\";TABLAS!$A$324)"},{"$f":"IF(Y19<10,CONCATENATE($AE$19,\"00\",Y19,$AE$20),IF(AND(Y19>9,Y19<100),CONCATENATE($AE$19,\"0\",Y19,$AE$20),CONCATENATE($AE$19,Y19,$AE$20)))","v":"=+IMPORTARDATOSDINAMICOS(\" BAS002\";TABLAS!$A$324)"},"=+IMPORTARDATOSDINAMICOS(\" BAS003\";TABLAS!$A$324)","=+IMPORTARDATOSDINAMICOS(\" BAS004\";TABLAS!$A$324)","=+IMPORTARDATOSDINAMICOS(\" BAS005\";TABLAS!$A$324)",null,1,{"$f":"+X19+1","v":2},{"$f":"+Y19+1","v":3},4,5,null,null,"=+IMPORTARDATOSDINAMICOS(\" BAS"]
[null,null,null,"F",null,{"$f":"SUM(G20:K20)","v":0},{"$f":"+GETPIVOTDATA(\" BAS006\",TABLAS!$A$355)","v":0},{"$f":"+GETPIVOTDATA(\" BAS007\",TABLAS!$A$355)","v":0},{"$f":"+GETPIVOTDATA(\" BAS008\",TABLAS!$A$355)","v":0},{"$f":"+GETPIVOTDATA(\" BAS009\",TABLAS!$A$355)","v":0},{"$f":"+GETPIVOTDATA(\" BAS010\",TABLAS!$A$355)","v":0},{"$f":"+GETPIVOTDATA(\" BAS011\",TABLAS!$A$355)","v":0},null,null,null,null,null,{"$f":"IF(X20<10,CONCATENATE($AE$19,\"00\",X20,$AE$20),IF(AND(X20>9,X20<100),CONCATENATE($AE$19,\"0\",X20,$AE$20),CONCATENATE($AE$19,X20,$AE$20)))","v":"=+IMPORTARDATOSDINAMICOS(\" BAS006\";TABLAS!$A$324)"},{"$f":"IF(Y20<10,CONCATENATE($AE$19,\"00\",Y20,$AE$20),IF(AND(Y20>9,Y20<100),CONCATENATE($AE$19,\"0\",Y20,$AE$20),CONCATENATE($AE$19,Y20,$AE$20)))","v":"=+IMPORTARDATOSDINAMICOS(\" BAS007\";TABLAS!$A$324)"},{"$f":"IF(Z20<10,CONCATENATE($AE$19,\"00\",Z20,$AE$20),IF(AND(Z20>9,Z20<100),CONCATENATE($AE$19,\"0\",Z20,$AE$20),CONCATENATE($AE$19,Z20,$AE$20)))","v":"=+IMPORTARDATOSDINAMICOS(\" BAS008\";TABLAS!$A$324)"},{"$f":"IF(AA20<10,CONCATENATE($AE$19,\"00\",AA20,$AE$20),IF(AND(AA20>9,AA20<100),CONCATENATE($AE$19,\"0\",AA20,$AE$20),CONCATENATE($AE$19,AA20,$AE$20)))","v":"=+IMPORTARDATOSDINAMICOS(\" BAS009\";TABLAS!$A$324)"},{"$f":"IF(AB20<10,CONCATENATE($AE$19,\"00\",AB20,$AE$20),IF(AND(AB20>9,AB20<100),CONCATENATE($AE$19,\"0\",AB20,$AE$20),CONCATENATE($AE$19,AB20,$AE$20)))","v":"=+IMPORTARDATOSDINAMICOS(\" BAS010\";TABLAS!$A$324)"},"=+IMPORTARDATOSDINAMICOS(\" BAS011\";TABLAS!$A$324)",{"$f":"+AB19+1","v":6},{"$f":"+X20+1","v":7},8,9,10,{"$f":"+AB20+1","v":11},null,"\";TABLAS!$A$324)"]
[]
[null,"DIAGNOSTICO",null,"SEXO","META","Total","0-11a","12-17a","18-29a","30-59a","60 y más","Gestante"]
[null,"Diagnóstico presuntivo",null,"T",null,{"$f":"SUM(G23:K23)","v":92},{"$f":"SUM(G24:G25)","v":8},{"$f":"SUM(H24:H25)","v":5},14,31,34,0]
[null,null,null,"M",null,{"$f":"SUM(G24:K24)","v":47},{"$f":"+GETPIVOTDATA(\" BAS012\",TABLAS!$A$355)","v":5},{"$f":"+GETPIVOTDATA(\" BAS013\",TABLAS!$A$355)","v":2},{"$f":"+GETPIVOTDATA(\" BAS014\",TABLAS!$A$355)","v":5},{"$f":"+GETPIVOTDATA(\" BAS015\",TABLAS!$A$355)","v":16},{"$f":"+GETPIVOTDATA(\" BAS016\",TABLAS!$A$355)","v":19},null,null,null,null,null,null,{"$f":"IF(X24<10,CONCATENATE($AE$19,\"00\",X24,$AE$20),IF(AND(X24>9,X24<100),CONCATENATE($AE$19,\"0\",X24,$AE$20),CONCATENATE($AE$19,X24,$AE$20)))","v":"=+IMPORTARDATOSDINAMICOS(\" BAS012\";TABLAS!$A$324)"},{"$f":"IF(Y24<10,CONCATENATE($AE$19,\"00\",Y24,$AE$20),IF(AND(Y24>9,Y24<100),CONCATENATE($AE$19,\"0\",Y24,$AE$20),CONCATENATE($AE$19,Y24,$AE$20)))","v":"=+IMPORTARDATOSDINAMICOS(\" BAS013\";TABLAS!$A$324)"},{"$f":"IF(Z24<10,CONCATENATE($AE$19,\"00\",Z24,$AE$20),IF(AND(Z24>9,Z24<100),CONCATENATE($AE$19,\"0\",Z24,$AE$20),CONCATENATE($AE$19,Z24,$AE$20)))","v":"=+IMPORTARDATOSDINAMICOS(\" BAS014\";TABLAS!$A$324)"},{"$f":"IF(AA24<10,CONCATENATE($AE$19,\"00\",AA24,$AE$20),IF(AND(AA24>9,AA24<100),CONCATENATE($AE$19,\"0\",AA24,$AE$20),CONCATENATE($AE$19,AA24,$AE$20)))","v":"=+IMPORTARDATOSDINAMICOS(\" BAS015\";TABLAS!$A$324)"},{"$f":"IF(AB24<10,CONCATENATE($AE$19,\"00\",AB24,$AE$20),IF(AND(AB24>9,AB24<100),CONCATENATE($AE$19,\"0\",AB24,$AE$20),CONCATENATE($AE$19,AB24,$AE$20)))","v":"=+IMPORTARDATOSDINAMICOS(\" BAS016\";TABLAS!$A$324)"},null,{"$f":"+AC20+1","v":12},{"$f":"+X24+1","v":13},{"$f":"+Y24+1","v":14},{"$f":"+Z24+1","v":15},{"$f":"+AA24+1","v":16}]
[null,null,null,"F",null,{"$f":"SUM(G25:K25)","v":45},{"$f":"+GETPIVOTDATA(\" BAS017\",TABLAS!$A$355)","v":3},{"$f":"+GETPIVOTDATA(\" BAS018\",TABLAS!$A$355)","v":3},{"$f":"+GETPIVOTDATA(\" BAS019\",TABLAS!$A$355)","v":9},{"$f":"+GETPIVOTDATA(\" BAS020\",TABLAS!$A$355)","v":15},{"$f":"+GETPIVOTDATA(\" BAS021\",TABLAS!$A$355)","v":15},{"$f":"+GETPIVOTDATA(\" BAS022\",TABLAS!$A$355)","v":0},null,null,null,null,null,{"$f":"IF(X25<10,CONCATENATE($AE$19,\"00\",X25,$AE$20),IF(AND(X25>9,X25<100),CONCATENATE($AE$19,\"0\",X25,$AE$20),CONCATENATE($AE$19,X25,$AE$20)))","v":"=+IMPORTARDATOSDINAMICOS(\" BAS017\";TABLAS!$A$324)"},"=+IMPORTARDATOSDINAMICOS(\" BAS018\";TABLAS!$A$324)","=+IMPORTARDATOSDINAMICOS(\" BAS019\";TABLAS!$A$324)","=+IMPORTARDATOSDINAMICOS(\" BAS020\";TABLAS!$A$324)","=+IMPORTARDATOSDINAMICOS(\" BAS021\";TABLAS!$A$324)",{"$f":"IF(AC25<10,CONCATENATE($AE$19,\"00\",AC25,$AE$20),IF(AND(AC25>9,AC25<100),CONCATENATE($AE$19,\"0\",AC25,$AE$20),CONCATENATE($AE$19,AC25,$AE$20)))","v":"=+IMPORTARDATOSDINAMICOS(\" BAS022\";TABLAS!$A$324)"},{"$f":"+AB24+1","v":17},{"$f":"+X25+1","v":18},19,20,21,{"$f":"+AB25+1","v":22}]
[null,"Diagnóstico serologico (confirmado)",null,"T",null,0,{"$f":"SUM(G27:G28)","v":0},0,0,0,0,0]
[null,null,null,"M",null,0,null,null,null,null,null,null,null,null,null,null,null,{"$f":"IF(X27<10,CONCATENATE($AE$19,\"00\",X27,$AE$20),IF(AND(X27>9,X27<100),CONCATENATE($AE$19,\"0\",X27,$AE$20),CONCATENATE($AE$19,X27,$AE$20)))","v":"=+IMPORTARDATOSDINAMICOS(\" BAS023\";TABLAS!$A$324)"},{"$f":"IF(Y27<10,CONCATENATE($AE$19,\"00\",Y27,$AE$20),IF(AND(Y27>9,Y27<100),CONCATENATE($AE$19,\"0\",Y27,$AE$20),CONCATENATE($AE$19,Y27,$AE$20)))","v":"=+IMPORTARDATOSDINAMICOS(\" BAS024\";TABLAS!$A$324)"},{"$f":"IF(Z27<10,CONCATENATE($AE$19,\"00\",Z27,$AE$20),IF(AND(Z27>9,Z27<100),CONCATENATE($AE$19,\"0\",Z27,$AE$20),CONCATENATE($AE$19,Z27,$AE$20)))","v":"=+IMPORTARDATOSDINAMICOS(\" BAS025\";TABLAS!$A$324)"},{"$f":"IF(AA27<10,CONCATENATE($AE$19,\"00\",AA27,$AE$20),IF(AND(AA27>9,AA27<100),CONCATENATE($AE$19,\"0\",AA27,$AE$20),CONCATENATE($AE$19,AA27,$AE$20)))","v":"=+IMPORTARDATOSDINAMICOS(\" BAS026\";TABLAS!$A$324)"},{"$f":"IF(AB27<10,CONCATENATE($AE$19,\"00\",AB27,$AE$20),IF(AND(AB27>9,AB27<100),CONCATENATE($AE$19,\"0\",AB27,$AE$20),CONCATENATE($AE$19,AB27,$AE$20)))","v":"=+IMPORTARDATOSDINAMICOS(\" BAS027\";TABLAS!$A$324)"},null,{"$f":"+AC25+1","v":23},{"$f":"+X27+1","v":24},{"$f":"+Y27+1","v":25},{"$f":"+Z27+1","v":26},{"$f":"+AA27+1","v":27}]
[null,null,null,"F",null,0,null,null,null,null,null,null,null,null,null,null,null,{"$f":"IF(X28<10,CONCATENATE($AE$19,\"00\",X28,$AE$20),IF(AND(X28>9,X28<100),CONCATENATE($AE$19,\"0\",X28,$AE$20),CONCATENATE($AE$19,X28,$AE$20)))","v":"=+IMPORTARDATOSDINAMICOS(\" BAS028\";TABLAS!$A$324)"},"=+IMPORTARDATOSDINAMICOS(\" BAS029\";TABLAS!$A$324)","=+IMPORTARDATOSDINAMICOS(\" BAS030\";TABLAS!$A$324)","=+IMPORTARDATOSDINAMICOS(\" BAS031\";TABLAS!$A$324)","=+IMPORTARDATOSDINAMICOS(\" BAS032\";TABLAS!$A$324)",{"$f":"IF(AC28<10,CONCATENATE($AE$19,\"00\",AC28,$AE$20),IF(AND(AC28>9,AC28<100),CONCATENATE($AE$19,\"0\",AC28,$AE$20),CONCATENATE($AE$19,AC28,$AE$20)))","v":"=+IMPORTARDATOSDINAMICOS(\" BAS033\";TABLAS!$A$324)"},{"$f":"+AB27+1","v":28},{"$f":"+X28+1","v":29},30,31,32,{"$f":"+AB28+1","v":33}]
[]
[null,"MORBILIDAD"]
[null,"DIAGNOSTICO FINAL",null,"SEXO","META","Total","0-11a","12-17a","18-29a","30-59a","60 y más","Gestante"]
[null,"TOTAL",null,"T",null,{"$f":"SUM(G32:K32)","v":0},{"$f":"SUM(G33:G34)","v":0},0,0,0,0,0]
[null,null,null,"M",null,0,{"$f":"G36+G39+G42","v":0},0,0,0,0,0]
[null,null,null,"F",null,0,0,0,0,0,0,{"$f":"L37+L40+L43","v":0}]
[null,"Leptospirosis icterohemorrágica",null,"T",null,0,{"$f":"SUM(G36:G37)","v":0},0,0,0,0,0]
[null,null,null,"M",null,0,{"$f":"+GETPIVOTDATA(\" BAS034\",TABLAS!$A$355)","v":0},{"$f":"+GETPIVOTDATA(\" BAS035\",TABLAS!$A$355)","v":0},{"$f":"+GETPIVOTDATA(\" BAS036\",TABLAS!$A$355)","v":0},{"$f":"+GETPIVOTDATA(\" BAS037\",TABLAS!$A$355)","v":0},{"$f":"+GETPIVOTDATA(\" BAS038\",TABLAS!$A$355)","v":0},null,null,null,null,null,null,{"$f":"IF(X36<10,CONCATENATE($AE$19,\"00\",X36,$AE$20),IF(AND(X36>9,X36<100),CONCATENATE($AE$19,\"0\",X36,$AE$20),CONCATENATE($AE$19,X36,$AE$20)))","v":"=+IMPORTARDATOSDINAMICOS(\" BAS034\";TABLAS!$A$324)"},{"$f":"IF(Y36<10,CONCATENATE($AE$19,\"00\",Y36,$AE$20),IF(AND(Y36>9,Y36<100),CONCATENATE($AE$19,\"0\",Y36,$AE$20),CONCATENATE($AE$19,Y36,$AE$20)))","v":"=+IMPORTARDATOSDINAMICOS(\" BAS035\";TABLAS!$A$324)"},{"$f":"IF(Z36<10,CONCATENATE($AE$19,\"00\",Z36,$AE$20),IF(AND(Z36>9,Z36<100),CONCATENATE($AE$19,\"0\",Z36,$AE$20),CONCATENATE($AE$19,Z36,$AE$20)))","v":"=+IMPORTARDATOSDINAMICOS(\" BAS036\";TABLAS!$A$324)"},{"$f":"IF(AA36<10,CONCATENATE($AE$19,\"00\",AA36,$AE$20),IF(AND(AA36>9,AA36<100),CONCATENATE($AE$19,\"0\",AA36,$AE$20),CONCATENATE($AE$19,AA36,$AE$20)))","v":"=+IMPORTARDATOSDINAMICOS(\" BAS037\";TABLAS!$A$324)"},{"$f":"IF(AB36<10,CONCATENATE($AE$19,\"00\",AB36,$AE$20),IF(AND(AB36>9,AB36<100),CONCATENATE($AE$19,\"0\",AB36,$AE$20),CONCATENATE($AE$19,AB36,$AE$20)))","v":"=+IMPORTARDATOSDINAMICOS(\" BAS038\";TABLAS!$A$324)"},null,{"$f":"+AC28+1","v":34},{"$f":"+X36+1","v":35},{"$f":"+Y36+1","v":36},{"$f":"+Z36+1","v":37},{"$f":"+AA36+1","v":38}]
[null,null,null,"F",null,{"$f":"SUM(G37:K37)","v":0},{"$f":"+GETPIVOTDATA(\" BAS039\",TABLAS!$A$355)","v":0},{"$f":"+GETPIVOTDATA(\" BAS040\",TABLAS!$A$355)","v":0},{"$f":"+GETPIVOTDATA(\" BAS041\",TABLAS!$A$355)","v":0},{"$f":"+GETPIVOTDATA(\" BAS042\",TABLAS!$A$355)","v":0},{"$f":"+GETPIVOTDATA(\" BAS043\",TABLAS!$A$355)","v":0},{"$f":"+GETPIVOTDATA(\" BAS044\",TABLAS!$A$355)","v":0},null,null,null,null,null,{"$f":"IF(X37<10,CONCATENATE($AE$19,\"00\",X37,$AE$20),IF(AND(X37>9,X37<100),CONCATENATE($AE$19,\"0\",X37,$AE$20),CONCATENATE($AE$19,X37,$AE$20)))","v":"=+IMPORTARDATOSDINAMICOS(\" BAS039\";TABLAS!$A$324)"},"=+IMPORTARDATOSDINAMICOS(\" BAS040\";TABLAS!$A$324)","=+IMPORTARDATOSDINAMICOS(\" BAS041\";TABLAS!$A$324)","=+IMPORTARDATOSDINAMICOS(\" BAS042\";TABLAS!$A$324)","=+IMPORTARDATOSDINAMICOS(\" BAS043\";TABLAS!$A$324)",{"$f":"IF(AC37<10,CONCATENATE($AE$19,\"00\",AC37,$AE$20),IF(AND(AC37>9,AC37<100),CONCATENATE($AE$19,\"0\",AC37,$AE$20),CONCATENATE($AE$19,AC37,$AE$20)))","v":"=+IMPORTARDATOSDINAMICOS(\" BAS044\";TABLAS!$A$324)"},{"$f":"+AB36+1","v":39},{"$f":"+X37+1","v":40},41,42,43,{"$f":"+AB37+1","v":44}]
[null,"Otras Leptospirosis",null,"T",null,0,{"$f":"SUM(G39:G40)","v":0},{"$f":"SUM(H39:H40)","v":0},0,0,0,0]
[null,null,null,"M",null,{"$f":"SUM(G39:K39)","v":0},{"$f":"+GETPIVOTDATA(\" BAS045\",TABLAS!$A$355)","v":0},{"$f":"+GETPIVOTDATA(\" BAS046\",TABLAS!$A$355)","v":0},{"$f":"+GETPIVOTDATA(\" BAS047\",TABLAS!$A$355)","v":0},{"$f":"+GETPIVOTDATA(\" BAS048\",TABLAS!$A$355)","v":0},{"$f":"+GETPIVOTDATA(\" BAS049\",TABLAS!$A$355)","v":0},null,null,null,null,null,null,{"$f":"IF(X39<10,CONCATENATE($AE$19,\"00\",X39,$AE$20),IF(AND(X39>9,X39<100),CONCATENATE($AE$19,\"0\",X39,$AE$20),CONCATENATE($AE$19,X39,$AE$20)))","v":"=+IMPORTARDATOSDINAMICOS(\" BAS045\";TABLAS!$A$324)"},{"$f":"IF(Y39<10,CONCATENATE($AE$19,\"00\",Y39,$AE$20),IF(AND(Y39>9,Y39<100),CONCATENATE($AE$19,\"0\",Y39,$AE$20),CONCATENATE($AE$19,Y39,$AE$20)))","v":"=+IMPORTARDATOSDINAMICOS(\" BAS046\";TABLAS!$A$324)"},{"$f":"IF(Z39<10,CONCATENATE($AE$19,\"00\",Z39,$AE$20),IF(AND(Z39>9,Z39<100),CONCATENATE($AE$19,\"0\",Z39,$AE$20),CONCATENATE($AE$19,Z39,$AE$20)))","v":"=+IMPORTARDATOSDINAMICOS(\" BAS047\";TABLAS!$A$324)"},{"$f":"IF(AA39<10,CONCATENATE($AE$19,\"00\",AA39,$AE$20),IF(AND(AA39>9,AA39<100),CONCATENATE($AE$19,\"0\",AA39,$AE$20),CONCATENATE($AE$19,AA39,$AE$20)))","v":"=+IMPORTARDATOSDINAMICOS(\" BAS048\";TABLAS!$A$324)"},{"$f":"IF(AB39<10,CONCATENATE($AE$19,\"00\",AB39,$AE$20),IF(AND(AB39>9,AB39<100),CONCATENATE($AE$19,\"0\",AB39,$AE$20),CONCATENATE($AE$19,AB39,$AE$20)))","v":"=+IMPORTARDATOSDINAMICOS(\" BAS049\";TABLAS!$A$324)"},null,{"$f":"+AC37+1","v":45},{"$f":"+X39+1","v":46},{"$f":"+Y39+1","v":47},{"$f":"+Z39+1","v":48},{"$f":"+AA39+1","v":49}]
[null,null,null,"F",null,{"$f":"SUM(G40:K40)","v":0},{"$f":"+GETPIVOTDATA(\" BAS050\",TABLAS!$A$355)","v":0},{"$f":"+GETPIVOTDATA(\" BAS051\",TABLAS!$A$355)","v":0},{"$f":"+GETPIVOTDATA(\" BAS052\",TABLAS!$A$355)","v":0},{"$f":"+GETPIVOTDATA(\" BAS053\",TABLAS!$A$355)","v":0},{"$f":"+GETPIVOTDATA(\" BAS054\",TABLAS!$A$355)","v":0},{"$f":"+GETPIVOTDATA(\" BAS055\",TABLAS!$A$355)","v":0},null,null,null,null,null,{"$f":"IF(X40<10,CONCATENATE($AE$19,\"00\",X40,$AE$20),IF(AND(X40>9,X40<100),CONCATENATE($AE$19,\"0\",X40,$AE$20),CONCATENATE($AE$19,X40,$AE$20)))","v":"=+IMPORTARDATOSDINAMICOS(\" BAS050\";TABLAS!$A$324)"},"=+IMPORTARDATOSDINAMICOS(\" BAS051\";TABLAS!$A$324)","=+IMPORTARDATOSDINAMICOS(\" BAS052\";TABLAS!$A$324)","=+IMPORTARDATOSDINAMICOS(\" BAS053\";TABLAS!$A$324)","=+IMPORTARDATOSDINAMICOS(\" BAS054\";TABLAS!$A$324)",{"$f":"IF(AC40<10,CONCATENATE($AE$19,\"00\",AC40,$AE$20),IF(AND(AC40>9,AC40<100),CONCATENATE($AE$19,\"0\",AC40,$AE$20),CONCATENATE($AE$19,AC40,$AE$20)))","v":"=+IMPORTARDATOSDINAMICOS(\" BAS055\";TABLAS!$A$324)"},{"$f":"+AB39+1","v":50},{"$f":"+X40+1","v":51},52,53,54,{"$f":"+AB40+1","v":55}]
[null,"Leptospirosis no especificada",null,"T",null,{"$f":"SUM(G41:K41)","v":0},{"$f":"SUM(G42:G43)","v":0},{"$f":"SUM(H42:H43)","v":0},0,0,0,0]
[null,null,null,"M",null,{"$f":"SUM(G42:K42)","v":0},{"$f":"+GETPIVOTDATA(\" BAS056\",TABLAS!$A$355)","v":0},{"$f":"+GETPIVOTDATA(\" BAS057\",TABLAS!$A$355)","v":0},{"$f":"+GETPIVOTDATA(\" BAS058\",TABLAS!$A$355)","v":0},{"$f":"+GETPIVOTDATA(\" BAS059\",TABLAS!$A$355)","v":0},{"$f":"+GETPIVOTDATA(\" BAS060\",TABLAS!$A$355)","v":0},null,null,null,null,null,null,{"$f":"IF(X42<10,CONCATENATE($AE$19,\"00\",X42,$AE$20),IF(AND(X42>9,X42<100),CONCATENATE($AE$19,\"0\",X42,$AE$20),CONCATENATE($AE$19,X42,$AE$20)))","v":"=+IMPORTARDATOSDINAMICOS(\" BAS056\";TABLAS!$A$324)"},{"$f":"IF(Y42<10,CONCATENATE($AE$19,\"00\",Y42,$AE$20),IF(AND(Y42>9,Y42<100),CONCATENATE($AE$19,\"0\",Y42,$AE$20),CONCATENATE($AE$19,Y42,$AE$20)))","v":"=+IMPORTARDATOSDINAMICOS(\" BAS057\";TABLAS!$A$324)"},{"$f":"IF(Z42<10,CONCATENATE($AE$19,\"00\",Z42,$AE$20),IF(AND(Z42>9,Z42<100),CONCATENATE($AE$19,\"0\",Z42,$AE$20),CONCATENATE($AE$19,Z42,$AE$20)))","v":"=+IMPORTARDATOSDINAMICOS(\" BAS058\";TABLAS!$A$324)"},{"$f":"IF(AA42<10,CONCATENATE($AE$19,\"00\",AA42,$AE$20),IF(AND(AA42>9,AA42<100),CONCATENATE($AE$19,\"0\",AA42,$AE$20),CONCATENATE($AE$19,AA42,$AE$20)))","v":"=+IMPORTARDATOSDINAMICOS(\" BAS059\";TABLAS!$A$324)"},{"$f":"IF(AB42<10,CONCATENATE($AE$19,\"00\",AB42,$AE$20),IF(AND(AB42>9,AB42<100),CONCATENATE($AE$19,\"0\",AB42,$AE$20),CONCATENATE($AE$19,AB42,$AE$20)))","v":"=+IMPORTARDATOSDINAMICOS(\" BAS060\";TABLAS!$A$324)"},null,{"$f":"+AC40+1","v":56},{"$f":"+X42+1","v":57},{"$f":"+Y42+1","v":58},{"$f":"+Z42+1","v":59},{"$f":"+AA42+1","v":60}]
[null,null,null,"F",null,{"$f":"SUM(G43:K43)","v":0},{"$f":"+GETPIVOTDATA(\" BAS061\",TABLAS!$A$355)","v":0},{"$f":"+GETPIVOTDATA(\" BAS062\",TABLAS!$A$355)","v":0},{"$f":"+GETPIVOTDATA(\" BAS063\",TABLAS!$A$355)","v":0},{"$f":"+GETPIVOTDATA(\" BAS064\",TABLAS!$A$355)","v":0},{"$f":"+GETPIVOTDATA(\" BAS065\",TABLAS!$A$355)","v":0},{"$f":"+GETPIVOTDATA(\" BAS066\",TABLAS!$A$355)","v":0},null,null,null,null,null,{"$f":"IF(X43<10,CONCATENATE($AE$19,\"00\",X43,$AE$20),IF(AND(X43>9,X43<100),CONCATENATE($AE$19,\"0\",X43,$AE$20),CONCATENATE($AE$19,X43,$AE$20)))","v":"=+IMPORTARDATOSDINAMICOS(\" BAS061\";TABLAS!$A$324)"},"=+IMPORTARDATOSDINAMICOS(\" BAS062\";TABLAS!$A$324)","=+IMPORTARDATOSDINAMICOS(\" BAS063\";TABLAS!$A$324)","=+IMPORTARDATOSDINAMICOS(\" BAS064\";TABLAS!$A$324)","=+IMPORTARDATOSDINAMICOS(\" BAS065\";TABLAS!$A$324)",{"$f":"IF(AC43<10,CONCATENATE($AE$19,\"00\",AC43,$AE$20),IF(AND(AC43>9,AC43<100),CONCATENATE($AE$19,\"0\",AC43,$AE$20),CONCATENATE($AE$19,AC43,$AE$20)))","v":"=+IMPORTARDATOSDINAMICOS(\" BAS066\";TABLAS!$A$324)"},{"$f":"+AB42+1","v":61},{"$f":"+X43+1","v":62},63,64,65,{"$f":"+AB43+1","v":66}]
[]
[null,"TRATAMIENTO DE CASOS"]
[null,"Tratamiento",null,null,"META","Total","0-11a","12-17a","18-29a","30-59a","60 y más","Gestante"]
[null,"Personas que inician tratamiento",null,null,null,{"$f":"SUM(G47:K47)","v":0},{"$f":"+GETPIVOTDATA(\" BAS078\",TABLAS!$A$355)","v":0},{"$f":"+GETPIVOTDATA(\" BAS079\",TABLAS!$A$355)","v":0},{"$f":"+GETPIVOTDATA(\" BAS080\",TABLAS!$A$355)","v":0},{"$f":"+GETPIVOTDATA(\" BAS081\",TABLAS!$A$355)","v":0},{"$f":"+GETPIVOTDATA(\" BAS082\",TABLAS!$A$355)","v":0},null,null,null,null,null,null,{"$f":"IF(X47<10,CONCATENATE($AE$19,\"00\",X47,$AE$20),IF(AND(X47>9,X47<100),CONCATENATE($AE$19,\"0\",X47,$AE$20),CONCATENATE($AE$19,X47,$AE$20)))","v":{"$error":"#REF!"}},{"$f":"IF(Y47<10,CONCATENATE($AE$19,\"00\",Y47,$AE$20),IF(AND(Y47>9,Y47<100),CONCATENATE($AE$19,\"0\",Y47,$AE$20),CONCATENATE($AE$19,Y47,$AE$20)))","v":{"$error":"#REF!"}},{"$f":"IF(Z47<10,CONCATENATE($AE$19,\"00\",Z47,$AE$20),IF(AND(Z47>9,Z47<100),CONCATENATE($AE$19,\"0\",Z47,$AE$20),CONCATENATE($AE$19,Z47,$AE$20)))","v":{"$error":"#REF!"}},{"$f":"IF(AA47<10,CONCATENATE($AE$19,\"00\",AA47,$AE$20),IF(AND(AA47>9,AA47<100),CONCATENATE($AE$19,\"0\",AA47,$AE$20),CONCATENATE($AE$19,AA47,$AE$20)))","v":{"$error":"#REF!"}},{"$f":"IF(AB47<10,CONCATENATE($AE$19,\"00\",AB47,$AE$20),IF(AND(AB47>9,AB47<100),CONCATENATE($AE$19,\"0\",AB47,$AE$20),CONCATENATE($AE$19,AB47,$AE$20)))","v":{"$error":"#REF!"}},null,{"$f":"+#REF!+1","v":{"$error":"#REF!"}},{"$f":"+X47+1","v":{"$error":"#REF!"}},{"$f":"+Y47+1","v":{"$error":"#REF!"}},{"$f":"+Z47+1","v":{"$error":"#REF!"}},{"$f":"+AA47+1","v":{"$error":"#REF!"}}]
[null,"Personas que completan tratamiento",null,null,null,{"$f":"SUM(G48:K48)","v":0},{"$f":"+GETPIVOTDATA(\" BAS083\",TABLAS!$A$355)","v":0},{"$f":"+GETPIVOTDATA(\" BAS084\",TABLAS!$A$355)","v":0},{"$f":"+GETPIVOTDATA(\" BAS085\",TABLAS!$A$355)","v":0},{"$f":"+GETPIVOTDATA(\" BAS086\",TABLAS!$A$355)","v":0},{"$f":"+GETPIVOTDATA(\" BAS087\",TABLAS!$A$355)","v":0},{"$f":"+GETPIVOTDATA(\" BAS088\",TABLAS!$A$355)","v":0},null,null,null,null,null,{"$f":"IF(X48<10,CONCATENATE($AE$19,\"00\",X48,$AE$20),IF(AND(X48>9,X48<100),CONCATENATE($AE$19,\"0\",X48,$AE$20),CONCATENATE($AE$19,X48,$AE$20)))","v":{"$error":"#REF!"}},{"$error":"#REF!"},{"$error":"#REF!"},{"$error":"#REF!"},{"$error":"#REF!"},{"$f":"IF(AC48<10,CONCATENATE($AE$19,\"00\",AC48,$AE$20),IF(AND(AC48>9,AC48<100),CONCATENATE($AE$19,\"0\",AC48,$AE$20),CONCATENATE($AE$19,AC48,$AE$20)))","v":{"$error":"#REF!"}},{"$f":"+AB47+1","v":{"$error":"#REF!"}},{"$f":"+X48+1","v":{"$error":"#REF!"}},{"$error":"#REF!"},{"$error":"#REF!"},{"$error":"#REF!"},{"$f":"+AB48+1","v":{"$error":"#REF!"}}]
[]
[null,"QUIMIOPROFILAXIS"]
[null,"Tratamiento",null,null,"META","Total","0-11a","12-17a","18-29a","30-59a","60 y más","Gestante"]
[null,"Personas que inician tratamiento",null,null,null,{"$f":"SUM(G52:K52)","v":0},{"$f":"+GETPIVOTDATA(\" BAS089\",TABLAS!$A$355)","v":0},{"$f":"+GETPIVOTDATA(\" BAS090\",TABLAS!$A$355)","v":0},{"$f":"+GETPIVOTDATA(\" BAS091\",TABLAS!$A$355)","v":0},{"$f":"+GETPIVOTDATA(\" BAS092\",TABLAS!$A$355)","v":0},{"$f":"+GETPIVOTDATA(\" BAS093\",TABLAS!$A$355)","v":0},null,null,null,null,null,null,{"$f":"IF(X52<10,CONCATENATE($AE$19,\"00\",X52,$AE$20),IF(AND(X52>9,X52<100),CONCATENATE($AE$19,\"0\",X52,$AE$20),CONCATENATE($AE$19,X52,$AE$20)))","v":{"$error":"#REF!"}},{"$f":"IF(Y52<10,CONCATENATE($AE$19,\"00\",Y52,$AE$20),IF(AND(Y52>9,Y52<100),CONCATENATE($AE$19,\"0\",Y52,$AE$20),CONCATENATE($AE$19,Y52,$AE$20)))","v":{"$error":"#REF!"}},{"$f":"IF(Z52<10,CONCATENATE($AE$19,\"00\",Z52,$AE$20),IF(AND(Z52>9,Z52<100),CONCATENATE($AE$19,\"0\",Z52,$AE$20),CONCATENATE($AE$19,Z52,$AE$20)))","v":{"$error":"#REF!"}},{"$f":"IF(AA52<10,CONCATENATE($AE$19,\"00\",AA52,$AE$20),IF(AND(AA52>9,AA52<100),CONCATENATE($AE$19,\"0\",AA52,$AE$20),CONCATENATE($AE$19,AA52,$AE$20)))","v":{"$error":"#REF!"}},{"$f":"IF(AB52<10,CONCATENATE($AE$19,\"00\",AB52,$AE$20),IF(AND(AB52>9,AB52<100),CONCATENATE($AE$19,\"0\",AB52,$AE$20),CONCATENATE($AE$19,AB52,$AE$20)))","v":{"$error":"#REF!"}},null,{"$f":"+AC48+1","v":{"$error":"#REF!"}},{"$f":"+X52+1","v":{"$error":"#REF!"}},{"$f":"+Y52+1","v":{"$error":"#REF!"}},{"$f":"+Z52+1","v":{"$error":"#REF!"}},{"$f":"+AA52+1","v":{"$error":"#REF!"}}]
[null,"Personas que completan tratamiento",null,null,null,{"$f":"SUM(G53:K53)","v":0},{"$f":"+GETPIVOTDATA(\" BAS094\",TABLAS!$A$355)","v":0},{"$f":"+GETPIVOTDATA(\" BAS095\",TABLAS!$A$355)","v":0},{"$f":"+GETPIVOTDATA(\" BAS096\",TABLAS!$A$355)","v":0},{"$f":"+GETPIVOTDATA(\" BAS097\",TABLAS!$A$355)","v":0},{"$f":"+GETPIVOTDATA(\" BAS098\",TABLAS!$A$355)","v":0},{"$f":"+GETPIVOTDATA(\" BAS099\",TABLAS!$A$355)","v":0},null,null,null,null,null,{"$f":"IF(X53<10,CONCATENATE($AE$19,\"00\",X53,$AE$20),IF(AND(X53>9,X53<100),CONCATENATE($AE$19,\"0\",X53,$AE$20),CONCATENATE($AE$19,X53,$AE$20)))","v":{"$error":"#REF!"}},{"$error":"#REF!"},{"$error":"#REF!"},{"$error":"#REF!"},{"$error":"#REF!"},{"$f":"IF(AC53<10,CONCATENATE($AE$19,\"00\",AC53,$AE$20),IF(AND(AC53>9,AC53<100),CONCATENATE($AE$19,\"0\",AC53,$AE$20),CONCATENATE($AE$19,AC53,$AE$20)))","v":{"$error":"#REF!"}},{"$f":"+AB52+1","v":{"$error":"#REF!"}},{"$f":"+X53+1","v":{"$error":"#REF!"}},{"$error":"#REF!"},{"$error":"#REF!"},{"$error":"#REF!"},{"$f":"+AB53+1","v":{"$error":"#REF!"}}]
[]
[null,"CONTROL DE BROTES"]
[null,"Actividad",null,null,null,"Nº"]
[null,"Brotes Notificados",null,null,null,{"$f":"+GETPIVOTDATA(\" BAS100\",TABLAS!$A$355)","v":0},null,null,null,null,null,null,null,null,null,null,null,{"$f":"IF(X57<10,CONCATENATE($AE$19,\"00\",X57,$AE$20),IF(AND(X57>9,X57<100),CONCATENATE($AE$19,\"0\",X57,$AE$20),CONCATENATE($AE$19,X57,$AE$20)))","v":{"$error":"#REF!"}},null,null,null,null,null,{"$f":"+AC53+1","v":{"$error":"#REF!"}}]
[null,"Brotes Investigados",null,null,null,{"$f":"+GETPIVOTDATA(\" BAS101\",TABLAS!$A$355)","v":0},null,null,null,null,null,null,null,null,null,null,null,{"$error":"#REF!"},null,null,null,null,null,{"$f":"+X57+1","v":{"$error":"#REF!"}}]
[null,"Brotes Controlados",null,null,null,{"$f":"+GETPIVOTDATA(\" BAS102\",TABLAS!$A$355)","v":0},null,null,null,null,null,null,null,null,null,null,null,{"$error":"#REF!"},null,null,null,null,null,{"$f":"+X58+1","v":{"$error":"#REF!"}}]

{"sheet":"CISTICERCOSIS","index":11,"n_rows":33,"n_cols":31,"rows_kept":33,"cut":false,"hidden":false,"merged":[[25,1,27,2],[25,4,27,4],[29,1,29,2],[30,1,32,2],[30,4,32,4],[16,1,16,2],[17,1,19,2],[17,4,19,4],[21,1,21,2],[22,1,24,2],[22,4,24,4],[9,9,9,10],[11,9,11,10],[13,9,13,11],[9,2,9,3],[9,5,9,6],[11,2,11,3],[11,5,11,6],[13,2,13,3],[0,1,0,11],[1,1,1,11],[2,1,2,11],[4,1,4,11],[7,2,7,3],[7,5,7,6],[7,9,7,10]]}
[null,"DIRECCION REGIONAL DE SALUD CUSCO"]
[null,"DIRECCION EJECUTIVA DE INTELIGENCIA SANITARIA"]
[null,"DIRECCION DE ESTADISTICA, INFORMATICA Y TELECOMUNICACION"]
[]
[null,"INFORME MENSUAL DE ACTIVIDADES DE CISTICERCOSIS"]
[]
[]
[null,"DIRESA/DISA","CUSCO",null,"PROVINCIA",{"$f":"TRIM(TABLAS!O12)","v":""},null,null,"MINSA"]
[]
[null,"RED",{"$f":"TRIM(TABLAS!O9)","v":"03 - LA CONVENCION"},null,"DISTRITO",{"$f":"TRIM(TABLAS!O13)","v":""},null,null,"ESSALUD"]
[]
[null,"MICRO RED",{"$f":"TRIM(TABLAS!O10)","v":""},null,"MES",{"$f":"TRIM(TABLAS!N26)","v":"ENE - NOV"},null,null,"SANIDAD FFAA-PNP"]
[]
[null,"ESTABLECIMIENTO",{"$f":"TRIM(TABLAS!O11)","v":""},null,"AÑO",{"$f":"TRIM(TABLAS!J16)","v":"2024"},null,null,"EJECUTORA",{"$f":"TRIM(TABLAS!O14)","v":""}]
[]
[]
[null,"ATENDIDOS ",null,"SEXO","META PROG.","Total","0-11a","12-17a","18-29a","30-59a","60 y más","Gestante",null,null,null,null,null,null,null,null,null,null,null,{"$f":"+GETPIVOTDATA(\" BAS001\",TABLAS!$A$386)","v":0}]
[null,"Pacientes atendidos por Sospecha de Cisticercosis",null,"T",null,{"$f":"SUM(G18:K18)","v":0},{"$f":"SUM(G19:G20)","v":0},{"$f":"SUM(H19:H20)","v":0},0,0,0,0]
[null,null,null,"M",null,{"$f":"SUM(G19:K19)","v":0},{"$f":"+GETPIVOTDATA(\" BAS001\",TABLAS!$A$386)","v":0},{"$f":"+GETPIVOTDATA(\" BAS002\",TABLAS!$A$386)","v":0},{"$f":"+GETPIVOTDATA(\" BAS003\",TABLAS!$A$386)","v":0},{"$f":"+GETPIVOTDATA(\" BAS004\",TABLAS!$A$386)","v":0},{"$f":"+GETPIVOTDATA(\" BAS005\",TABLAS!$A$386)","v":0},null,null,null,null,null,null,{"$f":"IF(X19<10,CONCATENATE($AE$19,\"00\",X19,$AE$20),IF(AND(X19>9,X19<100),CONCATENATE($AE$19,\"0\",X19,$AE$20),CONCATENATE($AE$19,X19,$AE$20)))","v":"=+IMPORTARDATOSDINAMICOS(\" BAS001\";TABLAS!$A$355)"},{"$f":"IF(Y19<10,CONCATENATE($AE$19,\"00\",Y19,$AE$20),IF(AND(Y19>9,Y19<100),CONCATENATE($AE$19,\"0\",Y19,$AE$20),CONCATENATE($AE$19,Y19,$AE$20)))","v":"=+IMPORTARDATOSDINAMICOS(\" BAS002\";TABLAS!$A$355)"},"=+IMPORTARDATOSDINAMICOS(\" BAS003\";TABLAS!$A$355)","=+IMPORTARDATOSDINAMICOS(\" BAS004\";TABLAS!$A$355)","=+IMPORTARDATOSDINAMICOS(\" BAS005\";TABLAS!$A$355)",null,1,{"$f":"+X19+1","v":2},{"$f":"+Y19+1","v":3},4,5,null,null,"=+IMPORTARDATOSDINAMICOS(\" BAS"]
[null,null,null,"F",null,{"$f":"SUM(G20:K20)","v":0},{"$f":"+GETPIVOTDATA(\" BAS006\",TABLAS!$A$386)","v":0},{"$f":"+GETPIVOTDATA(\" BAS007\",TABLAS!$A$386)","v":0},{"$f":"+GETPIVOTDATA(\" BAS008\",TABLAS!$A$386)","v":0},{"$f":"+GETPIVOTDATA(\" BAS009\",TABLAS!$A$386)","v":0},{"$f":"+GETPIVOTDATA(\" BAS010\",TABLAS!$A$386)","v":0},{"$f":"+GETPIVOTDATA(\" BAS011\",TABLAS!$A$386)","v":0},null,null,null,null,null,{"$f":"IF(X20<10,CONCATENATE($AE$19,\"00\",X20,$AE$20),IF(AND(X20>9,X20<100),CONCATENATE($AE$19,\"0\",X20,$AE$20),CONCATENATE($AE$19,X20,$AE$20)))","v":"=+IMPORTARDATOSDINAMICOS(\" BAS006\";TABLAS!$A$355)"},"=+IMPORTARDATOSDINAMICOS(\" BAS007\";TABLAS!$A$355)","=+IMPORTARDATOSDINAMICOS(\" BAS008\";TABLAS!$A$355)","=+IMPORTARDATOSDINAMICOS(\" BAS009\";TABLAS!$A$355)","=+IMPORTARDATOSDINAMICOS(\" BAS010\";TABLAS!$A$355)","=+IMPORTARDATOSDINAMICOS(\" BAS011\";TABLAS!$A$355)",{"$f":"+AB19+1","v":6},{"$f":"+X20+1","v":7},8,9,10,{"$f":"+AB20+1","v":11},null,"\";TABLAS!$A$355)"]
[]
[null,"DIAGNOSTICO",null,"SEXO","META PROG.","Total"]
[null,"Cisticercosis probable",null,"T",null,{"$f":"SUM(G23:K23)","v":0}]
[null,null,null,"M",null,{"$f":"SUM(G24:K24)","v":0},{"$f":"+GETPIVOTDATA(\" BAS012\",TABLAS!$A$386)","v":0},{"$f":"+GETPIVOTDATA(\" BAS013\",TABLAS!$A$386)","v":0},{"$f":"+GETPIVOTDATA(\" BAS014\",TABLAS!$A$386)","v":0},{"$f":"+GETPIVOTDATA(\" BAS015\",TABLAS!$A$386)","v":0},{"$f":"+GETPIVOTDATA(\" BAS016\",TABLAS!$A$386)","v":0},null,null,null,null,null,null,{"$f":"IF(X24<10,CONCATENATE($AE$19,\"00\",X24,$AE$20),IF(AND(X24>9,X24<100),CONCATENATE($AE$19,\"0\",X24,$AE$20),CONCATENATE($AE$19,X24,$AE$20)))","v":"=+IMPORTARDATOSDINAMICOS(\" BAS012\";TABLAS!$A$355)"},{"$f":"IF(Y24<10,CONCATENATE($AE$19,\"00\",Y24,$AE$20),IF(AND(Y24>9,Y24<100),CONCATENATE($AE$19,\"0\",Y24,$AE$20),CONCATENATE($AE$19,Y24,$AE$20)))","v":"=+IMPORTARDATOSDINAMICOS(\" BAS013\";TABLAS!$A$355)"},{"$f":"IF(Z24<10,CONCATENATE($AE$19,\"00\",Z24,$AE$20),IF(AND(Z24>9,Z24<100),CONCATENATE($AE$19,\"0\",Z24,$AE$20),CONCATENATE($AE$19,Z24,$AE$20)))","v":"=+IMPORTARDATOSDINAMICOS(\" BAS014\";TABLAS!$A$355)"},{"$f":"IF(AA24<10,CONCATENATE($AE$19,\"00\",AA24,$AE$20),IF(AND(AA24>9,AA24<100),CONCATENATE($AE$19,\"0\",AA24,$AE$20),CONCATENATE($AE$19,AA24,$AE$20)))","v":"=+IMPORTARDATOSDINAMICOS(\" BAS015\";TABLAS!$A$355)"},{"$f":"IF(AB24<10,CONCATENATE($AE$19,\"00\",AB24,$AE$20),IF(AND(AB24>9,AB24<100),CONCATENATE($AE$19,\"0\",AB24,$AE$20),CONCATENATE($AE$19,AB24,$AE$20)))","v":"=+IMPORTARDATOSDINAMICOS(\" BAS016\";TABLAS!$A$355)"},null,{"$f":"+AC20+1","v":12},{"$f":"+X24+1","v":13},{"$f":"+Y24+1","v":14},{"$f":"+Z24+1","v":15},{"$f":"+AA24+1","v":16}]
[null,null,null,"F",null,{"$f":"SUM(G25:K25)","v":0},{"$f":"+GETPIVOTDATA(\" BAS017\",TABLAS!$A$386)","v":0},{"$f":"+GETPIVOTDATA(\" BAS018\",TABLAS!$A$386)","v":0},{"$f":"+GETPIVOTDATA(\" BAS019\",TABLAS!$A$386)","v":0},{"$f":"+GETPIVOTDATA(\" BAS020\",TABLAS!$A$386)","v":0},{"$f":"+GETPIVOTDATA(\" BAS021\",TABLAS!$A$386)","v":0},{"$f":"+GETPIVOTDATA(\" BAS022\",TABLAS!$A$386)","v":0},null,null,null,null,null,{"$f":"IF(X25<10,CONCATENATE($AE$19,\"00\",X25,$AE$20),IF(AND(X25>9,X25<100),CONCATENATE($AE$19,\"0\",X25,$AE$20),CONCATENATE($AE$19,X25,$AE$20)))","v":"=+IMPORTARDATOSDINAMICOS(\" BAS017\";TABLAS!$A$355)"},"=+IMPORTARDATOSDINAMICOS(\" BAS018\";TABLAS!$A$355)","=+IMPORTARDATOSDINAMICOS(\" BAS019\";TABLAS!$A$355)","=+IMPORTARDATOSDINAMICOS(\" BAS020\";TABLAS!$A$355)","=+IMPORTARDATOSDINAMICOS(\" BAS021\";TABLAS!$A$355)",{"$f":"IF(AC25<10,CONCATENATE($AE$19,\"00\",AC25,$AE$20),IF(AND(AC25>9,AC25<100),CONCATENATE($AE$19,\"0\",AC25,$AE$20),CONCATENATE($AE$19,AC25,$AE$20)))","v":"=+IMPORTARDATOSDINAMICOS(\" BAS022\";TABLAS!$A$355)"},{"$f":"+AB24+1","v":17},{"$f":"+X25+1","v":18},19,20,21,{"$f":"+AB25+1","v":22}]
[null,"Cisticercosis confirmada ",null,"T",null,0]
[null,null,null,"M",null,{"$f":"SUM(G27:K27)","v":0},{"$f":"+GETPIVOTDATA(\" BAS023\",TABLAS!$A$386)","v":0},{"$f":"+GETPIVOTDATA(\" BAS024\",TABLAS!$A$386)","v":0},{"$f":"+GETPIVOTDATA(\" BAS025\",TABLAS!$A$386)","v":0},{"$f":"+GETPIVOTDATA(\" BAS026\",TABLAS!$A$386)","v":0},{"$f":"+GETPIVOTDATA(\" BAS027\",TABLAS!$A$386)","v":0},null,null,null,null,null,null,{"$f":"IF(X27<10,CONCATENATE($AE$19,\"00\",X27,$AE$20),IF(AND(X27>9,X27<100),CONCATENATE($AE$19,\"0\",X27,$AE$20),CONCATENATE($AE$19,X27,$AE$20)))","v":"=+IMPORTARDATOSDINAMICOS(\" BAS023\";TABLAS!$A$355)"},{"$f":"IF(Y27<10,CONCATENATE($AE$19,\"00\",Y27,$AE$20),IF(AND(Y27>9,Y27<100),CONCATENATE($AE$19,\"0\",Y27,$AE$20),CONCATENATE($AE$19,Y27,$AE$20)))","v":"=+IMPORTARDATOSDINAMICOS(\" BAS024\";TABLAS!$A$355)"},{"$f":"IF(Z27<10,CONCATENATE($AE$19,\"00\",Z27,$AE$20),IF(AND(Z27>9,Z27<100),CONCATENATE($AE$19,\"0\",Z27,$AE$20),CONCATENATE($AE$19,Z27,$AE$20)))","v":"=+IMPORTARDATOSDINAMICOS(\" BAS025\";TABLAS!$A$355)"},{"$f":"IF(AA27<10,CONCATENATE($AE$19,\"00\",AA27,$AE$20),IF(AND(AA27>9,AA27<100),CONCATENATE($AE$19,\"0\",AA27,$AE$20),CONCATENATE($AE$19,AA27,$AE$20)))","v":"=+IMPORTARDATOSDINAMICOS(\" BAS026\";TABLAS!$A$355)"},{"$f":"IF(AB27<10,CONCATENATE($AE$19,\"00\",AB27,$AE$20),IF(AND(AB27>9,AB27<100),CONCATENATE($AE$19,\"0\",AB27,$AE$20),CONCATENATE($AE$19,AB27,$AE$20)))","v":"=+IMPORTARDATOSDINAMICOS(\" BAS027\";TABLAS!$A$355)"},null,{"$f":"+AC25+1","v":23},{"$f":"+X27+1","v":24},{"$f":"+Y27+1","v":25},{"$f":"+Z27+1","v":26},{"$f":"+AA27+1","v":27}]
[null,null,null,"F",null,{"$f":"SUM(G28:K28)","v":0},{"$f":"+GETPIVOTDATA(\" BAS028\",TABLAS!$A$386)","v":0},{"$f":"+GETPIVOTDATA(\" BAS029\",TABLAS!$A$386)","v":0},{"$f":"+GETPIVOTDATA(\" BAS030\",TABLAS!$A$386)","v":0},{"$f":"+GETPIVOTDATA(\" BAS031\",TABLAS!$A$386)","v":0},{"$f":"+GETPIVOTDATA(\" BAS032\",TABLAS!$A$386)","v":0},{"$f":"+GETPIVOTDATA(\" BAS033\",TABLAS!$A$386)","v":0},null,null,null,null,null,{"$f":"IF(X28<10,CONCATENATE($AE$19,\"00\",X28,$AE$20),IF(AND(X28>9,X28<100),CONCATENATE($AE$19,\"0\",X28,$AE$20),CONCATENATE($AE$19,X28,$AE$20)))","v":"=+IMPORTARDATOSDINAMICOS(\" BAS028\";TABLAS!$A$355)"},"=+IMPORTARDATOSDINAMICOS(\" BAS029\";TABLAS!$A$355)","=+IMPORTARDATOSDINAMICOS(\" BAS030\";TABLAS!$A$355)","=+IMPORTARDATOSDINAMICOS(\" BAS031\";TABLAS!$A$355)","=+IMPORTARDATOSDINAMICOS(\" BAS032\";TABLAS!$A$355)",{"$f":"IF(AC28<10,CONCATENATE($AE$19,\"00\",AC28,$AE$20),IF(AND(AC28>9,AC28<100),CONCATENATE($AE$19,\"0\",AC28,$AE$20),CONCATENATE($AE$19,AC28,$AE$20)))","v":"=+IMPORTARDATOSDINAMICOS(\" BAS033\";TABLAS!$A$355)"},{"$f":"+AB27+1","v":28},{"$f":"+X28+1","v":29},30,31,32,{"$f":"+AB28+1","v":33}]
[]
[null,"TRATAMIENTO",null,"SEXO","META PROG.","Total"]
[null,"Farmacológico",null,"T",null,{"$f":"SUM(G31:K31)","v":0}]
[null,null,null,"M",null,{"$f":"SUM(G32:K32)","v":0},{"$f":"+GETPIVOTDATA(\" BAS034\",TABLAS!$A$386)","v":0},{"$f":"+GETPIVOTDATA(\" BAS035\",TABLAS!$A$386)","v":0},{"$f":"+GETPIVOTDATA(\" BAS036\",TABLAS!$A$386)","v":0},{"$f":"+GETPIVOTDATA(\" BAS037\",TABLAS!$A$386)","v":0},{"$f":"+GETPIVOTDATA(\" BAS038\",TABLAS!$A$386)","v":0},null,null,null,null,null,null,{"$f":"IF(X32<10,CONCATENATE($AE$19,\"00\",X32,$AE$20),IF(AND(X32>9,X32<100),CONCATENATE($AE$19,\"0\",X32,$AE$20),CONCATENATE($AE$19,X32,$AE$20)))","v":"=+IMPORTARDATOSDINAMICOS(\" BAS034\";TABLAS!$A$355)"},{"$f":"IF(Y32<10,CONCATENATE($AE$19,\"00\",Y32,$AE$20),IF(AND(Y32>9,Y32<100),CONCATENATE($AE$19,\"0\",Y32,$AE$20),CONCATENATE($AE$19,Y32,$AE$20)))","v":"=+IMPORTARDATOSDINAMICOS(\" BAS035\";TABLAS!$A$355)"},{"$f":"IF(Z32<10,CONCATENATE($AE$19,\"00\",Z32,$AE$20),IF(AND(Z32>9,Z32<100),CONCATENATE($AE$19,\"0\",Z32,$AE$20),CONCATENATE($AE$19,Z32,$AE$20)))","v":"=+IMPORTARDATOSDINAMICOS(\" BAS036\";TABLAS!$A$355)"},{"$f":"IF(AA32<10,CONCATENATE($AE$19,\"00\",AA32,$AE$20),IF(AND(AA32>9,AA32<100),CONCATENATE($AE$19,\"0\",AA32,$AE$20),CONCATENATE($AE$19,AA32,$AE$20)))","v":"=+IMPORTARDATOSDINAMICOS(\" BAS037\";TABLAS!$A$355)"},{"$f":"IF(AB32<10,CONCATENATE($AE$19,\"00\",AB32,$AE$20),IF(AND(AB32>9,AB32<100),CONCATENATE($AE$19,\"0\",AB32,$AE$20),CONCATENATE($AE$19,AB32,$AE$20)))","v":"=+IMPORTARDATOSDINAMICOS(\" BAS038\";TABLAS!$A$355)"},null,{"$f":"+AC28+1","v":34},{"$f":"+X32+1","v":35},{"$f":"+Y32+1","v":36},{"$f":"+Z32+1","v":37},{"$f":"+AA32+1","v":38}]
[null,null,null,"F",null,{"$f":"SUM(G33:K33)","v":0},{"$f":"+GETPIVOTDATA(\" BAS039\",TABLAS!$A$386)","v":0},{"$f":"+GETPIVOTDATA(\" BAS040\",TABLAS!$A$386)","v":0},{"$f":"+GETPIVOTDATA(\" BAS041\",TABLAS!$A$386)","v":0},{"$f":"+GETPIVOTDATA(\" BAS042\",TABLAS!$A$386)","v":0},{"$f":"+GETPIVOTDATA(\" BAS043\",TABLAS!$A$386)","v":0},{"$f":"+GETPIVOTDATA(\" BAS044\",TABLAS!$A$386)","v":0},null,null,null,null,null,{"$f":"IF(X33<10,CONCATENATE($AE$19,\"00\",X33,$AE$20),IF(AND(X33>9,X33<100),CONCATENATE($AE$19,\"0\",X33,$AE$20),CONCATENATE($AE$19,X33,$AE$20)))","v":"=+IMPORTARDATOSDINAMICOS(\" BAS039\";TABLAS!$A$355)"},"=+IMPORTARDATOSDINAMICOS(\" BAS040\";TABLAS!$A$355)","=+IMPORTARDATOSDINAMICOS(\" BAS041\";TABLAS!$A$355)","=+IMPORTARDATOSDINAMICOS(\" BAS042\";TABLAS!$A$355)","=+IMPORTARDATOSDINAMICOS(\" BAS043\";TABLAS!$A$355)",{"$f":"IF(AC33<10,CONCATENATE($AE$19,\"00\",AC33,$AE$20),IF(AND(AC33>9,AC33<100),CONCATENATE($AE$19,\"0\",AC33,$AE$20),CONCATENATE($AE$19,AC33,$AE$20)))","v":"=+IMPORTARDATOSDINAMICOS(\" BAS044\";TABLAS!$A$355)"},{"$f":"+AB32+1","v":39},{"$f":"+X33+1","v":40},41,42,43,{"$f":"+AB33+1","v":44}]

{"sheet":"PESTE","index":12,"n_rows":73,"n_cols":10,"rows_kept":73,"cut":false,"hidden":true,"merged":[[31,1,31,2],[3,1,3,9],[25,1,25,2],[26,1,26,2],[27,1,27,2],[30,1,30,2],[67,1,67,4],[32,1,32,2],[48,1,48,4],[51,1,52,1],[51,2,51,3],[51,4,51,5],[58,1,58,4]]}
[]
[]
[]
[null,"INFORME MENSUAL DE ACTIVIDADES DE CONTROL DE PESTE"]
[]
[null,"DIRESA/DISA",null,null,null,null,"MINSA"]
[]
[null,"ESTABLECIMIENTO",null,null,null,null,"ESSALUD"]
[]
[null,"MES",null,null,null,null,"SANIDAD FFAA-PNP"]
[]
[null,"AÑO",null,null,null,null,"OTRA"]
[]
[]
[]
[]
[null,"Diagnóstico","SEXO","Total","0-11a","12-17a","18-29a","30-59a","60 y más","Gestante"]
[1,"Casos probables de Peste ","T"]
[null,null,"M"]
[null,null,"F"]
[2,"Contactos atendidos","T"]
[null,null,"M"]
[null,null,"F"]
[]
[null,"ADMINISTRACIÓN DE TRATAMIENTO EN CASOS"]
[null,"Tratamiento",null,"Total","0-11a","12-17a","18-29a","30-59a","60 y más","Gestante"]
[3,"Personas que inician tratamiento"]
[4,"Personas que completan tratamiento"]
[]
[null,"ADMINISTRACIÓN DE TRATAMIENTO EN CONTACTOS"]
[null,"Tratamiento",null,"Total","0-11a","12-17a","18-29a","30-59a","60 y más","Gestante"]
[5,"Personas que inician tratamiento"]
[6,"Personas que completan tratamiento"]
[]
[null,"CASOS CONFIRMADOS"]
[null,"Diagnósticos humanos ","SEXO","Total","0-11a","12-17a","18-29a","30-59a","60 y más","Gestante"]
[null,"Casos confirmados por laboratorio:","T"]
[null,null,"M"]
[null,null,"F"]
[7,"Positivo","T"]
[null,null,"M"]
[null,null,"F"]
[8,"Negativo","T"]
[null,null,"M"]
[null,null,"F"]
[]
[]
[]
[]
[]
[null,"MUESTRAS",1,2,3]
[null,"Tipo de muestra ","Nº  Muestras",null,"RESULTADOS"]
[null,null,"Remitidas","Procesadas","Positivos","Negativos"]
[1,"Humano ","SUMAR LAB1 DE APP100+DX1=U2141+(U0094+LAB=MR)","SUMAR LAB1 DE APP100+DX1=U2141+(U0094+LAB=MT)","SUMAR LAB1 DE APP100+DX1=U2141+(U0094+LAB=RP)"]
[2,"Perro","SUMAR LAB1 DE AAA04+DX1=U6090+(U0094+LAB=MR)","SUMAR LAB1 DE AAA04+DX1=U6090+(U0094+LAB=MT)","SUMAR LAB1 DE AAA04+DX1=U6094+(U0094)"]
[3,"Roedores","SUMAR LAB1 DE AAA08+DX1=U6090+(U0094+LAB=MR)","SUMAR LAB1 DE AAA08+DX1=U6090+(U0094+LAB=MT)","SUMAR LAB1 DE AAA08+DX1=U6094+(U0094)"]
[4,"Pulgas","SUMAR LAB1 DE AAA06+DX1=U6093+(U0094+LAB=MR)","SUMAR LAB1 DE AAA06+DX1=U6093+(U0094+LAB=MT)","SUMAR LAB1 DE AAA06+DX1=U6094+(U0094)"]
[]
[null,"usp_TRAMA_BASE_ZOONOSIS_PESTE_RPT03"]
[]
[null,"VIVIENDAS TRATADAS"]
[null,"Actividad","Nº"]
[13,"Viviendas tratadas","SUMAR LAB DE U2272 EN APP98 + U2272 + U0094"]
[14,"Población protegida","SUMAR LAB2 DE U0094 EN APP98 + U2272 + U0094"]
[15,"Localidades Atendidas","SUMAR LAB DE U0094 EN APP98 + U2272 + U0094"]
[]
[]
[null,"usp_TRAMA_BASE_ZOONOSIS_PESTE_RPT04"]
[null,"CONTROL DE BROTES"]
[null,"Actividad","Nº"]
[16,"Brotes Notificados","SUMAR LAB DE U0094 EN APP108+(U244+LAB=NOT)+U0094"]
[17,"Brotes Investigados","SUMAR LAB DE U0094 EN APP108+(U244+LAB=INT)+U0094"]
[18,"Brotes Controlados","SUMAR LAB DE U0094 EN APP108+(U244+LAB=CC)+U0094"]