{"text_format":"1","workbook":"xlsx","n_sheets":5,"sheets":["MENU","Datos","TABLAS","ITSVIH","Instructivo"],"not_rendered":{"charts":0,"images":32,"macros":1,"external_links":0,"defined_names":4,"comments":2,"pivot_tables":15},"unopened":[],"bounds":{"document_bytes":16777216,"sheet_cells":100000,"rows_first":2000,"rows_last":500,"rows_between":2000,"halvings":0,"cell_chars":16384,"cell_head_chars":4096},"cells_cut":0,"cells_raw":0,"read":"whole","date_system":"1900"}

{"sheet":"MENU","index":0,"n_rows":30,"n_cols":12,"rows_kept":30,"cut":false,"hidden":false,"merged":[[28,7,29,10],[26,7,27,10]]}
[]
[]
[]
[null,null,null,null,null,null,null,null,null,null,null,{"$f":"+TABLAS!A95","v":"2-3-1-4-5-6-8-7-9-10-11-T"}]
[null,null,null,null,null,null,null,null,null,null,null,{"$f":"+TABLAS!A129","v":"2-3-1-5-4-6-8-7-9-10-11-T"}]
[null,null,null,null,null,null,null,null,null,null,null,{"$f":"+TABLAS!A163","v":"2-3-1-5-4-6-7-8-9-10-11-T"}]
[null,null,null,null,null,null,null,null,null,null,null,{"$f":"+TABLAS!A198","v":"8-7-6-3-1-5-2-4-9-10-11-T"}]
[null,null,null,null,null,null,null,null,null,null,null,{"$f":"+TABLAS!A233","v":"2-1-3-5-4-6-7-8-9-10-11-T"}]
[null,null,null,null,null,null,null,null,null,null,null,{"$f":"+TABLAS!A268","v":"2-3-1-5-4-6-7-8-9-10-11-T"}]
[null,null,null,null,null,null,null,null,null,null,null,{"$f":"+TABLAS!A298","v":"2-1-3-5-4-6-8-7-9-10-11-T"}]
[null,null,null,null,null,null,null,null,null,null,null,{"$f":"+TABLAS!A328","v":"2-1-3-5-4-6-8-7-9-10-11-T"}]
[null,null,null,null,null,null,null,null,null,null,null,{"$f":"+TABLAS!A358","v":"2-3-1-5-4-6-7-8-9-10-11-T"}]
[null,null,null,null,null,null,null,null,null,null,null,{"$f":"+TABLAS!A389","v":"2-1-3-5-4-6-7-8-9-10-11-T"}]
[null,null,null,null,null,null,null,null,null,null,null,{"$f":"+TABLAS!A419","v":"2-3-1-4-5-6-7-8-9-10-11-T"}]
[null,null,null,null,null,null,null,null,null,null,null,{"$f":"+TABLAS!A450","v":"2-1-3-4-5-6-7-8-9-10-11-T"}]
[null,null,null,null,null,null,null,null,null,null,null,{"$f":"+TABLAS!A480","v":"2-3-1-4-5-6-7-8-9-10-11-T"}]
[null,null,null,null,null,null,null,null,null,null,null,{"$f":"+TABLAS!A512","v":"2-3-1-4-5-6-7-8-9-10-11-T"}]
[null,null,null,null,null,null,null,null,null,null,null,{"$f":"+TABLAS!A542","v":"2-3-1-4-5-6-7-8-9-10-11-T"}]
[]
[]
[]
[]
[]
[]
[]
[]
[null,null,null,null,null,null,null,"CONTROL DE MESES"]
[]
[null,null,null,null,null,null,null,{"$f":"+TABLAS!A95","v":"2-3-1-4-5-6-8-7-9-10-11-T"}]
[null,null,{"$f":"+ITSVIH!J15","v":"__ENE_NOV_2024"}]

{"sheet":"Datos","index":1,"n_rows":444,"n_cols":32,"rows_kept":444,"cut":false,"hidden":true,"merged":[]}
[]
[]
[]
[]
[]
[]
[]
[]
[null,"ANO",null,"MESES",null,"COD_RED","DESC_RED","CONCATENAR",null,"COD_RED","COD_MIC","DESC_MICRO","CONCATENAR",null,"COD_ESTAB","DESC_ESTAB","COD_RED","COD_MIC","COD_PROV","COD_DIST","REDMIC","CONCATENAR",null,"COD_PROV","DESC_PROV","CONCATENAR",null,"COD_PROV","COD_DIST","DESC_DIST","PROVDIST","CONCATENAR"]
[null,2024,null,"01-Enero",null,"00","NO TIENE ASIGNADO NINGUNA RED",{"$f":"CONCATENATE(F10,\" - \",G10)","v":"00 - NO TIENE ASIGNADO NINGUNA RED"},null,"00","00","NO PERTENECE A NINGUNA MICRORED                                                                     ",{"$f":"CONCATENATE(J10,K10,\" - \",L10)","v":"0000 - NO PERTENECE A NINGUNA MICRORED                                                                     "},null,"000000000","(All)","00","00",null,null,{"$f":"CONCATENATE(Q10,R10)","v":"0000"},{"$f":"CONCATENATE(O10,\" - \",P10)","v":"000000000 - (All)"},null,"00","(All)",{"$f":"CONCATENATE(X10,\" - \",Y10)","v":"00 - (All)"},null,"01","00","(All)",{"$f":"CONCATENATE(AB10,AC10)","v":"0100"},{"$f":"CONCATENATE(AB10,AC10,\" - \",AD10)","v":"0100 - (All)"}]
[null,null,null,"02-Febrero",null,"01","CUSCO SUR",{"$f":"CONCATENATE(F11,\" - \",G11)","v":"01 - CUSCO SUR"},null,"00","99","(All)","0099 - (All)",null,"000028190","SAMUE CUSCO","00","00","01","01",{"$f":"CONCATENATE(Q11,R11)","v":"0000"},{"$f":"CONCATENATE(O11,\" - \",P11)","v":"000028190 - SAMUE CUSCO"},null,"01","CUSCO",{"$f":"CONCATENATE(X11,\" - \",Y11)","v":"01 - CUSCO"},null,"01","01","CUSCO",{"$f":"CONCATENATE(AB11,AC11)","v":"0101"},{"$f":"CONCATENATE(AB11,AC11,\" - \",AD11)","v":"0101 - CUSCO"}]
[null,null,null,"03-Marzo",null,"02","CUSCO NORTE","02 - CUSCO NORTE",null,"01","00","NO PERTENECE A NINGUNA MICRORED                                                                     ","0100 - NO PERTENECE A NINGUNA MICRORED                                                                     ",null,"000002289","HOSPITAL DE APOYO DEPARTAMENTAL CUSCO","00","00","01","01","0000","000002289 - HOSPITAL DE APOYO DEPARTAMENTAL CUSCO",null,"02","ACOMAYO",{"$f":"CONCATENATE(X12,\" - \",Y12)","v":"02 - ACOMAYO"},null,"01","02","CCORCA","0102","0102 - CCORCA"]
[null,null,null,"04-Abril",null,"03","LA CONVENCION","03 - LA CONVENCION",null,"01","16","CUSCO                                                                                               ","0116 - CUSCO                                                                                               ",null,"000002305","ANTONIO LORENA DEL CUSCO","00","00","01","06","0000","000002305 - ANTONIO LORENA DEL CUSCO",null,"03","ANTA","03 - ANTA",null,"01","03","POROY","0103","0103 - POROY"]
[null,null,null,"05-Mayo",null,"04","CANAS-CANCHIS-ESPINAR","04 - CANAS-CANCHIS-ESPINAR",null,"01","03","PARURO                                                                                              ","0103 - PARURO                                                                                              ",null,"999999999","(All)","00","99",null,null,"0099","999999999 - (All)",null,"04","CALCA","04 - CALCA",null,"01","04","SAN JERONIMO","0104","0104 - SAN JERONIMO"]
[null,null,null,"06-Junio",null,"05","KIMBIRI PICHARI","05 - KIMBIRI PICHARI",null,"01","06","PAUCARTAMBO                                                                                         ","0106 - PAUCARTAMBO                                                                                         ",null,"000025210","TUPAC AMARU","01","00","01","05","0100","000025210 - TUPAC AMARU",null,"05","CANAS","05 - CANAS",null,"01","05","SAN SEBASTIAN","0105","0105 - SAN SEBASTIAN"]
[null,null,null,"07-Julio",null,"06","CHUMBIVILCAS","06 - CHUMBIVILCAS",null,"01","12","URCOS                                                                                               ","0112 - URCOS                                                                                               ",null,"000000000","(All)","01","03",null,null,"0103","000000000 - (All)",null,"06","CANCHIS","06 - CANCHIS",null,"01","06","SANTIAGO","0106","0106 - SANTIAGO"]
[null,null,null,"08-Agosto",null,"99","(All)","99 - (All)",null,"01","13","ACOMAYO                                                                                             ","0113 - ACOMAYO                                                                                             ",null,"000002499","PARURO","01","03","10","01","0103","000002499 - PARURO",null,"07","CHUMBIVILCAS","07 - CHUMBIVILCAS",null,"01","07","SAYLLA","0107","0107 - SAYLLA"]
[null,null,null,"09-Setiembre",null,null,null,null,null,"01","15","OCONGATE                                                                                            ","0115 - OCONGATE                                                                                            ",null,"000002500","ACCHA","01","03","10","02","0103","000002500 - ACCHA",null,"08","ESPINAR","08 - ESPINAR",null,"01","08","WANCHAQ","0108","0108 - WANCHAQ"]
[null,null,null,"10-Octubre",null,null,null,null,null,"01","99","(All)","0199 - (All)",null,"000002501","CCAPI","01","03","10","03","0103","000002501 - CCAPI",null,"09","LA CONVENCION","09 - LA CONVENCION",null,"02","00","(All)","0200","0200 - (All)"]
[null,null,null,"11-Noviembre",null,"EJECUTORAS",null,null,null,"02","01","BELEMPAMPA                                                                                          ","0201 - BELEMPAMPA                                                                                          ",null,"000002502","CCOYABAMBA","01","03","10","03","0103","000002502 - CCOYABAMBA",null,"10","PARURO","10 - PARURO",null,"02","01","ACOMAYO","0201","0201 - ACOMAYO"]
[null,null,null,"12-Diciembre",null,"COD_RED","DESC_RED","CONCATENAR",null,"02","02","WANCHAQ                                                                                             ","0202 - WANCHAQ                                                                                             ",null,"000002503","COLCHA","01","03","10","04","0103","000002503 - COLCHA",null,"11","PAUCARTAMBO","11 - PAUCARTAMBO",null,"02","02","ACOPIA","0202","0202 - ACOPIA"]
[null,null,null,null,null,"01","HOSPITAL REGIONAL CUSCO",{"$f":"CONCATENATE(F22,\" - \",G22)","v":"01 - HOSPITAL REGIONAL CUSCO"},null,"02","03","ANTA                                                                                                ","0203 - ANTA                                                                                                ",null,"000002504","HUANOQUITE","01","03","10","05","0103","000002504 - HUANOQUITE",null,"12","QUISPICANCHI","12 - QUISPICANCHI",null,"02","03","ACOS","0203","0203 - ACOS"]
[null,null,null,null,null,"02","HOSPITAL ANTONIO LORENA",{"$f":"CONCATENATE(F23,\" - \",G23)","v":"02 - HOSPITAL ANTONIO LORENA"},null,"02","04","LIMATAMBO                                                                                           ","0204 - LIMATAMBO                                                                                           ",null,"000002505","OMACHA","01","03","10","06","0103","000002505 - OMACHA",null,"13","URUBAMBA","13 - URUBAMBA",null,"02","04","MOSOC LLACTA","0204","0204 - MOSOC LLACTA"]
[null,null,null,null,null,"03","CUSCO NORTE","03 - CUSCO NORTE",null,"02","05","PISAC                                                                                               ","0205 - PISAC                                                                                               ",null,"000002506","ANTAPALLPA","01","03","10","06","0103","000002506 - ANTAPALLPA",null,null,null,null,null,"02","05","POMACANCHI","0205","0205 - POMACANCHI"]
[null,null,null,null,null,"04","CUSCO SUR","04 - CUSCO SUR",null,"02","06","CALCA                                                                                               ","0206 - CALCA                                                                                               ",null,"000002507","PACCARECTAMBO","01","03","10","07","0103","000002507 - PACCARECTAMBO",null,null,null,null,null,"02","06","RONDOCAN","0206","0206 - RONDOCAN"]
[null,null,null,null,null,"05","LA CONVENCION","05 - LA CONVENCION",null,"02","07","URUBAMBA                                                                                            ","0207 - URUBAMBA                                                                                            ",null,"000002509","YAURISQUE","01","03","10","09","0103","000002509 - YAURISQUE",null,null,null,null,null,"02","07","SANGARARA","0207","0207 - SANGARARA"]
[null,null,null,null,null,"06","HOSPITAL QUILLABAMBA","06 - HOSPITAL QUILLABAMBA",null,"02","08","YANATILE                                                                                            ","0208 - YANATILE                                                                                            ",null,"000006978","CCOCHIRIHUAY","01","03","10","04","0103","000006978 - CCOCHIRIHUAY",null,null,null,null,null,"03","00","(All)","0300","0300 - (All)"]
[null,null,null,null,null,"07","CANAS CANCHIS ESPINAR","07 - CANAS CANCHIS ESPINAR",null,"02","09","SIETE CUARTONES                                                                                     ","0209 - SIETE CUARTONES                                                                                     ",null,"000007147","PUESTO DE SALUD DE HUASQUILLAY","01","03","10","06","0103","000007147 - PUESTO DE SALUD DE HUASQUILLAY",null,null,null,null,null,"03","01","ANTA","0301","0301 - ANTA"]
[null,null,null,null,null,"08","HOSPITAL SICUANI","08 - HOSPITAL SICUANI",null,"02","99","(All)","0299 - (All)",null,"000012924","SAHUA SAHUA","01","03","10","06","0103","000012924 - SAHUA SAHUA",null,null,null,null,null,"03","02","ANCAHUASI","0302","0302 - ANCAHUASI"]
[null,null,null,null,null,"09","HOSPITAL ESPINAR","09 - HOSPITAL ESPINAR",null,"03","00","NO PERTENECE A NINGUNA MICRORED                                                                     ","0300 - NO PERTENECE A NINGUNA MICRORED                                                                     ",null,"000000000","(All)","01","06",null,null,"0106","000000000 - (All)",null,null,null,null,null,"03","03","CACHIMAYO","0303","0303 - CACHIMAYO"]
[null,null,null,null,null,"10","KIMBIRI PICHARI","10 - KIMBIRI PICHARI",null,"03","01","SANTA ANA                                                                                           ","0301 - SANTA ANA                                                                                           ",null,"000002510","PAUCARTAMBO","01","06","11","01","0106","000002510 - PAUCARTAMBO",null,null,null,null,null,"03","04","CHINCHAYPUJIO","0304","0304 - CHINCHAYPUJIO"]
[null,null,null,null,null,"11","CHUMBIVILCAS","11 - CHUMBIVILCAS",null,"03","02","MARANURA                                                                                            ","0302 - MARANURA                                                                                            ",null,"000002511","MOLLOMARCA","01","06","11","01","0106","000002511 - MOLLOMARCA",null,null,null,null,null,"03","05","HUAROCONDO","0305","0305 - HUAROCONDO"]
[null,null,null,null,null,"99","(ALL)",{"$f":"CONCATENATE(F33,\" - \",G33)","v":"99 - (ALL)"},null,"03","03","QUELLOUNO                                                                                           ","0303 - QUELLOUNO                                                                                           ",null,"000002512","CAICAY","01","06","11","02","0106","000002512 - CAICAY",null,null,null,null,null,"03","06","LIMATAMBO","0306","0306 - LIMATAMBO"]
[null,null,null,null,null,null,null,null,null,"03","04","KITENI                                                                                              ","0304 - KITENI                                                                                              ",null,"000002513","HUASAC","01","06","11","02","0106","000002513 - HUASAC",null,null,null,null,null,"03","07","MOLLEPATA","0307","0307 - MOLLEPATA"]
[null,null,null,null,null,null,null,null,null,"03","05","KAMISEA                                                                                             ","0305 - KAMISEA                                                                                             ",null,"000002514","CHALLABAMBA","01","06","11","03","0106","000002514 - CHALLABAMBA",null,null,null,null,null,"03","08","PUCYURA","0308","0308 - PUCYURA"]
[null,null,null,null,null,null,null,null,null,"03","06","PUCYURA                                                                                             ","0306 - PUCYURA                                                                                             ",null,"000002516","COLQUEPATA","01","06","11","04","0106","000002516 - COLQUEPATA",null,null,null,null,null,"03","09","ZURITE","0309","0309 - ZURITE"]
[null,null,null,null,null,null,null,null,null,"03","07","PALMA REAL","0307 - PALMA REAL",null,"000002517","PICHIHUA COLQUEPATA","01","06","11","04","0106","000002517 - PICHIHUA COLQUEPATA",null,null,null,null,null,"04","00","(All)","0400","0400 - (All)"]
[null,null,null,null,null,null,null,null,null,"03","99","(All)","0399 - (All)",null,"000002518","VIZCOCHONI","01","06","11","04","0106","000002518 - VIZCOCHONI",null,null,null,null,null,"04","01","CALCA","0401","0401 - CALCA"]
[null,null,null,null,null,null,null,null,null,"04","00","NO PERTENECE A NINGUNA MICRORED                                                                     ","0400 - NO PERTENECE A NINGUNA MICRORED                                                                     ",null,"000002519","AYRE","01","06","11","04","0106","000002519 - AYRE",null,null,null,null,null,"04","02","COYA","0402","0402 - COYA"]
[null,null,null,null,null,null,null,null,null,"04","01","YANAOCA                                                                                             ","0401 - YANAOCA                                                                                             ",null,"000002520","HUANCARANI","01","06","11","05","0106","000002520 - HUANCARANI",null,null,null,null,null,"04","03","LAMAY","0403","0403 - LAMAY"]
[null,null,null,null,null,null,null,null,null,"04","02","EL DESCANSO                                                                                         ","0402 - EL DESCANSO                                                                                         ",null,"000002521","PILCOPATA","01","06","11","06","0106","000002521 - PILCOPATA",null,null,null,null,null,"04","04","LARES","0404","0404 - LARES"]
[null,null,null,null,null,null,null,null,null,"04","03","COMBAPATA                                                                                           ","0403 - COMBAPATA                                                                                           ",null,"000002522","PATRIA","01","06","11","06","0106","000002522 - PATRIA",null,null,null,null,null,"04","05","PISAC","0405","0405 - PISAC"]
[null,null,null,null,null,null,null,null,null,"04","04","TECHO OBRERO                                                                                        ","0404 - TECHO OBRERO                                                                                        ",null,"000006979","TOCRA","01","06","11","04","0106","000006979 - TOCRA",null,null,null,null,null,"04","06","SAN SALVADOR","0406","0406 - SAN SALVADOR"]
[null,null,null,null,null,null,null,null,null,"04","05","PAMPAPHALLA                                                                                         ","0405 - PAMPAPHALLA                                                                                         ",null,"000010077","PAUCARTAMBO -ESSALUD","01","06","11","01","0106","000010077 - PAUCARTAMBO -ESSALUD",null,null,null,null,null,"04","07","TARAY","0407","0407 - TARAY"]
[null,null,null,null,null,null,null,null,null,"04","06","YAURI                                                                                               ","0406 - YAURI                                                                                               ",null,"000033777","MENTAL COMUNITARIO VIRGEN DEL ROSARIO","01","06","11","01","0106","000033777 - MENTAL COMUNITARIO VIRGEN DEL ROSARIO",null,null,null,null,null,"04","08","YANATILE","0408","0408 - YANATILE"]
[null,null,null,null,null,null,null,null,null,"04","99","(All)","0499 - (All)",null,"000000000","(All)","01","12",null,null,"0112","000000000 - (All)",null,null,null,null,null,"05","00","(All)","0500","0500 - (All)"]
[null,null,null,null,null,null,null,null,null,"05","00","NO PERTENECE A NINGUNA MICRORED                                                                     ","0500 - NO PERTENECE A NINGUNA MICRORED                                                                     ",null,"000002523","URCOS","01","12","12","01","0112","000002523 - URCOS",null,null,null,null,null,"05","01","YANAOCA","0501","0501 - YANAOCA"]
[null,null,null,null,null,null,null,null,null,"05","01","KIMBIRI                                                                                             ","0501 - KIMBIRI                                                                                             ",null,"000002525","ANDAHUAYLILLAS","01","12","12","02","0112","000002525 - ANDAHUAYLILLAS",null,null,null,null,null,"05","02","CHECCA","0502","0502 - CHECCA"]
[null,null,null,null,null,null,null,null,null,"05","02","PICHARI                                                                                             ","0502 - PICHARI                                                                                             ",null,"000002530","CUSIPATA","01","12","12","06","0112","000002530 - CUSIPATA",null,null,null,null,null,"05","03","KUNTURKANKI","0503","0503 - KUNTURKANKI"]
[null,null,null,null,null,null,null,null,null,"05","99","(All)","0599 - (All)",null,"000002532","HUARO","01","12","12","07","0112","000002532 - HUARO",null,null,null,null,null,"05","04","LANGUI","0504","0504 - LANGUI"]
[null,null,null,null,null,null,null,null,null,"06","00","NO PERTENECE A NINGUNA MICRORED                                                                     ","0600 - NO PERTENECE A NINGUNA MICRORED                                                                     ",null,"000002533","URPAY","01","12","12","07","0112","000002533 - URPAY",null,null,null,null,null,"05","05","LAYO","0505","0505 - LAYO"]
[null,null,null,null,null,null,null,null,null,"06","09","SANTO TOMAS                                                                                         ","0609 - SANTO TOMAS                                                                                         ",null,"000002534","LUCRE","01","12","12","08","0112","000002534 - LUCRE",null,null,null,null,null,"05","06","PAMPAMARCA","0506","0506 - PAMPAMARCA"]
[null,null,null,null,null,null,null,null,null,"06","01","LIVITACA                                                                                            ","0601 - LIVITACA                                                                                            ",null,"000002537","OROPESA","01","12","12","11","0112","000002537 - OROPESA",null,null,null,null,null,"05","07","QUEHUE","0507","0507 - QUEHUE"]
[null,null,null,null,null,null,null,null,null,"06","99","(All)","0699 - (All)",null,"000002538","QUIQUIJANA","01","12","12","12","0112","000002538 - QUIQUIJANA",null,null,null,null,null,"05","08","TUPAC AMARU","0508","0508 - TUPAC AMARU"]
[null,null,null,null,null,null,null,null,null,"99","99","(All)","9999 - (All)",null,"000002539","CCOLCA","01","12","12","12","0112","000002539 - CCOLCA",null,null,null,null,null,"06","00","(All)","0600","0600 - (All)"]
[null,null,null,null,null,null,null,null,null,null,null,null,null,null,"000006980","CHILLIHUANI","01","12","12","06","0112","000006980 - CHILLIHUANI",null,null,null,null,null,"06","01","SICUANI","0601","0601 - SICUANI"]
[null,null,null,null,null,null,null,null,null,null,null,null,null,null,"000008911","HUARA HUARA","01","12","12","05","0112","000008911 - HUARA HUARA",null,null,null,null,null,"06","02","CHECACUPE","0602","0602 - CHECACUPE"]
[null,null,null,null,null,null,null,null,null,null,null,null,null,null,"000011747","POSTA MEDICA POLICIAL PUCUTO","01","12","12","07","0112","000011747 - POSTA MEDICA POLICIAL PUCUTO",null,null,null,null,null,"06","03","COMBAPATA","0603","0603 - COMBAPATA"]
[null,null,null,null,null,null,null,null,null,null,null,null,null,null,"000026385","URCOS - ESSALUD","01","12","12","01","0112","000026385 - URCOS - ESSALUD",null,null,null,null,null,"06","04","MARANGANI","0604","0604 - MARANGANI"]
[null,null,null,null,null,null,null,null,null,null,null,null,null,null,"000030708","MENTAL COMUNITARIO HUARO","01","12","12","07","0112","000030708 - MENTAL COMUNITARIO HUARO",null,null,null,null,null,"06","05","PITUMARCA","0605","0605 - PITUMARCA"]
[null,null,null,null,null,null,null,null,null,null,null,null,null,null,"000000000","(All)","01","13",null,null,"0113","000000000 - (All)",null,null,null,null,null,"06","06","SAN PABLO","0606","0606 - SAN PABLO"]
[null,null,null,null,null,null,null,null,null,null,null,null,null,null,"000002317","ACOMAYO","01","13","02","01","0113","000002317 - ACOMAYO",null,null,null,null,null,"06","07","SAN PEDRO","0607","0607 - SAN PEDRO"]
[null,null,null,null,null,null,null,null,null,null,null,null,null,null,"000002318","ACOPIA","01","13","02","02","0113","000002318 - ACOPIA",null,null,null,null,null,"06","08","TINTA","0608","0608 - TINTA"]
[null,null,null,null,null,null,null,null,null,null,null,null,null,null,"000002319","ACOS","01","13","02","03","0113","000002319 - ACOS",null,null,null,null,null,"07","00","(All)","0700","0700 - (All)"]
[null,null,null,null,null,null,null,null,null,null,null,null,null,null,"000002321","POMACANCHI","01","13","02","05","0113","000002321 - POMACANCHI",null,null,null,null,null,"07","01","SANTO TOMAS","0701","0701 - SANTO TOMAS"]
[null,null,null,null,null,null,null,null,null,null,null,null,null,null,"000002322","SAN JUAN DE POMACANCHI","01","13","02","05","0113","000002322 - SAN JUAN DE POMACANCHI",null,null,null,null,null,"07","02","CAPACMARCA","0702","0702 - CAPACMARCA"]
[null,null,null,null,null,null,null,null,null,null,null,null,null,null,"000002324","PUESTO DE SALUD SANGARARA","01","13","02","07","0113","000002324 - PUESTO DE SALUD SANGARARA",null,null,null,null,null,"07","03","CHAMACA","0703","0703 - CHAMACA"]
[null,null,null,null,null,null,null,null,null,null,null,null,null,null,"000002325","PUESTO DE SALUD MARCACONGA","01","13","02","07","0113","000002325 - PUESTO DE SALUD MARCACONGA",null,null,null,null,null,"07","04","COLQUEMARCA","0704","0704 - COLQUEMARCA"]
[null,null,null,null,null,null,null,null,null,null,null,null,null,null,"000002508","PILLPINTO","01","13","10","08","0113","000002508 - PILLPINTO",null,null,null,null,null,"07","05","LIVITACA","0705","0705 - LIVITACA"]
[null,null,null,null,null,null,null,null,null,null,null,null,null,null,"000010076","ACOMAYO - ESSALUD","01","13","02","01","0113","000010076 - ACOMAYO - ESSALUD",null,null,null,null,null,"07","06","LLUSCO","0706","0706 - LLUSCO"]
[null,null,null,null,null,null,null,null,null,null,null,null,null,0,"000012926","SANTA LUCIA","01","13","02","05","0113","000012926 - SANTA LUCIA",null,null,null,null,null,"07","07","QUIÑOTA","0707","0707 - QUIÑOTA"]
[null,null,null,null,null,null,null,null,null,null,null,null,null,1,"000000000","(All)","01","15",null,null,"0115","000000000 - (All)",null,null,null,null,null,"07","08","VELILLE","0708","0708 - VELILLE"]
[null,null,null,null,null,null,null,null,null,null,null,null,null,2,"000002524","PAMPACAMARA","01","15","12","05","0115","000002524 - PAMPACAMARA",null,null,null,null,null,"08","00","(All)","0800","0800 - (All)"]
[null,null,null,null,null,null,null,null,null,null,null,null,null,3,"000002526","QUINCE MIL","01","15","12","03","0115","000002526 - QUINCE MIL",null,null,null,null,null,"08","01","ESPINAR","0801","0801 - ESPINAR"]
[null,null,null,null,null,null,null,null,null,null,null,null,null,4,"000002527","CCARHUAYO","01","15","12","04","0115","000002527 - CCARHUAYO",null,null,null,null,null,"08","02","CONDOROMA",{"$f":"CONCATENATE(AB75,AC75)","v":"0802"},{"$f":"CONCATENATE(AB75,AC75,\" - \",AD75)","v":"0802 - CONDOROMA"}]
[null,null,null,null,null,null,null,null,null,null,null,null,null,5,"000002528","CCATCCA","01","15","12","05","0115","000002528 - CCATCCA",null,null,null,null,null,"08","03","COPORAQUE","0803","0803 - COPORAQUE"]
[null,null,null,null,null,null,null,null,null,null,null,null,null,6,"000002529","KCAURY","01","15","12","05","0115","000002529 - KCAURY",null,null,null,null,null,"08","04","OCORURO","0804","0804 - OCORURO"]
[null,null,null,null,null,null,null,null,null,null,null,null,null,7,"000002535","MARCAPATA","01","15","12","09","0115","000002535 - MARCAPATA",null,null,null,null,null,"08","05","PALLPATA","0805","0805 - PALLPATA"]
[null,null,null,null,null,null,null,null,null,null,null,null,null,9,"000002536","OCONGATE","01","15","12","10","0115","000002536 - OCONGATE",null,null,null,null,null,"08","06","PICHIGUA","0806","0806 - PICHIGUA"]
[null,null,null,null,null,null,null,null,null,null,null,null,null,10,"000006977","TINKI","01","15","12","10",{"$f":"CONCATENATE(Q80,R80)","v":"0115"},{"$f":"CONCATENATE(O80,\" - \",P80)","v":"000006977 - TINKI"},null,null,null,null,null,"08","07","SUYCKUTAMBO","0807","0807 - SUYCKUTAMBO"]
[null,null,null,null,null,null,null,null,null,null,null,null,null,11,"000007110","INCACANCHA","01","15","12","09","0115","000007110 - INCACANCHA",null,null,null,null,null,"08","08","ALTO PICHIGUA","0808","0808 - ALTO PICHIGUA"]
[null,null,null,null,null,null,null,null,null,null,null,null,null,12,"000012931","CHICHINA","01","15","12","05","0115","000012931 - CHICHINA",null,null,null,null,null,"09","00","(All)","0900","0900 - (All)"]
[null,null,null,null,null,null,null,null,null,null,null,null,null,13,"000016335","CCAPANA","01","15","12","05","0115","000016335 - CCAPANA",null,null,null,null,null,"09","01","SANTA ANA","0901","0901 - SANTA ANA"]
[null,null,null,null,null,null,null,null,null,null,null,null,null,0,"000000000","(All)","01","16",null,null,"0116","000000000 - (All)",null,null,null,null,null,"09","02","ECHARATE","0902","0902 - ECHARATE"]
[null,null,null,null,null,null,null,null,null,null,null,null,null,1,"000002300","SAN JERONIMO","01","16","01","04","0116","000002300 - SAN JERONIMO",null,null,null,null,null,"09","03","HUAYOPATA","0903","0903 - HUAYOPATA"]
[null,null,null,null,null,null,null,null,null,null,null,null,null,2,"000002301","SAN SEBASTIAN","01","16","01","05","0116","000002301 - SAN SEBASTIAN",null,null,null,null,null,"09","04","MARANURA","0904","0904 - MARANURA"]
[null,null,null,null,null,null,null,null,null,null,null,null,null,3,"000002303","SANTA ROSA","01","16","01","05","0116","000002303 - SANTA ROSA",null,null,null,null,null,"09","05","OCOBAMBA","0905","0905 - OCOBAMBA"]
[null,null,null,null,null,null,null,null,null,null,null,null,null,4,"000002314","SAYLLA","01","16","01","07","0116","000002314 - SAYLLA",null,null,null,null,null,"09","06","QUELLOUNO","0906","0906 - QUELLOUNO"]
[null,null,null,null,null,null,null,null,null,null,null,null,null,5,"000002323","RONDOCAN","01","16","02","06","0116","000002323 - RONDOCAN",null,null,null,null,null,"09","07","KIMBIRI","0907","0907 - KIMBIRI"]
[null,null,null,null,null,null,null,null,null,null,null,null,null,6,"000007699","CONCHACALLE","01","16","01","04","0116","000007699 - CONCHACALLE",null,null,null,null,null,"09","08","SANTA TERESA","0908","0908 - SANTA TERESA"]
[null,null,null,null,null,null,null,null,null,null,null,null,null,7,"000010065","SAN SEBASTIAN ESSALUD","01","16","01","05","0116","000010065 - SAN SEBASTIAN ESSALUD",null,null,null,null,null,"09","09","VILCABAMBA","0909","0909 - VILCABAMBA"]
[null,null,null,null,null,null,null,null,null,null,null,null,null,8,"000011743","POLICIAL \"SANTA ROSA\"  CUSCO","01","16","01","05","0116","000011743 - POLICIAL \"SANTA ROSA\"  CUSCO",null,null,null,null,null,"09","10","PICHARI","0910","0910 - PICHARI"]
[null,null,null,null,null,null,null,null,null,null,null,null,null,9,"000018926","ESTABLECIMIENTO PENITENCIARIO CUSCO VARONES","01","16","01","04","0116","000018926 - ESTABLECIMIENTO PENITENCIARIO CUSCO VARONES",null,null,null,null,null,"09","11","INKAWASI                                ","0911","0911 - INKAWASI                                "]
[null,null,null,null,null,null,null,null,null,null,null,null,null,10,"000021187","ESTABLECIMIENTO PENITENCIARIO CUSCO MUJERES","01","16","01","04","0116","000021187 - ESTABLECIMIENTO PENITENCIARIO CUSCO MUJERES",null,null,null,null,null,"09","12","VILLA VIRGEN","0912","0912 - VILLA VIRGEN"]
[null,null,null,null,null,null,null,null,null,null,null,null,null,0,"000026181","MENTAL SAN SEBASTIAN","01","16","01","05","0116","000026181 - MENTAL SAN SEBASTIAN",null,null,null,null,null,"09","13","VILLA KINTIARINA","0913","0913 - VILLA KINTIARINA"]
[null,null,null,null,null,null,null,null,null,null,null,null,null,1,"000030727","PATRÓN SAN SEBASTIAN","01","16","01","04","0116","000030727 - PATRÓN SAN SEBASTIAN",null,null,null,null,null,"09","14","MEGANTONI","0914","0914 - MEGANTONI"]
[null,null,null,null,null,null,null,null,null,null,null,null,null,2,"999999999","(All)","01","99",null,null,"0199","999999999 - (All)",null,null,null,null,null,"09","15","KUMPIRUSHIATO","0915","0915 - KUMPIRUSHIATO"]
[null,null,null,null,null,null,null,null,null,null,null,null,null,3,"000000000","(All)","02","01",null,null,"0201","000000000 - (All)",null,null,null,null,null,"09","16","CIELO PUNCO","0916","0916 - CIELO PUNCO"]
[null,null,null,null,null,null,null,null,null,null,null,null,null,null,"000002292","INDEPENDENCIA","02","01","01","01","0201","000002292 - INDEPENDENCIA",null,null,null,null,null,"09","17","MANITEA","0917","0917 - MANITEA"]
[null,null,null,null,null,null,null,null,null,null,null,null,null,4,"000002297","CCORCCA","02","01","01","02","0201","000002297 - CCORCCA",null,null,null,null,null,"09","18","UNION ASHANINKA","0918","0918 - UNION ASHANINKA"]
[null,null,null,null,null,null,null,null,null,null,null,null,null,5,"000002306","BELEMPAMPA","02","01","01","06","0201","000002306 - BELEMPAMPA",null,null,null,null,null,"09","00","(All)","0900","0900 - (All)"]
[null,null,null,null,null,null,null,null,null,null,null,null,null,6,"000002308","ZARZUELA ALTA","02","01","01","06","0201","000002308 - ZARZUELA ALTA",null,null,null,null,null,"10","01","PARURO","1001","1001 - PARURO"]
[null,null,null,null,null,null,null,null,null,null,null,null,null,null,"000002309","DIGNIDAD NACIONAL","02","01","01","06","0201","000002309 - DIGNIDAD NACIONAL",null,null,null,null,null,"10","02","ACCHA","1002","1002 - ACCHA"]
[null,null,null,null,null,null,null,null,null,null,null,null,null,7,"000002313","OCCOPATA","02","01","01","06","0201","000002313 - OCCOPATA",null,null,null,null,null,"10","03","CCAPI","1003","1003 - CCAPI"]
[null,null,null,null,null,null,null,null,null,null,null,null,null,8,"000010067","C.M. SANTIAGO  ESSALUD","02","01","01","06","0201","000010067 - C.M. SANTIAGO  ESSALUD",null,null,null,null,null,"10","04","COLCHA","1004","1004 - COLCHA"]
[null,null,null,null,null,null,null,null,null,null,null,null,null,9,"000010920","QUINTA BRIGADA DE MONTAÑA","02","01","01","06","0201","000010920 - QUINTA BRIGADA DE MONTAÑA",null,null,null,null,null,"10","05","HUANOQUITE","1005","1005 - HUANOQUITE"]
[null,null,null,null,null,null,null,null,null,null,null,null,null,10,"000026182","MENTAL SANTIAGO","02","01","01","06","0201","000026182 - MENTAL SANTIAGO",null,null,null,null,null,"10","06","OMACHA","1006","1006 - OMACHA"]
[null,null,null,null,null,null,null,null,null,null,null,null,null,11,"000000000","(All)","02","02",null,null,"0202","000000000 - (All)",null,null,null,null,null,"10","07","PACCARITAMBO","1007","1007 - PACCARITAMBO"]
[null,null,null,null,null,null,null,null,null,null,null,null,null,0,"000002302","CCORAO","02","02","01","05","0202","000002302 - CCORAO",null,null,null,null,null,"10","08","PILLPINTO","1008","1008 - PILLPINTO"]
[null,null,null,null,null,null,null,null,null,null,null,null,null,1,"000002307","MANCO CAPAC","02","02","01","06","0202","000002307 - MANCO CAPAC",null,null,null,null,null,"10","09","YAURISQUE","1009","1009 - YAURISQUE"]
[null,null,null,null,null,null,null,null,null,null,null,null,null,null,"000002310","CHOCCO","02","02","01","06","0202","000002310 - CHOCCO",null,null,null,null,null,"11","00","(All)","1100","1100 - (All)"]
[null,null,null,null,null,null,null,null,null,null,null,null,null,null,"000002315","WANCHAQ","02","02","01","08","0202","000002315 - WANCHAQ",null,null,null,null,null,"11","01","PAUCARTAMBO","1101","1101 - PAUCARTAMBO"]
[null,null,null,null,null,null,null,null,null,null,null,null,null,2,"000002316","TTIO","02","02","01","08","0202","000002316 - TTIO",null,null,null,null,null,"11","02","CAICAY","1102","1102 - CAICAY"]
[null,null,null,null,null,null,null,null,null,null,null,null,null,3,"000010041","ADOLFO GUEVARA VELASCO","02","02","01","08","0202","000010041 - ADOLFO GUEVARA VELASCO",null,null,null,null,null,"11","03","CHALLABAMBA","1103","1103 - CHALLABAMBA"]
[null,null,null,null,null,null,null,null,null,null,null,null,null,4,"000026183","METROPOLITANO","02","02","01","08","0202","000026183 - METROPOLITANO",null,null,null,null,null,"11","04","COLQUEPATA","1104","1104 - COLQUEPATA"]
[null,null,null,null,null,null,null,null,null,null,null,null,null,5,"000030730","PATRON SANTIAGO","02","02","01","08","0202","000030730 - PATRON SANTIAGO",null,null,null,null,null,"11","05","HUANCARANI","1105","1105 - HUANCARANI"]
[null,null,null,null,null,null,null,null,null,null,null,null,null,6,"000000000","(All)","02","03",null,null,"0203","000000000 - (All)",null,null,null,null,null,"11","06","KOSÑIPATA","1106","1106 - KOSÑIPATA"]
[null,null,null,null,null,null,null,null,null,null,null,null,null,7,"000002326","ANTA","02","03","03","01","0203","000002326 - ANTA",null,null,null,null,null,"12","00","(All)","1200","1200 - (All)"]
[null,null,null,null,null,null,null,null,null,null,null,null,null,0,"000002327","CHACAN","02","03","03","01","0203","000002327 - CHACAN",null,null,null,null,null,"12","01","URCOS","1201","1201 - URCOS"]
[null,null,null,null,null,null,null,null,null,null,null,null,null,1,"000002328","COMPONE","02","03","03","01","0203","000002328 - COMPONE",null,null,null,null,null,"12","02","ANDAHUAYLILLAS","1202","1202 - ANDAHUAYLILLAS"]
[null,null,null,null,null,null,null,null,null,null,null,null,null,2,"000002329","CONCHACALLA","02","03","03","01","0203","000002329 - CONCHACALLA",null,null,null,null,null,"12","03","CAMANTI","1203","1203 - CAMANTI"]
[null,null,null,null,null,null,null,null,null,null,null,null,null,3,"000002330","ANCAHUASI","02","03","03","02","0203","000002330 - ANCAHUASI",null,null,null,null,null,"12","04","CCARHUAYO","1204","1204 - CCARHUAYO"]
[null,null,null,null,null,null,null,null,null,null,null,null,null,4,"000002331","CACHIMAYO","02","03","03","03","0203","000002331 - CACHIMAYO",null,null,null,null,null,"12","05","CCATCA","1205","1205 - CCATCA"]
[null,null,null,null,null,null,null,null,null,null,null,null,null,5,"000002332","CHINCHAYPUJIO","02","03","03","04","0203","000002332 - CHINCHAYPUJIO",null,null,null,null,null,"12","06","CUSIPATA","1206","1206 - CUSIPATA"]
[null,null,null,null,null,null,null,null,null,null,null,null,null,6,"000002333","HUAROCONDO","02","03","03","05","0203","000002333 - HUAROCONDO",null,null,null,null,null,"12","07","HUARO","1207","1207 - HUARO"]
[null,null,null,null,null,null,null,null,null,null,null,null,null,7,"000002334","HUAYLLACOCHA","02","03","03","05","0203","000002334 - HUAYLLACOCHA",null,null,null,null,null,"12","08","LUCRE","1208","1208 - LUCRE"]
[null,null,null,null,null,null,null,null,null,null,null,null,null,null,"000002339","PUCYURA ANTA","02","03","03","08","0203","000002339 - PUCYURA ANTA",null,null,null,null,null,"12","09","MARCAPATA","1209","1209 - MARCAPATA"]
[null,null,null,null,null,null,null,null,null,null,null,null,null,8,"000002340","ZURITE","02","03","03","09","0203","000002340 - ZURITE",null,null,null,null,null,"12","10","OCONGATE","1210","1210 - OCONGATE"]
[null,null,null,null,null,null,null,null,null,null,null,null,null,9,"000006972","PANTIPATA","02","03","03","04","0203","000006972 - PANTIPATA",null,null,null,null,null,"12","11","OROPESA","1211","1211 - OROPESA"]
[null,null,null,null,null,null,null,null,null,null,null,null,null,10,"000027790","MENTAL COMUNITARIO ANTA","02","03","03","01","0203","000027790 - MENTAL COMUNITARIO ANTA",null,null,null,null,null,"12","12","QUIQUIJANA","1212","1212 - QUIQUIJANA"]
[null,null,null,null,null,null,null,null,null,null,null,null,null,null,"000029514","ESSALUD ANTA","02","03","03","01","0203","000029514 - ESSALUD ANTA",null,null,null,null,null,"13","00","(All)","1300","1300 - (All)"]
[null,null,null,null,null,null,null,null,null,null,null,null,null,null,"000000000","(All)","02","04",null,null,"0204","000000000 - (All)",null,null,null,null,null,"13","01","URUBAMBA","1301","1301 - URUBAMBA"]
[null,null,null,null,null,null,null,null,null,null,null,null,null,null,"000002336","LIMATAMBO","02","04","03","06","0204","000002336 - LIMATAMBO",null,null,null,null,null,"13","02","CHINCHERO","1302","1302 - CHINCHERO"]
[null,null,null,null,null,null,null,null,null,null,null,null,null,null,"000002337","PAMPACONGA","02","04","03","06","0204","000002337 - PAMPACONGA",null,null,null,null,null,"13","03","HUAYLLABAMBA","1303","1303 - HUAYLLABAMBA"]
[null,null,null,null,null,null,null,null,null,null,null,null,null,null,"000002338","MOLLEPATA","02","04","03","07","0204","000002338 - MOLLEPATA",null,null,null,null,null,"13","04","MACHUPICCHU","1304","1304 - MACHUPICCHU"]
[null,null,null,null,null,null,null,null,null,null,null,null,null,null,"000010761","URATARI","02","04","03","06","0204","000010761 - URATARI",null,null,null,null,null,"13","05","MARAS","1305","1305 - MARAS"]
[null,null,null,null,null,null,null,null,null,null,null,null,null,null,"000021061","HUAMANPATA","02","04","03","07","0204","000021061 - HUAMANPATA",null,null,null,null,null,"13","06","OLLANTAYTAMBO","1306","1306 - OLLANTAYTAMBO"]
[null,null,null,null,null,null,null,null,null,null,null,null,null,null,"000000000","(All)","02","05",null,null,"0205","000000000 - (All)",null,null,null,null,null,"13","07","YUCAY",{"$f":"CONCATENATE(AB138,AC138)","v":"1307"},"1307 - YUCAY"]
[null,null,null,null,null,null,null,null,null,null,null,null,null,null,"000002343","COYA","02","05","04","02","0205","000002343 - COYA",null,null,null,null,null,"00","00","(All)",{"$f":"CONCATENATE(AB139,AC139)","v":"0000"},"0000 - (All)"]
[null,null,null,null,null,null,null,null,null,null,null,null,null,null,"000002344","LAMAY","02","05","04","03","0205","000002344 - LAMAY"]
[null,null,null,null,null,null,null,null,null,null,null,null,null,null,"000002348","PISAC","02","05","04","05","0205","000002348 - PISAC"]
[null,null,null,null,null,null,null,null,null,null,null,null,null,null,"000002349","CUYO CHICO","02","05","04","05","0205","000002349 - CUYO CHICO"]
[null,null,null,null,null,null,null,null,null,null,null,null,null,null,"000002350","CUYO GRANDE","02","05","04","05","0205","000002350 - CUYO GRANDE"]
[null,null,null,null,null,null,null,null,null,null,null,null,null,null,"000002351","QUELLO QUELLO","02","05","04","05","0205","000002351 - QUELLO QUELLO"]
[null,null,null,null,null,null,null,null,null,null,null,null,null,null,"000002352","SAN SALVADOR","02","05","04","06","0205","000002352 - SAN SALVADOR"]
[null,null,null,null,null,null,null,null,null,null,null,null,null,null,"000002353","TARAY","02","05","04","07","0205","000002353 - TARAY"]
[null,null,null,null,null,null,null,null,null,null,null,null,null,null,"000002354","HUANCALLE","02","05","04","07","0205","000002354 - HUANCALLE"]
[null,null,null,null,null,null,null,null,null,null,null,null,null,null,"000006970","TIRACANCHA","02","05","04","06","0205","000006970 - TIRACANCHA"]
[null,null,null,null,null,null,null,null,null,null,null,null,null,null,"000006975","SAYLLAFAYA","02","05","04","03","0205","000006975 - SAYLLAFAYA"]
[null,null,null,null,null,null,null,null,null,null,null,null,null,null,"000007145","HUAMA","02","05","04","03",{"$f":"CONCATENATE(Q150,R150)","v":"0205"},{"$f":"CONCATENATE(O150,\" - \",P150)","v":"000007145 - HUAMA"}]
[null,null,null,null,null,null,null,null,null,null,null,null,null,null,"000007146","POQUES","02","05","04","03","0205","000007146 - POQUES"]
[null,null,null,null,null,null,null,null,null,null,null,null,null,null,"000025368","HUARQUI","02","05","04","03","0205","000025368 - HUARQUI"]
[null,null,null,null,null,null,null,null,null,null,null,null,null,null,"000000000","(All)","02","06",null,null,"0206","000000000 - (All)"]
[null,null,null,null,null,null,null,null,null,null,null,null,null,null,"000002341","CALCA","02","06","04","01","0206","000002341 - CALCA"]
[null,null,null,null,null,null,null,null,null,null,null,null,null,null,"000002342","AMPARAES","02","06","04","04","0206","000002342 - AMPARAES"]
[null,null,null,null,null,null,null,null,null,null,null,null,null,null,"000002345","CCACHIN","02","06","04","04","0206","000002345 - CCACHIN"]
[null,null,null,null,null,null,null,null,null,null,null,null,null,null,"000002346","CHOQUECANCHA","02","06","04","04","0206","000002346 - CHOQUECANCHA"]
[null,null,null,null,null,null,null,null,null,null,null,null,null,null,"000002347","LARES","02","06","04","04","0206","000002347 - LARES"]
[null,null,null,null,null,null,null,null,null,null,null,null,null,null,"000002361","SUYO","02","06","04","04","0206","000002361 - SUYO"]
[null,null,null,null,null,null,null,null,null,null,null,null,null,null,"000002515","PAROBAMBA","02","06","11","03","0206","000002515 - PAROBAMBA"]
[null,null,null,null,null,null,null,null,null,null,null,null,null,null,"000007143","OTOCANI","02","06","11","03","0206","000007143 - OTOCANI"]
[null,null,null,null,null,null,null,null,null,null,null,null,null,null,"000007144","PATABAMBA","02","06","04","07","0206","000007144 - PATABAMBA"]
[null,null,null,null,null,null,null,null,null,null,null,null,null,null,"000010069","ESSALUD CALCA","02","06","04","01","0206","000010069 - ESSALUD CALCA"]
[null,null,null,null,null,null,null,null,null,null,null,null,null,null,"000010759","HUARAN","02","06","04","01","0206","000010759 - HUARAN"]
[null,null,null,null,null,null,null,null,null,null,null,null,null,null,"000010762","ACCHA ALTA - PAMPALLACTA","02","06","04","01","0206","000010762 - ACCHA ALTA - PAMPALLACTA"]
[null,null,null,null,null,null,null,null,null,null,null,null,null,null,"000026273","MENTAL COMUNITARIO VIRGEN ASUNTA DE CALCA","02","06","04","01","0206","000026273 - MENTAL COMUNITARIO VIRGEN ASUNTA DE CALCA"]
[null,null,null,null,null,null,null,null,null,null,null,null,null,null,"000000000","(All)","02","07",null,null,"0207","000000000 - (All)"]
[null,null,null,null,null,null,null,null,null,null,null,null,null,null,"000002540","URUBAMBA","02","07","13","01","0207","000002540 - URUBAMBA"]
[null,null,null,null,null,null,null,null,null,null,null,null,null,null,"000002541","YANAHUARA","02","07","13","01","0207","000002541 - YANAHUARA"]
[null,null,null,null,null,null,null,null,null,null,null,null,null,null,"000002543","CHINCHERO","02","07","13","02","0207","000002543 - CHINCHERO"]
[null,null,null,null,null,null,null,null,null,null,null,null,null,null,"000002544","OCCOTUAN","02","07","13","02","0207","000002544 - OCCOTUAN"]
[null,null,null,null,null,null,null,null,null,null,null,null,null,null,"000002545","HUAYLLABAMBA","02","07","13","03","0207","000002545 - HUAYLLABAMBA"]
[null,null,null,null,null,null,null,null,null,null,null,null,null,null,"000002546","MACHUPICCHU","02","07","13","04","0207","000002546 - MACHUPICCHU"]
[null,null,null,null,null,null,null,null,null,null,null,null,null,null,"000002547","COLLPANI","02","07","13","04","0207","000002547 - COLLPANI"]
[null,null,null,null,null,null,null,null,null,null,null,null,null,null,"000002548","MARAS","02","07","13","05","0207","000002548 - MARAS"]
[null,null,null,null,null,null,null,null,null,null,null,null,null,null,"000002549","OLLANTAYTAMBO","02","07","13","06","0207","000002549 - OLLANTAYTAMBO"]
[null,null,null,null,null,null,null,null,null,null,null,null,null,null,"000002550","CHILLCA","02","07","13","06","0207","000002550 - CHILLCA"]
[null,null,null,null,null,null,null,null,null,null,null,null,null,null,"000002551","YUCAY","02","07","13","07","0207","000002551 - YUCAY"]
[null,null,null,null,null,null,null,null,null,null,null,null,null,null,"000006974","CAMINO INCA HUAYLLABAMBA","02","07","13","04","0207","000006974 - CAMINO INCA HUAYLLABAMBA"]
[null,null,null,null,null,null,null,null,null,null,null,null,null,null,"000010060","CAS URUBAMBA -ESSALUD","02","07","13","01","0207","000010060 - CAS URUBAMBA -ESSALUD"]
[null,null,null,null,null,null,null,null,null,null,null,null,null,null,"000010073","MACHU PICCHU - ESSALUD","02","07","13","04","0207","000010073 - MACHU PICCHU - ESSALUD"]
[null,null,null,null,null,null,null,null,null,null,null,null,null,null,"000010758","CRUZPATA","02","07","13","05","0207","000010758 - CRUZPATA"]
[null,null,null,null,null,null,null,null,null,null,null,null,null,null,"000010760","PATACANCHA","02","07","13","06","0207","000010760 - PATACANCHA"]
[null,null,null,null,null,null,null,null,null,null,null,null,null,null,"000030666","MENTAL COMUNITARIO URUBAMBA","02","07","13","01","0207","000030666 - MENTAL COMUNITARIO URUBAMBA"]
[null,null,null,null,null,null,null,null,null,null,null,null,null,null,"000000000","(All)","02","08",null,null,"0208","000000000 - (All)"]
[null,null,null,null,null,null,null,null,null,null,null,null,null,null,"000002355","LA QUEBRADA","02","08","04","08","0208","000002355 - LA QUEBRADA"]
[null,null,null,null,null,null,null,null,null,null,null,null,null,null,"000002356","CCORIMAYO","02","08","04","08","0208","000002356 - CCORIMAYO"]
[null,null,null,null,null,null,null,null,null,null,null,null,null,null,"000002357","COLCCA YANATILE","02","08","04","08","0208","000002357 - COLCCA YANATILE"]
[null,null,null,null,null,null,null,null,null,null,null,null,null,null,"000002358","MUYUPAY","02","08","04","08","0208","000002358 - MUYUPAY"]
[null,null,null,null,null,null,null,null,null,null,null,null,null,null,"000002359","PUTUCUSI","02","08","04","08","0208","000002359 - PUTUCUSI"]
[null,null,null,null,null,null,null,null,null,null,null,null,null,null,"000002360","QUESQUENTO","02","08","04","08","0208","000002360 - QUESQUENTO"]
[null,null,null,null,null,null,null,null,null,null,null,null,null,null,"000002362","HUACHIBAMBA","02","08","04","08","0208","000002362 - HUACHIBAMBA"]
[null,null,null,null,null,null,null,null,null,null,null,null,null,null,"000002464","VERSALLES","02","08","09","05","0208","000002464 - VERSALLES"]
[null,null,null,null,null,null,null,null,null,null,null,null,null,null,"000002467","PUENTE SANTIAGO","02","08","09","06","0208","000002467 - PUENTE SANTIAGO"]
[null,null,null,null,null,null,null,null,null,null,null,null,null,null,"000006971","COMBAPATA YANATILE","02","08","04","08","0208","000006971 - COMBAPATA YANATILE"]
[null,null,null,null,null,null,null,null,null,null,null,null,null,null,"000006973","BELLAVISTA","02","08","04","08","0208","000006973 - BELLAVISTA"]
[null,null,null,null,null,null,null,null,null,null,null,null,null,null,"000007142","CHANCAMAYO","02","08","04","08","0208","000007142 - CHANCAMAYO"]
[null,null,null,null,null,null,null,null,null,null,null,null,null,null,"000000000","(All)","02","09",null,null,"0209","000000000 - (All)"]
[null,null,null,null,null,null,null,null,null,null,null,null,null,null,"000002290","SAN PEDRO CUSCO","02","09","01","01","0209","000002290 - SAN PEDRO CUSCO"]
[null,null,null,null,null,null,null,null,null,null,null,null,null,null,"000002291","SIETE CUARTONES","02","09","01","01","0209","000002291 - SIETE CUARTONES"]
[null,null,null,null,null,null,null,null,null,null,null,null,null,null,"000002293","MIRAFLORES","02","09","01","01","0209","000002293 - MIRAFLORES"]
[null,null,null,null,null,null,null,null,null,null,null,null,null,null,"000002294","PICCHU LA RINCONADA","02","09","01","01","0209","000002294 - PICCHU LA RINCONADA"]
[null,null,null,null,null,null,null,null,null,null,null,null,null,null,"000002295","BUENA VISTA","02","09","01","01","0209","000002295 - BUENA VISTA"]
[null,null,null,null,null,null,null,null,null,null,null,null,null,null,"000002299","POROY","02","09","01","03","0209","000002299 - POROY"]
[null,null,null,null,null,null,null,null,null,null,null,null,null,null,"999999999","(All)","02","99",null,null,"0299","999999999 - (All)"]
[null,null,null,null,null,null,null,null,null,null,null,null,null,null,"000002421","QUILLABAMBA","03","00","09","01","0300","000002421 - QUILLABAMBA"]
[null,null,null,null,null,null,null,null,null,null,null,null,null,null,"000000000","(All)","03","01",null,null,"0301","000000000 - (All)"]
[null,null,null,null,null,null,null,null,null,null,null,null,null,null,"000002422","HUAYANAY","03","01","09","01","0301","000002422 - HUAYANAY"]
[null,null,null,null,null,null,null,null,null,null,null,null,null,null,"000002423","IDMA","03","01","09","01","0301","000002423 - IDMA"]
[null,null,null,null,null,null,null,null,null,null,null,null,null,null,"000002424","POTRERO","03","01","09","01","0301","000002424 - POTRERO"]
[null,null,null,null,null,null,null,null,null,null,null,null,null,null,"000002425","ECHARATE","03","01","09","02","0301","000002425 - ECHARATE"]
[null,null,null,null,null,null,null,null,null,null,null,null,null,null,"000002430","PAMPA CONCEPCION","03","01","09","02","0301","000002430 - PAMPA CONCEPCION"]
[null,null,null,null,null,null,null,null,null,null,null,null,null,null,"000002446","CHACCO","03","01","09","02","0301","000002446 - CHACCO"]
[null,null,null,null,null,null,null,null,null,null,null,null,null,null,"000002451","CHAHUARES","03","01","09","02","0301","000002451 - CHAHUARES"]
[null,null,null,null,null,null,null,null,null,null,null,null,null,null,"000008910","SANTA ANA","03","01","09","01","0301","000008910 - SANTA ANA"]
[null,null,null,null,null,null,null,null,null,null,null,null,null,null,"000010062","QUILLABAMBA - ESSALUD","03","01","09","01","0301","000010062 - QUILLABAMBA - ESSALUD"]
[null,null,null,null,null,null,null,null,null,null,null,null,null,null,"000011744","POSTA MEDICO POLICIAL LA CONVENCION - QUILLABAMBA","03","01","09","01","0301","000011744 - POSTA MEDICO POLICIAL LA CONVENCION - QUILLABAMBA"]
[null,null,null,null,null,null,null,null,null,null,null,null,null,null,"000015842","PAVAYOC","03","01","09","01",{"$f":"CONCATENATE(Q218,R218)","v":"0301"},{"$f":"CONCATENATE(O218,\" - \",P218)","v":"000015842 - PAVAYOC"}]
[null,null,null,null,null,null,null,null,null,null,null,null,null,null,"000024653","INPE QUILLABAMBA","03","01","09","01","0301","000024653 - INPE QUILLABAMBA"]
[null,null,null,null,null,null,null,null,null,null,null,null,null,null,"000026386","MENTAL QUILLABAMBA","03","01","09","01","0301","000026386 - MENTAL QUILLABAMBA"]
[null,null,null,null,null,null,null,null,null,null,null,null,null,null,"000033273","SAN ISIDRO LABRADOR - ECHARATI","03","01","09","02","0301","000033273 - SAN ISIDRO LABRADOR - ECHARATI"]
[null,null,null,null,null,null,null,null,null,null,null,null,null,null,"000000000","(All)","03","02",null,null,"0302","000000000 - (All)"]
[null,null,null,null,null,null,null,null,null,null,null,null,null,null,"000002453","HUYRO","03","02","09","03","0302","000002453 - HUYRO"]
[null,null,null,null,null,null,null,null,null,null,null,null,null,null,"000002454","ALFAMAYO","03","02","09","03","0302","000002454 - ALFAMAYO"]
[null,null,null,null,null,null,null,null,null,null,null,null,null,null,"000002455","HUAYOPATA","03","02","09","03","0302","000002455 - HUAYOPATA"]
[null,null,null,null,null,null,null,null,null,null,null,null,null,null,"000002456","AMAYBAMBA","03","02","09","03","0302","000002456 - AMAYBAMBA"]
[null,null,null,null,null,null,null,null,null,null,null,null,null,null,"000002457","SAN PABLO HUAYOPATA","03","02","09","03","0302","000002457 - SAN PABLO HUAYOPATA"]
[null,null,null,null,null,null,null,null,null,null,null,null,null,null,"000002458","MARANURA","03","02","09","04","0302","000002458 - MARANURA"]
[null,null,null,null,null,null,null,null,null,null,null,null,null,null,"000002460","SANTA MARIA","03","02","09","04","0302","000002460 - SANTA MARIA"]
[null,null,null,null,null,null,null,null,null,null,null,null,null,null,"000002461","UCHUMAYO","03","02","09","04","0302","000002461 - UCHUMAYO"]
[null,null,null,null,null,null,null,null,null,null,null,null,null,null,"000002476","SANTA TERESA","03","02","09","08","0302","000002476 - SANTA TERESA"]
[null,null,null,null,null,null,null,null,null,null,null,null,null,null,"000002477","SULLUCUYOC","03","02","09","08","0302","000002477 - SULLUCUYOC"]
[null,null,null,null,null,null,null,null,null,null,null,null,null,null,"000002478","TOTORA","03","02","09","08","0302","000002478 - TOTORA"]
[null,null,null,null,null,null,null,null,null,null,null,null,null,null,"000010075","CAP HUYRO - ESSALUD","03","02","09","03","0302","000010075 - CAP HUYRO - ESSALUD"]
[null,null,null,null,null,null,null,null,null,null,null,null,null,null,"000000000","(All)","03","03",null,null,"0303","000000000 - (All)"]
[null,null,null,null,null,null,null,null,null,null,null,null,null,null,"000002363","TUPAC AMARU QUELLOUNO","03","03","04","08","0303","000002363 - TUPAC AMARU QUELLOUNO"]
[null,null,null,null,null,null,null,null,null,null,null,null,null,null,"000002462","OCCOBAMBA LACONVENCION","03","03","09","05","0303","000002462 - OCCOBAMBA LACONVENCION"]
[null,null,null,null,null,null,null,null,null,null,null,null,null,null,"000002463","CHINGANILLA","03","03","09","05","0303","000002463 - CHINGANILLA"]
[null,null,null,null,null,null,null,null,null,null,null,null,null,null,"000002465","QUELLOUNO","03","03","09","06","0303","000002465 - QUELLOUNO"]
[null,null,null,null,null,null,null,null,null,null,null,null,null,null,"000002466","HUILLCAPAMPA","03","03","09","06","0303","000002466 - HUILLCAPAMPA"]
[null,null,null,null,null,null,null,null,null,null,null,null,null,null,"000002468","SAN MARTIN","03","03","09","06","0303","000002468 - SAN MARTIN"]
[null,null,null,null,null,null,null,null,null,null,null,null,null,null,"000008906","ESTRELLA","03","03","09","06","0303","000008906 - ESTRELLA"]
[null,null,null,null,null,null,null,null,null,null,null,null,null,null,"000008907","MATORIATO","03","03","09","06","0303","000008907 - MATORIATO"]
[null,null,null,null,null,null,null,null,null,null,null,null,null,null,"000008908","CHIRUMBIA","03","03","09","06","0303","000008908 - CHIRUMBIA"]
[null,null,null,null,null,null,null,null,null,null,null,null,null,null,"000008909","CHAPO BOYERO","03","03","09","06","0303","000008909 - CHAPO BOYERO"]
[null,null,null,null,null,null,null,null,null,null,null,null,null,null,"000000000","(All)","03","04",null,null,"0304","000000000 - (All)"]
[null,null,null,null,null,null,null,null,null,null,null,null,null,null,"000002427","KITENI","03","04","09","02","0304","000002427 - KITENI"]
[null,null,null,null,null,null,null,null,null,null,null,null,null,null,"000002431","IVOCHOTE","03","04","09","02","0304","000002431 - IVOCHOTE"]
[null,null,null,null,null,null,null,null,null,null,null,null,null,null,"000002432","KEPASHIATO","03","04","09","02","0304","000002432 - KEPASHIATO"]
[null,null,null,null,null,null,null,null,null,null,null,null,null,null,"000002434","MATERIATO","03","04","09","02","0304","000002434 - MATERIATO"]
[null,null,null,null,null,null,null,null,null,null,null,null,null,null,"000002438","PACHIRI","03","04","09","02","0304","000002438 - PACHIRI"]
[null,null,null,null,null,null,null,null,null,null,null,null,null,null,"000002440","PANGOA","03","04","09","02","0304","000002440 - PANGOA"]
[null,null,null,null,null,null,null,null,null,null,null,null,null,null,"000002443","SANIRIATO","03","04","09","02","0304","000002443 - SANIRIATO"]
[null,null,null,null,null,null,null,null,null,null,null,null,null,null,"000002447","KAMANQUIRIATO","03","04","09","02","0304","000002447 - KAMANQUIRIATO"]
[null,null,null,null,null,null,null,null,null,null,null,null,null,null,"000002489","YUVENI","03","04","09","09","0304","000002489 - YUVENI"]
[null,null,null,null,null,null,null,null,null,null,null,null,null,null,"000002493","SELVA ALEGRE","03","04","09","09","0304","000002493 - SELVA ALEGRE"]
[null,null,null,null,null,null,null,null,null,null,null,null,null,null,"000006976","CHONTABAMBA","03","04","09","09","0304","000006976 - CHONTABAMBA"]
[null,null,null,null,null,null,null,null,null,null,null,null,null,null,"000013068","TRIO RIO","03","04","09","02","0304","000013068 - TRIO RIO"]
[null,null,null,null,null,null,null,null,null,null,null,null,null,null,"000013069","PUGUIENTIMARI","03","04","09","02","0304","000013069 - PUGUIENTIMARI"]
[null,null,null,null,null,null,null,null,null,null,null,null,null,null,"000014531","CENTRO DE ATENCIÓN PRIMARIA I ECHARATE - KITENI","03","04","09","02","0304","000014531 - CENTRO DE ATENCIÓN PRIMARIA I ECHARATE - KITENI"]
[null,null,null,null,null,null,null,null,null,null,null,null,null,null,"000024583","BCT N° 314 - KEPASHIATO","03","04","09","02","0304","000024583 - BCT N° 314 - KEPASHIATO"]
[null,null,null,null,null,null,null,null,null,null,null,null,null,null,"000000000","(All)","03","05",null,null,"0305","000000000 - (All)"]
[null,null,null,null,null,null,null,null,null,null,null,null,null,null,"000002426","KIRIGUETI","03","05","09","14","0305","000002426 - KIRIGUETI"]
[null,null,null,null,null,null,null,null,null,null,null,null,null,null,"000002428","CHOCORIARI","03","05","09","14","0305","000002428 - CHOCORIARI"]
[null,null,null,null,null,null,null,null,null,null,null,null,null,null,"000002435","MIARIA","03","05","09","14","0305","000002435 - MIARIA"]
[null,null,null,null,null,null,null,null,null,null,null,null,null,null,"000002436","NUEVA LUZ","03","05","09","14","0305","000002436 - NUEVA LUZ"]
[null,null,null,null,null,null,null,null,null,null,null,null,null,null,"000002437","NUEVO MUNDO","03","05","09","14","0305","000002437 - NUEVO MUNDO"]
[null,null,null,null,null,null,null,null,null,null,null,null,null,null,"000002441","PUERTO HUALLANA","03","05","09","14","0305","000002441 - PUERTO HUALLANA"]
[null,null,null,null,null,null,null,null,null,null,null,null,null,null,"000002442","PUERTO RICO","03","05","09","14","0305","000002442 - PUERTO RICO"]
[null,null,null,null,null,null,null,null,null,null,null,null,null,null,"000002444","SENSA","03","05","09","14","0305","000002444 - SENSA"]
[null,null,null,null,null,null,null,null,null,null,null,null,null,null,"000002445","TIMPIA","03","05","09","14","0305","000002445 - TIMPIA"]
[null,null,null,null,null,null,null,null,null,null,null,null,null,null,"000002448","KAMISEA","03","05","09","14","0305","000002448 - KAMISEA"]
[null,null,null,null,null,null,null,null,null,null,null,null,null,null,"000002452","SHIVANKORENI","03","05","09","14","0305","000002452 - SHIVANKORENI"]
[null,null,null,null,null,null,null,null,null,null,null,null,null,null,"000013066","MONTETONI","03","05","09","14","0305","000013066 - MONTETONI"]
[null,null,null,null,null,null,null,null,null,null,null,null,null,null,"000013067","TANGOSHIARI","03","05","09","14","0305","000013067 - TANGOSHIARI"]
[null,null,null,null,null,null,null,null,null,null,null,null,null,null,"000015235","NUEVA VIDA","03","05","09","14","0305","000015235 - NUEVA VIDA"]
[null,null,null,null,null,null,null,null,null,null,null,null,null,null,"000015843","CASHIRIARI","03","05","09","14","0305","000015843 - CASHIRIARI"]
[null,null,null,null,null,null,null,null,null,null,null,null,null,null,"000015844","CAMANA","03","05","09","14","0305","000015844 - CAMANA"]
[null,null,null,null,null,null,null,null,null,null,null,null,null,null,"000033274","BCT  NUEVO MUNDO","03","05","09","14","0305","000033274 - BCT  NUEVO MUNDO"]
[null,null,null,null,null,null,null,null,null,null,null,null,null,null,"000000000","(All)","03","06",null,null,"0306","000000000 - (All)"]
[null,null,null,null,null,null,null,null,null,null,null,null,null,null,"000002480","PUCYURA","03","06","09","09","0306","000002480 - PUCYURA"]
[null,null,null,null,null,null,null,null,null,null,null,null,null,null,"000002481","CCARCCO","03","06","09","11",{"$f":"CONCATENATE(Q282,R282)","v":"0306"},{"$f":"CONCATENATE(O282,\" - \",P282)","v":"000002481 - CCARCCO"}]
[null,null,null,null,null,null,null,null,null,null,null,null,null,null,"000002482","INCAHUASI","03","06","09","11","0306","000002482 - INCAHUASI"]
[null,null,null,null,null,null,null,null,null,null,null,null,null,null,"000002484","OYARA","03","06","09","09","0306","000002484 - OYARA"]
[null,null,null,null,null,null,null,null,null,null,null,null,null,null,"000002485","PACCAYBAMBA","03","06","09","11","0306","000002485 - PACCAYBAMBA"]
[null,null,null,null,null,null,null,null,null,null,null,null,null,null,"000002486","PAMPACONAS","03","06","09","09","0306","000002486 - PAMPACONAS"]
[null,null,null,null,null,null,null,null,null,null,null,null,null,null,"000002487","CHOQUETIRA","03","06","09","11","0306","000002487 - CHOQUETIRA"]
[null,null,null,null,null,null,null,null,null,null,null,null,null,null,"000002490","ARMA","03","06","09","09","0306","000002490 - ARMA"]
[null,null,null,null,null,null,null,null,null,null,null,null,null,null,"000002491","LUCMAHUAYCO","03","06","09","11","0306","000002491 - LUCMAHUAYCO"]
[null,null,null,null,null,null,null,null,null,null,null,null,null,null,"000002492","PALTAYBAMBA","03","06","09","09","0306","000002492 - PALTAYBAMBA"]
[null,null,null,null,null,null,null,null,null,null,null,null,null,null,"000013070","CHANCAVINE","03","06","09","12","0306","000013070 - CHANCAVINE"]
[null,null,null,null,null,null,null,null,null,null,null,null,null,null,"000000000","(All)","03","07",null,null,"0307","000000000 - (All)"]
[null,null,null,null,null,null,null,null,null,null,null,null,null,null,"000002429","CIRIALO                                                                                             ","03","07","09","02","0307","000002429 - CIRIALO                                                                                             "]
[null,null,null,null,null,null,null,null,null,null,null,null,null,null,"000002433","KORIBENI                                                                                            ","03","07","09","02","0307","000002433 - KORIBENI                                                                                            "]
[null,null,null,null,null,null,null,null,null,null,null,null,null,null,"000002439","PALMA REAL                                                                                          ","03","07","09","02","0307","000002439 - PALMA REAL                                                                                          "]
[null,null,null,null,null,null,null,null,null,null,null,null,null,null,"000002449","ICHIQUIATO                                                                                          ","03","07","09","02","0307","000002449 - ICHIQUIATO                                                                                          "]
[null,null,null,null,null,null,null,null,null,null,null,null,null,null,"000002450","SAN ANTONIO                                                                                         ","03","07","09","02","0307","000002450 - SAN ANTONIO                                                                                         "]
[null,null,null,null,null,null,null,null,null,null,null,null,null,null,"999999999","(All)","03","99",null,null,"0399","999999999 - (All)"]
[null,null,null,null,null,null,null,null,null,null,null,null,null,null,"000000000","(All)","04","00",null,null,"0400","000000000 - (All)"]
[null,null,null,null,null,null,null,null,null,null,null,null,null,null,"000002378","SICUANI","04","00","06","01","0400","000002378 - SICUANI"]
[null,null,null,null,null,null,null,null,null,null,null,null,null,null,"000007135","ESPINAR","04","00","08","01","0400","000007135 - ESPINAR"]
[null,null,null,null,null,null,null,null,null,null,null,null,null,null,"000000000","(All)","04","01",null,null,"0401","000000000 - (All)"]
[null,null,null,null,null,null,null,null,null,null,null,null,null,null,"000002364","YANAOCA","04","01","05","01","0401","000002364 - YANAOCA"]
[null,null,null,null,null,null,null,null,null,null,null,null,null,null,"000002365","PONGOÑA","04","01","05","01","0401","000002365 - PONGOÑA"]
[null,null,null,null,null,null,null,null,null,null,null,null,null,null,"000002372","PAMPAMARCA","04","01","05","06","0401","000002372 - PAMPAMARCA"]
[null,null,null,null,null,null,null,null,null,null,null,null,null,null,"000002373","QUEHUE","04","01","05","07","0401","000002373 - QUEHUE"]
[null,null,null,null,null,null,null,null,null,null,null,null,null,null,"000002374","HUINCHIRI","04","01","05","07","0401","000002374 - HUINCHIRI"]
[null,null,null,null,null,null,null,null,null,null,null,null,null,null,"000002375","SURIMANA","04","01","05","08","0401","000002375 - SURIMANA"]
[null,null,null,null,null,null,null,null,null,null,null,null,null,null,"000002376","TUNGASUCA","04","01","05","08","0401","000002376 - TUNGASUCA"]
[null,null,null,null,null,null,null,null,null,null,null,null,null,null,"000002377","TOCCOCCORI","04","01","05","08","0401","000002377 - TOCCOCCORI"]
[null,null,null,null,null,null,null,null,null,null,null,null,null,null,"000018241","HAMPATURA","04","01","05","01","0401","000018241 - HAMPATURA"]
[null,null,null,null,null,null,null,null,null,null,null,null,null,null,"000032339","CCOCHAPATA","04","01","05","08","0401","000032339 - CCOCHAPATA"]
[null,null,null,null,null,null,null,null,null,null,null,null,null,null,"000000000","(All)","04","02",null,null,"0402","000000000 - (All)"]
[null,null,null,null,null,null,null,null,null,null,null,null,null,null,"000002366","CHECCA","04","02","05","02","0402","000002366 - CHECCA"]
[null,null,null,null,null,null,null,null,null,null,null,null,null,null,"000002367","CHITIBAMBA","04","01","05","02","0401","000002367 - CHITIBAMBA"]
[null,null,null,null,null,null,null,null,null,null,null,null,null,null,"000007700","EL DESCANSO","04","02","05","03","0402","000007700 - EL DESCANSO"]
[null,null,null,null,null,null,null,null,null,null,null,null,null,null,"000000000","(All)","04","03",null,null,"0403","000000000 - (All)"]
[null,null,null,null,null,null,null,null,null,null,null,null,null,null,"000002320","MOSOCLLACTA","04","03","02","04","0403","000002320 - MOSOCLLACTA"]
[null,null,null,null,null,null,null,null,null,null,null,null,null,null,"000002385","CHECACUPE","04","03","06","02","0403","000002385 - CHECACUPE"]
[null,null,null,null,null,null,null,null,null,null,null,null,null,null,"000002386","COMBAPATA CANCHIS","04","03","06","03","0403","000002386 - COMBAPATA CANCHIS"]
[null,null,null,null,null,null,null,null,null,null,null,null,null,null,"000002387","CHIARA","04","03","06","03","0403","000002387 - CHIARA"]
[null,null,null,null,null,null,null,null,null,null,null,null,null,null,"000002392","PITUMARCA","04","03","06","05","0403","000002392 - PITUMARCA"]
[null,null,null,null,null,null,null,null,null,null,null,null,null,null,"000002397","TINTA","04","03","06","08","0403","000002397 - TINTA"]
[null,null,null,null,null,null,null,null,null,null,null,null,null,null,"000000000","(All)","04","04",null,null,"0404","000000000 - (All)"]
[null,null,null,null,null,null,null,null,null,null,null,null,null,null,"000002369","LANGUI","04","04","05","04","0404","000002369 - LANGUI"]
[null,null,null,null,null,null,null,null,null,null,null,null,null,null,"000002370","CONDEVILUYO","04","04","05","04","0404","000002370 - CONDEVILUYO"]
[null,null,null,null,null,null,null,null,null,null,null,null,null,null,"000002371","LAYO","04","04","05","05","0404","000002371 - LAYO"]
[null,null,null,null,null,null,null,null,null,null,null,null,null,null,"000002379","HERCCA","04","04","06","01","0404","000002379 - HERCCA"]
[null,null,null,null,null,null,null,null,null,null,null,null,null,null,"000002380","TECHO OBRERO","04","04","06","01","0404","000002380 - TECHO OBRERO"]
[null,null,null,null,null,null,null,null,null,null,null,null,null,null,"000002388","MARANGANI","04","04","06","04","0404","000002388 - MARANGANI"]
[null,null,null,null,null,null,null,null,null,null,null,null,null,null,"000002389","CHECTUYOC","04","04","06","04","0404","000002389 - CHECTUYOC"]
[null,null,null,null,null,null,null,null,null,null,null,null,null,null,"000002390","CCUYO","04","04","06","04","0404","000002390 - CCUYO"]
[null,null,null,null,null,null,null,null,null,null,null,null,null,null,"000002391","OCCOBAMBA MARANGANI","04","04","06","04","0404","000002391 - OCCOBAMBA MARANGANI"]
[null,null,null,null,null,null,null,null,null,null,null,null,null,null,"000010063","ESSALUD SICUANI","04","04","06","01","0404","000010063 - ESSALUD SICUANI"]
[null,null,null,null,null,null,null,null,null,null,null,null,null,null,"000024639","INPE SICUANI","04","04","06","01","0404","000024639 - INPE SICUANI"]
[null,null,null,null,null,null,null,null,null,null,null,null,null,null,"000024663","SANIDAD PNP  SICUANI","04","04","06","01","0404","000024663 - SANIDAD PNP  SICUANI"]
[null,null,null,null,null,null,null,null,null,null,null,null,null,null,"000000000","(All)","04","05",null,null,"0405","000000000 - (All)"]
[null,null,null,null,null,null,null,null,null,null,null,null,null,null,"000002381","QUEHUAR","04","05","06","01","0405","000002381 - QUEHUAR"]
[null,null,null,null,null,null,null,null,null,null,null,null,null,null,"000002382","UZCUPATA","04","05","06","01","0405","000002382 - UZCUPATA"]
[null,null,null,null,null,null,null,null,null,null,null,null,null,null,"000002383","LA FLORIDA","04","05","06","01","0405","000002383 - LA FLORIDA"]
[null,null,null,null,null,null,null,null,null,null,null,null,null,null,"000002384","PAMPAPHALLA","04","05","06","01","0405","000002384 - PAMPAPHALLA"]
[null,null,null,null,null,null,null,null,null,null,null,null,null,null,"000002393","PHINAYA","04","05","06","05","0405","000002393 - PHINAYA"]
[null,null,null,null,null,null,null,null,null,null,null,null,null,null,"000002394","SAN PABLO CANCHIS","04","05","06","06","0405","000002394 - SAN PABLO CANCHIS"]
[null,null,null,null,null,null,null,null,null,null,null,null,null,null,"000002395","SANTA BARBARA","04","05","06","06","0405","000002395 - SANTA BARBARA"]
[null,null,null,null,null,null,null,null,null,null,null,null,null,null,"000002396","SAN PEDRO CANCHIS","04","05","06","07","0405","000002396 - SAN PEDRO CANCHIS"]
[null,null,null,null,null,null,null,null,null,null,null,null,null,null,"000026387","MENTAL COMUNITARIO SICUANI","04","05","06","01","0405","000026387 - MENTAL COMUNITARIO SICUANI"]
[null,null,null,null,null,null,null,null,null,null,null,null,null,null,"000032923","SR DE PAMPACUCHO-SICUANI","04","05","06","01","0405","000032923 - SR DE PAMPACUCHO-SICUANI"]
[null,null,null,null,null,null,null,null,null,null,null,null,null,null,"000000000","(All)","04","06",null,null,"0406","000000000 - (All)"]
[null,null,null,null,null,null,null,null,null,null,null,null,null,null,"000002410","YAURI","04","06","08","01",{"$f":"CONCATENATE(Q349,R349)","v":"0406"},{"$f":"CONCATENATE(O349,\" - \",P349)","v":"000002410 - YAURI"}]
[null,null,null,null,null,null,null,null,null,null,null,null,null,null,"000002411","CONDOROMA","04","06","08","02","0406","000002411 - CONDOROMA"]
[null,null,null,null,null,null,null,null,null,null,null,null,null,null,"000002412","COPORAQUE","04","06","08","03","0406","000002412 - COPORAQUE"]
[null,null,null,null,null,null,null,null,null,null,null,null,null,null,"000002413","URINSAYA","04","06","08","03","0406","000002413 - URINSAYA"]
[null,null,null,null,null,null,null,null,null,null,null,null,null,null,"000002414","HUAYHUAHUASI","04","06","08","03","0406","000002414 - HUAYHUAHUASI"]
[null,null,null,null,null,null,null,null,null,null,null,null,null,null,"000002415","OCCORURO","04","06","08","04","0406","000002415 - OCCORURO"]
[null,null,null,null,null,null,null,null,null,null,null,null,null,null,"000002416","PALLPATA","04","06","08","05","0406","000002416 - PALLPATA"]
[null,null,null,null,null,null,null,null,null,null,null,null,null,null,"000002417","PICHIGUA ESPINAR","04","06","08","06","0406","000002417 - PICHIGUA ESPINAR"]
[null,null,null,null,null,null,null,null,null,null,null,null,null,null,"000002418","SAN MIGUEL","04","06","08","06","0406","000002418 - SAN MIGUEL"]
[null,null,null,null,null,null,null,null,null,null,null,null,null,null,"000002419","SUYKUTAMBO","04","06","08","07","0406","000002419 - SUYKUTAMBO"]
[null,null,null,null,null,null,null,null,null,null,null,null,null,null,"000002420","ACCOCUNCA","04","06","08","08","0406","000002420 - ACCOCUNCA"]
[null,null,null,null,null,null,null,null,null,null,null,null,null,null,"000006745","TINTAYA MARQUIRI","04","06","08","01","0406","000006745 - TINTAYA MARQUIRI"]
[null,null,null,null,null,null,null,null,null,null,null,null,null,null,"000010061","ESPINAR - ESSALUD","04","06","08","01","0406","000010061 - ESPINAR - ESSALUD"]
[null,null,null,null,null,null,null,null,null,null,null,null,null,null,"000030366","MENTAL COMUNITARIO ESPINAR \"MUSUQ KAWSAY\"","04","06","08","01","0406","000030366 - MENTAL COMUNITARIO ESPINAR \"MUSUQ KAWSAY\""]
[null,null,null,null,null,null,null,null,null,null,null,null,null,null,"999999999","(All)","04","99",null,null,"0499","999999999 - (All)"]
[null,null,null,null,null,null,null,null,null,null,null,null,null,null,"000002469","SAN JUAN DE KIMBIRI-VRAEM","05","00","09","07","0500","000002469 - SAN JUAN DE KIMBIRI-VRAEM"]
[null,null,null,null,null,null,null,null,null,null,null,null,null,null,"000000000","(All)","05","01",null,null,"0501","000000000 - (All)"]
[null,null,null,null,null,null,null,null,null,null,null,null,null,null,"000002470","CHIRUMPIARI","05","01","09","07","0501","000002470 - CHIRUMPIARI"]
[null,null,null,null,null,null,null,null,null,null,null,null,null,null,"000002471","LOBO TAHUANTINSUYO","05","01","09","07","0501","000002471 - LOBO TAHUANTINSUYO"]
[null,null,null,null,null,null,null,null,null,null,null,null,null,null,"000002472","MAPITUNARI","05","01","09","07","0501","000002472 - MAPITUNARI"]
[null,null,null,null,null,null,null,null,null,null,null,null,null,null,"000002473","UNION ROSALES","05","01","09","07","0501","000002473 - UNION ROSALES"]
[null,null,null,null,null,null,null,null,null,null,null,null,null,null,"000002474","SAMANIATO","05","01","09","07","0501","000002474 - SAMANIATO"]
[null,null,null,null,null,null,null,null,null,null,null,null,null,null,"000002475","KIMBIRI ALTO","05","01","09","07","0501","000002475 - KIMBIRI ALTO"]
[null,null,null,null,null,null,null,null,null,null,null,null,null,null,"000002479","VILLA VIRGEN","05","01","09","12","0501","000002479 - VILLA VIRGEN"]
[null,null,null,null,null,null,null,null,null,null,null,null,null,null,"000002488","VILLA KINTIARINA","05","01","09","13","0501","000002488 - VILLA KINTIARINA"]
[null,null,null,null,null,null,null,null,null,null,null,null,null,null,"000008283","PUEBLO LIBRE","05","01","09","13","0501","000008283 - PUEBLO LIBRE"]
[null,null,null,null,null,null,null,null,null,null,null,null,null,null,"000008284","MANITEA ALTA","05","01","09","07","0501","000008284 - MANITEA ALTA"]
[null,null,null,null,null,null,null,null,null,null,null,null,null,null,"000008285","ANGELES","05","01","09","07","0501","000008285 - ANGELES"]
[null,null,null,null,null,null,null,null,null,null,null,null,null,null,"000024957","BTC LA OROYA  N°34 VILLA VIRGEN","05","01","09","12","0501","000024957 - BTC LA OROYA  N°34 VILLA VIRGEN"]
[null,null,null,null,null,null,null,null,null,null,null,null,null,null,"000000000","(All)","05","02",null,null,"0502","000000000 - (All)"]
[null,null,null,null,null,null,null,null,null,null,null,null,null,null,"000002494","PICHARI","05","02","09","10","0502","000002494 - PICHARI"]
[null,null,null,null,null,null,null,null,null,null,null,null,null,null,"000002495","MANTARO","05","02","09","10","0502","000002495 - MANTARO"]
[null,null,null,null,null,null,null,null,null,null,null,null,null,null,"000002496","OMAYA","05","02","09","10","0502","000002496 - OMAYA"]
[null,null,null,null,null,null,null,null,null,null,null,null,null,null,"000002497","OTARI","05","02","09","10","0502","000002497 - OTARI"]
[null,null,null,null,null,null,null,null,null,null,null,null,null,null,"000002498","PUERTO MAYO","05","02","09","10","0502","000002498 - PUERTO MAYO"]
[null,null,null,null,null,null,null,null,null,null,null,null,null,null,"000007113","NATIVIDAD","05","02","09","10","0502","000007113 - NATIVIDAD"]
[null,null,null,null,null,null,null,null,null,null,null,null,null,null,"000007114","QUISTO CENTRAL","05","02","09","10","0502","000007114 - QUISTO CENTRAL"]
[null,null,null,null,null,null,null,null,null,null,null,null,null,null,"000015104","TAMBO DEL ENE","05","02","09","10","0502","000015104 - TAMBO DEL ENE"]
[null,null,null,null,null,null,null,null,null,null,null,null,null,null,"000015169","PITIRINQUINI","05","02","09","10","0502","000015169 - PITIRINQUINI"]
[null,null,null,null,null,null,null,null,null,null,null,null,null,null,"000015170","PICHARI BAJA","05","02","09","10","0502","000015170 - PICHARI BAJA"]
[null,null,null,null,null,null,null,null,null,null,null,null,null,null,"000024638","MILITAR PICHARI","05","02","09","10","0502","000024638 - MILITAR PICHARI"]
[null,null,null,null,null,null,null,null,null,null,null,null,null,null,"000027230","MEDICA POLICIAL PICHARI","05","02","09","10","0502","000027230 - MEDICA POLICIAL PICHARI"]
[null,null,null,null,null,null,null,null,null,null,null,null,null,null,"000027948","ESSALUD PICHARI","05","02","09","10","0502","000027948 - ESSALUD PICHARI"]
[null,null,null,null,null,null,null,null,null,null,null,null,null,null,"000032211","NUEVO PROGRESO","05","02","09","10","0502","000032211 - NUEVO PROGRESO"]
[null,null,null,null,null,null,null,null,null,null,null,null,null,null,"000033988","MENTAL COMUNITARIO PICHARI","05","02","09","10","0502","000033988 - MENTAL COMUNITARIO PICHARI"]
[null,null,null,null,null,null,null,null,null,null,null,null,null,null,"999999999","(All)","05","99",null,null,"0599","999999999 - (All)"]
[null,null,null,null,null,null,null,null,null,null,null,null,null,null,"000002398","SANTO TOMAS","06","00","07","01","0600","000002398 - SANTO TOMAS"]
[null,null,null,null,null,null,null,null,null,null,null,null,null,null,"000033097","SAMUE CHUMBIVILCAS","06","00","07","01","0600","000033097 - SAMUE CHUMBIVILCAS"]
[null,null,null,null,null,null,null,null,null,null,null,null,null,null,"000000000","(All)","06","01",null,null,"0601","000000000 - (All)"]
[null,null,null,null,null,null,null,null,null,null,null,null,null,null,"000002402","CHAMACA","06","01","07","03","0601","000002402 - CHAMACA"]
[null,null,null,null,null,null,null,null,null,null,null,null,null,null,"000002403","AÑAHUICHI","06","01","07","03","0601","000002403 - AÑAHUICHI"]
[null,null,null,null,null,null,null,null,null,null,null,null,null,null,"000002406","LIVITACA","06","01","07","05","0601","000002406 - LIVITACA"]
[null,null,null,null,null,null,null,null,null,null,null,null,null,null,"000016325","CHILLOROYA - LIVITACA","06","01","07","05","0601","000016325 - CHILLOROYA - LIVITACA"]
[null,null,null,null,null,null,null,null,null,null,null,null,null,null,"000016327","AUSANTA","06","01","07","05","0601","000016327 - AUSANTA"]
[null,null,null,null,null,null,null,null,null,null,null,null,null,null,"000016328","UCCHUCCARCCO","06","01","07","03","0601","000016328 - UCCHUCCARCCO"]
[null,null,null,null,null,null,null,null,null,null,null,null,null,null,"000016329","INGATA","06","01","07","03","0601","000016329 - INGATA"]
[null,null,null,null,null,null,null,null,null,null,null,null,null,null,"000016330","CCONCHACCOLLO","06","01","07","03","0601","000016330 - CCONCHACCOLLO"]
[null,null,null,null,null,null,null,null,null,null,null,null,null,null,"000016332","PATAQUEÑA - LIVITACA","06","01","07","05","0601","000016332 - PATAQUEÑA - LIVITACA"]
[null,null,null,null,null,null,null,null,null,null,null,null,null,null,"000016334","KISIO","06","01","07","05","0601","000016334 - KISIO"]
[null,null,null,null,null,null,null,null,null,null,null,null,null,null,"000025739","PISQUICOCHA","06","01","07","05","0601","000025739 - PISQUICOCHA"]
[null,null,null,null,null,null,null,null,null,null,null,null,null,null,"000025740","TOTORA - REYNA DE LOS ANGELES","06","01","07","05","0601","000025740 - TOTORA - REYNA DE LOS ANGELES"]
[null,null,null,null,null,null,null,null,null,null,null,null,null,null,"000000000","(All)","06","09",null,null,"0609","000000000 - (All)"]
[null,null,null,null,null,null,null,null,null,null,null,null,null,null,"000002399","PULPERA","06","09","07","01","0609","000002399 - PULPERA"]
[null,null,null,null,null,null,null,null,null,null,null,null,null,null,"000002400","ALHUACCHULLO","06","09","07","01","0609","000002400 - ALHUACCHULLO"]
[null,null,null,null,null,null,null,null,null,null,null,null,null,null,"000002401","CCAPACMARCA","06","09","07","02","0609","000002401 - CCAPACMARCA"]
[null,null,null,null,null,null,null,null,null,null,null,null,null,null,"000002404","COLQUEMARCA","06","09","07","04","0609","000002404 - COLQUEMARCA"]
[null,null,null,null,null,null,null,null,null,null,null,null,null,null,"000002405","CHARAMURAY","06","09","07","04","0609","000002405 - CHARAMURAY"]
[null,null,null,null,null,null,null,null,null,null,null,null,null,null,"000002407","LLUSCO","06","09","07","06","0609","000002407 - LLUSCO"]
[null,null,null,null,null,null,null,null,null,null,null,null,null,null,"000002408","QUIÑOTA","06","09","07","07","0609","000002408 - QUIÑOTA"]
[null,null,null,null,null,null,null,null,null,null,null,null,null,null,"000002409","VELILLE","06","09","07","08","0609","000002409 - VELILLE"]
[null,null,null,null,null,null,null,null,null,null,null,null,null,null,"000006746","LLIQUE","06","09","07","01","0609","000006746 - LLIQUE"]
[null,null,null,null,null,null,null,null,null,null,null,null,null,null,"000006747","LUTTO","06","09","07","06","0609","000006747 - LUTTO"]
[null,null,null,null,null,null,null,null,null,null,null,null,null,null,"000006748","COLLPA","06","09","07","06","0609","000006748 - COLLPA"]
[null,null,null,null,null,null,null,null,null,null,null,null,null,null,"000006981","CCOYO","06","09","07","01",{"$f":"CONCATENATE(Q422,R422)","v":"0609"},{"$f":"CONCATENATE(O422,\" - \",P422)","v":"000006981 - CCOYO"}]
[null,null,null,null,null,null,null,null,null,null,null,null,null,null,"000006982","MELLOTOTORA","06","09","07","01","0609","000006982 - MELLOTOTORA"]
[null,null,null,null,null,null,null,null,null,null,null,null,null,null,"000006983","ORCCOMA","06","09","07","01","0609","000006983 - ORCCOMA"]
[null,null,null,null,null,null,null,null,null,null,null,null,null,null,"000006984","CCOLLANA","06","09","07","07","0609","000006984 - CCOLLANA"]
[null,null,null,null,null,null,null,null,null,null,null,null,null,null,"000006985","TOTORAPALLCA","06","09","07","06","0609","000006985 - TOTORAPALLCA"]
[null,null,null,null,null,null,null,null,null,null,null,null,null,null,"000007111","YAVINA","06","09","07","01","0609","000007111 - YAVINA"]
[null,null,null,null,null,null,null,null,null,null,null,null,null,null,"000007112","YORENCCA","06","09","07","07","0609","000007112 - YORENCCA"]
[null,null,null,null,null,null,null,null,null,null,null,null,null,null,"000008912","ALCCA VICTORIA","06","09","07","08","0609","000008912 - ALCCA VICTORIA"]
[null,null,null,null,null,null,null,null,null,null,null,null,null,null,"000008913","HUARACO","06","09","07","04","0609","000008913 - HUARACO"]
[null,null,null,null,null,null,null,null,null,null,null,null,null,null,"000008914","HUAYLLANI","06","09","07","04","0609","000008914 - HUAYLLANI"]
[null,null,null,null,null,null,null,null,null,null,null,null,null,null,"000008915","PFULLPURI CONDEPAMPA","06","09","07","01","0609","000008915 - PFULLPURI CONDEPAMPA"]
[null,null,null,null,null,null,null,null,null,null,null,null,null,null,"000009963","CANCAHUANI","06","09","07","02","0609","000009963 - CANCAHUANI"]
[null,null,null,null,null,null,null,null,null,null,null,null,null,null,"000012932","YANQUE","06","09","07","04","0609","000012932 - YANQUE"]
[null,null,null,null,null,null,null,null,null,null,null,null,null,null,"000013185","CAP I SANTO TOMÁS  ESSALUD","06","09","07","01","0609","000013185 - CAP I SANTO TOMÁS  ESSALUD"]
[null,null,null,null,null,null,null,null,null,null,null,null,null,null,"000025369","PUMALLACTA","06","09","07","07","0609","000025369 - PUMALLACTA"]
[null,null,null,null,null,null,null,null,null,null,null,null,null,null,"000025371","TUNTUMA","06","09","07","08","0609","000025371 - TUNTUMA"]
[null,null,null,null,null,null,null,null,null,null,null,null,null,null,"000027008","ANTUYO","06","09","07","06","0609","000027008 - ANTUYO"]
[null,null,null,null,null,null,null,null,null,null,null,null,null,null,"000027009","TAHUAY","06","09","07","02","0609","000027009 - TAHUAY"]
[null,null,null,null,null,null,null,null,null,null,null,null,null,null,"000027011","AYACCASI","06","09","07","08","0609","000027011 - AYACCASI"]
[null,null,null,null,null,null,null,null,null,null,null,null,null,null,"000027016","HUAYCUÑUTA - URCURUTA","06","09","07","08","0609","000027016 - HUAYCUÑUTA - URCURUTA"]
[null,null,null,null,null,null,null,null,null,null,null,null,null,null,"000030940","ARCANGEL SAN MIGUEL DE ESQUINA CONGUNYA","06","09","07","01","0609","000030940 - ARCANGEL SAN MIGUEL DE ESQUINA CONGUNYA"]
[null,null,null,null,null,null,null,null,null,null,null,null,null,null,"999999999","(All)","06","99",null,null,"0699","999999999 - (All)"]
[null,null,null,null,null,null,null,null,null,null,null,null,null,null,"999999999","(All)","99","99",null,null,"9999","999999999 - (All)"]

{"sheet":"TABLAS","index":2,"n_rows":544,"n_cols":231,"rows_kept":544,"cut":false,"hidden":true,"merged":[[479,0,479,1],[232,0,232,1],[357,0,357,1],[388,0,388,1],[418,0,418,1],[449,0,449,1],[511,0,511,1],[541,0,541,1],[11,3,11,6],[12,3,12,6],[7,2,7,6],[8,3,8,6],[9,3,9,6],[10,3,10,6],[13,3,13,6],[267,0,267,1],[297,0,297,1],[327,0,327,1],[94,0,94,1],[128,0,128,1],[162,0,162,1],[197,0,197,1]]}
[]
[]
[]
[]
[]
[]
[]
[null,null,"Valores",null,null,null,null,null,"Tabla",{"$f":"IF(I9=\"(Todas)\",\"CUSCO \",\"\")","v":""}]
[null,null,"RED","03 - LA CONVENCION",null,null,null,null,{"$f":"IF(MID(D9,1,2)=\"99\",\"(All)\",MID(D9,1,2))","v":"03"},{"$f":"IF(I9=\"(All)\",\" \",I9)","v":"03"},null,null,{"$f":"LEN(MID(D9,5,90))","v":14},null,{"$f":"IF(MID(D9,6,5)=\"(All)\",\"\",D9)","v":"03 - LA CONVENCION"}]
[null,null,"Micro RED","0399 - (All)",null,null,null,null,{"$f":"IF(MID(D10,3,2)=\"99\",\"(All)\",MID(D10,1,4))","v":"(All)"}," ",null,null,{"$f":"LEN(MID(D10,7,90))","v":6},null,{"$f":"IF(MID(D10,8,5)=\"(All)\",\"\",D10)","v":""}]
[null,null,"Establecimiento","999999999 - (All)",null,null,null,null,{"$f":"IF(OR(MID(D11,1,9)=\"999999999\",MID(D11,1,9)=\"000000000\"),\"(All)\",MID(D11,1,9))","v":"(All)"}," ",null,null,{"$f":"LEN(MID(D11,12,90))","v":6},null,{"$f":"IF(MID(D11,13,5)=\"(All)\",\"\",D11)","v":""}]
[null,null,"Provincia","00 - (All)",null,null,null,null,{"$f":"IF(MID(D12,1,2)=\"00\",\"(All)\",MID(D12,1,2))","v":"(All)"}," ",null,null,{"$f":"LEN(MID(D12,6,90))","v":5},null,{"$f":"IF(MID(D12,6,5)=\"(All)\",\"\",D12)","v":""}]
[null,null,"Distrito","0000 - (All)",null,null,null,null,{"$f":"IF(OR(MID(D13,1,4)=\"0000\",MID(D13,3,2)=\"00\"),\"(All)\",MID(D13,1,4))","v":"(All)"}," ",null,null,{"$f":"LEN(MID(D13,8,90))","v":5},null,{"$f":"IF(MID(D13,8,5)=\"(All)\",\"\",D13)","v":""}]
[null,null,"Ejecutora","99 - (ALL)",null,null,null,null,{"$f":"IF(MID(D14,1,2)=\"99\",\"(All)\",MID(D14,1,2))","v":"(All)"}," ",null,null,{"$f":"LEN(MID(D14,5,90))","v":6},null,{"$f":"IF(MID(D14,6,5)=\"(All)\",\"\",D14)","v":""}]
[]
[null,null,"Año","2024",null,null,null,null,{"$f":"+D16","v":"2024"},{"$f":"IF(I16=\"(Todas)\",\" \",I16)","v":"2024"}]
[]
[]
[]
[null,1,1,1,1,1,1,1,1,1,1,1,0,{"$f":"SUM(B20:M20)","v":11}]
[null,{"$f":"IF(B20=1,\"ENERO\",\"\")","v":"ENERO"},{"$f":"IF(C20=1,\"FEBRERO\",\"\")","v":"FEBRERO"},{"$f":"IF(D20=1,\"MARZO\",\"\")","v":"MARZO"},{"$f":"IF(E20=1,\"ABRIL\",\"\")","v":"ABRIL"},{"$f":"IF(F20=1,\"MAYO\",\"\")","v":"MAYO"},{"$f":"IF(G20=1,\"JUNIO\",\"\")","v":"JUNIO"},{"$f":"IF(H20=1,\"JULIO\",\"\")","v":"JULIO"},{"$f":"IF(I20=1,\"AGOSTO\",\"\")","v":"AGOSTO"},{"$f":"IF(J20=1,\"SETIEMBRE\",\"\")","v":"SETIEMBRE"},{"$f":"IF(K20=1,\"OCTUBRE\",\"\")","v":"OCTUBRE"},{"$f":"IF(L20=1,\"NOVIEMBRE\",\"\")","v":"NOVIEMBRE"},{"$f":"IF(M20=1,\"DICIEMBRE\",\"\")","v":""},{"$f":"IF(B20=1,B21,IF(C20=1,C21,IF(D20=1,D21,IF(E20=1,E21,IF(F20=1,F21,IF(G20=1,G21,IF(H20=1,H21,IF(I20=1,I21,IF(J20=1,J21,IF(K20=1,K21,IF(L20=1,L21,IF(M20=1,M21,\"\"))))))))))))","v":"ENERO"}]
[null,null,null,null,null,null,null,null,null,null,null,null,null,{"$f":"IF(N20=1,N21,\"\")","v":""}]
[null,2,4,6,8,10,12,14,16,18,20,22,null,{"$f":"MIN(B23:M23)","v":2},{"$f":"MAX(B23:M23)","v":22},{"$f":"MAX(C23:N23)","v":22}]
[null,{"$f":"IF(B23=2,\"ENE\",\"\")","v":"ENE"},{"$f":"IF(C23=4,\"FEB\",\"\")","v":"FEB"},{"$f":"IF(D23=6,\"MAR\",\"\")","v":"MAR"},{"$f":"IF(E23=8,\"ABR\",\"\")","v":"ABR"},{"$f":"IF(F23=10,\"MAY\",\"\")","v":"MAY"},{"$f":"IF(G23=12,\"JUN\",\"\")","v":"JUN"},{"$f":"IF(H23=14,\"JUL\",\"\")","v":"JUL"},{"$f":"IF(I23=16,\"AGO\",\"\")","v":"AGO"},{"$f":"IF(J23=18,\"SET\",\"\")","v":"SET"},{"$f":"IF(K23=20,\"OCT\",\"\")","v":"OCT"},{"$f":"IF(L23=22,\"NOV\",\"\")","v":"NOV"},{"$f":"IF(M23=24,\"DIC\",\"\")","v":""},{"$f":"IF(N23=B23,B24,IF(N23=C23,C24,IF(N23=D23,D24,IF(N23=E23,E24,IF(N23=F23,F24,IF(N23=G23,G24,IF(N23=H23,H24,IF(N23=I23,I24,IF(N23=J23,J24,IF(N23=K23,K24,IF(N23=L23,L24,IF(N23=M23,M24,\"\"))))))))))))","v":"ENE"},{"$f":"IF(O23=C23,C24,IF(O23=D23,D24,IF(O23=E23,E24,IF(O23=F23,F24,IF(O23=G23,G24,IF(O23=H23,H24,IF(O23=I23,I24,IF(O23=J23,J24,IF(O23=K23,K24,IF(O23=L23,L24,IF(O23=M23,M24,\"\")))))))))))","v":"NOV"},{"$f":"IF(P23=D23,D24,IF(P23=E23,E24,IF(P23=F23,F24,IF(P23=G23,G24,IF(P23=H23,H24,IF(P23=I23,I24,IF(P23=J23,J24,IF(P23=K23,K24,IF(P23=L23,L24,IF(P23=M23,M24,IF(P23=N23,N24,\"\")))))))))))","v":"NOV"}]
[null,null,null,null,null,null,null,null,null,null,null,null,null,{"$f":"CONCATENATE(N24,\" - \",O24)","v":"ENE - NOV"}]
[null,null,null,null,null,null,null,null,null,null,null,null,null,{"$f":"IF(N23=O23,N22,N25)","v":"ENE - NOV"}]
[]
[]
[]
[]
[]
[]
[]
[]
[]
[]
[]
[]
[]
[]
[]
[]
[]
[]
[]
[]
[]
[]
[]
[]
[]
[]
[]
[]
[]
[]
[]
[]
[]
[]
[]
[]
[]
[]
[]
["ITSVIH0011F"]
["anno",2024]
["cod_red","03"]
["codmic","(Todas)"]
["cod_prov","(Todas)"]
["coddist","(Todas)"]
["cod_estab","(Todas)"]
["cod_eje","(Todas)"]
[null,null,null,null,null,null,null,null,null,null,null,null,null,null,null,null,null,null,null,null,null,null,null,null,null,null,null,null,null,null,null,null,null,null,null,null,"d_du","d_du","d_du","d_du","d_du","t_du","t_du","t_du","t_du","t_du","c_du","c_du","ct_du","ct_du"]
[null,"Valores"]
["Etiquetas de fila"," BAS001"," BAS002"," BAS003"," BAS004"," BAS005"," BAS006"," BAS007"," BAS008"," BAS009"," BAS010"," BAS011"," BAS012"," BAS013"," BAS014"," BAS015"," BAS016"," BAS017"," BAS018"," BAS019"," BAS020"," BAS021"," BAS022"," BAS023"," BAS024"," BAS025"," BAS026"," BAS027"," BAS028"," BAS029"," BAS030"," BAS031"," BAS032"," BAS033"," BAS034"," BAS035"," BAS036"," BAS037"," BAS038"," BAS039"," BAS040"," BAS041"," BAS042"," BAS043"," BAS044"," BAS045"," BAS046"," BAS047"," BAS048"," BAS049"," BAS050"," BAS051"," BAS052"," BAS053"," BAS054"," BAS055"," BAS056"," BAS057"," BAS058"," BAS059"," BAS060"," BAS061"," BAS062"," BAS063"," BAS064"," BAS065"," BAS066"," BAS067"," BAS068"," BAS069"," BAS070"," BAS071"," BAS072"," BAS073"," BAS074"," BAS075"," BAS076"," BAS077"," BAS078"," BAS079"," BAS080"," BAS081"," BAS082"," BAS083"," BAS084"," BAS085"," BAS086"," BAS087"," BAS088"," BAS089"," BAS090"," BAS091"," BAS092"," BAS093"," BAS094"," BAS095"," BAS096"," BAS097"," BAS098"," BAS099"," BAS100"," BAS101"," BAS102"," BAS103"," BAS104"," BAS105"," BAS106"," BAS107"," BAS108"," BAS109"," BAS110"," BAS111"," BAS112"," BAS113"," BAS114"," BAS115"," BAS116"," BAS117"," BAS118"," BAS119"," BAS120"," BAS121"," BAS122"," BAS123"," BAS124"," BAS125"," BAS126"," BAS127"," BAS128"," BAS129"," BAS130"," BAS131"," BAS132"," BAS133"," BAS134"," BAS135"," BAS136"," BAS137"," BAS138"," BAS139"," BAS140"," BAS141"," BAS142"," BAS143"," BAS144"," BAS145"," BAS146"," BAS147"," BAS148"," BAS149"," BAS150"," BAS151"," BAS152"," BAS153"," BAS154"," BAS155"," BAS156"," BAS157"," BAS158"," BAS159"," BAS160"," BAS161"," BAS162"," BAS163"," BAS164"," BAS165"," BAS166"," BAS167"," BAS168"," BAS169"," BAS170"," BAS171"," BAS172"," BAS173"," BAS174"," BAS175"," BAS176"," BAS177"," BAS178"," BAS179"," BAS180"," BAS181"," BAS182"," BAS183"," BAS184"," BAS185"," BAS186"," BAS187"," BAS188"," BAS189"," BAS190"," BAS191"," BAS192"," BAS193"," BAS194"," BAS195"," BAS196"," BAS197"," BAS198"," BAS199"," BAS200"," BAS201"," BAS202"," BAS203"," BAS204"," BAS205"," BAS206"," BAS207"," BAS208"," BAS209"," BAS210"," BAS211"," BAS212"," BAS213"," BAS214"," BAS215"," BAS216"," BAS217"," BAS218"," BAS219"," BAS220"," BAS221"," BAS222"," BAS223"," BAS224"," BAS225"," BAS226"," BAS227"," BAS228"," BAS229"," BAS230"]
[2,0,0,0,0,0,0,0,0,0,0,0,0,0,0,0,0,0,0,0,0,0,0,0,0,0,0,0,0,0,0,0,0,0,0,0,0,0,0,0,0,0,0,0,0,0,0,0,0,0,0,0,0,0,0,0,0,0,0,0,0,4,0,0,0,0,0,0,6,0,0,1,0,0,0,0,0,0,0,0,0,0,0,0,0,0,0,0,5,0,0,0,1,0,0,0,0,0,0,0,0,0,1,1,0,0,0,0,0,0,0,0,1,0,0,0,0,0,0,0,0,0,0,0,0,0,0,0,0,0,0,0,0,0,0,0,0,0,0,0,0,0,0,0,0,0,0,0,0,0,0,0,0,0,0,0,0,0,0,0,0,0,0,0,0,0,0,0,0,0,0,0,0,0,0,0,0,0,0,0,0,0,0,0,0,0,0,0,0,0,0,1,0,0,0,0,0,0,0,0,0,0,0,0,0,0,0,0,0,0,0,0,0,0,0,0,0,0,0,0,0,0,0,0,0,0,0,0,0,0,0]
[3,0,0,0,0,0,0,0,0,0,0,0,0,0,0,0,0,0,0,0,0,0,0,0,0,0,0,0,0,0,0,0,0,0,0,0,0,0,0,0,0,0,0,0,0,0,0,0,0,0,0,0,0,0,0,0,0,0,0,0,0,3,0,0,0,0,0,0,4,0,0,0,0,0,0,0,0,0,0,0,0,0,0,0,0,0,0,0,4,0,0,0,0,0,0,0,0,0,0,0,0,0,1,1,0,0,0,0,0,0,0,0,1,0,0,0,0,0,0,0,0,0,0,0,0,0,0,0,0,0,0,0,0,0,0,0,0,0,0,0,0,0,0,0,0,0,0,0,0,0,0,0,0,0,0,0,0,0,0,0,0,0,0,0,0,0,0,0,0,0,0,0,0,0,0,0,0,0,0,0,0,0,0,0,0,0,0,0,0,0,0,0,1,0,0,1,0,0,0,0,0,0,0,0,0,0,0,0,0,0,0,0,0,0,0,0,0,0,0,0,0,0,0,0,0,0,0,0,0,0,0]
[1,0,0,0,0,0,0,0,0,1,1,0,0,0,0,0,0,0,0,0,0,0,0,0,0,0,0,0,0,0,0,0,0,0,0,0,0,0,0,0,0,0,0,0,0,0,0,0,0,0,0,0,0,0,0,0,0,0,0,0,0,0,0,0,0,0,0,0,5,0,0,2,0,0,0,0,0,0,0,0,0,0,0,0,0,0,0,0,6,0,0,0,2,0,0,0,0,0,0,0,0,0,0,0,0,0,0,0,0,0,0,0,0,0,0,0,0,0,0,0,0,0,0,0,0,0,0,0,0,0,0,0,0,0,0,0,0,0,0,0,0,0,0,0,0,0,0,0,0,0,0,0,0,0,0,0,0,0,0,0,0,0,0,0,0,0,0,0,0,0,0,0,0,0,0,0,0,0,0,0,0,0,0,0,0,0,0,0,0,0,0,0,0,0,0,0,0,0,0,0,0,0,0,0,0,0,0,0,0,0,0,0,0,0,0,0,0,0,0,0,0,0,0,0,0,0,0,0,0,0,0]
[4,1,1,1,1,0,0,0,0,1,1,1,1,0,0,0,0,0,0,0,0,0,0,0,0,0,0,0,0,0,0,0,0,0,0,0,0,0,0,0,0,0,0,0,0,0,0,0,0,0,0,0,0,0,0,0,0,0,0,0,0,1,0,0,0,0,0,0,6,1,2,5,0,0,0,0,0,0,0,0,0,0,0,0,0,0,0,0,5,0,0,0,4,0,0,0,0,0,0,0,0,0,1,0,0,0,0,0,0,0,0,0,0,0,0,0,0,0,0,0,0,0,0,0,0,0,0,0,0,0,0,0,0,0,0,1,0,1,0,0,0,0,0,0,0,0,0,1,0,1,0,0,0,0,0,0,0,0,0,1,0,1,0,0,0,0,0,0,0,0,0,0,0,0,0,0,0,0,0,0,0,0,0,0,0,0,0,0,0,0,0,0,1,0,0,1,0,0,0,0,0,0,0,0,0,0,0,0,0,0,0,0,0,0,0,0,0,0,0,0,0,0,0,0,0,0,0,0,0,0,0]
[5,0,0,0,0,0,0,0,0,0,0,0,0,0,0,0,0,0,0,0,0,0,0,0,0,0,0,0,0,0,0,0,0,0,0,0,0,0,0,0,0,0,0,0,0,0,0,0,0,0,0,0,0,0,0,0,0,0,0,0,0,0,0,0,0,0,0,0,4,0,0,0,0,0,0,0,0,0,0,1,0,0,0,0,0,0,0,0,4,0,0,0,0,0,0,0,0,0,0,0,0,0,1,0,0,0,0,0,0,0,0,0,0,0,0,0,0,0,0,0,0,0,0,0,0,0,0,0,0,0,0,0,0,0,0,0,0,0,0,0,0,0,0,0,0,0,0,0,0,0,0,0,0,0,0,0,0,0,0,0,0,0,0,0,0,0,0,0,0,0,0,0,0,0,0,0,0,0,0,0,0,0,0,0,0,0,0,0,0,0,0,1,0,0,0,0,0,0,0,0,0,0,0,0,0,0,0,0,0,0,0,0,0,0,0,0,0,0,0,0,0,0,0,0,0,0,0,0,0,0,0]
[6,0,0,0,0,0,0,0,0,0,0,0,0,0,0,0,0,0,0,0,0,0,0,0,0,0,0,0,0,0,0,0,0,0,0,0,0,0,0,0,0,0,0,0,0,0,0,0,0,0,0,0,0,0,0,0,0,0,0,0,0,1,0,0,0,0,0,0,6,0,0,0,0,0,0,0,0,0,0,1,0,0,0,0,0,0,0,0,6,0,0,0,0,0,0,0,0,0,0,0,0,0,1,1,0,0,0,0,0,0,0,0,1,0,0,0,0,0,0,0,0,0,0,0,0,0,0,0,0,0,0,0,0,0,0,0,0,0,0,0,0,0,0,0,0,0,0,0,0,0,0,0,0,0,0,0,0,0,0,0,0,0,0,0,0,0,0,0,0,0,0,0,0,0,0,0,0,0,0,0,0,0,0,0,0,0,0,0,0,2,0,0,1,0,0,1,0,0,0,0,0,0,0,0,0,0,0,0,0,0,0,0,0,0,0,0,0,0,0,0,0,0,0,0,0,0,0,0,0,0,0]
[8,1,1,1,1,0,0,0,0,1,1,1,1,0,0,0,0,0,0,0,0,0,0,0,0,0,0,0,0,0,0,0,0,0,0,0,0,0,0,0,0,0,0,0,0,0,0,0,0,0,0,0,0,0,0,0,0,0,0,0,0,0,0,0,0,0,0,0,4,0,0,0,0,0,0,0,0,0,0,0,0,0,0,0,0,0,0,0,4,0,0,0,0,0,0,0,0,0,0,0,0,0,0,0,0,0,0,0,0,0,0,0,0,0,0,0,0,0,0,0,0,0,0,0,0,0,0,0,0,0,0,0,0,0,0,0,0,0,0,0,0,0,0,0,0,0,0,0,0,0,0,0,0,0,0,0,0,0,0,0,0,0,0,0,0,0,0,0,0,0,0,0,0,0,0,0,0,0,0,0,0,0,0,0,0,0,0,0,0,0,0,0,0,0,0,0,0,0,0,0,0,0,0,0,0,0,0,0,0,0,0,0,0,0,0,0,0,0,0,0,0,0,0,0,0,0,0,0,0,0,0]
[7,0,0,0,0,0,0,0,0,0,0,0,0,0,0,0,0,0,0,0,0,0,0,0,0,0,0,0,0,0,0,0,0,0,0,0,0,0,0,0,0,0,0,0,0,0,0,0,0,0,0,0,0,0,0,0,0,0,0,0,0,0,0,0,0,0,0,0,3,0,0,0,0,0,0,0,0,0,0,0,0,0,0,0,0,0,0,0,3,0,0,0,0,0,0,0,0,0,0,0,0,0,0,0,0,0,0,0,0,0,0,0,0,0,0,0,0,0,0,0,0,0,0,0,0,0,0,0,0,0,0,0,0,0,0,0,0,0,0,0,0,0,0,0,0,0,0,0,0,0,0,0,0,0,0,0,0,0,0,0,0,0,0,0,0,0,0,0,0,0,0,0,0,0,0,0,0,0,0,0,0,0,0,0,0,0,0,0,0,0,0,1,0,0,0,0,0,0,0,0,0,0,0,0,0,0,0,0,0,0,0,0,0,0,0,0,0,0,0,0,0,0,0,0,0,0,0,0,0,0,0]
[9,0,0,0,0,0,0,0,0,0,0,0,0,0,0,0,0,0,0,0,0,0,0,0,0,0,0,0,0,0,0,0,0,0,0,0,0,0,0,0,0,0,0,0,0,0,0,0,0,0,0,0,0,0,0,0,0,0,0,0,0,0,0,0,0,0,0,0,6,0,0,3,0,0,0,0,0,0,0,0,0,0,0,0,0,0,0,0,5,0,0,0,3,0,0,0,0,0,0,0,0,0,1,1,0,0,0,0,0,0,0,0,1,0,0,0,0,0,0,0,0,0,0,0,0,0,0,0,0,0,0,0,0,0,0,0,0,0,0,0,0,0,0,0,0,0,0,0,0,0,0,0,0,0,0,0,0,0,0,0,0,0,0,0,0,0,0,0,0,0,0,0,0,0,0,0,0,0,0,0,0,0,0,0,0,0,0,0,0,0,0,0,0,0,0,0,0,0,0,0,0,0,0,0,0,0,0,0,0,0,0,0,0,0,0,0,0,0,0,0,0,0,0,0,0,0,0,0,0,0,0]
[10,0,0,0,0,0,0,0,0,0,0,0,0,0,0,0,0,0,0,0,0,0,0,0,0,0,0,0,0,0,0,0,0,0,0,0,0,0,0,0,0,0,0,0,0,0,0,0,0,0,0,0,0,0,0,0,0,0,0,0,0,0,0,0,0,0,0,0,3,0,0,0,0,0,0,0,0,0,0,0,0,0,0,0,0,0,0,0,4,0,0,0,0,0,0,0,0,0,0,0,0,0,0,0,0,0,0,0,0,0,0,0,0,0,0,0,0,0,0,0,0,0,0,0,0,0,0,0,0,0,0,0,0,0,0,0,0,0,0,0,0,0,0,0,0,0,0,0,0,0,0,0,0,0,0,0,0,0,0,0,0,0,0,0,0,0,0,0,0,0,0,0,0,0,0,0,0,0,0,0,0,0,0,0,0,0,0,0,0,0,0,0,0,0,0,0,0,0,0,0,0,0,0,0,0,0,0,0,0,0,0,0,0,0,0,0,0,0,0,0,0,0,0,0,0,0,0,0,0,0,0]
[11,0,0,0,0,0,0,0,0,0,0,0,0,0,0,0,0,0,0,0,0,0,0,0,0,0,0,0,0,0,0,0,0,0,0,0,0,0,0,0,0,0,0,0,0,0,0,0,0,0,0,0,0,0,0,0,0,0,0,0,0,0,0,0,0,0,0,0,3,0,0,0,0,0,0,0,0,0,0,0,0,0,0,0,0,0,0,0,3,0,1,0,0,0,0,0,0,0,0,0,0,0,0,0,0,0,0,0,0,0,0,0,0,0,0,0,0,0,0,0,0,0,0,0,0,0,0,0,0,0,0,0,0,0,0,0,0,0,0,0,0,0,0,0,0,0,0,0,0,0,0,0,0,0,0,0,0,0,0,0,0,0,0,0,0,0,0,0,0,0,0,0,0,0,0,0,0,0,0,0,0,0,0,0,0,0,0,0,0,0,0,0,0,0,0,0,0,0,0,0,0,0,0,0,0,0,0,0,0,0,0,0,0,0,0,0,0,0,0,0,0,0,0,0,0,0,0,0,0,0,0]
["T",2,2,2,2,0,0,0,0,3,3,2,2,0,0,0,0,0,0,0,0,0,0,0,0,0,0,0,0,0,0,0,0,0,0,0,0,0,0,0,0,0,0,0,0,0,0,0,0,0,0,0,0,0,0,0,0,0,0,0,0,9,0,0,0,0,0,0,50,1,2,11,0,0,0,0,0,0,0,2,0,0,0,0,0,0,0,0,49,0,1,0,10,0,0,0,0,0,0,0,0,0,6,4,0,0,0,0,0,0,0,0,4,0,0,0,0,0,0,0,0,0,0,0,0,0,0,0,0,0,0,0,0,0,0,1,0,1,0,0,0,0,0,0,0,0,0,1,0,1,0,0,0,0,0,0,0,0,0,1,0,1,0,0,0,0,0,0,0,0,0,0,0,0,0,0,0,0,0,0,0,0,0,0,0,0,0,0,0,2,0,3,3,0,0,3,0,0,0,0,0,0,0,0,0,0,0,0,0,0,0,0,0,0,0,0,0,0,0,0,0,0,0,0,0,0,0,0,0,0,0]
[]
[]
[]
[]
["TOTAL"]
[{"$f":"COUNT(A77:A91)","v":11},{"$f":"SUM(B77:B91)","v":4},{"$f":"SUM(C77:C91)","v":4},4,4,0,0,0,0,6,6,4,4,0,0,0,0,0,0,0,0,0,0,0,0,0,0,0,0,0,0,0,0,0,0,0,0,0,0,0,0,0,0,0,0,0,0,0,0,0,0,0,0,0,0,0,0,0,0,0,0,18,0,0,0,0,{"$f":"SUM(BO77:BO91)","v":0},0,100,2,4,22,0,0,0,0,0,0,0,4,0,0,0,0,0,0,0,0,98,0,2,0,20,0,0,0,0,0,0,0,0,0,12,8,0,0,0,0,0,0,0,0,8,0,0,0,0,0,0,0,0,0,0,0,0,0,0,0,0,0,{"$f":"SUM(EA77:EA91)","v":0},0,0,0,0,2,0,2,0,0,0,0,0,0,0,0,0,2,0,2,0,0,0,0,0,0,0,0,0,2,0,2,0,0,0,0,0,0,0,0,0,0,0,0,0,0,0,0,0,0,0,0,0,0,0,0,0,0,0,4,0,6,6,0,{"$f":"SUM(GM77:GM91)","v":0},6,0,0,0,0,0,0,0,0,0,0,0,0,0,0,0,0,0,0,0,0,0,0,0,0,0,0,{"$f":"SUM(HO77:HO91)","v":0},0,0,0,0,0,0,0,0]
[{"$f":"CONCATENATE(A77,\"-\",A78,\"-\",A79,\"-\",A80,\"-\",A81,\"-\",A82,\"-\",A83,\"-\",A84,\"-\",A85,\"-\",A86,\"-\",A87,\"-\",A88)","v":"2-3-1-4-5-6-8-7-9-10-11-T"}]
[null," BAS001"," BAS002"," BAS003"," BAS004"," BAS005"," BAS006"," BAS007"," BAS008"," BAS009"," BAS010"," BAS011"," BAS012"," BAS013"," BAS014"," BAS015"," BAS016"," BAS017"," BAS018"," BAS019"," BAS020"," BAS021"," BAS022"," BAS023"," BAS024"," BAS025"," BAS026"," BAS027"," BAS028"," BAS029"," BAS030"," BAS031"," BAS032"," BAS033"," BAS034"," BAS035"," BAS036"," BAS037"," BAS038"," BAS039"," BAS040"," BAS041"," BAS042"," BAS043"," BAS044"," BAS045"," BAS046"," BAS047"," BAS048"," BAS049"," BAS050"," BAS051"," BAS052"," BAS053"," BAS054"," BAS055"," BAS056"," BAS057"," BAS058"," BAS059"," BAS060"," BAS061"," BAS062"," BAS063"," BAS064"," BAS065"," BAS066"," BAS067"," BAS068"," BAS069"," BAS070"," BAS071"," BAS072"," BAS073"," BAS074"," BAS075"," BAS076"," BAS077"," BAS078"," BAS079"," BAS080"," BAS081"," BAS082"," BAS083"," BAS084"," BAS085"," BAS086"," BAS087"," BAS088"," BAS089"," BAS090"," BAS091"," BAS092"," BAS093"," BAS094"," BAS095"," BAS096"," BAS097"," BAS098"," BAS099"," BAS100"," BAS101"," BAS102"," BAS103"," BAS104"," BAS105"," BAS106"," BAS107"," BAS108"," BAS109"," BAS110"," BAS111"," BAS112"," BAS113"," BAS114"," BAS115"," BAS116"," BAS117"," BAS118"," BAS119"," BAS120"," BAS121"," BAS122"," BAS123"," BAS124"," BAS125"," BAS126"," BAS127"," BAS128"," BAS129"," BAS130"," BAS131"," BAS132"," BAS133"," BAS134"," BAS135"," BAS136"," BAS137"," BAS138"," BAS139"," BAS140"," BAS141"," BAS142"," BAS143"," BAS144"," BAS145"," BAS146"," BAS147"," BAS148"," BAS149"," BAS150"," BAS151"," BAS152"," BAS153"," BAS154"," BAS155"," BAS156"," BAS157"," BAS158"," BAS159"," BAS160"," BAS161"," BAS162"," BAS163"," BAS164"," BAS165"," BAS166"," BAS167"," BAS168"," BAS169"," BAS170"," BAS171"," BAS172"," BAS173"," BAS174"," BAS175"," BAS176"," BAS177"," BAS178"," BAS179"," BAS180"," BAS181"," BAS182"," BAS183"," BAS184"," BAS185"," BAS186"," BAS187"," BAS188"," BAS189"," BAS190"," BAS191"," BAS192"," BAS193"," BAS194"," BAS195"," BAS196"," BAS197"," BAS198"," BAS199"," BAS200"," BAS201"," BAS202"," BAS203"," BAS204"," BAS205"," BAS206"," BAS207"," BAS208"," BAS209"," BAS210"," BAS211"," BAS212"," BAS213"," BAS214"," BAS215"," BAS216"," BAS217"," BAS218"," BAS219"," BAS220"," BAS221"," BAS222"," BAS223"," BAS224"," BAS225"," BAS226"," BAS227"," BAS228"," BAS229"," BAS230"]
[null,{"$f":"IF(B96=B76,\"SI\",\"NO\")","v":"SI"},{"$f":"IF(C96=C76,\"SI\",\"NO\")","v":"SI"},"SI","SI","SI","SI","SI","SI","SI","SI","SI","SI","SI","SI","SI","SI","SI","SI","SI","SI","SI","SI","SI","SI","SI","SI","SI","SI","SI","SI","SI","SI","SI","SI","SI","SI","SI","SI","SI","SI","SI","SI","SI","SI","SI","SI","SI","SI","SI","SI","SI","SI","SI","SI","SI","SI","SI","SI","SI","SI","SI","SI","SI","SI","SI",{"$f":"IF(BO96=BO76,\"SI\",\"NO\")","v":"SI"},"SI","SI","SI","SI","SI","SI","SI","SI","SI","SI","SI","SI","SI","SI","SI","SI","SI","SI","SI","SI","SI","SI","SI","SI","SI","SI","SI","SI","SI","SI","SI","SI","SI","SI","SI","SI","SI","SI","SI","SI","SI","SI","SI","SI","SI","SI","SI","SI","SI","SI","SI","SI","SI","SI","SI","SI","SI","SI","SI","SI","SI","SI","SI",{"$f":"IF(EA96=EA76,\"SI\",\"NO\")","v":"SI"},"SI","SI","SI","SI","SI","SI","SI","SI","SI","SI","SI","SI","SI","SI","SI","SI","SI","SI","SI","SI","SI","SI","SI","SI","SI","SI","SI","SI","SI","SI","SI","SI","SI","SI","SI","SI","SI","SI","SI","SI","SI","SI","SI","SI","SI","SI","SI","SI","SI","SI","SI","SI","SI","SI","SI","SI","SI","SI","SI","SI","SI","SI","SI",{"$f":"IF(GM96=GM76,\"SI\",\"NO\")","v":"SI"},"SI","SI","SI","SI","SI","SI","SI","SI","SI","SI","SI","SI","SI","SI","SI","SI","SI","SI","SI","SI","SI","SI","SI","SI","SI","SI","SI",{"$f":"IF(HO96=HO76,\"SI\",\"NO\")","v":"SI"},"SI","SI","SI","SI","SI","SI","SI","SI"]
[]
["ITSVIH0011M"]
["anno",2024]
["cod_red","03"]
["codmic","(Todas)"]
["cod_prov","(Todas)"]
["coddist","(Todas)"]
["cod_estab","(Todas)"]
["cod_eje","(Todas)"]
[]
[null,"Valores"]
["Etiquetas de fila"," BAS001"," BAS002"," BAS003"," BAS004"," BAS005"," BAS006"," BAS007"," BAS008"," BAS009"," BAS010"," BAS011"," BAS012"," BAS013"," BAS014"," BAS015"," BAS016"," BAS017"," BAS018"," BAS019"," BAS020"," BAS021"," BAS022"," BAS023"," BAS024"," BAS025"," BAS026"," BAS027"," BAS028"," BAS029"," BAS030"," BAS031"," BAS032"," BAS033"," BAS034"," BAS035"," BAS036"," BAS037"," BAS038"," BAS039"," BAS040"," BAS041"," BAS042"," BAS043"," BAS044"," BAS045"," BAS046"," BAS047"," BAS048"," BAS049"," BAS050"," BAS051"," BAS052"," BAS053"," BAS054"," BAS055"," BAS056"," BAS057"," BAS058"," BAS059"," BAS060"," BAS061"," BAS062"," BAS063"," BAS064"," BAS065"," BAS066"," BAS067"," BAS068"," BAS069"," BAS070"," BAS071"," BAS072"," BAS073"," BAS074"," BAS075"," BAS076"," BAS077"," BAS078"," BAS079"," BAS080"," BAS081"," BAS082"," BAS083"," BAS084"," BAS085"," BAS086"," BAS087"," BAS088"," BAS089"," BAS090"," BAS091"," BAS092"," BAS093"," BAS094"," BAS095"," BAS096"," BAS097"," BAS098"," BAS099"," BAS100"," BAS101"," BAS102"," BAS103"," BAS104"," BAS105"," BAS106"," BAS107"," BAS108"," BAS109"," BAS110"," BAS111"," BAS112"," BAS113"," BAS114"," BAS115"," BAS116"," BAS117"," BAS118"," BAS119"," BAS120"," BAS121"," BAS122"," BAS123"," BAS124"," BAS125"," BAS126"," BAS127"," BAS128"," BAS129"," BAS130"," BAS131"," BAS132"," BAS133"," BAS134"," BAS135"," BAS136"," BAS137"," BAS138"," BAS139"," BAS140"," BAS141"," BAS142"," BAS143"," BAS144"," BAS145"," BAS146"," BAS147"," BAS148"," BAS149"," BAS150"," BAS151"," BAS152"," BAS153"," BAS154"," BAS155"," BAS156"," BAS157"," BAS158"," BAS159"," BAS160"," BAS161"," BAS162"," BAS163"," BAS164"," BAS165"," BAS166"," BAS167"," BAS168"," BAS169"," BAS170"," BAS171"," BAS172"," BAS173"," BAS174"," BAS175"," BAS176"," BAS177"," BAS178"," BAS179"," BAS180"," BAS181"," BAS182"," BAS183"," BAS184"," BAS185"," BAS186"," BAS187"," BAS188"," BAS189"," BAS190"," BAS191"," BAS192"," BAS193"," BAS194"," BAS195"," BAS196"," BAS197"," BAS198"," BAS199"," BAS200"," BAS201"," BAS202"," BAS203"," BAS204"," BAS205"," BAS206"," BAS207"," BAS208"," BAS209"," BAS210"," BAS211"," BAS212"," BAS213"," BAS214"," BAS215"," BAS216"," BAS217"," BAS218"," BAS219"," BAS220"," BAS221"," BAS222"," BAS223"," BAS224"," BAS225"," BAS226"," BAS227"," BAS228"," BAS229"," BAS230"]
[2,0,0,0,0,0,0,0,0,0,0,0,0,0,0,0,0,0,0,0,0,0,0,0,0,0,0,0,0,0,0,0,0,0,0,0,0,0,0,0,0,0,0,0,0,0,0,0,0,0,0,0,0,0,0,0,0,0,0,0,0,6,0,0,0,0,0,0,6,0,0,0,0,0,0,0,0,0,0,0,0,0,0,0,0,0,0,0,6,0,0,0,0,0,0,0,0,0,0,0,0,0,0,0,0,0,0,0,0,0,0,0,0,0,0,0,0,0,0,0,0,0,0,0,0,0,0,0,0,0,0,0,0,0,0,0,0,0,0,0,0,0,0,0,0,0,0,0,0,0,0,0,0,0,0,0,0,0,0,0,0,0,0,0,0,0,0,0,0,0,0,0,0,0,0,0,0,0,0,0,0,0,0,0,0,0,0,0,0,0,0,0,0,0,0,0,0,0,0,0,0,0,0,0,0,0,0,0,0,0,0,0,0,0,0,0,0,0,0,0,0,0,0,0,0,0,0,0,0,0,0]
[3,0,0,0,0,0,0,0,0,0,0,0,0,0,0,0,0,0,0,0,0,0,0,0,0,0,0,0,0,0,0,0,0,0,0,0,0,0,0,0,0,0,0,0,0,0,0,0,0,0,0,0,0,0,0,0,0,0,0,0,0,8,0,0,0,0,0,0,8,0,0,0,0,0,0,0,0,0,0,0,0,0,0,0,0,0,0,0,9,0,0,0,0,0,0,0,0,0,0,0,0,0,0,0,0,0,0,0,0,0,0,0,0,0,0,0,0,0,0,0,0,0,0,0,0,0,0,0,0,0,0,0,0,0,0,0,0,0,0,0,0,0,0,0,0,0,0,0,0,0,0,0,0,0,0,0,0,0,0,0,0,0,0,0,0,0,0,0,0,0,0,0,0,0,0,0,0,0,0,0,0,0,0,0,0,0,0,0,0,0,0,0,1,0,0,1,0,0,0,0,0,0,0,0,0,0,0,0,0,0,0,0,0,0,0,0,0,0,0,0,0,0,0,0,0,0,0,0,0,0,0]
[1,0,0,0,0,0,0,0,0,0,0,0,0,0,0,0,0,0,0,0,0,0,0,0,0,0,0,0,0,0,0,0,0,0,0,0,0,0,0,0,0,0,0,0,0,0,0,0,0,0,0,0,0,0,0,0,0,0,0,0,0,0,0,0,0,0,0,0,6,0,0,3,0,0,0,0,0,0,0,0,0,0,0,0,0,0,0,0,6,0,0,0,3,0,0,0,0,0,0,0,0,0,0,0,0,0,0,0,0,0,0,0,0,0,0,0,0,0,0,0,0,0,0,0,0,0,0,0,0,0,0,0,0,0,0,0,0,0,0,0,0,0,0,0,0,0,0,0,0,0,0,0,0,0,0,0,0,0,0,0,0,0,0,0,0,0,0,0,0,0,0,0,0,0,0,0,0,0,0,0,0,0,0,0,0,0,0,0,0,0,0,0,0,0,0,0,0,0,0,0,0,0,0,0,0,0,0,0,0,0,0,0,0,0,0,0,0,0,0,0,0,0,0,0,0,0,0,0,0,0,0]
[5,0,0,0,0,0,0,0,0,0,0,0,0,0,0,0,0,0,0,0,0,0,0,0,0,0,0,0,0,0,0,0,0,0,0,0,0,0,0,0,0,0,0,0,0,0,0,0,0,0,0,0,0,0,0,0,0,0,0,0,0,0,0,0,0,0,0,0,15,0,0,1,0,0,0,0,0,0,0,0,0,0,0,0,0,0,0,0,15,0,0,0,1,0,0,0,0,0,0,0,0,0,0,0,0,0,0,0,0,0,0,0,0,0,0,0,0,0,0,0,0,0,0,0,0,0,0,0,0,0,0,0,0,0,0,0,0,0,0,0,0,0,0,0,0,0,0,0,0,0,0,0,0,0,0,0,0,0,0,0,0,0,0,0,0,0,0,0,0,0,0,0,0,0,0,0,0,0,0,0,0,0,0,0,0,0,0,0,0,0,0,0,2,0,0,2,0,0,0,0,0,0,0,0,0,0,0,0,0,0,0,0,0,0,0,0,0,0,0,0,0,0,0,0,0,0,0,0,0,0,0]
[4,0,0,0,0,0,0,0,0,0,0,0,0,0,0,0,0,0,0,0,0,0,0,0,0,0,0,0,0,0,0,0,0,0,0,0,0,0,0,0,0,0,0,0,0,0,0,0,0,0,0,0,0,0,0,0,0,0,0,0,0,5,0,0,0,0,0,0,11,0,0,9,0,0,0,0,0,0,0,0,0,0,0,0,0,0,0,0,11,0,0,0,9,0,0,0,0,0,0,0,0,0,0,0,0,0,0,0,0,0,0,0,0,0,0,0,0,0,0,0,0,0,0,0,0,0,0,0,0,0,0,0,0,0,0,0,0,0,0,0,0,0,0,0,0,0,0,0,0,0,0,0,0,0,0,0,0,0,0,0,0,0,0,0,0,0,0,0,0,0,0,0,0,0,0,0,0,0,0,0,0,0,0,0,0,0,0,0,0,0,0,0,0,0,0,0,0,0,0,0,0,0,0,0,0,0,0,0,0,0,0,0,0,0,0,0,0,0,0,0,0,0,0,0,0,0,0,0,0,0,0]
[6,0,0,0,0,0,0,0,0,0,0,0,0,0,0,0,0,0,0,0,0,0,0,0,0,0,0,0,0,0,0,0,0,0,0,0,0,0,0,0,0,0,0,0,0,0,0,0,0,0,0,0,0,0,0,0,0,0,0,0,0,0,0,0,0,0,0,0,4,0,0,0,0,0,0,0,0,0,0,0,0,0,0,0,0,0,0,0,4,0,0,0,0,0,0,0,0,0,0,0,0,0,0,0,0,0,0,0,0,0,0,0,0,0,0,0,0,0,0,0,0,0,0,0,0,0,0,0,0,0,0,0,0,0,0,0,0,0,0,0,0,0,0,0,0,0,0,0,0,0,0,0,0,0,0,0,0,0,0,0,0,0,0,0,0,0,0,0,0,0,0,0,0,0,0,0,0,0,0,0,0,0,0,0,0,0,0,0,0,1,0,0,0,0,0,0,0,0,0,0,0,0,0,0,0,0,0,0,0,0,0,0,0,0,0,0,0,0,0,0,0,0,0,0,0,0,0,0,0,0,0]
[8,0,0,0,0,0,0,0,0,0,0,0,0,0,0,0,0,0,0,0,0,0,0,0,0,0,0,0,0,0,0,0,0,0,0,0,0,0,0,0,0,0,0,0,0,0,0,0,0,0,0,0,0,0,0,0,0,0,0,0,0,0,0,0,0,0,0,0,5,0,0,1,0,0,0,0,0,0,0,0,0,0,0,0,0,0,0,0,5,0,0,0,1,0,0,0,0,0,0,0,0,0,0,0,0,0,0,0,0,0,0,0,0,0,0,0,0,0,0,0,0,0,0,0,0,0,0,0,0,0,0,0,0,0,0,0,0,0,0,0,0,0,0,0,0,0,0,0,0,0,0,0,0,0,0,0,0,0,0,0,0,0,0,0,0,0,0,0,0,0,0,0,0,0,0,0,0,0,0,0,0,0,0,0,0,0,0,0,0,0,0,0,0,0,0,0,0,0,0,0,0,0,0,0,0,0,0,0,0,0,0,0,0,0,0,0,0,0,0,0,0,0,0,0,0,0,0,0,0,0,0]
[7,0,0,0,0,0,0,0,0,0,0,0,0,0,0,0,0,0,0,0,0,0,0,0,0,0,0,0,0,0,0,0,0,0,0,0,0,0,0,0,0,0,0,0,0,0,0,0,0,0,0,0,0,0,0,0,0,0,0,0,0,0,0,0,0,0,0,0,4,0,0,1,0,0,0,0,0,0,0,0,0,0,0,0,0,0,0,0,4,0,0,0,1,0,0,0,0,0,0,0,0,0,0,0,0,0,0,0,0,0,0,0,0,0,0,0,0,0,0,0,0,0,0,0,0,0,0,0,0,0,0,0,0,0,0,0,0,0,0,0,0,0,0,0,0,0,0,0,0,0,0,0,0,0,0,0,0,0,0,0,0,0,0,0,0,0,0,0,0,0,0,0,0,0,0,0,0,0,0,0,0,0,0,0,0,0,0,0,0,1,0,0,1,0,0,1,0,0,0,0,0,0,0,0,0,0,0,0,0,0,0,0,0,0,0,0,0,0,0,0,0,0,0,0,0,0,0,0,0,0,0]
[9,0,0,0,0,0,0,0,0,0,0,0,0,0,0,0,0,0,0,0,0,0,0,0,0,0,0,0,0,0,0,0,0,0,0,0,0,0,0,0,0,0,0,0,0,0,0,0,0,0,0,0,0,0,0,0,0,0,0,0,0,0,0,0,0,0,0,0,6,0,0,0,0,0,0,0,0,0,0,0,0,0,0,0,0,0,0,0,6,0,0,0,0,0,0,0,0,0,0,0,0,0,0,0,0,0,0,0,0,0,0,0,0,0,0,0,0,0,0,0,0,0,0,0,0,0,0,0,0,0,0,0,0,0,0,0,0,0,0,0,0,0,0,0,0,0,0,0,0,0,0,0,0,0,0,0,0,0,0,0,0,0,0,0,0,0,0,0,0,0,0,0,0,0,0,0,0,0,0,0,0,0,0,0,0,0,0,0,0,0,0,0,0,0,0,0,0,0,0,0,0,0,0,0,0,0,0,0,0,0,0,0,0,0,0,0,0,0,0,0,0,0,0,0,0,0,0,0,0,0,0]
[10,0,0,0,0,0,0,0,0,0,0,0,0,0,0,0,0,0,0,0,0,0,0,0,0,0,0,0,0,0,0,0,0,0,0,0,0,0,0,0,0,0,0,0,0,0,0,0,0,0,0,0,0,0,0,0,0,0,0,0,0,0,0,0,0,0,0,0,8,0,0,1,0,0,0,0,0,0,0,0,0,0,0,0,0,0,0,0,8,0,0,0,1,0,0,0,0,0,0,0,0,0,0,0,0,0,0,0,0,0,0,0,0,0,0,0,0,0,0,0,0,0,0,0,0,0,0,0,0,0,0,0,0,0,0,0,0,0,0,0,0,0,0,0,0,0,0,0,0,0,0,0,0,0,0,0,0,0,0,0,0,0,0,0,0,0,0,0,0,0,0,0,0,0,0,0,0,0,0,0,0,0,0,0,0,0,0,0,0,0,0,0,0,0,0,0,0,0,0,0,0,0,0,0,0,0,0,0,0,0,0,0,0,0,0,0,0,0,0,0,0,0,0,0,0,0,0,0,0,0,0]
[11,0,0,0,0,0,0,0,0,0,0,0,0,0,0,0,0,0,0,0,0,0,0,0,0,0,0,0,0,0,0,0,0,0,0,0,0,0,0,0,0,0,0,0,0,0,0,0,0,0,0,0,0,0,0,0,0,0,0,0,0,0,0,0,0,0,0,0,6,0,0,2,0,0,0,0,0,0,0,0,0,0,0,0,0,0,0,0,5,0,0,0,1,0,0,0,0,0,0,0,0,0,0,0,0,0,0,0,0,0,0,0,0,0,0,0,0,0,0,0,0,0,0,0,0,0,0,0,0,0,0,0,0,0,0,0,0,0,0,0,0,0,0,0,0,0,0,0,0,0,0,0,0,0,0,0,0,0,0,0,0,0,0,0,0,0,0,0,0,0,0,0,0,0,0,0,0,0,0,0,0,0,0,0,0,0,0,0,0,0,0,0,0,0,0,0,0,0,0,0,0,0,0,0,0,0,0,0,0,0,0,0,0,0,0,0,0,0,0,0,0,0,0,0,0,0,0,0,0,0,0]
["T",0,0,0,0,0,0,0,0,0,0,0,0,0,0,0,0,0,0,0,0,0,0,0,0,0,0,0,0,0,0,0,0,0,0,0,0,0,0,0,0,0,0,0,0,0,0,0,0,0,0,0,0,0,0,0,0,0,0,0,0,19,0,0,0,0,0,0,79,0,0,18,0,0,0,0,0,0,0,0,0,0,0,0,0,0,0,0,79,0,0,0,17,0,0,0,0,0,0,0,0,0,0,0,0,0,0,0,0,0,0,0,0,0,0,0,0,0,0,0,0,0,0,0,0,0,0,0,0,0,0,0,0,0,0,0,0,0,0,0,0,0,0,0,0,0,0,0,0,0,0,0,0,0,0,0,0,0,0,0,0,0,0,0,0,0,0,0,0,0,0,0,0,0,0,0,0,0,0,0,0,0,0,0,0,0,0,0,0,2,0,0,4,0,0,4,0,0,0,0,0,0,0,0,0,0,0,0,0,0,0,0,0,0,0,0,0,0,0,0,0,0,0,0,0,0,0,0,0,0,0]
[]
[]
[]
[]
[]
["TOTAL"]
[{"$f":"COUNT(A110:A125)","v":11},{"$f":"SUM(B110:B125)","v":0},{"$f":"SUM(C110:C125)","v":0},0,0,0,0,0,0,0,0,0,0,0,0,0,0,0,0,0,0,0,0,0,0,0,0,0,0,0,0,0,0,0,0,0,0,0,0,0,0,0,0,0,0,0,0,0,0,0,0,0,0,0,0,0,0,0,0,0,0,38,0,0,0,0,{"$f":"SUM(BO110:BO125)","v":0},0,158,0,0,36,0,0,0,0,0,0,0,0,0,0,0,0,0,0,0,0,158,0,0,0,34,0,0,0,0,0,0,0,0,0,0,0,0,0,0,0,0,0,0,0,0,0,0,0,0,0,0,0,0,0,0,0,0,0,0,0,0,0,{"$f":"SUM(EA110:EA125)","v":0},0,0,0,0,0,0,0,0,0,0,0,0,0,0,0,0,0,0,0,0,0,0,0,0,0,0,0,0,0,0,0,0,0,0,0,0,0,0,0,0,0,0,0,0,0,0,0,0,0,0,0,0,0,0,0,0,0,0,4,0,0,8,0,{"$f":"SUM(GM110:GM125)","v":0},8,0,0,0,0,0,0,0,0,0,0,0,0,0,0,0,0,0,0,0,0,0,0,0,0,0,0,{"$f":"SUM(HO110:HO125)","v":0},0,0,0,0,0,0,0,{"$f":"SUM(HW110:HW125)","v":0}]
[{"$f":"CONCATENATE(A110,\"-\",A111,\"-\",A112,\"-\",A113,\"-\",A114,\"-\",A115,\"-\",A116,\"-\",A117,\"-\",A118,\"-\",A119,\"-\",A120,\"-\",A121)","v":"2-3-1-5-4-6-8-7-9-10-11-T"}]
[null," BAS001"," BAS002"," BAS003"," BAS004"," BAS005"," BAS006"," BAS007"," BAS008"," BAS009"," BAS010"," BAS011"," BAS012"," BAS013"," BAS014"," BAS015"," BAS016"," BAS017"," BAS018"," BAS019"," BAS020"," BAS021"," BAS022"," BAS023"," BAS024"," BAS025"," BAS026"," BAS027"," BAS028"," BAS029"," BAS030"," BAS031"," BAS032"," BAS033"," BAS034"," BAS035"," BAS036"," BAS037"," BAS038"," BAS039"," BAS040"," BAS041"," BAS042"," BAS043"," BAS044"," BAS045"," BAS046"," BAS047"," BAS048"," BAS049"," BAS050"," BAS051"," BAS052"," BAS053"," BAS054"," BAS055"," BAS056"," BAS057"," BAS058"," BAS059"," BAS060"," BAS061"," BAS062"," BAS063"," BAS064"," BAS065"," BAS066"," BAS067"," BAS068"," BAS069"," BAS070"," BAS071"," BAS072"," BAS073"," BAS074"," BAS075"," BAS076"," BAS077"," BAS078"," BAS079"," BAS080"," BAS081"," BAS082"," BAS083"," BAS084"," BAS085"," BAS086"," BAS087"," BAS088"," BAS089"," BAS090"," BAS091"," BAS092"," BAS093"," BAS094"," BAS095"," BAS096"," BAS097"," BAS098"," BAS099"," BAS100"," BAS101"," BAS102"," BAS103"," BAS104"," BAS105"," BAS106"," BAS107"," BAS108"," BAS109"," BAS110"," BAS111"," BAS112"," BAS113"," BAS114"," BAS115"," BAS116"," BAS117"," BAS118"," BAS119"," BAS120"," BAS121"," BAS122"," BAS123"," BAS124"," BAS125"," BAS126"," BAS127"," BAS128"," BAS129"," BAS130"," BAS131"," BAS132"," BAS133"," BAS134"," BAS135"," BAS136"," BAS137"," BAS138"," BAS139"," BAS140"," BAS141"," BAS142"," BAS143"," BAS144"," BAS145"," BAS146"," BAS147"," BAS148"," BAS149"," BAS150"," BAS151"," BAS152"," BAS153"," BAS154"," BAS155"," BAS156"," BAS157"," BAS158"," BAS159"," BAS160"," BAS161"," BAS162"," BAS163"," BAS164"," BAS165"," BAS166"," BAS167"," BAS168"," BAS169"," BAS170"," BAS171"," BAS172"," BAS173"," BAS174"," BAS175"," BAS176"," BAS177"," BAS178"," BAS179"," BAS180"," BAS181"," BAS182"," BAS183"," BAS184"," BAS185"," BAS186"," BAS187"," BAS188"," BAS189"," BAS190"," BAS191"," BAS192"," BAS193"," BAS194"," BAS195"," BAS196"," BAS197"," BAS198"," BAS199"," BAS200"," BAS201"," BAS202"," BAS203"," BAS204"," BAS205"," BAS206"," BAS207"," BAS208"," BAS209"," BAS210"," BAS211"," BAS212"," BAS213"," BAS214"," BAS215"," BAS216"," BAS217"," BAS218"," BAS219"," BAS220"," BAS221"," BAS222"," BAS223"," BAS224"," BAS225"," BAS226"," BAS227"," BAS228"," BAS229"," BAS230"]
[null,{"$f":"IF(B130=B109,\"SI\",\"NO\")","v":"SI"},{"$f":"IF(C130=C109,\"SI\",\"NO\")","v":"SI"},"SI","SI","SI","SI","SI","SI","SI","SI","SI","SI","SI","SI","SI","SI","SI","SI","SI","SI","SI","SI","SI","SI","SI","SI","SI","SI","SI","SI","SI","SI","SI","SI","SI","SI","SI","SI","SI","SI","SI","SI","SI","SI","SI","SI","SI","SI","SI","SI","SI","SI","SI","SI","SI","SI","SI","SI","SI","SI","SI","SI","SI","SI","SI",{"$f":"IF(BO130=BO109,\"SI\",\"NO\")","v":"SI"},"SI","SI","SI","SI","SI","SI","SI","SI","SI","SI","SI","SI","SI","SI","SI","SI","SI","SI","SI","SI","SI","SI","SI","SI","SI","SI","SI","SI","SI","SI","SI","SI","SI","SI","SI","SI","SI","SI","SI","SI","SI","SI","SI","SI","SI","SI","SI","SI","SI","SI","SI","SI","SI","SI","SI","SI","SI","SI","SI","SI","SI","SI","SI",{"$f":"IF(EA130=EA109,\"SI\",\"NO\")","v":"SI"},"SI","SI","SI","SI","SI","SI","SI","SI","SI","SI","SI","SI","SI","SI","SI","SI","SI","SI","SI","SI","SI","SI","SI","SI","SI","SI","SI","SI","SI","SI","SI","SI","SI","SI","SI","SI","SI","SI","SI","SI","SI","SI","SI","SI","SI","SI","SI","SI","SI","SI","SI","SI","SI","SI","SI","SI","SI","SI","SI","SI","SI","SI","SI",{"$f":"IF(GM130=GM109,\"SI\",\"NO\")","v":"SI"},"SI","SI","SI","SI","SI","SI","SI","SI","SI","SI","SI","SI","SI","SI","SI","SI","SI","SI","SI","SI","SI","SI","SI","SI","SI","SI","SI",{"$f":"IF(HO130=HO109,\"SI\",\"NO\")","v":"SI"},"SI","SI","SI","SI","SI","SI","SI",{"$f":"IF(HW130=HW109,\"SI\",\"NO\")","v":"SI"}]
[]
["FITSVIH1217F"]
["anno",2024]
["cod_red","03"]
["codmic","(Todas)"]
["cod_prov","(Todas)"]
["coddist","(Todas)"]
["cod_estab","(Todas)"]
["cod_eje","(Todas)"]
[]
[null,"Valores"]
["Etiquetas de fila"," BAS001"," BAS002"," BAS003"," BAS004"," BAS005"," BAS006"," BAS007"," BAS008"," BAS009"," BAS010"," BAS011"," BAS012"," BAS013"," BAS014"," BAS015"," BAS016"," BAS017"," BAS018"," BAS019"," BAS020"," BAS021"," BAS022"," BAS023"," BAS024"," BAS025"," BAS026"," BAS027"," BAS028"," BAS029"," BAS030"," BAS031"," BAS032"," BAS033"," BAS034"," BAS035"," BAS036"," BAS037"," BAS038"," BAS039"," BAS040"," BAS041"," BAS042"," BAS043"," BAS044"," BAS045"," BAS046"," BAS047"," BAS048"," BAS049"," BAS050"," BAS051"," BAS052"," BAS053"," BAS054"," BAS055"," BAS056"," BAS057"," BAS058"," BAS059"," BAS060"," BAS061"," BAS062"," BAS063"," BAS064"," BAS065"," BAS066"," BAS067"," BAS068"," BAS069"," BAS070"," BAS071"," BAS072"," BAS073"," BAS074"," BAS075"," BAS076"," BAS077"," BAS078"," BAS079"," BAS080"," BAS081"," BAS082"," BAS083"," BAS084"," BAS085"," BAS086"," BAS087"," BAS088"," BAS089"," BAS090"," BAS091"," BAS092"," BAS093"," BAS094"," BAS095"," BAS096"," BAS097"," BAS098"," BAS099"," BAS100"," BAS101"," BAS102"," BAS103"," BAS104"," BAS105"," BAS106"," BAS107"," BAS108"," BAS109"," BAS110"," BAS111"," BAS112"," BAS113"," BAS114"," BAS115"," BAS116"," BAS117"," BAS118"," BAS119"," BAS120"," BAS121"," BAS122"," BAS123"," BAS124"," BAS125"," BAS126"," BAS127"," BAS128"," BAS129"," BAS130"," BAS131"," BAS132"," BAS133"," BAS134"," BAS135"," BAS136"," BAS137"," BAS138"," BAS139"," BAS140"," BAS141"," BAS142"," BAS143"," BAS144"," BAS145"," BAS146"," BAS147"," BAS148"," BAS149"," BAS150"," BAS151"," BAS152"," BAS153"," BAS154"," BAS155"," BAS156"," BAS157"," BAS158"," BAS159"," BAS160"," BAS161"," BAS162"," BAS163"," BAS164"," BAS165"," BAS166"," BAS167"," BAS168"," BAS169"," BAS170"," BAS171"," BAS172"," BAS173"," BAS174"," BAS175"," BAS176"," BAS177"," BAS178"," BAS179"," BAS180"," BAS181"," BAS182"," BAS183"," BAS184"," BAS185"," BAS186"," BAS187"," BAS188"," BAS189"," BAS190"," BAS191"," BAS192"," BAS193"," BAS194"," BAS195"," BAS196"," BAS197"," BAS198"," BAS199"," BAS200"," BAS201"," BAS202"," BAS203"," BAS204"," BAS205"," BAS206"," BAS207"," BAS208"," BAS209"," BAS210"," BAS211"," BAS212"," BAS213"," BAS214"," BAS215"," BAS216"," BAS217"," BAS218"," BAS219"," BAS220"," BAS221"," BAS222"," BAS223"," BAS224"," BAS225"," BAS226"," BAS227"," BAS228"," BAS229"," BAS230"]
[2,2,2,2,2,0,0,0,0,2,2,2,2,0,0,0,0,0,0,0,0,0,0,0,0,0,0,0,0,0,0,0,0,0,0,0,0,0,0,0,0,0,0,0,0,0,0,0,0,0,0,0,0,0,0,0,0,0,0,0,0,12,0,77,0,0,0,0,45,0,0,19,0,0,0,0,0,0,0,0,0,0,0,0,0,0,0,0,51,0,0,0,13,0,0,0,0,0,0,0,0,0,2,2,0,0,0,0,0,0,0,0,2,0,0,0,0,0,0,0,0,0,0,0,0,0,0,0,0,0,0,0,0,0,0,19,8,10,1,0,0,0,0,0,0,0,0,20,8,11,1,0,0,0,0,0,0,0,0,19,8,10,1,0,0,0,0,0,0,0,0,0,0,0,0,0,0,0,0,0,0,0,0,0,0,0,0,0,0,0,0,0,0,0,0,0,0,0,0,0,0,0,0,0,0,0,0,0,0,0,0,0,0,0,0,0,0,0,0,0,0,0,0,0,0,0,0,0,0,0,0]
[3,5,3,4,4,0,0,0,0,6,6,4,4,0,0,0,0,0,0,0,0,0,0,0,0,0,0,0,0,0,0,0,0,0,0,0,0,0,0,0,0,0,0,0,0,0,0,0,0,0,0,0,0,0,0,0,0,0,0,0,0,14,0,119,0,0,0,0,53,0,0,27,0,0,0,0,0,0,0,0,0,0,0,0,0,0,0,0,58,0,0,0,26,0,0,0,0,0,0,0,0,0,1,1,0,0,0,0,0,0,0,0,1,0,0,0,0,0,0,0,0,0,0,0,0,0,0,0,0,0,0,0,0,0,0,8,3,2,3,0,0,0,0,0,0,0,0,9,3,3,3,0,0,0,0,0,0,0,0,8,3,2,3,0,0,0,0,0,0,0,0,0,0,0,0,0,0,0,0,0,0,0,0,0,0,0,0,0,0,0,0,0,0,0,0,0,0,0,0,0,0,0,0,0,0,0,0,0,0,0,0,0,0,0,0,0,0,0,0,0,0,0,0,0,0,0,0,0,0,0,0]
[1,3,3,2,2,0,0,0,0,2,2,2,2,0,0,0,0,0,0,0,0,1,1,0,0,0,0,0,0,0,0,0,0,0,0,0,0,0,0,0,0,0,0,0,0,0,0,0,0,0,0,0,0,0,0,0,0,0,0,0,0,0,0,54,0,0,0,0,31,0,0,24,0,0,0,0,0,0,0,0,0,0,0,0,0,0,0,0,29,0,0,0,14,0,0,0,0,0,0,0,0,0,0,0,0,0,0,0,0,0,0,0,0,0,0,0,0,0,0,0,0,0,0,0,0,0,0,0,0,0,0,0,0,0,0,14,8,4,2,0,0,0,0,0,0,0,0,17,10,5,2,0,0,0,0,0,0,0,0,14,8,4,2,0,0,0,0,0,0,0,0,0,0,0,0,0,0,0,0,0,0,0,0,0,0,0,0,0,0,0,0,0,0,0,0,0,0,0,0,0,0,0,0,0,0,0,0,0,0,0,0,0,0,0,0,0,0,0,0,0,0,0,0,0,0,0,0,0,0,0,0]
[5,7,7,7,7,0,0,0,0,7,7,7,7,0,0,0,0,0,0,0,0,0,0,0,0,0,0,0,0,0,0,0,0,0,0,0,0,0,0,0,0,1,0,1,1,0,0,0,0,2,0,2,0,0,0,0,0,0,0,0,0,1,0,364,0,0,0,0,149,0,0,35,0,0,0,0,0,0,0,9,0,0,0,0,0,0,0,0,219,2,0,0,53,0,0,0,1,0,0,0,0,0,1,0,0,0,0,0,0,0,0,0,0,0,0,0,0,0,0,0,0,0,0,0,0,0,0,0,0,0,0,0,0,0,0,11,8,2,1,1,0,0,1,0,0,0,0,14,10,3,1,0,0,0,0,0,0,0,0,11,8,2,1,0,0,0,0,0,0,0,0,0,0,0,0,0,0,0,0,0,0,0,0,0,0,0,0,0,0,0,0,0,0,0,0,0,0,0,0,0,0,0,0,0,0,0,0,0,0,0,0,0,0,0,0,0,0,0,0,0,0,0,0,0,0,0,0,0,0,0,0]
[4,9,9,7,7,0,0,0,0,6,6,6,6,0,0,0,0,2,2,0,2,1,1,1,0,0,0,0,0,0,0,0,0,0,0,0,0,0,0,0,0,0,0,0,0,0,0,0,0,1,0,1,0,0,0,0,0,0,0,0,0,3,1,426,0,0,0,0,170,1,0,38,0,0,0,0,0,0,0,3,0,0,0,0,0,0,0,0,270,0,0,0,54,0,0,0,0,0,0,0,0,0,3,0,0,0,0,0,0,0,0,0,0,0,0,0,0,0,0,0,0,0,0,0,0,0,0,0,0,0,0,0,0,0,0,15,6,8,1,0,0,0,0,0,0,0,0,15,7,7,1,1,1,0,0,0,0,0,0,15,6,8,1,0,0,0,0,0,0,0,0,0,0,0,0,0,0,0,0,0,0,0,0,0,0,0,0,0,0,0,0,0,0,0,0,0,0,0,0,0,0,0,0,0,0,0,0,0,0,0,0,0,0,0,0,0,0,0,0,0,0,0,0,0,0,0,0,0,0,0,0]
[6,2,2,2,2,0,0,0,0,2,2,2,2,0,0,0,0,0,0,0,0,0,0,0,0,0,0,0,0,0,0,0,0,0,0,0,0,0,0,0,0,0,0,0,0,0,0,0,0,0,0,0,0,0,0,0,0,0,0,0,0,0,0,680,0,0,0,0,296,0,0,86,0,0,0,0,0,0,0,17,0,0,0,0,0,0,0,0,425,0,0,0,84,0,0,0,0,0,0,0,0,0,2,2,0,0,0,0,0,0,0,0,2,0,0,0,0,0,0,0,0,0,0,0,0,0,0,0,0,0,0,0,0,0,0,12,4,4,4,0,0,0,0,0,0,0,0,15,5,6,4,0,0,0,0,0,0,0,0,12,4,4,4,0,0,0,0,0,0,0,0,0,0,0,0,0,0,0,0,0,0,0,0,0,0,0,0,0,0,0,0,0,0,0,0,0,0,0,0,0,0,0,0,0,0,0,0,0,0,0,0,0,0,0,0,0,0,0,0,0,0,0,0,0,0,0,0,0,0,0,0]
[7,5,5,3,3,0,0,0,0,5,5,3,3,0,0,0,0,0,0,0,0,0,0,0,0,0,0,0,0,0,0,0,0,0,0,0,0,0,0,0,0,0,0,0,0,0,0,0,0,0,0,0,0,0,0,0,0,0,0,0,0,0,0,234,0,0,0,0,132,0,0,29,0,0,0,0,0,0,0,15,0,0,0,0,0,0,0,0,135,0,0,0,17,0,0,0,0,0,0,0,0,0,2,2,0,0,0,0,0,0,0,0,2,0,0,0,0,0,0,0,0,0,1,0,0,0,0,0,0,0,0,0,0,0,0,8,3,3,2,0,0,0,0,0,0,0,0,9,4,3,2,0,0,0,0,0,0,0,0,8,3,3,2,0,0,0,0,0,0,0,0,0,0,0,0,0,0,0,0,0,0,0,0,0,0,0,0,0,0,0,0,0,0,0,0,0,0,0,0,0,0,0,0,0,0,0,0,0,0,0,0,0,0,0,0,0,0,0,0,0,0,0,0,0,0,0,0,0,0,0,0]
[8,5,5,6,6,0,0,0,0,5,5,6,6,0,0,0,0,0,0,0,0,0,0,0,0,0,0,0,0,0,0,0,0,0,0,0,0,0,0,0,0,0,0,0,0,0,0,0,0,1,0,2,0,0,0,0,0,0,0,0,0,3,0,283,0,0,0,0,128,0,0,78,0,0,0,0,0,0,0,0,0,0,0,0,0,0,0,0,127,0,0,0,66,0,0,0,0,0,0,0,0,0,0,0,0,0,0,0,0,0,0,0,0,0,0,0,0,0,0,0,0,0,0,0,0,0,0,0,0,0,0,0,0,0,0,14,8,4,2,1,0,0,1,0,0,0,0,17,8,7,2,0,0,0,0,0,0,0,0,14,8,4,2,0,0,0,0,0,0,0,0,0,0,0,0,0,0,0,0,0,0,0,0,0,0,0,0,0,0,0,0,0,0,0,0,0,0,0,0,0,0,0,0,0,0,0,0,0,0,0,0,0,0,0,0,0,0,0,0,0,0,0,0,0,0,0,0,0,0,0,0]
[9,4,4,3,3,0,0,0,0,4,4,3,3,0,0,0,0,0,0,0,0,0,0,0,0,0,0,0,0,0,0,0,0,0,0,0,0,0,0,0,0,0,0,0,0,0,0,0,0,0,0,0,0,0,0,0,0,0,0,0,0,0,0,260,0,0,0,0,138,0,0,30,0,0,0,0,0,0,0,1,0,0,0,0,0,0,0,0,172,0,0,0,39,0,0,0,0,0,0,0,0,0,4,4,0,0,0,0,0,0,0,0,4,0,0,0,0,0,0,0,0,0,0,0,0,0,0,0,0,0,0,0,0,0,0,16,8,6,2,0,0,0,0,0,0,0,0,15,8,6,1,0,0,0,0,0,0,0,0,16,8,6,2,0,0,0,0,0,0,0,0,0,0,0,0,0,0,0,0,0,0,0,0,0,0,0,0,0,0,0,0,0,0,0,0,0,0,0,0,0,0,0,0,0,0,0,0,0,0,0,0,0,0,0,0,0,0,0,0,0,0,0,0,0,0,0,0,0,0,0,0]
[10,2,2,0,0,0,0,0,0,2,2,0,0,0,0,0,0,0,0,0,0,0,0,0,0,0,0,0,0,0,0,0,0,0,0,0,0,0,0,0,0,0,0,0,0,0,0,0,0,0,0,0,0,0,0,0,0,0,0,0,0,1,0,178,0,0,0,0,111,0,0,48,0,0,0,0,0,0,0,22,0,0,0,0,0,0,0,0,124,0,0,0,36,0,0,0,0,0,0,0,0,0,3,3,0,0,0,0,0,0,0,0,3,0,0,0,0,0,0,0,0,0,0,0,0,0,0,0,0,0,0,0,0,0,0,10,3,6,1,1,0,0,1,0,0,0,0,13,5,7,1,0,0,0,0,0,0,0,0,10,3,6,1,0,0,0,0,0,0,0,0,0,0,0,0,0,0,0,0,0,0,0,0,0,0,0,0,0,0,0,0,0,0,0,0,0,0,0,0,0,0,0,0,0,0,0,0,0,0,0,0,0,0,0,0,0,0,0,0,0,0,0,0,0,0,0,0,0,0,0,0]
[11,1,1,1,1,0,0,0,0,1,1,1,1,0,0,0,0,0,0,0,0,0,0,0,0,0,0,0,0,0,0,0,0,0,0,0,0,0,0,0,0,0,0,0,0,0,0,0,0,1,1,1,1,0,0,0,0,0,0,0,0,0,0,136,0,0,0,0,60,0,0,68,0,0,0,0,0,0,0,26,0,0,0,0,0,0,0,0,61,0,1,0,60,0,0,0,0,0,0,0,0,0,0,0,0,0,0,0,0,0,0,0,0,0,0,0,0,0,0,0,0,0,0,0,0,0,0,0,0,0,0,0,0,0,0,10,3,6,1,0,0,0,0,0,0,0,0,9,2,6,1,0,0,0,0,0,0,0,0,10,3,6,1,0,0,0,0,0,0,0,0,0,0,0,0,0,0,0,0,0,0,0,0,0,0,0,0,0,0,0,0,0,0,0,0,0,0,0,0,0,0,0,0,0,0,0,0,0,0,0,0,0,0,0,0,0,0,0,0,0,0,0,0,0,0,0,0,0,0,0,0]
["T",45,43,37,37,0,0,0,0,42,42,36,36,0,0,0,0,2,2,0,2,2,2,1,0,0,0,0,0,0,0,0,0,0,0,0,0,0,0,0,0,1,0,1,1,0,0,0,0,5,1,6,1,0,0,0,0,0,0,0,0,34,1,2811,0,0,0,0,1313,1,0,482,0,0,0,0,0,0,0,93,0,0,0,0,0,0,0,0,1671,2,1,0,462,0,0,0,1,0,0,0,0,0,18,14,0,0,0,0,0,0,0,0,14,0,0,0,0,0,0,0,0,0,1,0,0,0,0,0,0,0,0,0,0,0,0,137,62,55,20,3,0,0,3,0,0,0,0,153,70,64,19,1,1,0,0,0,0,0,0,137,62,55,20,0,0,0,0,0,0,0,0,0,0,0,0,0,0,0,0,0,0,0,0,0,0,0,0,0,0,0,0,0,0,0,0,0,0,0,0,0,0,0,0,0,0,0,0,0,0,0,0,0,0,0,0,0,0,0,0,0,0,0,0,0,0,0,0,0,0,0,0]
[]
[]
[]
[]
[]
["TOTAL"]
[{"$f":"COUNT(A144:A159)","v":11},{"$f":"SUM(B144:B159)","v":90},{"$f":"SUM(C144:C159)","v":86},74,74,0,0,0,0,84,84,72,72,0,0,0,0,4,4,0,4,4,4,2,0,0,0,0,0,0,0,0,0,0,0,0,0,0,0,0,0,2,0,2,2,0,0,0,0,10,2,12,2,0,0,0,0,0,0,0,0,68,2,5622,0,0,{"$f":"SUM(BO144:BO159)","v":0},0,2626,2,0,964,0,0,0,0,0,0,0,186,0,0,0,0,0,0,0,0,3342,4,2,0,924,0,0,0,2,0,0,0,0,0,36,28,0,0,0,0,0,0,0,0,28,0,0,0,0,0,0,0,0,0,2,0,0,0,0,0,0,0,{"$f":"SUM(EA144:EA159)","v":0},0,0,0,0,274,124,110,40,6,0,0,6,0,0,0,0,306,140,128,38,2,2,0,0,0,0,0,0,274,124,110,40,0,0,0,0,0,0,0,0,0,0,0,0,0,0,0,0,0,0,0,0,0,0,0,0,0,0,0,0,0,0,0,{"$f":"SUM(GM144:GM159)","v":0},0,0,0,0,0,0,0,0,0,0,0,0,0,0,0,0,0,0,0,0,0,0,0,0,0,0,0,{"$f":"SUM(HO144:HO159)","v":0},0,0,0,0,0,0,0,0]
[{"$f":"CONCATENATE(A144,\"-\",A145,\"-\",A146,\"-\",A147,\"-\",A148,\"-\",A149,\"-\",A150,\"-\",A151,\"-\",A152,\"-\",A153,\"-\",A154,\"-\",A155)","v":"2-3-1-5-4-6-7-8-9-10-11-T"}]
[null," BAS001"," BAS002"," BAS003"," BAS004"," BAS005"," BAS006"," BAS007"," BAS008"," BAS009"," BAS010"," BAS011"," BAS012"," BAS013"," BAS014"," BAS015"," BAS016"," BAS017"," BAS018"," BAS019"," BAS020"," BAS021"," BAS022"," BAS023"," BAS024"," BAS025"," BAS026"," BAS027"," BAS028"," BAS029"," BAS030"," BAS031"," BAS032"," BAS033"," BAS034"," BAS035"," BAS036"," BAS037"," BAS038"," BAS039"," BAS040"," BAS041"," BAS042"," BAS043"," BAS044"," BAS045"," BAS046"," BAS047"," BAS048"," BAS049"," BAS050"," BAS051"," BAS052"," BAS053"," BAS054"," BAS055"," BAS056"," BAS057"," BAS058"," BAS059"," BAS060"," BAS061"," BAS062"," BAS063"," BAS064"," BAS065"," BAS066"," BAS067"," BAS068"," BAS069"," BAS070"," BAS071"," BAS072"," BAS073"," BAS074"," BAS075"," BAS076"," BAS077"," BAS078"," BAS079"," BAS080"," BAS081"," BAS082"," BAS083"," BAS084"," BAS085"," BAS086"," BAS087"," BAS088"," BAS089"," BAS090"," BAS091"," BAS092"," BAS093"," BAS094"," BAS095"," BAS096"," BAS097"," BAS098"," BAS099"," BAS100"," BAS101"," BAS102"," BAS103"," BAS104"," BAS105"," BAS106"," BAS107"," BAS108"," BAS109"," BAS110"," BAS111"," BAS112"," BAS113"," BAS114"," BAS115"," BAS116"," BAS117"," BAS118"," BAS119"," BAS120"," BAS121"," BAS122"," BAS123"," BAS124"," BAS125"," BAS126"," BAS127"," BAS128"," BAS129"," BAS130"," BAS131"," BAS132"," BAS133"," BAS134"," BAS135"," BAS136"," BAS137"," BAS138"," BAS139"," BAS140"," BAS141"," BAS142"," BAS143"," BAS144"," BAS145"," BAS146"," BAS147"," BAS148"," BAS149"," BAS150"," BAS151"," BAS152"," BAS153"," BAS154"," BAS155"," BAS156"," BAS157"," BAS158"," BAS159"," BAS160"," BAS161"," BAS162"," BAS163"," BAS164"," BAS165"," BAS166"," BAS167"," BAS168"," BAS169"," BAS170"," BAS171"," BAS172"," BAS173"," BAS174"," BAS175"," BAS176"," BAS177"," BAS178"," BAS179"," BAS180"," BAS181"," BAS182"," BAS183"," BAS184"," BAS185"," BAS186"," BAS187"," BAS188"," BAS189"," BAS190"," BAS191"," BAS192"," BAS193"," BAS194"," BAS195"," BAS196"," BAS197"," BAS198"," BAS199"," BAS200"," BAS201"," BAS202"," BAS203"," BAS204"," BAS205"," BAS206"," BAS207"," BAS208"," BAS209"," BAS210"," BAS211"," BAS212"," BAS213"," BAS214"," BAS215"," BAS216"," BAS217"," BAS218"," BAS219"," BAS220"," BAS221"," BAS222"," BAS223"," BAS224"," BAS225"," BAS226"," BAS227"," BAS228"," BAS229"," BAS230"]
[null,{"$f":"IF(B164=B143,\"SI\",\"NO\")","v":"SI"},{"$f":"IF(C164=C143,\"SI\",\"NO\")","v":"SI"},"SI","SI","SI","SI","SI","SI","SI","SI","SI","SI","SI","SI","SI","SI","SI","SI","SI","SI","SI","SI","SI","SI","SI","SI","SI","SI","SI","SI","SI","SI","SI","SI","SI","SI","SI","SI","SI","SI","SI","SI","SI","SI","SI","SI","SI","SI","SI","SI","SI","SI","SI","SI","SI","SI","SI","SI","SI","SI","SI","SI","SI","SI","SI",{"$f":"IF(BO164=BO143,\"SI\",\"NO\")","v":"SI"},"SI","SI","SI","SI","SI","SI","SI","SI","SI","SI","SI","SI","SI","SI","SI","SI","SI","SI","SI","SI","SI","SI","SI","SI","SI","SI","SI","SI","SI","SI","SI","SI","SI","SI","SI","SI","SI","SI","SI","SI","SI","SI","SI","SI","SI","SI","SI","SI","SI","SI","SI","SI","SI","SI","SI","SI","SI","SI","SI","SI","SI","SI","SI",{"$f":"IF(EA164=EA143,\"SI\",\"NO\")","v":"SI"},"SI","SI","SI","SI","SI","SI","SI","SI","SI","SI","SI","SI","SI","SI","SI","SI","SI","SI","SI","SI","SI","SI","SI","SI","SI","SI","SI","SI","SI","SI","SI","SI","SI","SI","SI","SI","SI","SI","SI","SI","SI","SI","SI","SI","SI","SI","SI","SI","SI","SI","SI","SI","SI","SI","SI","SI","SI","SI","SI","SI","SI","SI","SI",{"$f":"IF(GM164=GM143,\"SI\",\"NO\")","v":"SI"},"SI","SI","SI","SI","SI","SI","SI","SI","SI","SI","SI","SI","SI","SI","SI","SI","SI","SI","SI","SI","SI","SI","SI","SI","SI","SI","SI",{"$f":"IF(HO164=HO143,\"SI\",\"NO\")","v":"SI"},"SI","SI","SI","SI","SI","SI","SI","SI"]
[]
["ITSVIH1217M"]
["anno",2024]
["cod_red","03"]
["codmic","(Todas)"]
["cod_prov","(Todas)"]
["coddist","(Todas)"]
["cod_estab","(Todas)"]
["cod_eje","(Todas)"]
[]
[null,"Valores"]
["Etiquetas de fila"," BAS001"," BAS002"," BAS003"," BAS004"," BAS005"," BAS006"," BAS007"," BAS008"," BAS009"," BAS010"," BAS011"," BAS012"," BAS013"," BAS014"," BAS015"," BAS016"," BAS017"," BAS018"," BAS019"," BAS020"," BAS021"," BAS022"," BAS023"," BAS024"," BAS025"," BAS026"," BAS027"," BAS028"," BAS029"," BAS030"," BAS031"," BAS032"," BAS033"," BAS034"," BAS035"," BAS036"," BAS037"," BAS038"," BAS039"," BAS040"," BAS041"," BAS042"," BAS043"," BAS044"," BAS045"," BAS046"," BAS047"," BAS048"," BAS049"," BAS050"," BAS051"," BAS052"," BAS053"," BAS054"," BAS055"," BAS056"," BAS057"," BAS058"," BAS059"," BAS060"," BAS061"," BAS062"," BAS063"," BAS064"," BAS065"," BAS066"," BAS067"," BAS068"," BAS069"," BAS070"," BAS071"," BAS072"," BAS073"," BAS074"," BAS075"," BAS076"," BAS077"," BAS078"," BAS079"," BAS080"," BAS081"," BAS082"," BAS083"," BAS084"," BAS085"," BAS086"," BAS087"," BAS088"," BAS089"," BAS090"," BAS091"," BAS092"," BAS093"," BAS094"," BAS095"," BAS096"," BAS097"," BAS098"," BAS099"," BAS100"," BAS101"," BAS102"," BAS103"," BAS104"," BAS105"," BAS106"," BAS107"," BAS108"," BAS109"," BAS110"," BAS111"," BAS112"," BAS113"," BAS114"," BAS115"," BAS116"," BAS117"," BAS118"," BAS119"," BAS120"," BAS121"," BAS122"," BAS123"," BAS124"," BAS125"," BAS126"," BAS127"," BAS128"," BAS129"," BAS130"," BAS131"," BAS132"," BAS133"," BAS134"," BAS135"," BAS136"," BAS137"," BAS138"," BAS139"," BAS140"," BAS141"," BAS142"," BAS143"," BAS144"," BAS145"," BAS146"," BAS147"," BAS148"," BAS149"," BAS150"," BAS151"," BAS152"," BAS153"," BAS154"," BAS155"," BAS156"," BAS157"," BAS158"," BAS159"," BAS160"," BAS161"," BAS162"," BAS163"," BAS164"," BAS165"," BAS166"," BAS167"," BAS168"," BAS169"," BAS170"," BAS171"," BAS172"," BAS173"," BAS174"," BAS175"," BAS176"," BAS177"," BAS178"," BAS179"," BAS180"," BAS181"," BAS182"," BAS183"," BAS184"," BAS185"," BAS186"," BAS187"," BAS188"," BAS189"," BAS190"," BAS191"," BAS192"," BAS193"," BAS194"," BAS195"," BAS196"," BAS197"," BAS198"," BAS199"," BAS200"," BAS201"," BAS202"," BAS203"," BAS204"," BAS205"," BAS206"," BAS207"," BAS208"," BAS209"," BAS210"," BAS211"," BAS212"," BAS213"," BAS214"," BAS215"," BAS216"," BAS217"," BAS218"," BAS219"," BAS220"," BAS221"," BAS222"," BAS223"," BAS224"," BAS225"," BAS226"," BAS227"," BAS228"," BAS229"," BAS230"]
[8,1,1,1,1,1,1,1,1,0,0,0,0,0,0,0,0,0,0,0,0,0,0,0,0,0,0,0,0,0,0,0,0,0,0,0,0,0,0,0,0,0,0,0,0,0,0,0,0,0,0,0,0,0,0,0,0,0,0,0,0,0,0,231,0,0,0,0,97,0,0,57,0,0,0,0,0,0,0,0,0,0,0,0,0,0,0,0,91,0,1,0,59,0,0,0,1,0,0,0,0,0,0,0,0,0,0,0,0,0,0,0,0,0,0,0,0,0,0,0,0,0,0,0,0,0,0,0,0,0,0,0,0,0,0,0,0,0,0,0,0,0,0,0,0,0,0,0,0,0,0,0,0,0,0,0,0,0,0,0,0,0,0,0,0,0,0,0,0,0,0,0,0,0,0,0,0,0,0,0,0,0,0,0,0,0,0,0,0,0,0,0,0,0,0,0,0,0,0,0,0,0,0,0,0,0,0,0,0,0,0,0,0,0,0,0,0,0,0,0,0,0,0,0,0,0,0,0,0,0,0]
[7,0,0,0,0,0,0,0,0,0,0,0,0,0,0,0,0,0,0,0,0,0,0,0,0,0,0,0,0,0,0,0,0,0,0,0,0,0,0,0,0,0,0,0,0,0,0,0,0,0,0,0,0,0,0,0,0,0,0,0,0,0,0,156,0,0,0,0,102,0,0,20,0,0,0,0,0,0,0,6,0,0,0,0,0,0,0,0,102,0,0,0,20,0,0,0,0,0,0,0,0,0,0,0,0,0,0,0,0,0,0,0,0,0,0,0,0,0,0,0,0,0,0,0,0,0,0,0,0,0,0,0,0,0,0,0,0,0,0,0,0,0,0,0,0,0,0,0,0,0,0,0,0,0,0,0,0,0,0,0,0,0,0,0,0,0,0,0,0,0,0,0,0,0,0,0,0,0,0,0,0,0,0,0,0,0,0,0,0,0,0,0,0,0,0,0,0,0,0,0,0,0,0,0,0,0,0,0,0,0,0,0,0,0,0,0,0,0,0,0,0,0,0,0,0,0,0,0,0,0,0]
[6,0,0,0,0,0,0,0,0,0,0,0,0,0,0,0,0,0,0,0,0,0,0,0,0,0,0,0,0,0,0,0,0,0,0,0,0,0,0,0,0,0,0,0,0,0,0,0,0,0,0,0,0,0,0,0,0,0,0,0,0,0,0,368,0,0,0,0,265,0,0,42,0,0,0,0,0,0,0,5,0,0,0,0,0,0,0,0,273,1,1,0,44,0,0,0,1,0,0,0,0,0,0,0,0,0,0,0,0,0,0,0,0,0,0,0,0,0,0,0,0,0,0,0,1,0,0,0,0,0,0,0,0,0,0,0,0,0,0,0,0,0,0,0,0,0,0,0,0,0,0,0,0,0,0,0,0,0,0,0,0,0,0,0,0,0,0,0,0,0,0,0,0,0,0,0,0,0,0,0,0,0,0,0,0,0,0,0,0,0,0,0,0,0,0,0,0,0,0,0,0,0,0,0,0,0,0,0,0,0,0,0,0,0,0,0,0,0,0,0,0,0,0,0,0,0,0,0,0,0,0]
[3,0,0,0,0,1,0,0,0,0,0,0,0,0,0,0,0,0,0,0,0,0,0,0,0,0,0,0,0,0,0,0,0,0,0,0,0,0,0,0,0,0,0,0,0,0,0,0,0,0,0,0,0,0,0,0,0,0,0,0,0,15,0,88,0,0,0,0,65,0,0,14,0,0,0,0,0,0,0,1,0,0,0,0,0,0,0,0,69,0,0,0,14,0,0,0,0,0,0,0,0,0,1,1,0,0,0,0,0,0,0,0,1,0,0,0,0,0,0,0,0,0,0,0,0,0,0,0,0,0,0,0,0,0,0,0,0,0,0,0,0,0,0,0,0,0,0,0,0,0,0,0,0,0,0,0,0,0,0,0,0,0,0,0,0,0,0,0,0,0,0,0,0,0,0,0,0,0,0,0,0,0,0,0,0,0,0,0,0,0,0,0,0,0,0,0,0,0,0,0,0,0,0,0,0,0,0,0,0,0,0,0,1,0,1,0,0,0,0,0,0,0,0,0,0,0,0,0,0,0,0]
[1,0,0,0,0,0,0,0,0,0,0,0,0,0,0,0,0,0,0,0,0,0,0,0,0,0,0,0,0,0,0,0,0,0,0,0,0,0,0,0,0,0,0,0,0,1,0,0,0,0,0,0,0,0,0,0,0,0,0,0,0,1,0,29,0,0,0,0,20,0,0,3,0,0,0,0,0,0,0,0,0,0,0,0,0,0,0,0,22,0,0,0,3,0,0,0,1,0,0,0,0,0,0,0,0,0,0,0,0,0,0,0,0,0,0,0,0,0,0,0,0,0,0,0,0,0,0,0,0,0,0,0,0,0,0,0,0,0,0,0,0,0,0,0,0,0,0,0,0,0,0,0,0,0,0,0,0,0,0,0,0,0,0,0,0,0,0,0,0,0,0,0,0,0,0,0,0,0,0,0,0,0,0,0,0,0,0,0,0,0,0,0,0,0,0,0,0,0,0,0,0,0,0,0,0,0,0,0,0,0,0,0,0,0,0,0,0,0,0,0,0,0,0,0,0,0,0,0,0,0,0]
[5,0,0,0,0,0,0,0,0,0,0,0,0,0,0,0,0,0,0,0,0,0,0,0,0,0,0,0,0,0,0,0,0,0,0,0,0,0,0,0,0,0,0,0,0,0,0,0,0,1,0,1,0,0,0,0,0,0,0,0,0,2,0,317,0,0,0,0,144,0,0,41,0,0,0,0,0,0,0,4,0,0,0,0,0,0,0,0,220,0,0,0,60,0,0,0,0,0,0,0,0,0,0,0,0,0,0,0,0,0,0,0,0,0,0,0,0,0,0,0,0,0,0,0,0,0,0,0,0,0,0,0,0,0,0,0,0,0,0,0,0,0,0,0,0,0,0,0,0,0,0,0,0,0,0,0,0,0,0,0,0,0,0,0,0,0,0,0,0,0,0,0,0,0,0,0,0,0,0,0,0,0,0,0,0,0,0,0,0,0,0,0,0,0,0,0,0,0,0,0,0,0,0,0,0,0,0,0,0,0,0,0,0,0,0,0,0,0,0,0,0,0,0,0,0,0,0,0,0,0,0]
[2,0,0,0,0,1,1,0,0,0,0,0,0,0,0,0,0,0,0,0,0,0,0,0,0,0,0,0,0,0,0,0,0,0,0,0,0,0,0,0,0,0,0,0,0,0,0,0,0,0,0,0,0,0,0,0,0,0,0,0,0,5,0,31,0,0,0,0,21,0,0,5,0,0,0,0,0,0,0,0,0,0,0,0,0,0,0,0,24,0,0,0,7,0,0,0,0,0,0,0,0,0,0,0,0,0,0,0,0,0,0,0,0,0,0,0,0,0,0,0,0,0,0,0,0,0,0,0,0,0,0,0,0,0,0,0,0,0,0,0,0,0,0,0,0,0,0,0,0,0,0,0,0,0,0,0,0,0,0,0,0,0,0,0,0,0,0,0,0,0,0,0,0,0,0,0,0,0,0,0,0,0,0,0,0,0,0,0,0,0,0,0,0,0,0,0,0,0,0,0,0,0,0,0,0,0,0,0,0,0,0,0,0,0,0,0,0,0,0,0,0,0,0,0,0,0,0,0,0,0,0]
[4,0,0,0,0,0,0,0,0,0,0,0,0,0,0,0,0,0,0,0,0,0,0,0,0,0,0,0,0,0,0,0,0,0,0,0,0,0,0,0,0,0,0,0,0,0,0,0,0,0,0,0,0,0,0,0,0,0,0,0,0,21,0,374,0,0,0,0,162,0,0,58,0,0,0,0,0,0,0,1,0,0,0,0,0,0,0,0,269,0,0,0,74,0,0,0,0,0,0,0,0,0,0,0,0,0,0,0,0,0,0,0,0,0,0,0,0,0,0,0,0,0,0,0,0,0,0,0,0,0,0,0,0,0,0,0,0,0,0,0,0,0,0,0,0,0,0,0,0,0,0,0,0,0,0,0,0,0,0,0,0,0,0,0,0,0,0,0,0,0,0,0,0,0,0,0,0,0,0,0,0,0,0,0,0,0,0,0,0,0,0,0,0,0,0,0,0,0,0,0,0,0,0,0,0,0,0,0,0,0,0,0,0,0,0,0,0,0,0,0,0,0,0,0,0,0,0,0,0,0,0]
[9,1,0,0,0,1,1,0,0,0,0,0,0,0,0,0,0,0,0,0,0,0,0,0,0,0,0,0,0,0,0,0,0,0,0,0,0,0,0,0,0,0,0,0,0,0,0,0,0,1,0,1,0,0,0,0,0,0,0,0,0,1,0,237,0,0,0,0,114,0,0,5,0,0,0,0,0,0,0,0,0,0,0,0,0,0,0,0,165,0,0,0,30,0,1,0,0,0,0,0,0,0,0,0,0,0,0,0,0,0,0,0,0,0,0,0,0,0,0,0,0,0,0,0,0,0,0,0,0,0,0,0,0,0,0,0,0,0,0,0,0,0,0,0,0,0,0,0,0,0,0,0,0,0,0,0,0,0,0,0,0,0,0,0,0,0,0,0,0,0,0,0,0,0,0,0,0,0,0,0,0,0,0,0,0,0,0,0,0,0,0,0,0,0,0,0,0,0,0,0,0,0,0,0,0,0,0,0,0,0,0,0,0,0,0,0,0,0,0,0,0,0,0,0,0,0,0,0,0,0,0]
[10,2,1,0,0,2,2,0,0,0,0,0,0,0,0,0,0,0,0,0,0,0,0,0,0,0,0,0,0,0,0,0,0,0,0,0,0,0,0,0,0,0,0,0,0,1,1,0,0,0,0,0,0,0,0,0,0,0,0,0,0,0,0,133,0,0,0,0,82,0,0,23,0,0,0,0,0,0,0,20,0,0,0,0,0,0,0,0,108,0,0,0,32,0,0,0,0,0,0,0,0,0,0,0,0,0,0,0,0,0,0,0,0,0,0,0,0,0,0,0,0,0,0,0,0,0,0,0,0,0,0,0,0,0,0,0,0,0,0,0,0,0,0,0,0,0,0,0,0,0,0,0,0,0,0,0,0,0,0,0,0,0,0,0,0,0,0,0,0,0,0,0,0,0,0,0,0,0,0,0,0,0,0,0,0,0,0,0,0,0,0,0,0,0,0,0,0,0,0,0,0,0,0,0,0,0,0,0,0,0,0,0,0,0,0,0,0,0,0,0,0,0,0,0,0,0,0,0,0,0,0]
[11,0,0,0,0,0,0,0,0,0,0,0,0,0,0,0,0,0,0,0,0,0,0,0,0,0,0,0,0,0,0,0,0,0,0,0,0,0,0,0,0,0,0,0,0,0,0,0,0,1,1,1,1,0,0,0,0,0,0,0,0,1,0,129,0,0,0,0,79,0,0,37,0,0,0,0,0,0,0,24,0,0,0,0,0,0,0,0,82,0,0,0,36,0,0,0,0,0,0,0,0,0,0,0,0,0,0,0,0,0,0,0,0,0,0,0,0,0,0,0,0,0,0,0,0,0,0,0,0,0,0,0,0,0,0,0,0,0,0,0,0,0,0,0,0,0,0,0,0,0,0,0,0,0,0,0,0,0,0,0,0,0,0,0,0,0,0,0,0,0,0,0,0,0,0,0,0,0,0,0,0,0,0,0,0,0,0,0,0,0,0,0,0,0,0,0,0,0,0,0,0,0,0,0,0,0,0,0,0,0,0,0,0,0,0,0,0,0,0,0,0,0,0,0,0,0,0,0,0,0,0]
["T",4,2,1,1,6,5,1,1,0,0,0,0,0,0,0,0,0,0,0,0,0,0,0,0,0,0,0,0,0,0,0,0,0,0,0,0,0,0,0,0,0,0,0,0,2,1,0,0,3,1,3,1,0,0,0,0,0,0,0,0,46,0,2093,0,0,0,0,1151,0,0,305,0,0,0,0,0,0,0,61,0,0,0,0,0,0,0,0,1425,1,2,0,379,0,1,0,3,0,0,0,0,0,1,1,0,0,0,0,0,0,0,0,1,0,0,0,0,0,0,0,0,0,0,0,1,0,0,0,0,0,0,0,0,0,0,0,0,0,0,0,0,0,0,0,0,0,0,0,0,0,0,0,0,0,0,0,0,0,0,0,0,0,0,0,0,0,0,0,0,0,0,0,0,0,0,0,0,0,0,0,0,0,0,0,0,0,0,0,0,0,0,0,0,0,0,0,0,0,0,0,0,0,0,0,0,0,0,0,0,0,0,0,1,0,1,0,0,0,0,0,0,0,0,0,0,0,0,0,0,0,0]
[]
[]
[]
[]
[]
[]
["TOTAL"]
[{"$f":"COUNT(A178:A194)","v":11},{"$f":"SUM(B178:B194)","v":8},{"$f":"SUM(C178:C194)","v":4},2,2,12,10,2,2,0,0,0,0,0,0,0,0,0,0,0,0,0,0,0,0,0,0,0,0,0,0,0,0,0,0,0,0,0,0,0,0,0,0,0,0,4,2,0,0,6,2,6,2,0,0,0,0,0,0,0,0,92,0,4186,0,0,{"$f":"SUM(BO178:BO194)","v":0},0,2302,0,0,610,0,0,0,0,0,0,0,122,0,0,0,0,0,0,0,0,2850,2,4,0,758,0,2,0,6,0,0,0,0,0,2,2,0,0,0,0,0,0,0,0,2,0,0,0,0,0,0,0,0,0,0,0,2,0,0,0,0,0,{"$f":"SUM(EA178:EA194)","v":0},0,0,0,0,0,0,0,0,0,0,0,0,0,0,0,0,0,0,0,0,0,0,0,0,0,0,0,0,0,0,0,0,0,0,0,0,0,0,0,0,0,0,0,0,0,0,0,0,0,0,0,0,0,0,0,0,0,0,0,0,0,0,0,{"$f":"SUM(GM178:GM194)","v":0},0,0,0,0,0,0,0,0,0,0,0,0,0,0,0,0,0,2,0,2,0,0,0,0,0,0,0,{"$f":"SUM(HO178:HO194)","v":0},0,0,0,0,0,0,0,0]
[{"$f":"CONCATENATE(A178,\"-\",A179,\"-\",A180,\"-\",A181,\"-\",A182,\"-\",A183,\"-\",A184,\"-\",A185,\"-\",A186,\"-\",A187,\"-\",A188,\"-\",A189)","v":"8-7-6-3-1-5-2-4-9-10-11-T"}]
[null," BAS001"," BAS002"," BAS003"," BAS004"," BAS005"," BAS006"," BAS007"," BAS008"," BAS009"," BAS010"," BAS011"," BAS012"," BAS013"," BAS014"," BAS015"," BAS016"," BAS017"," BAS018"," BAS019"," BAS020"," BAS021"," BAS022"," BAS023"," BAS024"," BAS025"," BAS026"," BAS027"," BAS028"," BAS029"," BAS030"," BAS031"," BAS032"," BAS033"," BAS034"," BAS035"," BAS036"," BAS037"," BAS038"," BAS039"," BAS040"," BAS041"," BAS042"," BAS043"," BAS044"," BAS045"," BAS046"," BAS047"," BAS048"," BAS049"," BAS050"," BAS051"," BAS052"," BAS053"," BAS054"," BAS055"," BAS056"," BAS057"," BAS058"," BAS059"," BAS060"," BAS061"," BAS062"," BAS063"," BAS064"," BAS065"," BAS066"," BAS067"," BAS068"," BAS069"," BAS070"," BAS071"," BAS072"," BAS073"," BAS074"," BAS075"," BAS076"," BAS077"," BAS078"," BAS079"," BAS080"," BAS081"," BAS082"," BAS083"," BAS084"," BAS085"," BAS086"," BAS087"," BAS088"," BAS089"," BAS090"," BAS091"," BAS092"," BAS093"," BAS094"," BAS095"," BAS096"," BAS097"," BAS098"," BAS099"," BAS100"," BAS101"," BAS102"," BAS103"," BAS104"," BAS105"," BAS106"," BAS107"," BAS108"," BAS109"," BAS110"," BAS111"," BAS112"," BAS113"," BAS114"," BAS115"," BAS116"," BAS117"," BAS118"," BAS119"," BAS120"," BAS121"," BAS122"," BAS123"," BAS124"," BAS125"," BAS126"," BAS127"," BAS128"," BAS129"," BAS130"," BAS131"," BAS132"," BAS133"," BAS134"," BAS135"," BAS136"," BAS137"," BAS138"," BAS139"," BAS140"," BAS141"," BAS142"," BAS143"," BAS144"," BAS145"," BAS146"," BAS147"," BAS148"," BAS149"," BAS150"," BAS151"," BAS152"," BAS153"," BAS154"," BAS155"," BAS156"," BAS157"," BAS158"," BAS159"," BAS160"," BAS161"," BAS162"," BAS163"," BAS164"," BAS165"," BAS166"," BAS167"," BAS168"," BAS169"," BAS170"," BAS171"," BAS172"," BAS173"," BAS174"," BAS175"," BAS176"," BAS177"," BAS178"," BAS179"," BAS180"," BAS181"," BAS182"," BAS183"," BAS184"," BAS185"," BAS186"," BAS187"," BAS188"," BAS189"," BAS190"," BAS191"," BAS192"," BAS193"," BAS194"," BAS195"," BAS196"," BAS197"," BAS198"," BAS199"," BAS200"," BAS201"," BAS202"," BAS203"," BAS204"," BAS205"," BAS206"," BAS207"," BAS208"," BAS209"," BAS210"," BAS211"," BAS212"," BAS213"," BAS214"," BAS215"," BAS216"," BAS217"," BAS218"," BAS219"," BAS220"," BAS221"," BAS222"," BAS223"," BAS224"," BAS225"," BAS226"," BAS227"," BAS228"," BAS229"," BAS230"]
[null,{"$f":"IF(B199=B177,\"SI\",\"NO\")","v":"SI"},{"$f":"IF(C199=C177,\"SI\",\"NO\")","v":"SI"},"SI","SI","SI","SI","SI","SI","SI","SI","SI","SI","SI","SI","SI","SI","SI","SI","SI","SI","SI","SI","SI","SI","SI","SI","SI","SI","SI","SI","SI","SI","SI","SI","SI","SI","SI","SI","SI","SI","SI","SI","SI","SI","SI","SI","SI","SI","SI","SI","SI","SI","SI","SI","SI","SI","SI","SI","SI","SI","SI","SI","SI","SI","SI",{"$f":"IF(BO199=BO177,\"SI\",\"NO\")","v":"SI"},"SI","SI","SI","SI","SI","SI","SI","SI","SI","SI","SI","SI","SI","SI","SI","SI","SI","SI","SI","SI","SI","SI","SI","SI","SI","SI","SI","SI","SI","SI","SI","SI","SI","SI","SI","SI","SI","SI","SI","SI","SI","SI","SI","SI","SI","SI","SI","SI","SI","SI","SI","SI","SI","SI","SI","SI","SI","SI","SI","SI","SI","SI","SI",{"$f":"IF(EA199=EA177,\"SI\",\"NO\")","v":"SI"},"SI","SI","SI","SI","SI","SI","SI","SI","SI","SI","SI","SI","SI","SI","SI","SI","SI","SI","SI","SI","SI","SI","SI","SI","SI","SI","SI","SI","SI","SI","SI","SI","SI","SI","SI","SI","SI","SI","SI","SI","SI","SI","SI","SI","SI","SI","SI","SI","SI","SI","SI","SI","SI","SI","SI","SI","SI","SI","SI","SI","SI","SI","SI",{"$f":"IF(GM199=GM177,\"SI\",\"NO\")","v":"SI"},"SI","SI","SI","SI","SI","SI","SI","SI","SI","SI","SI","SI","SI","SI","SI","SI","SI","SI","SI","SI","SI","SI","SI","SI","SI","SI","SI",{"$f":"IF(HO199=HO177,\"SI\",\"NO\")","v":"SI"},"SI","SI","SI","SI","SI","SI","SI","SI"]
[]
["ITSVIH1829F"]
["anno",2024]
["cod_red","03"]
["codmic","(Todas)"]
["cod_prov","(Todas)"]
["coddist","(Todas)"]
["cod_estab","(Todas)"]
["cod_eje","(Todas)"]
[]
[null,"Valores"]
["Etiquetas de fila"," BAS001"," BAS002"," BAS003"," BAS004"," BAS005"," BAS006"," BAS007"," BAS008"," BAS009"," BAS010"," BAS011"," BAS012"," BAS013"," BAS014"," BAS015"," BAS016"," BAS017"," BAS018"," BAS019"," BAS020"," BAS021"," BAS022"," BAS023"," BAS024"," BAS025"," BAS026"," BAS027"," BAS028"," BAS029"," BAS030"," BAS031"," BAS032"," BAS033"," BAS034"," BAS035"," BAS036"," BAS037"," BAS038"," BAS039"," BAS040"," BAS041"," BAS042"," BAS043"," BAS044"," BAS045"," BAS046"," BAS047"," BAS048"," BAS049"," BAS050"," BAS051"," BAS052"," BAS053"," BAS054"," BAS055"," BAS056"," BAS057"," BAS058"," BAS059"," BAS060"," BAS061"," BAS062"," BAS063"," BAS064"," BAS065"," BAS066"," BAS067"," BAS068"," BAS069"," BAS070"," BAS071"," BAS072"," BAS073"," BAS074"," BAS075"," BAS076"," BAS077"," BAS078"," BAS079"," BAS080"," BAS081"," BAS082"," BAS083"," BAS084"," BAS085"," BAS086"," BAS087"," BAS088"," BAS089"," BAS090"," BAS091"," BAS092"," BAS093"," BAS094"," BAS095"," BAS096"," BAS097"," BAS098"," BAS099"," BAS100"," BAS101"," BAS102"," BAS103"," BAS104"," BAS105"," BAS106"," BAS107"," BAS108"," BAS109"," BAS110"," BAS111"," BAS112"," BAS113"," BAS114"," BAS115"," BAS116"," BAS117"," BAS118"," BAS119"," BAS120"," BAS121"," BAS122"," BAS123"," BAS124"," BAS125"," BAS126"," BAS127"," BAS128"," BAS129"," BAS130"," BAS131"," BAS132"," BAS133"," BAS134"," BAS135"," BAS136"," BAS137"," BAS138"," BAS139"," BAS140"," BAS141"," BAS142"," BAS143"," BAS144"," BAS145"," BAS146"," BAS147"," BAS148"," BAS149"," BAS150"," BAS151"," BAS152"," BAS153"," BAS154"," BAS155"," BAS156"," BAS157"," BAS158"," BAS159"," BAS160"," BAS161"," BAS162"," BAS163"," BAS164"," BAS165"," BAS166"," BAS167"," BAS168"," BAS169"," BAS170"," BAS171"," BAS172"," BAS173"," BAS174"," BAS175"," BAS176"," BAS177"," BAS178"," BAS179"," BAS180"," BAS181"," BAS182"," BAS183"," BAS184"," BAS185"," BAS186"," BAS187"," BAS188"," BAS189"," BAS190"," BAS191"," BAS192"," BAS193"," BAS194"," BAS195"," BAS196"," BAS197"," BAS198"," BAS199"," BAS200"," BAS201"," BAS202"," BAS203"," BAS204"," BAS205"," BAS206"," BAS207"," BAS208"," BAS209"," BAS210"," BAS211"," BAS212"," BAS213"," BAS214"," BAS215"," BAS216"," BAS217"," BAS218"," BAS219"," BAS220"," BAS221"," BAS222"," BAS223"," BAS224"," BAS225"," BAS226"," BAS227"," BAS228"," BAS229"," BAS230"]
[2,64,63,58,58,0,0,0,0,63,63,57,57,0,0,0,0,0,0,0,0,1,1,1,0,0,0,0,0,0,0,0,0,0,0,0,0,0,0,0,0,1,1,1,1,0,0,0,0,0,0,0,0,0,0,0,0,0,0,0,0,91,0,481,0,0,0,0,328,1,0,90,1,0,0,0,0,0,0,4,0,0,0,0,0,0,0,0,295,0,1,0,62,0,0,0,0,0,0,0,0,0,0,0,0,0,0,0,0,0,0,0,0,0,0,0,0,0,0,0,0,0,0,0,0,0,0,0,0,0,0,0,0,0,0,60,42,8,10,4,0,0,3,3,1,0,2,63,47,8,8,0,0,0,0,0,0,0,0,57,42,8,7,0,0,0,0,1,0,0,1,0,0,0,0,0,0,0,0,0,0,0,0,0,0,0,0,0,0,0,0,0,0,0,0,0,0,0,0,0,0,0,0,0,0,0,0,0,0,0,0,0,0,0,0,0,0,0,0,0,0,0,0,0,0,0,0,0,0,0,0]
[1,61,60,58,58,0,0,0,0,50,50,46,46,0,0,0,0,0,0,0,0,11,11,11,0,1,1,1,1,0,0,0,0,0,0,0,0,0,0,0,0,1,1,0,0,0,0,0,0,0,0,0,0,0,0,0,0,0,0,0,0,9,0,456,0,0,0,0,329,0,1,91,0,0,13,0,0,0,0,1,0,0,0,0,0,0,0,0,291,0,0,0,49,0,0,0,0,0,0,0,0,0,0,0,0,0,0,0,0,0,0,0,0,0,0,0,0,0,0,0,0,2,1,0,0,0,0,0,0,0,0,0,0,0,0,67,50,14,3,0,0,0,0,1,1,0,0,71,54,14,3,1,1,0,0,0,0,0,0,65,49,14,2,0,0,0,0,0,0,0,0,0,0,0,0,0,0,0,0,0,0,0,0,0,0,0,0,0,0,0,0,0,0,0,0,0,0,0,0,0,0,0,0,0,0,0,0,0,0,0,0,0,0,0,0,0,0,0,0,0,0,0,0,0,0,0,0,0,0,0,0]
[3,59,57,56,56,0,0,0,0,53,53,48,48,0,0,0,0,0,0,0,0,8,8,8,0,0,0,0,0,0,0,0,0,0,0,0,0,0,0,0,0,0,0,0,0,0,0,0,0,1,1,1,1,0,0,0,0,0,0,0,0,106,1,507,0,0,0,0,356,0,0,102,0,0,0,0,0,0,0,20,0,0,0,0,0,0,0,0,348,0,0,0,68,0,0,0,0,0,0,0,0,0,1,1,0,0,0,0,0,0,0,0,1,0,0,0,0,0,0,0,0,0,0,0,0,0,0,0,0,0,0,0,0,0,0,83,53,21,9,2,0,2,0,0,0,0,0,83,55,19,9,0,0,0,0,0,0,0,0,82,53,20,9,1,0,0,1,0,0,0,0,0,0,0,0,0,0,0,0,0,0,0,0,0,0,0,0,0,0,0,0,0,0,0,0,0,0,0,0,0,0,0,0,0,0,0,0,0,0,0,0,0,0,0,0,0,0,0,0,0,0,0,0,0,0,0,0,0,0,0,0]
[5,64,64,54,54,0,0,0,0,60,60,50,50,0,0,0,0,0,0,0,0,6,6,6,0,0,0,0,0,0,0,0,0,0,0,0,0,0,0,0,0,0,0,1,1,1,0,0,0,10,1,9,1,0,0,0,0,0,0,0,0,15,7,623,0,0,0,0,459,0,0,108,2,0,0,0,0,0,0,93,0,0,0,0,0,0,0,0,458,0,0,0,56,0,1,0,0,0,0,0,0,0,0,0,0,0,0,0,0,0,0,0,0,0,0,0,0,0,0,0,0,0,0,0,0,0,0,0,0,0,0,0,0,0,0,77,59,8,11,3,2,0,1,0,0,0,0,72,54,8,11,0,0,0,0,0,0,0,0,76,58,8,11,0,0,0,0,0,0,0,0,0,0,0,0,0,0,0,0,0,0,0,0,0,0,0,0,0,0,0,0,0,0,0,0,0,0,0,0,0,0,0,0,0,0,0,0,0,0,0,0,0,0,0,0,0,0,0,0,0,0,0,0,0,0,0,0,0,0,0,0]
[4,74,71,67,67,0,0,0,0,65,65,58,58,0,0,0,0,3,3,0,3,9,9,9,0,0,0,0,0,0,0,0,0,0,0,0,0,0,0,0,0,1,1,1,1,0,0,0,0,1,0,1,0,0,0,0,0,0,0,0,0,8,1,525,0,0,0,0,389,0,0,84,0,0,0,7,0,0,0,24,0,0,0,0,0,0,0,0,352,0,0,0,39,0,0,0,0,0,0,0,0,0,1,1,0,0,0,0,0,0,0,0,1,0,0,0,0,0,0,0,0,0,2,0,0,0,0,0,0,0,0,0,0,0,0,88,52,20,16,3,2,1,0,0,0,0,0,91,51,23,17,1,0,1,0,0,0,0,0,87,51,20,16,0,0,0,0,0,0,0,0,0,0,0,0,0,0,0,0,0,0,0,0,0,0,0,0,0,0,0,0,0,0,0,0,0,0,0,0,0,0,0,0,0,0,0,0,0,0,0,0,0,0,0,0,0,0,0,0,0,0,0,0,0,0,0,0,0,0,0,0]
[6,53,52,51,51,0,0,0,0,53,53,47,47,0,0,0,0,0,0,0,0,5,5,4,0,0,0,0,0,0,0,0,0,0,0,0,0,0,0,0,0,0,0,0,0,0,0,0,0,0,0,0,0,0,0,0,0,0,0,0,0,5,0,543,0,0,0,0,390,0,0,126,0,0,0,0,0,0,0,144,0,0,0,0,0,0,0,0,369,0,0,0,84,0,0,0,1,0,0,0,0,0,0,0,0,0,0,0,0,0,0,0,0,0,0,0,0,0,0,0,0,0,1,0,0,0,0,0,0,0,0,0,0,0,0,66,40,19,7,1,0,0,1,0,0,0,0,71,44,20,7,0,0,0,0,0,0,0,0,66,40,19,7,1,1,0,0,0,0,0,0,0,0,0,0,0,0,0,0,0,0,0,0,0,0,0,0,0,0,0,0,0,0,0,0,0,0,0,0,0,0,0,0,0,0,0,0,0,0,0,0,0,0,0,0,0,0,0,0,0,0,0,0,0,0,0,0,0,0,0,0]
[7,60,58,57,57,0,0,0,0,56,56,54,54,0,0,0,0,0,0,0,0,4,4,4,0,0,0,0,0,0,0,0,0,0,0,0,0,0,0,0,0,1,0,0,0,0,0,0,0,1,0,1,0,0,0,0,0,0,0,0,0,2,0,416,0,0,0,0,308,1,0,69,0,0,0,0,0,0,0,90,0,0,0,0,0,0,0,0,286,0,0,0,31,0,0,0,3,0,0,0,0,0,5,4,0,0,0,0,0,0,0,0,4,0,0,0,0,0,0,0,0,1,0,0,0,0,0,0,0,0,0,0,0,0,0,87,52,21,14,4,1,1,2,1,1,0,0,91,56,20,15,1,1,0,0,0,0,0,0,86,52,20,14,1,1,0,0,0,0,0,0,0,0,0,0,0,0,0,0,0,0,0,0,0,0,0,0,0,0,0,0,0,0,0,0,0,0,0,0,0,0,0,0,0,0,0,0,0,0,0,0,0,0,0,0,0,0,0,0,0,0,0,0,0,0,0,0,0,0,0,0]
[8,49,47,46,46,0,0,0,0,43,43,42,42,0,0,0,0,0,0,0,0,6,6,6,0,0,0,0,0,0,0,0,0,0,0,0,0,0,0,0,0,0,0,0,0,0,0,0,0,0,0,0,0,0,0,0,0,0,0,0,0,5,0,355,0,0,0,0,228,1,0,99,0,0,0,0,0,0,0,11,0,0,0,0,0,0,0,0,212,0,0,0,55,0,0,0,0,0,0,0,0,0,0,0,0,0,0,0,0,0,0,0,0,0,0,0,0,0,0,0,0,0,0,0,0,0,0,0,0,0,0,0,0,0,0,62,42,13,7,1,1,0,0,0,0,0,0,67,44,16,7,0,0,0,0,0,0,0,0,60,41,12,7,0,0,0,0,1,0,0,1,0,0,0,0,0,0,0,0,0,0,0,0,0,0,0,0,0,0,0,0,0,0,0,0,0,0,0,0,0,0,0,0,0,0,0,0,0,0,0,0,0,0,0,0,0,0,0,0,0,0,0,0,0,0,0,0,0,0,0,0]
[9,70,69,64,63,0,0,0,0,66,66,59,59,0,0,0,0,0,0,0,0,6,5,5,0,0,0,0,0,0,0,0,0,0,0,0,0,0,0,0,0,0,0,1,1,0,0,0,0,5,1,5,1,0,0,0,0,0,0,0,0,5,3,479,0,0,0,0,333,0,0,91,0,0,0,0,0,0,0,8,0,0,0,0,0,0,0,0,308,0,0,0,40,0,0,0,0,0,0,0,0,0,1,1,0,0,0,0,0,0,0,0,1,0,0,0,0,0,0,0,0,0,0,0,0,0,0,0,0,0,0,0,0,0,0,72,44,20,8,7,3,1,3,1,0,1,0,71,44,21,6,0,0,0,0,0,0,0,0,73,44,20,9,0,0,0,0,1,0,1,0,0,0,0,0,0,0,0,0,0,0,0,0,0,0,0,0,0,0,0,0,0,0,0,0,0,0,0,0,0,0,0,0,0,0,0,0,0,0,0,0,0,0,0,0,0,0,0,0,0,0,0,0,0,0,0,0,0,0,0,0]
[10,43,42,41,41,0,0,0,0,40,40,39,39,0,0,0,0,0,0,0,0,2,2,2,0,1,1,1,1,0,0,0,0,0,0,0,0,0,0,0,0,0,0,0,0,0,0,0,0,1,1,1,1,0,0,0,0,0,0,0,0,3,0,467,0,0,0,0,359,0,1,88,0,0,0,0,0,0,0,91,0,0,0,0,0,0,0,0,345,0,0,0,38,0,9,0,1,0,0,0,0,0,2,2,0,0,0,0,0,0,0,0,2,0,0,0,0,0,0,0,0,1,0,0,1,0,0,0,0,0,0,0,0,0,0,80,53,14,13,2,1,1,0,0,0,0,0,88,58,15,15,0,0,0,0,0,0,0,0,79,51,14,14,0,0,0,0,0,0,0,0,0,0,0,0,0,0,0,0,0,0,0,0,0,0,0,0,0,0,0,0,0,0,0,0,0,0,0,0,0,0,0,0,0,0,0,0,0,0,0,0,0,0,0,0,0,0,0,0,0,0,0,0,0,0,0,0,0,0,0,0]
[11,51,51,52,52,0,0,0,0,52,52,52,52,0,0,0,0,0,0,0,0,1,1,1,0,2,1,0,1,0,0,0,0,0,0,0,0,0,0,0,0,0,0,0,0,2,2,0,0,5,1,5,1,0,0,0,0,0,0,0,0,4,3,401,0,0,0,0,261,0,0,107,0,0,0,0,0,0,0,87,0,0,0,0,0,0,0,0,237,1,1,0,62,0,0,0,0,0,0,0,0,0,1,1,0,0,0,0,0,0,0,0,1,0,0,0,0,0,0,0,0,0,0,0,0,0,0,0,0,0,0,0,0,0,0,55,32,18,5,2,1,1,0,0,0,0,0,63,38,20,5,0,0,0,0,0,0,0,0,57,34,17,6,2,1,0,1,0,0,0,0,0,0,0,0,0,0,0,0,0,0,0,0,0,0,0,0,0,0,0,0,0,0,0,0,0,0,0,0,0,0,0,0,0,0,0,0,0,0,0,0,0,0,0,0,0,0,0,0,0,0,0,0,0,0,0,0,0,0,0,0]
["T",648,634,604,603,0,0,0,0,601,601,552,552,0,0,0,0,3,3,0,3,59,58,57,0,4,3,2,3,0,0,0,0,0,0,0,0,0,0,0,0,4,3,4,4,3,2,0,0,24,5,23,5,0,0,0,0,0,0,0,0,253,15,5253,0,0,0,0,3740,3,2,1055,3,0,13,7,0,0,0,573,0,0,0,0,0,0,0,0,3501,1,2,0,584,0,10,0,5,0,0,0,0,0,11,10,0,0,0,0,0,0,0,0,10,0,0,0,0,0,0,0,0,4,4,0,1,0,0,0,0,0,0,0,0,0,0,797,519,176,103,29,11,7,10,6,3,1,2,831,545,184,103,3,2,1,0,0,0,0,0,788,515,172,102,5,3,0,2,3,0,1,2,0,0,0,0,0,0,0,0,0,0,0,0,0,0,0,0,0,0,0,0,0,0,0,0,0,0,0,0,0,0,0,0,0,0,0,0,0,0,0,0,0,0,0,0,0,0,0,0,0,0,0,0,0,0,0,0,0,0,0,0]
[]
[]
[]
[]
[]
[]
["TOTAL"]
[{"$f":"COUNT(A213:A229)","v":11},{"$f":"SUM(B213:B229)","v":1296},{"$f":"SUM(C213:C229)","v":1268},1208,1206,0,0,0,0,1202,1202,1104,1104,0,0,0,0,6,6,0,6,118,116,114,0,8,6,4,6,0,0,0,0,0,0,0,0,0,0,0,0,8,6,8,8,6,4,0,0,48,10,46,10,0,0,0,0,0,0,0,0,506,30,10506,0,0,{"$f":"SUM(BO213:BO229)","v":0},0,7480,6,4,2110,6,0,26,14,0,0,0,1146,0,0,0,0,0,0,0,0,7002,2,4,0,1168,0,20,0,10,0,0,0,0,0,22,20,0,0,0,0,0,0,0,0,20,0,0,0,0,0,0,0,0,8,8,0,2,0,0,0,0,0,{"$f":"SUM(EA213:EA229)","v":0},0,0,0,0,1594,1038,352,206,58,22,14,20,12,6,2,4,1662,1090,368,206,6,4,2,0,0,0,0,0,1576,1030,344,204,10,6,0,4,6,0,2,4,0,0,0,0,0,0,0,0,0,0,0,0,0,0,0,0,0,0,0,0,0,0,0,{"$f":"SUM(GM213:GM229)","v":0},0,0,0,0,0,0,0,0,0,0,0,0,0,0,0,0,0,0,0,0,0,0,0,0,0,0,0,0,0,0,0,0,0,0,0,0]
[{"$f":"CONCATENATE(A213,\"-\",A214,\"-\",A215,\"-\",A216,\"-\",A217,\"-\",A218,\"-\",A219,\"-\",A220,\"-\",A221,\"-\",A222,\"-\",A223,\"-\",A224)","v":"2-1-3-5-4-6-7-8-9-10-11-T"}]
[null," BAS001"," BAS002"," BAS003"," BAS004"," BAS005"," BAS006"," BAS007"," BAS008"," BAS009"," BAS010"," BAS011"," BAS012"," BAS013"," BAS014"," BAS015"," BAS016"," BAS017"," BAS018"," BAS019"," BAS020"," BAS021"," BAS022"," BAS023"," BAS024"," BAS025"," BAS026"," BAS027"," BAS028"," BAS029"," BAS030"," BAS031"," BAS032"," BAS033"," BAS034"," BAS035"," BAS036"," BAS037"," BAS038"," BAS039"," BAS040"," BAS041"," BAS042"," BAS043"," BAS044"," BAS045"," BAS046"," BAS047"," BAS048"," BAS049"," BAS050"," BAS051"," BAS052"," BAS053"," BAS054"," BAS055"," BAS056"," BAS057"," BAS058"," BAS059"," BAS060"," BAS061"," BAS062"," BAS063"," BAS064"," BAS065"," BAS066"," BAS067"," BAS068"," BAS069"," BAS070"," BAS071"," BAS072"," BAS073"," BAS074"," BAS075"," BAS076"," BAS077"," BAS078"," BAS079"," BAS080"," BAS081"," BAS082"," BAS083"," BAS084"," BAS085"," BAS086"," BAS087"," BAS088"," BAS089"," BAS090"," BAS091"," BAS092"," BAS093"," BAS094"," BAS095"," BAS096"," BAS097"," BAS098"," BAS099"," BAS100"," BAS101"," BAS102"," BAS103"," BAS104"," BAS105"," BAS106"," BAS107"," BAS108"," BAS109"," BAS110"," BAS111"," BAS112"," BAS113"," BAS114"," BAS115"," BAS116"," BAS117"," BAS118"," BAS119"," BAS120"," BAS121"," BAS122"," BAS123"," BAS124"," BAS125"," BAS126"," BAS127"," BAS128"," BAS129"," BAS130"," BAS131"," BAS132"," BAS133"," BAS134"," BAS135"," BAS136"," BAS137"," BAS138"," BAS139"," BAS140"," BAS141"," BAS142"," BAS143"," BAS144"," BAS145"," BAS146"," BAS147"," BAS148"," BAS149"," BAS150"," BAS151"," BAS152"," BAS153"," BAS154"," BAS155"," BAS156"," BAS157"," BAS158"," BAS159"," BAS160"," BAS161"," BAS162"," BAS163"," BAS164"," BAS165"," BAS166"," BAS167"," BAS168"," BAS169"," BAS170"," BAS171"," BAS172"," BAS173"," BAS174"," BAS175"," BAS176"," BAS177"," BAS178"," BAS179"," BAS180"," BAS181"," BAS182"," BAS183"," BAS184"," BAS185"," BAS186"," BAS187"," BAS188"," BAS189"," BAS190"," BAS191"," BAS192"," BAS193"," BAS194"," BAS195"," BAS196"," BAS197"," BAS198"," BAS199"," BAS200"," BAS201"," BAS202"," BAS203"," BAS204"," BAS205"," BAS206"," BAS207"," BAS208"," BAS209"," BAS210"," BAS211"," BAS212"," BAS213"," BAS214"," BAS215"," BAS216"," BAS217"," BAS218"," BAS219"," BAS220"," BAS221"," BAS222"," BAS223"," BAS224"," BAS225"," BAS226"," BAS227"," BAS228"," BAS229"," BAS230"]
[null,{"$f":"IF(B234=B212,\"SI\",\"NO\")","v":"SI"},{"$f":"IF(C234=C212,\"SI\",\"NO\")","v":"SI"},"SI","SI","SI","SI","SI","SI","SI","SI","SI","SI","SI","SI","SI","SI","SI","SI","SI","SI","SI","SI","SI","SI","SI","SI","SI","SI","SI","SI","SI","SI","SI","SI","SI","SI","SI","SI","SI","SI","SI","SI","SI","SI","SI","SI","SI","SI","SI","SI","SI","SI","SI","SI","SI","SI","SI","SI","SI","SI","SI","SI","SI","SI","SI",{"$f":"IF(BO234=BO212,\"SI\",\"NO\")","v":"SI"},"SI","SI","SI","SI","SI","SI","SI","SI","SI","SI","SI","SI","SI","SI","SI","SI","SI","SI","SI","SI","SI","SI","SI","SI","SI","SI","SI","SI","SI","SI","SI","SI","SI","SI","SI","SI","SI","SI","SI","SI","SI","SI","SI","SI","SI","SI","SI","SI","SI","SI","SI","SI","SI","SI","SI","SI","SI","SI","SI","SI","SI","SI","SI",{"$f":"IF(EA234=EA212,\"SI\",\"NO\")","v":"SI"},"SI","SI","SI","SI","SI","SI","SI","SI","SI","SI","SI","SI","SI","SI","SI","SI","SI","SI","SI","SI","SI","SI","SI","SI","SI","SI","SI","SI","SI","SI","SI","SI","SI","SI","SI","SI","SI","SI","SI","SI","SI","SI","SI","SI","SI","SI","SI","SI","SI","SI","SI","SI","SI","SI","SI","SI","SI","SI","SI","SI","SI","SI","SI",{"$f":"IF(GM234=GM212,\"SI\",\"NO\")","v":"SI"},"SI","SI","SI","SI","SI","SI","SI","SI","SI","SI","SI","SI","SI","SI","SI","SI","SI","SI","SI","SI","SI","SI","SI","SI","SI","SI","SI",{"$f":"IF(HO234=HO212,\"SI\",\"NO\")","v":"SI"},"SI","SI","SI","SI","SI","SI","SI","SI"]
[]
["ITSVIH1829M"]
["anno",2024]
["cod_red","03"]
["codmic","(Todas)"]
["cod_prov","(Todas)"]
["coddist","(Todas)"]
["cod_estab","(Todas)"]
["cod_eje","(Todas)"]
[]
[null,"Valores"]
["Etiquetas de fila"," BAS001"," BAS002"," BAS003"," BAS004"," BAS005"," BAS006"," BAS007"," BAS008"," BAS009"," BAS010"," BAS011"," BAS012"," BAS013"," BAS014"," BAS015"," BAS016"," BAS017"," BAS018"," BAS019"," BAS020"," BAS021"," BAS022"," BAS023"," BAS024"," BAS025"," BAS026"," BAS027"," BAS028"," BAS029"," BAS030"," BAS031"," BAS032"," BAS033"," BAS034"," BAS035"," BAS036"," BAS037"," BAS038"," BAS039"," BAS040"," BAS041"," BAS042"," BAS043"," BAS044"," BAS045"," BAS046"," BAS047"," BAS048"," BAS049"," BAS050"," BAS051"," BAS052"," BAS053"," BAS054"," BAS055"," BAS056"," BAS057"," BAS058"," BAS059"," BAS060"," BAS061"," BAS062"," BAS063"," BAS064"," BAS065"," BAS066"," BAS067"," BAS068"," BAS069"," BAS070"," BAS071"," BAS072"," BAS073"," BAS074"," BAS075"," BAS076"," BAS077"," BAS078"," BAS079"," BAS080"," BAS081"," BAS082"," BAS083"," BAS084"," BAS085"," BAS086"," BAS087"," BAS088"," BAS089"," BAS090"," BAS091"," BAS092"," BAS093"," BAS094"," BAS095"," BAS096"," BAS097"," BAS098"," BAS099"," BAS100"," BAS101"," BAS102"," BAS103"," BAS104"," BAS105"," BAS106"," BAS107"," BAS108"," BAS109"," BAS110"," BAS111"," BAS112"," BAS113"," BAS114"," BAS115"," BAS116"," BAS117"," BAS118"," BAS119"," BAS120"," BAS121"," BAS122"," BAS123"," BAS124"," BAS125"," BAS126"," BAS127"," BAS128"," BAS129"," BAS130"," BAS131"," BAS132"," BAS133"," BAS134"," BAS135"," BAS136"," BAS137"," BAS138"," BAS139"," BAS140"," BAS141"," BAS142"," BAS143"," BAS144"," BAS145"," BAS146"," BAS147"," BAS148"," BAS149"," BAS150"," BAS151"," BAS152"," BAS153"," BAS154"," BAS155"," BAS156"," BAS157"," BAS158"," BAS159"," BAS160"," BAS161"," BAS162"," BAS163"," BAS164"," BAS165"," BAS166"," BAS167"," BAS168"," BAS169"," BAS170"," BAS171"," BAS172"," BAS173"," BAS174"," BAS175"," BAS176"," BAS177"," BAS178"," BAS179"," BAS180"," BAS181"," BAS182"," BAS183"," BAS184"," BAS185"," BAS186"," BAS187"," BAS188"," BAS189"," BAS190"," BAS191"," BAS192"," BAS193"," BAS194"," BAS195"," BAS196"," BAS197"," BAS198"," BAS199"," BAS200"," BAS201"," BAS202"," BAS203"," BAS204"," BAS205"," BAS206"," BAS207"," BAS208"," BAS209"," BAS210"," BAS211"," BAS212"," BAS213"," BAS214"," BAS215"," BAS216"," BAS217"," BAS218"," BAS219"," BAS220"," BAS221"," BAS222"," BAS223"," BAS224"," BAS225"," BAS226"," BAS227"," BAS228"," BAS229"," BAS230"]
[2,3,3,0,0,3,3,0,0,0,0,0,0,1,1,0,1,0,0,0,0,0,0,0,1,0,0,0,0,0,0,0,0,0,0,0,0,0,0,0,0,0,0,1,1,0,0,0,0,2,0,1,0,0,0,0,0,0,0,0,0,82,2,328,0,0,0,0,302,1,1,16,0,0,0,0,0,0,0,10,0,0,0,0,0,0,0,0,305,0,4,0,17,0,61,0,0,0,0,0,0,0,0,0,0,0,0,0,0,0,0,0,0,0,0,0,0,0,0,0,0,2,0,0,0,0,0,0,0,0,0,0,0,0,0,0,0,0,0,0,0,0,0,0,0,0,0,0,0,0,0,0,0,0,0,0,0,0,0,0,0,0,0,0,0,0,0,0,0,0,0,0,0,0,0,0,0,0,0,0,0,0,0,0,0,0,0,0,0,0,0,0,0,0,0,0,0,0,0,0,0,0,0,0,0,0,0,0,0,0,0,0,0,0,0,0,0,0,0,0,0,0,0,0,0,0,0,0,0,0,0]
[3,1,1,0,0,0,0,0,0,0,0,0,0,0,0,0,0,0,0,0,0,0,0,0,0,1,1,0,1,0,0,0,0,0,0,0,0,0,0,0,0,1,1,1,1,0,0,0,0,1,0,1,0,0,0,0,0,0,0,0,0,35,0,332,0,0,0,0,280,1,0,46,0,0,0,0,0,0,0,4,0,0,0,0,0,0,0,0,283,0,0,0,48,0,0,0,0,0,0,0,0,0,0,0,0,0,0,0,0,0,0,0,0,0,0,0,0,0,0,0,0,0,0,0,0,0,0,0,0,0,0,0,0,0,0,0,0,0,0,0,0,0,0,0,0,0,0,0,0,0,0,0,0,0,0,0,0,0,0,0,0,0,0,0,0,0,0,0,0,0,0,0,0,0,0,0,0,0,0,0,0,0,0,0,0,0,0,0,0,0,0,0,0,0,0,0,0,0,0,0,0,0,0,0,0,0,0,0,0,0,0,0,2,0,2,0,0,0,0,0,0,0,0,0,0,0,0,0,0,0,0]
[1,3,3,1,1,1,1,0,0,0,0,0,0,0,0,0,0,1,1,0,1,0,0,0,0,1,1,1,1,0,0,0,0,0,0,0,0,0,0,0,0,0,0,0,0,2,0,0,0,1,1,1,1,0,0,0,0,0,0,0,0,53,0,218,0,0,0,0,201,0,0,18,1,0,6,0,0,0,0,0,0,0,0,0,0,0,0,0,200,0,0,0,18,0,0,0,2,0,0,0,0,0,0,0,0,0,0,0,0,0,0,0,0,0,0,0,0,0,0,0,0,1,0,0,0,0,0,0,0,0,0,0,0,0,0,0,0,0,0,0,0,0,0,0,0,0,0,0,0,0,0,0,0,0,0,0,0,0,0,0,0,0,0,0,0,0,0,0,0,0,0,0,0,0,0,0,0,0,0,0,0,0,0,0,0,0,0,0,0,0,0,0,0,0,0,0,0,0,0,0,0,0,0,0,0,0,0,0,0,0,0,0,0,0,0,0,0,0,0,0,0,0,0,0,0,0,0,0,0,0,0]
[5,3,3,1,1,1,1,0,0,0,0,0,0,1,1,0,1,0,0,0,0,0,0,0,1,1,1,1,1,0,0,0,0,0,0,0,0,0,0,0,0,0,0,0,0,1,0,0,0,4,0,4,0,0,0,0,0,0,0,0,0,18,3,440,0,0,0,0,350,1,1,68,0,0,0,0,0,0,0,26,0,0,0,0,0,0,0,0,365,1,0,0,47,0,13,0,0,0,0,0,0,0,1,1,0,0,0,0,0,0,0,0,0,0,0,0,0,0,0,0,0,0,1,0,0,0,0,0,0,0,0,0,0,0,0,0,0,0,0,0,0,0,0,0,0,0,0,0,0,0,0,0,0,0,0,0,0,0,0,0,0,0,0,0,0,0,0,0,0,0,0,0,0,0,0,0,0,0,0,0,0,0,0,0,0,0,0,0,0,0,0,0,0,0,0,0,0,0,0,0,0,0,0,0,0,0,0,0,0,0,0,0,0,0,0,0,0,0,0,0,0,0,0,0,0,0,0,0,0,0,0]
[4,1,1,1,1,1,1,1,1,0,0,0,0,0,0,0,0,0,0,0,0,0,0,0,0,0,0,0,0,0,0,0,0,0,0,0,0,0,0,0,0,1,0,0,0,2,1,0,0,3,1,3,1,0,0,0,0,0,0,0,0,20,1,381,0,0,0,0,325,0,0,44,0,0,0,3,0,0,0,10,0,0,0,0,0,0,0,0,328,0,0,0,44,0,0,0,0,0,0,0,0,0,0,0,0,0,0,0,0,0,0,0,0,0,0,0,0,0,0,0,0,1,3,0,0,0,0,0,0,0,0,0,0,0,0,0,0,0,0,0,0,0,0,0,0,0,0,0,0,0,0,0,0,0,0,0,0,0,0,0,0,0,0,0,0,0,0,0,0,0,0,0,0,0,0,0,0,0,0,0,0,0,0,0,0,0,0,0,0,0,0,0,0,0,0,0,0,0,0,0,0,0,0,0,0,0,0,0,0,0,0,0,0,0,0,0,0,0,0,0,0,0,0,0,0,0,0,0,0,0,0]
[6,1,1,1,1,0,0,0,0,0,0,0,0,0,0,0,0,0,0,0,0,0,0,0,0,1,1,1,1,0,0,0,0,0,0,0,0,0,0,0,0,0,0,0,0,0,0,0,0,2,1,2,1,0,0,0,0,0,0,0,0,4,1,301,0,0,0,0,244,1,0,44,0,0,1,0,0,0,0,72,0,0,0,0,0,0,0,0,243,0,1,0,41,0,0,0,0,0,0,0,0,0,1,1,0,0,0,0,0,0,0,0,0,0,0,0,0,0,0,0,0,1,1,0,0,0,0,0,0,0,0,0,0,0,0,0,0,0,0,0,0,0,0,0,0,0,0,0,0,0,0,0,0,0,0,0,0,0,0,0,0,0,0,0,0,0,0,0,0,0,0,0,0,0,0,0,0,0,0,0,0,0,0,0,0,0,0,0,0,0,0,0,0,0,0,0,0,0,0,0,0,0,0,0,0,0,0,0,0,0,0,0,0,0,0,0,0,0,0,0,0,0,0,0,0,0,0,0,0,0,0]
[7,2,1,0,0,1,1,0,0,0,0,0,0,1,1,0,1,0,0,0,0,0,0,0,1,0,1,1,1,0,0,0,0,0,0,0,0,0,0,0,0,0,0,1,1,0,0,0,0,6,0,5,0,0,0,0,0,0,0,0,0,3,2,337,0,0,0,0,283,0,0,35,0,0,0,0,0,0,0,91,0,0,0,0,0,0,0,0,285,1,2,0,35,1,0,0,1,0,0,0,0,0,0,0,0,0,0,0,0,0,0,0,0,0,0,0,0,0,0,0,0,1,0,0,1,0,0,0,0,0,0,0,0,0,0,0,0,0,0,0,0,0,0,0,0,0,0,0,0,0,0,0,0,0,0,0,0,0,0,0,0,0,0,0,0,0,0,0,0,0,0,0,0,0,0,0,0,0,0,0,0,0,0,0,0,0,0,0,0,0,0,0,0,0,0,0,0,0,0,0,0,0,0,0,0,0,0,0,0,0,0,0,0,0,0,0,0,0,0,0,0,0,0,0,0,0,0,0,0,0,0]
[8,0,0,0,0,0,0,0,0,0,0,0,0,0,0,0,0,0,0,0,0,0,0,0,0,0,0,0,0,0,0,0,0,0,0,0,0,0,0,0,0,1,1,1,1,1,1,1,1,0,0,0,0,0,0,0,0,0,0,0,0,7,0,415,0,0,0,0,373,0,0,40,0,0,0,0,0,0,0,4,0,0,0,0,0,0,0,0,359,2,1,0,41,0,0,0,2,0,0,0,0,0,0,0,0,0,0,0,0,0,0,0,0,0,0,0,0,0,0,0,0,1,0,0,0,0,0,0,0,0,0,0,0,0,0,0,0,0,0,0,0,0,0,0,0,0,0,0,0,0,0,0,0,0,0,0,0,0,0,0,0,0,0,0,0,0,0,0,0,0,0,0,0,0,0,0,0,0,0,0,0,0,0,0,0,0,0,0,0,0,0,0,0,0,0,0,0,0,0,0,0,0,0,0,0,0,0,0,0,0,0,0,0,0,0,0,0,0,0,0,0,0,0,0,0,0,0,0,0,0,0]
[9,1,1,0,0,2,1,0,0,0,0,0,0,0,0,0,0,0,0,0,0,0,0,0,0,0,0,0,0,0,0,0,0,0,0,0,0,0,0,0,0,1,1,1,1,1,1,0,0,4,0,3,0,0,0,0,0,0,0,0,0,4,3,435,0,0,0,0,297,2,1,20,0,0,0,0,0,0,0,124,0,0,0,0,0,0,0,0,401,0,0,0,26,0,60,0,0,0,0,0,0,0,0,0,0,0,0,0,0,0,0,0,0,0,0,0,0,0,0,0,0,1,0,0,0,0,0,0,0,0,0,0,0,0,0,0,0,0,0,0,0,0,0,0,0,0,0,0,0,0,0,0,0,0,0,0,0,0,0,0,0,0,0,0,0,0,0,0,0,0,0,0,0,0,0,0,0,0,0,0,0,0,0,0,0,0,0,0,0,0,0,0,0,0,0,0,0,0,0,0,0,0,0,0,0,0,0,0,0,0,0,0,0,0,0,0,0,0,0,0,0,0,0,0,0,0,0,0,0,0,0]
[10,2,2,0,0,1,1,0,0,0,0,0,0,1,1,0,1,1,1,0,1,0,0,0,1,0,0,0,0,0,0,0,0,0,0,0,0,0,0,0,0,1,1,0,0,1,1,0,0,4,1,4,1,0,0,0,0,0,0,0,0,2,2,328,0,0,0,0,281,3,0,28,2,0,0,0,0,0,0,124,0,0,0,0,0,0,0,0,287,0,0,0,29,0,0,0,0,0,0,0,0,0,0,0,0,0,0,0,0,0,0,0,0,0,0,0,0,0,0,0,0,0,3,0,0,0,0,0,0,0,0,0,0,0,0,0,0,0,0,0,0,0,0,0,0,0,0,0,0,0,0,0,0,0,0,0,0,0,0,0,0,0,0,0,0,0,0,0,0,0,0,0,0,0,0,0,0,0,0,0,0,0,0,0,0,0,0,0,0,0,0,0,0,0,0,0,0,0,0,0,0,0,0,0,0,0,0,0,0,0,0,0,0,0,0,0,0,0,0,0,0,0,0,0,0,0,0,0,0,0,0]
[11,3,3,0,0,3,3,0,0,0,0,0,0,0,0,0,0,0,0,0,0,0,0,0,0,0,0,0,0,0,0,0,0,0,0,0,0,0,0,0,0,0,0,0,0,0,0,0,0,2,0,2,0,0,0,0,0,0,0,0,0,2,2,201,0,0,0,0,158,0,0,35,0,0,1,0,0,0,0,80,0,0,0,0,0,0,0,0,162,1,0,0,36,0,0,0,0,0,0,0,0,0,1,1,0,0,0,0,0,0,0,0,1,0,0,0,0,0,0,0,0,0,0,0,0,0,0,0,0,0,0,0,0,0,0,0,0,0,0,0,0,0,0,0,0,0,0,0,0,0,0,0,0,0,0,0,0,0,0,0,0,0,0,0,0,0,0,0,0,0,0,0,0,0,0,0,0,0,0,0,0,0,0,0,0,0,0,0,0,0,0,0,0,0,0,0,0,0,0,0,0,0,0,0,0,0,0,0,0,0,0,0,0,0,0,0,0,0,0,0,0,0,0,0,0,0,0,0,0,0,0]
["T",20,19,4,4,13,12,1,1,0,0,0,0,4,4,0,4,2,2,0,2,0,0,0,4,4,5,4,5,0,0,0,0,0,0,0,0,0,0,0,0,5,4,5,5,8,4,1,1,29,4,26,4,0,0,0,0,0,0,0,0,230,16,3716,0,0,0,0,3094,9,3,394,3,0,8,3,0,0,0,545,0,0,0,0,0,0,0,0,3218,5,8,0,382,1,134,0,5,0,0,0,0,0,3,3,0,0,0,0,0,0,0,0,1,0,0,0,0,0,0,0,0,8,8,0,1,0,0,0,0,0,0,0,0,0,0,0,0,0,0,0,0,0,0,0,0,0,0,0,0,0,0,0,0,0,0,0,0,0,0,0,0,0,0,0,0,0,0,0,0,0,0,0,0,0,0,0,0,0,0,0,0,0,0,0,0,0,0,0,0,0,0,0,0,0,0,0,0,0,0,0,0,0,0,0,0,0,0,0,0,0,0,0,2,0,2,0,0,0,0,0,0,0,0,0,0,0,0,0,0,0,0]
[]
[]
[]
[]
[]
[]
["TOTAL"]
[{"$f":"COUNT(A248:A264)","v":11},{"$f":"SUM(B248:B264)","v":40},{"$f":"SUM(C248:C264)","v":38},8,8,26,24,2,2,0,0,0,0,8,8,0,8,4,4,0,4,0,0,0,8,8,10,8,10,0,0,0,0,0,0,0,0,0,0,0,0,10,8,10,10,16,8,2,2,58,8,52,8,0,0,0,0,0,0,0,0,460,32,7432,0,0,{"$f":"SUM(BO248:BO264)","v":0},0,6188,18,6,788,6,0,16,6,0,0,0,1090,0,0,0,0,0,0,0,0,6436,10,16,0,764,2,268,0,10,0,0,0,0,0,6,6,0,0,0,0,0,0,0,0,2,0,0,0,0,0,0,0,0,16,16,0,2,0,0,0,0,0,{"$f":"SUM(EA248:EA264)","v":0},0,0,0,0,0,0,0,0,0,0,0,0,0,0,0,0,0,0,0,0,0,0,0,0,0,0,0,0,0,0,0,0,0,0,0,0,0,0,0,0,0,0,0,0,0,0,0,0,0,0,0,0,0,0,0,0,0,0,0,0,0,0,0,{"$f":"SUM(GM248:GM264)","v":0},0,0,0,0,0,0,0,0,0,0,0,0,0,0,0,0,0,4,0,4,0,0,0,0,0,0,0,0,0,0,0,0,0,0,0,0]
[{"$f":"CONCATENATE(A248,\"-\",A249,\"-\",A250,\"-\",A251,\"-\",A252,\"-\",A253,\"-\",A254,\"-\",A255,\"-\",A256,\"-\",A257,\"-\",A258,\"-\",A259)","v":"2-3-1-5-4-6-7-8-9-10-11-T"}]
[null," BAS001"," BAS002"," BAS003"," BAS004"," BAS005"," BAS006"," BAS007"," BAS008"," BAS009"," BAS010"," BAS011"," BAS012"," BAS013"," BAS014"," BAS015"," BAS016"," BAS017"," BAS018"," BAS019"," BAS020"," BAS021"," BAS022"," BAS023"," BAS024"," BAS025"," BAS026"," BAS027"," BAS028"," BAS029"," BAS030"," BAS031"," BAS032"," BAS033"," BAS034"," BAS035"," BAS036"," BAS037"," BAS038"," BAS039"," BAS040"," BAS041"," BAS042"," BAS043"," BAS044"," BAS045"," BAS046"," BAS047"," BAS048"," BAS049"," BAS050"," BAS051"," BAS052"," BAS053"," BAS054"," BAS055"," BAS056"," BAS057"," BAS058"," BAS059"," BAS060"," BAS061"," BAS062"," BAS063"," BAS064"," BAS065"," BAS066"," BAS067"," BAS068"," BAS069"," BAS070"," BAS071"," BAS072"," BAS073"," BAS074"," BAS075"," BAS076"," BAS077"," BAS078"," BAS079"," BAS080"," BAS081"," BAS082"," BAS083"," BAS084"," BAS085"," BAS086"," BAS087"," BAS088"," BAS089"," BAS090"," BAS091"," BAS092"," BAS093"," BAS094"," BAS095"," BAS096"," BAS097"," BAS098"," BAS099"," BAS100"," BAS101"," BAS102"," BAS103"," BAS104"," BAS105"," BAS106"," BAS107"," BAS108"," BAS109"," BAS110"," BAS111"," BAS112"," BAS113"," BAS114"," BAS115"," BAS116"," BAS117"," BAS118"," BAS119"," BAS120"," BAS121"," BAS122"," BAS123"," BAS124"," BAS125"," BAS126"," BAS127"," BAS128"," BAS129"," BAS130"," BAS131"," BAS132"," BAS133"," BAS134"," BAS135"," BAS136"," BAS137"," BAS138"," BAS139"," BAS140"," BAS141"," BAS142"," BAS143"," BAS144"," BAS145"," BAS146"," BAS147"," BAS148"," BAS149"," BAS150"," BAS151"," BAS152"," BAS153"," BAS154"," BAS155"," BAS156"," BAS157"," BAS158"," BAS159"," BAS160"," BAS161"," BAS162"," BAS163"," BAS164"," BAS165"," BAS166"," BAS167"," BAS168"," BAS169"," BAS170"," BAS171"," BAS172"," BAS173"," BAS174"," BAS175"," BAS176"," BAS177"," BAS178"," BAS179"," BAS180"," BAS181"," BAS182"," BAS183"," BAS184"," BAS185"," BAS186"," BAS187"," BAS188"," BAS189"," BAS190"," BAS191"," BAS192"," BAS193"," BAS194"," BAS195"," BAS196"," BAS197"," BAS198"," BAS199"," BAS200"," BAS201"," BAS202"," BAS203"," BAS204"," BAS205"," BAS206"," BAS207"," BAS208"," BAS209"," BAS210"," BAS211"," BAS212"," BAS213"," BAS214"," BAS215"," BAS216"," BAS217"," BAS218"," BAS219"," BAS220"," BAS221"," BAS222"," BAS223"," BAS224"," BAS225"," BAS226"," BAS227"," BAS228"," BAS229"," BAS230"]
[null,{"$f":"IF(B269=B247,\"SI\",\"NO\")","v":"SI"},{"$f":"IF(C269=C247,\"SI\",\"NO\")","v":"SI"},"SI","SI","SI","SI","SI","SI","SI","SI","SI","SI","SI","SI","SI","SI","SI","SI","SI","SI","SI","SI","SI","SI","SI","SI","SI","SI","SI","SI","SI","SI","SI","SI","SI","SI","SI","SI","SI","SI","SI","SI","SI","SI","SI","SI","SI","SI","SI","SI","SI","SI","SI","SI","SI","SI","SI","SI","SI","SI","SI","SI","SI","SI","SI",{"$f":"IF(BO269=BO247,\"SI\",\"NO\")","v":"SI"},"SI","SI","SI","SI","SI","SI","SI","SI","SI","SI","SI","SI","SI","SI","SI","SI","SI","SI","SI","SI","SI","SI","SI","SI","SI","SI","SI","SI","SI","SI","SI","SI","SI","SI","SI","SI","SI","SI","SI","SI","SI","SI","SI","SI","SI","SI","SI","SI","SI","SI","SI","SI","SI","SI","SI","SI","SI","SI","SI","SI","SI","SI","SI",{"$f":"IF(EA269=EA247,\"SI\",\"NO\")","v":"SI"},"SI","SI","SI","SI","SI","SI","SI","SI","SI","SI","SI","SI","SI","SI","SI","SI","SI","SI","SI","SI","SI","SI","SI","SI","SI","SI","SI","SI","SI","SI","SI","SI","SI","SI","SI","SI","SI","SI","SI","SI","SI","SI","SI","SI","SI","SI","SI","SI","SI","SI","SI","SI","SI","SI","SI","SI","SI","SI","SI","SI","SI","SI","SI",{"$f":"IF(GM269=GM247,\"SI\",\"NO\")","v":"SI"},"SI","SI","SI","SI","SI","SI","SI","SI","SI","SI","SI","SI","SI","SI","SI","SI","SI","SI","SI","SI","SI","SI","SI","SI","SI","SI","SI","SI","SI","SI","SI","SI","SI","SI","SI","SI"]
[]
["ITSVIH3059F"]
["anno",2024]
["cod_red","03"]
["codmic","(Todas)"]
["cod_prov","(Todas)"]
["coddist","(Todas)"]
["cod_estab","(Todas)"]
["cod_eje","(Todas)"]
[]
[null,"Valores"]
["Etiquetas de fila"," BAS001"," BAS002"," BAS003"," BAS004"," BAS005"," BAS006"," BAS007"," BAS008"," BAS009"," BAS010"," BAS011"," BAS012"," BAS013"," BAS014"," BAS015"," BAS016"," BAS017"," BAS018"," BAS019"," BAS020"," BAS021"," BAS022"," BAS023"," BAS024"," BAS025"," BAS026"," BAS027"," BAS028"," BAS029"," BAS030"," BAS031"," BAS032"," BAS033"," BAS034"," BAS035"," BAS036"," BAS037"," BAS038"," BAS039"," BAS040"," BAS041"," BAS042"," BAS043"," BAS044"," BAS045"," BAS046"," BAS047"," BAS048"," BAS049"," BAS050"," BAS051"," BAS052"," BAS053"," BAS054"," BAS055"," BAS056"," BAS057"," BAS058"," BAS059"," BAS060"," BAS061"," BAS062"," BAS063"," BAS064"," BAS065"," BAS066"," BAS067"," BAS068"," BAS069"," BAS070"," BAS071"," BAS072"," BAS073"," BAS074"," BAS075"," BAS076"," BAS077"," BAS078"," BAS079"," BAS080"," BAS081"," BAS082"," BAS083"," BAS084"," BAS085"," BAS086"," BAS087"," BAS088"," BAS089"," BAS090"," BAS091"," BAS092"," BAS093"," BAS094"," BAS095"," BAS096"," BAS097"," BAS098"," BAS099"," BAS100"," BAS101"," BAS102"," BAS103"," BAS104"," BAS105"," BAS106"," BAS107"," BAS108"," BAS109"," BAS110"," BAS111"," BAS112"," BAS113"," BAS114"," BAS115"," BAS116"," BAS117"," BAS118"," BAS119"," BAS120"," BAS121"," BAS122"," BAS123"," BAS124"," BAS125"," BAS126"," BAS127"," BAS128"," BAS129"," BAS130"," BAS131"," BAS132"," BAS133"," BAS134"," BAS135"," BAS136"," BAS137"," BAS138"," BAS139"," BAS140"," BAS141"," BAS142"," BAS143"," BAS144"," BAS145"," BAS146"," BAS147"," BAS148"," BAS149"," BAS150"," BAS151"," BAS152"," BAS153"," BAS154"," BAS155"," BAS156"," BAS157"," BAS158"," BAS159"," BAS160"," BAS161"," BAS162"," BAS163"," BAS164"," BAS165"," BAS166"," BAS167"," BAS168"," BAS169"," BAS170"," BAS171"," BAS172"," BAS173"," BAS174"," BAS175"," BAS176"," BAS177"," BAS178"," BAS179"," BAS180"," BAS181"," BAS182"," BAS183"," BAS184"," BAS185"," BAS186"," BAS187"," BAS188"," BAS189"," BAS190"," BAS191"," BAS192"," BAS193"," BAS194"," BAS195"," BAS196"," BAS197"," BAS198"," BAS199"," BAS200"," BAS201"," BAS202"," BAS203"," BAS204"," BAS205"," BAS206"," BAS207"," BAS208"," BAS209"," BAS210"," BAS211"," BAS212"," BAS213"," BAS214"," BAS215"," BAS216"," BAS217"," BAS218"," BAS219"," BAS220"," BAS221"," BAS222"," BAS223"," BAS224"," BAS225"," BAS226"," BAS227"," BAS228"," BAS229"," BAS230"]
[2,115,111,108,107,0,0,0,0,109,108,103,102,0,0,0,0,0,0,0,0,8,8,7,0,0,0,0,0,0,0,0,0,0,0,0,0,0,0,0,0,2,1,0,0,1,0,0,0,0,0,0,0,0,0,0,0,0,0,0,0,117,0,798,0,0,0,0,586,1,3,60,0,0,2,0,0,0,0,5,0,0,0,0,0,0,0,0,511,1,2,0,51,0,0,0,0,0,0,0,0,0,0,0,0,0,0,0,0,0,0,0,0,0,0,0,0,0,0,0,0,2,0,0,0,0,0,0,0,0,0,0,0,0,0,34,27,3,4,0,0,0,0,0,0,0,0,34,28,3,3,0,0,0,0,0,0,0,0,32,25,4,3,0,0,0,0,2,0,0,2,0,0,0,0,0,0,0,0,0,0,0,0,0,0,0,0,0,0,0,0,0,0,0,0,0,0,0,0,0,0,0,0,0,0,0,0,0,0,0,0,0,0,0,0,0,0,0,0,0,0,0,0,0,0,0,0,0,0,0,0]
[1,140,139,140,139,0,0,0,0,110,109,110,109,0,0,0,0,0,0,0,0,33,32,31,0,2,1,0,1,0,0,0,0,0,0,0,0,0,0,0,0,0,0,0,0,2,0,0,0,2,1,2,1,0,0,0,0,0,0,0,0,16,0,807,0,0,0,0,588,2,0,52,0,0,40,0,0,0,0,1,0,0,0,0,0,0,0,0,505,0,0,0,42,0,0,0,4,0,0,0,0,0,0,0,0,0,0,0,0,0,0,0,0,0,0,0,0,0,0,0,0,1,0,0,0,0,0,0,0,0,0,0,0,0,0,53,36,13,4,0,0,0,0,0,0,0,0,56,38,14,4,1,1,0,0,0,0,0,0,52,35,13,4,1,1,0,0,1,0,0,1,0,0,0,0,0,0,0,0,0,0,0,0,0,0,0,0,0,0,0,0,0,0,0,0,0,0,0,0,0,0,0,0,0,0,0,0,0,0,0,0,0,0,0,0,0,0,0,0,0,0,0,0,0,0,0,0,0,0,0,0]
[3,153,145,153,153,0,0,0,0,148,148,144,144,0,0,0,0,0,0,0,0,10,10,10,0,0,0,0,0,0,0,0,0,0,0,0,0,0,0,0,0,0,0,0,0,0,0,0,0,1,0,1,0,0,0,0,0,0,0,0,0,160,0,977,0,0,0,0,700,0,1,92,0,0,1,0,0,0,0,29,0,0,0,0,0,0,0,0,623,0,0,0,77,0,0,0,0,0,0,0,0,0,0,0,0,0,0,0,0,0,0,0,0,0,0,0,0,0,0,0,0,0,0,0,0,0,0,0,0,0,0,0,0,0,0,48,33,10,5,0,0,0,0,0,0,0,0,52,36,12,4,0,0,0,0,0,0,0,0,48,33,10,5,2,1,1,0,1,0,1,0,0,0,0,0,0,0,0,0,0,0,0,0,0,0,0,0,0,0,0,0,0,0,0,0,0,0,0,0,0,0,0,0,0,0,0,0,0,0,0,0,0,4,0,4,0,0,0,0,0,0,0,0,0,0,0,0,0,0,0,0]
[5,127,127,117,117,0,0,0,0,122,122,114,114,0,0,0,0,1,1,1,1,8,8,8,0,0,0,0,0,0,0,0,0,0,0,0,0,0,0,0,0,1,1,1,1,2,1,1,1,1,1,2,1,0,0,0,0,0,0,0,0,4,0,796,0,0,0,0,541,3,0,69,3,0,0,0,0,0,0,95,0,0,0,0,0,0,0,0,510,2,0,0,46,0,0,0,2,0,0,0,0,0,0,0,0,0,0,0,0,0,0,0,0,0,0,0,0,0,0,0,0,1,2,0,0,0,0,0,0,0,0,0,0,0,0,49,30,15,4,1,0,0,1,0,0,0,0,52,35,15,2,0,0,0,0,0,0,0,0,49,30,15,4,0,0,0,0,0,0,0,0,0,0,0,0,0,0,0,0,0,0,0,0,0,0,0,0,0,0,0,0,0,0,0,0,0,0,0,0,0,0,0,0,0,0,0,0,0,0,0,0,0,0,0,0,0,0,0,0,0,0,0,0,0,0,0,0,0,0,0,0]
[4,145,135,141,140,0,0,0,0,132,131,125,124,1,1,1,1,0,0,0,0,16,16,15,1,1,0,0,0,0,0,0,0,0,0,0,0,0,0,0,0,0,0,0,0,0,0,0,0,3,1,3,1,0,0,0,0,0,0,0,0,12,0,776,0,0,0,0,554,2,0,66,1,0,3,37,0,0,0,32,0,0,0,0,0,0,0,0,496,0,0,0,42,0,0,0,1,0,0,0,0,0,0,0,0,0,0,0,0,0,0,0,0,0,0,0,0,0,0,0,0,0,1,0,0,0,0,0,0,0,0,0,0,0,0,64,43,15,6,0,0,0,0,0,0,0,0,69,48,16,5,0,0,0,0,0,0,0,0,65,43,16,6,0,0,0,0,2,0,1,1,0,0,0,0,0,0,0,0,0,0,0,0,0,0,0,0,0,0,0,0,0,0,0,0,0,0,0,0,0,0,0,0,0,0,0,0,0,0,0,0,0,0,0,0,0,0,0,0,0,0,0,0,0,0,0,0,0,0,0,0]
[6,128,127,128,128,1,1,1,1,124,124,120,120,0,0,0,0,0,0,0,0,10,10,9,0,0,0,0,0,0,0,0,0,0,0,0,0,0,0,0,0,0,0,0,0,4,0,0,0,2,0,2,0,0,0,0,0,0,0,0,0,6,0,754,0,0,0,0,504,2,0,97,0,0,0,0,0,0,0,100,0,0,0,0,0,0,0,0,451,1,0,0,78,0,0,0,3,0,0,0,0,0,0,0,0,0,0,0,0,0,0,0,0,0,0,0,0,0,0,0,1,0,1,0,0,0,0,0,0,0,0,0,0,0,0,69,49,17,3,0,0,0,0,0,0,0,0,71,50,18,3,0,0,0,0,0,0,0,0,67,47,17,3,1,1,0,0,0,0,0,0,0,0,0,0,0,0,0,0,0,0,0,0,0,0,0,0,0,0,0,0,0,0,0,0,0,0,0,0,0,0,0,0,0,0,0,0,0,0,0,0,0,0,0,0,0,0,0,0,0,0,0,0,0,0,0,0,0,0,0,0]
[8,117,113,113,113,0,0,0,0,104,104,98,98,0,0,0,0,0,0,0,0,19,19,18,0,0,0,0,0,0,0,0,0,0,0,0,0,0,0,0,0,1,1,1,1,0,0,0,0,4,1,4,1,0,0,0,0,0,0,0,0,10,1,662,0,0,0,0,461,2,1,66,0,0,3,0,0,0,0,22,0,0,0,0,0,0,0,0,400,0,0,0,45,0,0,0,0,0,0,0,0,0,0,0,0,0,0,0,0,0,0,0,0,0,0,0,0,0,0,0,0,0,1,0,0,0,0,0,0,0,0,0,0,0,0,56,39,15,2,0,0,0,0,0,0,0,0,61,42,17,2,0,0,0,0,0,0,0,0,55,38,15,2,0,0,0,0,0,0,0,0,0,0,0,0,0,0,0,0,0,0,0,0,0,0,0,0,0,0,0,0,0,0,0,0,0,0,0,0,0,0,0,0,0,0,0,0,0,0,0,0,0,0,0,0,0,0,0,0,0,0,0,0,0,0,0,0,0,0,0,0]
[7,121,117,117,116,0,0,0,0,105,104,104,103,0,0,0,0,0,0,0,0,17,17,15,0,0,0,0,0,0,0,0,0,0,0,0,0,0,0,0,0,0,0,0,0,2,0,0,0,1,0,1,0,0,0,0,0,0,0,0,0,0,0,713,0,0,0,0,520,5,2,52,0,0,3,0,0,0,0,69,0,0,0,0,0,0,0,0,481,3,2,0,27,0,0,0,1,0,0,0,0,0,2,2,0,0,0,0,0,0,0,0,2,0,0,0,0,0,0,0,0,1,1,0,0,0,0,0,0,0,0,0,0,0,0,68,47,18,3,0,0,0,0,0,0,0,0,69,49,16,4,0,0,0,0,0,0,0,0,65,45,17,3,0,0,0,0,0,0,0,0,0,0,0,0,0,0,0,0,0,0,0,0,0,0,0,0,0,0,0,0,0,0,0,0,0,0,0,0,0,0,0,0,0,0,0,0,0,0,0,0,0,0,0,0,0,0,0,0,0,0,0,0,0,0,0,0,0,0,0,0]
[9,105,105,102,102,0,0,0,0,96,96,93,93,0,0,0,0,0,0,0,0,10,10,10,0,1,0,0,0,0,0,0,0,0,0,0,0,0,0,0,0,1,0,1,1,1,0,0,0,2,1,2,1,0,0,0,0,0,0,0,0,7,1,595,0,0,0,0,420,2,2,68,0,0,2,0,0,0,0,26,0,0,0,0,0,0,0,0,378,0,0,0,53,0,2,0,1,0,0,0,0,0,0,0,0,0,0,0,0,0,0,0,0,0,0,0,0,0,0,0,0,0,1,0,0,0,0,0,0,0,0,0,0,0,0,52,36,8,8,2,2,0,0,0,0,0,0,50,34,8,8,0,0,0,0,0,0,0,0,51,35,8,8,1,1,0,0,0,0,0,0,0,0,0,0,0,0,0,0,0,0,0,0,0,0,0,0,0,0,0,0,0,0,0,0,0,0,0,0,0,0,0,0,0,0,0,0,0,0,0,0,0,0,0,0,0,0,0,0,0,0,0,0,0,0,0,0,0,0,0,0]
[10,129,129,125,125,0,0,0,0,119,119,115,115,0,0,0,0,0,0,0,0,11,11,11,0,0,0,0,0,0,0,0,0,0,0,0,0,0,0,0,0,0,0,0,0,0,0,0,0,4,1,4,1,0,0,0,0,0,0,0,0,4,3,791,0,0,0,0,545,5,5,76,1,0,1,0,0,0,0,111,0,0,0,0,0,0,0,0,517,0,1,0,46,0,25,0,2,0,0,0,0,0,0,0,0,0,0,0,0,0,0,0,0,0,0,0,0,0,0,0,0,0,0,0,0,0,0,0,0,0,0,0,0,0,0,44,34,8,2,0,0,0,0,0,0,0,0,45,34,8,3,1,1,0,0,0,0,0,0,43,34,7,2,2,0,0,2,0,0,0,0,0,0,0,0,0,0,0,0,0,0,0,0,0,0,0,0,0,0,0,0,0,0,0,0,0,0,0,0,0,0,0,0,0,0,0,0,0,0,0,0,0,0,0,0,0,0,0,0,0,0,0,0,0,0,0,0,0,0,0,0]
[11,147,141,146,146,0,0,0,0,133,132,133,133,0,0,0,0,0,0,0,0,17,17,16,0,0,0,0,0,0,0,0,0,0,0,0,0,0,0,0,0,2,1,0,0,0,0,0,0,1,1,1,1,0,0,0,0,0,0,0,0,0,0,685,0,0,0,0,443,1,1,85,0,0,4,0,0,0,0,141,0,0,0,0,0,0,0,0,400,0,0,0,61,0,0,0,1,0,0,0,0,0,0,0,0,0,0,0,0,0,0,0,0,0,0,0,0,0,0,0,0,0,0,0,0,0,0,0,0,0,0,0,0,0,0,46,29,12,5,1,1,0,0,0,0,0,0,47,29,14,4,0,0,0,0,0,0,0,0,46,29,12,5,1,0,1,0,1,0,0,1,0,0,0,0,0,0,0,0,0,0,0,0,0,0,0,0,0,0,0,0,0,0,0,0,0,0,0,0,0,0,0,0,0,0,0,0,0,0,0,0,0,0,0,0,0,0,0,0,0,0,0,0,0,0,0,0,0,0,0,0]
["T",1427,1389,1390,1386,1,1,1,1,1302,1297,1259,1255,1,1,1,1,1,1,1,1,159,158,150,1,4,1,0,1,0,0,0,0,0,0,0,0,0,0,0,0,7,4,3,3,12,1,1,1,21,7,22,7,0,0,0,0,0,0,0,0,336,5,8354,0,0,0,0,5862,25,15,783,5,0,59,37,0,0,0,631,0,0,0,0,0,0,0,0,5272,7,5,0,568,0,27,0,15,0,0,0,0,0,2,2,0,0,0,0,0,0,0,0,2,0,0,0,0,0,0,0,1,5,7,0,0,0,0,0,0,0,0,0,0,0,0,583,403,134,46,4,3,0,1,0,0,0,0,606,423,141,42,2,2,0,0,0,0,0,0,573,394,134,45,8,4,2,2,7,0,2,5,0,0,0,0,0,0,0,0,0,0,0,0,0,0,0,0,0,0,0,0,0,0,0,0,0,0,0,0,0,0,0,0,0,0,0,0,0,0,0,0,0,4,0,4,0,0,0,0,0,0,0,0,0,0,0,0,0,0,0,0]
[]
["TOTAL"]
[{"$f":"COUNT(A283:A294)","v":11},{"$f":"SUM(B283:B294)","v":2854},{"$f":"SUM(C283:C294)","v":2778},2780,2772,2,2,2,2,2604,2594,2518,2510,2,2,2,2,2,2,2,2,318,316,300,2,8,2,0,2,0,0,0,0,0,0,0,0,0,0,0,0,14,8,6,6,24,2,2,2,42,14,44,14,0,0,0,0,0,0,0,0,672,10,16708,0,0,{"$f":"SUM(BO283:BO294)","v":0},0,11724,50,30,1566,10,0,118,74,0,0,0,1262,0,0,0,0,0,0,0,0,10544,14,10,0,1136,0,54,0,30,0,0,0,0,0,4,4,0,0,0,0,0,0,0,0,4,0,0,0,0,0,0,0,2,10,14,0,0,0,0,0,0,0,{"$f":"SUM(EA283:EA294)","v":0},0,0,0,0,1166,806,268,92,8,6,0,2,0,0,0,0,1212,846,282,84,4,4,0,0,0,0,0,0,1146,788,268,90,16,8,4,4,14,0,4,10,0,0,0,0,0,0,0,0,0,0,0,0,0,0,0,0,0,0,0,0,0,0,0,{"$f":"SUM(GM283:GM294)","v":0},0,0,0,0,0,0,0,0,0,0,0,0,0,0,0,0,0,8,0,8,0,0,0,0,0,0,0,0,0,0,0,0,0,0,0,0]
[{"$f":"CONCATENATE(A283,\"-\",A284,\"-\",A285,\"-\",A286,\"-\",A287,\"-\",A288,\"-\",A289,\"-\",A290,\"-\",A291,\"-\",A292,\"-\",A293,\"-\",A294)","v":"2-1-3-5-4-6-8-7-9-10-11-T"}]
[null," BAS001"," BAS002"," BAS003"," BAS004"," BAS005"," BAS006"," BAS007"," BAS008"," BAS009"," BAS010"," BAS011"," BAS012"," BAS013"," BAS014"," BAS015"," BAS016"," BAS017"," BAS018"," BAS019"," BAS020"," BAS021"," BAS022"," BAS023"," BAS024"," BAS025"," BAS026"," BAS027"," BAS028"," BAS029"," BAS030"," BAS031"," BAS032"," BAS033"," BAS034"," BAS035"," BAS036"," BAS037"," BAS038"," BAS039"," BAS040"," BAS041"," BAS042"," BAS043"," BAS044"," BAS045"," BAS046"," BAS047"," BAS048"," BAS049"," BAS050"," BAS051"," BAS052"," BAS053"," BAS054"," BAS055"," BAS056"," BAS057"," BAS058"," BAS059"," BAS060"," BAS061"," BAS062"," BAS063"," BAS064"," BAS065"," BAS066"," BAS067"," BAS068"," BAS069"," BAS070"," BAS071"," BAS072"," BAS073"," BAS074"," BAS075"," BAS076"," BAS077"," BAS078"," BAS079"," BAS080"," BAS081"," BAS082"," BAS083"," BAS084"," BAS085"," BAS086"," BAS087"," BAS088"," BAS089"," BAS090"," BAS091"," BAS092"," BAS093"," BAS094"," BAS095"," BAS096"," BAS097"," BAS098"," BAS099"," BAS100"," BAS101"," BAS102"," BAS103"," BAS104"," BAS105"," BAS106"," BAS107"," BAS108"," BAS109"," BAS110"," BAS111"," BAS112"," BAS113"," BAS114"," BAS115"," BAS116"," BAS117"," BAS118"," BAS119"," BAS120"," BAS121"," BAS122"," BAS123"," BAS124"," BAS125"," BAS126"," BAS127"," BAS128"," BAS129"," BAS130"," BAS131"," BAS132"," BAS133"," BAS134"," BAS135"," BAS136"," BAS137"," BAS138"," BAS139"," BAS140"," BAS141"," BAS142"," BAS143"," BAS144"," BAS145"," BAS146"," BAS147"," BAS148"," BAS149"," BAS150"," BAS151"," BAS152"," BAS153"," BAS154"," BAS155"," BAS156"," BAS157"," BAS158"," BAS159"," BAS160"," BAS161"," BAS162"," BAS163"," BAS164"," BAS165"," BAS166"," BAS167"," BAS168"," BAS169"," BAS170"," BAS171"," BAS172"," BAS173"," BAS174"," BAS175"," BAS176"," BAS177"," BAS178"," BAS179"," BAS180"," BAS181"," BAS182"," BAS183"," BAS184"," BAS185"," BAS186"," BAS187"," BAS188"," BAS189"," BAS190"," BAS191"," BAS192"," BAS193"," BAS194"," BAS195"," BAS196"," BAS197"," BAS198"," BAS199"," BAS200"," BAS201"," BAS202"," BAS203"," BAS204"," BAS205"," BAS206"," BAS207"," BAS208"," BAS209"," BAS210"," BAS211"," BAS212"," BAS213"," BAS214"," BAS215"," BAS216"," BAS217"," BAS218"," BAS219"," BAS220"," BAS221"," BAS222"," BAS223"," BAS224"," BAS225"," BAS226"," BAS227"," BAS228"," BAS229"," BAS230"]
[null,{"$f":"IF(B299=B282,\"SI\",\"NO\")","v":"SI"},{"$f":"IF(C299=C282,\"SI\",\"NO\")","v":"SI"},"SI","SI","SI","SI","SI","SI","SI","SI","SI","SI","SI","SI","SI","SI","SI","SI","SI","SI","SI","SI","SI","SI","SI","SI","SI","SI","SI","SI","SI","SI","SI","SI","SI","SI","SI","SI","SI","SI","SI","SI","SI","SI","SI","SI","SI","SI","SI","SI","SI","SI","SI","SI","SI","SI","SI","SI","SI","SI","SI","SI","SI","SI","SI",{"$f":"IF(BO299=BO282,\"SI\",\"NO\")","v":"SI"},"SI","SI","SI","SI","SI","SI","SI","SI","SI","SI","SI","SI","SI","SI","SI","SI","SI","SI","SI","SI","SI","SI","SI","SI","SI","SI","SI","SI","SI","SI","SI","SI","SI","SI","SI","SI","SI","SI","SI","SI","SI","SI","SI","SI","SI","SI","SI","SI","SI","SI","SI","SI","SI","SI","SI","SI","SI","SI","SI","SI","SI","SI","SI",{"$f":"IF(EA299=EA282,\"SI\",\"NO\")","v":"SI"},"SI","SI","SI","SI","SI","SI","SI","SI","SI","SI","SI","SI","SI","SI","SI","SI","SI","SI","SI","SI","SI","SI","SI","SI","SI","SI","SI","SI","SI","SI","SI","SI","SI","SI","SI","SI","SI","SI","SI","SI","SI","SI","SI","SI","SI","SI","SI","SI","SI","SI","SI","SI","SI","SI","SI","SI","SI","SI","SI","SI","SI","SI","SI",{"$f":"IF(GM299=GM282,\"SI\",\"NO\")","v":"SI"},"SI","SI","SI","SI","SI","SI","SI","SI","SI","SI","SI","SI","SI","SI","SI","SI","SI","SI","SI","SI","SI","SI","SI","SI","SI","SI","SI","SI","SI","SI","SI","SI","SI","SI","SI","SI"]
[]
["ITSVIH3059M"]
["anno",2024]
["cod_red","03"]
["codmic","(Todas)"]
["cod_prov","(Todas)"]
["coddist","(Todas)"]
["cod_estab","(Todas)"]
["cod_eje","(Todas)"]
[]
[null,"Valores"]
["Etiquetas de fila"," BAS001"," BAS002"," BAS003"," BAS004"," BAS005"," BAS006"," BAS007"," BAS008"," BAS009"," BAS010"," BAS011"," BAS012"," BAS013"," BAS014"," BAS015"," BAS016"," BAS017"," BAS018"," BAS019"," BAS020"," BAS021"," BAS022"," BAS023"," BAS024"," BAS025"," BAS026"," BAS027"," BAS028"," BAS029"," BAS030"," BAS031"," BAS032"," BAS033"," BAS034"," BAS035"," BAS036"," BAS037"," BAS038"," BAS039"," BAS040"," BAS041"," BAS042"," BAS043"," BAS044"," BAS045"," BAS046"," BAS047"," BAS048"," BAS049"," BAS050"," BAS051"," BAS052"," BAS053"," BAS054"," BAS055"," BAS056"," BAS057"," BAS058"," BAS059"," BAS060"," BAS061"," BAS062"," BAS063"," BAS064"," BAS065"," BAS066"," BAS067"," BAS068"," BAS069"," BAS070"," BAS071"," BAS072"," BAS073"," BAS074"," BAS075"," BAS076"," BAS077"," BAS078"," BAS079"," BAS080"," BAS081"," BAS082"," BAS083"," BAS084"," BAS085"," BAS086"," BAS087"," BAS088"," BAS089"," BAS090"," BAS091"," BAS092"," BAS093"," BAS094"," BAS095"," BAS096"," BAS097"," BAS098"," BAS099"," BAS100"," BAS101"," BAS102"," BAS103"," BAS104"," BAS105"," BAS106"," BAS107"," BAS108"," BAS109"," BAS110"," BAS111"," BAS112"," BAS113"," BAS114"," BAS115"," BAS116"," BAS117"," BAS118"," BAS119"," BAS120"," BAS121"," BAS122"," BAS123"," BAS124"," BAS125"," BAS126"," BAS127"," BAS128"," BAS129"," BAS130"," BAS131"," BAS132"," BAS133"," BAS134"," BAS135"," BAS136"," BAS137"," BAS138"," BAS139"," BAS140"," BAS141"," BAS142"," BAS143"," BAS144"," BAS145"," BAS146"," BAS147"," BAS148"," BAS149"," BAS150"," BAS151"," BAS152"," BAS153"," BAS154"," BAS155"," BAS156"," BAS157"," BAS158"," BAS159"," BAS160"," BAS161"," BAS162"," BAS163"," BAS164"," BAS165"," BAS166"," BAS167"," BAS168"," BAS169"," BAS170"," BAS171"," BAS172"," BAS173"," BAS174"," BAS175"," BAS176"," BAS177"," BAS178"," BAS179"," BAS180"," BAS181"," BAS182"," BAS183"," BAS184"," BAS185"," BAS186"," BAS187"," BAS188"," BAS189"," BAS190"," BAS191"," BAS192"," BAS193"," BAS194"," BAS195"," BAS196"," BAS197"," BAS198"," BAS199"," BAS200"," BAS201"," BAS202"," BAS203"," BAS204"," BAS205"," BAS206"," BAS207"," BAS208"," BAS209"," BAS210"," BAS211"," BAS212"," BAS213"," BAS214"," BAS215"," BAS216"," BAS217"," BAS218"," BAS219"," BAS220"," BAS221"," BAS222"," BAS223"," BAS224"," BAS225"," BAS226"," BAS227"," BAS228"," BAS229"," BAS230"]
[2,2,2,1,1,2,2,1,1,0,0,0,0,0,0,0,0,0,0,0,0,0,0,0,0,0,0,0,0,0,0,0,0,0,0,0,0,0,0,0,0,0,0,0,0,0,0,0,0,4,0,4,0,0,0,0,0,0,0,0,0,183,4,481,0,0,0,0,438,2,2,28,0,2,4,0,0,0,0,15,0,0,0,0,0,0,0,0,445,3,1,0,32,0,145,0,1,0,0,0,0,0,0,0,0,0,0,0,0,0,0,0,0,0,0,0,0,0,0,0,0,1,1,0,0,0,0,0,0,0,0,0,0,0,0,0,0,0,0,0,0,0,0,0,0,0,0,0,0,0,0,0,0,0,0,0,0,0,0,0,0,0,0,0,0,0,0,0,0,0,0,0,0,0,0,0,0,0,0,0,0,0,0,0,0,0,0,0,0,0,0,0,0,0,0,0,0,0,0,0,0,0,0,0,0,0,0,0,0,0,0,0,0,0,0,0,0,0,0,0,0,0,0,0,0,0,0,0,0,0,0]
[1,0,0,0,0,0,0,0,0,0,0,0,0,0,0,0,0,0,0,0,0,0,0,0,0,0,0,0,0,0,0,0,0,0,0,0,0,0,0,0,0,1,1,0,0,1,1,0,0,0,0,0,0,0,0,0,0,0,0,0,0,15,0,277,0,0,0,0,258,1,3,16,0,0,45,0,0,0,0,0,0,0,0,0,0,0,0,0,258,1,0,0,16,0,0,0,8,0,0,0,0,0,0,0,0,0,0,0,0,0,0,0,0,0,0,0,0,0,0,0,0,3,1,0,0,0,0,0,0,0,0,0,0,0,0,0,0,0,0,0,0,0,0,0,0,0,0,0,0,0,0,0,0,0,0,0,0,0,0,0,0,0,0,0,0,0,0,0,0,0,0,0,0,0,0,0,0,0,0,0,0,0,0,0,0,0,0,0,0,0,0,0,0,0,0,0,0,0,0,0,0,0,0,0,0,0,0,0,0,0,0,0,0,0,0,0,0,0,0,0,0,0,0,0,0,0,0,0,0,0,0]
[3,1,1,0,0,1,1,0,0,0,0,0,0,0,0,0,0,0,0,0,0,0,0,0,0,0,0,0,0,0,0,0,0,0,0,0,0,0,0,0,0,0,0,0,0,1,0,0,0,1,1,1,1,0,0,0,0,0,0,0,0,54,0,487,0,0,0,0,440,7,1,36,0,0,5,0,0,0,0,16,0,0,0,0,0,0,0,0,443,0,0,0,37,0,0,0,0,0,0,0,0,0,0,0,0,0,0,0,0,0,0,0,0,0,0,0,0,0,0,0,0,0,0,0,0,0,0,0,0,0,0,0,0,0,0,0,0,0,0,0,0,0,0,0,0,0,0,0,0,0,0,0,0,0,0,0,0,0,0,0,0,0,0,0,0,0,0,0,0,0,0,0,0,0,0,0,0,0,0,0,0,0,0,0,0,0,0,0,0,0,0,0,0,0,0,0,0,0,0,0,0,0,0,0,0,0,0,0,0,0,0,0,8,0,8,0,0,0,0,0,0,0,0,0,0,0,0,0,0,0,0]
[5,1,1,0,0,1,1,0,0,0,0,0,0,0,0,0,0,0,0,0,0,0,0,0,0,0,0,0,0,0,0,0,0,0,0,0,0,0,0,0,0,0,0,1,1,1,0,0,0,12,0,11,0,0,0,0,0,0,0,0,0,15,11,627,0,0,0,0,494,1,5,71,2,0,1,1,0,0,0,53,0,0,0,0,0,0,0,0,512,2,3,0,52,0,53,0,0,0,0,0,0,0,0,0,0,0,0,0,0,0,0,0,0,0,0,0,0,0,0,0,0,1,2,0,0,0,0,0,0,0,0,0,0,0,0,0,0,0,0,0,0,0,0,0,0,0,0,0,0,0,0,0,0,0,0,0,0,0,0,0,0,0,0,0,0,0,0,0,0,0,0,0,0,0,0,0,0,0,0,0,0,0,0,0,0,0,0,0,0,0,0,0,0,0,0,0,0,0,0,0,0,0,0,0,0,0,0,0,0,0,0,0,0,0,0,0,0,0,0,0,0,0,0,0,0,0,0,0,0,0,0]
[4,1,1,0,0,1,1,0,0,0,0,0,0,0,0,0,0,0,0,0,0,0,0,0,0,0,0,0,0,0,0,0,0,0,0,0,0,0,0,0,0,1,1,0,0,1,1,0,0,1,0,1,0,0,0,0,0,0,0,0,0,36,0,680,0,0,0,0,598,4,2,64,0,0,2,37,0,0,0,28,0,0,0,0,0,0,0,0,601,0,0,0,65,0,0,0,0,0,0,0,0,0,0,0,0,0,0,0,0,0,0,0,0,0,0,0,0,0,0,0,0,1,5,0,0,0,0,0,0,0,0,0,0,0,0,0,0,0,0,0,0,0,0,0,0,0,0,0,0,0,0,0,0,0,0,0,0,0,0,0,0,0,0,0,0,0,0,0,0,0,0,0,0,0,0,0,0,0,0,0,0,0,0,0,0,0,0,0,0,0,0,0,0,0,0,0,0,0,0,0,0,0,0,0,0,0,0,0,0,0,0,0,0,0,0,0,0,0,0,0,0,0,0,0,0,0,0,0,0,0,0]
[6,0,0,0,0,0,0,0,0,0,0,0,0,0,0,0,0,0,0,0,0,0,0,0,0,0,0,0,0,0,0,0,0,0,0,0,0,0,0,0,0,1,1,1,1,1,1,1,1,1,0,1,0,0,0,0,0,0,0,0,0,2,0,527,0,0,0,0,439,3,1,71,0,0,0,0,0,0,0,31,0,0,0,0,0,0,0,0,439,2,3,0,65,0,0,0,1,0,0,0,0,0,0,0,0,0,0,0,0,0,0,0,0,0,0,0,0,0,0,0,1,1,2,0,0,0,0,0,0,0,0,0,0,0,0,0,0,0,0,0,0,0,0,0,0,0,0,0,0,0,0,0,0,0,0,0,0,0,0,0,0,0,0,0,0,0,0,0,0,0,0,0,0,0,0,0,0,0,0,0,0,0,0,0,0,0,0,0,0,0,0,0,0,0,0,0,0,0,0,0,0,0,0,0,0,0,0,0,0,0,0,0,0,0,0,0,0,0,0,0,0,0,0,0,0,0,0,0,0,0,0]
[8,0,0,0,0,0,0,0,0,0,0,0,0,0,0,0,0,0,0,0,0,0,0,0,0,0,0,0,0,0,0,0,0,0,0,0,0,0,0,0,0,0,0,0,0,0,0,0,0,0,0,0,0,0,0,0,0,0,0,0,0,3,1,468,0,0,0,0,410,5,2,50,0,0,2,0,0,0,0,7,0,0,0,0,0,0,0,0,404,3,2,0,50,0,0,0,1,0,0,0,0,0,0,0,0,0,0,0,0,0,0,0,0,0,0,0,0,0,0,0,0,2,1,0,0,0,0,0,0,0,0,0,0,0,0,0,0,0,0,0,0,0,0,0,0,0,0,0,0,0,0,0,0,0,0,0,0,0,0,0,0,0,0,0,0,0,0,0,0,0,0,0,0,0,0,0,0,0,0,0,0,0,0,0,0,0,0,0,0,0,0,0,0,0,0,0,0,0,0,0,0,0,0,0,0,0,0,0,0,0,0,0,0,0,0,0,0,0,0,0,0,0,0,0,0,0,0,0,0,0,0]
[7,0,0,0,0,1,1,0,0,0,0,0,0,0,0,0,0,0,0,0,0,0,0,0,0,0,0,0,0,0,0,0,0,0,0,0,0,0,0,0,0,0,0,0,0,0,0,0,0,2,0,2,0,0,0,0,0,0,0,0,0,3,2,413,0,0,0,0,368,1,0,25,1,0,0,3,0,0,0,35,0,0,0,0,0,0,0,0,367,0,0,0,25,0,0,0,0,0,0,0,0,0,0,0,0,0,0,0,0,0,0,0,0,0,0,0,0,0,0,0,0,0,3,0,0,0,0,0,0,0,0,0,0,0,0,0,0,0,0,0,0,0,0,0,0,0,0,0,0,0,0,0,0,0,0,0,0,0,0,0,0,0,0,0,0,0,0,0,0,0,0,0,0,0,0,0,0,0,0,0,0,0,0,0,0,0,0,0,0,0,0,0,0,0,0,0,0,0,0,0,0,0,0,0,0,0,0,0,0,0,0,0,0,0,0,0,0,0,0,0,0,0,0,0,0,0,0,0,0,0,0]
[9,1,1,1,1,0,0,0,0,1,1,1,1,0,0,0,0,0,0,0,0,0,0,0,0,0,0,0,0,0,0,0,0,0,0,0,0,0,0,0,0,0,0,0,0,0,0,0,0,1,0,1,0,0,0,0,0,0,0,0,0,1,0,594,0,0,0,0,553,0,2,24,0,0,3,1,0,0,0,34,0,0,0,0,0,0,0,0,564,0,2,0,24,0,188,0,1,0,0,0,0,0,0,0,0,0,0,0,0,0,0,0,0,0,0,0,0,0,0,0,0,0,1,0,0,0,0,0,0,0,0,0,0,0,0,0,0,0,0,0,0,0,0,0,0,0,0,0,0,0,0,0,0,0,0,0,0,0,0,0,0,0,0,0,0,0,0,0,0,0,0,0,0,0,0,0,0,0,0,0,0,0,0,0,0,0,0,0,0,0,0,0,0,0,0,0,0,0,0,0,0,0,0,0,0,0,0,0,0,0,0,0,0,0,0,0,0,0,0,0,0,0,0,0,0,0,0,0,0,0,0]
[10,0,0,0,0,0,0,0,0,0,0,0,0,0,0,0,0,0,0,0,0,0,0,0,0,0,0,0,0,0,0,0,0,0,0,0,0,0,0,0,0,0,0,0,0,0,0,0,0,4,2,4,2,0,0,0,0,0,0,0,0,2,2,454,0,0,0,0,397,7,1,41,1,0,1,0,0,0,0,139,0,0,0,0,0,0,0,0,399,0,0,0,41,0,0,0,0,0,0,0,0,0,0,0,0,0,0,0,0,0,0,0,0,0,0,0,0,0,0,0,0,0,2,0,0,0,0,0,0,0,0,0,0,0,0,0,0,0,0,0,0,0,0,0,0,0,0,0,0,0,0,0,0,0,0,0,0,0,0,0,0,0,0,0,0,0,0,0,0,0,0,0,0,0,0,0,0,0,0,0,0,0,0,0,0,0,0,0,0,0,0,0,0,0,0,0,0,0,0,0,0,0,0,0,0,0,0,0,0,0,0,0,0,0,0,0,0,0,0,0,0,0,0,0,0,0,0,0,0,0,0]
[11,1,1,0,0,0,0,0,0,0,0,0,0,1,1,0,1,0,0,0,0,0,0,0,1,0,0,0,0,0,0,0,0,0,0,0,0,0,0,0,0,0,0,0,0,1,1,0,0,0,0,0,0,0,0,0,0,0,0,0,0,1,0,376,0,0,0,0,335,2,1,33,0,0,3,0,0,0,0,121,0,0,0,0,0,0,0,0,342,0,2,0,32,1,0,0,0,0,0,0,0,0,0,0,0,0,0,0,0,0,0,0,0,0,0,0,0,0,0,0,0,0,0,1,0,0,0,0,0,0,0,0,0,0,0,0,0,0,0,0,0,0,0,0,0,0,0,0,0,0,0,0,0,0,0,0,0,0,0,0,0,0,0,0,0,0,0,0,0,0,0,0,0,0,0,0,0,0,0,0,0,0,0,0,0,0,0,0,0,0,0,0,0,0,0,0,0,0,0,0,0,0,0,0,0,0,0,0,0,0,0,0,0,0,0,0,0,0,0,0,0,0,0,0,0,0,0,0,0,0,0]
["T",7,7,2,2,6,6,1,1,1,1,1,1,1,1,0,1,0,0,0,0,0,0,0,1,0,0,0,0,0,0,0,0,0,0,0,0,0,0,0,0,3,3,2,2,6,4,1,1,26,3,25,3,0,0,0,0,0,0,0,0,315,20,5384,0,0,0,0,4730,33,20,459,4,2,66,42,0,0,0,479,0,0,0,0,0,0,0,0,4774,11,13,0,439,1,386,0,12,0,0,0,0,0,0,0,0,0,0,0,0,0,0,0,0,0,0,0,0,0,0,0,1,9,18,1,0,0,0,0,0,0,0,0,0,0,0,0,0,0,0,0,0,0,0,0,0,0,0,0,0,0,0,0,0,0,0,0,0,0,0,0,0,0,0,0,0,0,0,0,0,0,0,0,0,0,0,0,0,0,0,0,0,0,0,0,0,0,0,0,0,0,0,0,0,0,0,0,0,0,0,0,0,0,0,0,0,0,0,0,0,0,0,0,8,0,8,0,0,0,0,0,0,0,0,0,0,0,0,0,0,0,0]
[]
["TOTAL"]
[{"$f":"COUNT(A313:A324)","v":11},{"$f":"SUM(B313:B324)","v":14},{"$f":"SUM(C313:C324)","v":14},4,4,12,12,2,2,2,2,2,2,2,2,0,2,0,0,0,0,0,0,0,2,0,0,0,0,0,0,0,0,0,0,0,0,0,0,0,0,6,6,4,4,12,8,2,2,52,6,50,6,0,0,0,0,0,0,0,0,630,40,10768,0,0,{"$f":"SUM(BO313:BO324)","v":0},0,9460,66,40,918,8,4,132,84,0,0,0,958,0,0,0,0,0,0,0,0,9548,22,26,0,878,2,772,0,24,0,0,0,0,0,0,0,0,0,0,0,0,0,0,0,0,0,0,0,0,0,0,0,2,18,36,2,0,0,0,0,0,0,{"$f":"SUM(EA313:EA324)","v":0},0,0,0,0,0,0,0,0,0,0,0,0,0,0,0,0,0,0,0,0,0,0,0,0,0,0,0,0,0,0,0,0,0,0,0,0,0,0,0,0,0,0,0,0,0,0,0,0,0,0,0,0,0,0,0,0,0,0,0,0,0,0,0,{"$f":"SUM(GM313:GM324)","v":0},0,0,0,0,0,0,0,0,0,0,0,0,0,0,0,0,0,16,0,16,0,0,0,0,0,0,0,0,0,0,0,0,0,0,0,0]
[{"$f":"CONCATENATE(A313,\"-\",A314,\"-\",A315,\"-\",A316,\"-\",A317,\"-\",A318,\"-\",A319,\"-\",A320,\"-\",A321,\"-\",A322,\"-\",A323,\"-\",A324)","v":"2-1-3-5-4-6-8-7-9-10-11-T"}]
[null," BAS001"," BAS002"," BAS003"," BAS004"," BAS005"," BAS006"," BAS007"," BAS008"," BAS009"," BAS010"," BAS011"," BAS012"," BAS013"," BAS014"," BAS015"," BAS016"," BAS017"," BAS018"," BAS019"," BAS020"," BAS021"," BAS022"," BAS023"," BAS024"," BAS025"," BAS026"," BAS027"," BAS028"," BAS029"," BAS030"," BAS031"," BAS032"," BAS033"," BAS034"," BAS035"," BAS036"," BAS037"," BAS038"," BAS039"," BAS040"," BAS041"," BAS042"," BAS043"," BAS044"," BAS045"," BAS046"," BAS047"," BAS048"," BAS049"," BAS050"," BAS051"," BAS052"," BAS053"," BAS054"," BAS055"," BAS056"," BAS057"," BAS058"," BAS059"," BAS060"," BAS061"," BAS062"," BAS063"," BAS064"," BAS065"," BAS066"," BAS067"," BAS068"," BAS069"," BAS070"," BAS071"," BAS072"," BAS073"," BAS074"," BAS075"," BAS076"," BAS077"," BAS078"," BAS079"," BAS080"," BAS081"," BAS082"," BAS083"," BAS084"," BAS085"," BAS086"," BAS087"," BAS088"," BAS089"," BAS090"," BAS091"," BAS092"," BAS093"," BAS094"," BAS095"," BAS096"," BAS097"," BAS098"," BAS099"," BAS100"," BAS101"," BAS102"," BAS103"," BAS104"," BAS105"," BAS106"," BAS107"," BAS108"," BAS109"," BAS110"," BAS111"," BAS112"," BAS113"," BAS114"," BAS115"," BAS116"," BAS117"," BAS118"," BAS119"," BAS120"," BAS121"," BAS122"," BAS123"," BAS124"," BAS125"," BAS126"," BAS127"," BAS128"," BAS129"," BAS130"," BAS131"," BAS132"," BAS133"," BAS134"," BAS135"," BAS136"," BAS137"," BAS138"," BAS139"," BAS140"," BAS141"," BAS142"," BAS143"," BAS144"," BAS145"," BAS146"," BAS147"," BAS148"," BAS149"," BAS150"," BAS151"," BAS152"," BAS153"," BAS154"," BAS155"," BAS156"," BAS157"," BAS158"," BAS159"," BAS160"," BAS161"," BAS162"," BAS163"," BAS164"," BAS165"," BAS166"," BAS167"," BAS168"," BAS169"," BAS170"," BAS171"," BAS172"," BAS173"," BAS174"," BAS175"," BAS176"," BAS177"," BAS178"," BAS179"," BAS180"," BAS181"," BAS182"," BAS183"," BAS184"," BAS185"," BAS186"," BAS187"," BAS188"," BAS189"," BAS190"," BAS191"," BAS192"," BAS193"," BAS194"," BAS195"," BAS196"," BAS197"," BAS198"," BAS199"," BAS200"," BAS201"," BAS202"," BAS203"," BAS204"," BAS205"," BAS206"," BAS207"," BAS208"," BAS209"," BAS210"," BAS211"," BAS212"," BAS213"," BAS214"," BAS215"," BAS216"," BAS217"," BAS218"," BAS219"," BAS220"," BAS221"," BAS222"," BAS223"," BAS224"," BAS225"," BAS226"," BAS227"," BAS228"," BAS229"," BAS230"]
[null,{"$f":"IF(B329=B312,\"SI\",\"NO\")","v":"SI"},{"$f":"IF(C329=C312,\"SI\",\"NO\")","v":"SI"},"SI","SI","SI","SI","SI","SI","SI","SI","SI","SI","SI","SI","SI","SI","SI","SI","SI","SI","SI","SI","SI","SI","SI","SI","SI","SI","SI","SI","SI","SI","SI","SI","SI","SI","SI","SI","SI","SI","SI","SI","SI","SI","SI","SI","SI","SI","SI","SI","SI","SI","SI","SI","SI","SI","SI","SI","SI","SI","SI","SI","SI","SI","SI",{"$f":"IF(BO329=BO312,\"SI\",\"NO\")","v":"SI"},"SI","SI","SI","SI","SI","SI","SI","SI","SI","SI","SI","SI","SI","SI","SI","SI","SI","SI","SI","SI","SI","SI","SI","SI","SI","SI","SI","SI","SI","SI","SI","SI","SI","SI","SI","SI","SI","SI","SI","SI","SI","SI","SI","SI","SI","SI","SI","SI","SI","SI","SI","SI","SI","SI","SI","SI","SI","SI","SI","SI","SI","SI","SI",{"$f":"IF(EA329=EA312,\"SI\",\"NO\")","v":"SI"},"SI","SI","SI","SI","SI","SI","SI","SI","SI","SI","SI","SI","SI","SI","SI","SI","SI","SI","SI","SI","SI","SI","SI","SI","SI","SI","SI","SI","SI","SI","SI","SI","SI","SI","SI","SI","SI","SI","SI","SI","SI","SI","SI","SI","SI","SI","SI","SI","SI","SI","SI","SI","SI","SI","SI","SI","SI","SI","SI","SI","SI","SI","SI",{"$f":"IF(GM329=GM312,\"SI\",\"NO\")","v":"SI"},"SI","SI","SI","SI","SI","SI","SI","SI","SI","SI","SI","SI","SI","SI","SI","SI","SI","SI","SI","SI","SI","SI","SI","SI","SI","SI","SI","SI","SI","SI","SI","SI","SI","SI","SI","SI"]
[]
["ITSVIH6099F"]
["anno",2024]
["cod_red","03"]
["codmic","(Todas)"]
["cod_prov","(Todas)"]
["coddist","(Todas)"]
["cod_estab","(Todas)"]
["cod_eje","(Todas)"]
[]
[null,"Valores"]
["Etiquetas de fila"," BAS001"," BAS002"," BAS003"," BAS004"," BAS005"," BAS006"," BAS007"," BAS008"," BAS009"," BAS010"," BAS011"," BAS012"," BAS013"," BAS014"," BAS015"," BAS016"," BAS017"," BAS018"," BAS019"," BAS020"," BAS021"," BAS022"," BAS023"," BAS024"," BAS025"," BAS026"," BAS027"," BAS028"," BAS029"," BAS030"," BAS031"," BAS032"," BAS033"," BAS034"," BAS035"," BAS036"," BAS037"," BAS038"," BAS039"," BAS040"," BAS041"," BAS042"," BAS043"," BAS044"," BAS045"," BAS046"," BAS047"," BAS048"," BAS049"," BAS050"," BAS051"," BAS052"," BAS053"," BAS054"," BAS055"," BAS056"," BAS057"," BAS058"," BAS059"," BAS060"," BAS061"," BAS062"," BAS063"," BAS064"," BAS065"," BAS066"," BAS067"," BAS068"," BAS069"," BAS070"," BAS071"," BAS072"," BAS073"," BAS074"," BAS075"," BAS076"," BAS077"," BAS078"," BAS079"," BAS080"," BAS081"," BAS082"," BAS083"," BAS084"," BAS085"," BAS086"," BAS087"," BAS088"," BAS089"," BAS090"," BAS091"," BAS092"," BAS093"," BAS094"," BAS095"," BAS096"," BAS097"," BAS098"," BAS099"," BAS100"," BAS101"," BAS102"," BAS103"," BAS104"," BAS105"," BAS106"," BAS107"," BAS108"," BAS109"," BAS110"," BAS111"," BAS112"," BAS113"," BAS114"," BAS115"," BAS116"," BAS117"," BAS118"," BAS119"," BAS120"," BAS121"," BAS122"," BAS123"," BAS124"," BAS125"," BAS126"," BAS127"," BAS128"," BAS129"," BAS130"," BAS131"," BAS132"," BAS133"," BAS134"," BAS135"," BAS136"," BAS137"," BAS138"," BAS139"," BAS140"," BAS141"," BAS142"," BAS143"," BAS144"," BAS145"," BAS146"," BAS147"," BAS148"," BAS149"," BAS150"," BAS151"," BAS152"," BAS153"," BAS154"," BAS155"," BAS156"," BAS157"," BAS158"," BAS159"," BAS160"," BAS161"," BAS162"," BAS163"," BAS164"," BAS165"," BAS166"," BAS167"," BAS168"," BAS169"," BAS170"," BAS171"," BAS172"," BAS173"," BAS174"," BAS175"," BAS176"," BAS177"," BAS178"," BAS179"," BAS180"," BAS181"," BAS182"," BAS183"," BAS184"," BAS185"," BAS186"," BAS187"," BAS188"," BAS189"," BAS190"," BAS191"," BAS192"," BAS193"," BAS194"," BAS195"," BAS196"," BAS197"," BAS198"," BAS199"," BAS200"," BAS201"," BAS202"," BAS203"," BAS204"," BAS205"," BAS206"," BAS207"," BAS208"," BAS209"," BAS210"," BAS211"," BAS212"," BAS213"," BAS214"," BAS215"," BAS216"," BAS217"," BAS218"," BAS219"," BAS220"," BAS221"," BAS222"," BAS223"," BAS224"," BAS225"," BAS226"," BAS227"," BAS228"," BAS229"," BAS230"]
[2,3,3,3,3,0,0,0,0,3,3,3,3,0,0,0,0,0,0,0,0,0,0,0,0,0,0,0,0,0,0,0,0,0,0,0,0,0,0,0,0,0,0,0,0,0,0,0,0,0,0,0,0,0,0,0,0,0,0,0,0,17,0,26,0,0,0,0,20,1,2,0,0,0,0,0,0,0,0,0,0,0,0,0,0,0,0,0,19,0,0,0,0,0,0,0,0,0,0,0,0,0,0,0,0,0,0,0,0,0,0,0,0,0,0,0,0,0,0,0,0,0,0,0,0,0,0,0,0,0,0,0,0,0,0,0,0,0,0,0,0,0,0,0,0,0,0,0,0,0,0,0,0,0,0,0,0,0,0,0,0,0,0,0,0,0,0,0,0,0,0,0,0,0,0,0,0,0,0,0,0,0,0,0,0,0,0,0,0,0,0,0,0,0,0,0,0,0,0,0,0,0,0,0,0,0,0,0,0,0,0,0,0,0,0,0,0,0,0,0,0,0,0,0,0,0,0,0,0,0,0]
[3,5,5,5,5,0,0,0,0,5,5,5,5,0,0,0,0,0,0,0,0,0,0,0,0,0,0,0,0,0,0,0,0,0,0,0,0,0,0,0,0,0,0,0,0,1,0,0,0,0,0,0,0,0,0,0,0,0,0,0,0,20,0,39,0,0,0,0,28,0,0,1,0,0,0,0,0,0,0,0,0,0,0,0,0,0,0,0,26,0,0,0,1,0,0,0,0,0,0,0,0,0,0,0,0,0,0,0,0,0,0,0,0,0,0,0,0,0,0,0,0,0,0,0,0,0,0,0,0,0,0,0,0,0,0,0,0,0,0,0,0,0,0,0,0,0,0,0,0,0,0,0,0,0,0,0,0,0,0,0,0,0,0,0,0,0,0,0,0,0,0,0,0,0,0,0,0,0,0,0,0,0,0,0,0,0,0,0,0,0,0,0,0,0,0,0,0,0,0,0,0,0,0,0,0,0,0,0,0,0,0,0,0,0,0,0,0,0,0,0,0,0,0,0,0,0,0,0,0,0,0]
[1,3,3,3,3,0,0,0,0,1,1,1,1,0,0,0,0,0,0,0,0,2,2,2,0,0,0,0,0,0,0,0,0,0,0,0,0,0,0,0,0,1,1,0,0,1,0,0,0,0,0,0,0,0,0,0,0,0,0,0,0,4,0,37,0,0,0,0,31,0,0,1,0,0,3,0,0,0,0,0,0,0,0,0,0,0,0,0,27,0,0,0,1,0,0,0,0,0,0,0,0,0,0,0,0,0,0,0,0,0,0,0,0,0,0,0,0,0,0,0,0,0,0,0,0,0,0,0,0,0,0,0,0,0,0,0,0,0,0,0,0,0,0,0,0,0,0,0,0,0,0,0,0,0,0,0,0,0,0,0,0,0,0,0,0,0,0,0,0,0,0,0,0,0,0,0,0,0,0,0,0,0,0,0,0,0,0,0,0,0,0,0,0,0,0,0,0,0,0,0,0,0,0,0,0,0,0,0,0,0,0,0,0,0,0,0,0,0,0,0,0,0,0,0,0,0,0,0,0,0,0]
[5,8,7,7,7,0,0,0,0,8,8,7,7,0,0,0,0,0,0,0,0,0,0,0,0,0,0,0,0,0,0,0,0,0,0,0,0,0,0,0,0,0,0,0,0,0,0,0,0,1,0,1,0,0,0,0,0,0,0,0,0,0,0,53,0,0,0,0,36,0,0,6,1,0,0,0,0,0,0,4,0,0,0,0,0,0,0,0,35,0,0,0,6,0,0,0,0,0,0,0,0,0,0,0,0,0,0,0,0,0,0,0,0,0,0,0,0,0,0,0,0,0,0,0,0,0,0,0,0,0,0,0,0,0,0,0,0,0,0,0,0,0,0,0,0,0,0,0,0,0,0,0,0,0,0,0,0,0,0,0,0,0,0,0,0,0,0,0,0,0,0,0,0,0,0,0,0,0,0,0,0,0,0,0,0,0,0,0,0,0,0,0,0,0,0,0,0,0,0,0,0,0,0,0,0,0,0,0,0,0,0,0,0,0,0,0,0,0,0,0,0,0,0,0,0,0,0,0,0,0,0]
[4,10,10,10,10,0,0,0,0,8,8,8,8,0,0,0,0,0,0,0,0,2,2,2,0,0,0,0,0,0,0,0,0,0,0,0,0,0,0,0,0,0,0,0,0,0,0,0,0,0,0,0,0,0,0,0,0,0,0,0,0,1,0,53,0,0,0,0,40,0,0,1,0,0,0,4,0,0,0,1,0,0,0,0,0,0,0,0,40,0,1,0,1,0,0,0,0,0,0,0,0,0,0,0,0,0,0,0,0,0,0,0,0,0,0,0,0,0,0,0,0,0,0,0,0,0,0,0,0,0,0,0,0,0,0,0,0,0,0,0,0,0,0,0,0,0,0,0,0,0,0,0,0,0,0,0,0,0,0,0,0,0,0,0,0,0,0,0,0,0,0,0,0,0,0,0,0,0,0,0,0,0,0,0,0,0,0,0,0,0,0,0,0,0,0,0,0,0,0,0,0,0,0,0,0,0,0,0,0,0,0,0,0,0,0,0,0,0,0,0,0,0,0,0,0,0,0,0,0,0,0]
[6,6,5,6,6,0,0,0,0,5,5,5,5,0,0,0,0,0,0,0,0,1,1,1,0,0,0,0,0,0,0,0,0,0,0,0,0,0,0,0,0,0,0,0,0,1,0,0,0,0,0,0,0,0,0,0,0,0,0,0,0,0,0,37,0,0,0,0,30,0,0,2,0,0,0,0,0,0,0,5,0,0,0,0,0,0,0,0,29,0,0,0,2,0,0,0,0,0,0,0,0,0,0,0,0,0,0,0,0,0,0,0,0,0,0,0,0,0,0,0,0,0,0,0,0,0,0,0,0,0,0,0,0,0,0,0,0,0,0,0,0,0,0,0,0,0,0,0,0,0,0,0,0,0,0,0,0,0,0,0,0,0,0,0,0,0,0,0,0,0,0,0,0,0,0,0,0,0,0,0,0,0,0,0,0,0,0,0,0,0,0,0,0,0,0,0,0,0,0,0,0,0,0,0,0,0,0,0,0,0,0,0,0,0,0,0,0,0,0,0,0,0,0,0,0,0,0,0,0,0,0]
[7,4,4,2,2,1,0,0,0,4,4,3,3,0,0,0,0,0,0,0,0,0,0,0,0,0,0,0,0,0,0,0,0,0,0,0,0,0,0,0,0,0,0,0,0,3,0,0,0,0,0,0,0,0,0,0,0,0,0,0,0,0,0,46,0,0,0,0,40,0,0,0,0,0,0,0,0,0,0,1,0,0,0,0,0,0,0,0,40,0,0,0,0,0,0,0,0,0,0,0,0,0,0,0,0,0,0,0,0,0,0,0,0,0,0,0,0,0,0,0,0,0,0,0,0,0,0,0,0,0,0,0,0,0,0,0,0,0,0,0,0,0,0,0,0,0,0,0,0,0,0,0,0,0,0,0,0,0,0,0,0,0,0,0,0,0,0,0,0,0,0,0,0,0,0,0,0,0,0,0,0,0,0,0,0,0,0,0,0,0,0,0,0,0,0,0,0,0,0,0,0,0,0,0,0,0,0,0,0,0,0,0,0,0,0,0,0,0,0,0,0,0,0,0,0,0,0,0,0,0,0]
[8,3,3,3,3,0,0,0,0,3,3,3,3,0,0,0,0,0,0,0,0,0,0,0,0,0,0,0,0,0,0,0,0,0,0,0,0,0,0,0,0,0,0,0,0,0,0,0,0,0,0,0,0,0,0,0,0,0,0,0,0,0,0,61,0,0,0,0,53,1,0,1,0,0,1,0,0,0,0,0,0,0,0,0,0,0,0,0,53,0,1,0,1,0,0,0,0,0,0,0,0,0,0,0,0,0,0,0,0,0,0,0,0,0,0,0,0,0,0,0,0,0,0,0,0,0,0,0,0,0,0,0,0,0,0,0,0,0,0,0,0,0,0,0,0,0,0,0,0,0,0,0,0,0,0,0,0,0,0,0,0,0,0,0,0,0,0,0,0,0,0,0,0,0,0,0,0,0,0,0,0,0,0,0,0,0,0,0,0,0,0,0,0,0,0,0,0,0,0,0,0,0,0,0,0,0,0,0,0,0,0,0,0,0,0,0,0,0,0,0,0,0,0,0,0,0,0,0,0,0,0]
[9,2,2,2,2,0,0,0,0,2,2,2,2,0,0,0,0,0,0,0,0,0,0,0,0,0,0,0,0,0,0,0,0,0,0,0,0,0,0,0,0,0,0,0,0,0,0,0,0,0,0,0,0,0,0,0,0,0,0,0,0,4,1,45,0,0,0,0,38,0,0,0,0,0,0,0,0,0,0,0,0,0,0,0,0,0,0,0,38,0,0,0,0,0,0,0,0,0,0,0,0,0,0,0,0,0,0,0,0,0,0,0,0,0,0,0,0,0,0,0,0,0,0,0,0,0,0,0,0,0,0,0,0,0,0,0,0,0,0,0,0,0,0,0,0,0,0,0,0,0,0,0,0,0,0,0,0,0,0,0,0,0,0,0,0,0,0,0,0,0,0,0,0,0,0,0,0,0,0,0,0,0,0,0,0,0,0,0,0,0,0,0,0,0,0,0,0,0,0,0,0,0,0,0,0,0,0,0,0,0,0,0,0,0,0,0,0,0,0,0,0,0,0,0,0,0,0,0,0,0,0]
[10,3,3,2,2,0,0,0,0,1,1,1,1,0,0,0,0,0,0,0,0,1,1,1,0,2,1,0,1,0,0,0,0,0,0,0,0,0,0,0,0,0,0,0,0,0,0,0,0,1,0,1,0,0,0,0,0,0,0,0,0,1,1,61,0,0,0,0,47,0,0,2,0,0,1,0,0,0,0,11,0,0,0,0,0,0,0,0,46,0,0,0,2,0,0,0,0,0,0,0,0,0,0,0,0,0,0,0,0,0,0,0,0,0,0,0,0,0,0,0,0,0,0,0,0,0,0,0,0,0,0,0,0,0,0,0,0,0,0,0,0,0,0,0,0,0,0,0,0,0,0,0,0,0,0,0,0,0,0,0,0,0,0,0,0,0,0,0,0,0,0,0,0,0,0,0,0,0,0,0,0,0,0,0,0,0,0,0,0,0,0,0,0,0,0,0,0,0,0,0,0,0,0,0,0,0,0,0,0,0,0,0,0,0,0,0,0,0,0,0,0,0,0,0,0,0,0,0,0,0,0]
[11,8,8,8,8,0,0,0,0,7,7,7,7,0,0,0,0,0,0,0,0,1,1,1,0,0,0,0,0,0,0,0,0,0,0,0,0,0,0,0,0,1,0,0,0,0,0,0,0,2,1,2,1,0,0,0,0,0,0,0,0,1,1,73,0,0,0,0,59,0,0,1,0,0,1,0,0,0,0,33,0,0,0,0,0,0,0,0,59,0,0,0,0,0,0,0,0,0,0,0,0,0,0,0,0,0,0,0,0,0,0,0,0,0,0,0,0,0,0,0,0,0,0,0,0,0,0,0,0,0,0,0,0,0,0,0,0,0,0,0,0,0,0,0,0,0,0,0,0,0,0,0,0,0,0,0,0,0,0,0,0,0,0,0,0,0,0,0,0,0,0,0,0,0,0,0,0,0,0,0,0,0,0,0,0,0,0,0,0,0,0,0,0,0,0,0,0,0,0,0,0,0,0,0,0,0,0,0,0,0,0,0,0,0,0,0,0,0,0,0,0,0,0,0,0,0,0,0,0,0,0]
["T",55,53,51,51,1,0,0,0,47,47,45,45,0,0,0,0,0,0,0,0,7,7,7,0,2,1,0,1,0,0,0,0,0,0,0,0,0,0,0,0,2,1,0,0,6,0,0,0,4,1,4,1,0,0,0,0,0,0,0,0,48,3,531,0,0,0,0,422,2,2,15,1,0,6,4,0,0,0,55,0,0,0,0,0,0,0,0,412,0,2,0,14,0,0,0,0,0,0,0,0,0,0,0,0,0,0,0,0,0,0,0,0,0,0,0,0,0,0,0,0,0,0,0,0,0,0,0,0,0,0,0,0,0,0,0,0,0,0,0,0,0,0,0,0,0,0,0,0,0,0,0,0,0,0,0,0,0,0,0,0,0,0,0,0,0,0,0,0,0,0,0,0,0,0,0,0,0,0,0,0,0,0,0,0,0,0,0,0,0,0,0,0,0,0,0,0,0,0,0,0,0,0,0,0,0,0,0,0,0,0,0,0,0,0,0,0,0,0,0,0,0,0,0,0,0,0,0,0,0,0]
[]
["TOTAL"]
[{"$f":"COUNT(A343:A354)","v":11},{"$f":"SUM(B343:B354)","v":110},{"$f":"SUM(C343:C354)","v":106},102,102,2,0,0,0,94,94,90,90,0,0,0,0,0,0,0,0,14,14,14,0,4,2,0,2,0,0,0,0,0,0,0,0,0,0,0,0,4,2,0,0,12,0,0,0,8,2,8,2,0,0,0,0,0,0,0,0,96,6,1062,0,0,{"$f":"SUM(BO343:BO354)","v":0},0,844,4,4,30,2,0,12,8,0,0,0,110,0,0,0,0,0,0,0,0,824,0,4,0,28,0,0,0,0,0,0,0,0,0,0,0,0,0,0,0,0,0,0,0,0,0,0,0,0,0,0,0,0,0,0,0,0,0,0,0,0,0,{"$f":"SUM(EA343:EA354)","v":0},0,0,0,0,0,0,0,0,0,0,0,0,0,0,0,0,0,0,0,0,0,0,0,0,0,0,0,0,0,0,0,0,0,0,0,0,0,0,0,0,0,0,0,0,0,0,0,0,0,0,0,0,0,0,0,0,0,0,0,0,0,0,0,{"$f":"SUM(GM343:GM354)","v":0},0,0,0,0,0,0,0,0,0,0,0,0,0,0,0,0,0,0,0,0,0,0,0,0,0,0,0,0,0,0,0,0,0,0,0,0]
[{"$f":"CONCATENATE(A343,\"-\",A344,\"-\",A345,\"-\",A346,\"-\",A347,\"-\",A348,\"-\",A349,\"-\",A350,\"-\",A351,\"-\",A352,\"-\",A353,\"-\",A354)","v":"2-3-1-5-4-6-7-8-9-10-11-T"}]
[null," BAS001"," BAS002"," BAS003"," BAS004"," BAS005"," BAS006"," BAS007"," BAS008"," BAS009"," BAS010"," BAS011"," BAS012"," BAS013"," BAS014"," BAS015"," BAS016"," BAS017"," BAS018"," BAS019"," BAS020"," BAS021"," BAS022"," BAS023"," BAS024"," BAS025"," BAS026"," BAS027"," BAS028"," BAS029"," BAS030"," BAS031"," BAS032"," BAS033"," BAS034"," BAS035"," BAS036"," BAS037"," BAS038"," BAS039"," BAS040"," BAS041"," BAS042"," BAS043"," BAS044"," BAS045"," BAS046"," BAS047"," BAS048"," BAS049"," BAS050"," BAS051"," BAS052"," BAS053"," BAS054"," BAS055"," BAS056"," BAS057"," BAS058"," BAS059"," BAS060"," BAS061"," BAS062"," BAS063"," BAS064"," BAS065"," BAS066"," BAS067"," BAS068"," BAS069"," BAS070"," BAS071"," BAS072"," BAS073"," BAS074"," BAS075"," BAS076"," BAS077"," BAS078"," BAS079"," BAS080"," BAS081"," BAS082"," BAS083"," BAS084"," BAS085"," BAS086"," BAS087"," BAS088"," BAS089"," BAS090"," BAS091"," BAS092"," BAS093"," BAS094"," BAS095"," BAS096"," BAS097"," BAS098"," BAS099"," BAS100"," BAS101"," BAS102"," BAS103"," BAS104"," BAS105"," BAS106"," BAS107"," BAS108"," BAS109"," BAS110"," BAS111"," BAS112"," BAS113"," BAS114"," BAS115"," BAS116"," BAS117"," BAS118"," BAS119"," BAS120"," BAS121"," BAS122"," BAS123"," BAS124"," BAS125"," BAS126"," BAS127"," BAS128"," BAS129"," BAS130"," BAS131"," BAS132"," BAS133"," BAS134"," BAS135"," BAS136"," BAS137"," BAS138"," BAS139"," BAS140"," BAS141"," BAS142"," BAS143"," BAS144"," BAS145"," BAS146"," BAS147"," BAS148"," BAS149"," BAS150"," BAS151"," BAS152"," BAS153"," BAS154"," BAS155"," BAS156"," BAS157"," BAS158"," BAS159"," BAS160"," BAS161"," BAS162"," BAS163"," BAS164"," BAS165"," BAS166"," BAS167"," BAS168"," BAS169"," BAS170"," BAS171"," BAS172"," BAS173"," BAS174"," BAS175"," BAS176"," BAS177"," BAS178"," BAS179"," BAS180"," BAS181"," BAS182"," BAS183"," BAS184"," BAS185"," BAS186"," BAS187"," BAS188"," BAS189"," BAS190"," BAS191"," BAS192"," BAS193"," BAS194"," BAS195"," BAS196"," BAS197"," BAS198"," BAS199"," BAS200"," BAS201"," BAS202"," BAS203"," BAS204"," BAS205"," BAS206"," BAS207"," BAS208"," BAS209"," BAS210"," BAS211"," BAS212"," BAS213"," BAS214"," BAS215"," BAS216"," BAS217"," BAS218"," BAS219"," BAS220"," BAS221"," BAS222"," BAS223"," BAS224"," BAS225"," BAS226"," BAS227"," BAS228"," BAS229"," BAS230"]
[null,{"$f":"IF(B359=B342,\"SI\",\"NO\")","v":"SI"},{"$f":"IF(C359=C342,\"SI\",\"NO\")","v":"SI"},"SI","SI","SI","SI","SI","SI","SI","SI","SI","SI","SI","SI","SI","SI","SI","SI","SI","SI","SI","SI","SI","SI","SI","SI","SI","SI","SI","SI","SI","SI","SI","SI","SI","SI","SI","SI","SI","SI","SI","SI","SI","SI","SI","SI","SI","SI","SI","SI","SI","SI","SI","SI","SI","SI","SI","SI","SI","SI","SI","SI","SI","SI","SI",{"$f":"IF(BO359=BO342,\"SI\",\"NO\")","v":"SI"},"SI","SI","SI","SI","SI","SI","SI","SI","SI","SI","SI","SI","SI","SI","SI","SI","SI","SI","SI","SI","SI","SI","SI","SI","SI","SI","SI","SI","SI","SI","SI","SI","SI","SI","SI","SI","SI","SI","SI","SI","SI","SI","SI","SI","SI","SI","SI","SI","SI","SI","SI","SI","SI","SI","SI","SI","SI","SI","SI","SI","SI","SI","SI",{"$f":"IF(EA359=EA342,\"SI\",\"NO\")","v":"SI"},"SI","SI","SI","SI","SI","SI","SI","SI","SI","SI","SI","SI","SI","SI","SI","SI","SI","SI","SI","SI","SI","SI","SI","SI","SI","SI","SI","SI","SI","SI","SI","SI","SI","SI","SI","SI","SI","SI","SI","SI","SI","SI","SI","SI","SI","SI","SI","SI","SI","SI","SI","SI","SI","SI","SI","SI","SI","SI","SI","SI","SI","SI","SI",{"$f":"IF(GM359=GM342,\"SI\",\"NO\")","v":"SI"},"SI","SI","SI","SI","SI","SI","SI","SI","SI","SI","SI","SI","SI","SI","SI","SI","SI","SI","SI","SI","SI","SI","SI","SI","SI","SI","SI","SI","SI","SI","SI","SI","SI","SI","SI","SI"]
[]
[]
["ITSVIH6099M"]
["anno",2024]
["cod_red","03"]
["codmic","(Todas)"]
["cod_prov","(Todas)"]
["coddist","(Todas)"]
["cod_estab","(Todas)"]
["cod_eje","(Todas)"]
[]
[null,"Valores"]
["Etiquetas de fila"," BAS001"," BAS002"," BAS003"," BAS004"," BAS005"," BAS006"," BAS007"," BAS008"," BAS009"," BAS010"," BAS011"," BAS012"," BAS013"," BAS014"," BAS015"," BAS016"," BAS017"," BAS018"," BAS019"," BAS020"," BAS021"," BAS022"," BAS023"," BAS024"," BAS025"," BAS026"," BAS027"," BAS028"," BAS029"," BAS030"," BAS031"," BAS032"," BAS033"," BAS034"," BAS035"," BAS036"," BAS037"," BAS038"," BAS039"," BAS040"," BAS041"," BAS042"," BAS043"," BAS044"," BAS045"," BAS046"," BAS047"," BAS048"," BAS049"," BAS050"," BAS051"," BAS052"," BAS053"," BAS054"," BAS055"," BAS056"," BAS057"," BAS058"," BAS059"," BAS060"," BAS061"," BAS062"," BAS063"," BAS064"," BAS065"," BAS066"," BAS067"," BAS068"," BAS069"," BAS070"," BAS071"," BAS072"," BAS073"," BAS074"," BAS075"," BAS076"," BAS077"," BAS078"," BAS079"," BAS080"," BAS081"," BAS082"," BAS083"," BAS084"," BAS085"," BAS086"," BAS087"," BAS088"," BAS089"," BAS090"," BAS091"," BAS092"," BAS093"," BAS094"," BAS095"," BAS096"," BAS097"," BAS098"," BAS099"," BAS100"," BAS101"," BAS102"," BAS103"," BAS104"," BAS105"," BAS106"," BAS107"," BAS108"," BAS109"," BAS110"," BAS111"," BAS112"," BAS113"," BAS114"," BAS115"," BAS116"," BAS117"," BAS118"," BAS119"," BAS120"," BAS121"," BAS122"," BAS123"," BAS124"," BAS125"," BAS126"," BAS127"," BAS128"," BAS129"," BAS130"," BAS131"," BAS132"," BAS133"," BAS134"," BAS135"," BAS136"," BAS137"," BAS138"," BAS139"," BAS140"," BAS141"," BAS142"," BAS143"," BAS144"," BAS145"," BAS146"," BAS147"," BAS148"," BAS149"," BAS150"," BAS151"," BAS152"," BAS153"," BAS154"," BAS155"," BAS156"," BAS157"," BAS158"," BAS159"," BAS160"," BAS161"," BAS162"," BAS163"," BAS164"," BAS165"," BAS166"," BAS167"," BAS168"," BAS169"," BAS170"," BAS171"," BAS172"," BAS173"," BAS174"," BAS175"," BAS176"," BAS177"," BAS178"," BAS179"," BAS180"," BAS181"," BAS182"," BAS183"," BAS184"," BAS185"," BAS186"," BAS187"," BAS188"," BAS189"," BAS190"," BAS191"," BAS192"," BAS193"," BAS194"," BAS195"," BAS196"," BAS197"," BAS198"," BAS199"," BAS200"," BAS201"," BAS202"," BAS203"," BAS204"," BAS205"," BAS206"," BAS207"," BAS208"," BAS209"," BAS210"," BAS211"," BAS212"," BAS213"," BAS214"," BAS215"," BAS216"," BAS217"," BAS218"," BAS219"," BAS220"," BAS221"," BAS222"," BAS223"," BAS224"," BAS225"," BAS226"," BAS227"," BAS228"," BAS229"," BAS230"]
[2,0,0,0,0,0,0,0,0,0,0,0,0,0,0,0,0,0,0,0,0,0,0,0,0,0,0,0,0,0,0,0,0,0,0,0,0,0,0,0,0,0,0,0,0,0,0,0,0,3,0,3,0,0,0,0,0,0,0,0,0,42,2,73,0,0,0,0,70,0,2,1,0,0,0,0,0,0,0,2,0,0,0,0,0,0,0,0,70,0,1,0,1,0,19,0,0,0,0,0,0,0,0,0,0,0,0,0,0,0,0,0,0,0,0,0,0,0,0,0,0,0,0,0,0,0,0,0,0,0,0,0,0,0,0,0,0,0,0,0,0,0,0,0,0,0,0,0,0,0,0,0,0,0,0,0,0,0,0,0,0,0,0,0,0,0,0,0,0,0,0,0,0,0,0,0,0,0,0,0,0,0,0,0,0,0,0,0,0,0,0,0,0,0,0,0,0,0,0,0,0,0,0,0,0,0,0,0,0,0,0,0,0,0,0,0,0,0,0,0,0,0,0,0,0,0,0,0,0,0,0]
[1,0,0,0,0,0,0,0,0,0,0,0,0,0,0,0,0,0,0,0,0,0,0,0,0,0,0,0,0,0,0,0,0,0,0,0,0,0,0,0,0,0,0,0,0,0,0,0,0,2,0,2,0,0,0,0,0,0,0,0,0,2,2,46,0,0,0,0,42,0,0,1,0,0,3,0,0,0,0,0,0,0,0,0,0,0,0,0,41,0,1,0,1,0,0,0,0,0,0,0,0,0,0,0,0,0,0,0,0,0,0,0,0,0,0,0,0,0,0,0,0,0,0,0,0,0,0,0,0,0,0,0,0,0,0,0,0,0,0,0,0,0,0,0,0,0,0,0,0,0,0,0,0,0,0,0,0,0,0,0,0,0,0,0,0,0,0,0,0,0,0,0,0,0,0,0,0,0,0,0,0,0,0,0,0,0,0,0,0,0,0,0,0,0,0,0,0,0,0,0,0,0,0,0,0,0,0,0,0,0,0,0,0,0,0,0,0,0,0,0,0,0,0,0,0,0,0,0,0,0,0]
[3,0,0,0,0,0,0,0,0,0,0,0,0,0,0,0,0,0,0,0,0,0,0,0,0,1,0,0,0,0,0,0,0,0,0,0,0,0,0,0,0,0,0,0,0,0,0,0,0,1,1,1,1,0,0,0,0,0,0,0,0,24,0,53,0,0,0,0,45,0,0,2,0,0,0,0,0,0,0,0,0,0,0,0,0,0,0,0,44,0,1,0,3,0,0,0,1,0,0,0,0,0,0,0,0,0,0,0,0,0,0,0,0,0,0,0,0,0,0,0,0,0,0,0,0,0,0,0,0,0,0,0,0,0,0,0,0,0,0,0,0,0,0,0,0,0,0,0,0,0,0,0,0,0,0,0,0,0,0,0,0,0,0,0,0,0,0,0,0,0,0,0,0,0,0,0,0,0,0,0,0,0,0,0,0,0,0,0,0,0,0,0,0,0,0,0,0,0,0,0,0,0,0,0,0,0,0,0,0,0,0,0,0,0,0,0,0,0,0,0,0,0,0,0,0,0,0,0,0,0,0]
[5,0,0,0,0,0,0,0,0,0,0,0,0,0,0,0,0,0,0,0,0,0,0,0,0,0,0,0,0,0,0,0,0,0,0,0,0,0,0,0,0,0,0,0,0,0,0,0,0,5,0,5,0,0,0,0,0,0,0,0,0,6,5,64,0,0,0,0,44,0,1,2,1,0,0,0,0,0,0,6,0,0,0,0,0,0,0,0,45,0,1,0,2,0,3,0,1,0,0,0,0,0,0,0,0,0,0,0,0,0,0,0,0,0,0,0,0,0,0,0,0,0,0,0,0,0,0,0,0,0,0,0,0,0,0,0,0,0,0,0,0,0,0,0,0,0,0,0,0,0,0,0,0,0,0,0,0,0,0,0,0,0,0,0,0,0,0,0,0,0,0,0,0,0,0,0,0,0,0,0,0,0,0,0,0,0,0,0,0,0,0,0,0,0,0,0,0,0,0,0,0,0,0,0,0,0,0,0,0,0,0,0,0,0,0,0,0,0,0,0,0,0,0,0,0,0,0,0,0,0,0]
[4,0,0,0,0,0,0,0,0,0,0,0,0,0,0,0,0,0,0,0,0,0,0,0,0,0,0,0,0,0,0,0,0,0,0,0,0,0,0,0,0,0,0,0,0,0,0,0,0,0,0,0,0,0,0,0,0,0,0,0,0,3,0,80,0,0,0,0,81,1,0,1,0,0,0,4,0,0,0,5,0,0,0,0,0,0,0,0,80,0,0,0,1,0,0,0,0,0,0,0,0,0,0,0,0,0,0,0,0,0,0,0,0,0,0,0,0,0,0,0,0,0,0,0,0,0,0,0,0,0,0,0,0,0,0,0,0,0,0,0,0,0,0,0,0,0,0,0,0,0,0,0,0,0,0,0,0,0,0,0,0,0,0,0,0,0,0,0,0,0,0,0,0,0,0,0,0,0,0,0,0,0,0,0,0,0,0,0,0,0,0,0,0,0,0,0,0,0,0,0,0,0,0,0,0,0,0,0,0,0,0,0,0,0,0,0,0,0,0,0,0,0,0,0,0,0,0,0,0,0,0]
[6,1,1,1,1,0,0,0,0,0,0,0,0,1,1,1,1,0,0,0,0,0,0,0,1,0,0,0,0,0,0,0,0,0,0,0,0,0,0,0,0,0,0,0,0,0,0,0,0,1,0,1,0,0,0,0,0,0,0,0,0,0,0,64,0,0,0,0,54,1,1,4,0,0,1,0,0,0,0,3,0,0,0,0,0,0,0,0,53,0,2,0,4,0,1,0,0,0,0,0,0,0,0,0,0,0,0,0,0,0,0,0,0,0,0,0,0,0,0,0,0,0,0,0,0,0,0,0,0,0,0,0,0,0,0,0,0,0,0,0,0,0,0,0,0,0,0,0,0,0,0,0,0,0,0,0,0,0,0,0,0,0,0,0,0,0,0,0,0,0,0,0,0,0,0,0,0,0,0,0,0,0,0,0,0,0,0,0,0,0,0,0,0,0,0,0,0,0,0,0,0,0,0,0,0,0,0,0,0,0,0,0,0,0,0,0,0,0,0,0,0,0,0,0,0,0,0,0,0,0,0]
[7,0,0,0,0,0,0,0,0,0,0,0,0,0,0,0,0,0,0,0,0,0,0,0,0,0,0,0,0,0,0,0,0,0,0,0,0,0,0,0,0,0,0,0,0,1,0,0,0,0,0,0,0,0,0,0,0,0,0,0,0,0,0,53,0,0,0,0,50,0,0,2,0,0,0,0,0,0,0,4,0,0,0,0,0,0,0,0,47,0,0,0,2,0,0,0,0,0,0,0,0,0,0,0,0,0,0,0,0,0,0,0,0,0,0,0,0,0,0,0,0,0,0,0,0,0,0,0,0,0,0,0,0,0,0,0,0,0,0,0,0,0,0,0,0,0,0,0,0,0,0,0,0,0,0,0,0,0,0,0,0,0,0,0,0,0,0,0,0,0,0,0,0,0,0,0,0,0,0,0,0,0,0,0,0,0,0,0,0,0,0,0,0,0,0,0,0,0,0,0,0,0,0,0,0,0,0,0,0,0,0,0,0,0,0,0,0,0,0,0,0,0,0,0,0,0,0,0,0,0,0]
[8,0,0,0,0,0,0,0,0,0,0,0,0,0,0,0,0,0,0,0,0,0,0,0,0,0,0,0,0,0,0,0,0,0,0,0,0,0,0,0,0,0,0,0,0,0,0,0,0,1,0,1,0,0,0,0,0,0,0,0,0,1,1,56,0,0,0,0,53,0,0,0,0,0,1,0,0,0,0,1,0,0,0,0,0,0,0,0,51,0,1,0,0,0,0,0,0,0,0,0,0,0,0,0,0,0,0,0,0,0,0,0,0,0,0,0,0,0,0,0,0,0,0,0,0,0,0,0,0,0,0,0,0,0,0,0,0,0,0,0,0,0,0,0,0,0,0,0,0,0,0,0,0,0,0,0,0,0,0,0,0,0,0,0,0,0,0,0,0,0,0,0,0,0,0,0,0,0,0,0,0,0,0,0,0,0,0,0,0,0,0,0,0,0,0,0,0,0,0,0,0,0,0,0,0,0,0,0,0,0,0,0,0,0,0,0,0,0,0,0,0,0,0,0,0,0,0,0,0,0,0]
[9,0,0,0,0,0,0,0,0,0,0,0,0,0,0,0,0,0,0,0,0,0,0,0,0,0,0,0,0,0,0,0,0,0,0,0,0,0,0,0,0,0,0,0,0,0,0,0,0,1,1,1,1,0,0,0,0,0,0,0,0,2,0,83,0,0,0,0,80,1,0,1,0,0,0,0,0,0,0,2,0,0,0,0,0,0,0,0,81,0,0,0,1,0,19,0,0,0,0,0,0,0,0,0,0,0,0,0,0,0,0,0,0,0,0,0,0,0,0,0,0,0,0,0,0,0,0,0,0,0,0,0,0,0,0,0,0,0,0,0,0,0,0,0,0,0,0,0,0,0,0,0,0,0,0,0,0,0,0,0,0,0,0,0,0,0,0,0,0,0,0,0,0,0,0,0,0,0,0,0,0,0,0,0,0,0,0,0,0,0,0,0,0,0,0,0,0,0,0,0,0,0,0,0,0,0,0,0,0,0,0,1,1,0,0,0,0,0,0,0,0,0,0,0,0,0,0,0,0,0,0]
[10,0,0,0,0,0,0,0,0,0,0,0,0,0,0,0,0,0,0,0,0,0,0,0,0,0,0,0,0,0,0,0,0,0,0,0,0,0,0,0,0,0,0,0,0,1,0,0,0,1,1,1,1,0,0,0,0,0,0,0,0,0,0,77,0,0,0,0,74,0,0,1,0,0,0,0,0,0,0,29,0,0,0,0,0,0,0,0,75,0,0,0,1,0,0,0,0,0,0,0,0,0,0,0,0,0,0,0,0,0,0,0,0,0,0,0,0,0,0,0,0,0,0,0,0,0,0,0,0,0,0,0,0,0,0,0,0,0,0,0,0,0,0,0,0,0,0,0,0,0,0,0,0,0,0,0,0,0,0,0,0,0,0,0,0,0,0,0,0,0,0,0,0,0,0,0,0,0,0,0,0,0,0,0,0,0,0,0,0,0,0,0,0,0,0,0,0,0,0,0,0,0,0,0,0,0,0,0,0,0,0,0,0,0,0,0,0,0,0,0,0,0,0,0,0,0,0,0,0,0,0]
[11,0,0,0,0,1,1,0,0,0,0,0,0,0,0,0,0,0,0,0,0,0,0,0,0,0,0,0,0,0,0,0,0,0,0,0,0,0,0,0,0,0,0,0,0,0,0,0,0,0,0,0,0,0,0,0,0,0,0,0,0,0,0,70,0,0,0,0,67,0,0,1,0,0,0,0,0,0,0,17,0,0,0,0,0,0,0,0,68,0,1,0,1,0,0,0,0,0,0,0,0,0,0,0,0,0,0,0,0,0,0,0,0,0,0,0,0,0,0,0,0,0,0,0,0,0,0,0,0,0,0,0,0,0,0,0,0,0,0,0,0,0,0,0,0,0,0,0,0,0,0,0,0,0,0,0,0,0,0,0,0,0,0,0,0,0,0,0,0,0,0,0,0,0,0,0,0,0,0,0,0,0,0,0,0,0,0,0,0,0,0,0,0,0,0,0,0,0,0,0,0,0,0,0,0,0,0,0,0,0,0,0,0,0,0,0,0,0,0,0,0,0,0,0,0,0,0,0,0,0,0]
["T",1,1,1,1,1,1,0,0,0,0,0,0,1,1,1,1,0,0,0,0,0,0,0,1,1,0,0,0,0,0,0,0,0,0,0,0,0,0,0,0,0,0,0,0,2,0,0,0,15,3,15,3,0,0,0,0,0,0,0,0,80,10,719,0,0,0,0,660,3,4,16,1,0,5,4,0,0,0,69,0,0,0,0,0,0,0,0,655,0,8,0,17,0,42,0,2,0,0,0,0,0,0,0,0,0,0,0,0,0,0,0,0,0,0,0,0,0,0,0,0,0,0,0,0,0,0,0,0,0,0,0,0,0,0,0,0,0,0,0,0,0,0,0,0,0,0,0,0,0,0,0,0,0,0,0,0,0,0,0,0,0,0,0,0,0,0,0,0,0,0,0,0,0,0,0,0,0,0,0,0,0,0,0,0,0,0,0,0,0,0,0,0,0,0,0,0,0,0,0,0,0,0,0,0,0,0,0,0,0,0,1,1,0,0,0,0,0,0,0,0,0,0,0,0,0,0,0,0,0,0]
[]
["TOTAL"]
[{"$f":"COUNT(A374:A385)","v":11},{"$f":"SUM(B374:B385)","v":2},{"$f":"SUM(C374:C385)","v":2},2,2,2,2,0,0,0,0,0,0,2,2,2,2,0,0,0,0,0,0,0,2,2,0,0,0,0,0,0,0,0,0,0,0,0,0,0,0,0,0,0,0,4,0,0,0,30,6,30,6,0,0,0,0,0,0,0,0,160,20,1438,0,0,{"$f":"SUM(BO374:BO385)","v":0},0,1320,6,8,32,2,0,10,8,0,0,0,138,0,0,0,0,0,0,0,0,1310,0,16,0,34,0,84,0,4,0,0,0,0,0,0,0,0,0,0,0,0,0,0,0,0,0,0,0,0,0,0,0,0,0,0,0,0,0,0,0,0,0,{"$f":"SUM(EA374:EA385)","v":0},0,0,0,0,0,0,0,0,0,0,0,0,0,0,0,0,0,0,0,0,0,0,0,0,0,0,0,0,0,0,0,0,0,0,0,0,0,0,0,0,0,0,0,0,0,0,0,0,0,0,0,0,0,0,0,0,0,0,0,0,0,0,0,{"$f":"SUM(GM374:GM385)","v":0},0,0,0,0,0,0,0,0,0,0,0,0,0,0,0,0,2,2,0,0,0,0,0,0,0,0,0,0,0,0,0,0,0,0,0,0]
[{"$f":"CONCATENATE(A374,\"-\",A375,\"-\",A376,\"-\",A377,\"-\",A378,\"-\",A379,\"-\",A380,\"-\",A381,\"-\",A382,\"-\",A383,\"-\",A384,\"-\",A385)","v":"2-1-3-5-4-6-7-8-9-10-11-T"}]
[null," BAS001"," BAS002"," BAS003"," BAS004"," BAS005"," BAS006"," BAS007"," BAS008"," BAS009"," BAS010"," BAS011"," BAS012"," BAS013"," BAS014"," BAS015"," BAS016"," BAS017"," BAS018"," BAS019"," BAS020"," BAS021"," BAS022"," BAS023"," BAS024"," BAS025"," BAS026"," BAS027"," BAS028"," BAS029"," BAS030"," BAS031"," BAS032"," BAS033"," BAS034"," BAS035"," BAS036"," BAS037"," BAS038"," BAS039"," BAS040"," BAS041"," BAS042"," BAS043"," BAS044"," BAS045"," BAS046"," BAS047"," BAS048"," BAS049"," BAS050"," BAS051"," BAS052"," BAS053"," BAS054"," BAS055"," BAS056"," BAS057"," BAS058"," BAS059"," BAS060"," BAS061"," BAS062"," BAS063"," BAS064"," BAS065"," BAS066"," BAS067"," BAS068"," BAS069"," BAS070"," BAS071"," BAS072"," BAS073"," BAS074"," BAS075"," BAS076"," BAS077"," BAS078"," BAS079"," BAS080"," BAS081"," BAS082"," BAS083"," BAS084"," BAS085"," BAS086"," BAS087"," BAS088"," BAS089"," BAS090"," BAS091"," BAS092"," BAS093"," BAS094"," BAS095"," BAS096"," BAS097"," BAS098"," BAS099"," BAS100"," BAS101"," BAS102"," BAS103"," BAS104"," BAS105"," BAS106"," BAS107"," BAS108"," BAS109"," BAS110"," BAS111"," BAS112"," BAS113"," BAS114"," BAS115"," BAS116"," BAS117"," BAS118"," BAS119"," BAS120"," BAS121"," BAS122"," BAS123"," BAS124"," BAS125"," BAS126"," BAS127"," BAS128"," BAS129"," BAS130"," BAS131"," BAS132"," BAS133"," BAS134"," BAS135"," BAS136"," BAS137"," BAS138"," BAS139"," BAS140"," BAS141"," BAS142"," BAS143"," BAS144"," BAS145"," BAS146"," BAS147"," BAS148"," BAS149"," BAS150"," BAS151"," BAS152"," BAS153"," BAS154"," BAS155"," BAS156"," BAS157"," BAS158"," BAS159"," BAS160"," BAS161"," BAS162"," BAS163"," BAS164"," BAS165"," BAS166"," BAS167"," BAS168"," BAS169"," BAS170"," BAS171"," BAS172"," BAS173"," BAS174"," BAS175"," BAS176"," BAS177"," BAS178"," BAS179"," BAS180"," BAS181"," BAS182"," BAS183"," BAS184"," BAS185"," BAS186"," BAS187"," BAS188"," BAS189"," BAS190"," BAS191"," BAS192"," BAS193"," BAS194"," BAS195"," BAS196"," BAS197"," BAS198"," BAS199"," BAS200"," BAS201"," BAS202"," BAS203"," BAS204"," BAS205"," BAS206"," BAS207"," BAS208"," BAS209"," BAS210"," BAS211"," BAS212"," BAS213"," BAS214"," BAS215"," BAS216"," BAS217"," BAS218"," BAS219"," BAS220"," BAS221"," BAS222"," BAS223"," BAS224"," BAS225"," BAS226"," BAS227"," BAS228"," BAS229"," BAS230"]
[null,{"$f":"IF(B390=B373,\"SI\",\"NO\")","v":"SI"},{"$f":"IF(C390=C373,\"SI\",\"NO\")","v":"SI"},"SI","SI","SI","SI","SI","SI","SI","SI","SI","SI","SI","SI","SI","SI","SI","SI","SI","SI","SI","SI","SI","SI","SI","SI","SI","SI","SI","SI","SI","SI","SI","SI","SI","SI","SI","SI","SI","SI","SI","SI","SI","SI","SI","SI","SI","SI","SI","SI","SI","SI","SI","SI","SI","SI","SI","SI","SI","SI","SI","SI","SI","SI","SI",{"$f":"IF(BO390=BO373,\"SI\",\"NO\")","v":"SI"},"SI","SI","SI","SI","SI","SI","SI","SI","SI","SI","SI","SI","SI","SI","SI","SI","SI","SI","SI","SI","SI","SI","SI","SI","SI","SI","SI","SI","SI","SI","SI","SI","SI","SI","SI","SI","SI","SI","SI","SI","SI","SI","SI","SI","SI","SI","SI","SI","SI","SI","SI","SI","SI","SI","SI","SI","SI","SI","SI","SI","SI","SI","SI",{"$f":"IF(EA390=EA373,\"SI\",\"NO\")","v":"SI"},"SI","SI","SI","SI","SI","SI","SI","SI","SI","SI","SI","SI","SI","SI","SI","SI","SI","SI","SI","SI","SI","SI","SI","SI","SI","SI","SI","SI","SI","SI","SI","SI","SI","SI","SI","SI","SI","SI","SI","SI","SI","SI","SI","SI","SI","SI","SI","SI","SI","SI","SI","SI","SI","SI","SI","SI","SI","SI","SI","SI","SI","SI","SI",{"$f":"IF(GM390=GM373,\"SI\",\"NO\")","v":"SI"},"SI","SI","SI","SI","SI","SI","SI","SI","SI","SI","SI","SI","SI","SI","SI","SI","SI","SI","SI","SI","SI","SI","SI","SI","SI","SI","SI","SI","SI","SI","SI","SI","SI","SI","SI","SI"]
[]
["ITSVIHHSH"]
["anno",2024]
["cod_red","03"]
["codmic","(Todas)"]
["cod_prov","(Todas)"]
["coddist","(Todas)"]
["cod_estab","(Todas)"]
["cod_eje","(Todas)"]
[]
[null,"Valores"]
["Etiquetas de fila"," BAS001"," BAS002"," BAS003"," BAS004"," BAS005"," BAS006"," BAS007"," BAS008"," BAS009"," BAS010"," BAS011"," BAS012"," BAS013"," BAS014"," BAS015"," BAS016"," BAS017"," BAS018"," BAS019"," BAS020"," BAS021"," BAS022"," BAS023"," BAS024"," BAS025"," BAS026"," BAS027"," BAS028"," BAS029"," BAS030"," BAS031"," BAS032"," BAS033"," BAS034"," BAS035"," BAS036"," BAS037"," BAS038"," BAS039"," BAS040"," BAS041"," BAS042"," BAS043"," BAS044"," BAS045"," BAS046"," BAS047"," BAS048"," BAS049"," BAS050"," BAS051"," BAS052"," BAS053"," BAS054"," BAS055"," BAS056"," BAS057"," BAS058"," BAS059"," BAS060"," BAS061"," BAS062"," BAS063"," BAS064"," BAS065"," BAS066"," BAS067"," BAS068"," BAS069"," BAS070"," BAS071"," BAS072"," BAS073"," BAS074"," BAS075"," BAS076"," BAS077"," BAS078"," BAS079"," BAS080"," BAS081"," BAS082"," BAS083"," BAS084"," BAS085"," BAS086"," BAS087"," BAS088"," BAS089"," BAS090"," BAS091"," BAS092"," BAS093"," BAS094"," BAS095"," BAS096"," BAS097"," BAS098"," BAS099"," BAS100"," BAS101"," BAS102"," BAS103"," BAS104"," BAS105"," BAS106"," BAS107"," BAS108"," BAS109"," BAS110"," BAS111"," BAS112"," BAS113"," BAS114"," BAS115"," BAS116"," BAS117"," BAS118"," BAS119"," BAS120"," BAS121"," BAS122"," BAS123"," BAS124"," BAS125"," BAS126"," BAS127"," BAS128"," BAS129"," BAS130"," BAS131"," BAS132"," BAS133"," BAS134"," BAS135"," BAS136"," BAS137"," BAS138"," BAS139"," BAS140"," BAS141"," BAS142"," BAS143"," BAS144"," BAS145"," BAS146"," BAS147"," BAS148"," BAS149"," BAS150"," BAS151"," BAS152"," BAS153"," BAS154"," BAS155"," BAS156"," BAS157"," BAS158"," BAS159"," BAS160"," BAS161"," BAS162"," BAS163"," BAS164"," BAS165"," BAS166"," BAS167"," BAS168"," BAS169"," BAS170"," BAS171"," BAS172"," BAS173"," BAS174"," BAS175"," BAS176"," BAS177"," BAS178"," BAS179"," BAS180"," BAS181"," BAS182"," BAS183"," BAS184"," BAS185"," BAS186"," BAS187"," BAS188"," BAS189"," BAS190"," BAS191"," BAS192"," BAS193"," BAS194"," BAS195"," BAS196"," BAS197"," BAS198"," BAS199"," BAS200"," BAS201"," BAS202"," BAS203"," BAS204"," BAS205"," BAS206"," BAS207"," BAS208"," BAS209"," BAS210"," BAS211"," BAS212"," BAS213"," BAS214"," BAS215"," BAS216"," BAS217"," BAS218"," BAS219"," BAS220"," BAS221"," BAS222"," BAS223"," BAS224"," BAS225"," BAS226"," BAS227"," BAS228"," BAS229"," BAS230"]
[2,0,0,0,0,0,0,0,0,0,0,0,0,0,1,0,0,0,0,0,0,0,0,0,0,0,1,0,0,0,0,0,0,0,0,0,0,0,0,0,0,0,0,0,0,0,0,0,0,0,0,0,0,0,0,0,0,0,0,0,0,0,0,0,0,0,0,0,0,0,0,0,0,0,0,0,0,0,0,0,0,0,0,0,0,0,0,0,0,1,1,0,0,0,0,0,0,0,0,0,0,1,1,0,0,0,0,0,0,0,0,0,0,0,0,0,0,0,0,0,0,0,0,0,0,0,0,0,0,0,0,0,0,0,0,0,0,0,0,0,0,0,0,0,0,0,0,0,0,0,0,0,0,0,0,0,0,0,0,0,0,0,0,0,0,0,0,0,0,0,0,0,0,0,0,0,0,0,0,0,0,0,0,0,0,0,0,0,0,0,0,0,0,0,0,0,0,0,0,0,0,0,0,0,0,0,0,0,0,0,0,0,0,0,0,0,0,0,0,0,0,0,0,0,0,0,0,0,0,0,0]
[3,0,0,0,0,0,0,0,0,0,0,0,0,1,1,1,1,0,0,0,0,0,0,0,0,1,1,1,1,0,0,0,0,0,0,0,0,0,0,0,0,0,0,0,0,0,0,0,0,0,0,0,0,0,0,0,0,0,0,0,0,0,0,0,0,0,0,0,0,0,0,0,0,0,0,0,0,0,0,0,0,0,0,0,0,0,0,0,0,0,0,0,0,0,0,0,0,0,0,0,0,0,0,0,0,0,0,0,0,0,0,0,0,0,0,0,0,0,0,0,0,0,0,0,0,0,0,0,0,0,0,0,0,0,0,0,0,0,0,0,0,0,0,0,0,0,0,0,0,0,0,0,0,0,0,0,0,0,0,0,0,0,0,0,0,0,0,0,0,0,0,0,0,0,0,0,0,0,0,0,0,0,0,0,0,0,0,0,0,0,0,0,0,0,0,0,0,0,0,0,0,0,0,0,0,0,0,0,0,0,0,0,0,0,0,0,0,0,0,0,0,0,0,0,0,0,0,0,0,0,0]
[1,0,0,0,0,0,0,0,0,0,0,0,0,0,0,0,0,0,0,0,0,0,0,0,0,0,0,0,0,0,0,0,0,0,0,0,0,0,0,0,0,0,0,0,0,0,0,0,0,0,0,0,0,0,0,0,0,0,0,0,0,0,0,0,0,0,0,0,0,0,0,0,0,0,0,0,0,0,0,0,0,0,0,0,0,0,0,0,0,0,0,0,0,0,0,0,0,0,0,0,0,0,0,0,0,0,0,0,0,0,0,0,0,0,0,0,0,0,0,0,0,0,0,0,0,0,0,0,0,0,0,0,0,0,0,0,0,0,0,0,0,0,0,0,0,0,0,0,0,0,0,0,0,0,0,0,0,0,0,0,0,0,0,0,0,0,0,0,0,0,0,0,0,0,0,0,0,0,0,0,0,0,0,0,0,0,0,0,0,0,0,0,0,0,0,0,0,0,0,0,0,0,0,0,0,0,0,0,0,0,0,0,0,0,0,0,0,0,0,0,0,0,0,0,0,0,0,0,0,0,0]
[4,0,0,1,0,0,0,0,0,0,0,0,0,0,0,0,0,0,0,0,0,0,0,0,0,0,0,0,0,0,0,0,0,0,0,0,0,0,0,0,0,0,0,0,0,0,0,0,0,0,0,0,0,0,0,0,0,0,0,0,0,0,0,0,0,0,0,0,0,0,0,0,0,0,0,0,0,0,0,1,0,0,0,0,0,1,0,0,0,0,0,0,0,0,0,0,0,0,0,0,0,0,0,0,0,0,0,0,0,0,0,0,0,0,0,0,0,0,0,0,0,0,0,0,0,0,0,0,0,0,0,0,0,0,0,0,0,0,0,0,0,0,0,0,0,0,0,0,0,0,0,0,0,0,0,0,0,0,0,0,0,0,0,0,0,0,0,0,0,0,0,0,0,0,0,0,0,0,0,0,0,0,0,0,0,0,0,0,0,0,0,0,0,0,0,0,0,0,0,0,0,0,0,0,0,0,0,0,0,0,0,0,0,0,0,0,0,0,0,0,0,0,0,0,0,0,0,0,0,0,0]
[5,0,0,2,1,0,0,0,0,1,0,0,0,0,0,0,0,0,0,0,0,0,0,0,0,0,0,0,0,0,0,0,0,0,0,0,0,0,0,0,0,0,0,0,0,1,2,0,0,0,0,0,0,1,0,0,0,0,0,0,0,0,0,0,0,0,0,0,0,0,0,0,0,0,0,0,0,0,0,1,1,0,0,0,0,1,0,0,0,0,0,0,0,0,0,0,0,0,0,0,0,0,0,0,0,0,0,0,0,0,0,0,0,0,0,0,0,0,0,0,0,1,1,0,0,0,0,0,0,1,0,0,0,0,0,0,0,0,0,0,0,0,0,0,0,0,0,0,0,0,0,0,0,0,0,0,0,0,0,0,0,0,0,0,0,0,0,0,0,0,0,0,0,0,0,0,0,0,0,0,0,0,0,0,0,0,0,0,0,0,0,0,0,0,0,0,0,0,0,0,0,0,0,0,0,0,0,0,0,0,0,0,0,0,0,0,0,0,0,0,0,0,0,0,0,0,0,0,0,0,0]
[6,0,0,1,0,1,0,0,0,1,0,0,1,0,0,0,0,0,0,0,0,0,0,0,0,0,0,0,0,0,0,0,0,0,0,0,0,0,0,0,0,0,0,0,0,0,0,0,0,0,0,0,0,0,0,0,0,0,0,0,0,0,0,0,0,0,0,0,0,0,0,0,0,0,0,0,0,0,0,0,0,0,0,0,0,0,0,0,0,0,0,0,0,0,0,0,0,0,0,0,0,0,0,0,0,0,0,0,0,0,0,0,0,0,0,0,0,0,0,0,0,0,0,0,0,0,0,0,0,0,0,0,0,0,0,0,0,0,0,0,0,0,0,0,0,0,0,0,0,0,0,0,0,0,0,0,0,0,0,0,0,0,0,0,0,0,0,0,0,0,0,0,0,0,0,0,0,0,0,0,0,0,0,0,0,0,0,0,0,0,0,0,0,0,0,0,0,0,0,0,0,0,0,0,0,0,0,0,0,0,0,0,0,0,0,0,0,0,0,0,0,0,0,0,0,0,0,0,0,0,0]
[7,0,0,0,0,0,0,0,0,0,0,0,0,0,0,0,0,0,0,0,0,0,0,0,0,0,0,0,0,0,0,0,0,0,0,0,0,0,0,0,0,0,0,0,0,0,0,0,0,0,0,0,0,0,0,0,0,0,0,0,0,0,0,0,0,0,0,0,0,0,0,0,0,0,0,0,0,0,0,0,0,0,0,0,0,0,0,0,0,0,0,0,0,0,0,0,0,0,0,0,0,0,0,0,0,0,0,0,0,0,0,0,0,0,0,0,0,0,0,0,0,0,0,0,0,0,0,0,0,0,0,0,0,0,0,0,0,0,0,0,0,0,0,0,0,0,0,0,0,0,0,0,0,0,0,0,0,0,0,0,0,0,0,0,0,0,0,0,0,0,0,0,0,0,0,0,0,0,0,0,0,0,0,0,0,0,0,0,0,0,0,0,0,0,0,0,0,0,0,0,0,0,0,0,0,0,0,0,0,0,0,0,0,0,0,0,0,0,0,0,0,0,0,0,0,0,0,0,0,0,0]
[8,0,0,18,0,18,0,0,0,19,0,0,0,0,0,0,0,0,0,0,0,0,0,0,0,0,0,0,0,0,0,0,0,0,0,0,0,0,0,0,0,0,0,0,0,0,0,0,0,0,0,0,0,0,0,0,0,23,61,17,0,17,0,36,0,0,0,0,0,0,0,0,0,0,0,0,0,0,0,2,0,2,0,0,0,3,0,0,0,0,0,0,0,0,0,0,0,0,0,0,0,0,0,0,0,0,0,0,0,0,0,0,0,0,0,0,0,0,0,0,0,0,0,0,0,0,0,0,0,0,0,0,0,3,9,2,0,2,0,6,0,0,0,0,0,0,0,0,0,0,0,0,0,0,0,0,0,0,0,0,0,0,0,0,0,0,0,0,0,0,0,0,0,0,0,0,0,0,0,0,0,0,0,0,0,0,0,0,0,0,0,0,0,0,0,0,0,0,0,0,0,0,0,0,0,0,0,0,0,0,0,0,0,0,0,0,0,0,0,0,0,0,0,0,0,0,0,0,0,0,0]
[9,0,0,0,0,0,0,0,0,0,0,0,0,0,0,0,0,0,0,0,0,0,0,0,0,0,0,0,0,0,0,0,0,0,0,0,0,0,0,0,0,0,0,0,0,0,0,0,0,0,0,0,0,0,0,0,0,0,0,0,0,0,0,0,0,0,0,0,0,0,0,0,0,0,0,0,0,0,0,1,0,1,0,0,0,1,0,0,1,0,0,0,0,0,0,0,0,0,0,0,0,0,0,0,0,0,0,0,0,0,0,0,0,0,0,0,0,0,0,0,0,0,0,0,0,0,0,0,0,0,0,0,0,0,0,0,0,0,0,0,0,0,0,0,0,0,0,0,0,0,0,0,0,0,0,0,0,0,0,0,0,0,0,0,0,0,0,0,0,0,0,0,0,0,0,0,0,0,0,0,0,0,0,0,0,0,0,0,0,0,0,0,0,0,0,0,0,0,0,0,0,0,0,0,0,0,0,0,0,0,0,0,0,0,0,0,0,0,0,0,0,0,0,0,0,0,0,0,0,0,0]
[10,0,0,0,0,0,0,0,0,0,0,0,0,0,0,0,0,0,0,0,0,0,0,0,0,0,0,0,0,0,0,0,0,0,0,0,0,0,0,0,0,0,0,0,0,0,0,0,0,0,0,0,0,0,0,0,0,0,0,0,0,0,0,0,0,0,0,0,0,0,0,0,0,0,0,0,0,0,0,1,0,1,0,0,0,1,0,0,0,0,0,0,0,0,0,0,0,0,0,0,0,0,0,0,0,0,0,0,0,0,0,0,0,0,0,0,0,0,0,0,0,0,0,0,0,0,0,0,0,0,0,0,0,0,0,0,0,0,0,0,0,0,0,0,0,0,0,0,0,0,0,0,0,0,0,0,0,0,0,0,0,0,0,0,0,0,0,0,0,0,0,0,0,0,0,0,0,0,0,0,0,0,0,0,0,0,0,0,0,0,0,0,0,0,0,0,0,0,0,0,0,0,0,0,0,0,0,0,0,0,0,0,0,0,0,0,0,0,0,0,0,0,0,0,0,0,0,0,0,0,0]
[11,0,0,0,0,0,0,0,0,0,0,0,0,0,0,0,0,0,0,0,0,0,0,0,0,0,0,0,0,0,0,0,0,0,0,0,0,0,0,0,0,0,0,0,0,0,0,0,0,0,0,0,0,0,0,0,0,0,0,0,0,0,0,0,0,0,0,0,0,0,0,0,0,0,0,0,0,0,0,0,0,0,0,0,0,0,0,0,0,0,0,0,0,0,0,0,0,0,0,0,0,0,0,0,0,0,0,0,0,0,0,0,0,0,0,0,0,0,0,0,0,0,0,0,0,0,0,0,0,0,0,0,0,0,0,0,0,0,0,0,0,0,0,0,0,0,0,0,0,0,0,0,0,0,0,0,0,0,0,0,0,0,0,0,0,0,0,0,0,0,0,0,0,0,0,0,0,0,0,0,0,0,0,0,0,0,0,0,0,0,0,0,0,0,0,0,0,0,0,0,0,0,0,0,0,0,0,0,0,0,0,0,0,0,0,0,0,0,0,0,0,0,0,0,0,0,0,0,0,0,0]
["T",0,0,22,1,19,0,0,0,21,0,0,1,1,2,1,1,0,0,0,0,0,0,0,0,1,2,1,1,0,0,0,0,0,0,0,0,0,0,0,0,0,0,0,0,1,2,0,0,0,0,0,0,1,0,0,0,23,61,17,0,17,0,36,0,0,0,0,0,0,0,0,0,0,0,0,0,0,0,6,1,4,0,0,0,7,0,0,1,1,1,0,0,0,0,0,0,0,0,0,0,1,1,0,0,0,0,0,0,0,0,0,0,0,0,0,0,0,0,0,0,1,1,0,0,0,0,0,0,1,0,0,0,3,9,2,0,2,0,6,0,0,0,0,0,0,0,0,0,0,0,0,0,0,0,0,0,0,0,0,0,0,0,0,0,0,0,0,0,0,0,0,0,0,0,0,0,0,0,0,0,0,0,0,0,0,0,0,0,0,0,0,0,0,0,0,0,0,0,0,0,0,0,0,0,0,0,0,0,0,0,0,0,0,0,0,0,0,0,0,0,0,0,0,0,0,0,0,0,0,0]
[]
["TOTAL"]
[{"$f":"COUNT(A404:A415)","v":11},{"$f":"SUM(B404:B415)","v":0},{"$f":"SUM(C404:C415)","v":0},44,2,38,0,0,0,42,0,0,2,2,4,2,2,0,0,0,0,0,0,0,0,2,4,2,2,0,0,0,0,0,0,0,0,0,0,0,0,0,0,0,0,2,4,0,0,0,0,0,0,2,0,0,0,46,122,34,0,34,0,72,0,0,{"$f":"SUM(BO404:BO415)","v":0},0,0,0,0,0,0,0,0,0,0,0,0,12,2,8,0,0,0,14,0,0,2,2,2,0,0,0,0,0,0,0,0,0,0,2,2,0,0,0,0,0,0,0,0,0,0,0,0,0,0,0,0,0,0,2,2,0,0,0,0,0,0,2,{"$f":"SUM(EA404:EA415)","v":0},0,0,6,18,4,0,4,0,12,0,0,0,0,0,0,0,0,0,0,0,0,0,0,0,0,0,0,0,0,0,0,0,0,0,0,0,0,0,0,0,0,0,0,0,0,0,0,0,0,0,0,0,0,0,0,0,0,0,0,0,0,0,0,{"$f":"SUM(GM404:GM415)","v":0},0,0,0,0,0,0,0,0,0,0,0,0,0,0,0,0,0,0,0,0,0,0,0,0,0,0,0,0,0,0,0,0,0,0,0,0]
[{"$f":"CONCATENATE(A404,\"-\",A405,\"-\",A406,\"-\",A407,\"-\",A408,\"-\",A409,\"-\",A410,\"-\",A411,\"-\",A412,\"-\",A413,\"-\",A414,\"-\",A415)","v":"2-3-1-4-5-6-7-8-9-10-11-T"}]
[null," BAS001"," BAS002"," BAS003"," BAS004"," BAS005"," BAS006"," BAS007"," BAS008"," BAS009"," BAS010"," BAS011"," BAS012"," BAS013"," BAS014"," BAS015"," BAS016"," BAS017"," BAS018"," BAS019"," BAS020"," BAS021"," BAS022"," BAS023"," BAS024"," BAS025"," BAS026"," BAS027"," BAS028"," BAS029"," BAS030"," BAS031"," BAS032"," BAS033"," BAS034"," BAS035"," BAS036"," BAS037"," BAS038"," BAS039"," BAS040"," BAS041"," BAS042"," BAS043"," BAS044"," BAS045"," BAS046"," BAS047"," BAS048"," BAS049"," BAS050"," BAS051"," BAS052"," BAS053"," BAS054"," BAS055"," BAS056"," BAS057"," BAS058"," BAS059"," BAS060"," BAS061"," BAS062"," BAS063"," BAS064"," BAS065"," BAS066"," BAS067"," BAS068"," BAS069"," BAS070"," BAS071"," BAS072"," BAS073"," BAS074"," BAS075"," BAS076"," BAS077"," BAS078"," BAS079"," BAS080"," BAS081"," BAS082"," BAS083"," BAS084"," BAS085"," BAS086"," BAS087"," BAS088"," BAS089"," BAS090"," BAS091"," BAS092"," BAS093"," BAS094"," BAS095"," BAS096"," BAS097"," BAS098"," BAS099"," BAS100"," BAS101"," BAS102"," BAS103"," BAS104"," BAS105"," BAS106"," BAS107"," BAS108"," BAS109"," BAS110"," BAS111"," BAS112"," BAS113"," BAS114"," BAS115"," BAS116"," BAS117"," BAS118"," BAS119"," BAS120"," BAS121"," BAS122"," BAS123"," BAS124"," BAS125"," BAS126"," BAS127"," BAS128"," BAS129"," BAS130"," BAS131"," BAS132"," BAS133"," BAS134"," BAS135"," BAS136"," BAS137"," BAS138"," BAS139"," BAS140"," BAS141"," BAS142"," BAS143"," BAS144"," BAS145"," BAS146"," BAS147"," BAS148"," BAS149"," BAS150"," BAS151"," BAS152"," BAS153"," BAS154"," BAS155"," BAS156"," BAS157"," BAS158"," BAS159"," BAS160"," BAS161"," BAS162"," BAS163"," BAS164"," BAS165"," BAS166"," BAS167"," BAS168"," BAS169"," BAS170"," BAS171"," BAS172"," BAS173"," BAS174"," BAS175"," BAS176"," BAS177"," BAS178"," BAS179"," BAS180"," BAS181"," BAS182"," BAS183"," BAS184"," BAS185"," BAS186"," BAS187"," BAS188"," BAS189"," BAS190"," BAS191"," BAS192"," BAS193"," BAS194"," BAS195"," BAS196"," BAS197"," BAS198"," BAS199"," BAS200"," BAS201"," BAS202"," BAS203"," BAS204"," BAS205"," BAS206"," BAS207"," BAS208"," BAS209"," BAS210"," BAS211"," BAS212"," BAS213"," BAS214"," BAS215"," BAS216"," BAS217"," BAS218"," BAS219"," BAS220"," BAS221"," BAS222"," BAS223"," BAS224"," BAS225"," BAS226"," BAS227"," BAS228"," BAS229"," BAS230"]
[null,{"$f":"IF(B420=B403,\"SI\",\"NO\")","v":"SI"},{"$f":"IF(C420=C403,\"SI\",\"NO\")","v":"SI"},"SI","SI","SI","SI","SI","SI","SI","SI","SI","SI","SI","SI","SI","SI","SI","SI","SI","SI","SI","SI","SI","SI","SI","SI","SI","SI","SI","SI","SI","SI","SI","SI","SI","SI","SI","SI","SI","SI","SI","SI","SI","SI","SI","SI","SI","SI","SI","SI","SI","SI","SI","SI","SI","SI","SI","SI","SI","SI","SI","SI","SI","SI","SI",{"$f":"IF(BO420=BO403,\"SI\",\"NO\")","v":"SI"},"SI","SI","SI","SI","SI","SI","SI","SI","SI","SI","SI","SI","SI","SI","SI","SI","SI","SI","SI","SI","SI","SI","SI","SI","SI","SI","SI","SI","SI","SI","SI","SI","SI","SI","SI","SI","SI","SI","SI","SI","SI","SI","SI","SI","SI","SI","SI","SI","SI","SI","SI","SI","SI","SI","SI","SI","SI","SI","SI","SI","SI","SI","SI",{"$f":"IF(EA420=EA403,\"SI\",\"NO\")","v":"SI"},"SI","SI","SI","SI","SI","SI","SI","SI","SI","SI","SI","SI","SI","SI","SI","SI","SI","SI","SI","SI","SI","SI","SI","SI","SI","SI","SI","SI","SI","SI","SI","SI","SI","SI","SI","SI","SI","SI","SI","SI","SI","SI","SI","SI","SI","SI","SI","SI","SI","SI","SI","SI","SI","SI","SI","SI","SI","SI","SI","SI","SI","SI","SI",{"$f":"IF(GM420=GM403,\"SI\",\"NO\")","v":"SI"},"SI","SI","SI","SI","SI","SI","SI","SI","SI","SI","SI","SI","SI","SI","SI","SI","SI","SI","SI","SI","SI","SI","SI","SI","SI","SI","SI","SI","SI","SI","SI","SI","SI","SI","SI","SI"]
[]
[]
["ITSVIH-TS"]
["anno",2024]
["cod_red","03"]
["codmic","(Todas)"]
["cod_prov","(Todas)"]
["coddist","(Todas)"]
["cod_estab","(Todas)"]
["cod_eje","(Todas)"]
[]
[null,"Valores"]
["Etiquetas de fila"," BAS001"," BAS002"," BAS003"," BAS004"," BAS005"," BAS006"," BAS007"," BAS008"," BAS009"," BAS010"," BAS011"," BAS012"," BAS013"," BAS014"," BAS015"," BAS016"," BAS017"," BAS018"," BAS019"," BAS020"," BAS021"," BAS022"," BAS023"," BAS024"," BAS025"," BAS026"," BAS027"," BAS028"," BAS029"," BAS030"," BAS031"," BAS032"," BAS033"," BAS034"," BAS035"," BAS036"," BAS037"," BAS038"," BAS039"," BAS040"," BAS041"," BAS042"," BAS043"," BAS044"," BAS045"," BAS046"," BAS047"," BAS048"," BAS049"," BAS050"," BAS051"," BAS052"," BAS053"," BAS054"," BAS055"," BAS056"," BAS057"," BAS058"," BAS059"," BAS060"," BAS061"," BAS062"," BAS063"," BAS064"," BAS065"," BAS066"," BAS067"," BAS068"," BAS069"," BAS070"," BAS071"," BAS072"," BAS073"," BAS074"," BAS075"," BAS076"," BAS077"," BAS078"," BAS079"," BAS080"," BAS081"," BAS082"," BAS083"," BAS084"," BAS085"," BAS086"," BAS087"," BAS088"," BAS089"," BAS090"," BAS091"," BAS092"," BAS093"," BAS094"," BAS095"," BAS096"," BAS097"," BAS098"," BAS099"," BAS100"," BAS101"," BAS102"," BAS103"," BAS104"," BAS105"," BAS106"," BAS107"," BAS108"," BAS109"," BAS110"," BAS111"," BAS112"," BAS113"," BAS114"," BAS115"," BAS116"," BAS117"," BAS118"," BAS119"," BAS120"," BAS121"," BAS122"," BAS123"," BAS124"," BAS125"," BAS126"," BAS127"," BAS128"," BAS129"," BAS130"," BAS131"," BAS132"," BAS133"," BAS134"," BAS135"," BAS136"," BAS137"," BAS138"," BAS139"," BAS140"," BAS141"," BAS142"," BAS143"," BAS144"," BAS145"," BAS146"," BAS147"," BAS148"," BAS149"," BAS150"," BAS151"," BAS152"," BAS153"," BAS154"," BAS155"," BAS156"," BAS157"," BAS158"," BAS159"," BAS160"," BAS161"," BAS162"," BAS163"," BAS164"," BAS165"," BAS166"," BAS167"," BAS168"," BAS169"," BAS170"," BAS171"," BAS172"," BAS173"," BAS174"," BAS175"," BAS176"," BAS177"," BAS178"," BAS179"," BAS180"," BAS181"," BAS182"," BAS183"," BAS184"," BAS185"," BAS186"," BAS187"," BAS188"," BAS189"," BAS190"," BAS191"," BAS192"," BAS193"," BAS194"," BAS195"," BAS196"," BAS197"," BAS198"," BAS199"," BAS200"," BAS201"," BAS202"," BAS203"," BAS204"," BAS205"," BAS206"," BAS207"," BAS208"," BAS209"," BAS210"," BAS211"," BAS212"," BAS213"," BAS214"," BAS215"," BAS216"," BAS217"," BAS218"," BAS219"," BAS220"," BAS221"," BAS222"," BAS223"," BAS224"," BAS225"," BAS226"," BAS227"," BAS228"," BAS229"," BAS230"]
[2,0,0,14,0,14,0,0,0,14,0,0,0,0,0,0,0,0,0,0,0,0,0,0,0,0,0,0,0,0,0,0,0,0,0,0,0,0,0,0,0,0,0,0,0,0,0,0,0,0,0,0,0,0,0,0,0,0,0,0,0,0,0,0,0,0,0,0,0,0,0,0,0,0,0,0,0,0,0,6,0,6,0,0,0,6,0,0,0,0,0,0,0,0,0,0,0,0,0,0,0,0,0,0,0,0,0,0,0,0,0,0,0,0,0,0,0,0,0,0,0,0,0,0,0,0,0,0,0,0,0,0,0,0,0,0,0,0,0,0,0,0,0,0,0,0,0,0,0,0,0,0,0,0,0,0,0,0,0,0,0,0,0,0,0,0,0,0,0,0,0,0,0,0,0,0,0,0,0,0,0,0,0,0,0,0,0,0,0,0,0,0,0,0,0,0,0,0,0,0,0,0,0,0,0,0,0,0,0,0,0,0,0,0,0,0,0,0,0,0,0,0,0,0,0,0,0,0,0,0,0]
[1,0,0,15,0,15,0,0,0,15,0,0,0,0,0,0,0,0,0,0,0,0,0,0,0,0,0,0,0,0,0,0,0,0,0,0,0,0,0,0,0,0,0,0,0,0,0,0,0,0,0,0,0,0,0,0,0,0,0,0,0,0,0,0,0,0,0,0,0,0,0,0,0,0,0,0,0,0,0,5,0,5,0,0,0,5,0,0,0,0,0,0,0,0,0,0,0,0,0,0,0,0,0,0,0,0,0,0,0,0,0,0,0,0,0,0,0,0,0,0,0,0,0,0,0,0,0,0,0,0,0,0,0,0,0,0,0,0,0,0,0,0,0,0,0,0,0,0,0,0,0,0,0,0,0,0,0,0,0,0,0,0,0,0,0,0,0,0,0,0,0,0,0,0,0,0,0,0,0,0,0,0,0,0,0,0,0,0,0,0,0,0,0,0,0,0,0,0,0,0,0,0,0,0,0,0,0,0,0,0,0,0,0,0,0,0,0,0,0,0,0,0,0,0,0,0,0,0,0,0,0]
[3,9,12,12,0,12,0,0,0,12,0,0,12,0,1,1,1,0,0,0,0,0,1,1,1,0,0,0,0,0,0,0,0,0,0,0,0,0,0,0,0,0,0,0,0,0,1,0,0,0,0,0,0,0,0,0,0,0,0,0,0,0,0,0,0,0,0,0,0,0,0,0,0,0,0,0,0,8,12,12,0,12,0,0,0,12,0,0,12,1,1,1,1,0,0,0,0,1,1,1,1,0,0,0,0,0,0,0,0,0,0,0,0,0,0,0,0,0,0,0,0,1,1,0,0,0,0,0,0,1,0,0,0,0,0,0,0,0,0,0,0,0,0,0,0,0,0,0,0,0,0,0,0,0,0,0,0,0,0,0,0,0,0,0,0,0,0,0,0,0,0,0,0,0,0,0,0,0,0,0,0,0,0,0,0,0,0,0,0,0,0,0,0,0,0,0,0,0,0,0,0,0,0,0,0,0,0,0,0,0,0,0,0,0,0,0,0,0,0,0,0,0,0,0,0,0,0,0,0,0,0]
[4,0,0,12,0,11,0,0,0,12,0,0,11,0,0,0,0,0,0,0,0,0,0,0,0,0,0,0,0,0,0,0,0,0,0,0,0,0,0,0,0,0,0,0,0,0,0,0,0,0,0,0,0,0,0,0,0,0,0,0,0,0,0,0,0,0,0,0,0,0,0,0,0,0,0,0,0,0,0,9,0,9,0,0,0,9,0,0,9,0,0,0,0,0,0,0,0,0,0,0,0,0,0,0,0,0,0,0,0,0,0,0,0,0,0,0,0,0,0,0,0,0,0,0,0,0,0,0,0,0,0,0,0,0,0,0,0,0,0,0,0,0,0,0,0,0,0,0,0,0,0,0,0,0,0,0,0,0,0,0,0,0,0,0,0,0,0,0,0,0,0,0,0,0,0,0,0,0,0,0,0,0,0,0,0,0,0,0,0,0,0,0,0,0,0,0,0,0,0,0,0,0,0,0,0,0,0,0,0,0,0,0,0,0,0,0,0,0,0,0,0,0,0,0,0,0,0,0,0,0,0]
[5,0,0,16,0,16,0,0,0,16,0,0,16,0,0,0,0,0,0,0,0,0,0,0,0,0,0,0,0,0,0,0,0,0,0,0,0,0,0,0,0,0,0,0,0,0,0,0,0,0,0,0,0,0,0,0,0,0,0,0,0,0,0,0,0,0,0,0,0,0,0,0,0,0,0,0,0,0,0,4,0,4,0,0,0,4,0,0,4,0,0,0,0,0,0,0,0,0,0,0,0,0,0,0,0,0,0,0,0,0,0,0,0,0,0,0,0,0,0,0,0,0,0,0,0,0,0,0,0,0,0,0,0,0,0,0,0,0,0,0,0,0,0,0,0,0,0,0,0,0,0,0,0,0,0,0,0,0,0,0,0,0,0,0,0,0,0,0,0,0,0,0,0,0,0,0,0,0,0,0,0,0,0,0,0,0,0,0,0,0,0,0,0,0,0,0,0,0,0,0,0,0,0,0,0,0,0,0,0,0,0,0,0,0,0,0,0,0,0,0,0,0,0,0,0,0,0,0,0,0,0]
[6,0,0,16,0,11,0,0,0,16,0,0,16,0,0,0,0,0,0,0,0,0,0,0,0,0,0,0,0,0,0,0,0,0,0,0,0,0,0,0,0,0,0,0,0,0,0,0,0,0,0,0,0,0,0,0,0,0,0,0,0,0,0,0,0,0,0,0,0,0,0,0,0,0,0,0,0,0,0,16,0,9,0,0,0,16,0,0,16,0,0,0,0,0,0,0,0,0,0,0,0,0,0,0,0,0,0,0,0,0,0,0,0,0,0,0,0,0,0,0,0,0,0,0,0,0,0,0,0,0,0,0,0,0,0,0,0,0,0,0,0,0,0,0,0,0,0,0,0,0,0,0,0,0,0,1,0,0,0,0,0,1,0,0,1,0,0,0,0,0,0,0,0,0,0,0,0,0,0,0,0,0,0,0,0,0,0,0,0,0,0,0,0,0,0,0,0,0,0,0,0,0,0,0,0,0,0,0,0,0,0,0,0,0,0,0,0,0,0,0,0,0,0,0,0,0,0,0,0,0,0]
[7,0,0,19,0,17,0,0,0,19,0,0,19,0,0,0,0,0,0,0,0,0,0,0,0,0,0,0,0,0,0,0,0,0,0,0,0,0,0,0,0,0,0,0,0,0,0,0,0,0,0,0,0,0,0,0,0,0,0,0,0,0,0,0,0,0,0,0,0,0,0,0,0,0,0,0,0,0,0,9,0,9,0,0,0,9,0,0,9,0,0,0,0,0,0,0,0,0,0,0,0,0,0,0,0,0,0,0,0,0,0,0,0,0,0,0,0,0,0,0,0,0,0,0,0,0,0,0,0,0,0,0,0,0,0,0,0,0,0,0,0,0,0,0,0,0,0,0,0,0,0,0,0,0,0,0,0,0,0,0,0,0,0,0,0,0,0,0,0,0,0,0,0,0,0,0,0,0,0,0,0,0,0,0,0,0,0,0,0,0,0,0,0,0,0,0,0,0,0,0,0,0,0,0,0,0,0,0,0,0,0,0,0,0,0,0,0,0,0,0,0,0,0,0,0,0,0,0,0,0,0]
[8,0,0,20,0,20,0,0,0,20,0,0,0,2,5,0,0,0,0,0,0,2,5,0,0,0,0,0,0,0,0,0,0,0,0,0,0,0,0,0,0,0,0,0,0,0,0,0,0,0,0,0,0,0,0,0,0,0,0,0,0,0,0,0,0,0,0,0,0,0,0,0,0,0,0,0,0,0,0,11,0,12,0,0,0,11,0,0,0,3,3,0,0,0,0,0,0,3,3,0,0,0,0,0,0,0,0,0,0,0,0,0,0,0,0,0,0,0,0,0,0,0,0,0,0,0,0,0,0,0,0,0,0,0,0,0,0,0,0,0,0,0,0,0,0,0,0,0,0,0,0,0,0,0,0,0,0,0,0,0,0,0,0,0,0,0,0,0,0,0,0,0,0,0,0,0,0,0,0,0,0,0,0,0,0,0,0,0,0,0,0,0,0,0,0,0,0,0,0,0,0,0,0,0,0,0,0,0,0,0,0,0,0,0,0,0,0,0,0,0,0,0,0,0,0,0,0,0,0,0,0]
[9,0,0,16,0,14,0,0,0,16,0,0,0,0,1,0,0,0,0,0,0,0,1,0,0,0,0,0,0,0,0,0,0,0,0,0,0,0,0,0,0,0,0,0,0,0,0,0,0,0,0,0,0,0,0,0,0,0,0,0,0,0,0,0,0,0,0,0,0,0,0,0,0,0,0,0,0,0,0,7,0,6,0,0,0,7,0,0,0,1,1,0,0,0,0,0,0,1,1,0,0,0,0,0,0,0,0,0,0,0,0,0,0,0,0,0,0,0,0,0,0,0,0,0,0,0,0,0,0,0,0,0,0,0,0,0,0,0,0,0,0,0,0,0,0,0,0,0,0,0,0,0,0,0,0,0,0,0,0,0,0,0,0,0,0,0,0,0,0,0,0,0,0,0,0,0,0,0,0,0,0,0,0,0,0,0,0,0,0,0,0,0,0,0,0,0,0,0,0,0,0,0,0,0,0,0,0,0,0,0,0,0,0,0,0,0,0,0,0,0,0,0,0,0,0,0,0,0,0,0,0]
[10,0,0,15,0,15,0,0,0,15,0,0,1,0,0,0,0,0,0,0,0,0,0,0,0,0,0,0,0,0,0,0,0,0,0,0,0,0,0,0,0,0,0,0,0,0,0,0,0,0,0,0,0,0,0,0,0,0,0,0,0,0,0,0,0,0,0,0,0,0,0,0,0,0,0,0,0,0,0,9,0,8,0,0,0,9,0,0,1,0,0,0,0,0,0,0,0,0,0,0,0,0,0,0,0,0,0,0,0,0,0,0,0,0,0,0,0,0,0,0,0,0,0,0,0,0,0,0,0,0,0,0,0,0,0,0,0,0,0,0,0,0,0,0,0,0,0,0,0,0,0,0,0,0,0,0,0,0,0,0,0,0,0,0,0,0,0,0,0,0,0,0,0,0,0,0,0,0,0,0,0,0,0,0,0,0,0,0,0,0,0,0,0,0,0,0,0,0,0,0,0,0,0,0,0,0,0,0,0,0,0,0,0,0,0,0,0,0,0,0,0,0,0,0,0,0,0,0,0,0,0]
[11,0,0,15,0,15,0,0,0,15,0,0,2,2,7,0,0,0,0,0,0,2,7,0,0,0,0,0,0,0,0,0,0,0,0,0,0,0,0,0,0,0,0,0,0,0,0,0,0,0,0,0,0,0,0,0,0,0,0,0,0,0,0,0,0,0,0,0,0,0,0,0,0,0,0,0,0,0,0,10,0,10,0,0,0,10,0,0,2,5,5,0,0,0,0,0,0,5,5,0,0,0,0,0,0,0,0,0,0,0,0,0,0,0,0,0,0,0,0,0,0,0,0,0,0,0,0,0,0,0,0,0,0,0,0,0,0,0,0,0,0,0,0,0,0,0,0,0,0,0,0,0,0,0,0,0,0,0,0,0,0,0,0,0,0,0,0,0,0,0,0,0,0,0,0,0,0,0,0,0,0,0,0,0,0,0,0,0,0,0,0,0,0,0,0,0,0,0,0,0,0,0,0,0,0,0,0,0,0,0,0,0,0,0,0,0,0,0,0,0,0,0,0,0,0,0,0,0,0,0,0]
["T",9,12,170,0,160,0,0,0,170,0,0,77,4,14,1,1,0,0,0,0,4,14,1,1,0,0,0,0,0,0,0,0,0,0,0,0,0,0,0,0,0,0,0,0,0,1,0,0,0,0,0,0,0,0,0,0,0,0,0,0,0,0,0,0,0,0,0,0,0,0,0,0,0,0,0,0,8,12,98,0,90,0,0,0,98,0,0,53,10,10,1,1,0,0,0,0,10,10,1,1,0,0,0,0,0,0,0,0,0,0,0,0,0,0,0,0,0,0,0,0,1,1,0,0,0,0,0,0,1,0,0,0,0,0,0,0,0,0,0,0,0,0,0,0,0,0,0,0,0,0,0,0,0,0,1,0,0,0,0,0,1,0,0,1,0,0,0,0,0,0,0,0,0,0,0,0,0,0,0,0,0,0,0,0,0,0,0,0,0,0,0,0,0,0,0,0,0,0,0,0,0,0,0,0,0,0,0,0,0,0,0,0,0,0,0,0,0,0,0,0,0,0,0,0,0,0,0,0,0,0]
[]
["TOTAL"]
[{"$f":"COUNT(A435:A446)","v":11},{"$f":"SUM(B435:B446)","v":18},{"$f":"SUM(C435:C446)","v":24},340,0,320,0,0,0,340,0,0,154,8,28,2,2,0,0,0,0,8,28,2,2,0,0,0,0,0,0,0,0,0,0,0,0,0,0,0,0,0,0,0,0,0,2,0,0,0,0,0,0,0,0,0,0,0,0,0,0,0,0,0,0,0,{"$f":"SUM(BO435:BO446)","v":0},0,0,0,0,0,0,0,0,0,0,16,24,196,0,180,0,0,0,196,0,0,106,20,20,2,2,0,0,0,0,20,20,2,2,0,0,0,0,0,0,0,0,0,0,0,0,0,0,0,0,0,0,0,0,2,2,0,0,0,0,0,0,2,{"$f":"SUM(EA435:EA446)","v":0},0,0,0,0,0,0,0,0,0,0,0,0,0,0,0,0,0,0,0,0,0,0,0,0,2,0,0,0,0,0,2,0,0,2,0,0,0,0,0,0,0,0,0,0,0,0,0,0,0,0,0,0,0,0,0,0,0,0,0,0,0,0,0,{"$f":"SUM(GM435:GM446)","v":0},0,0,0,0,0,0,0,0,0,0,0,0,0,0,0,0,0,0,0,0,0,0,0,0,0,0,0,0,0,0,0,0,0,0,0,0]
[{"$f":"CONCATENATE(A435,\"-\",A436,\"-\",A437,\"-\",A438,\"-\",A439,\"-\",A440,\"-\",A441,\"-\",A442,\"-\",A443,\"-\",A444,\"-\",A445,\"-\",A446)","v":"2-1-3-4-5-6-7-8-9-10-11-T"}]
[null," BAS001"," BAS002"," BAS003"," BAS004"," BAS005"," BAS006"," BAS007"," BAS008"," BAS009"," BAS010"," BAS011"," BAS012"," BAS013"," BAS014"," BAS015"," BAS016"," BAS017"," BAS018"," BAS019"," BAS020"," BAS021"," BAS022"," BAS023"," BAS024"," BAS025"," BAS026"," BAS027"," BAS028"," BAS029"," BAS030"," BAS031"," BAS032"," BAS033"," BAS034"," BAS035"," BAS036"," BAS037"," BAS038"," BAS039"," BAS040"," BAS041"," BAS042"," BAS043"," BAS044"," BAS045"," BAS046"," BAS047"," BAS048"," BAS049"," BAS050"," BAS051"," BAS052"," BAS053"," BAS054"," BAS055"," BAS056"," BAS057"," BAS058"," BAS059"," BAS060"," BAS061"," BAS062"," BAS063"," BAS064"," BAS065"," BAS066"," BAS067"," BAS068"," BAS069"," BAS070"," BAS071"," BAS072"," BAS073"," BAS074"," BAS075"," BAS076"," BAS077"," BAS078"," BAS079"," BAS080"," BAS081"," BAS082"," BAS083"," BAS084"," BAS085"," BAS086"," BAS087"," BAS088"," BAS089"," BAS090"," BAS091"," BAS092"," BAS093"," BAS094"," BAS095"," BAS096"," BAS097"," BAS098"," BAS099"," BAS100"," BAS101"," BAS102"," BAS103"," BAS104"," BAS105"," BAS106"," BAS107"," BAS108"," BAS109"," BAS110"," BAS111"," BAS112"," BAS113"," BAS114"," BAS115"," BAS116"," BAS117"," BAS118"," BAS119"," BAS120"," BAS121"," BAS122"," BAS123"," BAS124"," BAS125"," BAS126"," BAS127"," BAS128"," BAS129"," BAS130"," BAS131"," BAS132"," BAS133"," BAS134"," BAS135"," BAS136"," BAS137"," BAS138"," BAS139"," BAS140"," BAS141"," BAS142"," BAS143"," BAS144"," BAS145"," BAS146"," BAS147"," BAS148"," BAS149"," BAS150"," BAS151"," BAS152"," BAS153"," BAS154"," BAS155"," BAS156"," BAS157"," BAS158"," BAS159"," BAS160"," BAS161"," BAS162"," BAS163"," BAS164"," BAS165"," BAS166"," BAS167"," BAS168"," BAS169"," BAS170"," BAS171"," BAS172"," BAS173"," BAS174"," BAS175"," BAS176"," BAS177"," BAS178"," BAS179"," BAS180"," BAS181"," BAS182"," BAS183"," BAS184"," BAS185"," BAS186"," BAS187"," BAS188"," BAS189"," BAS190"," BAS191"," BAS192"," BAS193"," BAS194"," BAS195"," BAS196"," BAS197"," BAS198"," BAS199"," BAS200"," BAS201"," BAS202"," BAS203"," BAS204"," BAS205"," BAS206"," BAS207"," BAS208"," BAS209"," BAS210"," BAS211"," BAS212"," BAS213"," BAS214"," BAS215"," BAS216"," BAS217"," BAS218"," BAS219"," BAS220"," BAS221"," BAS222"," BAS223"," BAS224"," BAS225"," BAS226"," BAS227"," BAS228"," BAS229"," BAS230"]
[null,{"$f":"IF(B451=B434,\"SI\",\"NO\")","v":"SI"},{"$f":"IF(C451=C434,\"SI\",\"NO\")","v":"SI"},"SI","SI","SI","SI","SI","SI","SI","SI","SI","SI","SI","SI","SI","SI","SI","SI","SI","SI","SI","SI","SI","SI","SI","SI","SI","SI","SI","SI","SI","SI","SI","SI","SI","SI","SI","SI","SI","SI","SI","SI","SI","SI","SI","SI","SI","SI","SI","SI","SI","SI","SI","SI","SI","SI","SI","SI","SI","SI","SI","SI","SI","SI","SI",{"$f":"IF(BO451=BO434,\"SI\",\"NO\")","v":"SI"},"SI","SI","SI","SI","SI","SI","SI","SI","SI","SI","SI","SI","SI","SI","SI","SI","SI","SI","SI","SI","SI","SI","SI","SI","SI","SI","SI","SI","SI","SI","SI","SI","SI","SI","SI","SI","SI","SI","SI","SI","SI","SI","SI","SI","SI","SI","SI","SI","SI","SI","SI","SI","SI","SI","SI","SI","SI","SI","SI","SI","SI","SI","SI",{"$f":"IF(EA451=EA434,\"SI\",\"NO\")","v":"SI"},"SI","SI","SI","SI","SI","SI","SI","SI","SI","SI","SI","SI","SI","SI","SI","SI","SI","SI","SI","SI","SI","SI","SI","SI","SI","SI","SI","SI","SI","SI","SI","SI","SI","SI","SI","SI","SI","SI","SI","SI","SI","SI","SI","SI","SI","SI","SI","SI","SI","SI","SI","SI","SI","SI","SI","SI","SI","SI","SI","SI","SI","SI","SI",{"$f":"IF(GM451=GM434,\"SI\",\"NO\")","v":"SI"},"SI","SI","SI","SI","SI","SI","SI","SI","SI","SI","SI","SI","SI","SI","SI","SI","SI","SI","SI","SI","SI","SI","SI","SI","SI","SI","SI","SI","SI","SI","SI","SI","SI","SI","SI","SI"]
[]
["ITSVIHTRA"]
["anno",2024]
["cod_red","03"]
["codmic","(Todas)"]
["cod_prov","(Todas)"]
["coddist","(Todas)"]
["cod_estab","(Todas)"]
["cod_eje","(Todas)"]
[]
[null,"Valores"]
["Etiquetas de fila"," BAS001"," BAS002"," BAS003"," BAS004"," BAS005"," BAS006"," BAS007"," BAS008"," BAS009"," BAS010"," BAS011"," BAS012"," BAS013"," BAS014"," BAS015"," BAS016"," BAS017"," BAS018"," BAS019"," BAS020"," BAS021"," BAS022"," BAS023"," BAS024"," BAS025"," BAS026"," BAS027"," BAS028"," BAS029"," BAS030"," BAS031"," BAS032"," BAS033"," BAS034"," BAS035"," BAS036"," BAS037"," BAS038"," BAS039"," BAS040"," BAS041"," BAS042"," BAS043"," BAS044"," BAS045"," BAS046"," BAS047"," BAS048"," BAS049"," BAS050"," BAS051"," BAS052"," BAS053"," BAS054"," BAS055"," BAS056"," BAS057"," BAS058"," BAS059"," BAS060"," BAS061"," BAS062"," BAS063"," BAS064"," BAS065"," BAS066"," BAS067"," BAS068"," BAS069"," BAS070"," BAS071"," BAS072"," BAS073"," BAS074"," BAS075"," BAS076"," BAS077"," BAS078"," BAS079"," BAS080"," BAS081"," BAS082"," BAS083"," BAS084"," BAS085"," BAS086"," BAS087"," BAS088"," BAS089"," BAS090"," BAS091"," BAS092"," BAS093"," BAS094"," BAS095"," BAS096"," BAS097"," BAS098"," BAS099"," BAS100"," BAS101"," BAS102"," BAS103"," BAS104"," BAS105"," BAS106"," BAS107"," BAS108"," BAS109"," BAS110"," BAS111"," BAS112"," BAS113"," BAS114"," BAS115"," BAS116"," BAS117"," BAS118"," BAS119"," BAS120"," BAS121"," BAS122"," BAS123"," BAS124"," BAS125"," BAS126"," BAS127"," BAS128"," BAS129"," BAS130"," BAS131"," BAS132"," BAS133"," BAS134"," BAS135"," BAS136"," BAS137"," BAS138"," BAS139"," BAS140"," BAS141"," BAS142"," BAS143"," BAS144"," BAS145"," BAS146"," BAS147"," BAS148"," BAS149"," BAS150"," BAS151"," BAS152"," BAS153"," BAS154"," BAS155"," BAS156"," BAS157"," BAS158"," BAS159"," BAS160"," BAS161"," BAS162"," BAS163"," BAS164"," BAS165"," BAS166"," BAS167"," BAS168"," BAS169"," BAS170"," BAS171"," BAS172"," BAS173"," BAS174"," BAS175"," BAS176"," BAS177"," BAS178"," BAS179"," BAS180"," BAS181"," BAS182"," BAS183"," BAS184"," BAS185"," BAS186"," BAS187"," BAS188"," BAS189"," BAS190"," BAS191"," BAS192"," BAS193"," BAS194"," BAS195"," BAS196"," BAS197"," BAS198"," BAS199"," BAS200"," BAS201"," BAS202"," BAS203"," BAS204"," BAS205"," BAS206"," BAS207"," BAS208"," BAS209"," BAS210"," BAS211"," BAS212"," BAS213"," BAS214"," BAS215"," BAS216"," BAS217"," BAS218"," BAS219"," BAS220"," BAS221"," BAS222"," BAS223"," BAS224"," BAS225"," BAS226"," BAS227"," BAS228"," BAS229"," BAS230"]
[2,0,0,0,0,0,0,0,0,0,0,0,0,0,0,0,0,0,0,0,0,0,0,0,0,0,0,0,0,0,0,0,0,0,0,0,0,0,0,0,0,0,0,0,0,0,0,0,0,0,0,0,0,0,0,0,0,0,0,0,0,0,0,0,0,0,0,0,0,0,0,0,0,0,0,0,0,0,0,0,0,0,0,0,0,0,0,0,0,0,0,0,0,0,0,0,0,0,0,0,0,0,0,0,0,0,0,0,0,0,0,0,0,0,0,0,0,0,0,0,0,0,0,0,0,0,0,0,0,0,0,0,0,0,0,0,0,0,0,0,0,0,0,0,0,0,0,0,0,0,0,0,0,0,0,0,0,0,0,0,0,0,0,0,0,0,0,0,0,0,0,0,0,0,0,0,0,0,0,0,0,0,0,0,0,0,0,0,0,0,0,0,0,0,0,0,0,0,0,0,0,0,0,0,0,0,0,0,0,0,0,0,0,0,0,0,0,0,0,0,0,0,0,0,0,0,0,0,0,0,0]
[3,0,0,0,0,0,0,0,0,0,0,0,0,0,0,0,0,0,0,0,0,0,0,0,0,0,0,0,0,0,0,0,0,0,0,0,0,0,0,0,0,0,0,0,0,0,0,0,0,0,0,0,0,0,0,0,0,0,0,0,0,0,0,0,0,0,0,0,0,0,0,0,0,0,0,0,0,0,0,0,0,0,0,0,0,0,0,0,0,0,0,0,0,0,0,0,0,0,0,0,0,0,0,0,0,0,0,0,0,0,0,0,0,0,0,0,0,0,0,0,0,0,0,0,0,0,0,0,0,0,0,0,0,0,0,0,0,0,0,0,0,0,0,0,0,0,0,0,0,0,0,0,0,0,0,0,0,0,0,0,0,0,0,0,0,0,0,0,0,0,0,0,0,0,0,0,0,0,0,0,0,0,0,0,0,0,0,0,0,0,0,0,0,0,0,0,0,0,0,0,0,0,0,0,0,0,0,0,0,0,0,0,0,0,0,0,0,0,0,0,0,0,0,0,0,0,0,0,0,0,0]
[1,0,0,0,0,0,0,0,0,0,0,0,0,0,0,0,0,0,0,0,0,0,0,0,0,0,0,0,0,0,0,0,0,0,0,0,0,0,0,0,0,0,0,0,0,0,0,0,0,0,0,0,0,0,0,0,0,0,0,0,0,0,0,0,0,0,0,0,0,0,0,0,0,0,0,0,0,0,0,0,0,0,0,0,0,0,0,0,0,0,0,0,0,0,0,0,0,0,0,0,0,0,0,0,0,0,0,0,0,0,0,0,0,0,0,0,0,0,0,0,0,0,0,0,0,0,0,0,0,0,0,0,0,0,0,0,0,0,0,0,0,0,0,0,0,0,0,0,0,0,0,0,0,0,0,0,0,0,0,0,0,0,0,0,0,0,0,0,0,0,0,0,0,0,0,0,0,0,0,0,0,0,0,0,0,0,0,0,0,0,0,0,0,0,0,0,0,0,0,0,0,0,0,0,0,0,0,0,0,0,0,0,0,0,0,0,0,0,0,0,0,0,0,0,0,0,0,0,0,0,0]
[4,0,0,0,0,0,0,0,0,0,0,0,0,0,0,0,0,0,0,0,0,0,0,0,0,0,0,0,0,0,0,0,0,0,0,0,0,0,0,0,0,0,0,0,0,0,0,0,0,0,0,0,0,0,0,0,0,0,0,0,0,0,0,0,0,0,0,0,0,0,0,0,0,0,0,0,0,0,0,0,0,0,0,0,0,0,0,0,0,0,0,0,0,0,0,0,0,0,0,0,0,0,0,0,0,0,0,0,0,0,0,0,0,0,0,0,0,0,0,0,0,0,0,0,0,0,0,0,0,0,0,0,0,0,0,0,0,0,0,0,0,0,0,0,0,0,0,0,0,0,0,0,0,0,0,0,0,0,0,0,0,0,0,0,0,0,0,0,0,0,0,0,0,0,0,0,0,0,0,0,0,0,0,0,0,0,0,0,0,0,0,0,0,0,0,0,0,0,0,0,0,0,0,0,0,0,0,0,0,0,0,0,0,0,0,0,0,0,0,0,0,0,0,0,0,0,0,0,0,0,0]
[5,0,0,0,0,0,0,0,0,0,0,0,0,0,0,0,0,0,0,0,0,0,0,0,0,0,0,0,0,0,0,0,0,0,0,0,0,0,0,0,0,0,0,0,0,0,0,0,0,0,0,0,0,0,0,0,0,0,0,0,0,0,0,0,0,0,0,0,0,0,0,0,0,0,0,0,0,0,0,0,0,0,0,0,0,0,0,0,0,0,0,0,0,0,0,0,0,0,0,0,0,0,0,0,0,0,0,0,0,0,0,0,0,0,0,0,0,0,0,0,0,0,0,0,0,0,0,0,0,0,0,0,0,0,0,0,0,0,0,0,0,0,0,0,0,0,0,0,0,0,0,0,0,0,0,0,0,0,0,0,0,0,0,0,0,0,0,0,0,0,0,0,0,0,0,0,0,0,0,0,0,0,0,0,0,0,0,0,0,0,0,0,0,0,0,0,0,0,0,0,0,0,0,0,0,0,0,0,0,0,0,0,0,0,0,0,0,0,0,0,0,0,0,0,0,0,0,0,0,0,0]
[6,0,0,0,0,0,0,0,0,0,0,0,0,0,0,0,0,0,0,0,0,0,0,0,0,0,0,0,0,0,0,0,0,0,0,0,0,0,0,0,0,0,0,0,0,0,0,0,0,0,0,0,0,0,0,0,0,0,0,0,0,0,0,0,0,0,0,0,0,0,0,0,0,0,0,0,0,0,0,0,0,0,0,0,0,0,0,0,0,0,0,0,0,0,0,0,0,0,0,0,0,0,0,0,0,0,0,0,0,0,0,0,0,0,0,0,0,0,0,0,0,0,0,0,0,0,0,0,0,0,0,0,0,0,0,0,0,0,0,0,0,0,0,0,0,0,0,0,0,0,0,0,0,0,0,0,0,0,0,0,0,0,0,0,0,0,0,0,0,0,0,0,0,0,0,0,0,0,0,0,0,0,0,0,0,0,0,0,0,0,0,0,0,0,0,0,0,0,0,0,0,0,0,0,0,0,0,0,0,0,0,0,0,0,0,0,0,0,0,0,0,0,0,0,0,0,0,0,0,0,0]
[7,0,0,0,0,0,0,0,0,0,0,0,0,0,0,0,0,0,0,0,0,0,0,0,0,0,0,0,0,0,0,0,0,0,0,0,0,0,0,0,0,0,0,0,0,0,0,0,0,0,0,0,0,0,0,0,0,0,0,0,0,0,0,0,0,0,0,0,0,0,0,0,0,0,0,0,0,0,0,0,0,0,0,0,0,0,0,0,0,0,0,0,0,0,0,0,0,0,0,0,0,0,0,0,0,0,0,0,0,0,0,0,0,0,0,0,0,0,0,0,0,0,0,0,0,0,0,0,0,0,0,0,0,0,0,0,0,0,0,0,0,0,0,0,0,0,0,0,0,0,0,0,0,0,0,0,0,0,0,0,0,0,0,0,0,0,0,0,0,0,0,0,0,0,0,0,0,0,0,0,0,0,0,0,0,0,0,0,0,0,0,0,0,0,0,0,0,0,0,0,0,0,0,0,0,0,0,0,0,0,0,0,0,0,0,0,0,0,0,0,0,0,0,0,0,0,0,0,0,0,0]
[8,0,0,0,0,1,0,0,0,0,0,0,0,0,0,0,0,0,0,0,0,0,0,0,0,0,0,0,0,0,0,0,0,0,0,0,0,0,0,0,0,0,0,0,0,0,0,0,0,0,0,0,0,0,0,0,0,0,0,0,0,0,0,0,0,0,0,0,0,0,0,0,0,0,0,0,0,0,0,0,0,3,0,0,0,0,0,0,0,0,0,0,0,0,0,0,0,0,0,0,0,0,0,0,0,0,0,0,0,0,0,0,0,0,0,0,0,0,0,0,0,0,0,0,0,0,0,0,0,0,0,0,0,0,0,0,0,0,0,0,0,0,0,0,0,0,0,0,0,0,0,0,0,0,0,0,0,0,0,0,0,0,0,0,0,0,0,0,0,0,0,0,0,0,0,0,0,0,0,0,0,0,0,0,0,0,0,0,0,0,0,0,0,0,0,0,0,0,0,0,0,0,0,0,0,0,0,0,0,0,0,0,0,0,0,0,0,0,0,0,0,0,0,0,0,0,0,0,0,0,0]
[9,0,0,0,0,0,0,0,0,0,0,0,0,0,0,0,0,0,0,0,0,0,0,0,0,0,0,0,0,0,0,0,0,0,0,0,0,0,0,0,0,0,0,0,0,0,0,0,0,0,0,0,0,0,0,0,0,0,0,0,0,0,0,0,0,0,0,0,0,0,0,0,0,0,0,0,0,0,0,0,0,0,0,0,0,0,0,0,0,0,0,0,0,0,0,0,0,0,0,0,0,0,0,0,0,0,0,0,0,0,0,0,0,0,0,0,0,0,0,0,0,0,0,0,0,0,0,0,0,0,0,0,0,0,0,0,0,0,0,0,0,0,0,0,0,0,0,0,0,0,0,0,0,0,0,0,0,0,0,0,0,0,0,0,0,0,0,0,0,0,0,0,0,0,0,0,0,0,0,0,0,0,0,0,0,0,0,0,0,0,0,0,0,0,0,0,0,0,0,0,0,0,0,0,0,0,0,0,0,0,0,0,0,0,0,0,0,0,0,0,0,0,0,0,0,0,0,0,0,0,0]
[10,0,0,0,0,0,0,0,0,0,0,0,0,0,0,0,0,0,0,0,0,0,0,0,0,0,0,0,0,0,0,0,0,0,0,0,0,0,0,0,0,0,0,0,0,0,0,0,0,0,0,0,0,0,0,0,0,0,0,0,0,0,0,0,0,0,0,0,0,0,0,0,0,0,0,0,0,0,0,0,0,0,0,0,0,0,0,0,0,0,0,0,0,0,0,0,0,0,0,0,0,0,0,0,0,0,0,0,0,0,0,0,0,0,0,0,0,0,0,0,0,0,0,0,0,0,0,0,0,0,0,0,0,0,0,0,0,0,0,0,0,0,0,0,0,0,0,0,0,0,0,0,0,0,0,0,0,0,0,0,0,0,0,0,0,0,0,0,0,0,0,0,0,0,0,0,0,0,0,0,0,0,0,0,0,0,0,0,0,0,0,0,0,0,0,0,0,0,0,0,0,0,0,0,0,0,0,0,0,0,0,0,0,0,0,0,0,0,0,0,0,0,0,0,0,0,0,0,0,0,0]
[11,0,0,0,0,0,0,0,0,0,0,0,0,0,0,0,0,0,0,0,0,0,0,0,0,0,0,0,0,0,0,0,0,0,0,0,0,0,0,0,0,0,0,0,0,0,0,0,0,0,0,0,0,0,0,0,0,0,0,0,0,0,0,0,0,0,0,0,0,0,0,0,0,0,0,0,0,0,0,0,0,0,0,0,0,0,0,0,0,0,0,0,0,0,0,0,0,0,0,0,0,0,0,0,0,0,0,0,0,0,0,0,0,0,0,0,0,0,0,0,0,0,0,0,0,0,0,0,0,0,0,0,0,0,0,0,0,0,0,0,0,0,0,0,0,0,0,0,0,0,0,0,0,0,0,0,0,0,0,0,0,0,0,0,0,0,0,0,0,0,0,0,0,0,0,0,0,0,0,0,0,0,0,0,0,0,0,0,0,0,0,0,0,0,0,0,0,0,0,0,0,0,0,0,0,0,0,0,0,0,0,0,0,0,0,0,0,0,0,0,0,0,0,0,0,0,0,0,0,0,0]
["T",0,0,0,0,1,0,0,0,0,0,0,0,0,0,0,0,0,0,0,0,0,0,0,0,0,0,0,0,0,0,0,0,0,0,0,0,0,0,0,0,0,0,0,0,0,0,0,0,0,0,0,0,0,0,0,0,0,0,0,0,0,0,0,0,0,0,0,0,0,0,0,0,0,0,0,0,0,0,0,0,3,0,0,0,0,0,0,0,0,0,0,0,0,0,0,0,0,0,0,0,0,0,0,0,0,0,0,0,0,0,0,0,0,0,0,0,0,0,0,0,0,0,0,0,0,0,0,0,0,0,0,0,0,0,0,0,0,0,0,0,0,0,0,0,0,0,0,0,0,0,0,0,0,0,0,0,0,0,0,0,0,0,0,0,0,0,0,0,0,0,0,0,0,0,0,0,0,0,0,0,0,0,0,0,0,0,0,0,0,0,0,0,0,0,0,0,0,0,0,0,0,0,0,0,0,0,0,0,0,0,0,0,0,0,0,0,0,0,0,0,0,0,0,0,0,0,0,0,0,0]
[]
["TOTAL"]
[{"$f":"COUNT(A465:A476)","v":11},{"$f":"SUM(B465:B476)","v":0},{"$f":"SUM(C465:C476)","v":0},0,0,2,0,0,0,0,0,0,0,0,0,0,0,0,0,0,0,0,0,0,0,0,0,0,0,0,0,0,0,0,0,0,0,0,0,0,0,0,0,0,0,0,0,0,0,0,0,0,0,0,0,0,0,0,0,0,0,0,0,0,0,0,{"$f":"SUM(BO465:BO476)","v":0},0,0,0,0,0,0,0,0,0,0,0,0,0,0,6,0,0,0,0,0,0,0,0,0,0,0,0,0,0,0,0,0,0,0,0,0,0,0,0,0,0,0,0,0,0,0,0,0,0,0,0,0,0,0,0,0,0,0,0,0,0,0,0,{"$f":"SUM(EA465:EA476)","v":0},0,0,0,0,0,0,0,0,0,0,0,0,0,0,0,0,0,0,0,0,0,0,0,0,0,0,0,0,0,0,0,0,0,0,0,0,0,0,0,0,0,0,0,0,0,0,0,0,0,0,0,0,0,0,0,0,0,0,0,0,0,0,0,{"$f":"SUM(GM465:GM476)","v":0},0,0,0,0,0,0,0,0,0,0,0,0,0,0,0,0,0,0,0,0,0,0,0,0,0,0,0,0,0,0,0,0,0,0,0,0]
[{"$f":"CONCATENATE(A465,\"-\",A466,\"-\",A467,\"-\",A468,\"-\",A469,\"-\",A470,\"-\",A471,\"-\",A472,\"-\",A473,\"-\",A474,\"-\",A475,\"-\",A476)","v":"2-3-1-4-5-6-7-8-9-10-11-T"}]
[null," BAS001"," BAS002"," BAS003"," BAS004"," BAS005"," BAS006"," BAS007"," BAS008"," BAS009"," BAS010"," BAS011"," BAS012"," BAS013"," BAS014"," BAS015"," BAS016"," BAS017"," BAS018"," BAS019"," BAS020"," BAS021"," BAS022"," BAS023"," BAS024"," BAS025"," BAS026"," BAS027"," BAS028"," BAS029"," BAS030"," BAS031"," BAS032"," BAS033"," BAS034"," BAS035"," BAS036"," BAS037"," BAS038"," BAS039"," BAS040"," BAS041"," BAS042"," BAS043"," BAS044"," BAS045"," BAS046"," BAS047"," BAS048"," BAS049"," BAS050"," BAS051"," BAS052"," BAS053"," BAS054"," BAS055"," BAS056"," BAS057"," BAS058"," BAS059"," BAS060"," BAS061"," BAS062"," BAS063"," BAS064"," BAS065"," BAS066"," BAS067"," BAS068"," BAS069"," BAS070"," BAS071"," BAS072"," BAS073"," BAS074"," BAS075"," BAS076"," BAS077"," BAS078"," BAS079"," BAS080"," BAS081"," BAS082"," BAS083"," BAS084"," BAS085"," BAS086"," BAS087"," BAS088"," BAS089"," BAS090"," BAS091"," BAS092"," BAS093"," BAS094"," BAS095"," BAS096"," BAS097"," BAS098"," BAS099"," BAS100"," BAS101"," BAS102"," BAS103"," BAS104"," BAS105"," BAS106"," BAS107"," BAS108"," BAS109"," BAS110"," BAS111"," BAS112"," BAS113"," BAS114"," BAS115"," BAS116"," BAS117"," BAS118"," BAS119"," BAS120"," BAS121"," BAS122"," BAS123"," BAS124"," BAS125"," BAS126"," BAS127"," BAS128"," BAS129"," BAS130"," BAS131"," BAS132"," BAS133"," BAS134"," BAS135"," BAS136"," BAS137"," BAS138"," BAS139"," BAS140"," BAS141"," BAS142"," BAS143"," BAS144"," BAS145"," BAS146"," BAS147"," BAS148"," BAS149"," BAS150"," BAS151"," BAS152"," BAS153"," BAS154"," BAS155"," BAS156"," BAS157"," BAS158"," BAS159"," BAS160"," BAS161"," BAS162"," BAS163"," BAS164"," BAS165"," BAS166"," BAS167"," BAS168"," BAS169"," BAS170"," BAS171"," BAS172"," BAS173"," BAS174"," BAS175"," BAS176"," BAS177"," BAS178"," BAS179"," BAS180"," BAS181"," BAS182"," BAS183"," BAS184"," BAS185"," BAS186"," BAS187"," BAS188"," BAS189"," BAS190"," BAS191"," BAS192"," BAS193"," BAS194"," BAS195"," BAS196"," BAS197"," BAS198"," BAS199"," BAS200"," BAS201"," BAS202"," BAS203"," BAS204"," BAS205"," BAS206"," BAS207"," BAS208"," BAS209"," BAS210"," BAS211"," BAS212"," BAS213"," BAS214"," BAS215"," BAS216"," BAS217"," BAS218"," BAS219"," BAS220"," BAS221"," BAS222"," BAS223"," BAS224"," BAS225"," BAS226"," BAS227"," BAS228"," BAS229"," BAS230"]
[null,{"$f":"IF(B481=B464,\"SI\",\"NO\")","v":"SI"},{"$f":"IF(C481=C464,\"SI\",\"NO\")","v":"SI"},"SI","SI","SI","SI","SI","SI","SI","SI","SI","SI","SI","SI","SI","SI","SI","SI","SI","SI","SI","SI","SI","SI","SI","SI","SI","SI","SI","SI","SI","SI","SI","SI","SI","SI","SI","SI","SI","SI","SI","SI","SI","SI","SI","SI","SI","SI","SI","SI","SI","SI","SI","SI","SI","SI","SI","SI","SI","SI","SI","SI","SI","SI","SI",{"$f":"IF(BO481=BO464,\"SI\",\"NO\")","v":"SI"},"SI","SI","SI","SI","SI","SI","SI","SI","SI","SI","SI","SI","SI","SI","SI","SI","SI","SI","SI","SI","SI","SI","SI","SI","SI","SI","SI","SI","SI","SI","SI","SI","SI","SI","SI","SI","SI","SI","SI","SI","SI","SI","SI","SI","SI","SI","SI","SI","SI","SI","SI","SI","SI","SI","SI","SI","SI","SI","SI","SI","SI","SI","SI",{"$f":"IF(EA481=EA464,\"SI\",\"NO\")","v":"SI"},"SI","SI","SI","SI","SI","SI","SI","SI","SI","SI","SI","SI","SI","SI","SI","SI","SI","SI","SI","SI","SI","SI","SI","SI","SI","SI","SI","SI","SI","SI","SI","SI","SI","SI","SI","SI","SI","SI","SI","SI","SI","SI","SI","SI","SI","SI","SI","SI","SI","SI","SI","SI","SI","SI","SI","SI","SI","SI","SI","SI","SI","SI","SI",{"$f":"IF(GM481=GM464,\"SI\",\"NO\")","v":"SI"},"SI","SI","SI","SI","SI","SI","SI","SI","SI","SI","SI","SI","SI","SI","SI","SI","SI","SI","SI","SI","SI","SI","SI","SI","SI","SI","SI","SI","SI","SI","SI","SI","SI","SI","SI","SI"]
[]
[]
[]
["ITSVIHHTS "]
["anno",2024]
["cod_red","03"]
["codmic","(Todas)"]
["cod_prov","(Todas)"]
["coddist","(Todas)"]
["cod_estab","(Todas)"]
["cod_eje","(Todas)"]
[]
[null,"Valores"]
["Etiquetas de fila"," BAS001"," BAS002"," BAS003"," BAS004"," BAS005"," BAS006"," BAS007"," BAS008"," BAS009"," BAS010"," BAS011"," BAS012"," BAS013"," BAS014"," BAS015"," BAS016"," BAS017"," BAS018"," BAS019"," BAS020"," BAS021"," BAS022"," BAS023"," BAS024"," BAS025"," BAS026"," BAS027"," BAS028"," BAS029"," BAS030"," BAS031"," BAS032"," BAS033"," BAS034"," BAS035"," BAS036"," BAS037"," BAS038"," BAS039"," BAS040"," BAS041"," BAS042"," BAS043"," BAS044"," BAS045"," BAS046"," BAS047"," BAS048"," BAS049"," BAS050"," BAS051"," BAS052"," BAS053"," BAS054"," BAS055"," BAS056"," BAS057"," BAS058"," BAS059"," BAS060"," BAS061"," BAS062"," BAS063"," BAS064"," BAS065"," BAS066"," BAS067"," BAS068"," BAS069"," BAS070"," BAS071"," BAS072"," BAS073"," BAS074"," BAS075"," BAS076"," BAS077"," BAS078"," BAS079"," BAS080"," BAS081"," BAS082"," BAS083"," BAS084"," BAS085"," BAS086"," BAS087"," BAS088"," BAS089"," BAS090"," BAS091"," BAS092"," BAS093"," BAS094"," BAS095"," BAS096"," BAS097"," BAS098"," BAS099"," BAS100"," BAS101"," BAS102"," BAS103"," BAS104"," BAS105"," BAS106"," BAS107"," BAS108"," BAS109"," BAS110"," BAS111"," BAS112"," BAS113"," BAS114"," BAS115"," BAS116"," BAS117"," BAS118"," BAS119"," BAS120"," BAS121"," BAS122"," BAS123"," BAS124"," BAS125"," BAS126"," BAS127"," BAS128"," BAS129"," BAS130"," BAS131"," BAS132"," BAS133"," BAS134"," BAS135"," BAS136"," BAS137"," BAS138"," BAS139"," BAS140"," BAS141"," BAS142"," BAS143"," BAS144"," BAS145"," BAS146"," BAS147"," BAS148"," BAS149"," BAS150"," BAS151"," BAS152"," BAS153"," BAS154"," BAS155"," BAS156"," BAS157"," BAS158"," BAS159"," BAS160"," BAS161"," BAS162"," BAS163"," BAS164"," BAS165"," BAS166"," BAS167"," BAS168"," BAS169"," BAS170"," BAS171"," BAS172"," BAS173"," BAS174"," BAS175"," BAS176"," BAS177"," BAS178"," BAS179"," BAS180"," BAS181"," BAS182"," BAS183"," BAS184"," BAS185"," BAS186"," BAS187"," BAS188"," BAS189"," BAS190"," BAS191"," BAS192"," BAS193"," BAS194"," BAS195"," BAS196"," BAS197"," BAS198"," BAS199"," BAS200"," BAS201"," BAS202"," BAS203"," BAS204"," BAS205"," BAS206"," BAS207"," BAS208"," BAS209"," BAS210"," BAS211"," BAS212"," BAS213"," BAS214"," BAS215"," BAS216"," BAS217"," BAS218"," BAS219"," BAS220"," BAS221"," BAS222"," BAS223"," BAS224"," BAS225"," BAS226"," BAS227"," BAS228"," BAS229"," BAS230"]
[2,0,0,0,0,0,0,0,0,0,0,0,0,0,0,0,0,0,0,0,0,0,0,0,0,0,0,0,0,0,0,0,0,0,0,0,0,0,0,0,0,0,0,0,0,0,0,0,0,0,0,0,0,0,0,0,0,0,0,0,0,0,0,0,0,0,0,0,0,0,0,0,0,0,0,0,0,0,0,0,0,0,0,0,0,0,0,0,0,0,0,0,0,0,0,0,0,0,0,0,0,0,0,0,0,0,0,0,0,0,0,0,0,0,0,0,0,0,0,0,0,0,0,0,0,0,0,0,0,0,0,0,0,0,0,0,0,0,0,0,0,0,0,0,0,0,0,0,0,0,0,0,0,0,0,0,0,0,0,0,0,0,0,0,0,0,0,0,0,0,0,0,0,0,0,0,0,0,0,0,0,0,0,0,0,0,0,0,0,0,0,0,0,0,0,0,0,0,0,0,0,0,0,0,0,0,0,0,0,0,0,0,0,0,0,0,0,0,0,0,0,0,0,0,0,0,0,0,0,0,0]
[3,0,0,0,0,0,0,0,0,0,0,0,0,0,0,0,0,0,0,0,0,0,0,0,0,0,0,0,0,0,0,0,0,0,0,0,0,0,0,0,0,0,0,0,0,0,0,0,0,0,0,0,0,0,0,0,0,0,0,0,0,0,0,0,0,0,0,0,0,0,0,0,0,0,0,0,0,0,0,0,0,0,0,0,0,0,0,0,0,0,0,0,0,0,0,0,0,0,0,0,0,0,0,0,0,0,0,0,0,0,0,0,0,0,0,0,0,0,0,0,0,0,0,0,0,0,0,0,0,0,0,0,0,0,0,0,0,0,0,0,0,0,0,0,0,0,0,0,0,0,0,0,0,0,0,0,0,0,0,0,0,0,0,0,0,0,0,0,0,0,0,0,0,0,0,0,0,0,0,0,0,0,0,0,0,0,0,0,0,0,0,0,0,0,0,0,0,0,0,0,0,0,0,0,0,0,0,0,0,0,0,0,0,0,0,0,0,0,0,0,0,0,0,0,0,0,0,0,0,0,0]
[1,0,0,0,0,0,0,0,0,0,0,0,0,0,0,0,0,0,0,0,0,0,0,0,0,0,0,0,0,0,0,0,0,0,0,0,0,0,0,0,0,0,0,0,0,0,0,0,0,0,0,0,0,0,0,0,0,0,0,0,0,0,0,0,0,0,0,0,0,0,0,0,0,0,0,0,0,0,0,0,0,0,0,0,0,0,0,0,0,0,0,0,0,0,0,0,0,0,0,0,0,0,0,0,0,0,0,0,0,0,0,0,0,0,0,0,0,0,0,0,0,0,0,0,0,0,0,0,0,0,0,0,0,0,0,0,0,0,0,0,0,0,0,0,0,0,0,0,0,0,0,0,0,0,0,0,0,0,0,0,0,0,0,0,0,0,0,0,0,0,0,0,0,0,0,0,0,0,0,0,0,0,0,0,0,0,0,0,0,0,0,0,0,0,0,0,0,0,0,0,0,0,0,0,0,0,0,0,0,0,0,0,0,0,0,0,0,0,0,0,0,0,0,0,0,0,0,0,0,0,0]
[4,0,0,0,0,0,0,0,0,0,0,0,0,0,0,0,0,0,0,0,0,0,0,0,0,0,0,0,0,0,0,0,0,0,0,0,0,0,0,0,0,0,0,0,0,0,0,0,0,0,0,0,0,0,0,0,0,0,0,0,0,0,0,0,0,0,0,0,0,0,0,0,0,0,0,0,0,0,0,0,0,0,0,0,0,0,0,0,0,0,0,0,0,0,0,0,0,0,0,0,0,0,0,0,0,0,0,0,0,0,0,0,0,0,0,0,0,0,0,0,0,0,0,0,0,0,0,0,0,0,0,0,0,0,0,0,0,0,0,0,0,0,0,0,0,0,0,0,0,0,0,0,0,0,0,0,0,0,0,0,0,0,0,0,0,0,0,0,0,0,0,0,0,0,0,0,0,0,0,0,0,0,0,0,0,0,0,0,0,0,0,0,0,0,0,0,0,0,0,0,0,0,0,0,0,0,0,0,0,0,0,0,0,0,0,0,0,0,0,0,0,0,0,0,0,0,0,0,0,0,0]
[5,0,0,0,0,0,0,0,0,0,0,0,0,0,0,0,0,0,0,0,0,0,0,0,0,0,0,0,0,0,0,0,0,0,0,0,0,0,0,0,0,0,0,0,0,0,0,0,0,0,0,0,0,0,0,0,0,0,0,0,0,0,0,0,0,0,0,0,0,0,0,0,0,0,0,0,0,0,0,0,0,0,0,0,0,0,0,0,0,0,0,0,0,0,0,0,0,0,0,0,0,0,0,0,0,0,0,0,0,0,0,0,0,0,0,0,0,0,0,0,0,0,0,0,0,0,0,0,0,0,0,0,0,0,0,0,0,0,0,0,0,0,0,0,0,0,0,0,0,0,0,0,0,0,0,0,0,0,0,0,0,0,0,0,0,0,0,0,0,0,0,0,0,0,0,0,0,0,0,0,0,0,0,0,0,0,0,0,0,0,0,0,0,0,0,0,0,0,0,0,0,0,0,0,0,0,0,0,0,0,0,0,0,0,0,0,0,0,0,0,0,0,0,0,0,0,0,0,0,0,0]
[6,0,0,0,0,0,0,0,0,0,0,0,0,0,0,0,0,0,0,0,0,0,0,0,0,0,0,0,0,0,0,0,0,0,0,0,0,0,0,0,0,0,0,0,0,0,0,0,0,0,0,0,0,0,0,0,0,0,0,0,0,0,0,0,0,0,0,0,0,0,0,0,0,0,0,0,0,0,0,0,0,0,0,0,0,0,0,0,0,0,0,0,0,0,0,0,0,0,0,0,0,0,0,0,0,0,0,0,0,0,0,0,0,0,0,0,0,0,0,0,0,0,0,0,0,0,0,0,0,0,0,0,0,0,0,0,0,0,0,0,0,0,0,0,0,0,0,0,0,0,0,0,0,0,0,0,0,0,0,0,0,0,0,0,0,0,0,0,0,0,0,0,0,0,0,0,0,0,0,0,0,0,0,0,0,0,0,0,0,0,0,0,0,0,0,0,0,0,0,0,0,0,0,0,0,0,0,0,0,0,0,0,0,0,0,0,0,0,0,0,0,0,0,0,0,0,0,0,0,0,0]
[7,0,0,0,0,0,0,0,0,0,0,0,0,0,0,0,0,0,0,0,0,0,0,0,0,0,0,0,0,0,0,0,0,0,0,0,0,0,0,0,0,0,0,0,0,0,0,0,0,0,0,0,0,0,0,0,0,0,0,0,0,0,0,0,0,0,0,0,0,0,0,0,0,0,0,0,0,0,0,1,0,1,0,0,0,1,0,0,1,0,0,0,0,0,0,0,0,0,0,0,0,0,0,0,0,0,0,0,0,0,0,0,0,0,0,0,0,0,0,0,0,0,0,0,0,0,0,0,0,0,0,0,0,0,0,0,0,0,0,0,0,0,0,0,0,0,0,0,0,0,0,0,0,0,0,0,0,0,0,0,0,0,0,0,0,0,0,0,0,0,0,0,0,0,0,0,0,0,0,0,0,0,0,0,0,0,0,0,0,0,0,0,0,0,0,0,0,0,0,0,0,0,0,0,0,0,0,0,0,0,0,0,0,0,0,0,0,0,0,0,0,0,0,0,0,0,0,0,0,0,0]
[8,0,0,0,0,0,0,0,0,0,0,0,0,0,0,0,0,0,0,0,0,0,0,0,0,0,0,0,0,0,0,0,0,0,0,0,0,0,0,0,0,0,0,0,0,0,0,0,0,0,0,0,0,0,0,0,0,0,0,0,0,0,0,0,0,0,0,0,0,0,0,0,0,0,0,0,0,0,0,0,0,0,0,0,0,0,0,0,0,0,0,0,0,0,0,0,0,0,0,0,0,0,0,0,0,0,0,0,0,0,0,0,0,0,0,0,0,0,0,0,0,0,0,0,0,0,0,0,0,0,0,0,0,0,0,0,0,0,0,0,0,0,0,0,0,0,0,0,0,0,0,0,0,0,0,0,0,0,0,0,0,0,0,0,0,0,0,0,0,0,0,0,0,0,0,0,0,0,0,0,0,0,0,0,0,0,0,0,0,0,0,0,0,0,0,0,0,0,0,0,0,0,0,0,0,0,0,0,0,0,0,0,0,0,0,0,0,0,0,0,0,0,0,0,0,0,0,0,0,0,0]
[9,0,0,0,0,0,0,0,0,0,0,0,0,0,0,0,0,0,0,0,0,0,0,0,0,0,0,0,0,0,0,0,0,0,0,0,0,0,0,0,0,0,0,0,0,0,0,0,0,0,0,0,0,0,0,0,0,0,0,0,0,0,0,0,0,0,0,0,0,0,0,0,0,0,0,0,0,0,0,0,0,0,0,0,0,0,0,0,0,0,0,0,0,0,0,0,0,0,0,0,0,0,0,0,0,0,0,0,0,0,0,0,0,0,0,0,0,0,0,0,0,0,0,0,0,0,0,0,0,0,0,0,0,0,0,0,0,0,0,0,0,0,0,0,0,0,0,0,0,0,0,0,0,0,0,0,0,0,0,0,0,0,0,0,0,0,0,0,0,0,0,0,0,0,0,0,0,0,0,0,0,0,0,0,0,0,0,0,0,0,0,0,0,0,0,0,0,0,0,0,0,0,0,0,0,0,0,0,0,0,0,0,0,0,0,0,0,0,0,0,0,0,0,0,0,0,0,0,0,0,0]
[10,0,0,0,0,0,0,0,0,0,0,0,0,0,0,0,0,0,0,0,0,0,0,0,0,0,0,0,0,0,0,0,0,0,0,0,0,0,0,0,0,0,0,0,0,0,0,0,0,0,0,0,0,0,0,0,0,0,0,0,0,0,0,0,0,0,0,0,0,0,0,0,0,0,0,0,0,0,0,0,0,0,0,0,0,0,0,0,0,0,0,0,0,0,0,0,0,0,0,0,0,0,0,0,0,0,0,0,0,0,0,0,0,0,0,0,0,0,0,0,0,0,0,0,0,0,0,0,0,0,0,0,0,0,0,0,0,0,0,0,0,0,0,0,0,0,0,0,0,0,0,0,0,0,0,0,0,0,0,0,0,0,0,0,0,0,0,0,0,0,0,0,0,0,0,0,0,0,0,0,0,0,0,0,0,0,0,0,0,0,0,0,0,0,0,0,0,0,0,0,0,0,0,0,0,0,0,0,0,0,0,0,0,0,0,0,0,0,0,0,0,0,0,0,0,0,0,0,0,0,0]
[11,0,0,0,0,0,0,0,0,0,0,0,0,0,0,0,0,0,0,0,0,0,0,0,0,0,0,0,0,0,0,0,0,0,0,0,0,0,0,0,0,0,0,0,0,0,0,0,0,0,0,0,0,0,0,0,0,0,0,0,0,0,0,0,0,0,0,0,0,0,0,0,0,0,0,0,0,0,0,0,0,0,0,0,0,0,0,0,0,0,0,0,0,0,0,0,0,0,0,0,0,0,0,0,0,0,0,0,0,0,0,0,0,0,0,0,0,0,0,0,0,0,0,0,0,0,0,0,0,0,0,0,0,0,0,0,0,0,0,0,0,0,0,0,0,0,0,0,0,0,0,0,0,0,0,0,0,0,0,0,0,0,0,0,0,0,0,0,0,0,0,0,0,0,0,0,0,0,0,0,0,0,0,0,0,0,0,0,0,0,0,0,0,0,0,0,0,0,0,0,0,0,0,0,0,0,0,0,0,0,0,0,0,0,0,0,0,0,0,0,0,0,0,0,0,0,0,0,0,0,0]
["T",0,0,0,0,0,0,0,0,0,0,0,0,0,0,0,0,0,0,0,0,0,0,0,0,0,0,0,0,0,0,0,0,0,0,0,0,0,0,0,0,0,0,0,0,0,0,0,0,0,0,0,0,0,0,0,0,0,0,0,0,0,0,0,0,0,0,0,0,0,0,0,0,0,0,0,0,0,0,1,0,1,0,0,0,1,0,0,1,0,0,0,0,0,0,0,0,0,0,0,0,0,0,0,0,0,0,0,0,0,0,0,0,0,0,0,0,0,0,0,0,0,0,0,0,0,0,0,0,0,0,0,0,0,0,0,0,0,0,0,0,0,0,0,0,0,0,0,0,0,0,0,0,0,0,0,0,0,0,0,0,0,0,0,0,0,0,0,0,0,0,0,0,0,0,0,0,0,0,0,0,0,0,0,0,0,0,0,0,0,0,0,0,0,0,0,0,0,0,0,0,0,0,0,0,0,0,0,0,0,0,0,0,0,0,0,0,0,0,0,0,0,0,0,0,0,0,0,0,0,0]
[]
["TOTAL"]
[{"$f":"COUNT(A497:A508)","v":11},{"$f":"SUM(B497:B508)","v":0},{"$f":"SUM(C497:C508)","v":0},0,0,0,0,0,0,0,0,0,0,0,0,0,0,0,0,0,0,0,0,0,0,0,0,0,0,0,0,0,0,0,0,0,0,0,0,0,0,0,0,0,0,0,0,0,0,0,0,0,0,0,0,0,0,0,0,0,0,0,0,0,0,0,{"$f":"SUM(BO497:BO508)","v":0},0,0,0,0,0,0,0,0,0,0,0,0,2,0,2,0,0,0,2,0,0,2,0,0,0,0,0,0,0,0,0,0,0,0,0,0,0,0,0,0,0,0,0,0,0,0,0,0,0,0,0,0,0,0,0,0,0,0,0,0,0,0,0,{"$f":"SUM(EA497:EA508)","v":0},0,0,0,0,0,0,0,0,0,0,0,0,0,0,0,0,0,0,0,0,0,0,0,0,0,0,0,0,0,0,0,0,0,0,0,0,0,0,0,0,0,0,0,0,0,0,0,0,0,0,0,0,0,0,0,0,0,0,0,0,0,0,0,{"$f":"SUM(GM497:GM508)","v":0},0,0,0,0,0,0,0,0,0,0,0,0,0,0,0,0,0,0,0,0,0,0,0,0,0,0,0,0,0,0,0,0,0,0,0,0]
[{"$f":"CONCATENATE(A497,\"-\",A498,\"-\",A499,\"-\",A500,\"-\",A501,\"-\",A502,\"-\",A503,\"-\",A504,\"-\",A505,\"-\",A506,\"-\",A507,\"-\",A508)","v":"2-3-1-4-5-6-7-8-9-10-11-T"}]
[null," BAS001"," BAS002"," BAS003"," BAS004"," BAS005"," BAS006"," BAS007"," BAS008"," BAS009"," BAS010"," BAS011"," BAS012"," BAS013"," BAS014"," BAS015"," BAS016"," BAS017"," BAS018"," BAS019"," BAS020"," BAS021"," BAS022"," BAS023"," BAS024"," BAS025"," BAS026"," BAS027"," BAS028"," BAS029"," BAS030"," BAS031"," BAS032"," BAS033"," BAS034"," BAS035"," BAS036"," BAS037"," BAS038"," BAS039"," BAS040"," BAS041"," BAS042"," BAS043"," BAS044"," BAS045"," BAS046"," BAS047"," BAS048"," BAS049"," BAS050"," BAS051"," BAS052"," BAS053"," BAS054"," BAS055"," BAS056"," BAS057"," BAS058"," BAS059"," BAS060"," BAS061"," BAS062"," BAS063"," BAS064"," BAS065"," BAS066"," BAS067"," BAS068"," BAS069"," BAS070"," BAS071"," BAS072"," BAS073"," BAS074"," BAS075"," BAS076"," BAS077"," BAS078"," BAS079"," BAS080"," BAS081"," BAS082"," BAS083"," BAS084"," BAS085"," BAS086"," BAS087"," BAS088"," BAS089"," BAS090"," BAS091"," BAS092"," BAS093"," BAS094"," BAS095"," BAS096"," BAS097"," BAS098"," BAS099"," BAS100"," BAS101"," BAS102"," BAS103"," BAS104"," BAS105"," BAS106"," BAS107"," BAS108"," BAS109"," BAS110"," BAS111"," BAS112"," BAS113"," BAS114"," BAS115"," BAS116"," BAS117"," BAS118"," BAS119"," BAS120"," BAS121"," BAS122"," BAS123"," BAS124"," BAS125"," BAS126"," BAS127"," BAS128"," BAS129"," BAS130"," BAS131"," BAS132"," BAS133"," BAS134"," BAS135"," BAS136"," BAS137"," BAS138"," BAS139"," BAS140"," BAS141"," BAS142"," BAS143"," BAS144"," BAS145"," BAS146"," BAS147"," BAS148"," BAS149"," BAS150"," BAS151"," BAS152"," BAS153"," BAS154"," BAS155"," BAS156"," BAS157"," BAS158"," BAS159"," BAS160"," BAS161"," BAS162"," BAS163"," BAS164"," BAS165"," BAS166"," BAS167"," BAS168"," BAS169"," BAS170"," BAS171"," BAS172"," BAS173"," BAS174"," BAS175"," BAS176"," BAS177"," BAS178"," BAS179"," BAS180"," BAS181"," BAS182"," BAS183"," BAS184"," BAS185"," BAS186"," BAS187"," BAS188"," BAS189"," BAS190"," BAS191"," BAS192"," BAS193"," BAS194"," BAS195"," BAS196"," BAS197"," BAS198"," BAS199"," BAS200"," BAS201"," BAS202"," BAS203"," BAS204"," BAS205"," BAS206"," BAS207"," BAS208"," BAS209"," BAS210"," BAS211"," BAS212"," BAS213"," BAS214"," BAS215"," BAS216"," BAS217"," BAS218"," BAS219"," BAS220"," BAS221"," BAS222"," BAS223"," BAS224"," BAS225"," BAS226"," BAS227"," BAS228"," BAS229"," BAS230"]
[null,{"$f":"IF(B513=B496,\"SI\",\"NO\")","v":"SI"},{"$f":"IF(C513=C496,\"SI\",\"NO\")","v":"SI"},"SI","SI","SI","SI","SI","SI","SI","SI","SI","SI","SI","SI","SI","SI","SI","SI","SI","SI","SI","SI","SI","SI","SI","SI","SI","SI","SI","SI","SI","SI","SI","SI","SI","SI","SI","SI","SI","SI","SI","SI","SI","SI","SI","SI","SI","SI","SI","SI","SI","SI","SI","SI","SI","SI","SI","SI","SI","SI","SI","SI","SI","SI","SI",{"$f":"IF(BO513=BO496,\"SI\",\"NO\")","v":"SI"},"SI","SI","SI","SI","SI","SI","SI","SI","SI","SI","SI","SI","SI","SI","SI","SI","SI","SI","SI","SI","SI","SI","SI","SI","SI","SI","SI","SI","SI","SI","SI","SI","SI","SI","SI","SI","SI","SI","SI","SI","SI","SI","SI","SI","SI","SI","SI","SI","SI","SI","SI","SI","SI","SI","SI","SI","SI","SI","SI","SI","SI","SI","SI",{"$f":"IF(EA513=EA496,\"SI\",\"NO\")","v":"SI"},"SI","SI","SI","SI","SI","SI","SI","SI","SI","SI","SI","SI","SI","SI","SI","SI","SI","SI","SI","SI","SI","SI","SI","SI","SI","SI","SI","SI","SI","SI","SI","SI","SI","SI","SI","SI","SI","SI","SI","SI","SI","SI","SI","SI","SI","SI","SI","SI","SI","SI","SI","SI","SI","SI","SI","SI","SI","SI","SI","SI","SI","SI","SI",{"$f":"IF(GM513=GM496,\"SI\",\"NO\")","v":"SI"},"SI","SI","SI","SI","SI","SI","SI","SI","SI","SI","SI","SI","SI","SI","SI","SI","SI","SI","SI","SI","SI","SI","SI","SI","SI","SI","SI","SI","SI","SI","SI","SI","SI","SI","SI","SI"]
[]
["ITSVIHTTS"]
["anno",2024]
["cod_red","03"]
["codmic","(Todas)"]
["cod_prov","(Todas)"]
["coddist","(Todas)"]
["cod_estab","(Todas)"]
["cod_eje","(Todas)"]
[]
[null,"Valores"]
["Etiquetas de fila"," BAS001"," BAS002"," BAS003"," BAS004"," BAS005"," BAS006"," BAS007"," BAS008"," BAS009"," BAS010"," BAS011"," BAS012"," BAS013"," BAS014"," BAS015"," BAS016"," BAS017"," BAS018"," BAS019"," BAS020"," BAS021"," BAS022"," BAS023"," BAS024"," BAS025"," BAS026"," BAS027"," BAS028"," BAS029"," BAS030"," BAS031"," BAS032"," BAS033"," BAS034"," BAS035"," BAS036"," BAS037"," BAS038"," BAS039"," BAS040"," BAS041"," BAS042"," BAS043"," BAS044"," BAS045"," BAS046"," BAS047"," BAS048"," BAS049"," BAS050"," BAS051"," BAS052"," BAS053"," BAS054"," BAS055"," BAS056"," BAS057"," BAS058"," BAS059"," BAS060"," BAS061"," BAS062"," BAS063"," BAS064"," BAS065"," BAS066"," BAS067"," BAS068"," BAS069"," BAS070"," BAS071"," BAS072"," BAS073"," BAS074"," BAS075"," BAS076"," BAS077"," BAS078"," BAS079"," BAS080"," BAS081"," BAS082"," BAS083"," BAS084"," BAS085"," BAS086"," BAS087"," BAS088"," BAS089"," BAS090"," BAS091"," BAS092"," BAS093"," BAS094"," BAS095"," BAS096"," BAS097"," BAS098"," BAS099"," BAS100"," BAS101"," BAS102"," BAS103"," BAS104"," BAS105"," BAS106"," BAS107"," BAS108"," BAS109"," BAS110"," BAS111"," BAS112"," BAS113"," BAS114"," BAS115"," BAS116"," BAS117"," BAS118"," BAS119"," BAS120"," BAS121"," BAS122"," BAS123"," BAS124"," BAS125"," BAS126"," BAS127"," BAS128"," BAS129"," BAS130"," BAS131"," BAS132"," BAS133"," BAS134"," BAS135"," BAS136"," BAS137"," BAS138"," BAS139"," BAS140"," BAS141"," BAS142"," BAS143"," BAS144"," BAS145"," BAS146"," BAS147"," BAS148"," BAS149"," BAS150"," BAS151"," BAS152"," BAS153"," BAS154"," BAS155"," BAS156"," BAS157"," BAS158"," BAS159"," BAS160"," BAS161"," BAS162"," BAS163"," BAS164"," BAS165"," BAS166"," BAS167"," BAS168"," BAS169"," BAS170"," BAS171"," BAS172"," BAS173"," BAS174"," BAS175"," BAS176"," BAS177"," BAS178"," BAS179"," BAS180"," BAS181"," BAS182"," BAS183"," BAS184"," BAS185"," BAS186"," BAS187"," BAS188"," BAS189"," BAS190"," BAS191"," BAS192"," BAS193"," BAS194"," BAS195"," BAS196"," BAS197"," BAS198"," BAS199"," BAS200"," BAS201"," BAS202"," BAS203"," BAS204"," BAS205"," BAS206"," BAS207"," BAS208"," BAS209"," BAS210"," BAS211"," BAS212"," BAS213"," BAS214"," BAS215"," BAS216"," BAS217"," BAS218"," BAS219"," BAS220"," BAS221"," BAS222"," BAS223"," BAS224"," BAS225"," BAS226"," BAS227"," BAS228"," BAS229"," BAS230"]
[2,0,0,0,0,0,0,0,0,0,0,0,0,0,0,0,0,0,0,0,0,0,0,0,0,0,0,0,0,0,0,0,0,0,0,0,0,0,0,0,0,0,0,0,0,0,0,0,0,0,0,0,0,0,0,0,0,0,0,0,0,0,0,0,0,0,0,0,0,0,0,0,0,0,0,0,0,0,0,0,0,0,0,0,0,0,0,0,0,0,0,0,0,0,0,0,0,0,0,0,0,0,0,0,0,0,0,0,0,0,0,0,0,0,0,0,0,0,0,0,0,0,0,0,0,0,0,0,0,0,0,0,0,0,0,0,0,0,0,0,0,0,0,0,0,0,0,0,0,0,0,0,0,0,0,0,0,0,0,0,0,0,0,0,0,0,0,0,0,0,0,0,0,0,0,0,0,0,0,0,0,0,0,0,0,0,0,0,0,0,0,0,0,0,0,0,0,0,0,0,0,0,0,0,0,0,0,0,0,0,0,0,0,0,0,0,0,0,0,0,0,0,0,0,0,0,0,0,0,0,0]
[3,0,0,0,0,0,0,0,0,0,0,0,0,0,0,0,0,0,0,0,0,0,0,0,0,0,0,0,0,0,0,0,0,0,0,0,0,0,0,0,0,0,0,0,0,0,0,0,0,0,0,0,0,0,0,0,0,0,0,0,0,0,0,0,0,0,0,0,0,0,0,0,0,0,0,0,0,0,0,0,0,0,0,0,0,0,0,0,0,0,0,0,0,0,0,0,0,0,0,0,0,0,0,0,0,0,0,0,0,0,0,0,0,0,0,0,0,0,0,0,0,0,0,0,0,0,0,0,0,0,0,0,0,0,0,0,0,0,0,0,0,0,0,0,0,0,0,0,0,0,0,0,0,0,0,0,0,0,0,0,0,0,0,0,0,0,0,0,0,0,0,0,0,0,0,0,0,0,0,0,0,0,0,0,0,0,0,0,0,0,0,0,0,0,0,0,0,0,0,0,0,0,0,0,0,0,0,0,0,0,0,0,0,0,0,0,0,0,0,0,0,0,0,0,0,0,0,0,0,0,0]
[1,0,0,0,0,0,0,0,0,0,0,0,0,0,0,0,0,0,0,0,0,0,0,0,0,0,0,0,0,0,0,0,0,0,0,0,0,0,0,0,0,0,0,0,0,0,0,0,0,0,0,0,0,0,0,0,0,0,0,0,0,0,0,0,0,0,0,0,0,0,0,0,0,0,0,0,0,0,0,0,0,0,0,0,0,0,0,0,0,0,0,0,0,0,0,0,0,0,0,0,0,0,0,0,0,0,0,0,0,0,0,0,0,0,0,0,0,0,0,0,0,0,0,0,0,0,0,0,0,0,0,0,0,0,0,0,0,0,0,0,0,0,0,0,0,0,0,0,0,0,0,0,0,0,0,0,0,0,0,0,0,0,0,0,0,0,0,0,0,0,0,0,0,0,0,0,0,0,0,0,0,0,0,0,0,0,0,0,0,0,0,0,0,0,0,0,0,0,0,0,0,0,0,0,0,0,0,0,0,0,0,0,0,0,0,0,0,0,0,0,0,0,0,0,0,0,0,0,0,0,0]
[4,0,0,0,0,0,0,0,0,0,0,0,0,0,0,0,0,0,0,0,0,0,0,0,0,0,0,0,0,0,0,0,0,0,0,0,0,0,0,0,0,0,0,0,0,0,0,0,0,0,0,0,0,0,0,0,0,0,0,0,0,0,0,0,0,0,0,0,0,0,0,0,0,0,0,0,0,0,0,0,0,0,0,0,0,0,0,0,0,0,0,0,0,0,0,0,0,0,0,0,0,0,0,0,0,0,0,0,0,0,0,0,0,0,0,0,0,0,0,0,0,0,0,0,0,0,0,0,0,0,0,0,0,0,0,0,0,0,0,0,0,0,0,0,0,0,0,0,0,0,0,0,0,0,0,0,0,0,0,0,0,0,0,0,0,0,0,0,0,0,0,0,0,0,0,0,0,0,0,0,0,0,0,0,0,0,0,0,0,0,0,0,0,0,0,0,0,0,0,0,0,0,0,0,0,0,0,0,0,0,0,0,0,0,0,0,0,0,0,0,0,0,0,0,0,0,0,0,0,0,0]
[5,0,0,0,0,0,0,0,0,0,0,0,0,0,0,0,0,0,0,0,0,0,0,0,0,0,0,0,0,0,0,0,0,0,0,0,0,0,0,0,0,0,0,0,0,0,0,0,0,0,0,0,0,0,0,0,0,0,0,0,0,0,0,0,0,0,0,0,0,0,0,0,0,0,0,0,0,0,0,0,0,0,0,0,0,0,0,0,0,0,0,0,0,0,0,0,0,0,0,0,0,0,0,0,0,0,0,0,0,0,0,0,0,0,0,0,0,0,0,0,0,0,0,0,0,0,0,0,0,0,0,0,0,0,0,0,0,0,0,0,0,0,0,0,0,0,0,0,0,0,0,0,0,0,0,0,0,0,0,0,0,0,0,0,0,0,0,0,0,0,0,0,0,0,0,0,0,0,0,0,0,0,0,0,0,0,0,0,0,0,0,0,0,0,0,0,0,0,0,0,0,0,0,0,0,0,0,0,0,0,0,0,0,0,0,0,0,0,0,0,0,0,0,0,0,0,0,0,0,0,0]
[6,0,0,0,0,0,0,0,0,0,0,0,0,0,0,0,0,0,0,0,0,0,0,0,0,0,0,0,0,0,0,0,0,0,0,0,0,0,0,0,0,0,0,0,0,0,0,0,0,0,0,0,0,0,0,0,0,0,0,0,0,0,0,0,0,0,0,0,0,0,0,0,0,0,0,0,0,0,0,0,0,0,0,0,0,0,0,0,0,0,0,0,0,0,0,0,0,0,0,0,0,0,0,0,0,0,0,0,0,0,0,0,0,0,0,0,0,0,0,0,0,0,0,0,0,0,0,0,0,0,0,0,0,0,0,0,0,0,0,0,0,0,0,0,0,0,0,0,0,0,0,0,0,0,0,0,0,0,0,0,0,0,0,0,0,0,0,0,0,0,0,0,0,0,0,0,0,0,0,0,0,0,0,0,0,0,0,0,0,0,0,0,0,0,0,0,0,0,0,0,0,0,0,0,0,0,0,0,0,0,0,0,0,0,0,0,0,0,0,0,0,0,0,0,0,0,0,0,0,0,0]
[7,0,0,0,0,0,0,0,0,0,0,0,0,0,0,0,0,0,0,0,0,0,0,0,0,0,0,0,0,0,0,0,0,0,0,0,0,0,0,0,0,0,0,0,0,0,0,0,0,0,0,0,0,0,0,0,0,0,0,0,0,0,0,0,0,0,0,0,0,0,0,0,0,0,0,0,0,0,0,0,0,0,0,0,0,0,0,0,0,0,0,0,0,0,0,0,0,0,0,0,0,0,0,0,0,0,0,0,0,0,0,0,0,0,0,0,0,0,0,0,0,0,0,0,0,0,0,0,0,0,0,0,0,0,0,0,0,0,0,0,0,0,0,0,0,0,0,0,0,0,0,0,0,0,0,0,0,0,0,0,0,0,0,0,0,0,0,0,0,0,0,0,0,0,0,0,0,0,0,0,0,0,0,0,0,0,0,0,0,0,0,0,0,0,0,0,0,0,0,0,0,0,0,0,0,0,0,0,0,0,0,0,0,0,0,0,0,0,0,0,0,0,0,0,0,0,0,0,0,0,0]
[8,0,0,0,0,0,0,0,0,0,0,0,0,0,0,0,0,0,0,0,0,0,0,0,0,0,0,0,0,0,0,0,0,0,0,0,0,0,0,0,0,0,0,0,0,0,0,0,0,0,0,0,0,0,0,0,0,0,0,0,0,0,0,0,0,0,0,0,0,0,0,0,0,0,0,0,0,0,0,0,0,0,0,0,0,0,0,0,0,0,0,0,0,0,0,0,0,0,0,0,0,0,0,0,0,0,0,0,0,0,0,0,0,0,0,0,0,0,0,0,0,0,0,0,0,0,0,0,0,0,0,0,0,0,0,0,0,0,0,0,0,0,0,0,0,0,0,0,0,0,0,0,0,0,0,0,0,0,0,0,0,0,0,0,0,0,0,0,0,0,0,0,0,0,0,0,0,0,0,0,0,0,0,0,0,0,0,0,0,0,0,0,0,0,0,0,0,0,0,0,0,0,0,0,0,0,0,0,0,0,0,0,0,0,0,0,0,0,0,0,0,0,0,0,0,0,0,0,0,0,0]
[9,0,0,0,0,0,0,0,0,0,0,0,0,0,0,0,0,0,0,0,0,0,0,0,0,0,0,0,0,0,0,0,0,0,0,0,0,0,0,0,0,0,0,0,0,0,0,0,0,0,0,0,0,0,0,0,0,0,0,0,0,0,0,0,0,0,0,0,0,0,0,0,0,0,0,0,0,0,0,0,0,0,0,0,0,0,0,0,0,0,0,0,0,0,0,0,0,0,0,0,0,0,0,0,0,0,0,0,0,0,0,0,0,0,0,0,0,0,0,0,0,0,0,0,0,0,0,0,0,0,0,0,0,0,0,0,0,0,0,0,0,0,0,0,0,0,0,0,0,0,0,0,0,0,0,0,0,0,0,0,0,0,0,0,0,0,0,0,0,0,0,0,0,0,0,0,0,0,0,0,0,0,0,0,0,0,0,0,0,0,0,0,0,0,0,0,0,0,0,0,0,0,0,0,0,0,0,0,0,0,0,0,0,0,0,0,0,0,0,0,0,0,0,0,0,0,0,0,0,0,0]
[10,0,0,0,0,0,0,0,0,0,0,0,0,0,0,0,0,0,0,0,0,0,0,0,0,0,0,0,0,0,0,0,0,0,0,0,0,0,0,0,0,0,0,0,0,0,0,0,0,0,0,0,0,0,0,0,0,0,0,0,0,0,0,0,0,0,0,0,0,0,0,0,0,0,0,0,0,0,0,0,0,0,0,0,0,0,0,0,0,0,0,0,0,0,0,0,0,0,0,0,0,0,0,0,0,0,0,0,0,0,0,0,0,0,0,0,0,0,0,0,0,0,0,0,0,0,0,0,0,0,0,0,0,0,0,0,0,0,0,0,0,0,0,0,0,0,0,0,0,0,0,0,0,0,0,0,0,0,0,0,0,0,0,0,0,0,0,0,0,0,0,0,0,0,0,0,0,0,0,0,0,0,0,0,0,0,0,0,0,0,0,0,0,0,0,0,0,0,0,0,0,0,0,0,0,0,0,0,0,0,0,0,0,0,0,0,0,0,0,0,0,0,0,0,0,0,0,0,0,0,0]
[11,0,0,0,0,0,0,0,0,0,0,0,0,0,0,0,0,0,0,0,0,0,0,0,0,0,0,0,0,0,0,0,0,0,0,0,0,0,0,0,0,0,0,0,0,0,0,0,0,0,0,0,0,0,0,0,0,0,0,0,0,0,0,0,0,0,0,0,0,0,0,0,0,0,0,0,0,0,0,0,0,0,0,0,0,0,0,0,0,0,0,0,0,0,0,0,0,0,0,0,0,0,0,0,0,0,0,0,0,0,0,0,0,0,0,0,0,0,0,0,0,0,0,0,0,0,0,0,0,0,0,0,0,0,0,0,0,0,0,0,0,0,0,0,0,0,0,0,0,0,0,0,0,0,0,0,0,0,0,0,0,0,0,0,0,0,0,0,0,0,0,0,0,0,0,0,0,0,0,0,0,0,0,0,0,0,0,0,0,0,0,0,0,0,0,0,0,0,0,0,0,0,0,0,0,0,0,0,0,0,0,0,0,0,0,0,0,0,0,0,0,0,0,0,0,0,0,0,0,0,0]
["T",0,0,0,0,0,0,0,0,0,0,0,0,0,0,0,0,0,0,0,0,0,0,0,0,0,0,0,0,0,0,0,0,0,0,0,0,0,0,0,0,0,0,0,0,0,0,0,0,0,0,0,0,0,0,0,0,0,0,0,0,0,0,0,0,0,0,0,0,0,0,0,0,0,0,0,0,0,0,0,0,0,0,0,0,0,0,0,0,0,0,0,0,0,0,0,0,0,0,0,0,0,0,0,0,0,0,0,0,0,0,0,0,0,0,0,0,0,0,0,0,0,0,0,0,0,0,0,0,0,0,0,0,0,0,0,0,0,0,0,0,0,0,0,0,0,0,0,0,0,0,0,0,0,0,0,0,0,0,0,0,0,0,0,0,0,0,0,0,0,0,0,0,0,0,0,0,0,0,0,0,0,0,0,0,0,0,0,0,0,0,0,0,0,0,0,0,0,0,0,0,0,0,0,0,0,0,0,0,0,0,0,0,0,0,0,0,0,0,0,0,0,0,0,0,0,0,0,0,0,0]
[]
["TOTAL"]
[{"$f":"COUNT(A527:A538)","v":11},{"$f":"SUM(B527:B538)","v":0},{"$f":"SUM(C527:C538)","v":0},0,0,0,0,0,0,0,0,0,0,0,0,0,0,0,0,0,0,0,0,0,0,0,0,0,0,0,0,0,0,0,0,0,0,0,0,0,0,0,0,0,0,0,0,0,0,0,0,0,0,0,0,0,0,0,0,0,0,0,0,0,0,0,{"$f":"SUM(BO527:BO538)","v":0},0,0,0,0,0,0,0,0,0,0,0,0,0,0,0,0,0,0,0,0,0,0,0,0,0,0,0,0,0,0,0,0,0,0,0,0,0,0,0,0,0,0,0,0,0,0,0,0,0,0,0,0,0,0,0,0,0,0,0,0,0,0,0,{"$f":"SUM(EA527:EA538)","v":0},0,0,0,0,0,0,0,0,0,0,0,0,0,0,0,0,0,0,0,0,0,0,0,0,0,0,0,0,0,0,0,0,0,0,0,0,0,0,0,0,0,0,0,0,0,0,0,0,0,0,0,0,0,0,0,0,0,0,0,0,0,0,0,{"$f":"SUM(GM527:GM538)","v":0},0,0,0,0,0,0,0,0,0,0,0,0,0,0,0,0,0,0,0,0,0,0,0,0,0,0,0,0,0,0,0,0,0,0,0,0]
[{"$f":"CONCATENATE(A527,\"-\",A528,\"-\",A529,\"-\",A530,\"-\",A531,\"-\",A532,\"-\",A533,\"-\",A534,\"-\",A535,\"-\",A536,\"-\",A537,\"-\",A538)","v":"2-3-1-4-5-6-7-8-9-10-11-T"}]
[null," BAS001"," BAS002"," BAS003"," BAS004"," BAS005"," BAS006"," BAS007"," BAS008"," BAS009"," BAS010"," BAS011"," BAS012"," BAS013"," BAS014"," BAS015"," BAS016"," BAS017"," BAS018"," BAS019"," BAS020"," BAS021"," BAS022"," BAS023"," BAS024"," BAS025"," BAS026"," BAS027"," BAS028"," BAS029"," BAS030"," BAS031"," BAS032"," BAS033"," BAS034"," BAS035"," BAS036"," BAS037"," BAS038"," BAS039"," BAS040"," BAS041"," BAS042"," BAS043"," BAS044"," BAS045"," BAS046"," BAS047"," BAS048"," BAS049"," BAS050"," BAS051"," BAS052"," BAS053"," BAS054"," BAS055"," BAS056"," BAS057"," BAS058"," BAS059"," BAS060"," BAS061"," BAS062"," BAS063"," BAS064"," BAS065"," BAS066"," BAS067"," BAS068"," BAS069"," BAS070"," BAS071"," BAS072"," BAS073"," BAS074"," BAS075"," BAS076"," BAS077"," BAS078"," BAS079"," BAS080"," BAS081"," BAS082"," BAS083"," BAS084"," BAS085"," BAS086"," BAS087"," BAS088"," BAS089"," BAS090"," BAS091"," BAS092"," BAS093"," BAS094"," BAS095"," BAS096"," BAS097"," BAS098"," BAS099"," BAS100"," BAS101"," BAS102"," BAS103"," BAS104"," BAS105"," BAS106"," BAS107"," BAS108"," BAS109"," BAS110"," BAS111"," BAS112"," BAS113"," BAS114"," BAS115"," BAS116"," BAS117"," BAS118"," BAS119"," BAS120"," BAS121"," BAS122"," BAS123"," BAS124"," BAS125"," BAS126"," BAS127"," BAS128"," BAS129"," BAS130"," BAS131"," BAS132"," BAS133"," BAS134"," BAS135"," BAS136"," BAS137"," BAS138"," BAS139"," BAS140"," BAS141"," BAS142"," BAS143"," BAS144"," BAS145"," BAS146"," BAS147"," BAS148"," BAS149"," BAS150"," BAS151"," BAS152"," BAS153"," BAS154"," BAS155"," BAS156"," BAS157"," BAS158"," BAS159"," BAS160"," BAS161"," BAS162"," BAS163"," BAS164"," BAS165"," BAS166"," BAS167"," BAS168"," BAS169"," BAS170"," BAS171"," BAS172"," BAS173"," BAS174"," BAS175"," BAS176"," BAS177"," BAS178"," BAS179"," BAS180"," BAS181"," BAS182"," BAS183"," BAS184"," BAS185"," BAS186"," BAS187"," BAS188"," BAS189"," BAS190"," BAS191"," BAS192"," BAS193"," BAS194"," BAS195"," BAS196"," BAS197"," BAS198"," BAS199"," BAS200"," BAS201"," BAS202"," BAS203"," BAS204"," BAS205"," BAS206"," BAS207"," BAS208"," BAS209"," BAS210"," BAS211"," BAS212"," BAS213"," BAS214"," BAS215"," BAS216"," BAS217"," BAS218"," BAS219"," BAS220"," BAS221"," BAS222"," BAS223"," BAS224"," BAS225"," BAS226"," BAS227"," BAS228"," BAS229"," BAS230"]
[null,{"$f":"IF(B543=B526,\"SI\",\"NO\")","v":"SI"},{"$f":"IF(C543=C526,\"SI\",\"NO\")","v":"SI"},"SI","SI","SI","SI","SI","SI","SI","SI","SI","SI","SI","SI","SI","SI","SI","SI","SI","SI","SI","SI","SI","SI","SI","SI","SI","SI","SI","SI","SI","SI","SI","SI","SI","SI","SI","SI","SI","SI","SI","SI","SI","SI","SI","SI","SI","SI","SI","SI","SI","SI","SI","SI","SI","SI","SI","SI","SI","SI","SI","SI","SI","SI","SI",{"$f":"IF(BO543=BO526,\"SI\",\"NO\")","v":"SI"},"SI","SI","SI","SI","SI","SI","SI","SI","SI","SI","SI","SI","SI","SI","SI","SI","SI","SI","SI","SI","SI","SI","SI","SI","SI","SI","SI","SI","SI","SI","SI","SI","SI","SI","SI","SI","SI","SI","SI","SI","SI","SI","SI","SI","SI","SI","SI","SI","SI","SI","SI","SI","SI","SI","SI","SI","SI","SI","SI","SI","SI","SI","SI",{"$f":"IF(EA543=EA526,\"SI\",\"NO\")","v":"SI"},"SI","SI","SI","SI","SI","SI","SI","SI","SI","SI","SI","SI","SI","SI","SI","SI","SI","SI","SI","SI","SI","SI","SI","SI","SI","SI","SI","SI","SI","SI","SI","SI","SI","SI","SI","SI","SI","SI","SI","SI","SI","SI","SI","SI","SI","SI","SI","SI","SI","SI","SI","SI","SI","SI","SI","SI","SI","SI","SI","SI","SI","SI","SI",{"$f":"IF(GM543=GM526,\"SI\",\"NO\")","v":"SI"},"SI","SI","SI","SI","SI","SI","SI","SI","SI","SI","SI","SI","SI","SI","SI","SI","SI","SI","SI","SI","SI","SI","SI","SI","SI","SI","SI","SI","SI","SI","SI","SI","SI","SI","SI","SI"]

{"sheet":"ITSVIH","index":3,"n_rows":202,"n_cols":167,"rows_kept":202,"cut":false,"hidden":false,"merged":[[13,11,13,12],[17,12,17,21],[18,14,18,15],[18,16,18,17],[18,18,18,19],[18,20,18,21],[17,1,19,1],[17,2,17,11],[13,3,13,5],[15,3,15,5],[4,1,4,27],[5,1,5,27],[6,1,6,27],[7,11,7,12],[8,11,8,12],[9,11,9,12],[10,11,10,12],[11,11,11,12],[12,11,12,12],[9,3,9,6],[37,1,38,1],[37,2,37,6],[37,7,37,11],[37,12,37,14],[18,22,18,23],[18,2,18,3],[18,4,18,5],[18,6,18,7],[18,8,18,9],[18,10,18,11],[18,12,18,13],[39,15,39,16],[41,15,41,16],[48,1,49,1],[48,2,48,6],[48,7,48,11],[48,12,48,14],[57,1,58,1],[57,2,57,6],[57,7,57,11],[57,12,57,14],[69,1,70,1],[69,2,69,6],[69,7,69,11],[69,12,69,14],[81,1,82,1],[81,2,81,6],[81,7,81,11],[81,12,81,14],[90,1,91,1],[90,2,90,6],[90,7,90,11],[90,12,90,14],[130,1,131,1],[130,2,130,4],[130,5,130,7],[130,8,130,10],[130,17,130,21],[145,1,146,1],[145,2,145,4],[145,5,145,7],[145,8,145,10],[145,11,145,13],[130,11,130,13],[130,14,130,16],[145,14,145,16],[145,17,145,21],[183,2,183,6],[183,7,183,11],[183,12,183,14],[195,1,196,1],[195,2,195,6],[195,7,195,11],[195,12,195,14],[183,1,184,1],[159,2,159,16],[160,2,160,4],[160,5,160,7],[160,8,160,10],[160,11,160,13],[160,14,160,16],[171,2,171,16],[172,2,172,4],[172,5,172,7],[172,8,172,10],[172,11,172,13],[172,14,172,16],[18,30,19,30],[17,29,17,30],[160,17,160,21],[172,17,172,21],[145,22,145,26],[145,51,145,53],[145,54,145,56],[145,57,145,59],[145,60,145,62],[145,27,146,27],[145,28,146,28],[17,27,19,27],[17,28,19,28],[18,24,18,25],[17,22,17,25],[17,26,19,26]]}
[null,"GERENCIA REGIONAL DE SALUD CUSCO"]
[null,"DIRECCION DE ESTADISTICA, INFORMATICA Y TELECOMUNICACIONES"]
[]
[]
[null,"HOJA DE MONITORIZACION MENSUAL DE ACTIVIDADES "]
[null,"ESTRATEGIA SANITARIA NACIONAL DE PREVENCION Y CONTROL DE ITS, VIH Y HEPATITIS B"]
[]
[null,null,null,null,null,null,null,null,null,null,null,"INSTITUCIÓN",null,"Marcar con  X",null,null,null,null,null,null,null,null,null,null,null,null,null,null,null,null,null,null,null,null,null,null,null,null,null,null,null,null,null,null,null,null,null,null,null,null,null,null,null,null,null,null,null,null,null,null,null,null,null,null,null,null,null,null,null,null,null,null,null,null,null,null,null,null,null,null,null,null,null,null,null,null,null,null,null,null,null,null,null,null,75,108]
[null,"DIRESA/DISA/GERESA ",null,"EJECUTORA",null,null,null,null,"MES",{"$f":"+TABLAS!N26","v":"ENE - NOV"},null,"MINSA ",null,null,null,null,null,null,null,null,null,null,null,null,null,null,null,null,null,null,null,null,null,null,null,null,null,null,null,null,null,null,null,null,null,null,null,null,null,null,null,null,null,null,null,null,null,null,null,null,null,null,null,null,null,null,null,null,null,null,null,null,null,null,null,null,null,null,null,null,null,null,null,null,null,null,null,null,null,null,null,null,null,null,142,176]
[null,"CUSCO",null,{"$f":"+TABLAS!O14","v":""},null,null,null,null,null,null,null,"ESSALUD ",null,null,null,null,null,null,null,null,null,null,null,null,null,null,null,null,null,null,null,null,null,null,null,null,null,null,null,null,null,null,null,null,null,null,null,null,null,null,null,null,null,null,null,null,null,null,null,null,null,null,null,null,null,null,null,null,null,null,null,null,null,null,null,null,null,null,null,null,null,null,null,null,null,null,null,null,null,null,null,null,null,null,211,246]
[null,"RED ",null,null,null,null,null,null,"AÑO ",{"$f":"+TABLAS!I16","v":"2024"},null,"SANIDAD FFAA - PNP ",null,null,null,null,null,null,null,null,null,null,null,null,null,null,null,null,null,null,null,null,null,null,null,null,null,null,null,null,null,null,null,null,null,null,null,null,null,null,null,null,null,null,null,null,null,null,null,null,null,null,null,null,null,null,null,null,null,null,null,null,null,null,null,null,null,null,null,null,null,null,null,null,null,null,null,null,null,null,null,null,null,null,281,311]
[null,{"$f":"+TABLAS!O9","v":"03 - LA CONVENCION"},null,null,null,null,null,null,null,{"$f":"+TABLAS!N20","v":11},null,"INPE ",null,null,null,null,null,null,null,null,null,null,null,null,null,null,null,null,null,null,null,null,null,null,null,null,null,null,null,null,null,null,null,null,null,null,null,null,null,null,null,null,null,null,null,null,null,null,null,null,null,null,null,null,null,null,null,null,null,null,null,null,null,null,null,null,null,null,null,null,null,null,null,null,null,null,null,null,null,null,null,null,null,null,341,372]
[null,"MICRO RED",null,"PROVINCIA",null,null,null,null,null,null,null,"ONG"]
[null,{"$f":"+TABLAS!O10","v":""},null,{"$f":"+TABLAS!O12","v":""},null,null,null,null,null,null,null,"OTRA  (especificar)",null,null,null,null,null,null,null,null,null,null,null,null,null,null,null,null,null,null,null,null,null,null,null,null,null,null,null,null,null,null,null,null,null,null,null,null,null,null,null,null,null,null,null,null,null,null,null,null,null,null,null,null,null,null,null,null,null,null,null,null,null,null,null,null,null,null,null,null,null,null,null,null,null,null,null,null,null,null,null,null,null,null,"=+IMPORTARDATOSDINAMICOS(\" BAS"]
[null,"IPRESS",null,"DISTRITO",null,null,null,null,null,{"$f":"IF(J12=1,MID(B16,1,9)&\"_\"&MID(B16,13,20)&\"_\"&MID(J9,1,3)&\"_\"&J11,MID(B16,1,9)&\"_\"&MID(B16,13,20)&\"_\"&MID(J9,1,3)&\"_\"&MID(J9,7,3)&\"_\"&J11)","v":"__ENE_NOV_2024"},null,null,null,null,null,null,null,null,null,null,null,null,null,null,null,null,null,null,null,null,null,null,null,null,null,null,null,null,null,null,null,null,null,null,null,null,null,null,null,null,null,null,null,null,null,null,null,null,null,null,null,null,null,null,null,null,null,null,null,null,null,null,null,null,null,null,null,null,null,null,null,null,null,null,null,null,null,null,null,null,null,null,null,null,"\",TABLAS!$A$372)"]
[null,{"$f":"+TABLAS!O11","v":""},null,{"$f":"+TABLAS!O13","v":""}]
[]
[null,"1.-  POBLACION GENERAL: ITS","FEMENINO",null,null,null,null,null,null,null,null,null,"MASCULINO",null,null,null,null,null,null,null,null,null,"Total",null,null,null,"CONTACTOS","CONTACTOS TRATADOS"]
[null,null,"01d - 11a",null,"12a - 17a",null,"18a - 29a",null,"30a - 59a",null,"60a más",null,"01d - 11a",null,"12a - 17a",null,"18a - 29a",null,"30a - 59a",null,"60a más",null,"DIAGNOSTICO",null,"TRATADO"]
[null,null,"DIAGNOSTICO","TRATADO","DIAGNOSTICO","TRATADO","DIAGNOSTICO","TRATADO","DIAGNOSTICO","TRATADO","DIAGNOSTICO","TRATADO","DIAGNOSTICO","TRATADO","DIAGNOSTICO","TRATADO","DIAGNOSTICO","TRATADO","DIAGNOSTICO","TRATADO","DIAGNOSTICO","TRATADO","F","M","F","M",null,null,null,null,null,null,null,null,null,null,null,null,null,null,null,null,null,null,null,null,null,null,null,null,null,"DIAX","TRATADO","CONTACTOS","CONT TRATAD",null,null,null,null,null,null,null,null,null,null,null,"CONTACTOS",null,null,null,null,null,null,null,null,null,null,null,null,null,null,null,null,null,null,null,null,null,null,null,"CONTAC TRATAD",null,null,null,null,null,null,null,null,null,null,null,null,null,null,null,null,null,null,null,null,null,null,null,null,null,null,null,null,null,null,null,null,null,null,null,null,null,null,null,"CONTACTOS",null,null,null,null,null,null,null,null,null,null,null,null,null,null,null,null,null,null,null,null,null,null,null,"CONTAC TRATAD"]
[1,"PERSONAS CON MANEJO SINDROMICO",{"$f":"+GETPIVOTDATA(\" BAS001\",TABLAS!$A$75)","v":2},{"$f":"+GETPIVOTDATA(\" BAS002\",TABLAS!$A$75)","v":2},{"$f":"+GETPIVOTDATA(\" BAS001\",TABLAS!$A$142)","v":45},{"$f":"+GETPIVOTDATA(\" BAS002\",TABLAS!$A$142)","v":43},{"$f":"+GETPIVOTDATA(\" BAS001\",TABLAS!$A$211)","v":648},{"$f":"+GETPIVOTDATA(\" BAS002\",TABLAS!$A$211)","v":634},{"$f":"+GETPIVOTDATA(\" BAS001\",TABLAS!$A$281)","v":1427},{"$f":"+GETPIVOTDATA(\" BAS002\",TABLAS!$A$281)","v":1389},{"$f":"+GETPIVOTDATA(\" BAS001\",TABLAS!$A$341)","v":55},{"$f":"+GETPIVOTDATA(\" BAS002\",TABLAS!$A$341)","v":53},{"$f":"+GETPIVOTDATA(\" BAS001\",TABLAS!$A$108)","v":0},{"$f":"+GETPIVOTDATA(\" BAS002\",TABLAS!$A$108)","v":0},{"$f":"+GETPIVOTDATA(\" BAS001\",TABLAS!$A$176)","v":4},{"$f":"+GETPIVOTDATA(\" BAS002\",TABLAS!$A$176)","v":2},{"$f":"+GETPIVOTDATA(\" BAS001\",TABLAS!$A$246)","v":20},{"$f":"+GETPIVOTDATA(\" BAS002\",TABLAS!$A$246)","v":19},{"$f":"+GETPIVOTDATA(\" BAS001\",TABLAS!$A$311)","v":7},{"$f":"+GETPIVOTDATA(\" BAS002\",TABLAS!$A$311)","v":7},{"$f":"+GETPIVOTDATA(\" BAS001\",TABLAS!$A$372)","v":1},{"$f":"+GETPIVOTDATA(\" BAS002\",TABLAS!$A$372)","v":1},{"$f":"+C21+E21+G21+I21+K21","v":2177},{"$f":"+M21+O21+Q21+S21+U21","v":32},{"$f":"+D21+F21+H21+J21+L21","v":2121},{"$f":"+N21+P21+R21+T21+V21","v":29},{"$f":"+GETPIVOTDATA(\" BAS003\",TABLAS!$A$75)+GETPIVOTDATA(\" BAS003\",TABLAS!$A$142)+GETPIVOTDATA(\" BAS003\",TABLAS!$A$211)+GETPIVOTDATA(\" BAS003\",TABLAS!$A$281)+GETPIVOTDATA(\" BAS003\",TABLAS!$A$341)+GETPIVOTDATA(\" BAS003\",TABLAS!$A$108)+GETPIVOTDATA(\" BAS003\",TABLAS!$A$176)+GETPIVOTDATA(\" BAS003\",TABLAS!$A$246)+GETPIVOTDATA(\" BAS003\",TABLAS!$A$311)+GETPIVOTDATA(\" BAS003\",TABLAS!$A$372)","v":2092},{"$f":"+GETPIVOTDATA(\" BAS004\",TABLAS!$A$75)+GETPIVOTDATA(\" BAS004\",TABLAS!$A$142)+GETPIVOTDATA(\" BAS004\",TABLAS!$A$211)+GETPIVOTDATA(\" BAS004\",TABLAS!$A$281)+GETPIVOTDATA(\" BAS004\",TABLAS!$A$341)+GETPIVOTDATA(\" BAS004\",TABLAS!$A$108)+GETPIVOTDATA(\" BAS004\",TABLAS!$A$176)+GETPIVOTDATA(\" BAS004\",TABLAS!$A$246)+GETPIVOTDATA(\" BAS004\",TABLAS!$A$311)+GETPIVOTDATA(\" BAS004\",TABLAS!$A$372)","v":2087},null,null,null,null,null,null,null,null,null,null,null,null,null,1,{"$f":"+AP21+1","v":2},3,4,null,{"$f":"IF(AP21<10,CONCATENATE(\"00\",AP21),IF(AND(AP21>9,AP21<100),CONCATENATE(\"0\",AP21),AP21))","v":"001"},{"$f":"IF(AQ21<10,CONCATENATE(\"00\",AQ21),IF(AND(AQ21>9,AQ21<100),CONCATENATE(\"0\",AQ21),AQ21))","v":"002"},{"$f":"IF(AR21<10,CONCATENATE(\"00\",AR21),IF(AND(AR21>9,AR21<100),CONCATENATE(\"0\",AR21),AR21))","v":"003"},"004",null,{"$f":"IF(LEN(AU21)=0,\"\",CONCATENATE($CQ$14,AU21,$CQ$15))","v":"=+IMPORTARDATOSDINAMICOS(\" BAS001\",TABLAS!$A$372)"},{"$f":"IF(LEN(AV21)=0,\"\",CONCATENATE($CQ$14,AV21,$CQ$15))","v":"=+IMPORTARDATOSDINAMICOS(\" BAS002\",TABLAS!$A$372)"},{"$f":"IF(LEN(AW21)=0,\"\",CONCATENATE($CQ$14,AW21,$CQ$15))","v":"=+IMPORTARDATOSDINAMICOS(\" BAS003\",TABLAS!$A$372)"},{"$f":"IF(LEN(AX21)=0,\"\",CONCATENATE($CQ$14,AX21,$CQ$15))","v":"=+IMPORTARDATOSDINAMICOS(\" BAS004\",TABLAS!$A$372)"},null,null,null,null,null,null,null,null,null,null,null,"=+IMPORTARDATOSDINAMICOS(\" BAS003\",TABLAS!$A$108)","=+IMPORTARDATOSDINAMICOS(\" BAS003\",TABLAS!$A$176)","=+IMPORTARDATOSDINAMICOS(\" BAS003\",TABLAS!$A$246)","=+IMPORTARDATOSDINAMICOS(\" BAS003\",TABLAS!$A$311)","=+IMPORTARDATOSDINAMICOS(\" BAS003\",TABLAS!$A$372)",null,null,null,null,null,null,null,{"$f":"CONCATENATE(BO21,MID(BP21,2,50),MID(BQ21,2,50),MID(BR21,2,50),MID(BS21,2,50))","v":"=+IMPORTARDATOSDINAMICOS(\" BAS003\",TABLAS!$A$108)+IMPORTARDATOSDINAMICOS(\" BAS003\",TABLAS!$A$176)+IMPORTARDATOSDINAMICOS(\" BAS003\",TABLAS!$A$246)+IMPORTARDATOSDINAMICOS(\" BAS003\",TABLAS!$A$311)+IMPORTARDATOSDINAMICOS(\" BAS003\",TABLAS!$A$372)"},null,null,null,null,null,null,null,null,null,null,null,"=+IMPORTARDATOSDINAMICOS(\" BAS004\",TABLAS!$A$108)","=+IMPORTARDATOSDINAMICOS(\" BAS004\",TABLAS!$A$176)","=+IMPORTARDATOSDINAMICOS(\" BAS004\",TABLAS!$A$246)","=+IMPORTARDATOSDINAMICOS(\" BAS004\",TABLAS!$A$311)","=+IMPORTARDATOSDINAMICOS(\" BAS004\",TABLAS!$A$372)",null,null,null,null,null,null,null,{"$f":"CONCATENATE(CM21,MID(CN21,2,50),MID(CO21,2,50),MID(CP21,2,50),MID(CQ21,2,50))","v":"=+IMPORTARDATOSDINAMICOS(\" BAS004\",TABLAS!$A$108)+IMPORTARDATOSDINAMICOS(\" BAS004\",TABLAS!$A$176)+IMPORTARDATOSDINAMICOS(\" BAS004\",TABLAS!$A$246)+IMPORTARDATOSDINAMICOS(\" BAS004\",TABLAS!$A$311)+IMPORTARDATOSDINAMICOS(\" BAS004\",TABLAS!$A$372)"},null,null,null,null,null,null,null,null,null,null,null,null,null,null,null,null,null,null,null,null,null,null,null,null,null,null,null,"=+IMPORTARDATOSDINAMICOS(\" BAS003\",TABLAS!$A$75)","=+IMPORTARDATOSDINAMICOS(\" BAS003\",TABLAS!$A$142)","=+IMPORTARDATOSDINAMICOS(\" BAS003\",TABLAS!$A$211)","=+IMPORTARDATOSDINAMICOS(\" BAS003\",TABLAS!$A$281)","=+IMPORTARDATOSDINAMICOS(\" BAS003\",TABLAS!$A$341)",null,null,null,null,null,null,null,{"$f":"CONCATENATE(EA21,MID(EB21,2,50),MID(EC21,2,50),MID(ED21,2,50),MID(EE21,2,50))","v":"=+IMPORTARDATOSDINAMICOS(\" BAS003\",TABLAS!$A$75)+IMPORTARDATOSDINAMICOS(\" BAS003\",TABLAS!$A$142)+IMPORTARDATOSDINAMICOS(\" BAS003\",TABLAS!$A$211)+IMPORTARDATOSDINAMICOS(\" BAS003\",TABLAS!$A$281)+IMPORTARDATOSDINAMICOS(\" BAS003\",TABLAS!$A$341)"},null,null,null,null,null,null,null,null,null,null,null,"=+IMPORTARDATOSDINAMICOS(\" BAS004\",TABLAS!$A$75)","=+IMPORTARDATOSDINAMICOS(\" BAS004\",TABLAS!$A$142)","=+IMPORTARDATOSDINAMICOS(\" BAS004\",TABLAS!$A$211)","=+IMPORTARDATOSDINAMICOS(\" BAS004\",TABLAS!$A$281)","=+IMPORTARDATOSDINAMICOS(\" BAS004\",TABLAS!$A$341)",null,null,null,null,null,null,null,{"$f":"CONCATENATE(EY21,MID(EZ21,2,50),MID(FA21,2,50),MID(FB21,2,50),MID(FC21,2,50))","v":"=+IMPORTARDATOSDINAMICOS(\" BAS004\",TABLAS!$A$75)+IMPORTARDATOSDINAMICOS(\" BAS004\",TABLAS!$A$142)+IMPORTARDATOSDINAMICOS(\" BAS004\",TABLAS!$A$211)+IMPORTARDATOSDINAMICOS(\" BAS004\",TABLAS!$A$281)+IMPORTARDATOSDINAMICOS(\" BAS004\",TABLAS!$A$341)"}]
[{"$f":"+A21+4","v":5},"CASOS DE DESCARGA URETRAL",{"$f":"+GETPIVOTDATA(\" BAS005\",TABLAS!$A$75)","v":0},{"$f":"+GETPIVOTDATA(\" BAS006\",TABLAS!$A$75)","v":0},{"$f":"+GETPIVOTDATA(\" BAS005\",TABLAS!$A$142)","v":0},{"$f":"+GETPIVOTDATA(\" BAS006\",TABLAS!$A$142)","v":0},{"$f":"+GETPIVOTDATA(\" BAS005\",TABLAS!$A$211)","v":0},{"$f":"+GETPIVOTDATA(\" BAS006\",TABLAS!$A$211)","v":0},{"$f":"+GETPIVOTDATA(\" BAS005\",TABLAS!$A$281)","v":1},{"$f":"+GETPIVOTDATA(\" BAS006\",TABLAS!$A$281)","v":1},{"$f":"+GETPIVOTDATA(\" BAS005\",TABLAS!$A$341)","v":1},{"$f":"+GETPIVOTDATA(\" BAS006\",TABLAS!$A$341)","v":0},{"$f":"+GETPIVOTDATA(\" BAS005\",TABLAS!$A$108)","v":0},{"$f":"+GETPIVOTDATA(\" BAS006\",TABLAS!$A$108)","v":0},{"$f":"+GETPIVOTDATA(\" BAS005\",TABLAS!$A$176)","v":6},{"$f":"+GETPIVOTDATA(\" BAS006\",TABLAS!$A$176)","v":5},{"$f":"+GETPIVOTDATA(\" BAS005\",TABLAS!$A$246)","v":13},{"$f":"+GETPIVOTDATA(\" BAS006\",TABLAS!$A$246)","v":12},{"$f":"+GETPIVOTDATA(\" BAS005\",TABLAS!$A$311)","v":6},{"$f":"+GETPIVOTDATA(\" BAS006\",TABLAS!$A$311)","v":6},{"$f":"+GETPIVOTDATA(\" BAS005\",TABLAS!$A$372)","v":1},{"$f":"+GETPIVOTDATA(\" BAS006\",TABLAS!$A$372)","v":1},null,{"$f":"+M22+O22+Q22+S22+U22","v":26},null,{"$f":"+N22+P22+R22+T22+V22","v":24},{"$f":"+GETPIVOTDATA(\" BAS007\",TABLAS!$A$75)+GETPIVOTDATA(\" BAS007\",TABLAS!$A$142)+GETPIVOTDATA(\" BAS007\",TABLAS!$A$211)+GETPIVOTDATA(\" BAS007\",TABLAS!$A$281)+GETPIVOTDATA(\" BAS007\",TABLAS!$A$341)+GETPIVOTDATA(\" BAS007\",TABLAS!$A$108)+GETPIVOTDATA(\" BAS007\",TABLAS!$A$176)+GETPIVOTDATA(\" BAS007\",TABLAS!$A$246)+GETPIVOTDATA(\" BAS007\",TABLAS!$A$311)+GETPIVOTDATA(\" BAS007\",TABLAS!$A$372)","v":4},{"$f":"+GETPIVOTDATA(\" BAS008\",TABLAS!$A$75)+GETPIVOTDATA(\" BAS008\",TABLAS!$A$142)+GETPIVOTDATA(\" BAS008\",TABLAS!$A$211)+GETPIVOTDATA(\" BAS008\",TABLAS!$A$281)+GETPIVOTDATA(\" BAS008\",TABLAS!$A$341)+GETPIVOTDATA(\" BAS008\",TABLAS!$A$108)+GETPIVOTDATA(\" BAS008\",TABLAS!$A$176)+GETPIVOTDATA(\" BAS008\",TABLAS!$A$246)+GETPIVOTDATA(\" BAS008\",TABLAS!$A$311)+GETPIVOTDATA(\" BAS008\",TABLAS!$A$372)","v":4},null,null,null,null,null,null,null,null,null,null,null,null,null,{"$f":"+AS21+1","v":5},6,7,8,null,{"$f":"IF(AP22<10,CONCATENATE(\"00\",AP22),IF(AND(AP22>9,AP22<100),CONCATENATE(\"0\",AP22),AP22))","v":"005"},{"$f":"IF(AQ22<10,CONCATENATE(\"00\",AQ22),IF(AND(AQ22>9,AQ22<100),CONCATENATE(\"0\",AQ22),AQ22))","v":"006"},{"$f":"IF(AR22<10,CONCATENATE(\"00\",AR22),IF(AND(AR22>9,AR22<100),CONCATENATE(\"0\",AR22),AR22))","v":"007"},{"$f":"IF(AS22<10,CONCATENATE(\"00\",AS22),IF(AND(AS22>9,AS22<100),CONCATENATE(\"0\",AS22),AS22))","v":"008"},null,"=+IMPORTARDATOSDINAMICOS(\" BAS005\",TABLAS!$A$372)","=+IMPORTARDATOSDINAMICOS(\" BAS006\",TABLAS!$A$372)","=+IMPORTARDATOSDINAMICOS(\" BAS007\",TABLAS!$A$372)","=+IMPORTARDATOSDINAMICOS(\" BAS008\",TABLAS!$A$372)",null,null,null,null,null,null,null,null,null,null,null,"=+IMPORTARDATOSDINAMICOS(\" BAS007\",TABLAS!$A$108)","=+IMPORTARDATOSDINAMICOS(\" BAS007\",TABLAS!$A$176)","=+IMPORTARDATOSDINAMICOS(\" BAS007\",TABLAS!$A$246)","=+IMPORTARDATOSDINAMICOS(\" BAS007\",TABLAS!$A$311)","=+IMPORTARDATOSDINAMICOS(\" BAS007\",TABLAS!$A$372)",null,null,null,null,null,null,null,"=+IMPORTARDATOSDINAMICOS(\" BAS007\",TABLAS!$A$108)+IMPORTARDATOSDINAMICOS(\" BAS007\",TABLAS!$A$176)+IMPORTARDATOSDINAMICOS(\" BAS007\",TABLAS!$A$246)+IMPORTARDATOSDINAMICOS(\" BAS007\",TABLAS!$A$311)+IMPORTARDATOSDINAMICOS(\" BAS007\",TABLAS!$A$372)",null,null,null,null,null,null,null,null,null,null,null,"=+IMPORTARDATOSDINAMICOS(\" BAS008\",TABLAS!$A$108)","=+IMPORTARDATOSDINAMICOS(\" BAS008\",TABLAS!$A$176)","=+IMPORTARDATOSDINAMICOS(\" BAS008\",TABLAS!$A$246)","=+IMPORTARDATOSDINAMICOS(\" BAS008\",TABLAS!$A$311)","=+IMPORTARDATOSDINAMICOS(\" BAS008\",TABLAS!$A$372)",null,null,null,null,null,null,null,{"$f":"CONCATENATE(CM22,MID(CN22,2,50),MID(CO22,2,50),MID(CP22,2,50),MID(CQ22,2,50))","v":"=+IMPORTARDATOSDINAMICOS(\" BAS008\",TABLAS!$A$108)+IMPORTARDATOSDINAMICOS(\" BAS008\",TABLAS!$A$176)+IMPORTARDATOSDINAMICOS(\" BAS008\",TABLAS!$A$246)+IMPORTARDATOSDINAMICOS(\" BAS008\",TABLAS!$A$311)+IMPORTARDATOSDINAMICOS(\" BAS008\",TABLAS!$A$372)"},null,null,null,null,null,null,null,null,null,null,null,null,null,null,null,null,null,null,null,null,null,null,null,null,null,null,null,"=+IMPORTARDATOSDINAMICOS(\" BAS007\",TABLAS!$A$75)","=+IMPORTARDATOSDINAMICOS(\" BAS007\",TABLAS!$A$142)","=+IMPORTARDATOSDINAMICOS(\" BAS007\",TABLAS!$A$211)","=+IMPORTARDATOSDINAMICOS(\" BAS007\",TABLAS!$A$281)","=+IMPORTARDATOSDINAMICOS(\" BAS007\",TABLAS!$A$341)",null,null,null,null,null,null,null,{"$f":"CONCATENATE(EA22,MID(EB22,2,50),MID(EC22,2,50),MID(ED22,2,50),MID(EE22,2,50))","v":"=+IMPORTARDATOSDINAMICOS(\" BAS007\",TABLAS!$A$75)+IMPORTARDATOSDINAMICOS(\" BAS007\",TABLAS!$A$142)+IMPORTARDATOSDINAMICOS(\" BAS007\",TABLAS!$A$211)+IMPORTARDATOSDINAMICOS(\" BAS007\",TABLAS!$A$281)+IMPORTARDATOSDINAMICOS(\" BAS007\",TABLAS!$A$341)"},null,null,null,null,null,null,null,null,null,null,null,"=+IMPORTARDATOSDINAMICOS(\" BAS008\",TABLAS!$A$75)","=+IMPORTARDATOSDINAMICOS(\" BAS008\",TABLAS!$A$142)","=+IMPORTARDATOSDINAMICOS(\" BAS008\",TABLAS!$A$211)","=+IMPORTARDATOSDINAMICOS(\" BAS008\",TABLAS!$A$281)","=+IMPORTARDATOSDINAMICOS(\" BAS008\",TABLAS!$A$341)",null,null,null,null,null,null,null,{"$f":"CONCATENATE(EY22,MID(EZ22,2,50),MID(FA22,2,50),MID(FB22,2,50),MID(FC22,2,50))","v":"=+IMPORTARDATOSDINAMICOS(\" BAS008\",TABLAS!$A$75)+IMPORTARDATOSDINAMICOS(\" BAS008\",TABLAS!$A$142)+IMPORTARDATOSDINAMICOS(\" BAS008\",TABLAS!$A$211)+IMPORTARDATOSDINAMICOS(\" BAS008\",TABLAS!$A$281)+IMPORTARDATOSDINAMICOS(\" BAS008\",TABLAS!$A$341)"}]
[{"$f":"+A22+4","v":9},"CASOS DE FLUJO VAGINAL COMPATIBLE CON ITS",{"$f":"+GETPIVOTDATA(\" BAS009\",TABLAS!$A$75)","v":3},{"$f":"+GETPIVOTDATA(\" BAS010\",TABLAS!$A$75)","v":3},{"$f":"+GETPIVOTDATA(\" BAS009\",TABLAS!$A$142)","v":42},{"$f":"+GETPIVOTDATA(\" BAS010\",TABLAS!$A$142)","v":42},{"$f":"+GETPIVOTDATA(\" BAS009\",TABLAS!$A$211)","v":601},{"$f":"+GETPIVOTDATA(\" BAS010\",TABLAS!$A$211)","v":601},{"$f":"+GETPIVOTDATA(\" BAS009\",TABLAS!$A$281)","v":1302},{"$f":"+GETPIVOTDATA(\" BAS010\",TABLAS!$A$281)","v":1297},{"$f":"+GETPIVOTDATA(\" BAS009\",TABLAS!$A$341)","v":47},{"$f":"+GETPIVOTDATA(\" BAS010\",TABLAS!$A$341)","v":47},{"$f":"+GETPIVOTDATA(\" BAS009\",TABLAS!$A$108)","v":0},{"$f":"+GETPIVOTDATA(\" BAS010\",TABLAS!$A$108)","v":0},{"$f":"+GETPIVOTDATA(\" BAS009\",TABLAS!$A$176)","v":0},{"$f":"+GETPIVOTDATA(\" BAS010\",TABLAS!$A$176)","v":0},{"$f":"+GETPIVOTDATA(\" BAS009\",TABLAS!$A$246)","v":0},{"$f":"+GETPIVOTDATA(\" BAS010\",TABLAS!$A$246)","v":0},{"$f":"+GETPIVOTDATA(\" BAS009\",TABLAS!$A$311)","v":1},{"$f":"+GETPIVOTDATA(\" BAS010\",TABLAS!$A$311)","v":1},{"$f":"+GETPIVOTDATA(\" BAS009\",TABLAS!$A$372)","v":0},{"$f":"+GETPIVOTDATA(\" BAS010\",TABLAS!$A$372)","v":0},{"$f":"+C23+E23+G23+I23+K23","v":1995},null,{"$f":"+D23+F23+H23+J23+L23","v":1990},null,{"$f":"+GETPIVOTDATA(\" BAS011\",TABLAS!$A$75)+GETPIVOTDATA(\" BAS011\",TABLAS!$A$142)+GETPIVOTDATA(\" BAS011\",TABLAS!$A$211)+GETPIVOTDATA(\" BAS011\",TABLAS!$A$281)+GETPIVOTDATA(\" BAS011\",TABLAS!$A$341)+GETPIVOTDATA(\" BAS011\",TABLAS!$A$108)+GETPIVOTDATA(\" BAS011\",TABLAS!$A$176)+GETPIVOTDATA(\" BAS011\",TABLAS!$A$246)+GETPIVOTDATA(\" BAS011\",TABLAS!$A$311)+GETPIVOTDATA(\" BAS011\",TABLAS!$A$372)","v":1895},{"$f":"+GETPIVOTDATA(\" BAS012\",TABLAS!$A$75)+GETPIVOTDATA(\" BAS012\",TABLAS!$A$142)+GETPIVOTDATA(\" BAS012\",TABLAS!$A$211)+GETPIVOTDATA(\" BAS012\",TABLAS!$A$281)+GETPIVOTDATA(\" BAS012\",TABLAS!$A$341)+GETPIVOTDATA(\" BAS012\",TABLAS!$A$108)+GETPIVOTDATA(\" BAS012\",TABLAS!$A$176)+GETPIVOTDATA(\" BAS012\",TABLAS!$A$246)+GETPIVOTDATA(\" BAS012\",TABLAS!$A$311)+GETPIVOTDATA(\" BAS012\",TABLAS!$A$372)","v":1891},null,null,null,null,null,null,null,null,null,null,null,null,null,{"$f":"+AS22+1","v":9},{"$f":"+AP23+1","v":10},11,12,null,{"$f":"IF(AP23<10,CONCATENATE(\"00\",AP23),IF(AND(AP23>9,AP23<100),CONCATENATE(\"0\",AP23),AP23))","v":"009"},"010",{"$f":"IF(AR23<10,CONCATENATE(\"00\",AR23),IF(AND(AR23>9,AR23<100),CONCATENATE(\"0\",AR23),AR23))","v":"011"},{"$f":"IF(AS23<10,CONCATENATE(\"00\",AS23),IF(AND(AS23>9,AS23<100),CONCATENATE(\"0\",AS23),AS23))","v":"012"},null,"=+IMPORTARDATOSDINAMICOS(\" BAS009\",TABLAS!$A$372)","=+IMPORTARDATOSDINAMICOS(\" BAS010\",TABLAS!$A$372)","=+IMPORTARDATOSDINAMICOS(\" BAS011\",TABLAS!$A$372)","=+IMPORTARDATOSDINAMICOS(\" BAS012\",TABLAS!$A$372)",null,null,null,null,null,null,null,null,null,null,null,"=+IMPORTARDATOSDINAMICOS(\" BAS011\",TABLAS!$A$108)","=+IMPORTARDATOSDINAMICOS(\" BAS011\",TABLAS!$A$176)","=+IMPORTARDATOSDINAMICOS(\" BAS011\",TABLAS!$A$246)","=+IMPORTARDATOSDINAMICOS(\" BAS011\",TABLAS!$A$311)","=+IMPORTARDATOSDINAMICOS(\" BAS011\",TABLAS!$A$372)",null,null,null,null,null,null,null,"=+IMPORTARDATOSDINAMICOS(\" BAS011\",TABLAS!$A$108)+IMPORTARDATOSDINAMICOS(\" BAS011\",TABLAS!$A$176)+IMPORTARDATOSDINAMICOS(\" BAS011\",TABLAS!$A$246)+IMPORTARDATOSDINAMICOS(\" BAS011\",TABLAS!$A$311)+IMPORTARDATOSDINAMICOS(\" BAS011\",TABLAS!$A$372)",null,null,null,null,null,null,null,null,null,null,null,"=+IMPORTARDATOSDINAMICOS(\" BAS012\",TABLAS!$A$108)","=+IMPORTARDATOSDINAMICOS(\" BAS012\",TABLAS!$A$176)","=+IMPORTARDATOSDINAMICOS(\" BAS012\",TABLAS!$A$246)","=+IMPORTARDATOSDINAMICOS(\" BAS012\",TABLAS!$A$311)","=+IMPORTARDATOSDINAMICOS(\" BAS012\",TABLAS!$A$372)",null,null,null,null,null,null,null,"=+IMPORTARDATOSDINAMICOS(\" BAS012\",TABLAS!$A$108)+IMPORTARDATOSDINAMICOS(\" BAS012\",TABLAS!$A$176)+IMPORTARDATOSDINAMICOS(\" BAS012\",TABLAS!$A$246)+IMPORTARDATOSDINAMICOS(\" BAS012\",TABLAS!$A$311)+IMPORTARDATOSDINAMICOS(\" BAS012\",TABLAS!$A$372)",null,null,null,null,null,null,null,null,null,null,null,null,null,null,null,null,null,null,null,null,null,null,null,null,null,null,null,"=+IMPORTARDATOSDINAMICOS(\" BAS011\",TABLAS!$A$75)","=+IMPORTARDATOSDINAMICOS(\" BAS011\",TABLAS!$A$142)","=+IMPORTARDATOSDINAMICOS(\" BAS011\",TABLAS!$A$211)","=+IMPORTARDATOSDINAMICOS(\" BAS011\",TABLAS!$A$281)","=+IMPORTARDATOSDINAMICOS(\" BAS011\",TABLAS!$A$341)",null,null,null,null,null,null,null,"=+IMPORTARDATOSDINAMICOS(\" BAS011\",TABLAS!$A$75)+IMPORTARDATOSDINAMICOS(\" BAS011\",TABLAS!$A$142)+IMPORTARDATOSDINAMICOS(\" BAS011\",TABLAS!$A$211)+IMPORTARDATOSDINAMICOS(\" BAS011\",TABLAS!$A$281)+IMPORTARDATOSDINAMICOS(\" BAS011\",TABLAS!$A$341)",null,null,null,null,null,null,null,null,null,null,null,"=+IMPORTARDATOSDINAMICOS(\" BAS012\",TABLAS!$A$75)","=+IMPORTARDATOSDINAMICOS(\" BAS012\",TABLAS!$A$142)","=+IMPORTARDATOSDINAMICOS(\" BAS012\",TABLAS!$A$211)","=+IMPORTARDATOSDINAMICOS(\" BAS012\",TABLAS!$A$281)","=+IMPORTARDATOSDINAMICOS(\" BAS012\",TABLAS!$A$341)",null,null,null,null,null,null,null,"=+IMPORTARDATOSDINAMICOS(\" BAS012\",TABLAS!$A$75)+IMPORTARDATOSDINAMICOS(\" BAS012\",TABLAS!$A$142)+IMPORTARDATOSDINAMICOS(\" BAS012\",TABLAS!$A$211)+IMPORTARDATOSDINAMICOS(\" BAS012\",TABLAS!$A$281)+IMPORTARDATOSDINAMICOS(\" BAS012\",TABLAS!$A$341)"]
[13,"CASOS DE ULCERA GENITAL",{"$f":"+GETPIVOTDATA(\" BAS013\",TABLAS!$A$75)","v":0},{"$f":"+GETPIVOTDATA(\" BAS014\",TABLAS!$A$75)","v":0},{"$f":"+GETPIVOTDATA(\" BAS013\",TABLAS!$A$142)","v":0},{"$f":"+GETPIVOTDATA(\" BAS014\",TABLAS!$A$142)","v":0},{"$f":"+GETPIVOTDATA(\" BAS013\",TABLAS!$A$211)","v":0},{"$f":"+GETPIVOTDATA(\" BAS014\",TABLAS!$A$211)","v":0},{"$f":"+GETPIVOTDATA(\" BAS013\",TABLAS!$A$281)","v":1},{"$f":"+GETPIVOTDATA(\" BAS014\",TABLAS!$A$281)","v":1},{"$f":"+GETPIVOTDATA(\" BAS013\",TABLAS!$A$341)","v":0},{"$f":"+GETPIVOTDATA(\" BAS014\",TABLAS!$A$341)","v":0},{"$f":"+GETPIVOTDATA(\" BAS013\",TABLAS!$A$108)","v":0},{"$f":"+GETPIVOTDATA(\" BAS014\",TABLAS!$A$108)","v":0},{"$f":"+GETPIVOTDATA(\" BAS013\",TABLAS!$A$176)","v":0},{"$f":"+GETPIVOTDATA(\" BAS014\",TABLAS!$A$176)","v":0},{"$f":"+GETPIVOTDATA(\" BAS013\",TABLAS!$A$246)","v":4},{"$f":"+GETPIVOTDATA(\" BAS014\",TABLAS!$A$246)","v":4},{"$f":"+GETPIVOTDATA(\" BAS013\",TABLAS!$A$311)","v":1},{"$f":"+GETPIVOTDATA(\" BAS014\",TABLAS!$A$311)","v":1},{"$f":"+GETPIVOTDATA(\" BAS013\",TABLAS!$A$372)","v":1},{"$f":"+GETPIVOTDATA(\" BAS014\",TABLAS!$A$372)","v":1},1,6,1,6,{"$f":"+GETPIVOTDATA(\" BAS015\",TABLAS!$A$75)+GETPIVOTDATA(\" BAS015\",TABLAS!$A$142)+GETPIVOTDATA(\" BAS015\",TABLAS!$A$211)+GETPIVOTDATA(\" BAS015\",TABLAS!$A$281)+GETPIVOTDATA(\" BAS015\",TABLAS!$A$341)+GETPIVOTDATA(\" BAS015\",TABLAS!$A$108)+GETPIVOTDATA(\" BAS015\",TABLAS!$A$176)+GETPIVOTDATA(\" BAS015\",TABLAS!$A$246)+GETPIVOTDATA(\" BAS015\",TABLAS!$A$311)+GETPIVOTDATA(\" BAS015\",TABLAS!$A$372)","v":2},{"$f":"+GETPIVOTDATA(\" BAS016\",TABLAS!$A$75)+GETPIVOTDATA(\" BAS016\",TABLAS!$A$142)+GETPIVOTDATA(\" BAS016\",TABLAS!$A$211)+GETPIVOTDATA(\" BAS016\",TABLAS!$A$281)+GETPIVOTDATA(\" BAS016\",TABLAS!$A$341)+GETPIVOTDATA(\" BAS016\",TABLAS!$A$108)+GETPIVOTDATA(\" BAS016\",TABLAS!$A$176)+GETPIVOTDATA(\" BAS016\",TABLAS!$A$246)+GETPIVOTDATA(\" BAS016\",TABLAS!$A$311)+GETPIVOTDATA(\" BAS016\",TABLAS!$A$372)","v":7},null,null,null,null,null,null,null,null,null,null,null,null,null,13,{"$f":"+AP24+1","v":14},15,16,null,"013","014","015","016",null,"=+IMPORTARDATOSDINAMICOS(\" BAS013\",TABLAS!$A$372)","=+IMPORTARDATOSDINAMICOS(\" BAS014\",TABLAS!$A$372)","=+IMPORTARDATOSDINAMICOS(\" BAS015\",TABLAS!$A$372)","=+IMPORTARDATOSDINAMICOS(\" BAS016\",TABLAS!$A$372)",null,null,null,null,null,null,null,null,null,null,null,"=+IMPORTARDATOSDINAMICOS(\" BAS015\",TABLAS!$A$108)","=+IMPORTARDATOSDINAMICOS(\" BAS015\",TABLAS!$A$176)","=+IMPORTARDATOSDINAMICOS(\" BAS015\",TABLAS!$A$246)","=+IMPORTARDATOSDINAMICOS(\" BAS015\",TABLAS!$A$311)","=+IMPORTARDATOSDINAMICOS(\" BAS015\",TABLAS!$A$372)",null,null,null,null,null,null,null,"=+IMPORTARDATOSDINAMICOS(\" BAS015\",TABLAS!$A$108)+IMPORTARDATOSDINAMICOS(\" BAS015\",TABLAS!$A$176)+IMPORTARDATOSDINAMICOS(\" BAS015\",TABLAS!$A$246)+IMPORTARDATOSDINAMICOS(\" BAS015\",TABLAS!$A$311)+IMPORTARDATOSDINAMICOS(\" BAS015\",TABLAS!$A$372)",null,null,null,null,null,null,null,null,null,null,null,"=+IMPORTARDATOSDINAMICOS(\" BAS016\",TABLAS!$A$108)","=+IMPORTARDATOSDINAMICOS(\" BAS016\",TABLAS!$A$176)","=+IMPORTARDATOSDINAMICOS(\" BAS016\",TABLAS!$A$246)","=+IMPORTARDATOSDINAMICOS(\" BAS016\",TABLAS!$A$311)","=+IMPORTARDATOSDINAMICOS(\" BAS016\",TABLAS!$A$372)",null,null,null,null,null,null,null,"=+IMPORTARDATOSDINAMICOS(\" BAS016\",TABLAS!$A$108)+IMPORTARDATOSDINAMICOS(\" BAS016\",TABLAS!$A$176)+IMPORTARDATOSDINAMICOS(\" BAS016\",TABLAS!$A$246)+IMPORTARDATOSDINAMICOS(\" BAS016\",TABLAS!$A$311)+IMPORTARDATOSDINAMICOS(\" BAS016\",TABLAS!$A$372)",null,null,null,null,null,null,null,null,null,null,null,null,null,null,null,null,null,null,null,null,null,null,null,null,null,null,null,"=+IMPORTARDATOSDINAMICOS(\" BAS015\",TABLAS!$A$75)","=+IMPORTARDATOSDINAMICOS(\" BAS015\",TABLAS!$A$142)","=+IMPORTARDATOSDINAMICOS(\" BAS015\",TABLAS!$A$211)","=+IMPORTARDATOSDINAMICOS(\" BAS015\",TABLAS!$A$281)","=+IMPORTARDATOSDINAMICOS(\" BAS015\",TABLAS!$A$341)",null,null,null,null,null,null,null,"=+IMPORTARDATOSDINAMICOS(\" BAS015\",TABLAS!$A$75)+IMPORTARDATOSDINAMICOS(\" BAS015\",TABLAS!$A$142)+IMPORTARDATOSDINAMICOS(\" BAS015\",TABLAS!$A$211)+IMPORTARDATOSDINAMICOS(\" BAS015\",TABLAS!$A$281)+IMPORTARDATOSDINAMICOS(\" BAS015\",TABLAS!$A$341)",null,null,null,null,null,null,null,null,null,null,null,"=+IMPORTARDATOSDINAMICOS(\" BAS016\",TABLAS!$A$75)","=+IMPORTARDATOSDINAMICOS(\" BAS016\",TABLAS!$A$142)","=+IMPORTARDATOSDINAMICOS(\" BAS016\",TABLAS!$A$211)","=+IMPORTARDATOSDINAMICOS(\" BAS016\",TABLAS!$A$281)","=+IMPORTARDATOSDINAMICOS(\" BAS016\",TABLAS!$A$341)",null,null,null,null,null,null,null,"=+IMPORTARDATOSDINAMICOS(\" BAS016\",TABLAS!$A$75)+IMPORTARDATOSDINAMICOS(\" BAS016\",TABLAS!$A$142)+IMPORTARDATOSDINAMICOS(\" BAS016\",TABLAS!$A$211)+IMPORTARDATOSDINAMICOS(\" BAS016\",TABLAS!$A$281)+IMPORTARDATOSDINAMICOS(\" BAS016\",TABLAS!$A$341)"]
[17,"CASOS DE BUBON INGUINAL",{"$f":"+GETPIVOTDATA(\" BAS017\",TABLAS!$A$75)","v":0},{"$f":"+GETPIVOTDATA(\" BAS018\",TABLAS!$A$75)","v":0},{"$f":"+GETPIVOTDATA(\" BAS017\",TABLAS!$A$142)","v":2},{"$f":"+GETPIVOTDATA(\" BAS018\",TABLAS!$A$142)","v":2},{"$f":"+GETPIVOTDATA(\" BAS017\",TABLAS!$A$211)","v":3},{"$f":"+GETPIVOTDATA(\" BAS018\",TABLAS!$A$211)","v":3},{"$f":"+GETPIVOTDATA(\" BAS017\",TABLAS!$A$281)","v":1},{"$f":"+GETPIVOTDATA(\" BAS018\",TABLAS!$A$281)","v":1},{"$f":"+GETPIVOTDATA(\" BAS017\",TABLAS!$A$341)","v":0},{"$f":"+GETPIVOTDATA(\" BAS018\",TABLAS!$A$341)","v":0},{"$f":"+GETPIVOTDATA(\" BAS017\",TABLAS!$A$108)","v":0},{"$f":"+GETPIVOTDATA(\" BAS018\",TABLAS!$A$108)","v":0},{"$f":"+GETPIVOTDATA(\" BAS017\",TABLAS!$A$176)","v":0},{"$f":"+GETPIVOTDATA(\" BAS018\",TABLAS!$A$176)","v":0},{"$f":"+GETPIVOTDATA(\" BAS017\",TABLAS!$A$246)","v":2},{"$f":"+GETPIVOTDATA(\" BAS018\",TABLAS!$A$246)","v":2},{"$f":"+GETPIVOTDATA(\" BAS017\",TABLAS!$A$311)","v":0},{"$f":"+GETPIVOTDATA(\" BAS018\",TABLAS!$A$311)","v":0},{"$f":"+GETPIVOTDATA(\" BAS017\",TABLAS!$A$372)","v":0},{"$f":"+GETPIVOTDATA(\" BAS018\",TABLAS!$A$372)","v":0},6,2,6,2,{"$f":"+GETPIVOTDATA(\" BAS019\",TABLAS!$A$75)+GETPIVOTDATA(\" BAS019\",TABLAS!$A$142)+GETPIVOTDATA(\" BAS019\",TABLAS!$A$211)+GETPIVOTDATA(\" BAS019\",TABLAS!$A$281)+GETPIVOTDATA(\" BAS019\",TABLAS!$A$341)+GETPIVOTDATA(\" BAS019\",TABLAS!$A$108)+GETPIVOTDATA(\" BAS019\",TABLAS!$A$176)+GETPIVOTDATA(\" BAS019\",TABLAS!$A$246)+GETPIVOTDATA(\" BAS019\",TABLAS!$A$311)+GETPIVOTDATA(\" BAS019\",TABLAS!$A$372)","v":1},{"$f":"+GETPIVOTDATA(\" BAS020\",TABLAS!$A$75)+GETPIVOTDATA(\" BAS020\",TABLAS!$A$142)+GETPIVOTDATA(\" BAS020\",TABLAS!$A$211)+GETPIVOTDATA(\" BAS020\",TABLAS!$A$281)+GETPIVOTDATA(\" BAS020\",TABLAS!$A$341)+GETPIVOTDATA(\" BAS020\",TABLAS!$A$108)+GETPIVOTDATA(\" BAS020\",TABLAS!$A$176)+GETPIVOTDATA(\" BAS020\",TABLAS!$A$246)+GETPIVOTDATA(\" BAS020\",TABLAS!$A$311)+GETPIVOTDATA(\" BAS020\",TABLAS!$A$372)","v":8},null,null,null,null,null,null,null,null,null,null,null,null,null,17,{"$f":"+AP25+1","v":18},19,20,null,"017","018","019","020",null,"=+IMPORTARDATOSDINAMICOS(\" BAS017\",TABLAS!$A$372)","=+IMPORTARDATOSDINAMICOS(\" BAS018\",TABLAS!$A$372)","=+IMPORTARDATOSDINAMICOS(\" BAS019\",TABLAS!$A$372)","=+IMPORTARDATOSDINAMICOS(\" BAS020\",TABLAS!$A$372)",null,null,null,null,null,null,null,null,null,null,null,"=+IMPORTARDATOSDINAMICOS(\" BAS019\",TABLAS!$A$108)","=+IMPORTARDATOSDINAMICOS(\" BAS019\",TABLAS!$A$176)","=+IMPORTARDATOSDINAMICOS(\" BAS019\",TABLAS!$A$246)","=+IMPORTARDATOSDINAMICOS(\" BAS019\",TABLAS!$A$311)","=+IMPORTARDATOSDINAMICOS(\" BAS019\",TABLAS!$A$372)",null,null,null,null,null,null,null,"=+IMPORTARDATOSDINAMICOS(\" BAS019\",TABLAS!$A$108)+IMPORTARDATOSDINAMICOS(\" BAS019\",TABLAS!$A$176)+IMPORTARDATOSDINAMICOS(\" BAS019\",TABLAS!$A$246)+IMPORTARDATOSDINAMICOS(\" BAS019\",TABLAS!$A$311)+IMPORTARDATOSDINAMICOS(\" BAS019\",TABLAS!$A$372)",null,null,null,null,null,null,null,null,null,null,null,"=+IMPORTARDATOSDINAMICOS(\" BAS020\",TABLAS!$A$108)","=+IMPORTARDATOSDINAMICOS(\" BAS020\",TABLAS!$A$176)","=+IMPORTARDATOSDINAMICOS(\" BAS020\",TABLAS!$A$246)","=+IMPORTARDATOSDINAMICOS(\" BAS020\",TABLAS!$A$311)","=+IMPORTARDATOSDINAMICOS(\" BAS020\",TABLAS!$A$372)",null,null,null,null,null,null,null,"=+IMPORTARDATOSDINAMICOS(\" BAS020\",TABLAS!$A$108)+IMPORTARDATOSDINAMICOS(\" BAS020\",TABLAS!$A$176)+IMPORTARDATOSDINAMICOS(\" BAS020\",TABLAS!$A$246)+IMPORTARDATOSDINAMICOS(\" BAS020\",TABLAS!$A$311)+IMPORTARDATOSDINAMICOS(\" BAS020\",TABLAS!$A$372)",null,null,null,null,null,null,null,null,null,null,null,null,null,null,null,null,null,null,null,null,null,null,null,null,null,null,null,"=+IMPORTARDATOSDINAMICOS(\" BAS019\",TABLAS!$A$75)","=+IMPORTARDATOSDINAMICOS(\" BAS019\",TABLAS!$A$142)","=+IMPORTARDATOSDINAMICOS(\" BAS019\",TABLAS!$A$211)","=+IMPORTARDATOSDINAMICOS(\" BAS019\",TABLAS!$A$281)","=+IMPORTARDATOSDINAMICOS(\" BAS019\",TABLAS!$A$341)",null,null,null,null,null,null,null,"=+IMPORTARDATOSDINAMICOS(\" BAS019\",TABLAS!$A$75)+IMPORTARDATOSDINAMICOS(\" BAS019\",TABLAS!$A$142)+IMPORTARDATOSDINAMICOS(\" BAS019\",TABLAS!$A$211)+IMPORTARDATOSDINAMICOS(\" BAS019\",TABLAS!$A$281)+IMPORTARDATOSDINAMICOS(\" BAS019\",TABLAS!$A$341)",null,null,null,null,null,null,null,null,null,null,null,"=+IMPORTARDATOSDINAMICOS(\" BAS020\",TABLAS!$A$75)","=+IMPORTARDATOSDINAMICOS(\" BAS020\",TABLAS!$A$142)","=+IMPORTARDATOSDINAMICOS(\" BAS020\",TABLAS!$A$211)","=+IMPORTARDATOSDINAMICOS(\" BAS020\",TABLAS!$A$281)","=+IMPORTARDATOSDINAMICOS(\" BAS020\",TABLAS!$A$341)",null,null,null,null,null,null,null,"=+IMPORTARDATOSDINAMICOS(\" BAS020\",TABLAS!$A$75)+IMPORTARDATOSDINAMICOS(\" BAS020\",TABLAS!$A$142)+IMPORTARDATOSDINAMICOS(\" BAS020\",TABLAS!$A$211)+IMPORTARDATOSDINAMICOS(\" BAS020\",TABLAS!$A$281)+IMPORTARDATOSDINAMICOS(\" BAS020\",TABLAS!$A$341)"]
[21,"CASOS CON SINDROME DE DOLOR ABDOMINAL BAJO",{"$f":"+GETPIVOTDATA(\" BAS021\",TABLAS!$A$75)","v":0},{"$f":"+GETPIVOTDATA(\" BAS022\",TABLAS!$A$75)","v":0},{"$f":"+GETPIVOTDATA(\" BAS021\",TABLAS!$A$142)","v":2},{"$f":"+GETPIVOTDATA(\" BAS022\",TABLAS!$A$142)","v":2},{"$f":"+GETPIVOTDATA(\" BAS021\",TABLAS!$A$211)","v":59},{"$f":"+GETPIVOTDATA(\" BAS022\",TABLAS!$A$211)","v":58},{"$f":"+GETPIVOTDATA(\" BAS021\",TABLAS!$A$281)","v":159},{"$f":"+GETPIVOTDATA(\" BAS022\",TABLAS!$A$281)","v":158},{"$f":"+GETPIVOTDATA(\" BAS021\",TABLAS!$A$341)","v":7},{"$f":"+GETPIVOTDATA(\" BAS022\",TABLAS!$A$341)","v":7},{"$f":"+GETPIVOTDATA(\" BAS021\",TABLAS!$A$108)","v":0},{"$f":"+GETPIVOTDATA(\" BAS022\",TABLAS!$A$108)","v":0},{"$f":"+GETPIVOTDATA(\" BAS021\",TABLAS!$A$176)","v":0},{"$f":"+GETPIVOTDATA(\" BAS022\",TABLAS!$A$176)","v":0},{"$f":"+GETPIVOTDATA(\" BAS021\",TABLAS!$A$246)","v":0},{"$f":"+GETPIVOTDATA(\" BAS022\",TABLAS!$A$246)","v":0},{"$f":"+GETPIVOTDATA(\" BAS021\",TABLAS!$A$311)","v":0},{"$f":"+GETPIVOTDATA(\" BAS022\",TABLAS!$A$311)","v":0},{"$f":"+GETPIVOTDATA(\" BAS021\",TABLAS!$A$372)","v":0},{"$f":"+GETPIVOTDATA(\" BAS022\",TABLAS!$A$372)","v":0},227,null,225,null,{"$f":"+GETPIVOTDATA(\" BAS023\",TABLAS!$A$75)+GETPIVOTDATA(\" BAS023\",TABLAS!$A$142)+GETPIVOTDATA(\" BAS023\",TABLAS!$A$211)+GETPIVOTDATA(\" BAS023\",TABLAS!$A$281)+GETPIVOTDATA(\" BAS023\",TABLAS!$A$341)+GETPIVOTDATA(\" BAS023\",TABLAS!$A$108)+GETPIVOTDATA(\" BAS023\",TABLAS!$A$176)+GETPIVOTDATA(\" BAS023\",TABLAS!$A$246)+GETPIVOTDATA(\" BAS023\",TABLAS!$A$311)+GETPIVOTDATA(\" BAS023\",TABLAS!$A$372)","v":215},{"$f":"+GETPIVOTDATA(\" BAS024\",TABLAS!$A$75)+GETPIVOTDATA(\" BAS024\",TABLAS!$A$142)+GETPIVOTDATA(\" BAS024\",TABLAS!$A$211)+GETPIVOTDATA(\" BAS024\",TABLAS!$A$281)+GETPIVOTDATA(\" BAS024\",TABLAS!$A$341)+GETPIVOTDATA(\" BAS024\",TABLAS!$A$108)+GETPIVOTDATA(\" BAS024\",TABLAS!$A$176)+GETPIVOTDATA(\" BAS024\",TABLAS!$A$246)+GETPIVOTDATA(\" BAS024\",TABLAS!$A$311)+GETPIVOTDATA(\" BAS024\",TABLAS!$A$372)","v":7},null,null,null,null,null,null,null,null,null,null,null,null,null,21,{"$f":"+AP26+1","v":22},23,24,null,"021","022","023","024",null,"=+IMPORTARDATOSDINAMICOS(\" BAS021\",TABLAS!$A$372)","=+IMPORTARDATOSDINAMICOS(\" BAS022\",TABLAS!$A$372)","=+IMPORTARDATOSDINAMICOS(\" BAS023\",TABLAS!$A$372)","=+IMPORTARDATOSDINAMICOS(\" BAS024\",TABLAS!$A$372)",null,null,null,null,null,null,null,null,null,null,null,"=+IMPORTARDATOSDINAMICOS(\" BAS023\",TABLAS!$A$108)","=+IMPORTARDATOSDINAMICOS(\" BAS023\",TABLAS!$A$176)","=+IMPORTARDATOSDINAMICOS(\" BAS023\",TABLAS!$A$246)","=+IMPORTARDATOSDINAMICOS(\" BAS023\",TABLAS!$A$311)","=+IMPORTARDATOSDINAMICOS(\" BAS023\",TABLAS!$A$372)",null,null,null,null,null,null,null,"=+IMPORTARDATOSDINAMICOS(\" BAS023\",TABLAS!$A$108)+IMPORTARDATOSDINAMICOS(\" BAS023\",TABLAS!$A$176)+IMPORTARDATOSDINAMICOS(\" BAS023\",TABLAS!$A$246)+IMPORTARDATOSDINAMICOS(\" BAS023\",TABLAS!$A$311)+IMPORTARDATOSDINAMICOS(\" BAS023\",TABLAS!$A$372)",null,null,null,null,null,null,null,null,null,null,null,"=+IMPORTARDATOSDINAMICOS(\" BAS024\",TABLAS!$A$108)","=+IMPORTARDATOSDINAMICOS(\" BAS024\",TABLAS!$A$176)","=+IMPORTARDATOSDINAMICOS(\" BAS024\",TABLAS!$A$246)","=+IMPORTARDATOSDINAMICOS(\" BAS024\",TABLAS!$A$311)","=+IMPORTARDATOSDINAMICOS(\" BAS024\",TABLAS!$A$372)",null,null,null,null,null,null,null,"=+IMPORTARDATOSDINAMICOS(\" BAS024\",TABLAS!$A$108)+IMPORTARDATOSDINAMICOS(\" BAS024\",TABLAS!$A$176)+IMPORTARDATOSDINAMICOS(\" BAS024\",TABLAS!$A$246)+IMPORTARDATOSDINAMICOS(\" BAS024\",TABLAS!$A$311)+IMPORTARDATOSDINAMICOS(\" BAS024\",TABLAS!$A$372)",null,null,null,null,null,null,null,null,null,null,null,null,null,null,null,null,null,null,null,null,null,null,null,null,null,null,null,"=+IMPORTARDATOSDINAMICOS(\" BAS023\",TABLAS!$A$75)","=+IMPORTARDATOSDINAMICOS(\" BAS023\",TABLAS!$A$142)","=+IMPORTARDATOSDINAMICOS(\" BAS023\",TABLAS!$A$211)","=+IMPORTARDATOSDINAMICOS(\" BAS023\",TABLAS!$A$281)","=+IMPORTARDATOSDINAMICOS(\" BAS023\",TABLAS!$A$341)",null,null,null,null,null,null,null,"=+IMPORTARDATOSDINAMICOS(\" BAS023\",TABLAS!$A$75)+IMPORTARDATOSDINAMICOS(\" BAS023\",TABLAS!$A$142)+IMPORTARDATOSDINAMICOS(\" BAS023\",TABLAS!$A$211)+IMPORTARDATOSDINAMICOS(\" BAS023\",TABLAS!$A$281)+IMPORTARDATOSDINAMICOS(\" BAS023\",TABLAS!$A$341)",null,null,null,null,null,null,null,null,null,null,null,"=+IMPORTARDATOSDINAMICOS(\" BAS024\",TABLAS!$A$75)","=+IMPORTARDATOSDINAMICOS(\" BAS024\",TABLAS!$A$142)","=+IMPORTARDATOSDINAMICOS(\" BAS024\",TABLAS!$A$211)","=+IMPORTARDATOSDINAMICOS(\" BAS024\",TABLAS!$A$281)","=+IMPORTARDATOSDINAMICOS(\" BAS024\",TABLAS!$A$341)",null,null,null,null,null,null,null,"=+IMPORTARDATOSDINAMICOS(\" BAS024\",TABLAS!$A$75)+IMPORTARDATOSDINAMICOS(\" BAS024\",TABLAS!$A$142)+IMPORTARDATOSDINAMICOS(\" BAS024\",TABLAS!$A$211)+IMPORTARDATOSDINAMICOS(\" BAS024\",TABLAS!$A$281)+IMPORTARDATOSDINAMICOS(\" BAS024\",TABLAS!$A$341)"]
[25,"CASOS DE CONDILOMA",{"$f":"+GETPIVOTDATA(\" BAS025\",TABLAS!$A$75)","v":0},{"$f":"+GETPIVOTDATA(\" BAS026\",TABLAS!$A$75)","v":0},{"$f":"+GETPIVOTDATA(\" BAS025\",TABLAS!$A$142)","v":0},{"$f":"+GETPIVOTDATA(\" BAS026\",TABLAS!$A$142)","v":0},{"$f":"+GETPIVOTDATA(\" BAS025\",TABLAS!$A$211)","v":4},{"$f":"+GETPIVOTDATA(\" BAS026\",TABLAS!$A$211)","v":3},{"$f":"+GETPIVOTDATA(\" BAS025\",TABLAS!$A$281)","v":4},{"$f":"+GETPIVOTDATA(\" BAS026\",TABLAS!$A$281)","v":1},{"$f":"+GETPIVOTDATA(\" BAS025\",TABLAS!$A$341)","v":2},{"$f":"+GETPIVOTDATA(\" BAS026\",TABLAS!$A$341)","v":1},{"$f":"+GETPIVOTDATA(\" BAS025\",TABLAS!$A$108)","v":0},{"$f":"+GETPIVOTDATA(\" BAS026\",TABLAS!$A$108)","v":0},{"$f":"+GETPIVOTDATA(\" BAS025\",TABLAS!$A$176)","v":0},{"$f":"+GETPIVOTDATA(\" BAS026\",TABLAS!$A$176)","v":0},{"$f":"+GETPIVOTDATA(\" BAS025\",TABLAS!$A$246)","v":4},{"$f":"+GETPIVOTDATA(\" BAS026\",TABLAS!$A$246)","v":5},{"$f":"+GETPIVOTDATA(\" BAS025\",TABLAS!$A$311)","v":0},{"$f":"+GETPIVOTDATA(\" BAS026\",TABLAS!$A$311)","v":0},{"$f":"+GETPIVOTDATA(\" BAS025\",TABLAS!$A$372)","v":1},{"$f":"+GETPIVOTDATA(\" BAS026\",TABLAS!$A$372)","v":0},10,5,5,5,{"$f":"+GETPIVOTDATA(\" BAS027\",TABLAS!$A$75)+GETPIVOTDATA(\" BAS027\",TABLAS!$A$142)+GETPIVOTDATA(\" BAS027\",TABLAS!$A$211)+GETPIVOTDATA(\" BAS027\",TABLAS!$A$281)+GETPIVOTDATA(\" BAS027\",TABLAS!$A$341)+GETPIVOTDATA(\" BAS027\",TABLAS!$A$108)+GETPIVOTDATA(\" BAS027\",TABLAS!$A$176)+GETPIVOTDATA(\" BAS027\",TABLAS!$A$246)+GETPIVOTDATA(\" BAS027\",TABLAS!$A$311)+GETPIVOTDATA(\" BAS027\",TABLAS!$A$372)","v":6},{"$f":"+GETPIVOTDATA(\" BAS028\",TABLAS!$A$75)+GETPIVOTDATA(\" BAS028\",TABLAS!$A$142)+GETPIVOTDATA(\" BAS028\",TABLAS!$A$211)+GETPIVOTDATA(\" BAS028\",TABLAS!$A$281)+GETPIVOTDATA(\" BAS028\",TABLAS!$A$341)+GETPIVOTDATA(\" BAS028\",TABLAS!$A$108)+GETPIVOTDATA(\" BAS028\",TABLAS!$A$176)+GETPIVOTDATA(\" BAS028\",TABLAS!$A$246)+GETPIVOTDATA(\" BAS028\",TABLAS!$A$311)+GETPIVOTDATA(\" BAS028\",TABLAS!$A$372)","v":10},null,null,null,null,null,null,null,null,null,null,null,null,null,25,{"$f":"+AP27+1","v":26},27,28,null,"025","026","027","028",null,"=+IMPORTARDATOSDINAMICOS(\" BAS025\",TABLAS!$A$372)","=+IMPORTARDATOSDINAMICOS(\" BAS026\",TABLAS!$A$372)","=+IMPORTARDATOSDINAMICOS(\" BAS027\",TABLAS!$A$372)","=+IMPORTARDATOSDINAMICOS(\" BAS028\",TABLAS!$A$372)",null,null,null,null,null,null,null,null,null,null,null,"=+IMPORTARDATOSDINAMICOS(\" BAS027\",TABLAS!$A$108)","=+IMPORTARDATOSDINAMICOS(\" BAS027\",TABLAS!$A$176)","=+IMPORTARDATOSDINAMICOS(\" BAS027\",TABLAS!$A$246)","=+IMPORTARDATOSDINAMICOS(\" BAS027\",TABLAS!$A$311)","=+IMPORTARDATOSDINAMICOS(\" BAS027\",TABLAS!$A$372)",null,null,null,null,null,null,null,"=+IMPORTARDATOSDINAMICOS(\" BAS027\",TABLAS!$A$108)+IMPORTARDATOSDINAMICOS(\" BAS027\",TABLAS!$A$176)+IMPORTARDATOSDINAMICOS(\" BAS027\",TABLAS!$A$246)+IMPORTARDATOSDINAMICOS(\" BAS027\",TABLAS!$A$311)+IMPORTARDATOSDINAMICOS(\" BAS027\",TABLAS!$A$372)",null,null,null,null,null,null,null,null,null,null,null,"=+IMPORTARDATOSDINAMICOS(\" BAS028\",TABLAS!$A$108)","=+IMPORTARDATOSDINAMICOS(\" BAS028\",TABLAS!$A$176)","=+IMPORTARDATOSDINAMICOS(\" BAS028\",TABLAS!$A$246)","=+IMPORTARDATOSDINAMICOS(\" BAS028\",TABLAS!$A$311)","=+IMPORTARDATOSDINAMICOS(\" BAS028\",TABLAS!$A$372)",null,null,null,null,null,null,null,"=+IMPORTARDATOSDINAMICOS(\" BAS028\",TABLAS!$A$108)+IMPORTARDATOSDINAMICOS(\" BAS028\",TABLAS!$A$176)+IMPORTARDATOSDINAMICOS(\" BAS028\",TABLAS!$A$246)+IMPORTARDATOSDINAMICOS(\" BAS028\",TABLAS!$A$311)+IMPORTARDATOSDINAMICOS(\" BAS028\",TABLAS!$A$372)",null,null,null,null,null,null,null,null,null,null,null,null,null,null,null,null,null,null,null,null,null,null,null,null,null,null,null,"=+IMPORTARDATOSDINAMICOS(\" BAS027\",TABLAS!$A$75)","=+IMPORTARDATOSDINAMICOS(\" BAS027\",TABLAS!$A$142)","=+IMPORTARDATOSDINAMICOS(\" BAS027\",TABLAS!$A$211)","=+IMPORTARDATOSDINAMICOS(\" BAS027\",TABLAS!$A$281)","=+IMPORTARDATOSDINAMICOS(\" BAS027\",TABLAS!$A$341)",null,null,null,null,null,null,null,"=+IMPORTARDATOSDINAMICOS(\" BAS027\",TABLAS!$A$75)+IMPORTARDATOSDINAMICOS(\" BAS027\",TABLAS!$A$142)+IMPORTARDATOSDINAMICOS(\" BAS027\",TABLAS!$A$211)+IMPORTARDATOSDINAMICOS(\" BAS027\",TABLAS!$A$281)+IMPORTARDATOSDINAMICOS(\" BAS027\",TABLAS!$A$341)",null,null,null,null,null,null,null,null,null,null,null,"=+IMPORTARDATOSDINAMICOS(\" BAS028\",TABLAS!$A$75)","=+IMPORTARDATOSDINAMICOS(\" BAS028\",TABLAS!$A$142)","=+IMPORTARDATOSDINAMICOS(\" BAS028\",TABLAS!$A$211)","=+IMPORTARDATOSDINAMICOS(\" BAS028\",TABLAS!$A$281)","=+IMPORTARDATOSDINAMICOS(\" BAS028\",TABLAS!$A$341)",null,null,null,null,null,null,null,"=+IMPORTARDATOSDINAMICOS(\" BAS028\",TABLAS!$A$75)+IMPORTARDATOSDINAMICOS(\" BAS028\",TABLAS!$A$142)+IMPORTARDATOSDINAMICOS(\" BAS028\",TABLAS!$A$211)+IMPORTARDATOSDINAMICOS(\" BAS028\",TABLAS!$A$281)+IMPORTARDATOSDINAMICOS(\" BAS028\",TABLAS!$A$341)"]
[29,"CASOS DE PROCTITIS",{"$f":"+GETPIVOTDATA(\" BAS029\",TABLAS!$A$75)","v":0},{"$f":"+GETPIVOTDATA(\" BAS030\",TABLAS!$A$75)","v":0},{"$f":"+GETPIVOTDATA(\" BAS029\",TABLAS!$A$142)","v":0},{"$f":"+GETPIVOTDATA(\" BAS030\",TABLAS!$A$142)","v":0},{"$f":"+GETPIVOTDATA(\" BAS029\",TABLAS!$A$211)","v":0},{"$f":"+GETPIVOTDATA(\" BAS030\",TABLAS!$A$211)","v":0},{"$f":"+GETPIVOTDATA(\" BAS029\",TABLAS!$A$281)","v":0},{"$f":"+GETPIVOTDATA(\" BAS030\",TABLAS!$A$281)","v":0},{"$f":"+GETPIVOTDATA(\" BAS029\",TABLAS!$A$341)","v":0},{"$f":"+GETPIVOTDATA(\" BAS030\",TABLAS!$A$341)","v":0},{"$f":"+GETPIVOTDATA(\" BAS029\",TABLAS!$A$108)","v":0},{"$f":"+GETPIVOTDATA(\" BAS030\",TABLAS!$A$108)","v":0},{"$f":"+GETPIVOTDATA(\" BAS029\",TABLAS!$A$176)","v":0},{"$f":"+GETPIVOTDATA(\" BAS030\",TABLAS!$A$176)","v":0},{"$f":"+GETPIVOTDATA(\" BAS029\",TABLAS!$A$246)","v":0},{"$f":"+GETPIVOTDATA(\" BAS030\",TABLAS!$A$246)","v":0},{"$f":"+GETPIVOTDATA(\" BAS029\",TABLAS!$A$311)","v":0},{"$f":"+GETPIVOTDATA(\" BAS030\",TABLAS!$A$311)","v":0},{"$f":"+GETPIVOTDATA(\" BAS029\",TABLAS!$A$372)","v":0},{"$f":"+GETPIVOTDATA(\" BAS030\",TABLAS!$A$372)","v":0},0,0,0,0,{"$f":"+GETPIVOTDATA(\" BAS031\",TABLAS!$A$75)+GETPIVOTDATA(\" BAS031\",TABLAS!$A$142)+GETPIVOTDATA(\" BAS031\",TABLAS!$A$211)+GETPIVOTDATA(\" BAS031\",TABLAS!$A$281)+GETPIVOTDATA(\" BAS031\",TABLAS!$A$341)+GETPIVOTDATA(\" BAS031\",TABLAS!$A$108)+GETPIVOTDATA(\" BAS031\",TABLAS!$A$176)+GETPIVOTDATA(\" BAS031\",TABLAS!$A$246)+GETPIVOTDATA(\" BAS031\",TABLAS!$A$311)+GETPIVOTDATA(\" BAS031\",TABLAS!$A$372)","v":0},{"$f":"+GETPIVOTDATA(\" BAS032\",TABLAS!$A$75)+GETPIVOTDATA(\" BAS032\",TABLAS!$A$142)+GETPIVOTDATA(\" BAS032\",TABLAS!$A$211)+GETPIVOTDATA(\" BAS032\",TABLAS!$A$281)+GETPIVOTDATA(\" BAS032\",TABLAS!$A$341)+GETPIVOTDATA(\" BAS032\",TABLAS!$A$108)+GETPIVOTDATA(\" BAS032\",TABLAS!$A$176)+GETPIVOTDATA(\" BAS032\",TABLAS!$A$246)+GETPIVOTDATA(\" BAS032\",TABLAS!$A$311)+GETPIVOTDATA(\" BAS032\",TABLAS!$A$372)","v":0},null,null,null,null,null,null,null,null,null,null,null,null,null,{"$f":"+AS27+1","v":29},{"$f":"+AP28+1","v":30},{"$f":"+AQ28+1","v":31},{"$f":"+AR28+1","v":32},8,{"$f":"IF(AP28<10,CONCATENATE(\"00\",AP28),IF(AND(AP28>9,AP28<100),CONCATENATE(\"0\",AP28),AP28))","v":"029"},{"$f":"IF(AQ28<10,CONCATENATE(\"00\",AQ28),IF(AND(AQ28>9,AQ28<100),CONCATENATE(\"0\",AQ28),AQ28))","v":"030"},{"$f":"IF(AR28<10,CONCATENATE(\"00\",AR28),IF(AND(AR28>9,AR28<100),CONCATENATE(\"0\",AR28),AR28))","v":"031"},{"$f":"IF(AS28<10,CONCATENATE(\"00\",AS28),IF(AND(AS28>9,AS28<100),CONCATENATE(\"0\",AS28),AS28))","v":"032"},null,"=+IMPORTARDATOSDINAMICOS(\" BAS029\",TABLAS!$A$372)","=+IMPORTARDATOSDINAMICOS(\" BAS030\",TABLAS!$A$372)","=+IMPORTARDATOSDINAMICOS(\" BAS031\",TABLAS!$A$372)","=+IMPORTARDATOSDINAMICOS(\" BAS032\",TABLAS!$A$372)",null,null,null,null,null,null,null,null,null,null,null,"=+IMPORTARDATOSDINAMICOS(\" BAS031\",TABLAS!$A$108)","=+IMPORTARDATOSDINAMICOS(\" BAS031\",TABLAS!$A$176)","=+IMPORTARDATOSDINAMICOS(\" BAS031\",TABLAS!$A$246)","=+IMPORTARDATOSDINAMICOS(\" BAS031\",TABLAS!$A$311)","=+IMPORTARDATOSDINAMICOS(\" BAS031\",TABLAS!$A$372)",null,null,null,null,null,null,null,"=+IMPORTARDATOSDINAMICOS(\" BAS031\",TABLAS!$A$108)+IMPORTARDATOSDINAMICOS(\" BAS031\",TABLAS!$A$176)+IMPORTARDATOSDINAMICOS(\" BAS031\",TABLAS!$A$246)+IMPORTARDATOSDINAMICOS(\" BAS031\",TABLAS!$A$311)+IMPORTARDATOSDINAMICOS(\" BAS031\",TABLAS!$A$372)",null,null,null,null,null,null,null,null,null,null,null,"=+IMPORTARDATOSDINAMICOS(\" BAS032\",TABLAS!$A$108)","=+IMPORTARDATOSDINAMICOS(\" BAS032\",TABLAS!$A$176)","=+IMPORTARDATOSDINAMICOS(\" BAS032\",TABLAS!$A$246)","=+IMPORTARDATOSDINAMICOS(\" BAS032\",TABLAS!$A$311)","=+IMPORTARDATOSDINAMICOS(\" BAS032\",TABLAS!$A$372)",null,null,null,null,null,null,null,"=+IMPORTARDATOSDINAMICOS(\" BAS032\",TABLAS!$A$108)+IMPORTARDATOSDINAMICOS(\" BAS032\",TABLAS!$A$176)+IMPORTARDATOSDINAMICOS(\" BAS032\",TABLAS!$A$246)+IMPORTARDATOSDINAMICOS(\" BAS032\",TABLAS!$A$311)+IMPORTARDATOSDINAMICOS(\" BAS032\",TABLAS!$A$372)",null,null,null,null,null,null,null,null,null,null,null,null,null,null,null,null,null,null,null,null,null,null,null,null,null,null,null,"=+IMPORTARDATOSDINAMICOS(\" BAS031\",TABLAS!$A$75)","=+IMPORTARDATOSDINAMICOS(\" BAS031\",TABLAS!$A$142)","=+IMPORTARDATOSDINAMICOS(\" BAS031\",TABLAS!$A$211)","=+IMPORTARDATOSDINAMICOS(\" BAS031\",TABLAS!$A$281)","=+IMPORTARDATOSDINAMICOS(\" BAS031\",TABLAS!$A$341)",null,null,null,null,null,null,null,"=+IMPORTARDATOSDINAMICOS(\" BAS031\",TABLAS!$A$75)+IMPORTARDATOSDINAMICOS(\" BAS031\",TABLAS!$A$142)+IMPORTARDATOSDINAMICOS(\" BAS031\",TABLAS!$A$211)+IMPORTARDATOSDINAMICOS(\" BAS031\",TABLAS!$A$281)+IMPORTARDATOSDINAMICOS(\" BAS031\",TABLAS!$A$341)",null,null,null,null,null,null,null,null,null,null,null,"=+IMPORTARDATOSDINAMICOS(\" BAS032\",TABLAS!$A$75)","=+IMPORTARDATOSDINAMICOS(\" BAS032\",TABLAS!$A$142)","=+IMPORTARDATOSDINAMICOS(\" BAS032\",TABLAS!$A$211)","=+IMPORTARDATOSDINAMICOS(\" BAS032\",TABLAS!$A$281)","=+IMPORTARDATOSDINAMICOS(\" BAS032\",TABLAS!$A$341)",null,null,null,null,null,null,null,"=+IMPORTARDATOSDINAMICOS(\" BAS032\",TABLAS!$A$75)+IMPORTARDATOSDINAMICOS(\" BAS032\",TABLAS!$A$142)+IMPORTARDATOSDINAMICOS(\" BAS032\",TABLAS!$A$211)+IMPORTARDATOSDINAMICOS(\" BAS032\",TABLAS!$A$281)+IMPORTARDATOSDINAMICOS(\" BAS032\",TABLAS!$A$341)"]
[{"$f":"+A28+12","v":41},"PERSONAS CON MANEJO ETIOLOGICO",{"$f":"+GETPIVOTDATA(\" BAS041\",TABLAS!$A$75)","v":0},{"$f":"+GETPIVOTDATA(\" BAS042\",TABLAS!$A$75)","v":0},{"$f":"+GETPIVOTDATA(\" BAS041\",TABLAS!$A$142)","v":1},{"$f":"+GETPIVOTDATA(\" BAS042\",TABLAS!$A$142)","v":0},{"$f":"+GETPIVOTDATA(\" BAS041\",TABLAS!$A$211)","v":4},{"$f":"+GETPIVOTDATA(\" BAS042\",TABLAS!$A$211)","v":3},{"$f":"+GETPIVOTDATA(\" BAS041\",TABLAS!$A$281)","v":7},{"$f":"+GETPIVOTDATA(\" BAS042\",TABLAS!$A$281)","v":4},{"$f":"+GETPIVOTDATA(\" BAS041\",TABLAS!$A$341)","v":2},{"$f":"+GETPIVOTDATA(\" BAS042\",TABLAS!$A$341)","v":1},{"$f":"+GETPIVOTDATA(\" BAS041\",TABLAS!$A$108)","v":0},{"$f":"+GETPIVOTDATA(\" BAS042\",TABLAS!$A$108)","v":0},{"$f":"+GETPIVOTDATA(\" BAS041\",TABLAS!$A$176)","v":0},{"$f":"+GETPIVOTDATA(\" BAS042\",TABLAS!$A$176)","v":0},{"$f":"+GETPIVOTDATA(\" BAS041\",TABLAS!$A$246)","v":5},{"$f":"+GETPIVOTDATA(\" BAS042\",TABLAS!$A$246)","v":4},{"$f":"+GETPIVOTDATA(\" BAS041\",TABLAS!$A$311)","v":3},{"$f":"+GETPIVOTDATA(\" BAS042\",TABLAS!$A$311)","v":3},{"$f":"+GETPIVOTDATA(\" BAS041\",TABLAS!$A$372)","v":0},{"$f":"+GETPIVOTDATA(\" BAS042\",TABLAS!$A$372)","v":0},14,8,8,7,{"$f":"+GETPIVOTDATA(\" BAS043\",TABLAS!$A$75)+GETPIVOTDATA(\" BAS043\",TABLAS!$A$142)+GETPIVOTDATA(\" BAS043\",TABLAS!$A$211)+GETPIVOTDATA(\" BAS043\",TABLAS!$A$281)+GETPIVOTDATA(\" BAS043\",TABLAS!$A$341)+GETPIVOTDATA(\" BAS043\",TABLAS!$A$108)+GETPIVOTDATA(\" BAS043\",TABLAS!$A$176)+GETPIVOTDATA(\" BAS043\",TABLAS!$A$246)+GETPIVOTDATA(\" BAS043\",TABLAS!$A$311)+GETPIVOTDATA(\" BAS043\",TABLAS!$A$372)","v":15},{"$f":"+GETPIVOTDATA(\" BAS044\",TABLAS!$A$75)+GETPIVOTDATA(\" BAS044\",TABLAS!$A$142)+GETPIVOTDATA(\" BAS044\",TABLAS!$A$211)+GETPIVOTDATA(\" BAS044\",TABLAS!$A$281)+GETPIVOTDATA(\" BAS044\",TABLAS!$A$341)+GETPIVOTDATA(\" BAS044\",TABLAS!$A$108)+GETPIVOTDATA(\" BAS044\",TABLAS!$A$176)+GETPIVOTDATA(\" BAS044\",TABLAS!$A$246)+GETPIVOTDATA(\" BAS044\",TABLAS!$A$311)+GETPIVOTDATA(\" BAS044\",TABLAS!$A$372)","v":15},null,null,null,null,null,null,null,null,null,null,null,null,null,{"$f":"+AS28+AT28+1","v":41},{"$f":"+AP29+1","v":42},43,44,null,{"$f":"IF(AP29<10,CONCATENATE(\"00\",AP29),IF(AND(AP29>9,AP29<100),CONCATENATE(\"0\",AP29),AP29))","v":"041"},"042",{"$f":"IF(AR29<10,CONCATENATE(\"00\",AR29),IF(AND(AR29>9,AR29<100),CONCATENATE(\"0\",AR29),AR29))","v":"043"},{"$f":"IF(AS29<10,CONCATENATE(\"00\",AS29),IF(AND(AS29>9,AS29<100),CONCATENATE(\"0\",AS29),AS29))","v":"044"},null,"=+IMPORTARDATOSDINAMICOS(\" BAS041\",TABLAS!$A$372)","=+IMPORTARDATOSDINAMICOS(\" BAS042\",TABLAS!$A$372)","=+IMPORTARDATOSDINAMICOS(\" BAS043\",TABLAS!$A$372)","=+IMPORTARDATOSDINAMICOS(\" BAS044\",TABLAS!$A$372)",null,null,null,null,null,null,null,null,null,null,null,"=+IMPORTARDATOSDINAMICOS(\" BAS043\",TABLAS!$A$108)","=+IMPORTARDATOSDINAMICOS(\" BAS043\",TABLAS!$A$176)","=+IMPORTARDATOSDINAMICOS(\" BAS043\",TABLAS!$A$246)","=+IMPORTARDATOSDINAMICOS(\" BAS043\",TABLAS!$A$311)","=+IMPORTARDATOSDINAMICOS(\" BAS043\",TABLAS!$A$372)",null,null,null,null,null,null,null,"=+IMPORTARDATOSDINAMICOS(\" BAS043\",TABLAS!$A$108)+IMPORTARDATOSDINAMICOS(\" BAS043\",TABLAS!$A$176)+IMPORTARDATOSDINAMICOS(\" BAS043\",TABLAS!$A$246)+IMPORTARDATOSDINAMICOS(\" BAS043\",TABLAS!$A$311)+IMPORTARDATOSDINAMICOS(\" BAS043\",TABLAS!$A$372)",null,null,null,null,null,null,null,null,null,null,null,"=+IMPORTARDATOSDINAMICOS(\" BAS044\",TABLAS!$A$108)","=+IMPORTARDATOSDINAMICOS(\" BAS044\",TABLAS!$A$176)","=+IMPORTARDATOSDINAMICOS(\" BAS044\",TABLAS!$A$246)","=+IMPORTARDATOSDINAMICOS(\" BAS044\",TABLAS!$A$311)","=+IMPORTARDATOSDINAMICOS(\" BAS044\",TABLAS!$A$372)",null,null,null,null,null,null,null,"=+IMPORTARDATOSDINAMICOS(\" BAS044\",TABLAS!$A$108)+IMPORTARDATOSDINAMICOS(\" BAS044\",TABLAS!$A$176)+IMPORTARDATOSDINAMICOS(\" BAS044\",TABLAS!$A$246)+IMPORTARDATOSDINAMICOS(\" BAS044\",TABLAS!$A$311)+IMPORTARDATOSDINAMICOS(\" BAS044\",TABLAS!$A$372)",null,null,null,null,null,null,null,null,null,null,null,null,null,null,null,null,null,null,null,null,null,null,null,null,null,null,null,"=+IMPORTARDATOSDINAMICOS(\" BAS043\",TABLAS!$A$75)","=+IMPORTARDATOSDINAMICOS(\" BAS043\",TABLAS!$A$142)","=+IMPORTARDATOSDINAMICOS(\" BAS043\",TABLAS!$A$211)","=+IMPORTARDATOSDINAMICOS(\" BAS043\",TABLAS!$A$281)","=+IMPORTARDATOSDINAMICOS(\" BAS043\",TABLAS!$A$341)",null,null,null,null,null,null,null,"=+IMPORTARDATOSDINAMICOS(\" BAS043\",TABLAS!$A$75)+IMPORTARDATOSDINAMICOS(\" BAS043\",TABLAS!$A$142)+IMPORTARDATOSDINAMICOS(\" BAS043\",TABLAS!$A$211)+IMPORTARDATOSDINAMICOS(\" BAS043\",TABLAS!$A$281)+IMPORTARDATOSDINAMICOS(\" BAS043\",TABLAS!$A$341)",null,null,null,null,null,null,null,null,null,null,null,"=+IMPORTARDATOSDINAMICOS(\" BAS044\",TABLAS!$A$75)","=+IMPORTARDATOSDINAMICOS(\" BAS044\",TABLAS!$A$142)","=+IMPORTARDATOSDINAMICOS(\" BAS044\",TABLAS!$A$211)","=+IMPORTARDATOSDINAMICOS(\" BAS044\",TABLAS!$A$281)","=+IMPORTARDATOSDINAMICOS(\" BAS044\",TABLAS!$A$341)",null,null,null,null,null,null,null,"=+IMPORTARDATOSDINAMICOS(\" BAS044\",TABLAS!$A$75)+IMPORTARDATOSDINAMICOS(\" BAS044\",TABLAS!$A$142)+IMPORTARDATOSDINAMICOS(\" BAS044\",TABLAS!$A$211)+IMPORTARDATOSDINAMICOS(\" BAS044\",TABLAS!$A$281)+IMPORTARDATOSDINAMICOS(\" BAS044\",TABLAS!$A$341)"]
[{"$f":"+A29+4","v":45},"CASOS DE GONORREA",{"$f":"+GETPIVOTDATA(\" BAS045\",TABLAS!$A$75)","v":0},{"$f":"+GETPIVOTDATA(\" BAS046\",TABLAS!$A$75)","v":0},{"$f":"+GETPIVOTDATA(\" BAS045\",TABLAS!$A$142)","v":0},{"$f":"+GETPIVOTDATA(\" BAS046\",TABLAS!$A$142)","v":0},{"$f":"+GETPIVOTDATA(\" BAS045\",TABLAS!$A$211)","v":3},{"$f":"+GETPIVOTDATA(\" BAS046\",TABLAS!$A$211)","v":2},{"$f":"+GETPIVOTDATA(\" BAS045\",TABLAS!$A$281)","v":12},{"$f":"+GETPIVOTDATA(\" BAS046\",TABLAS!$A$281)","v":1},{"$f":"+GETPIVOTDATA(\" BAS045\",TABLAS!$A$341)","v":6},{"$f":"+GETPIVOTDATA(\" BAS046\",TABLAS!$A$341)","v":0},{"$f":"+GETPIVOTDATA(\" BAS045\",TABLAS!$A$108)","v":0},{"$f":"+GETPIVOTDATA(\" BAS046\",TABLAS!$A$108)","v":0},{"$f":"+GETPIVOTDATA(\" BAS045\",TABLAS!$A$176)","v":2},{"$f":"+GETPIVOTDATA(\" BAS046\",TABLAS!$A$176)","v":1},{"$f":"+GETPIVOTDATA(\" BAS045\",TABLAS!$A$246)","v":8},{"$f":"+GETPIVOTDATA(\" BAS046\",TABLAS!$A$246)","v":4},{"$f":"+GETPIVOTDATA(\" BAS045\",TABLAS!$A$311)","v":6},{"$f":"+GETPIVOTDATA(\" BAS046\",TABLAS!$A$311)","v":4},{"$f":"+GETPIVOTDATA(\" BAS045\",TABLAS!$A$372)","v":2},{"$f":"+GETPIVOTDATA(\" BAS046\",TABLAS!$A$372)","v":0},21,18,3,9,{"$f":"+GETPIVOTDATA(\" BAS047\",TABLAS!$A$75)+GETPIVOTDATA(\" BAS047\",TABLAS!$A$142)+GETPIVOTDATA(\" BAS047\",TABLAS!$A$211)+GETPIVOTDATA(\" BAS047\",TABLAS!$A$281)+GETPIVOTDATA(\" BAS047\",TABLAS!$A$341)+GETPIVOTDATA(\" BAS047\",TABLAS!$A$108)+GETPIVOTDATA(\" BAS047\",TABLAS!$A$176)+GETPIVOTDATA(\" BAS047\",TABLAS!$A$246)+GETPIVOTDATA(\" BAS047\",TABLAS!$A$311)+GETPIVOTDATA(\" BAS047\",TABLAS!$A$372)","v":3},{"$f":"+GETPIVOTDATA(\" BAS048\",TABLAS!$A$75)+GETPIVOTDATA(\" BAS048\",TABLAS!$A$142)+GETPIVOTDATA(\" BAS048\",TABLAS!$A$211)+GETPIVOTDATA(\" BAS048\",TABLAS!$A$281)+GETPIVOTDATA(\" BAS048\",TABLAS!$A$341)+GETPIVOTDATA(\" BAS048\",TABLAS!$A$108)+GETPIVOTDATA(\" BAS048\",TABLAS!$A$176)+GETPIVOTDATA(\" BAS048\",TABLAS!$A$246)+GETPIVOTDATA(\" BAS048\",TABLAS!$A$311)+GETPIVOTDATA(\" BAS048\",TABLAS!$A$372)","v":3},null,null,null,null,null,null,null,null,null,null,null,null,null,{"$f":"+AS29+1","v":45},{"$f":"+AP30+1","v":46},47,48,null,"045","046","047","048",null,"=+IMPORTARDATOSDINAMICOS(\" BAS045\",TABLAS!$A$372)","=+IMPORTARDATOSDINAMICOS(\" BAS046\",TABLAS!$A$372)","=+IMPORTARDATOSDINAMICOS(\" BAS047\",TABLAS!$A$372)","=+IMPORTARDATOSDINAMICOS(\" BAS048\",TABLAS!$A$372)",null,null,null,null,null,null,null,null,null,null,null,"=+IMPORTARDATOSDINAMICOS(\" BAS047\",TABLAS!$A$108)","=+IMPORTARDATOSDINAMICOS(\" BAS047\",TABLAS!$A$176)","=+IMPORTARDATOSDINAMICOS(\" BAS047\",TABLAS!$A$246)","=+IMPORTARDATOSDINAMICOS(\" BAS047\",TABLAS!$A$311)","=+IMPORTARDATOSDINAMICOS(\" BAS047\",TABLAS!$A$372)",null,null,null,null,null,null,null,"=+IMPORTARDATOSDINAMICOS(\" BAS047\",TABLAS!$A$108)+IMPORTARDATOSDINAMICOS(\" BAS047\",TABLAS!$A$176)+IMPORTARDATOSDINAMICOS(\" BAS047\",TABLAS!$A$246)+IMPORTARDATOSDINAMICOS(\" BAS047\",TABLAS!$A$311)+IMPORTARDATOSDINAMICOS(\" BAS047\",TABLAS!$A$372)",null,null,null,null,null,null,null,null,null,null,null,"=+IMPORTARDATOSDINAMICOS(\" BAS048\",TABLAS!$A$108)","=+IMPORTARDATOSDINAMICOS(\" BAS048\",TABLAS!$A$176)","=+IMPORTARDATOSDINAMICOS(\" BAS048\",TABLAS!$A$246)","=+IMPORTARDATOSDINAMICOS(\" BAS048\",TABLAS!$A$311)","=+IMPORTARDATOSDINAMICOS(\" BAS048\",TABLAS!$A$372)",null,null,null,null,null,null,null,"=+IMPORTARDATOSDINAMICOS(\" BAS048\",TABLAS!$A$108)+IMPORTARDATOSDINAMICOS(\" BAS048\",TABLAS!$A$176)+IMPORTARDATOSDINAMICOS(\" BAS048\",TABLAS!$A$246)+IMPORTARDATOSDINAMICOS(\" BAS048\",TABLAS!$A$311)+IMPORTARDATOSDINAMICOS(\" BAS048\",TABLAS!$A$372)",null,null,null,null,null,null,null,null,null,null,null,null,null,null,null,null,null,null,null,null,null,null,null,null,null,null,null,"=+IMPORTARDATOSDINAMICOS(\" BAS047\",TABLAS!$A$75)","=+IMPORTARDATOSDINAMICOS(\" BAS047\",TABLAS!$A$142)","=+IMPORTARDATOSDINAMICOS(\" BAS047\",TABLAS!$A$211)","=+IMPORTARDATOSDINAMICOS(\" BAS047\",TABLAS!$A$281)","=+IMPORTARDATOSDINAMICOS(\" BAS047\",TABLAS!$A$341)",null,null,null,null,null,null,null,"=+IMPORTARDATOSDINAMICOS(\" BAS047\",TABLAS!$A$75)+IMPORTARDATOSDINAMICOS(\" BAS047\",TABLAS!$A$142)+IMPORTARDATOSDINAMICOS(\" BAS047\",TABLAS!$A$211)+IMPORTARDATOSDINAMICOS(\" BAS047\",TABLAS!$A$281)+IMPORTARDATOSDINAMICOS(\" BAS047\",TABLAS!$A$341)",null,null,null,null,null,null,null,null,null,null,null,"=+IMPORTARDATOSDINAMICOS(\" BAS048\",TABLAS!$A$75)","=+IMPORTARDATOSDINAMICOS(\" BAS048\",TABLAS!$A$142)","=+IMPORTARDATOSDINAMICOS(\" BAS048\",TABLAS!$A$211)","=+IMPORTARDATOSDINAMICOS(\" BAS048\",TABLAS!$A$281)","=+IMPORTARDATOSDINAMICOS(\" BAS048\",TABLAS!$A$341)",null,null,null,null,null,null,null,"=+IMPORTARDATOSDINAMICOS(\" BAS048\",TABLAS!$A$75)+IMPORTARDATOSDINAMICOS(\" BAS048\",TABLAS!$A$142)+IMPORTARDATOSDINAMICOS(\" BAS048\",TABLAS!$A$211)+IMPORTARDATOSDINAMICOS(\" BAS048\",TABLAS!$A$281)+IMPORTARDATOSDINAMICOS(\" BAS048\",TABLAS!$A$341)"]
[{"$f":"+A30+4","v":49},"CASOS DE SIFILIS",{"$f":"+GETPIVOTDATA(\" BAS049\",TABLAS!$A$75)","v":0},{"$f":"+GETPIVOTDATA(\" BAS050\",TABLAS!$A$75)","v":0},{"$f":"+GETPIVOTDATA(\" BAS049\",TABLAS!$A$142)","v":5},{"$f":"+GETPIVOTDATA(\" BAS050\",TABLAS!$A$142)","v":1},{"$f":"+GETPIVOTDATA(\" BAS049\",TABLAS!$A$211)","v":24},{"$f":"+GETPIVOTDATA(\" BAS050\",TABLAS!$A$211)","v":5},{"$f":"+GETPIVOTDATA(\" BAS049\",TABLAS!$A$281)","v":21},{"$f":"+GETPIVOTDATA(\" BAS050\",TABLAS!$A$281)","v":7},{"$f":"+GETPIVOTDATA(\" BAS049\",TABLAS!$A$341)","v":4},{"$f":"+GETPIVOTDATA(\" BAS050\",TABLAS!$A$341)","v":1},{"$f":"+GETPIVOTDATA(\" BAS049\",TABLAS!$A$108)","v":0},{"$f":"+GETPIVOTDATA(\" BAS050\",TABLAS!$A$108)","v":0},{"$f":"+GETPIVOTDATA(\" BAS049\",TABLAS!$A$176)","v":3},{"$f":"+GETPIVOTDATA(\" BAS050\",TABLAS!$A$176)","v":1},{"$f":"+GETPIVOTDATA(\" BAS049\",TABLAS!$A$246)","v":29},{"$f":"+GETPIVOTDATA(\" BAS050\",TABLAS!$A$246)","v":4},{"$f":"+GETPIVOTDATA(\" BAS049\",TABLAS!$A$311)","v":26},{"$f":"+GETPIVOTDATA(\" BAS050\",TABLAS!$A$311)","v":3},{"$f":"+GETPIVOTDATA(\" BAS049\",TABLAS!$A$372)","v":15},{"$f":"+GETPIVOTDATA(\" BAS050\",TABLAS!$A$372)","v":3},54,73,14,11,{"$f":"+GETPIVOTDATA(\" BAS051\",TABLAS!$A$75)+GETPIVOTDATA(\" BAS051\",TABLAS!$A$142)+GETPIVOTDATA(\" BAS051\",TABLAS!$A$211)+GETPIVOTDATA(\" BAS051\",TABLAS!$A$281)+GETPIVOTDATA(\" BAS051\",TABLAS!$A$341)+GETPIVOTDATA(\" BAS051\",TABLAS!$A$108)+GETPIVOTDATA(\" BAS051\",TABLAS!$A$176)+GETPIVOTDATA(\" BAS051\",TABLAS!$A$246)+GETPIVOTDATA(\" BAS051\",TABLAS!$A$311)+GETPIVOTDATA(\" BAS051\",TABLAS!$A$372)","v":124},{"$f":"+GETPIVOTDATA(\" BAS052\",TABLAS!$A$75)+GETPIVOTDATA(\" BAS052\",TABLAS!$A$142)+GETPIVOTDATA(\" BAS052\",TABLAS!$A$211)+GETPIVOTDATA(\" BAS052\",TABLAS!$A$281)+GETPIVOTDATA(\" BAS052\",TABLAS!$A$341)+GETPIVOTDATA(\" BAS052\",TABLAS!$A$108)+GETPIVOTDATA(\" BAS052\",TABLAS!$A$176)+GETPIVOTDATA(\" BAS052\",TABLAS!$A$246)+GETPIVOTDATA(\" BAS052\",TABLAS!$A$311)+GETPIVOTDATA(\" BAS052\",TABLAS!$A$372)","v":25},null,null,null,null,null,null,null,null,null,null,null,null,null,{"$f":"+AS30+1","v":49},{"$f":"+AP31+1","v":50},51,52,8,"049","050","051","052",null,"=+IMPORTARDATOSDINAMICOS(\" BAS049\",TABLAS!$A$372)","=+IMPORTARDATOSDINAMICOS(\" BAS050\",TABLAS!$A$372)","=+IMPORTARDATOSDINAMICOS(\" BAS051\",TABLAS!$A$372)","=+IMPORTARDATOSDINAMICOS(\" BAS052\",TABLAS!$A$372)",null,null,null,null,null,null,null,null,null,null,null,"=+IMPORTARDATOSDINAMICOS(\" BAS051\",TABLAS!$A$108)","=+IMPORTARDATOSDINAMICOS(\" BAS051\",TABLAS!$A$176)","=+IMPORTARDATOSDINAMICOS(\" BAS051\",TABLAS!$A$246)","=+IMPORTARDATOSDINAMICOS(\" BAS051\",TABLAS!$A$311)","=+IMPORTARDATOSDINAMICOS(\" BAS051\",TABLAS!$A$372)",null,null,null,null,null,null,null,"=+IMPORTARDATOSDINAMICOS(\" BAS051\",TABLAS!$A$108)+IMPORTARDATOSDINAMICOS(\" BAS051\",TABLAS!$A$176)+IMPORTARDATOSDINAMICOS(\" BAS051\",TABLAS!$A$246)+IMPORTARDATOSDINAMICOS(\" BAS051\",TABLAS!$A$311)+IMPORTARDATOSDINAMICOS(\" BAS051\",TABLAS!$A$372)",null,null,null,null,null,null,null,null,null,null,null,"=+IMPORTARDATOSDINAMICOS(\" BAS052\",TABLAS!$A$108)","=+IMPORTARDATOSDINAMICOS(\" BAS052\",TABLAS!$A$176)","=+IMPORTARDATOSDINAMICOS(\" BAS052\",TABLAS!$A$246)","=+IMPORTARDATOSDINAMICOS(\" BAS052\",TABLAS!$A$311)","=+IMPORTARDATOSDINAMICOS(\" BAS052\",TABLAS!$A$372)",null,null,null,null,null,null,null,"=+IMPORTARDATOSDINAMICOS(\" BAS052\",TABLAS!$A$108)+IMPORTARDATOSDINAMICOS(\" BAS052\",TABLAS!$A$176)+IMPORTARDATOSDINAMICOS(\" BAS052\",TABLAS!$A$246)+IMPORTARDATOSDINAMICOS(\" BAS052\",TABLAS!$A$311)+IMPORTARDATOSDINAMICOS(\" BAS052\",TABLAS!$A$372)",null,null,null,null,null,null,null,null,null,null,null,null,null,null,null,null,null,null,null,null,null,null,null,null,null,null,null,"=+IMPORTARDATOSDINAMICOS(\" BAS051\",TABLAS!$A$75)","=+IMPORTARDATOSDINAMICOS(\" BAS051\",TABLAS!$A$142)","=+IMPORTARDATOSDINAMICOS(\" BAS051\",TABLAS!$A$211)","=+IMPORTARDATOSDINAMICOS(\" BAS051\",TABLAS!$A$281)","=+IMPORTARDATOSDINAMICOS(\" BAS051\",TABLAS!$A$341)",null,null,null,null,null,null,null,"=+IMPORTARDATOSDINAMICOS(\" BAS051\",TABLAS!$A$75)+IMPORTARDATOSDINAMICOS(\" BAS051\",TABLAS!$A$142)+IMPORTARDATOSDINAMICOS(\" BAS051\",TABLAS!$A$211)+IMPORTARDATOSDINAMICOS(\" BAS051\",TABLAS!$A$281)+IMPORTARDATOSDINAMICOS(\" BAS051\",TABLAS!$A$341)",null,null,null,null,null,null,null,null,null,null,null,"=+IMPORTARDATOSDINAMICOS(\" BAS052\",TABLAS!$A$75)","=+IMPORTARDATOSDINAMICOS(\" BAS052\",TABLAS!$A$142)","=+IMPORTARDATOSDINAMICOS(\" BAS052\",TABLAS!$A$211)","=+IMPORTARDATOSDINAMICOS(\" BAS052\",TABLAS!$A$281)","=+IMPORTARDATOSDINAMICOS(\" BAS052\",TABLAS!$A$341)",null,null,null,null,null,null,null,"=+IMPORTARDATOSDINAMICOS(\" BAS052\",TABLAS!$A$75)+IMPORTARDATOSDINAMICOS(\" BAS052\",TABLAS!$A$142)+IMPORTARDATOSDINAMICOS(\" BAS052\",TABLAS!$A$211)+IMPORTARDATOSDINAMICOS(\" BAS052\",TABLAS!$A$281)+IMPORTARDATOSDINAMICOS(\" BAS052\",TABLAS!$A$341)"]
[]
[{"$f":"+A31+12","v":61},"PERSONAS TAMIZADAS PARA SIFILIS",{"$f":"+GETPIVOTDATA(\" BAS061\",TABLAS!$A$75)","v":9},null,{"$f":"+GETPIVOTDATA(\" BAS061\",TABLAS!$A$142)","v":34},null,{"$f":"+GETPIVOTDATA(\" BAS061\",TABLAS!$A$211)","v":253},null,{"$f":"+GETPIVOTDATA(\" BAS061\",TABLAS!$A$281)","v":336},null,{"$f":"+GETPIVOTDATA(\" BAS061\",TABLAS!$A$341)","v":48},null,{"$f":"+GETPIVOTDATA(\" BAS061\",TABLAS!$A$108)","v":19},null,{"$f":"+GETPIVOTDATA(\" BAS061\",TABLAS!$A$176)","v":46},null,{"$f":"+GETPIVOTDATA(\" BAS061\",TABLAS!$A$246)","v":230},null,{"$f":"+GETPIVOTDATA(\" BAS061\",TABLAS!$A$311)","v":315},null,{"$f":"+GETPIVOTDATA(\" BAS061\",TABLAS!$A$372)","v":80},null,{"$f":"+C33+E33+G33+I33+K33","v":680},{"$f":"+M33+O33+Q33+S33+U33","v":690},null,null,null,null,null,null,null,null,null,null,null,null,null,null,null,null,null,{"$f":"+AS31+AT31+1","v":61},null,null,null,null,{"$f":"IF(AP33<10,CONCATENATE(\"00\",AP33),IF(AND(AP33>9,AP33<100),CONCATENATE(\"0\",AP33),AP33))","v":"061"},null,null,null,null,{"$f":"IF(LEN(AU33)=0,\"\",CONCATENATE($CQ$14,AU33,$CQ$15))","v":"=+IMPORTARDATOSDINAMICOS(\" BAS061\",TABLAS!$A$372)"}]
[{"$f":"+A33+1","v":62},"PERSONAS TAMIZADAS  REACTIVAS PARA SIFILIS",{"$f":"+GETPIVOTDATA(\" BAS062\",TABLAS!$A$75)","v":0},null,{"$f":"+GETPIVOTDATA(\" BAS062\",TABLAS!$A$142)","v":1},null,{"$f":"+GETPIVOTDATA(\" BAS062\",TABLAS!$A$211)","v":15},null,{"$f":"+GETPIVOTDATA(\" BAS062\",TABLAS!$A$281)","v":5},null,{"$f":"+GETPIVOTDATA(\" BAS062\",TABLAS!$A$341)","v":3},null,{"$f":"+GETPIVOTDATA(\" BAS062\",TABLAS!$A$108)","v":0},null,{"$f":"+GETPIVOTDATA(\" BAS062\",TABLAS!$A$176)","v":0},null,{"$f":"+GETPIVOTDATA(\" BAS062\",TABLAS!$A$246)","v":16},null,{"$f":"+GETPIVOTDATA(\" BAS062\",TABLAS!$A$311)","v":20},null,{"$f":"+GETPIVOTDATA(\" BAS062\",TABLAS!$A$372)","v":10},null,{"$f":"+C34+E34+G34+I34+K34","v":24},{"$f":"+M34+O34+Q34+S34+U34","v":46},null,null,null,null,null,null,null,null,null,null,null,null,null,null,null,null,null,{"$f":"+AP33+1","v":62},null,null,null,null,{"$f":"IF(AP34<10,CONCATENATE(\"00\",AP34),IF(AND(AP34>9,AP34<100),CONCATENATE(\"0\",AP34),AP34))","v":"062"},null,null,null,null,{"$f":"IF(LEN(AU34)=0,\"\",CONCATENATE($CQ$14,AU34,$CQ$15))","v":"=+IMPORTARDATOSDINAMICOS(\" BAS062\",TABLAS!$A$372)"}]
[]
[{"$f":"+A34+1","v":63},"1A. PERSONAS QUE RECIBEN CONSEJERIA EN ITS",{"$f":"+GETPIVOTDATA(\" BAS063\",TABLAS!$A$75)","v":0},null,{"$f":"+GETPIVOTDATA(\" BAS063\",TABLAS!$A$142)","v":2811},null,{"$f":"+GETPIVOTDATA(\" BAS063\",TABLAS!$A$211)","v":5253},null,{"$f":"+GETPIVOTDATA(\" BAS063\",TABLAS!$A$281)","v":8354},null,{"$f":"+GETPIVOTDATA(\" BAS063\",TABLAS!$A$341)","v":531},null,{"$f":"+GETPIVOTDATA(\" BAS063\",TABLAS!$A$108)","v":0},null,{"$f":"+GETPIVOTDATA(\" BAS063\",TABLAS!$A$176)","v":2093},null,{"$f":"+GETPIVOTDATA(\" BAS063\",TABLAS!$A$246)","v":3716},null,{"$f":"+GETPIVOTDATA(\" BAS063\",TABLAS!$A$311)","v":5384},null,{"$f":"+GETPIVOTDATA(\" BAS063\",TABLAS!$A$372)","v":719},null,{"$f":"+C36+E36+G36+I36+K36","v":16949},{"$f":"+M36+O36+Q36+S36+U36","v":11912},null,null,null,null,null,null,null,null,null,null,null,null,null,null,null,null,null,{"$f":"+AP34+1","v":63},null,null,null,4,{"$f":"IF(AP36<10,CONCATENATE(\"00\",AP36),IF(AND(AP36>9,AP36<100),CONCATENATE(\"0\",AP36),AP36))","v":"063"},null,null,null,null,{"$f":"IF(LEN(AU36)=0,\"\",CONCATENATE($CQ$14,AU36,$CQ$15))","v":"=+IMPORTARDATOSDINAMICOS(\" BAS063\",TABLAS!$A$372)"},null,null,null,null,null,null,null,null,null,null,null,null,null,null,null,null,null,null,null,null,null,null,null,null,null,null,null,null,null,null,null,null,null,null,null,null,null,null,null,null,null,null,null,null,null,null,null,null,null,null,null,null,null,null,null,null,null,null,null,null,null,null,null,null,null,null,null,null,null,null,null,null,null,null,null,null,null,null,null,null,null,null,null,null,null,null,null,null,null,null,{"$f":"CONCATENATE(EM21,MID(CA21,2,300))","v":"=+IMPORTARDATOSDINAMICOS(\" BAS003\",TABLAS!$A$75)+IMPORTARDATOSDINAMICOS(\" BAS003\",TABLAS!$A$142)+IMPORTARDATOSDINAMICOS(\" BAS003\",TABLAS!$A$211)+IMPORTARDATOSDINAMICOS(\" BAS003\",TABLAS!$A$281)+IMPORTARDATOSDINAMICOS(\" BAS003\",TABLAS!$A$341)+IMPORTARDATOSDINAMICOS(\" BAS003\",TABLAS!$A$108)+IMPORTARDATOSDINAMICOS(\" BAS003\",TABLAS!$A$176)+IMPORTARDATOSDINAMICOS(\" BAS003\",TABLAS!$A$246)+IMPORTARDATOSDINAMICOS(\" BAS003\",TABLAS!$A$311)+IMPORTARDATOSDINAMICOS(\" BAS003\",TABLAS!$A$372)"},null,null,null,null,null,null,null,null,null,null,null,null,null,null,null,null,null,null,null,null,null,null,null,{"$f":"CONCATENATE(FK21,MID(CY21,2,300))","v":"=+IMPORTARDATOSDINAMICOS(\" BAS004\",TABLAS!$A$75)+IMPORTARDATOSDINAMICOS(\" BAS004\",TABLAS!$A$142)+IMPORTARDATOSDINAMICOS(\" BAS004\",TABLAS!$A$211)+IMPORTARDATOSDINAMICOS(\" BAS004\",TABLAS!$A$281)+IMPORTARDATOSDINAMICOS(\" BAS004\",TABLAS!$A$341)+IMPORTARDATOSDINAMICOS(\" BAS004\",TABLAS!$A$108)+IMPORTARDATOSDINAMICOS(\" BAS004\",TABLAS!$A$176)+IMPORTARDATOSDINAMICOS(\" BAS004\",TABLAS!$A$246)+IMPORTARDATOSDINAMICOS(\" BAS004\",TABLAS!$A$311)+IMPORTARDATOSDINAMICOS(\" BAS004\",TABLAS!$A$372)"}]
[null,null,null,null,null,null,null,null,null,null,null,null,null,null,null,null,null,null,null,null,null,null,null,null,null,null,null,null,null,null,null,null,null,null,null,null,null,null,null,null,null,null,null,null,null,null,null,null,null,null,null,null,null,null,null,null,null,null,null,null,null,null,null,null,null,null,null,null,null,null,null,null,null,null,null,null,null,null,null,null,null,null,null,null,null,null,null,null,null,null,null,null,null,null,null,null,null,null,null,null,null,null,null,null,null,null,null,null,null,null,null,null,null,null,null,null,null,null,null,null,null,null,null,null,null,null,null,null,null,null,null,null,null,null,null,null,null,null,null,null,null,null,{"$f":"CONCATENATE(EM22,MID(CA22,2,300))","v":"=+IMPORTARDATOSDINAMICOS(\" BAS007\",TABLAS!$A$75)+IMPORTARDATOSDINAMICOS(\" BAS007\",TABLAS!$A$142)+IMPORTARDATOSDINAMICOS(\" BAS007\",TABLAS!$A$211)+IMPORTARDATOSDINAMICOS(\" BAS007\",TABLAS!$A$281)+IMPORTARDATOSDINAMICOS(\" BAS007\",TABLAS!$A$341)+IMPORTARDATOSDINAMICOS(\" BAS007\",TABLAS!$A$108)+IMPORTARDATOSDINAMICOS(\" BAS007\",TABLAS!$A$176)+IMPORTARDATOSDINAMICOS(\" BAS007\",TABLAS!$A$246)+IMPORTARDATOSDINAMICOS(\" BAS007\",TABLAS!$A$311)+IMPORTARDATOSDINAMICOS(\" BAS007\",TABLAS!$A$372)"},null,null,null,null,null,null,null,null,null,null,null,null,null,null,null,null,null,null,null,null,null,null,null,{"$f":"CONCATENATE(FK22,MID(CY22,2,300))","v":"=+IMPORTARDATOSDINAMICOS(\" BAS008\",TABLAS!$A$75)+IMPORTARDATOSDINAMICOS(\" BAS008\",TABLAS!$A$142)+IMPORTARDATOSDINAMICOS(\" BAS008\",TABLAS!$A$211)+IMPORTARDATOSDINAMICOS(\" BAS008\",TABLAS!$A$281)+IMPORTARDATOSDINAMICOS(\" BAS008\",TABLAS!$A$341)+IMPORTARDATOSDINAMICOS(\" BAS008\",TABLAS!$A$108)+IMPORTARDATOSDINAMICOS(\" BAS008\",TABLAS!$A$176)+IMPORTARDATOSDINAMICOS(\" BAS008\",TABLAS!$A$246)+IMPORTARDATOSDINAMICOS(\" BAS008\",TABLAS!$A$311)+IMPORTARDATOSDINAMICOS(\" BAS008\",TABLAS!$A$372)"}]
[null,"2.-  HEPATITIS B","FEMENINO",null,null,null,null,"MASCULINO",null,null,null,null,"Total",null,null,null,null,null,null,null,null,null,null,null,null,null,null,null,null,null,null,null,null,null,null,null,null,null,null,null,null,null,null,null,null,null,null,null,null,null,null,null,null,null,null,null,null,null,null,null,null,null,null,null,null,null,null,null,null,null,null,null,null,null,null,null,null,null,null,null,null,null,null,null,null,null,null,null,null,null,null,null,null,null,"=+IMPORTARDATOSDINAMICOS(\" BAS",null,null,null,null,null,null,null,null,null,null,null,null,null,null,null,null,null,null,null,null,null,null,null,null,null,null,null,null,null,null,null,null,null,null,null,null,null,null,null,null,null,null,null,null,null,null,null,"=+IMPORTARDATOSDINAMICOS(\" BAS011\",TABLAS!$A$75)+IMPORTARDATOSDINAMICOS(\" BAS011\",TABLAS!$A$142)+IMPORTARDATOSDINAMICOS(\" BAS011\",TABLAS!$A$211)+IMPORTARDATOSDINAMICOS(\" BAS011\",TABLAS!$A$281)+IMPORTARDATOSDINAMICOS(\" BAS011\",TABLAS!$A$341)+IMPORTARDATOSDINAMICOS(\" BAS011\",TABLAS!$A$108)+IMPORTARDATOSDINAMICOS(\" BAS011\",TABLAS!$A$176)+IMPORTARDATOSDINAMICOS(\" BAS011\",TABLAS!$A$246)+IMPORTARDATOSDINAMICOS(\" BAS011\",TABLAS!$A$311)+IMPORTARDATOSDINAMICOS(\" BAS011\",TABLAS!$A$372)",null,null,null,null,null,null,null,null,null,null,null,null,null,null,null,null,null,null,null,null,null,null,null,"=+IMPORTARDATOSDINAMICOS(\" BAS012\",TABLAS!$A$75)+IMPORTARDATOSDINAMICOS(\" BAS012\",TABLAS!$A$142)+IMPORTARDATOSDINAMICOS(\" BAS012\",TABLAS!$A$211)+IMPORTARDATOSDINAMICOS(\" BAS012\",TABLAS!$A$281)+IMPORTARDATOSDINAMICOS(\" BAS012\",TABLAS!$A$341)+IMPORTARDATOSDINAMICOS(\" BAS012\",TABLAS!$A$108)+IMPORTARDATOSDINAMICOS(\" BAS012\",TABLAS!$A$176)+IMPORTARDATOSDINAMICOS(\" BAS012\",TABLAS!$A$246)+IMPORTARDATOSDINAMICOS(\" BAS012\",TABLAS!$A$311)+IMPORTARDATOSDINAMICOS(\" BAS012\",TABLAS!$A$372)"]
[null,null,"01d - 11a","12a - 17a","18a - 29a","30a - 59a","60a más","01d - 11a","12a - 17a","18a - 29a","30a - 59a","60a más","F","M","Total",null,null,null,null,null,null,null,null,null,null,null,null,null,null,null,null,null,null,null,null,null,null,null,null,null,null,null,null,null,null,null,null,null,null,null,null,null,null,null,null,null,null,null,null,null,null,null,null,null,null,null,null,null,null,null,null,null,null,null,null,null,null,null,null,null,null,null,null,null,null,null,null,null,null,null,null,null,null,null,"\";TABLAS!$A$108)",null,null,null,null,null,null,null,null,null,null,null,null,null,null,null,null,null,null,null,null,null,null,null,null,null,null,null,null,null,null,null,null,null,null,null,null,null,null,null,null,null,null,null,null,null,null,null,"=+IMPORTARDATOSDINAMICOS(\" BAS015\",TABLAS!$A$75)+IMPORTARDATOSDINAMICOS(\" BAS015\",TABLAS!$A$142)+IMPORTARDATOSDINAMICOS(\" BAS015\",TABLAS!$A$211)+IMPORTARDATOSDINAMICOS(\" BAS015\",TABLAS!$A$281)+IMPORTARDATOSDINAMICOS(\" BAS015\",TABLAS!$A$341)+IMPORTARDATOSDINAMICOS(\" BAS015\",TABLAS!$A$108)+IMPORTARDATOSDINAMICOS(\" BAS015\",TABLAS!$A$176)+IMPORTARDATOSDINAMICOS(\" BAS015\",TABLAS!$A$246)+IMPORTARDATOSDINAMICOS(\" BAS015\",TABLAS!$A$311)+IMPORTARDATOSDINAMICOS(\" BAS015\",TABLAS!$A$372)",null,null,null,null,null,null,null,null,null,null,null,null,null,null,null,null,null,null,null,null,null,null,null,"=+IMPORTARDATOSDINAMICOS(\" BAS016\",TABLAS!$A$75)+IMPORTARDATOSDINAMICOS(\" BAS016\",TABLAS!$A$142)+IMPORTARDATOSDINAMICOS(\" BAS016\",TABLAS!$A$211)+IMPORTARDATOSDINAMICOS(\" BAS016\",TABLAS!$A$281)+IMPORTARDATOSDINAMICOS(\" BAS016\",TABLAS!$A$341)+IMPORTARDATOSDINAMICOS(\" BAS016\",TABLAS!$A$108)+IMPORTARDATOSDINAMICOS(\" BAS016\",TABLAS!$A$176)+IMPORTARDATOSDINAMICOS(\" BAS016\",TABLAS!$A$246)+IMPORTARDATOSDINAMICOS(\" BAS016\",TABLAS!$A$311)+IMPORTARDATOSDINAMICOS(\" BAS016\",TABLAS!$A$372)"]
[{"$f":"+A36+5","v":68},"PERSONAS TAMIZADAS PARA HEPATITIS B",{"$f":"+GETPIVOTDATA(\" BAS068\",TABLAS!$A$75)","v":50},{"$f":"+GETPIVOTDATA(\" BAS068\",TABLAS!$A$142)","v":1313},{"$f":"+GETPIVOTDATA(\" BAS068\",TABLAS!$A$211)","v":3740},{"$f":"+GETPIVOTDATA(\" BAS068\",TABLAS!$A$281)","v":5862},{"$f":"+GETPIVOTDATA(\" BAS068\",TABLAS!$A$341)","v":422},{"$f":"+GETPIVOTDATA(\" BAS068\",TABLAS!$A$108)","v":79},{"$f":"+GETPIVOTDATA(\" BAS068\",TABLAS!$A$176)","v":1151},{"$f":"+GETPIVOTDATA(\" BAS068\",TABLAS!$A$246)","v":3094},{"$f":"+GETPIVOTDATA(\" BAS068\",TABLAS!$A$311)","v":4730},{"$f":"+GETPIVOTDATA(\" BAS068\",TABLAS!$A$372)","v":660},{"$f":"SUM(C40:G40)","v":11387},{"$f":"SUM(H40:L40)","v":9714},{"$f":"SUM(M40:N40)","v":21101},null,null,null,null,null,null,null,null,null,null,null,null,null,null,null,null,null,null,null,null,null,null,null,null,null,null,{"$f":"+AP36+AT36+1","v":68},null,null,null,null,{"$f":"IF(AP40<10,CONCATENATE(\"00\",AP40),IF(AND(AP40>9,AP40<100),CONCATENATE(\"0\",AP40),AP40))","v":"068"},null,null,null,null,{"$f":"IF(LEN(AU40)=0,\"\",CONCATENATE($CQ$14,AU40,$CQ$15))","v":"=+IMPORTARDATOSDINAMICOS(\" BAS068\",TABLAS!$A$372)"},null,null,null,null,null,null,null,null,null,null,null,null,null,null,null,null,null,null,null,null,null,null,null,null,null,null,null,null,null,null,null,null,null,null,null,null,null,null,null,null,null,null,null,null,null,null,null,null,null,null,null,null,null,null,null,null,null,null,null,null,null,null,null,null,null,null,null,null,null,null,null,null,null,null,null,null,null,null,null,null,null,null,null,null,null,null,null,null,null,null,"=+IMPORTARDATOSDINAMICOS(\" BAS019\",TABLAS!$A$75)+IMPORTARDATOSDINAMICOS(\" BAS019\",TABLAS!$A$142)+IMPORTARDATOSDINAMICOS(\" BAS019\",TABLAS!$A$211)+IMPORTARDATOSDINAMICOS(\" BAS019\",TABLAS!$A$281)+IMPORTARDATOSDINAMICOS(\" BAS019\",TABLAS!$A$341)+IMPORTARDATOSDINAMICOS(\" BAS019\",TABLAS!$A$108)+IMPORTARDATOSDINAMICOS(\" BAS019\",TABLAS!$A$176)+IMPORTARDATOSDINAMICOS(\" BAS019\",TABLAS!$A$246)+IMPORTARDATOSDINAMICOS(\" BAS019\",TABLAS!$A$311)+IMPORTARDATOSDINAMICOS(\" BAS019\",TABLAS!$A$372)",null,null,null,null,null,null,null,null,null,null,null,null,null,null,null,null,null,null,null,null,null,null,null,"=+IMPORTARDATOSDINAMICOS(\" BAS020\",TABLAS!$A$75)+IMPORTARDATOSDINAMICOS(\" BAS020\",TABLAS!$A$142)+IMPORTARDATOSDINAMICOS(\" BAS020\",TABLAS!$A$211)+IMPORTARDATOSDINAMICOS(\" BAS020\",TABLAS!$A$281)+IMPORTARDATOSDINAMICOS(\" BAS020\",TABLAS!$A$341)+IMPORTARDATOSDINAMICOS(\" BAS020\",TABLAS!$A$108)+IMPORTARDATOSDINAMICOS(\" BAS020\",TABLAS!$A$176)+IMPORTARDATOSDINAMICOS(\" BAS020\",TABLAS!$A$246)+IMPORTARDATOSDINAMICOS(\" BAS020\",TABLAS!$A$311)+IMPORTARDATOSDINAMICOS(\" BAS020\",TABLAS!$A$372)"]
[{"$f":"+A40+1","v":69},"PERSONAS TAMIZADAS REACTIVAS A HEPATITIS B",{"$f":"+GETPIVOTDATA(\" BAS069\",TABLAS!$A$75)","v":1},{"$f":"+GETPIVOTDATA(\" BAS069\",TABLAS!$A$142)","v":1},{"$f":"+GETPIVOTDATA(\" BAS069\",TABLAS!$A$211)","v":3},{"$f":"+GETPIVOTDATA(\" BAS069\",TABLAS!$A$281)","v":25},{"$f":"+GETPIVOTDATA(\" BAS069\",TABLAS!$A$341)","v":2},{"$f":"+GETPIVOTDATA(\" BAS069\",TABLAS!$A$108)","v":0},{"$f":"+GETPIVOTDATA(\" BAS069\",TABLAS!$A$176)","v":0},{"$f":"+GETPIVOTDATA(\" BAS069\",TABLAS!$A$246)","v":9},{"$f":"+GETPIVOTDATA(\" BAS069\",TABLAS!$A$311)","v":33},{"$f":"+GETPIVOTDATA(\" BAS069\",TABLAS!$A$372)","v":3},{"$f":"SUM(C41:G41)","v":32},{"$f":"SUM(H41:L41)","v":45},{"$f":"SUM(M41:N41)","v":77},null,null,null,null,null,null,null,null,null,null,null,null,null,null,null,null,null,null,null,null,null,null,null,null,null,null,{"$f":"+AP40+1","v":69},null,null,null,null,"069",null,null,null,null,"=+IMPORTARDATOSDINAMICOS(\" BAS069\",TABLAS!$A$372)",null,null,null,null,null,null,null,null,null,null,null,null,null,null,null,null,null,null,null,null,null,null,null,null,null,null,null,null,null,null,null,null,null,null,null,null,null,null,null,null,null,null,null,null,null,null,null,null,null,null,null,null,null,null,null,null,null,null,null,null,null,null,null,null,null,null,null,null,null,null,null,null,null,null,null,null,null,null,null,null,null,null,null,null,null,null,null,null,null,null,"=+IMPORTARDATOSDINAMICOS(\" BAS023\",TABLAS!$A$75)+IMPORTARDATOSDINAMICOS(\" BAS023\",TABLAS!$A$142)+IMPORTARDATOSDINAMICOS(\" BAS023\",TABLAS!$A$211)+IMPORTARDATOSDINAMICOS(\" BAS023\",TABLAS!$A$281)+IMPORTARDATOSDINAMICOS(\" BAS023\",TABLAS!$A$341)+IMPORTARDATOSDINAMICOS(\" BAS023\",TABLAS!$A$108)+IMPORTARDATOSDINAMICOS(\" BAS023\",TABLAS!$A$176)+IMPORTARDATOSDINAMICOS(\" BAS023\",TABLAS!$A$246)+IMPORTARDATOSDINAMICOS(\" BAS023\",TABLAS!$A$311)+IMPORTARDATOSDINAMICOS(\" BAS023\",TABLAS!$A$372)",null,null,null,null,null,null,null,null,null,null,null,null,null,null,null,null,null,null,null,null,null,null,null,"=+IMPORTARDATOSDINAMICOS(\" BAS024\",TABLAS!$A$75)+IMPORTARDATOSDINAMICOS(\" BAS024\",TABLAS!$A$142)+IMPORTARDATOSDINAMICOS(\" BAS024\",TABLAS!$A$211)+IMPORTARDATOSDINAMICOS(\" BAS024\",TABLAS!$A$281)+IMPORTARDATOSDINAMICOS(\" BAS024\",TABLAS!$A$341)+IMPORTARDATOSDINAMICOS(\" BAS024\",TABLAS!$A$108)+IMPORTARDATOSDINAMICOS(\" BAS024\",TABLAS!$A$176)+IMPORTARDATOSDINAMICOS(\" BAS024\",TABLAS!$A$246)+IMPORTARDATOSDINAMICOS(\" BAS024\",TABLAS!$A$311)+IMPORTARDATOSDINAMICOS(\" BAS024\",TABLAS!$A$372)"]
[{"$f":"+A41+1","v":70},"PERSONAS CON DIAGNOSTICO DE HEPATITIS B CRONICA",{"$f":"+GETPIVOTDATA(\" BAS070\",TABLAS!$A$75)","v":2},{"$f":"+GETPIVOTDATA(\" BAS070\",TABLAS!$A$142)","v":0},{"$f":"+GETPIVOTDATA(\" BAS070\",TABLAS!$A$211)","v":2},{"$f":"+GETPIVOTDATA(\" BAS070\",TABLAS!$A$281)","v":15},{"$f":"+GETPIVOTDATA(\" BAS070\",TABLAS!$A$341)","v":2},{"$f":"+GETPIVOTDATA(\" BAS070\",TABLAS!$A$108)","v":0},{"$f":"+GETPIVOTDATA(\" BAS070\",TABLAS!$A$176)","v":0},{"$f":"+GETPIVOTDATA(\" BAS070\",TABLAS!$A$246)","v":3},{"$f":"+GETPIVOTDATA(\" BAS070\",TABLAS!$A$311)","v":20},{"$f":"+GETPIVOTDATA(\" BAS070\",TABLAS!$A$372)","v":4},21,27,48,null,null,null,null,null,null,null,null,null,null,null,null,null,null,null,null,null,null,null,null,null,null,null,null,null,null,{"$f":"+AP41+1","v":70},null,null,null,null,"070",null,null,null,null,"=+IMPORTARDATOSDINAMICOS(\" BAS070\",TABLAS!$A$372)",null,null,null,null,null,null,null,null,null,null,null,null,null,null,null,null,null,null,null,null,null,null,null,null,null,null,null,null,null,null,null,null,null,null,null,null,null,null,null,null,null,null,null,null,null,null,null,null,null,null,null,null,null,null,null,null,null,null,null,null,null,null,null,null,null,null,null,null,null,null,null,null,null,null,null,null,null,null,null,null,null,null,null,null,null,null,null,null,null,null,"=+IMPORTARDATOSDINAMICOS(\" BAS027\",TABLAS!$A$75)+IMPORTARDATOSDINAMICOS(\" BAS027\",TABLAS!$A$142)+IMPORTARDATOSDINAMICOS(\" BAS027\",TABLAS!$A$211)+IMPORTARDATOSDINAMICOS(\" BAS027\",TABLAS!$A$281)+IMPORTARDATOSDINAMICOS(\" BAS027\",TABLAS!$A$341)+IMPORTARDATOSDINAMICOS(\" BAS027\",TABLAS!$A$108)+IMPORTARDATOSDINAMICOS(\" BAS027\",TABLAS!$A$176)+IMPORTARDATOSDINAMICOS(\" BAS027\",TABLAS!$A$246)+IMPORTARDATOSDINAMICOS(\" BAS027\",TABLAS!$A$311)+IMPORTARDATOSDINAMICOS(\" BAS027\",TABLAS!$A$372)",null,null,null,null,null,null,null,null,null,null,null,null,null,null,null,null,null,null,null,null,null,null,null,"=+IMPORTARDATOSDINAMICOS(\" BAS028\",TABLAS!$A$75)+IMPORTARDATOSDINAMICOS(\" BAS028\",TABLAS!$A$142)+IMPORTARDATOSDINAMICOS(\" BAS028\",TABLAS!$A$211)+IMPORTARDATOSDINAMICOS(\" BAS028\",TABLAS!$A$281)+IMPORTARDATOSDINAMICOS(\" BAS028\",TABLAS!$A$341)+IMPORTARDATOSDINAMICOS(\" BAS028\",TABLAS!$A$108)+IMPORTARDATOSDINAMICOS(\" BAS028\",TABLAS!$A$176)+IMPORTARDATOSDINAMICOS(\" BAS028\",TABLAS!$A$246)+IMPORTARDATOSDINAMICOS(\" BAS028\",TABLAS!$A$311)+IMPORTARDATOSDINAMICOS(\" BAS028\",TABLAS!$A$372)"]
[71,"PERSONAS DE POBLACION INDIGENA TAMIZADAS PARA HEPATITIS B",{"$f":"+GETPIVOTDATA(\" BAS071\",TABLAS!$A$75)","v":11},{"$f":"+GETPIVOTDATA(\" BAS071\",TABLAS!$A$142)","v":482},{"$f":"+GETPIVOTDATA(\" BAS071\",TABLAS!$A$211)","v":1055},{"$f":"+GETPIVOTDATA(\" BAS071\",TABLAS!$A$281)","v":783},{"$f":"+GETPIVOTDATA(\" BAS071\",TABLAS!$A$341)","v":15},{"$f":"+GETPIVOTDATA(\" BAS071\",TABLAS!$A$108)","v":18},{"$f":"+GETPIVOTDATA(\" BAS071\",TABLAS!$A$176)","v":305},{"$f":"+GETPIVOTDATA(\" BAS071\",TABLAS!$A$246)","v":394},{"$f":"+GETPIVOTDATA(\" BAS071\",TABLAS!$A$311)","v":459},{"$f":"+GETPIVOTDATA(\" BAS071\",TABLAS!$A$372)","v":16},2346,1192,3538,null,null,null,null,null,null,null,null,null,null,null,null,null,null,null,null,null,null,null,null,null,null,null,null,null,null,71,null,null,null,null,"071",null,null,null,null,"=+IMPORTARDATOSDINAMICOS(\" BAS071\",TABLAS!$A$372)",null,null,null,null,null,null,null,null,null,null,null,null,null,null,null,null,null,null,null,null,null,null,null,null,null,null,null,null,null,null,null,null,null,null,null,null,null,null,null,null,null,null,null,null,null,null,null,null,null,null,null,null,null,null,null,null,null,null,null,null,null,null,null,null,null,null,null,null,null,null,null,null,null,null,null,null,null,null,null,null,null,null,null,null,null,null,null,null,null,null,"=+IMPORTARDATOSDINAMICOS(\" BAS031\",TABLAS!$A$75)+IMPORTARDATOSDINAMICOS(\" BAS031\",TABLAS!$A$142)+IMPORTARDATOSDINAMICOS(\" BAS031\",TABLAS!$A$211)+IMPORTARDATOSDINAMICOS(\" BAS031\",TABLAS!$A$281)+IMPORTARDATOSDINAMICOS(\" BAS031\",TABLAS!$A$341)+IMPORTARDATOSDINAMICOS(\" BAS031\",TABLAS!$A$108)+IMPORTARDATOSDINAMICOS(\" BAS031\",TABLAS!$A$176)+IMPORTARDATOSDINAMICOS(\" BAS031\",TABLAS!$A$246)+IMPORTARDATOSDINAMICOS(\" BAS031\",TABLAS!$A$311)+IMPORTARDATOSDINAMICOS(\" BAS031\",TABLAS!$A$372)",null,null,null,null,null,null,null,null,null,null,null,null,null,null,null,null,null,null,null,null,null,null,null,"=+IMPORTARDATOSDINAMICOS(\" BAS032\",TABLAS!$A$75)+IMPORTARDATOSDINAMICOS(\" BAS032\",TABLAS!$A$142)+IMPORTARDATOSDINAMICOS(\" BAS032\",TABLAS!$A$211)+IMPORTARDATOSDINAMICOS(\" BAS032\",TABLAS!$A$281)+IMPORTARDATOSDINAMICOS(\" BAS032\",TABLAS!$A$341)+IMPORTARDATOSDINAMICOS(\" BAS032\",TABLAS!$A$108)+IMPORTARDATOSDINAMICOS(\" BAS032\",TABLAS!$A$176)+IMPORTARDATOSDINAMICOS(\" BAS032\",TABLAS!$A$246)+IMPORTARDATOSDINAMICOS(\" BAS032\",TABLAS!$A$311)+IMPORTARDATOSDINAMICOS(\" BAS032\",TABLAS!$A$372)"]
[72,"PERSONAS DE POBLACION INDIGENA TAMIZADAS REACTIVAS A HEPATITIS B",{"$f":"+GETPIVOTDATA(\" BAS072\",TABLAS!$A$75)","v":0},{"$f":"+GETPIVOTDATA(\" BAS072\",TABLAS!$A$142)","v":0},{"$f":"+GETPIVOTDATA(\" BAS072\",TABLAS!$A$211)","v":3},{"$f":"+GETPIVOTDATA(\" BAS072\",TABLAS!$A$281)","v":5},{"$f":"+GETPIVOTDATA(\" BAS072\",TABLAS!$A$341)","v":1},{"$f":"+GETPIVOTDATA(\" BAS072\",TABLAS!$A$108)","v":0},{"$f":"+GETPIVOTDATA(\" BAS072\",TABLAS!$A$176)","v":0},{"$f":"+GETPIVOTDATA(\" BAS072\",TABLAS!$A$246)","v":3},{"$f":"+GETPIVOTDATA(\" BAS072\",TABLAS!$A$311)","v":4},{"$f":"+GETPIVOTDATA(\" BAS072\",TABLAS!$A$372)","v":1},9,8,17,null,null,null,null,null,null,null,null,null,null,null,null,null,null,null,null,null,null,null,null,null,null,null,null,null,null,72,null,null,null,null,"072",null,null,null,null,"=+IMPORTARDATOSDINAMICOS(\" BAS072\",TABLAS!$A$372)",null,null,null,null,null,null,null,null,null,null,null,null,null,null,null,null,null,null,null,null,null,null,null,null,null,null,null,null,null,null,null,null,null,null,null,null,null,null,null,null,null,null,null,null,null,null,null,null,null,null,null,null,null,null,null,null,null,null,null,null,null,null,null,null,null,null,null,null,null,null,null,null,null,null,null,null,null,null,null,null,null,null,null,null,null,null,null,null,null,null,"=+IMPORTARDATOSDINAMICOS(\" BAS043\",TABLAS!$A$75)+IMPORTARDATOSDINAMICOS(\" BAS043\",TABLAS!$A$142)+IMPORTARDATOSDINAMICOS(\" BAS043\",TABLAS!$A$211)+IMPORTARDATOSDINAMICOS(\" BAS043\",TABLAS!$A$281)+IMPORTARDATOSDINAMICOS(\" BAS043\",TABLAS!$A$341)+IMPORTARDATOSDINAMICOS(\" BAS043\",TABLAS!$A$108)+IMPORTARDATOSDINAMICOS(\" BAS043\",TABLAS!$A$176)+IMPORTARDATOSDINAMICOS(\" BAS043\",TABLAS!$A$246)+IMPORTARDATOSDINAMICOS(\" BAS043\",TABLAS!$A$311)+IMPORTARDATOSDINAMICOS(\" BAS043\",TABLAS!$A$372)",null,null,null,null,null,null,null,null,null,null,null,null,null,null,null,null,null,null,null,null,null,null,null,"=+IMPORTARDATOSDINAMICOS(\" BAS044\",TABLAS!$A$75)+IMPORTARDATOSDINAMICOS(\" BAS044\",TABLAS!$A$142)+IMPORTARDATOSDINAMICOS(\" BAS044\",TABLAS!$A$211)+IMPORTARDATOSDINAMICOS(\" BAS044\",TABLAS!$A$281)+IMPORTARDATOSDINAMICOS(\" BAS044\",TABLAS!$A$341)+IMPORTARDATOSDINAMICOS(\" BAS044\",TABLAS!$A$108)+IMPORTARDATOSDINAMICOS(\" BAS044\",TABLAS!$A$176)+IMPORTARDATOSDINAMICOS(\" BAS044\",TABLAS!$A$246)+IMPORTARDATOSDINAMICOS(\" BAS044\",TABLAS!$A$311)+IMPORTARDATOSDINAMICOS(\" BAS044\",TABLAS!$A$372)"]
[73,"PERSONAS DE POBLACION INDIGENA CON DIAGNOSTICO DE HEPATITIS B CRONICA",{"$f":"+GETPIVOTDATA(\" BAS073\",TABLAS!$A$75)","v":0},{"$f":"+GETPIVOTDATA(\" BAS073\",TABLAS!$A$142)","v":0},{"$f":"+GETPIVOTDATA(\" BAS073\",TABLAS!$A$211)","v":0},{"$f":"+GETPIVOTDATA(\" BAS073\",TABLAS!$A$281)","v":0},{"$f":"+GETPIVOTDATA(\" BAS073\",TABLAS!$A$341)","v":0},{"$f":"+GETPIVOTDATA(\" BAS073\",TABLAS!$A$108)","v":0},{"$f":"+GETPIVOTDATA(\" BAS073\",TABLAS!$A$176)","v":0},{"$f":"+GETPIVOTDATA(\" BAS073\",TABLAS!$A$246)","v":0},{"$f":"+GETPIVOTDATA(\" BAS073\",TABLAS!$A$311)","v":2},{"$f":"+GETPIVOTDATA(\" BAS073\",TABLAS!$A$372)","v":0},0,2,2,null,null,null,null,null,null,null,null,null,null,null,null,null,null,null,null,null,null,null,null,null,null,null,null,null,null,73,null,null,null,null,"073",null,null,null,null,"=+IMPORTARDATOSDINAMICOS(\" BAS073\",TABLAS!$A$372)",null,null,null,null,null,null,null,null,null,null,null,null,null,null,null,null,null,null,null,null,null,null,null,null,null,null,null,null,null,null,null,null,null,null,null,null,null,null,null,null,null,null,null,null,null,null,null,null,null,null,null,null,null,null,null,null,null,null,null,null,null,null,null,null,null,null,null,null,null,null,null,null,null,null,null,null,null,null,null,null,null,null,null,null,null,null,null,null,null,null,"=+IMPORTARDATOSDINAMICOS(\" BAS047\",TABLAS!$A$75)+IMPORTARDATOSDINAMICOS(\" BAS047\",TABLAS!$A$142)+IMPORTARDATOSDINAMICOS(\" BAS047\",TABLAS!$A$211)+IMPORTARDATOSDINAMICOS(\" BAS047\",TABLAS!$A$281)+IMPORTARDATOSDINAMICOS(\" BAS047\",TABLAS!$A$341)+IMPORTARDATOSDINAMICOS(\" BAS047\",TABLAS!$A$108)+IMPORTARDATOSDINAMICOS(\" BAS047\",TABLAS!$A$176)+IMPORTARDATOSDINAMICOS(\" BAS047\",TABLAS!$A$246)+IMPORTARDATOSDINAMICOS(\" BAS047\",TABLAS!$A$311)+IMPORTARDATOSDINAMICOS(\" BAS047\",TABLAS!$A$372)",null,null,null,null,null,null,null,null,null,null,null,null,null,null,null,null,null,null,null,null,null,null,null,"=+IMPORTARDATOSDINAMICOS(\" BAS048\",TABLAS!$A$75)+IMPORTARDATOSDINAMICOS(\" BAS048\",TABLAS!$A$142)+IMPORTARDATOSDINAMICOS(\" BAS048\",TABLAS!$A$211)+IMPORTARDATOSDINAMICOS(\" BAS048\",TABLAS!$A$281)+IMPORTARDATOSDINAMICOS(\" BAS048\",TABLAS!$A$341)+IMPORTARDATOSDINAMICOS(\" BAS048\",TABLAS!$A$108)+IMPORTARDATOSDINAMICOS(\" BAS048\",TABLAS!$A$176)+IMPORTARDATOSDINAMICOS(\" BAS048\",TABLAS!$A$246)+IMPORTARDATOSDINAMICOS(\" BAS048\",TABLAS!$A$311)+IMPORTARDATOSDINAMICOS(\" BAS048\",TABLAS!$A$372)"]
[74,"TOTAL DE PERSONAS CON DIAGNOSTICO DE HEPATITIS B - INICIAN TRATAMIENTO (Incluye todas las poblaciones)",{"$f":"+GETPIVOTDATA(\" BAS074\",TABLAS!$A$75)","v":0},{"$f":"+GETPIVOTDATA(\" BAS074\",TABLAS!$A$142)","v":0},{"$f":"+GETPIVOTDATA(\" BAS074\",TABLAS!$A$211)","v":13},{"$f":"+GETPIVOTDATA(\" BAS074\",TABLAS!$A$281)","v":59},{"$f":"+GETPIVOTDATA(\" BAS074\",TABLAS!$A$341)","v":6},{"$f":"+GETPIVOTDATA(\" BAS074\",TABLAS!$A$108)","v":0},{"$f":"+GETPIVOTDATA(\" BAS074\",TABLAS!$A$176)","v":0},{"$f":"+GETPIVOTDATA(\" BAS074\",TABLAS!$A$246)","v":8},{"$f":"+GETPIVOTDATA(\" BAS074\",TABLAS!$A$311)","v":66},{"$f":"+GETPIVOTDATA(\" BAS074\",TABLAS!$A$372)","v":5},78,79,157,null,null,null,null,null,null,null,null,null,null,null,null,null,null,null,null,null,null,null,null,null,null,null,null,null,null,74,null,null,null,null,"074",null,null,null,null,"=+IMPORTARDATOSDINAMICOS(\" BAS074\",TABLAS!$A$372)",null,null,null,null,null,null,null,null,null,null,null,null,null,null,null,null,null,null,null,null,null,null,null,null,null,null,null,null,null,null,null,null,null,null,null,null,null,null,null,null,null,null,null,null,null,null,null,null,null,null,null,null,null,null,null,null,null,null,null,null,null,null,null,null,null,null,null,null,null,null,null,null,null,null,null,null,null,null,null,null,null,null,null,null,null,null,null,null,null,null,"=+IMPORTARDATOSDINAMICOS(\" BAS051\",TABLAS!$A$75)+IMPORTARDATOSDINAMICOS(\" BAS051\",TABLAS!$A$142)+IMPORTARDATOSDINAMICOS(\" BAS051\",TABLAS!$A$211)+IMPORTARDATOSDINAMICOS(\" BAS051\",TABLAS!$A$281)+IMPORTARDATOSDINAMICOS(\" BAS051\",TABLAS!$A$341)+IMPORTARDATOSDINAMICOS(\" BAS051\",TABLAS!$A$108)+IMPORTARDATOSDINAMICOS(\" BAS051\",TABLAS!$A$176)+IMPORTARDATOSDINAMICOS(\" BAS051\",TABLAS!$A$246)+IMPORTARDATOSDINAMICOS(\" BAS051\",TABLAS!$A$311)+IMPORTARDATOSDINAMICOS(\" BAS051\",TABLAS!$A$372)",null,null,null,null,null,null,null,null,null,null,null,null,null,null,null,null,null,null,null,null,null,null,null,"=+IMPORTARDATOSDINAMICOS(\" BAS052\",TABLAS!$A$75)+IMPORTARDATOSDINAMICOS(\" BAS052\",TABLAS!$A$142)+IMPORTARDATOSDINAMICOS(\" BAS052\",TABLAS!$A$211)+IMPORTARDATOSDINAMICOS(\" BAS052\",TABLAS!$A$281)+IMPORTARDATOSDINAMICOS(\" BAS052\",TABLAS!$A$341)+IMPORTARDATOSDINAMICOS(\" BAS052\",TABLAS!$A$108)+IMPORTARDATOSDINAMICOS(\" BAS052\",TABLAS!$A$176)+IMPORTARDATOSDINAMICOS(\" BAS052\",TABLAS!$A$246)+IMPORTARDATOSDINAMICOS(\" BAS052\",TABLAS!$A$311)+IMPORTARDATOSDINAMICOS(\" BAS052\",TABLAS!$A$372)"]
[75,"TOTAL DE PERSONAS CON DIAGNOSTICO DE HEPATITIS B - CON TRATAMIENTO ANUAL COMPLETO (Incluye todas las poblaciones)",{"$f":"+GETPIVOTDATA(\" BAS075\",TABLAS!$A$75)","v":0},{"$f":"+GETPIVOTDATA(\" BAS075\",TABLAS!$A$142)","v":0},{"$f":"+GETPIVOTDATA(\" BAS075\",TABLAS!$A$211)","v":7},{"$f":"+GETPIVOTDATA(\" BAS075\",TABLAS!$A$281)","v":37},{"$f":"+GETPIVOTDATA(\" BAS075\",TABLAS!$A$341)","v":4},{"$f":"+GETPIVOTDATA(\" BAS075\",TABLAS!$A$108)","v":0},{"$f":"+GETPIVOTDATA(\" BAS075\",TABLAS!$A$176)","v":0},{"$f":"+GETPIVOTDATA(\" BAS075\",TABLAS!$A$246)","v":3},{"$f":"+GETPIVOTDATA(\" BAS075\",TABLAS!$A$311)","v":42},{"$f":"+GETPIVOTDATA(\" BAS075\",TABLAS!$A$372)","v":4},48,49,97,null,null,null,null,null,null,null,null,null,null,null,null,null,null,null,null,null,null,null,null,null,null,null,null,null,null,75,null,null,null,3,"075",null,null,null,null,"=+IMPORTARDATOSDINAMICOS(\" BAS075\",TABLAS!$A$372)"]
[]
[null,"2A. - HEPATITIS C","FEMENINO",null,null,null,null,"MASCULINO",null,null,null,null,"Total",null,null,null,null,null,null,null,null,null,null,null,null,null,null,null,null,null,null,null,null,null,null,null,null,null,null,null,null,null,null,null,null,null,null,null,null,null,null,null,null,null,null,null,null,null,null,null,null,null,null,null,null,null,null,null,null,null,null,null,null,null,null,null,null,null,null,null,null,null,null,null,null,null,null,null,null,null,null,null,null,null,"=+IMPORTARDATOSDINAMICOS(\" BAS"]
[null,null,"01d - 11a","12a - 17a","18a - 29a","30a - 59a","60a más","01d - 11a","12a - 17a","18a - 29a","30a - 59a","60a más","F","M","Total",null,null,null,null,null,null,null,null,null,null,null,null,null,null,null,null,null,null,null,null,null,null,null,null,null,null,null,null,null,null,null,null,null,null,null,null,null,null,null,null,null,null,null,null,null,null,null,null,null,null,null,null,null,null,null,null,null,null,null,null,null,null,null,null,null,null,null,null,null,null,null,null,null,null,null,null,null,null,null,"\",TABLAS!$A$525)"]
[{"$f":"+A47+4","v":79},"PERSONAS TAMIZADAS PARA HEPATITIS C",{"$f":"+GETPIVOTDATA(\" BAS079\",TABLAS!$A$75)","v":2},{"$f":"+GETPIVOTDATA(\" BAS079\",TABLAS!$A$142)","v":93},{"$f":"+GETPIVOTDATA(\" BAS079\",TABLAS!$A$211)","v":573},{"$f":"+GETPIVOTDATA(\" BAS079\",TABLAS!$A$281)","v":631},{"$f":"+GETPIVOTDATA(\" BAS079\",TABLAS!$A$341)","v":55},{"$f":"+GETPIVOTDATA(\" BAS079\",TABLAS!$A$108)","v":0},{"$f":"+GETPIVOTDATA(\" BAS079\",TABLAS!$A$176)","v":61},{"$f":"+GETPIVOTDATA(\" BAS079\",TABLAS!$A$246)","v":545},{"$f":"+GETPIVOTDATA(\" BAS079\",TABLAS!$A$311)","v":479},{"$f":"+GETPIVOTDATA(\" BAS079\",TABLAS!$A$372)","v":69},{"$f":"SUM(C51:G51)","v":1354},{"$f":"SUM(H51:L51)","v":1154},{"$f":"SUM(M51:N51)","v":2508},null,null,null,null,null,null,null,null,null,null,null,null,null,null,null,null,null,null,null,null,null,null,null,null,null,null,{"$f":"+AP47+AT47+1","v":79},null,null,null,null,{"$f":"IF(AP51<10,CONCATENATE(\"00\",AP51),IF(AND(AP51>9,AP51<100),CONCATENATE(\"0\",AP51),AP51))","v":"079"},null,null,null,null,{"$f":"IF(LEN(AU51)=0,\"\",CONCATENATE($CQ$14,AU51,$CQ$15))","v":"=+IMPORTARDATOSDINAMICOS(\" BAS079\",TABLAS!$A$372)"}]
[{"$f":"+A51+1","v":80},"PERSONAS TAMIZADAS REACTIVAS A HEPATITIS C",{"$f":"+GETPIVOTDATA(\" BAS080\",TABLAS!$A$75)","v":0},{"$f":"+GETPIVOTDATA(\" BAS080\",TABLAS!$A$142)","v":0},{"$f":"+GETPIVOTDATA(\" BAS080\",TABLAS!$A$211)","v":0},{"$f":"+GETPIVOTDATA(\" BAS080\",TABLAS!$A$281)","v":0},{"$f":"+GETPIVOTDATA(\" BAS080\",TABLAS!$A$341)","v":0},{"$f":"+GETPIVOTDATA(\" BAS080\",TABLAS!$A$108)","v":0},{"$f":"+GETPIVOTDATA(\" BAS080\",TABLAS!$A$176)","v":0},{"$f":"+GETPIVOTDATA(\" BAS080\",TABLAS!$A$246)","v":0},{"$f":"+GETPIVOTDATA(\" BAS080\",TABLAS!$A$311)","v":0},{"$f":"+GETPIVOTDATA(\" BAS080\",TABLAS!$A$372)","v":0},{"$f":"SUM(C52:G52)","v":0},{"$f":"SUM(H52:L52)","v":0},{"$f":"SUM(M52:N52)","v":0},null,null,null,null,null,null,null,null,null,null,null,null,null,null,null,null,null,null,null,null,null,null,null,null,null,null,{"$f":"+AP51+1","v":80},null,null,null,null,"080",null,null,null,null,"=+IMPORTARDATOSDINAMICOS(\" BAS080\",TABLAS!$A$372)",null,null,null,null,null,null,null,null,null,null,null,null,null,null,null,null,null,null,null,null,null,null,null,null,null,null,null,null,null,null,null,null,null,null,null,null,null,null,null,null,null,null,"hsh",402]
[{"$f":"+A52+1","v":81},"PERSONAS CON DIAGNOSTICO DE HEPATITIS C CRÓNICA",{"$f":"+GETPIVOTDATA(\" BAS081\",TABLAS!$A$75)","v":0},{"$f":"+GETPIVOTDATA(\" BAS081\",TABLAS!$A$142)","v":0},{"$f":"+GETPIVOTDATA(\" BAS081\",TABLAS!$A$211)","v":0},{"$f":"+GETPIVOTDATA(\" BAS081\",TABLAS!$A$281)","v":0},{"$f":"+GETPIVOTDATA(\" BAS081\",TABLAS!$A$341)","v":0},{"$f":"+GETPIVOTDATA(\" BAS081\",TABLAS!$A$108)","v":0},{"$f":"+GETPIVOTDATA(\" BAS081\",TABLAS!$A$176)","v":0},{"$f":"+GETPIVOTDATA(\" BAS081\",TABLAS!$A$246)","v":0},{"$f":"+GETPIVOTDATA(\" BAS081\",TABLAS!$A$311)","v":0},{"$f":"+GETPIVOTDATA(\" BAS081\",TABLAS!$A$372)","v":0},0,0,0,null,null,null,null,null,null,null,null,null,null,null,null,null,null,null,null,null,null,null,null,null,null,null,null,null,null,{"$f":"+AP52+1","v":81},null,null,null,null,"081",null,null,null,null,"=+IMPORTARDATOSDINAMICOS(\" BAS081\",TABLAS!$A$372)",null,null,null,null,null,null,null,null,null,null,null,null,null,null,null,null,null,null,null,null,null,null,null,null,null,null,null,null,null,null,null,null,null,null,null,null,null,null,null,null,null,null,"ts",433]
[82,"TOTAL DE PERSONAS CON DIAGNOSTICO DE HEPATITIS C - INICIAN TRATAMIENTO",{"$f":"+GETPIVOTDATA(\" BAS082\",TABLAS!$A$75)","v":0},{"$f":"+GETPIVOTDATA(\" BAS082\",TABLAS!$A$142)","v":0},{"$f":"+GETPIVOTDATA(\" BAS082\",TABLAS!$A$211)","v":0},{"$f":"+GETPIVOTDATA(\" BAS082\",TABLAS!$A$281)","v":0},{"$f":"+GETPIVOTDATA(\" BAS082\",TABLAS!$A$341)","v":0},{"$f":"+GETPIVOTDATA(\" BAS082\",TABLAS!$A$108)","v":0},{"$f":"+GETPIVOTDATA(\" BAS082\",TABLAS!$A$176)","v":0},{"$f":"+GETPIVOTDATA(\" BAS082\",TABLAS!$A$246)","v":0},{"$f":"+GETPIVOTDATA(\" BAS082\",TABLAS!$A$311)","v":0},{"$f":"+GETPIVOTDATA(\" BAS082\",TABLAS!$A$372)","v":0},0,0,0,null,null,null,null,null,null,null,null,null,null,null,null,null,null,null,null,null,null,null,null,null,null,null,null,null,null,82,null,null,null,null,"082",null,null,null,null,"=+IMPORTARDATOSDINAMICOS(\" BAS082\",TABLAS!$A$372)",null,null,null,null,null,null,null,null,null,null,null,null,null,null,null,null,null,null,null,null,null,null,null,null,null,null,null,null,null,null,null,null,null,null,null,null,null,null,null,null,null,null,"tra",463]
[83,"TOTAL DE PERSONAS CON DIAGNOSTICO DE HEPATITIS C - CON TRATAMIENTO COMPLETO",{"$f":"+GETPIVOTDATA(\" BAS083\",TABLAS!$A$75)","v":0},{"$f":"+GETPIVOTDATA(\" BAS083\",TABLAS!$A$142)","v":0},{"$f":"+GETPIVOTDATA(\" BAS083\",TABLAS!$A$211)","v":0},{"$f":"+GETPIVOTDATA(\" BAS083\",TABLAS!$A$281)","v":0},{"$f":"+GETPIVOTDATA(\" BAS083\",TABLAS!$A$341)","v":0},{"$f":"+GETPIVOTDATA(\" BAS083\",TABLAS!$A$108)","v":0},{"$f":"+GETPIVOTDATA(\" BAS083\",TABLAS!$A$176)","v":0},{"$f":"+GETPIVOTDATA(\" BAS083\",TABLAS!$A$246)","v":0},{"$f":"+GETPIVOTDATA(\" BAS083\",TABLAS!$A$311)","v":0},{"$f":"+GETPIVOTDATA(\" BAS083\",TABLAS!$A$372)","v":0},0,0,0,null,null,null,null,null,null,null,null,null,null,null,null,null,null,null,null,null,null,null,null,null,null,null,null,null,null,83,null,null,null,null,"083",null,null,null,null,"=+IMPORTARDATOSDINAMICOS(\" BAS083\",TABLAS!$A$372)",null,null,null,null,null,null,null,null,null,null,null,null,null,null,null,null,null,null,null,null,null,null,null,null,null,null,null,null,null,null,null,null,null,null,null,null,null,null,null,null,null,null,"hts",495]
[84,"TOTAL DE PERSONAS CON DIAGNOSTICO DE HEPATITIS C CURADAS",{"$f":"+GETPIVOTDATA(\" BAS084\",TABLAS!$A$75)","v":0},{"$f":"+GETPIVOTDATA(\" BAS084\",TABLAS!$A$142)","v":0},{"$f":"+GETPIVOTDATA(\" BAS084\",TABLAS!$A$211)","v":0},{"$f":"+GETPIVOTDATA(\" BAS084\",TABLAS!$A$281)","v":0},{"$f":"+GETPIVOTDATA(\" BAS084\",TABLAS!$A$341)","v":0},{"$f":"+GETPIVOTDATA(\" BAS084\",TABLAS!$A$108)","v":0},{"$f":"+GETPIVOTDATA(\" BAS084\",TABLAS!$A$176)","v":0},{"$f":"+GETPIVOTDATA(\" BAS084\",TABLAS!$A$246)","v":0},{"$f":"+GETPIVOTDATA(\" BAS084\",TABLAS!$A$311)","v":0},{"$f":"+GETPIVOTDATA(\" BAS084\",TABLAS!$A$372)","v":0},0,0,0,null,null,null,null,null,null,null,null,null,null,null,null,null,null,null,null,null,null,null,null,null,null,null,null,null,null,84,null,null,null,3,"084",null,null,null,null,"=+IMPORTARDATOSDINAMICOS(\" BAS084\",TABLAS!$A$372)",null,null,null,null,null,null,null,null,null,null,null,null,null,null,null,null,null,null,null,null,null,null,null,null,null,null,null,null,null,null,null,null,null,null,null,null,null,null,null,null,null,null,"tts",525]
[]
[null,"3.- POBLACION GENERAL: TAMIZAJE VIH: CONDICION PRE TEST","FEMENINO",null,null,null,null,"MASCULINO",null,null,null,null,"Total",null,null,null,null,null,null,null,null,null,null,null,null,null,null,null,null,null,null,null,null,null,null,null,null,null,null,null,null,null,null,null,null,null,null,null,null,null,null,null,null,null,null,null,null,null,null,null,null,null,null,null,null,null,null,null,null,null,null,null,null,null,null,null,null,null,null,null,null,null,null,null,null,null,null,null,null,null,null,null,null,null,"=+IMPORTARDATOSDINAMICOS(\" BAS"]
[null,null,"01d - 11a","12a - 17a","18a - 29a","30a - 59a","60a más","01d - 11a","12a - 17a","18a - 29a","30a - 59a","60a más","F","M","Total",null,null,null,null,null,null,null,null,null,null,null,null,null,null,null,null,null,null,null,null,null,null,null,null,null,null,null,null,null,null,null,null,null,null,null,null,null,null,null,null,null,null,null,null,null,null,null,null,null,null,null,null,null,null,null,null,null,null,null,null,null,null,null,null,null,null,null,null,null,null,null,null,null,null,null,null,null,null,null,"\";TABLAS!$A$142)"]
[{"$f":"+A56+4","v":88},"PERSONAS TAMIZADAS PARA VIH (EXCEPTO GESTANTES,POBLACION CLAVE, TBC E INDIGENA)",{"$f":"+GETPIVOTDATA(\" BAS088\",TABLAS!$A$75)","v":49},{"$f":"+GETPIVOTDATA(\" BAS088\",TABLAS!$A$142)","v":1671},{"$f":"+GETPIVOTDATA(\" BAS088\",TABLAS!$A$211)","v":3501},{"$f":"+GETPIVOTDATA(\" BAS088\",TABLAS!$A$281)","v":5272},{"$f":"+GETPIVOTDATA(\" BAS088\",TABLAS!$A$341)","v":412},{"$f":"+GETPIVOTDATA(\" BAS088\",TABLAS!$A$108)","v":79},{"$f":"+GETPIVOTDATA(\" BAS088\",TABLAS!$A$176)","v":1425},{"$f":"+GETPIVOTDATA(\" BAS088\",TABLAS!$A$246)","v":3218},{"$f":"+GETPIVOTDATA(\" BAS088\",TABLAS!$A$311)","v":4774},{"$f":"+GETPIVOTDATA(\" BAS088\",TABLAS!$A$372)","v":655},{"$f":"SUM(C60:G60)","v":10905},{"$f":"SUM(H60:L60)","v":10151},{"$f":"SUM(M60:N60)","v":21056},null,null,null,null,null,null,null,null,null,null,null,null,null,null,null,null,null,null,null,null,null,null,null,null,null,null,{"$f":"+AP56+AT56+1","v":88},null,null,null,null,{"$f":"IF(AP60<10,CONCATENATE(\"00\",AP60),IF(AND(AP60>9,AP60<100),CONCATENATE(\"0\",AP60),AP60))","v":"088"},null,null,null,null,{"$f":"IF(LEN(AU60)=0,\"\",CONCATENATE($CQ$14,AU60,$CQ$15))","v":"=+IMPORTARDATOSDINAMICOS(\" BAS088\",TABLAS!$A$372)"}]
[{"$f":"+A60+1","v":89},"PERSONAS TAMIZADAS PARA VIH CON RESULTADO REACTIVO (EXCEPTO GESTANTES,POBLACION CLAVE, TBC E INDIGENA)",{"$f":"+GETPIVOTDATA(\" BAS089\",TABLAS!$A$75)","v":0},{"$f":"+GETPIVOTDATA(\" BAS089\",TABLAS!$A$142)","v":2},{"$f":"+GETPIVOTDATA(\" BAS089\",TABLAS!$A$211)","v":1},{"$f":"+GETPIVOTDATA(\" BAS089\",TABLAS!$A$281)","v":7},{"$f":"+GETPIVOTDATA(\" BAS089\",TABLAS!$A$341)","v":0},{"$f":"+GETPIVOTDATA(\" BAS089\",TABLAS!$A$108)","v":0},{"$f":"+GETPIVOTDATA(\" BAS089\",TABLAS!$A$176)","v":1},{"$f":"+GETPIVOTDATA(\" BAS089\",TABLAS!$A$246)","v":5},{"$f":"+GETPIVOTDATA(\" BAS089\",TABLAS!$A$311)","v":11},{"$f":"+GETPIVOTDATA(\" BAS089\",TABLAS!$A$372)","v":0},{"$f":"SUM(C61:G61)","v":10},{"$f":"SUM(H61:L61)","v":17},{"$f":"SUM(M61:N61)","v":27},null,null,null,null,null,null,null,null,null,null,null,null,null,null,null,null,null,null,null,null,null,null,null,null,null,null,{"$f":"+AP60+1","v":89},null,null,null,null,"089",null,null,null,null,"=+IMPORTARDATOSDINAMICOS(\" BAS089\",TABLAS!$A$372)"]
[{"$f":"+A61+1","v":90},"PERSONAS CON TB TAMIZADAS PARA VIH",{"$f":"+GETPIVOTDATA(\" BAS090\",TABLAS!$A$75)","v":1},{"$f":"+GETPIVOTDATA(\" BAS090\",TABLAS!$A$142)","v":1},{"$f":"+GETPIVOTDATA(\" BAS090\",TABLAS!$A$211)","v":2},{"$f":"+GETPIVOTDATA(\" BAS090\",TABLAS!$A$281)","v":5},{"$f":"+GETPIVOTDATA(\" BAS090\",TABLAS!$A$341)","v":2},{"$f":"+GETPIVOTDATA(\" BAS090\",TABLAS!$A$108)","v":0},{"$f":"+GETPIVOTDATA(\" BAS090\",TABLAS!$A$176)","v":2},{"$f":"+GETPIVOTDATA(\" BAS090\",TABLAS!$A$246)","v":8},{"$f":"+GETPIVOTDATA(\" BAS090\",TABLAS!$A$311)","v":13},{"$f":"+GETPIVOTDATA(\" BAS090\",TABLAS!$A$372)","v":8},11,31,42,null,null,null,null,null,null,null,null,null,null,null,null,null,null,null,null,null,null,null,null,null,null,null,null,null,null,{"$f":"+AP61+1","v":90},null,null,null,null,"090",null,null,null,null,"=+IMPORTARDATOSDINAMICOS(\" BAS090\",TABLAS!$A$372)"]
[91,"PERSONAS CON TB TAMIZADAS REACTIVAS PARA VIH",{"$f":"+GETPIVOTDATA(\" BAS091\",TABLAS!$A$75)","v":0},{"$f":"+GETPIVOTDATA(\" BAS091\",TABLAS!$A$142)","v":0},{"$f":"+GETPIVOTDATA(\" BAS091\",TABLAS!$A$211)","v":0},{"$f":"+GETPIVOTDATA(\" BAS091\",TABLAS!$A$281)","v":0},{"$f":"+GETPIVOTDATA(\" BAS091\",TABLAS!$A$341)","v":0},{"$f":"+GETPIVOTDATA(\" BAS091\",TABLAS!$A$108)","v":0},{"$f":"+GETPIVOTDATA(\" BAS091\",TABLAS!$A$176)","v":0},{"$f":"+GETPIVOTDATA(\" BAS091\",TABLAS!$A$246)","v":0},{"$f":"+GETPIVOTDATA(\" BAS091\",TABLAS!$A$311)","v":0},{"$f":"+GETPIVOTDATA(\" BAS091\",TABLAS!$A$372)","v":0},0,0,0,null,null,null,null,null,null,null,null,null,null,null,null,null,null,null,null,null,null,null,null,null,null,null,null,null,null,91,null,null,null,null,"091",null,null,null,null,"=+IMPORTARDATOSDINAMICOS(\" BAS091\",TABLAS!$A$372)"]
[92,"PERSONAS DE POBLACION INDIGENA TAMIZADAS PARA VIH",{"$f":"+GETPIVOTDATA(\" BAS092\",TABLAS!$A$75)","v":10},{"$f":"+GETPIVOTDATA(\" BAS092\",TABLAS!$A$142)","v":462},{"$f":"+GETPIVOTDATA(\" BAS092\",TABLAS!$A$211)","v":584},{"$f":"+GETPIVOTDATA(\" BAS092\",TABLAS!$A$281)","v":568},{"$f":"+GETPIVOTDATA(\" BAS092\",TABLAS!$A$341)","v":14},{"$f":"+GETPIVOTDATA(\" BAS092\",TABLAS!$A$108)","v":17},{"$f":"+GETPIVOTDATA(\" BAS092\",TABLAS!$A$176)","v":379},{"$f":"+GETPIVOTDATA(\" BAS092\",TABLAS!$A$246)","v":382},{"$f":"+GETPIVOTDATA(\" BAS092\",TABLAS!$A$311)","v":439},{"$f":"+GETPIVOTDATA(\" BAS092\",TABLAS!$A$372)","v":17},1638,1234,2872,null,null,null,null,null,null,null,null,null,null,null,null,null,null,null,null,null,null,null,null,null,null,null,null,null,null,92,null,null,null,null,"092",null,null,null,null,"=+IMPORTARDATOSDINAMICOS(\" BAS092\",TABLAS!$A$372)"]
[93,"PERSONAS DE POBLACION INDIGENA TAMIZADAS PARA VIH CON RESULTADO REACTIVO",{"$f":"+GETPIVOTDATA(\" BAS093\",TABLAS!$A$75)","v":0},{"$f":"+GETPIVOTDATA(\" BAS093\",TABLAS!$A$142)","v":0},{"$f":"+GETPIVOTDATA(\" BAS093\",TABLAS!$A$211)","v":0},{"$f":"+GETPIVOTDATA(\" BAS093\",TABLAS!$A$281)","v":0},{"$f":"+GETPIVOTDATA(\" BAS093\",TABLAS!$A$341)","v":0},{"$f":"+GETPIVOTDATA(\" BAS093\",TABLAS!$A$108)","v":0},{"$f":"+GETPIVOTDATA(\" BAS093\",TABLAS!$A$176)","v":0},{"$f":"+GETPIVOTDATA(\" BAS093\",TABLAS!$A$246)","v":1},{"$f":"+GETPIVOTDATA(\" BAS093\",TABLAS!$A$311)","v":1},{"$f":"+GETPIVOTDATA(\" BAS093\",TABLAS!$A$372)","v":0},0,2,2,null,null,null,null,null,null,null,null,null,null,null,null,null,null,null,null,null,null,null,null,null,null,null,null,null,null,93,null,null,null,null,"093",null,null,null,null,"=+IMPORTARDATOSDINAMICOS(\" BAS093\",TABLAS!$A$372)"]
[94,"PERSONAS PRIVADAS DE LIBERTAD TAMIZADAS PARA VIH",{"$f":"+GETPIVOTDATA(\" BAS094\",TABLAS!$A$75)","v":0},{"$f":"+GETPIVOTDATA(\" BAS094\",TABLAS!$A$142)","v":0},{"$f":"+GETPIVOTDATA(\" BAS094\",TABLAS!$A$211)","v":10},{"$f":"+GETPIVOTDATA(\" BAS094\",TABLAS!$A$281)","v":27},{"$f":"+GETPIVOTDATA(\" BAS094\",TABLAS!$A$341)","v":0},{"$f":"+GETPIVOTDATA(\" BAS094\",TABLAS!$A$108)","v":0},{"$f":"+GETPIVOTDATA(\" BAS094\",TABLAS!$A$176)","v":1},{"$f":"+GETPIVOTDATA(\" BAS094\",TABLAS!$A$246)","v":134},{"$f":"+GETPIVOTDATA(\" BAS094\",TABLAS!$A$311)","v":386},{"$f":"+GETPIVOTDATA(\" BAS094\",TABLAS!$A$372)","v":42},37,563,600,null,null,null,null,null,null,null,null,null,null,null,null,null,null,null,null,null,null,null,null,null,null,null,null,null,null,94,null,null,null,null,"094",null,null,null,null,"=+IMPORTARDATOSDINAMICOS(\" BAS094\",TABLAS!$A$372)"]
[95,"PERSONAS PRIVADAS DE LIBERTAD TAMIZADAS REACTIVAS PARA VIH",{"$f":"+GETPIVOTDATA(\" BAS095\",TABLAS!$A$75)","v":0},{"$f":"+GETPIVOTDATA(\" BAS095\",TABLAS!$A$142)","v":0},{"$f":"+GETPIVOTDATA(\" BAS095\",TABLAS!$A$211)","v":0},{"$f":"+GETPIVOTDATA(\" BAS095\",TABLAS!$A$281)","v":0},{"$f":"+GETPIVOTDATA(\" BAS095\",TABLAS!$A$341)","v":0},{"$f":"+GETPIVOTDATA(\" BAS095\",TABLAS!$A$108)","v":0},{"$f":"+GETPIVOTDATA(\" BAS095\",TABLAS!$A$176)","v":0},{"$f":"+GETPIVOTDATA(\" BAS095\",TABLAS!$A$246)","v":0},{"$f":"+GETPIVOTDATA(\" BAS095\",TABLAS!$A$311)","v":0},{"$f":"+GETPIVOTDATA(\" BAS095\",TABLAS!$A$372)","v":0},0,0,0,null,null,null,null,null,null,null,null,null,null,null,null,null,null,null,null,null,null,null,null,null,null,null,null,null,null,95,null,null,null,null,"095",null,null,null,null,"=+IMPORTARDATOSDINAMICOS(\" BAS095\",TABLAS!$A$372)"]
[96,"PERSONAS CON DIAGNOSTICO DE VIH (Incluye todas las poblaciones)",{"$f":"+GETPIVOTDATA(\" BAS096\",TABLAS!$A$75)","v":0},{"$f":"+GETPIVOTDATA(\" BAS096\",TABLAS!$A$142)","v":1},{"$f":"+GETPIVOTDATA(\" BAS096\",TABLAS!$A$211)","v":5},{"$f":"+GETPIVOTDATA(\" BAS096\",TABLAS!$A$281)","v":15},{"$f":"+GETPIVOTDATA(\" BAS096\",TABLAS!$A$341)","v":0},{"$f":"+GETPIVOTDATA(\" BAS096\",TABLAS!$A$108)","v":0},{"$f":"+GETPIVOTDATA(\" BAS096\",TABLAS!$A$176)","v":3},{"$f":"+GETPIVOTDATA(\" BAS096\",TABLAS!$A$246)","v":5},{"$f":"+GETPIVOTDATA(\" BAS096\",TABLAS!$A$311)","v":12},{"$f":"+GETPIVOTDATA(\" BAS096\",TABLAS!$A$372)","v":2},21,22,43,null,null,null,null,null,null,null,null,null,null,null,null,null,null,null,null,null,null,null,null,null,null,null,null,null,null,96,null,null,null,3,"096",null,null,null,null,"=+IMPORTARDATOSDINAMICOS(\" BAS096\",TABLAS!$A$372)"]
[]
[null,"4.- EXPOSICION A VIH / HEPATITIS B","FEMENINO",null,null,null,null,"MASCULINO",null,null,null,null,"Total"]
[null,null,"01d - 11a","12a - 17a","18a - 29a","30a - 59a","60a más","01d - 11a","12a - 17a","18a - 29a","30a - 59a","60a más","F","M","Total"]
[{"$f":"+A68+4","v":100},"PERSONAS CON EXPOSICION OCUPACIONAL AL VIH",{"$f":"+GETPIVOTDATA(\" BAS100\",TABLAS!$A$75)","v":0},{"$f":"+GETPIVOTDATA(\" BAS100\",TABLAS!$A$142)","v":0},{"$f":"+GETPIVOTDATA(\" BAS100\",TABLAS!$A$211)","v":0},{"$f":"+GETPIVOTDATA(\" BAS100\",TABLAS!$A$281)","v":0},{"$f":"+GETPIVOTDATA(\" BAS100\",TABLAS!$A$341)","v":0},{"$f":"+GETPIVOTDATA(\" BAS100\",TABLAS!$A$108)","v":0},{"$f":"+GETPIVOTDATA(\" BAS100\",TABLAS!$A$176)","v":0},{"$f":"+GETPIVOTDATA(\" BAS100\",TABLAS!$A$246)","v":0},{"$f":"+GETPIVOTDATA(\" BAS100\",TABLAS!$A$311)","v":0},{"$f":"+GETPIVOTDATA(\" BAS100\",TABLAS!$A$372)","v":0},{"$f":"SUM(E72:G72)","v":0},{"$f":"SUM(J72:L72)","v":0},{"$f":"SUM(M72:N72)","v":0},null,null,null,null,null,null,null,null,null,null,null,null,null,null,null,null,null,null,null,null,null,null,null,null,null,null,{"$f":"+AP68+AT68+1","v":100},null,null,null,null,{"$f":"IF(AP72<10,CONCATENATE(\"00\",AP72),IF(AND(AP72>9,AP72<100),CONCATENATE(\"0\",AP72),AP72))","v":100},null,null,null,null,{"$f":"IF(LEN(AU72)=0,\"\",CONCATENATE($CQ$14,AU72,$CQ$15))","v":"=+IMPORTARDATOSDINAMICOS(\" BAS100\",TABLAS!$A$372)"}]
[{"$f":"+A72+1","v":101},"PERSONAS CON EXPOSICION OCUPACIONAL AL VIH QUE RECIBEN PROFILAXIS ARV",{"$f":"+GETPIVOTDATA(\" BAS101\",TABLAS!$A$75)","v":0},{"$f":"+GETPIVOTDATA(\" BAS101\",TABLAS!$A$142)","v":0},{"$f":"+GETPIVOTDATA(\" BAS101\",TABLAS!$A$211)","v":0},{"$f":"+GETPIVOTDATA(\" BAS101\",TABLAS!$A$281)","v":0},{"$f":"+GETPIVOTDATA(\" BAS101\",TABLAS!$A$341)","v":0},{"$f":"+GETPIVOTDATA(\" BAS101\",TABLAS!$A$108)","v":0},{"$f":"+GETPIVOTDATA(\" BAS101\",TABLAS!$A$176)","v":0},{"$f":"+GETPIVOTDATA(\" BAS101\",TABLAS!$A$246)","v":0},{"$f":"+GETPIVOTDATA(\" BAS101\",TABLAS!$A$311)","v":0},{"$f":"+GETPIVOTDATA(\" BAS101\",TABLAS!$A$372)","v":0},{"$f":"SUM(E73:G73)","v":0},{"$f":"SUM(J73:L73)","v":0},0,null,null,null,null,null,null,null,null,null,null,null,null,null,null,null,null,null,null,null,null,null,null,null,null,null,null,{"$f":"+AP72+1","v":101},null,null,null,null,101,null,null,null,null,"=+IMPORTARDATOSDINAMICOS(\" BAS101\",TABLAS!$A$372)"]
[{"$f":"+A73+1","v":102},"PERSONAS EXPUESTAS A VIH POR EXPOSICION NO OCUPACIONAL",{"$f":"+GETPIVOTDATA(\" BAS102\",TABLAS!$A$75)","v":6},{"$f":"+GETPIVOTDATA(\" BAS102\",TABLAS!$A$142)","v":18},{"$f":"+GETPIVOTDATA(\" BAS102\",TABLAS!$A$211)","v":11},{"$f":"+GETPIVOTDATA(\" BAS102\",TABLAS!$A$281)","v":2},{"$f":"+GETPIVOTDATA(\" BAS102\",TABLAS!$A$341)","v":0},{"$f":"+GETPIVOTDATA(\" BAS102\",TABLAS!$A$108)","v":0},{"$f":"+GETPIVOTDATA(\" BAS102\",TABLAS!$A$176)","v":1},{"$f":"+GETPIVOTDATA(\" BAS102\",TABLAS!$A$246)","v":3},{"$f":"+GETPIVOTDATA(\" BAS102\",TABLAS!$A$311)","v":0},{"$f":"+GETPIVOTDATA(\" BAS102\",TABLAS!$A$372)","v":0},{"$f":"SUM(C74:G74)","v":37},{"$f":"SUM(H74:L74)","v":4},41,null,null,null,null,null,null,null,null,null,null,null,null,null,null,null,null,null,null,null,null,null,null,null,null,null,null,{"$f":"+AP73+1","v":102},null,null,null,null,102,null,null,null,null,"=+IMPORTARDATOSDINAMICOS(\" BAS102\",TABLAS!$A$372)"]
[103,"PERSONAS EXPUESTAS A VIH POR EXPOSICION NO OCUPACIONAL Y RECIBEN PROFILAXIS ARV",{"$f":"+GETPIVOTDATA(\" BAS103\",TABLAS!$A$75)","v":4},{"$f":"+GETPIVOTDATA(\" BAS103\",TABLAS!$A$142)","v":14},{"$f":"+GETPIVOTDATA(\" BAS103\",TABLAS!$A$211)","v":10},{"$f":"+GETPIVOTDATA(\" BAS103\",TABLAS!$A$281)","v":2},{"$f":"+GETPIVOTDATA(\" BAS103\",TABLAS!$A$341)","v":0},{"$f":"+GETPIVOTDATA(\" BAS103\",TABLAS!$A$108)","v":0},{"$f":"+GETPIVOTDATA(\" BAS103\",TABLAS!$A$176)","v":1},{"$f":"+GETPIVOTDATA(\" BAS103\",TABLAS!$A$246)","v":3},{"$f":"+GETPIVOTDATA(\" BAS103\",TABLAS!$A$311)","v":0},{"$f":"+GETPIVOTDATA(\" BAS103\",TABLAS!$A$372)","v":0},30,4,34,null,null,null,null,null,null,null,null,null,null,null,null,null,null,null,null,null,null,null,null,null,null,null,null,null,null,103,null,null,null,null,103,null,null,null,null,"=+IMPORTARDATOSDINAMICOS(\" BAS103\",TABLAS!$A$372)"]
[104,"PERSONAS CON DIAGNOSTICO DE VIH POR EXPOSICIÓN OCUPACIONAL ",{"$f":"+GETPIVOTDATA(\" BAS104\",TABLAS!$A$75)","v":0},{"$f":"+GETPIVOTDATA(\" BAS104\",TABLAS!$A$142)","v":0},{"$f":"+GETPIVOTDATA(\" BAS104\",TABLAS!$A$211)","v":0},{"$f":"+GETPIVOTDATA(\" BAS104\",TABLAS!$A$281)","v":0},{"$f":"+GETPIVOTDATA(\" BAS104\",TABLAS!$A$341)","v":0},{"$f":"+GETPIVOTDATA(\" BAS104\",TABLAS!$A$108)","v":0},{"$f":"+GETPIVOTDATA(\" BAS104\",TABLAS!$A$176)","v":0},{"$f":"+GETPIVOTDATA(\" BAS104\",TABLAS!$A$246)","v":0},{"$f":"+GETPIVOTDATA(\" BAS104\",TABLAS!$A$311)","v":0},{"$f":"+GETPIVOTDATA(\" BAS104\",TABLAS!$A$372)","v":0},{"$f":"SUM(E76:G76)","v":0},{"$f":"SUM(J76:L76)","v":0},0,null,null,null,null,null,null,null,null,null,null,null,null,null,null,null,null,null,null,null,null,null,null,null,null,null,null,104,null,null,null,null,104,null,null,null,null,"=+IMPORTARDATOSDINAMICOS(\" BAS104\",TABLAS!$A$372)"]
[105,"PERSONAS CON DIAGNOSTICO DE ITS POR EXPOSICIÓN NO OCUPACIONAL",{"$f":"+GETPIVOTDATA(\" BAS105\",TABLAS!$A$75)","v":0},{"$f":"+GETPIVOTDATA(\" BAS105\",TABLAS!$A$142)","v":0},{"$f":"+GETPIVOTDATA(\" BAS105\",TABLAS!$A$211)","v":0},{"$f":"+GETPIVOTDATA(\" BAS105\",TABLAS!$A$281)","v":0},{"$f":"+GETPIVOTDATA(\" BAS105\",TABLAS!$A$341)","v":0},{"$f":"+GETPIVOTDATA(\" BAS105\",TABLAS!$A$108)","v":0},{"$f":"+GETPIVOTDATA(\" BAS105\",TABLAS!$A$176)","v":0},{"$f":"+GETPIVOTDATA(\" BAS105\",TABLAS!$A$246)","v":0},{"$f":"+GETPIVOTDATA(\" BAS105\",TABLAS!$A$311)","v":0},{"$f":"+GETPIVOTDATA(\" BAS105\",TABLAS!$A$372)","v":0},0,0,0,null,null,null,null,null,null,null,null,null,null,null,null,null,null,null,null,null,null,null,null,null,null,null,null,null,null,105,null,null,null,null,105,null,null,null,null,"=+IMPORTARDATOSDINAMICOS(\" BAS105\",TABLAS!$A$372)"]
[106,"PERSONAS CON DIAGNOSTICO DE VIH POR  EXPOSICIÓN NO OCUPACIONAL ",{"$f":"+GETPIVOTDATA(\" BAS106\",TABLAS!$A$75)","v":0},{"$f":"+GETPIVOTDATA(\" BAS106\",TABLAS!$A$142)","v":0},{"$f":"+GETPIVOTDATA(\" BAS106\",TABLAS!$A$211)","v":0},{"$f":"+GETPIVOTDATA(\" BAS106\",TABLAS!$A$281)","v":0},{"$f":"+GETPIVOTDATA(\" BAS106\",TABLAS!$A$341)","v":0},{"$f":"+GETPIVOTDATA(\" BAS106\",TABLAS!$A$108)","v":0},{"$f":"+GETPIVOTDATA(\" BAS106\",TABLAS!$A$176)","v":0},{"$f":"+GETPIVOTDATA(\" BAS106\",TABLAS!$A$246)","v":0},{"$f":"+GETPIVOTDATA(\" BAS106\",TABLAS!$A$311)","v":0},{"$f":"+GETPIVOTDATA(\" BAS106\",TABLAS!$A$372)","v":0},0,0,0,null,null,null,null,null,null,null,null,null,null,null,null,null,null,null,null,null,null,null,null,null,null,null,null,null,null,106,null,null,null,null,106,null,null,null,null,"=+IMPORTARDATOSDINAMICOS(\" BAS106\",TABLAS!$A$372)"]
[107,"PERSONAS CON EXPOSICION OCUPACIONAL A HEPATITIS B",{"$f":"+GETPIVOTDATA(\" BAS107\",TABLAS!$A$75)","v":0},{"$f":"+GETPIVOTDATA(\" BAS107\",TABLAS!$A$142)","v":0},{"$f":"+GETPIVOTDATA(\" BAS107\",TABLAS!$A$211)","v":0},{"$f":"+GETPIVOTDATA(\" BAS107\",TABLAS!$A$281)","v":0},{"$f":"+GETPIVOTDATA(\" BAS107\",TABLAS!$A$341)","v":0},{"$f":"+GETPIVOTDATA(\" BAS107\",TABLAS!$A$108)","v":0},{"$f":"+GETPIVOTDATA(\" BAS107\",TABLAS!$A$176)","v":0},{"$f":"+GETPIVOTDATA(\" BAS107\",TABLAS!$A$246)","v":0},{"$f":"+GETPIVOTDATA(\" BAS107\",TABLAS!$A$311)","v":0},{"$f":"+GETPIVOTDATA(\" BAS107\",TABLAS!$A$372)","v":0},0,0,0,null,null,null,null,null,null,null,null,null,null,null,null,null,null,null,null,null,null,null,null,null,null,null,null,null,null,107,null,null,null,null,107,null,null,null,null,"=+IMPORTARDATOSDINAMICOS(\" BAS107\",TABLAS!$A$372)"]
[108,"PERSONAS CON  EXPOSICION OCUPACIONAL A HEPATITIS B  SIN VACUNA PREVIA",{"$f":"+GETPIVOTDATA(\" BAS108\",TABLAS!$A$75)","v":0},{"$f":"+GETPIVOTDATA(\" BAS108\",TABLAS!$A$142)","v":0},{"$f":"+GETPIVOTDATA(\" BAS108\",TABLAS!$A$211)","v":0},{"$f":"+GETPIVOTDATA(\" BAS108\",TABLAS!$A$281)","v":0},{"$f":"+GETPIVOTDATA(\" BAS108\",TABLAS!$A$341)","v":0},{"$f":"+GETPIVOTDATA(\" BAS108\",TABLAS!$A$108)","v":0},{"$f":"+GETPIVOTDATA(\" BAS108\",TABLAS!$A$176)","v":0},{"$f":"+GETPIVOTDATA(\" BAS108\",TABLAS!$A$246)","v":0},{"$f":"+GETPIVOTDATA(\" BAS108\",TABLAS!$A$311)","v":0},{"$f":"+GETPIVOTDATA(\" BAS108\",TABLAS!$A$372)","v":0},0,0,0,null,null,null,null,null,null,null,null,null,null,null,null,null,null,null,null,null,null,null,null,null,null,null,null,null,null,108,null,null,null,3,108,null,null,null,null,"=+IMPORTARDATOSDINAMICOS(\" BAS108\",TABLAS!$A$372)"]
[]
[null,"5.- EXPOSICION A VIH / HEPATITIS B (VIOLENCIA SEXUAL)","FEMENINO",null,null,null,null,"MASCULINO",null,null,null,null,"Total"]
[null,null,"01d - 11a","12a - 17a","18a - 29a","30a - 59a","60a más","01d - 11a","12a - 17a","18a - 29a","30a - 59a","60a más","F","M","Total"]
[{"$f":"+A80+4","v":112},"PERSONAS CON EXPOSICION AL VIH POR VIOLENCIA SEXUAL QUE RECIBEN PROFILAXIS ARV",{"$f":"+GETPIVOTDATA(\" BAS112\",TABLAS!$A$75)","v":4},{"$f":"+GETPIVOTDATA(\" BAS112\",TABLAS!$A$142)","v":14},{"$f":"+GETPIVOTDATA(\" BAS112\",TABLAS!$A$211)","v":10},{"$f":"+GETPIVOTDATA(\" BAS112\",TABLAS!$A$281)","v":2},{"$f":"+GETPIVOTDATA(\" BAS112\",TABLAS!$A$341)","v":0},{"$f":"+GETPIVOTDATA(\" BAS112\",TABLAS!$A$108)","v":0},{"$f":"+GETPIVOTDATA(\" BAS112\",TABLAS!$A$176)","v":1},{"$f":"+GETPIVOTDATA(\" BAS112\",TABLAS!$A$246)","v":1},{"$f":"+GETPIVOTDATA(\" BAS112\",TABLAS!$A$311)","v":0},{"$f":"+GETPIVOTDATA(\" BAS112\",TABLAS!$A$372)","v":0},{"$f":"SUM(C84:G84)","v":30},{"$f":"SUM(H84:L84)","v":2},{"$f":"SUM(M84:N84)","v":32},null,null,null,null,null,null,null,null,null,null,null,null,null,null,null,null,null,null,null,null,null,null,null,null,null,null,{"$f":"+AP80+AT80+1","v":112},null,null,null,null,{"$f":"IF(AP84<10,CONCATENATE(\"00\",AP84),IF(AND(AP84>9,AP84<100),CONCATENATE(\"0\",AP84),AP84))","v":112},null,null,null,null,{"$f":"IF(LEN(AU84)=0,\"\",CONCATENATE($CQ$14,AU84,$CQ$15))","v":"=+IMPORTARDATOSDINAMICOS(\" BAS112\",TABLAS!$A$372)"}]
[{"$f":"+A84+1","v":113},"PERSONAS CON EXPOSICION A ITS Y HEPATITIS B POR VIOLENCIA SEXUAL QUE RECIBEN PROFILAXIS",{"$f":"+GETPIVOTDATA(\" BAS113\",TABLAS!$A$75)","v":0},{"$f":"+GETPIVOTDATA(\" BAS113\",TABLAS!$A$142)","v":0},{"$f":"+GETPIVOTDATA(\" BAS113\",TABLAS!$A$211)","v":0},{"$f":"+GETPIVOTDATA(\" BAS113\",TABLAS!$A$281)","v":0},{"$f":"+GETPIVOTDATA(\" BAS113\",TABLAS!$A$341)","v":0},{"$f":"+GETPIVOTDATA(\" BAS113\",TABLAS!$A$108)","v":0},{"$f":"+GETPIVOTDATA(\" BAS113\",TABLAS!$A$176)","v":0},{"$f":"+GETPIVOTDATA(\" BAS113\",TABLAS!$A$246)","v":0},{"$f":"+GETPIVOTDATA(\" BAS113\",TABLAS!$A$311)","v":0},{"$f":"+GETPIVOTDATA(\" BAS113\",TABLAS!$A$372)","v":0},0,0,0,null,null,null,null,null,null,null,null,null,null,null,null,null,null,null,null,null,null,null,null,null,null,null,null,null,null,{"$f":"+AP84+1","v":113},null,null,null,null,{"$f":"IF(AP85<10,CONCATENATE(\"00\",AP85),IF(AND(AP85>9,AP85<100),CONCATENATE(\"0\",AP85),AP85))","v":113},null,null,null,null,{"$f":"IF(LEN(AU85)=0,\"\",CONCATENATE($CQ$14,AU85,$CQ$15))","v":"=+IMPORTARDATOSDINAMICOS(\" BAS113\",TABLAS!$A$372)"}]
[{"$f":"+A85+1","v":114},"PERSONAS CON EXPOSICIÓN AL VIH POR VIOLENCIA SEXUAL CON DIAGNOSTICO DE ITS (Incluye Hepatitis B)",{"$f":"+GETPIVOTDATA(\" BAS114\",TABLAS!$A$75)","v":0},{"$f":"+GETPIVOTDATA(\" BAS114\",TABLAS!$A$142)","v":0},{"$f":"+GETPIVOTDATA(\" BAS114\",TABLAS!$A$211)","v":0},{"$f":"+GETPIVOTDATA(\" BAS114\",TABLAS!$A$281)","v":0},{"$f":"+GETPIVOTDATA(\" BAS114\",TABLAS!$A$341)","v":0},{"$f":"+GETPIVOTDATA(\" BAS114\",TABLAS!$A$108)","v":0},{"$f":"+GETPIVOTDATA(\" BAS114\",TABLAS!$A$176)","v":0},{"$f":"+GETPIVOTDATA(\" BAS114\",TABLAS!$A$246)","v":0},{"$f":"+GETPIVOTDATA(\" BAS114\",TABLAS!$A$311)","v":0},{"$f":"+GETPIVOTDATA(\" BAS114\",TABLAS!$A$372)","v":0},0,0,0,null,null,null,null,null,null,null,null,null,null,null,null,null,null,null,null,null,null,null,null,null,null,null,null,null,null,{"$f":"+AP85+1","v":114},null,null,null,null,{"$f":"IF(AP86<10,CONCATENATE(\"00\",AP86),IF(AND(AP86>9,AP86<100),CONCATENATE(\"0\",AP86),AP86))","v":114},null,null,null,null,{"$f":"IF(LEN(AU86)=0,\"\",CONCATENATE($CQ$14,AU86,$CQ$15))","v":"=+IMPORTARDATOSDINAMICOS(\" BAS114\",TABLAS!$A$372)"}]
[115,"PERSONAS CON EXPOSICIÓN  AL VIH POR VIOLENCIA SEXUAL CON DIAGNOSTICO DE  VIH",{"$f":"+GETPIVOTDATA(\" BAS115\",TABLAS!$A$75)","v":0},{"$f":"+GETPIVOTDATA(\" BAS115\",TABLAS!$A$142)","v":0},{"$f":"+GETPIVOTDATA(\" BAS115\",TABLAS!$A$211)","v":0},{"$f":"+GETPIVOTDATA(\" BAS115\",TABLAS!$A$281)","v":0},{"$f":"+GETPIVOTDATA(\" BAS115\",TABLAS!$A$341)","v":0},{"$f":"+GETPIVOTDATA(\" BAS115\",TABLAS!$A$108)","v":0},{"$f":"+GETPIVOTDATA(\" BAS115\",TABLAS!$A$176)","v":0},{"$f":"+GETPIVOTDATA(\" BAS115\",TABLAS!$A$246)","v":0},{"$f":"+GETPIVOTDATA(\" BAS115\",TABLAS!$A$311)","v":0},{"$f":"+GETPIVOTDATA(\" BAS115\",TABLAS!$A$372)","v":0},0,0,0,null,null,null,null,null,null,null,null,null,null,null,null,null,null,null,null,null,null,null,null,null,null,null,null,null,null,115,null,null,null,null,{"$f":"IF(AP87<10,CONCATENATE(\"00\",AP87),IF(AND(AP87>9,AP87<100),CONCATENATE(\"0\",AP87),AP87))","v":115},null,null,null,null,{"$f":"IF(LEN(AU87)=0,\"\",CONCATENATE($CQ$14,AU87,$CQ$15))","v":"=+IMPORTARDATOSDINAMICOS(\" BAS115\",TABLAS!$A$372)"}]
[116,"PERSONAS CON EXPOSICIÓN A VIH POR VIOLENCIA SEXUAL CON SEGUIMIENTO COMPLETO",{"$f":"+GETPIVOTDATA(\" BAS116\",TABLAS!$A$75)","v":0},{"$f":"+GETPIVOTDATA(\" BAS116\",TABLAS!$A$142)","v":0},{"$f":"+GETPIVOTDATA(\" BAS116\",TABLAS!$A$211)","v":0},{"$f":"+GETPIVOTDATA(\" BAS116\",TABLAS!$A$281)","v":0},{"$f":"+GETPIVOTDATA(\" BAS116\",TABLAS!$A$341)","v":0},{"$f":"+GETPIVOTDATA(\" BAS116\",TABLAS!$A$108)","v":0},{"$f":"+GETPIVOTDATA(\" BAS116\",TABLAS!$A$176)","v":0},{"$f":"+GETPIVOTDATA(\" BAS116\",TABLAS!$A$246)","v":0},{"$f":"+GETPIVOTDATA(\" BAS116\",TABLAS!$A$311)","v":0},{"$f":"+GETPIVOTDATA(\" BAS116\",TABLAS!$A$372)","v":0},0,0,0,null,null,null,null,null,null,null,null,null,null,null,null,null,null,null,null,null,null,null,null,null,null,null,null,null,null,116,null,null,null,3,{"$f":"IF(AP88<10,CONCATENATE(\"00\",AP88),IF(AND(AP88>9,AP88<100),CONCATENATE(\"0\",AP88),AP88))","v":116},null,null,null,null,{"$f":"IF(LEN(AU88)=0,\"\",CONCATENATE($CQ$14,AU88,$CQ$15))","v":"=+IMPORTARDATOSDINAMICOS(\" BAS116\",TABLAS!$A$372)"}]
[]
[]
[null,"6.-   PVV:  ATENCIÓN INTEGRAL","FEMENINO",null,null,null,null,"MASCULINO",null,null,null,null,"Total"]
[null,null,"01d - 11a","12a - 17a","18a - 29a","30a - 59a","60a más","01d - 11a","12a - 17a","18a - 29a","30a - 59a","60a más","F","M","Total"]
[{"$f":"+A88+4","v":120},"PVV QUE INICIAN TERAPIA PREVENTIVA CON COTRIMOXAZOL (TPC)",{"$f":"+GETPIVOTDATA(\" BAS120\",TABLAS!$A$75)","v":0},{"$f":"+GETPIVOTDATA(\" BAS120\",TABLAS!$A$142)","v":0},{"$f":"+GETPIVOTDATA(\" BAS120\",TABLAS!$A$211)","v":0},{"$f":"+GETPIVOTDATA(\" BAS120\",TABLAS!$A$281)","v":1},{"$f":"+GETPIVOTDATA(\" BAS120\",TABLAS!$A$341)","v":0},{"$f":"+GETPIVOTDATA(\" BAS120\",TABLAS!$A$108)","v":0},{"$f":"+GETPIVOTDATA(\" BAS120\",TABLAS!$A$176)","v":0},{"$f":"+GETPIVOTDATA(\" BAS120\",TABLAS!$A$246)","v":0},{"$f":"+GETPIVOTDATA(\" BAS120\",TABLAS!$A$311)","v":1},{"$f":"+GETPIVOTDATA(\" BAS120\",TABLAS!$A$372)","v":0},{"$f":"SUM(C93:G93)","v":1},{"$f":"SUM(H93:L93)","v":1},{"$f":"SUM(M93:N93)","v":2},null,null,null,null,null,null,null,null,null,null,null,null,null,null,null,null,null,null,null,null,null,null,null,null,null,null,{"$f":"+AP88+AT88+1","v":120},null,null,null,null,{"$f":"IF(AP93<10,CONCATENATE(\"00\",AP93),IF(AND(AP93>9,AP93<100),CONCATENATE(\"0\",AP93),AP93))","v":120},null,null,null,null,{"$f":"IF(LEN(AU93)=0,\"\",CONCATENATE($CQ$14,AU93,$CQ$15))","v":"=+IMPORTARDATOSDINAMICOS(\" BAS120\",TABLAS!$A$372)"}]
[{"$f":"+A93+1","v":121},"PVV QUE INICIAN TERAPIA PREVENTIVA PARA TUBERCULOSIS (TPTB)",{"$f":"+GETPIVOTDATA(\" BAS121\",TABLAS!$A$75)","v":0},{"$f":"+GETPIVOTDATA(\" BAS121\",TABLAS!$A$142)","v":0},{"$f":"+GETPIVOTDATA(\" BAS121\",TABLAS!$A$211)","v":4},{"$f":"+GETPIVOTDATA(\" BAS121\",TABLAS!$A$281)","v":5},{"$f":"+GETPIVOTDATA(\" BAS121\",TABLAS!$A$341)","v":0},{"$f":"+GETPIVOTDATA(\" BAS121\",TABLAS!$A$108)","v":0},{"$f":"+GETPIVOTDATA(\" BAS121\",TABLAS!$A$176)","v":0},{"$f":"+GETPIVOTDATA(\" BAS121\",TABLAS!$A$246)","v":8},{"$f":"+GETPIVOTDATA(\" BAS121\",TABLAS!$A$311)","v":9},{"$f":"+GETPIVOTDATA(\" BAS121\",TABLAS!$A$372)","v":0},9,17,26,null,null,null,null,null,null,null,null,null,null,null,null,null,null,null,null,null,null,null,null,null,null,null,null,null,null,{"$f":"+AP93+1","v":121},null,null,null,null,121,null,null,null,null,"=+IMPORTARDATOSDINAMICOS(\" BAS121\",TABLAS!$A$372)"]
[{"$f":"+A94+1","v":122},"PVV QUE COMPLETAN TERAPIA PREVENTIVA TUBERCULOSIS (TPTB)",{"$f":"+GETPIVOTDATA(\" BAS122\",TABLAS!$A$75)","v":0},{"$f":"+GETPIVOTDATA(\" BAS122\",TABLAS!$A$142)","v":1},{"$f":"+GETPIVOTDATA(\" BAS122\",TABLAS!$A$211)","v":4},{"$f":"+GETPIVOTDATA(\" BAS122\",TABLAS!$A$281)","v":7},{"$f":"+GETPIVOTDATA(\" BAS122\",TABLAS!$A$341)","v":0},{"$f":"+GETPIVOTDATA(\" BAS122\",TABLAS!$A$108)","v":0},{"$f":"+GETPIVOTDATA(\" BAS122\",TABLAS!$A$176)","v":0},{"$f":"+GETPIVOTDATA(\" BAS122\",TABLAS!$A$246)","v":8},{"$f":"+GETPIVOTDATA(\" BAS122\",TABLAS!$A$311)","v":18},{"$f":"+GETPIVOTDATA(\" BAS122\",TABLAS!$A$372)","v":0},12,26,38,null,null,null,null,null,null,null,null,null,null,null,null,null,null,null,null,null,null,null,null,null,null,null,null,null,null,{"$f":"+AP94+1","v":122},null,null,null,null,122,null,null,null,null,"=+IMPORTARDATOSDINAMICOS(\" BAS122\",TABLAS!$A$372)"]
[123,"N° DE PVV CON DIAGNOSTICO DE TB",{"$f":"+GETPIVOTDATA(\" BAS123\",TABLAS!$A$75)","v":0},{"$f":"+GETPIVOTDATA(\" BAS123\",TABLAS!$A$142)","v":0},{"$f":"+GETPIVOTDATA(\" BAS123\",TABLAS!$A$211)","v":0},{"$f":"+GETPIVOTDATA(\" BAS123\",TABLAS!$A$281)","v":0},{"$f":"+GETPIVOTDATA(\" BAS123\",TABLAS!$A$341)","v":0},{"$f":"+GETPIVOTDATA(\" BAS123\",TABLAS!$A$108)","v":0},{"$f":"+GETPIVOTDATA(\" BAS123\",TABLAS!$A$176)","v":0},{"$f":"+GETPIVOTDATA(\" BAS123\",TABLAS!$A$246)","v":0},{"$f":"+GETPIVOTDATA(\" BAS123\",TABLAS!$A$311)","v":1},{"$f":"+GETPIVOTDATA(\" BAS123\",TABLAS!$A$372)","v":0},0,1,1,null,null,null,null,null,null,null,null,null,null,null,null,null,null,null,null,null,null,null,null,null,null,null,null,null,null,123,null,null,null,null,123,null,null,null,null,"=+IMPORTARDATOSDINAMICOS(\" BAS123\",TABLAS!$A$372)"]
[124,"N° DE PVV CON TAMIZAJE PARA HEPATITIS B",{"$f":"+GETPIVOTDATA(\" BAS124\",TABLAS!$A$75)","v":0},{"$f":"+GETPIVOTDATA(\" BAS124\",TABLAS!$A$142)","v":0},{"$f":"+GETPIVOTDATA(\" BAS124\",TABLAS!$A$211)","v":1},{"$f":"+GETPIVOTDATA(\" BAS124\",TABLAS!$A$281)","v":0},{"$f":"+GETPIVOTDATA(\" BAS124\",TABLAS!$A$341)","v":0},{"$f":"+GETPIVOTDATA(\" BAS124\",TABLAS!$A$108)","v":0},{"$f":"+GETPIVOTDATA(\" BAS124\",TABLAS!$A$176)","v":1},{"$f":"+GETPIVOTDATA(\" BAS124\",TABLAS!$A$246)","v":1},{"$f":"+GETPIVOTDATA(\" BAS124\",TABLAS!$A$311)","v":0},{"$f":"+GETPIVOTDATA(\" BAS124\",TABLAS!$A$372)","v":0},1,2,3,null,null,null,null,null,null,null,null,null,null,null,null,null,null,null,null,null,null,null,null,null,null,null,null,null,null,124,null,null,null,null,124,null,null,null,null,"=+IMPORTARDATOSDINAMICOS(\" BAS124\",TABLAS!$A$372)"]
[125,"N° DE PVV CON HEPATITIS B CRONICA",{"$f":"+GETPIVOTDATA(\" BAS125\",TABLAS!$A$75)","v":0},{"$f":"+GETPIVOTDATA(\" BAS125\",TABLAS!$A$142)","v":0},{"$f":"+GETPIVOTDATA(\" BAS125\",TABLAS!$A$211)","v":0},{"$f":"+GETPIVOTDATA(\" BAS125\",TABLAS!$A$281)","v":0},{"$f":"+GETPIVOTDATA(\" BAS125\",TABLAS!$A$341)","v":0},{"$f":"+GETPIVOTDATA(\" BAS125\",TABLAS!$A$108)","v":0},{"$f":"+GETPIVOTDATA(\" BAS125\",TABLAS!$A$176)","v":0},{"$f":"+GETPIVOTDATA(\" BAS125\",TABLAS!$A$246)","v":0},{"$f":"+GETPIVOTDATA(\" BAS125\",TABLAS!$A$311)","v":0},{"$f":"+GETPIVOTDATA(\" BAS125\",TABLAS!$A$372)","v":0},0,0,0,null,null,null,null,null,null,null,null,null,null,null,null,null,null,null,null,null,null,null,null,null,null,null,null,null,null,125,null,null,null,null,125,null,null,null,null,"=+IMPORTARDATOSDINAMICOS(\" BAS125\",TABLAS!$A$372)"]
[126,"N° DE PVV QUE COMPLETAN VACUNACION DE HEPATITIS B",{"$f":"+GETPIVOTDATA(\" BAS126\",TABLAS!$A$75)","v":0},{"$f":"+GETPIVOTDATA(\" BAS126\",TABLAS!$A$142)","v":0},{"$f":"+GETPIVOTDATA(\" BAS126\",TABLAS!$A$211)","v":0},{"$f":"+GETPIVOTDATA(\" BAS126\",TABLAS!$A$281)","v":0},{"$f":"+GETPIVOTDATA(\" BAS126\",TABLAS!$A$341)","v":0},{"$f":"+GETPIVOTDATA(\" BAS126\",TABLAS!$A$108)","v":0},{"$f":"+GETPIVOTDATA(\" BAS126\",TABLAS!$A$176)","v":0},{"$f":"+GETPIVOTDATA(\" BAS126\",TABLAS!$A$246)","v":0},{"$f":"+GETPIVOTDATA(\" BAS126\",TABLAS!$A$311)","v":0},{"$f":"+GETPIVOTDATA(\" BAS126\",TABLAS!$A$372)","v":0},0,0,0,null,null,null,null,null,null,null,null,null,null,null,null,null,null,null,null,null,null,null,null,null,null,null,null,null,null,126,null,null,null,null,126,null,null,null,null,"=+IMPORTARDATOSDINAMICOS(\" BAS126\",TABLAS!$A$372)"]
[127,"N° DE PVV QUE COMPLETAN VACUNACION DE NEUMOCOCO",{"$f":"+GETPIVOTDATA(\" BAS127\",TABLAS!$A$75)","v":0},{"$f":"+GETPIVOTDATA(\" BAS127\",TABLAS!$A$142)","v":0},{"$f":"+GETPIVOTDATA(\" BAS127\",TABLAS!$A$211)","v":0},{"$f":"+GETPIVOTDATA(\" BAS127\",TABLAS!$A$281)","v":0},{"$f":"+GETPIVOTDATA(\" BAS127\",TABLAS!$A$341)","v":0},{"$f":"+GETPIVOTDATA(\" BAS127\",TABLAS!$A$108)","v":0},{"$f":"+GETPIVOTDATA(\" BAS127\",TABLAS!$A$176)","v":0},{"$f":"+GETPIVOTDATA(\" BAS127\",TABLAS!$A$246)","v":0},{"$f":"+GETPIVOTDATA(\" BAS127\",TABLAS!$A$311)","v":0},{"$f":"+GETPIVOTDATA(\" BAS127\",TABLAS!$A$372)","v":0},0,0,0,null,null,null,null,null,null,null,null,null,null,null,null,null,null,null,null,null,null,null,null,null,null,null,null,null,null,127,null,null,null,null,127,null,null,null,null,"=+IMPORTARDATOSDINAMICOS(\" BAS127\",TABLAS!$A$372)"]
[128,"N° DE PVV CON TAMIZAJE PARA HEPATITIS C",{"$f":"+GETPIVOTDATA(\" BAS128\",TABLAS!$A$75)","v":0},{"$f":"+GETPIVOTDATA(\" BAS128\",TABLAS!$A$142)","v":0},{"$f":"+GETPIVOTDATA(\" BAS128\",TABLAS!$A$211)","v":0},{"$f":"+GETPIVOTDATA(\" BAS128\",TABLAS!$A$281)","v":0},{"$f":"+GETPIVOTDATA(\" BAS128\",TABLAS!$A$341)","v":0},{"$f":"+GETPIVOTDATA(\" BAS128\",TABLAS!$A$108)","v":0},{"$f":"+GETPIVOTDATA(\" BAS128\",TABLAS!$A$176)","v":0},{"$f":"+GETPIVOTDATA(\" BAS128\",TABLAS!$A$246)","v":0},{"$f":"+GETPIVOTDATA(\" BAS128\",TABLAS!$A$311)","v":0},{"$f":"+GETPIVOTDATA(\" BAS128\",TABLAS!$A$372)","v":0},0,0,0,null,null,null,null,null,null,null,null,null,null,null,null,null,null,null,null,null,null,null,null,null,null,null,null,null,null,128,null,null,null,null,128,null,null,null,null,"=+IMPORTARDATOSDINAMICOS(\" BAS128\",TABLAS!$A$372)"]
[129,"N° DE PVV CON HEPATITIS C ",{"$f":"+GETPIVOTDATA(\" BAS129\",TABLAS!$A$75)","v":0},{"$f":"+GETPIVOTDATA(\" BAS129\",TABLAS!$A$142)","v":0},{"$f":"+GETPIVOTDATA(\" BAS129\",TABLAS!$A$211)","v":0},{"$f":"+GETPIVOTDATA(\" BAS129\",TABLAS!$A$281)","v":0},{"$f":"+GETPIVOTDATA(\" BAS129\",TABLAS!$A$341)","v":0},{"$f":"+GETPIVOTDATA(\" BAS129\",TABLAS!$A$108)","v":0},{"$f":"+GETPIVOTDATA(\" BAS129\",TABLAS!$A$176)","v":0},{"$f":"+GETPIVOTDATA(\" BAS129\",TABLAS!$A$246)","v":0},{"$f":"+GETPIVOTDATA(\" BAS129\",TABLAS!$A$311)","v":0},{"$f":"+GETPIVOTDATA(\" BAS129\",TABLAS!$A$372)","v":0},0,0,0,null,null,null,null,null,null,null,null,null,null,null,null,null,null,null,null,null,null,null,null,null,null,null,null,null,null,129,null,null,null,null,129,null,null,null,null,"=+IMPORTARDATOSDINAMICOS(\" BAS129\",TABLAS!$A$372)"]
[130,"N° DE PVV CON HEPATITIS C QUE INICIAN TRATAMIENTO",{"$f":"+GETPIVOTDATA(\" BAS130\",TABLAS!$A$75)","v":0},{"$f":"+GETPIVOTDATA(\" BAS130\",TABLAS!$A$142)","v":0},{"$f":"+GETPIVOTDATA(\" BAS130\",TABLAS!$A$211)","v":0},{"$f":"+GETPIVOTDATA(\" BAS130\",TABLAS!$A$281)","v":0},{"$f":"+GETPIVOTDATA(\" BAS130\",TABLAS!$A$341)","v":0},{"$f":"+GETPIVOTDATA(\" BAS130\",TABLAS!$A$108)","v":0},{"$f":"+GETPIVOTDATA(\" BAS130\",TABLAS!$A$176)","v":0},{"$f":"+GETPIVOTDATA(\" BAS130\",TABLAS!$A$246)","v":0},{"$f":"+GETPIVOTDATA(\" BAS130\",TABLAS!$A$311)","v":0},{"$f":"+GETPIVOTDATA(\" BAS130\",TABLAS!$A$372)","v":0},0,0,0,null,null,null,null,null,null,null,null,null,null,null,null,null,null,null,null,null,null,null,null,null,null,null,null,null,null,130,null,null,null,null,130,null,null,null,null,"=+IMPORTARDATOSDINAMICOS(\" BAS130\",TABLAS!$A$372)"]
[131,"N° DE PVV CON HEPATITIS C QUE COMPLETAN TRATAMIENTO",{"$f":"+GETPIVOTDATA(\" BAS131\",TABLAS!$A$75)","v":0},{"$f":"+GETPIVOTDATA(\" BAS131\",TABLAS!$A$142)","v":0},{"$f":"+GETPIVOTDATA(\" BAS131\",TABLAS!$A$211)","v":0},{"$f":"+GETPIVOTDATA(\" BAS131\",TABLAS!$A$281)","v":0},{"$f":"+GETPIVOTDATA(\" BAS131\",TABLAS!$A$341)","v":0},{"$f":"+GETPIVOTDATA(\" BAS131\",TABLAS!$A$108)","v":0},{"$f":"+GETPIVOTDATA(\" BAS131\",TABLAS!$A$176)","v":0},{"$f":"+GETPIVOTDATA(\" BAS131\",TABLAS!$A$246)","v":0},{"$f":"+GETPIVOTDATA(\" BAS131\",TABLAS!$A$311)","v":0},{"$f":"+GETPIVOTDATA(\" BAS131\",TABLAS!$A$372)","v":0},0,0,0,null,null,null,null,null,null,null,null,null,null,null,null,null,null,null,null,null,null,null,null,null,null,null,null,null,null,131,null,null,null,3,131,null,null,null,null,"=+IMPORTARDATOSDINAMICOS(\" BAS131\",TABLAS!$A$372)"]
[]
[null,"7.- GESTANTES Y RECIÉN NACIDOS:  Transmisión Materno Infantil (Sífilis, VIH, Hepatitis B) ","0a - 11a","12a - 17a","18a - 29a","30a - 59a","60a más","Total","1ER TRIM","2DO TRIM","3ER TRIM","Total",null,null,null,null,null,null,null,null,null,null,null,null,null,null,null,null,null,null,null,null,null,null,null,null,null,null,null,null,null,null,null,null,null,null,null,null,null,null,null,"EDAD","1ER TRI","2DO TRI","3ER TRI",null,null,null,null,null,null,null,null,null,null,null,"1ER  TRIM",null,null,null,null,null,null,null,null,null,null,null,null,null,null,null,null,null,null,null,null,null,null,null,"2DO TRIM",null,null,null,null,null,null,null,null,null,null,null,null,null,null,null,null,"3ER TRIM"]
[{"$f":"+A104+4","v":135},"GESTANTES TAMIZADAS PARA SIFILIS (1ER TAMIZAJE)",{"$f":"+GETPIVOTDATA(\" BAS135\",TABLAS!$A$75)","v":1},{"$f":"+GETPIVOTDATA(\" BAS135\",TABLAS!$A$142)","v":137},{"$f":"+GETPIVOTDATA(\" BAS135\",TABLAS!$A$211)","v":797},{"$f":"+GETPIVOTDATA(\" BAS135\",TABLAS!$A$281)","v":583},{"$f":"+GETPIVOTDATA(\" BAS135\",TABLAS!$A$341)","v":0},{"$f":"SUM(C107:F107)","v":1518},{"$f":"+GETPIVOTDATA(\" BAS136\",TABLAS!$A$75)+GETPIVOTDATA(\" BAS136\",TABLAS!$A$142)+GETPIVOTDATA(\" BAS136\",TABLAS!$A$211)+GETPIVOTDATA(\" BAS136\",TABLAS!$A$281)+GETPIVOTDATA(\" BAS136\",TABLAS!$A$341)","v":984},{"$f":"+GETPIVOTDATA(\" BAS137\",TABLAS!$A$75)+GETPIVOTDATA(\" BAS137\",TABLAS!$A$142)+GETPIVOTDATA(\" BAS137\",TABLAS!$A$211)+GETPIVOTDATA(\" BAS137\",TABLAS!$A$281)+GETPIVOTDATA(\" BAS137\",TABLAS!$A$341)","v":366},{"$f":"+GETPIVOTDATA(\" BAS138\",TABLAS!$A$75)+GETPIVOTDATA(\" BAS138\",TABLAS!$A$142)+GETPIVOTDATA(\" BAS138\",TABLAS!$A$211)+GETPIVOTDATA(\" BAS138\",TABLAS!$A$281)+GETPIVOTDATA(\" BAS138\",TABLAS!$A$341)","v":169},{"$f":"SUM(I107:K107)","v":1519},null,{"$f":"IF(L107=H107,1,-1)","v":-1},null,null,null,null,null,null,null,null,null,null,null,null,null,null,null,null,null,null,null,null,null,null,null,null,null,null,null,{"$f":"+AP104+AT104+1","v":135},{"$f":"+AP107+1","v":136},137,138,null,{"$f":"IF(AP107<10,CONCATENATE(\"00\",AP107),IF(AND(AP107>9,AP107<100),CONCATENATE(\"0\",AP107),AP107))","v":135},{"$f":"IF(AQ107<10,CONCATENATE(\"00\",AQ107),IF(AND(AQ107>9,AQ107<100),CONCATENATE(\"0\",AQ107),AQ107))","v":136},137,138,null,{"$f":"IF(LEN(AU107)=0,\"\",CONCATENATE($CQ$14,AU107,$CQ$15))","v":"=+IMPORTARDATOSDINAMICOS(\" BAS135\",TABLAS!$A$372)"},{"$f":"IF(LEN(AV107)=0,\"\",CONCATENATE($CQ$14,AV107,$CQ$15))","v":"=+IMPORTARDATOSDINAMICOS(\" BAS136\",TABLAS!$A$372)"},{"$f":"IF(LEN(AW107)=0,\"\",CONCATENATE($CQ$14,AW107,$CQ$15))","v":"=+IMPORTARDATOSDINAMICOS(\" BAS137\",TABLAS!$A$372)"},{"$f":"IF(LEN(AX107)=0,\"\",CONCATENATE($CQ$14,AX107,$CQ$15))","v":"=+IMPORTARDATOSDINAMICOS(\" BAS138\",TABLAS!$A$372)"},null,null,null,null,null,null,null,null,null,null,null,"=+IMPORTARDATOSDINAMICOS(\" BAS136\",TABLAS!$A$75)","=+IMPORTARDATOSDINAMICOS(\" BAS136\",TABLAS!$A$142)","=+IMPORTARDATOSDINAMICOS(\" BAS136\",TABLAS!$A$211)","=+IMPORTARDATOSDINAMICOS(\" BAS136\",TABLAS!$A$281)","=+IMPORTARDATOSDINAMICOS(\" BAS136\",TABLAS!$A$341)",null,null,null,null,null,null,null,{"$f":"CONCATENATE(BO107,MID(BP107,2,50),MID(BQ107,2,50),MID(BR107,2,50),MID(BS107,2,50))","v":"=+IMPORTARDATOSDINAMICOS(\" BAS136\",TABLAS!$A$75)+IMPORTARDATOSDINAMICOS(\" BAS136\",TABLAS!$A$142)+IMPORTARDATOSDINAMICOS(\" BAS136\",TABLAS!$A$211)+IMPORTARDATOSDINAMICOS(\" BAS136\",TABLAS!$A$281)+IMPORTARDATOSDINAMICOS(\" BAS136\",TABLAS!$A$341)"},null,null,null,null,null,null,null,null,null,null,null,"=+IMPORTARDATOSDINAMICOS(\" BAS137\",TABLAS!$A$75)","=+IMPORTARDATOSDINAMICOS(\" BAS137\",TABLAS!$A$142)","=+IMPORTARDATOSDINAMICOS(\" BAS137\",TABLAS!$A$211)","=+IMPORTARDATOSDINAMICOS(\" BAS137\",TABLAS!$A$281)","=+IMPORTARDATOSDINAMICOS(\" BAS137\",TABLAS!$A$341)",null,null,null,null,null,null,null,{"$f":"CONCATENATE(CM107,MID(CN107,2,50),MID(CO107,2,50),MID(CP107,2,50),MID(CQ107,2,50))","v":"=+IMPORTARDATOSDINAMICOS(\" BAS137\",TABLAS!$A$75)+IMPORTARDATOSDINAMICOS(\" BAS137\",TABLAS!$A$142)+IMPORTARDATOSDINAMICOS(\" BAS137\",TABLAS!$A$211)+IMPORTARDATOSDINAMICOS(\" BAS137\",TABLAS!$A$281)+IMPORTARDATOSDINAMICOS(\" BAS137\",TABLAS!$A$341)"},null,null,null,null,"=+IMPORTARDATOSDINAMICOS(\" BAS138\",TABLAS!$A$75)","=+IMPORTARDATOSDINAMICOS(\" BAS138\",TABLAS!$A$142)","=+IMPORTARDATOSDINAMICOS(\" BAS138\",TABLAS!$A$211)","=+IMPORTARDATOSDINAMICOS(\" BAS138\",TABLAS!$A$281)","=+IMPORTARDATOSDINAMICOS(\" BAS138\",TABLAS!$A$341)",null,null,null,null,null,null,null,{"$f":"CONCATENATE(DD107,MID(DE107,2,50),MID(DF107,2,50),MID(DG107,2,50),MID(DH107,2,50))","v":"=+IMPORTARDATOSDINAMICOS(\" BAS138\",TABLAS!$A$75)+IMPORTARDATOSDINAMICOS(\" BAS138\",TABLAS!$A$142)+IMPORTARDATOSDINAMICOS(\" BAS138\",TABLAS!$A$211)+IMPORTARDATOSDINAMICOS(\" BAS138\",TABLAS!$A$281)+IMPORTARDATOSDINAMICOS(\" BAS138\",TABLAS!$A$341)"}]
[{"$f":"+A107+4","v":139},"GESTANTES TAMIZADAS REACTIVAS PARA SIFILIS",{"$f":"+GETPIVOTDATA(\" BAS139\",TABLAS!$A$75)","v":0},{"$f":"+GETPIVOTDATA(\" BAS139\",TABLAS!$A$142)","v":3},{"$f":"+GETPIVOTDATA(\" BAS139\",TABLAS!$A$211)","v":29},{"$f":"+GETPIVOTDATA(\" BAS139\",TABLAS!$A$281)","v":4},{"$f":"+GETPIVOTDATA(\" BAS139\",TABLAS!$A$341)","v":0},36,{"$f":"+GETPIVOTDATA(\" BAS140\",TABLAS!$A$75)+GETPIVOTDATA(\" BAS140\",TABLAS!$A$142)+GETPIVOTDATA(\" BAS140\",TABLAS!$A$211)+GETPIVOTDATA(\" BAS140\",TABLAS!$A$281)+GETPIVOTDATA(\" BAS140\",TABLAS!$A$341)","v":14},{"$f":"+GETPIVOTDATA(\" BAS141\",TABLAS!$A$75)+GETPIVOTDATA(\" BAS141\",TABLAS!$A$142)+GETPIVOTDATA(\" BAS141\",TABLAS!$A$211)+GETPIVOTDATA(\" BAS141\",TABLAS!$A$281)+GETPIVOTDATA(\" BAS141\",TABLAS!$A$341)","v":7},{"$f":"+GETPIVOTDATA(\" BAS142\",TABLAS!$A$75)+GETPIVOTDATA(\" BAS142\",TABLAS!$A$142)+GETPIVOTDATA(\" BAS142\",TABLAS!$A$211)+GETPIVOTDATA(\" BAS142\",TABLAS!$A$281)+GETPIVOTDATA(\" BAS142\",TABLAS!$A$341)","v":14},{"$f":"SUM(I108:K108)","v":35},null,{"$f":"IF(L108=H108,1,-1)","v":-1},null,null,null,null,null,null,null,null,null,null,null,null,null,null,null,null,null,null,null,null,null,null,null,null,null,null,null,{"$f":"+AS107+1","v":139},140,141,142,null,{"$f":"IF(AP108<10,CONCATENATE(\"00\",AP108),IF(AND(AP108>9,AP108<100),CONCATENATE(\"0\",AP108),AP108))","v":139},{"$f":"IF(AQ108<10,CONCATENATE(\"00\",AQ108),IF(AND(AQ108>9,AQ108<100),CONCATENATE(\"0\",AQ108),AQ108))","v":140},{"$f":"IF(AR108<10,CONCATENATE(\"00\",AR108),IF(AND(AR108>9,AR108<100),CONCATENATE(\"0\",AR108),AR108))","v":141},{"$f":"IF(AS108<10,CONCATENATE(\"00\",AS108),IF(AND(AS108>9,AS108<100),CONCATENATE(\"0\",AS108),AS108))","v":142},null,"=+IMPORTARDATOSDINAMICOS(\" BAS139\",TABLAS!$A$372)","=+IMPORTARDATOSDINAMICOS(\" BAS140\",TABLAS!$A$372)","=+IMPORTARDATOSDINAMICOS(\" BAS141\",TABLAS!$A$372)","=+IMPORTARDATOSDINAMICOS(\" BAS142\",TABLAS!$A$372)",null,null,null,null,null,null,null,null,null,null,null,"=+IMPORTARDATOSDINAMICOS(\" BAS140\",TABLAS!$A$75)","=+IMPORTARDATOSDINAMICOS(\" BAS140\",TABLAS!$A$142)","=+IMPORTARDATOSDINAMICOS(\" BAS140\",TABLAS!$A$211)","=+IMPORTARDATOSDINAMICOS(\" BAS140\",TABLAS!$A$281)","=+IMPORTARDATOSDINAMICOS(\" BAS140\",TABLAS!$A$341)",null,null,null,null,null,null,null,{"$f":"CONCATENATE(BO108,MID(BP108,2,50),MID(BQ108,2,50),MID(BR108,2,50),MID(BS108,2,50))","v":"=+IMPORTARDATOSDINAMICOS(\" BAS140\",TABLAS!$A$75)+IMPORTARDATOSDINAMICOS(\" BAS140\",TABLAS!$A$142)+IMPORTARDATOSDINAMICOS(\" BAS140\",TABLAS!$A$211)+IMPORTARDATOSDINAMICOS(\" BAS140\",TABLAS!$A$281)+IMPORTARDATOSDINAMICOS(\" BAS140\",TABLAS!$A$341)"},null,null,null,null,null,null,null,null,null,null,null,"=+IMPORTARDATOSDINAMICOS(\" BAS141\",TABLAS!$A$75)","=+IMPORTARDATOSDINAMICOS(\" BAS141\",TABLAS!$A$142)","=+IMPORTARDATOSDINAMICOS(\" BAS141\",TABLAS!$A$211)","=+IMPORTARDATOSDINAMICOS(\" BAS141\",TABLAS!$A$281)","=+IMPORTARDATOSDINAMICOS(\" BAS141\",TABLAS!$A$341)",null,null,null,null,null,null,null,{"$f":"CONCATENATE(CM108,MID(CN108,2,50),MID(CO108,2,50),MID(CP108,2,50),MID(CQ108,2,50))","v":"=+IMPORTARDATOSDINAMICOS(\" BAS141\",TABLAS!$A$75)+IMPORTARDATOSDINAMICOS(\" BAS141\",TABLAS!$A$142)+IMPORTARDATOSDINAMICOS(\" BAS141\",TABLAS!$A$211)+IMPORTARDATOSDINAMICOS(\" BAS141\",TABLAS!$A$281)+IMPORTARDATOSDINAMICOS(\" BAS141\",TABLAS!$A$341)"},null,null,null,null,"=+IMPORTARDATOSDINAMICOS(\" BAS142\",TABLAS!$A$75)","=+IMPORTARDATOSDINAMICOS(\" BAS142\",TABLAS!$A$142)","=+IMPORTARDATOSDINAMICOS(\" BAS142\",TABLAS!$A$211)","=+IMPORTARDATOSDINAMICOS(\" BAS142\",TABLAS!$A$281)","=+IMPORTARDATOSDINAMICOS(\" BAS142\",TABLAS!$A$341)",null,null,null,null,null,null,null,{"$f":"CONCATENATE(DD108,MID(DE108,2,50),MID(DF108,2,50),MID(DG108,2,50),MID(DH108,2,50))","v":"=+IMPORTARDATOSDINAMICOS(\" BAS142\",TABLAS!$A$75)+IMPORTARDATOSDINAMICOS(\" BAS142\",TABLAS!$A$142)+IMPORTARDATOSDINAMICOS(\" BAS142\",TABLAS!$A$211)+IMPORTARDATOSDINAMICOS(\" BAS142\",TABLAS!$A$281)+IMPORTARDATOSDINAMICOS(\" BAS142\",TABLAS!$A$341)"}]
[{"$f":"+A108+4","v":143},"GESTANTES CON SIFILIS QUE RECIBEN TRATAMIENTO COMPLETO",{"$f":"+GETPIVOTDATA(\" BAS143\",TABLAS!$A$75)","v":0},{"$f":"+GETPIVOTDATA(\" BAS143\",TABLAS!$A$142)","v":0},{"$f":"+GETPIVOTDATA(\" BAS143\",TABLAS!$A$211)","v":6},{"$f":"+GETPIVOTDATA(\" BAS143\",TABLAS!$A$281)","v":0},{"$f":"+GETPIVOTDATA(\" BAS143\",TABLAS!$A$341)","v":0},6,{"$f":"+GETPIVOTDATA(\" BAS144\",TABLAS!$A$75)+GETPIVOTDATA(\" BAS144\",TABLAS!$A$142)+GETPIVOTDATA(\" BAS144\",TABLAS!$A$211)+GETPIVOTDATA(\" BAS144\",TABLAS!$A$281)+GETPIVOTDATA(\" BAS144\",TABLAS!$A$341)","v":3},{"$f":"+GETPIVOTDATA(\" BAS145\",TABLAS!$A$75)+GETPIVOTDATA(\" BAS145\",TABLAS!$A$142)+GETPIVOTDATA(\" BAS145\",TABLAS!$A$211)+GETPIVOTDATA(\" BAS145\",TABLAS!$A$281)+GETPIVOTDATA(\" BAS145\",TABLAS!$A$341)","v":1},{"$f":"+GETPIVOTDATA(\" BAS146\",TABLAS!$A$75)+GETPIVOTDATA(\" BAS146\",TABLAS!$A$142)+GETPIVOTDATA(\" BAS146\",TABLAS!$A$211)+GETPIVOTDATA(\" BAS146\",TABLAS!$A$281)+GETPIVOTDATA(\" BAS146\",TABLAS!$A$341)","v":2},6,null,"1900-01-01",null,null,null,null,null,null,null,null,null,null,null,null,null,null,null,null,null,null,null,null,null,null,null,null,null,null,null,{"$f":"+AS108+1","v":143},{"$f":"+AP109+1","v":144},145,146,null,143,144,145,146,null,"=+IMPORTARDATOSDINAMICOS(\" BAS143\",TABLAS!$A$372)","=+IMPORTARDATOSDINAMICOS(\" BAS144\",TABLAS!$A$372)","=+IMPORTARDATOSDINAMICOS(\" BAS145\",TABLAS!$A$372)","=+IMPORTARDATOSDINAMICOS(\" BAS146\",TABLAS!$A$372)",null,null,null,null,null,null,null,null,null,null,null,"=+IMPORTARDATOSDINAMICOS(\" BAS144\",TABLAS!$A$75)","=+IMPORTARDATOSDINAMICOS(\" BAS144\",TABLAS!$A$142)","=+IMPORTARDATOSDINAMICOS(\" BAS144\",TABLAS!$A$211)","=+IMPORTARDATOSDINAMICOS(\" BAS144\",TABLAS!$A$281)","=+IMPORTARDATOSDINAMICOS(\" BAS144\",TABLAS!$A$341)",null,null,null,null,null,null,null,"=+IMPORTARDATOSDINAMICOS(\" BAS144\",TABLAS!$A$75)+IMPORTARDATOSDINAMICOS(\" BAS144\",TABLAS!$A$142)+IMPORTARDATOSDINAMICOS(\" BAS144\",TABLAS!$A$211)+IMPORTARDATOSDINAMICOS(\" BAS144\",TABLAS!$A$281)+IMPORTARDATOSDINAMICOS(\" BAS144\",TABLAS!$A$341)",null,null,null,null,null,null,null,null,null,null,null,"=+IMPORTARDATOSDINAMICOS(\" BAS145\",TABLAS!$A$75)","=+IMPORTARDATOSDINAMICOS(\" BAS145\",TABLAS!$A$142)","=+IMPORTARDATOSDINAMICOS(\" BAS145\",TABLAS!$A$211)","=+IMPORTARDATOSDINAMICOS(\" BAS145\",TABLAS!$A$281)","=+IMPORTARDATOSDINAMICOS(\" BAS145\",TABLAS!$A$341)",null,null,null,null,null,null,null,"=+IMPORTARDATOSDINAMICOS(\" BAS145\",TABLAS!$A$75)+IMPORTARDATOSDINAMICOS(\" BAS145\",TABLAS!$A$142)+IMPORTARDATOSDINAMICOS(\" BAS145\",TABLAS!$A$211)+IMPORTARDATOSDINAMICOS(\" BAS145\",TABLAS!$A$281)+IMPORTARDATOSDINAMICOS(\" BAS145\",TABLAS!$A$341)",null,null,null,null,"=+IMPORTARDATOSDINAMICOS(\" BAS146\",TABLAS!$A$75)","=+IMPORTARDATOSDINAMICOS(\" BAS146\",TABLAS!$A$142)","=+IMPORTARDATOSDINAMICOS(\" BAS146\",TABLAS!$A$211)","=+IMPORTARDATOSDINAMICOS(\" BAS146\",TABLAS!$A$281)","=+IMPORTARDATOSDINAMICOS(\" BAS146\",TABLAS!$A$341)",null,null,null,null,null,null,null,"=+IMPORTARDATOSDINAMICOS(\" BAS146\",TABLAS!$A$75)+IMPORTARDATOSDINAMICOS(\" BAS146\",TABLAS!$A$142)+IMPORTARDATOSDINAMICOS(\" BAS146\",TABLAS!$A$211)+IMPORTARDATOSDINAMICOS(\" BAS146\",TABLAS!$A$281)+IMPORTARDATOSDINAMICOS(\" BAS146\",TABLAS!$A$341)"]
[147,"GESTANTES TAMIZADAS PARA VIH (1ER TAMIZAJE)",{"$f":"+GETPIVOTDATA(\" BAS147\",TABLAS!$A$75)","v":1},{"$f":"+GETPIVOTDATA(\" BAS147\",TABLAS!$A$142)","v":153},{"$f":"+GETPIVOTDATA(\" BAS147\",TABLAS!$A$211)","v":831},{"$f":"+GETPIVOTDATA(\" BAS147\",TABLAS!$A$281)","v":606},{"$f":"+GETPIVOTDATA(\" BAS147\",TABLAS!$A$341)","v":0},1591,{"$f":"+GETPIVOTDATA(\" BAS148\",TABLAS!$A$75)+GETPIVOTDATA(\" BAS148\",TABLAS!$A$142)+GETPIVOTDATA(\" BAS148\",TABLAS!$A$211)+GETPIVOTDATA(\" BAS148\",TABLAS!$A$281)+GETPIVOTDATA(\" BAS148\",TABLAS!$A$341)","v":1038},{"$f":"+GETPIVOTDATA(\" BAS149\",TABLAS!$A$75)+GETPIVOTDATA(\" BAS149\",TABLAS!$A$142)+GETPIVOTDATA(\" BAS149\",TABLAS!$A$211)+GETPIVOTDATA(\" BAS149\",TABLAS!$A$281)+GETPIVOTDATA(\" BAS149\",TABLAS!$A$341)","v":390},{"$f":"+GETPIVOTDATA(\" BAS150\",TABLAS!$A$75)+GETPIVOTDATA(\" BAS150\",TABLAS!$A$142)+GETPIVOTDATA(\" BAS150\",TABLAS!$A$211)+GETPIVOTDATA(\" BAS150\",TABLAS!$A$281)+GETPIVOTDATA(\" BAS150\",TABLAS!$A$341)","v":164},1592,null,-1,null,null,null,null,null,null,null,null,null,null,null,null,null,null,null,null,null,null,null,null,null,null,null,null,null,null,null,147,{"$f":"+AP110+1","v":148},149,150,null,147,148,149,150,null,"=+IMPORTARDATOSDINAMICOS(\" BAS147\",TABLAS!$A$372)","=+IMPORTARDATOSDINAMICOS(\" BAS148\",TABLAS!$A$372)","=+IMPORTARDATOSDINAMICOS(\" BAS149\",TABLAS!$A$372)","=+IMPORTARDATOSDINAMICOS(\" BAS150\",TABLAS!$A$372)",null,null,null,null,null,null,null,null,null,null,null,"=+IMPORTARDATOSDINAMICOS(\" BAS148\",TABLAS!$A$75)","=+IMPORTARDATOSDINAMICOS(\" BAS148\",TABLAS!$A$142)","=+IMPORTARDATOSDINAMICOS(\" BAS148\",TABLAS!$A$211)","=+IMPORTARDATOSDINAMICOS(\" BAS148\",TABLAS!$A$281)","=+IMPORTARDATOSDINAMICOS(\" BAS148\",TABLAS!$A$341)",null,null,null,null,null,null,null,"=+IMPORTARDATOSDINAMICOS(\" BAS148\",TABLAS!$A$75)+IMPORTARDATOSDINAMICOS(\" BAS148\",TABLAS!$A$142)+IMPORTARDATOSDINAMICOS(\" BAS148\",TABLAS!$A$211)+IMPORTARDATOSDINAMICOS(\" BAS148\",TABLAS!$A$281)+IMPORTARDATOSDINAMICOS(\" BAS148\",TABLAS!$A$341)",null,null,null,null,null,null,null,null,null,null,null,"=+IMPORTARDATOSDINAMICOS(\" BAS149\",TABLAS!$A$75)","=+IMPORTARDATOSDINAMICOS(\" BAS149\",TABLAS!$A$142)","=+IMPORTARDATOSDINAMICOS(\" BAS149\",TABLAS!$A$211)","=+IMPORTARDATOSDINAMICOS(\" BAS149\",TABLAS!$A$281)","=+IMPORTARDATOSDINAMICOS(\" BAS149\",TABLAS!$A$341)",null,null,null,null,null,null,null,"=+IMPORTARDATOSDINAMICOS(\" BAS149\",TABLAS!$A$75)+IMPORTARDATOSDINAMICOS(\" BAS149\",TABLAS!$A$142)+IMPORTARDATOSDINAMICOS(\" BAS149\",TABLAS!$A$211)+IMPORTARDATOSDINAMICOS(\" BAS149\",TABLAS!$A$281)+IMPORTARDATOSDINAMICOS(\" BAS149\",TABLAS!$A$341)",null,null,null,null,"=+IMPORTARDATOSDINAMICOS(\" BAS150\",TABLAS!$A$75)","=+IMPORTARDATOSDINAMICOS(\" BAS150\",TABLAS!$A$142)","=+IMPORTARDATOSDINAMICOS(\" BAS150\",TABLAS!$A$211)","=+IMPORTARDATOSDINAMICOS(\" BAS150\",TABLAS!$A$281)","=+IMPORTARDATOSDINAMICOS(\" BAS150\",TABLAS!$A$341)",null,null,null,null,null,null,null,"=+IMPORTARDATOSDINAMICOS(\" BAS150\",TABLAS!$A$75)+IMPORTARDATOSDINAMICOS(\" BAS150\",TABLAS!$A$142)+IMPORTARDATOSDINAMICOS(\" BAS150\",TABLAS!$A$211)+IMPORTARDATOSDINAMICOS(\" BAS150\",TABLAS!$A$281)+IMPORTARDATOSDINAMICOS(\" BAS150\",TABLAS!$A$341)"]
[151,"GESTANTES TAMIZADAS REACTIVAS PARA VIH",{"$f":"+GETPIVOTDATA(\" BAS151\",TABLAS!$A$75)","v":0},{"$f":"+GETPIVOTDATA(\" BAS151\",TABLAS!$A$142)","v":1},{"$f":"+GETPIVOTDATA(\" BAS151\",TABLAS!$A$211)","v":3},{"$f":"+GETPIVOTDATA(\" BAS151\",TABLAS!$A$281)","v":2},{"$f":"+GETPIVOTDATA(\" BAS151\",TABLAS!$A$341)","v":0},6,{"$f":"+GETPIVOTDATA(\" BAS152\",TABLAS!$A$75)+GETPIVOTDATA(\" BAS152\",TABLAS!$A$142)+GETPIVOTDATA(\" BAS152\",TABLAS!$A$211)+GETPIVOTDATA(\" BAS152\",TABLAS!$A$281)+GETPIVOTDATA(\" BAS152\",TABLAS!$A$341)","v":5},{"$f":"+GETPIVOTDATA(\" BAS153\",TABLAS!$A$75)+GETPIVOTDATA(\" BAS153\",TABLAS!$A$142)+GETPIVOTDATA(\" BAS153\",TABLAS!$A$211)+GETPIVOTDATA(\" BAS153\",TABLAS!$A$281)+GETPIVOTDATA(\" BAS153\",TABLAS!$A$341)","v":1},{"$f":"+GETPIVOTDATA(\" BAS154\",TABLAS!$A$75)+GETPIVOTDATA(\" BAS154\",TABLAS!$A$142)+GETPIVOTDATA(\" BAS154\",TABLAS!$A$211)+GETPIVOTDATA(\" BAS154\",TABLAS!$A$281)+GETPIVOTDATA(\" BAS154\",TABLAS!$A$341)","v":0},6,null,"1900-01-01",null,null,null,null,null,null,null,null,null,null,null,null,null,null,null,null,null,null,null,null,null,null,null,null,null,null,null,151,{"$f":"+AP111+1","v":152},153,154,null,151,152,153,154,null,"=+IMPORTARDATOSDINAMICOS(\" BAS151\",TABLAS!$A$372)","=+IMPORTARDATOSDINAMICOS(\" BAS152\",TABLAS!$A$372)","=+IMPORTARDATOSDINAMICOS(\" BAS153\",TABLAS!$A$372)","=+IMPORTARDATOSDINAMICOS(\" BAS154\",TABLAS!$A$372)",null,null,null,null,null,null,null,null,null,null,null,"=+IMPORTARDATOSDINAMICOS(\" BAS152\",TABLAS!$A$75)","=+IMPORTARDATOSDINAMICOS(\" BAS152\",TABLAS!$A$142)","=+IMPORTARDATOSDINAMICOS(\" BAS152\",TABLAS!$A$211)","=+IMPORTARDATOSDINAMICOS(\" BAS152\",TABLAS!$A$281)","=+IMPORTARDATOSDINAMICOS(\" BAS152\",TABLAS!$A$341)",null,null,null,null,null,null,null,"=+IMPORTARDATOSDINAMICOS(\" BAS152\",TABLAS!$A$75)+IMPORTARDATOSDINAMICOS(\" BAS152\",TABLAS!$A$142)+IMPORTARDATOSDINAMICOS(\" BAS152\",TABLAS!$A$211)+IMPORTARDATOSDINAMICOS(\" BAS152\",TABLAS!$A$281)+IMPORTARDATOSDINAMICOS(\" BAS152\",TABLAS!$A$341)",null,null,null,null,null,null,null,null,null,null,null,"=+IMPORTARDATOSDINAMICOS(\" BAS153\",TABLAS!$A$75)","=+IMPORTARDATOSDINAMICOS(\" BAS153\",TABLAS!$A$142)","=+IMPORTARDATOSDINAMICOS(\" BAS153\",TABLAS!$A$211)","=+IMPORTARDATOSDINAMICOS(\" BAS153\",TABLAS!$A$281)","=+IMPORTARDATOSDINAMICOS(\" BAS153\",TABLAS!$A$341)",null,null,null,null,null,null,null,"=+IMPORTARDATOSDINAMICOS(\" BAS153\",TABLAS!$A$75)+IMPORTARDATOSDINAMICOS(\" BAS153\",TABLAS!$A$142)+IMPORTARDATOSDINAMICOS(\" BAS153\",TABLAS!$A$211)+IMPORTARDATOSDINAMICOS(\" BAS153\",TABLAS!$A$281)+IMPORTARDATOSDINAMICOS(\" BAS153\",TABLAS!$A$341)",null,null,null,null,"=+IMPORTARDATOSDINAMICOS(\" BAS154\",TABLAS!$A$75)","=+IMPORTARDATOSDINAMICOS(\" BAS154\",TABLAS!$A$142)","=+IMPORTARDATOSDINAMICOS(\" BAS154\",TABLAS!$A$211)","=+IMPORTARDATOSDINAMICOS(\" BAS154\",TABLAS!$A$281)","=+IMPORTARDATOSDINAMICOS(\" BAS154\",TABLAS!$A$341)",null,null,null,null,null,null,null,"=+IMPORTARDATOSDINAMICOS(\" BAS154\",TABLAS!$A$75)+IMPORTARDATOSDINAMICOS(\" BAS154\",TABLAS!$A$142)+IMPORTARDATOSDINAMICOS(\" BAS154\",TABLAS!$A$211)+IMPORTARDATOSDINAMICOS(\" BAS154\",TABLAS!$A$281)+IMPORTARDATOSDINAMICOS(\" BAS154\",TABLAS!$A$341)"]
[155,"GESTANTES CON VIH QUE RECIBEN TAR",{"$f":"+GETPIVOTDATA(\" BAS155\",TABLAS!$A$75)","v":0},{"$f":"+GETPIVOTDATA(\" BAS155\",TABLAS!$A$142)","v":0},{"$f":"+GETPIVOTDATA(\" BAS155\",TABLAS!$A$211)","v":0},{"$f":"+GETPIVOTDATA(\" BAS155\",TABLAS!$A$281)","v":0},{"$f":"+GETPIVOTDATA(\" BAS155\",TABLAS!$A$341)","v":0},0,{"$f":"+GETPIVOTDATA(\" BAS156\",TABLAS!$A$75)+GETPIVOTDATA(\" BAS156\",TABLAS!$A$142)+GETPIVOTDATA(\" BAS156\",TABLAS!$A$211)+GETPIVOTDATA(\" BAS156\",TABLAS!$A$281)+GETPIVOTDATA(\" BAS156\",TABLAS!$A$341)","v":0},{"$f":"+GETPIVOTDATA(\" BAS157\",TABLAS!$A$75)+GETPIVOTDATA(\" BAS157\",TABLAS!$A$142)+GETPIVOTDATA(\" BAS157\",TABLAS!$A$211)+GETPIVOTDATA(\" BAS157\",TABLAS!$A$281)+GETPIVOTDATA(\" BAS157\",TABLAS!$A$341)","v":0},{"$f":"+GETPIVOTDATA(\" BAS158\",TABLAS!$A$75)+GETPIVOTDATA(\" BAS158\",TABLAS!$A$142)+GETPIVOTDATA(\" BAS158\",TABLAS!$A$211)+GETPIVOTDATA(\" BAS158\",TABLAS!$A$281)+GETPIVOTDATA(\" BAS158\",TABLAS!$A$341)","v":0},0,null,"1900-01-01",null,null,null,null,null,null,null,null,null,null,null,null,null,null,null,null,null,null,null,null,null,null,null,null,null,null,null,155,{"$f":"+AP112+1","v":156},157,158,null,155,156,157,158,null,"=+IMPORTARDATOSDINAMICOS(\" BAS155\",TABLAS!$A$372)","=+IMPORTARDATOSDINAMICOS(\" BAS156\",TABLAS!$A$372)","=+IMPORTARDATOSDINAMICOS(\" BAS157\",TABLAS!$A$372)","=+IMPORTARDATOSDINAMICOS(\" BAS158\",TABLAS!$A$372)",null,null,null,null,null,null,null,null,null,null,null,"=+IMPORTARDATOSDINAMICOS(\" BAS156\",TABLAS!$A$75)","=+IMPORTARDATOSDINAMICOS(\" BAS156\",TABLAS!$A$142)","=+IMPORTARDATOSDINAMICOS(\" BAS156\",TABLAS!$A$211)","=+IMPORTARDATOSDINAMICOS(\" BAS156\",TABLAS!$A$281)","=+IMPORTARDATOSDINAMICOS(\" BAS156\",TABLAS!$A$341)",null,null,null,null,null,null,null,"=+IMPORTARDATOSDINAMICOS(\" BAS156\",TABLAS!$A$75)+IMPORTARDATOSDINAMICOS(\" BAS156\",TABLAS!$A$142)+IMPORTARDATOSDINAMICOS(\" BAS156\",TABLAS!$A$211)+IMPORTARDATOSDINAMICOS(\" BAS156\",TABLAS!$A$281)+IMPORTARDATOSDINAMICOS(\" BAS156\",TABLAS!$A$341)",null,null,null,null,null,null,null,null,null,null,null,"=+IMPORTARDATOSDINAMICOS(\" BAS157\",TABLAS!$A$75)","=+IMPORTARDATOSDINAMICOS(\" BAS157\",TABLAS!$A$142)","=+IMPORTARDATOSDINAMICOS(\" BAS157\",TABLAS!$A$211)","=+IMPORTARDATOSDINAMICOS(\" BAS157\",TABLAS!$A$281)","=+IMPORTARDATOSDINAMICOS(\" BAS157\",TABLAS!$A$341)",null,null,null,null,null,null,null,"=+IMPORTARDATOSDINAMICOS(\" BAS157\",TABLAS!$A$75)+IMPORTARDATOSDINAMICOS(\" BAS157\",TABLAS!$A$142)+IMPORTARDATOSDINAMICOS(\" BAS157\",TABLAS!$A$211)+IMPORTARDATOSDINAMICOS(\" BAS157\",TABLAS!$A$281)+IMPORTARDATOSDINAMICOS(\" BAS157\",TABLAS!$A$341)",null,null,null,null,"=+IMPORTARDATOSDINAMICOS(\" BAS158\",TABLAS!$A$75)","=+IMPORTARDATOSDINAMICOS(\" BAS158\",TABLAS!$A$142)","=+IMPORTARDATOSDINAMICOS(\" BAS158\",TABLAS!$A$211)","=+IMPORTARDATOSDINAMICOS(\" BAS158\",TABLAS!$A$281)","=+IMPORTARDATOSDINAMICOS(\" BAS158\",TABLAS!$A$341)",null,null,null,null,null,null,null,"=+IMPORTARDATOSDINAMICOS(\" BAS158\",TABLAS!$A$75)+IMPORTARDATOSDINAMICOS(\" BAS158\",TABLAS!$A$142)+IMPORTARDATOSDINAMICOS(\" BAS158\",TABLAS!$A$211)+IMPORTARDATOSDINAMICOS(\" BAS158\",TABLAS!$A$281)+IMPORTARDATOSDINAMICOS(\" BAS158\",TABLAS!$A$341)"]
[159,"GESTANTES TAMIZADAS PARA HEPATITIS B",{"$f":"+GETPIVOTDATA(\" BAS159\",TABLAS!$A$75)","v":1},{"$f":"+GETPIVOTDATA(\" BAS159\",TABLAS!$A$142)","v":137},{"$f":"+GETPIVOTDATA(\" BAS159\",TABLAS!$A$211)","v":788},{"$f":"+GETPIVOTDATA(\" BAS159\",TABLAS!$A$281)","v":573},{"$f":"+GETPIVOTDATA(\" BAS159\",TABLAS!$A$341)","v":0},1499,{"$f":"+GETPIVOTDATA(\" BAS160\",TABLAS!$A$75)+GETPIVOTDATA(\" BAS160\",TABLAS!$A$142)+GETPIVOTDATA(\" BAS160\",TABLAS!$A$211)+GETPIVOTDATA(\" BAS160\",TABLAS!$A$281)+GETPIVOTDATA(\" BAS160\",TABLAS!$A$341)","v":971},{"$f":"+GETPIVOTDATA(\" BAS161\",TABLAS!$A$75)+GETPIVOTDATA(\" BAS161\",TABLAS!$A$142)+GETPIVOTDATA(\" BAS161\",TABLAS!$A$211)+GETPIVOTDATA(\" BAS161\",TABLAS!$A$281)+GETPIVOTDATA(\" BAS161\",TABLAS!$A$341)","v":362},{"$f":"+GETPIVOTDATA(\" BAS162\",TABLAS!$A$75)+GETPIVOTDATA(\" BAS162\",TABLAS!$A$142)+GETPIVOTDATA(\" BAS162\",TABLAS!$A$211)+GETPIVOTDATA(\" BAS162\",TABLAS!$A$281)+GETPIVOTDATA(\" BAS162\",TABLAS!$A$341)","v":167},1500,null,-1,null,null,null,null,null,null,null,null,null,null,null,null,null,null,null,null,null,null,null,null,null,null,null,null,null,null,null,159,{"$f":"+AP113+1","v":160},161,162,null,159,160,161,162,null,"=+IMPORTARDATOSDINAMICOS(\" BAS159\",TABLAS!$A$372)","=+IMPORTARDATOSDINAMICOS(\" BAS160\",TABLAS!$A$372)","=+IMPORTARDATOSDINAMICOS(\" BAS161\",TABLAS!$A$372)","=+IMPORTARDATOSDINAMICOS(\" BAS162\",TABLAS!$A$372)",null,null,null,null,null,null,null,null,null,null,null,"=+IMPORTARDATOSDINAMICOS(\" BAS160\",TABLAS!$A$75)","=+IMPORTARDATOSDINAMICOS(\" BAS160\",TABLAS!$A$142)","=+IMPORTARDATOSDINAMICOS(\" BAS160\",TABLAS!$A$211)","=+IMPORTARDATOSDINAMICOS(\" BAS160\",TABLAS!$A$281)","=+IMPORTARDATOSDINAMICOS(\" BAS160\",TABLAS!$A$341)",null,null,null,null,null,null,null,"=+IMPORTARDATOSDINAMICOS(\" BAS160\",TABLAS!$A$75)+IMPORTARDATOSDINAMICOS(\" BAS160\",TABLAS!$A$142)+IMPORTARDATOSDINAMICOS(\" BAS160\",TABLAS!$A$211)+IMPORTARDATOSDINAMICOS(\" BAS160\",TABLAS!$A$281)+IMPORTARDATOSDINAMICOS(\" BAS160\",TABLAS!$A$341)",null,null,null,null,null,null,null,null,null,null,null,"=+IMPORTARDATOSDINAMICOS(\" BAS161\",TABLAS!$A$75)","=+IMPORTARDATOSDINAMICOS(\" BAS161\",TABLAS!$A$142)","=+IMPORTARDATOSDINAMICOS(\" BAS161\",TABLAS!$A$211)","=+IMPORTARDATOSDINAMICOS(\" BAS161\",TABLAS!$A$281)","=+IMPORTARDATOSDINAMICOS(\" BAS161\",TABLAS!$A$341)",null,null,null,null,null,null,null,"=+IMPORTARDATOSDINAMICOS(\" BAS161\",TABLAS!$A$75)+IMPORTARDATOSDINAMICOS(\" BAS161\",TABLAS!$A$142)+IMPORTARDATOSDINAMICOS(\" BAS161\",TABLAS!$A$211)+IMPORTARDATOSDINAMICOS(\" BAS161\",TABLAS!$A$281)+IMPORTARDATOSDINAMICOS(\" BAS161\",TABLAS!$A$341)",null,null,null,null,"=+IMPORTARDATOSDINAMICOS(\" BAS162\",TABLAS!$A$75)","=+IMPORTARDATOSDINAMICOS(\" BAS162\",TABLAS!$A$142)","=+IMPORTARDATOSDINAMICOS(\" BAS162\",TABLAS!$A$211)","=+IMPORTARDATOSDINAMICOS(\" BAS162\",TABLAS!$A$281)","=+IMPORTARDATOSDINAMICOS(\" BAS162\",TABLAS!$A$341)",null,null,null,null,null,null,null,"=+IMPORTARDATOSDINAMICOS(\" BAS162\",TABLAS!$A$75)+IMPORTARDATOSDINAMICOS(\" BAS162\",TABLAS!$A$142)+IMPORTARDATOSDINAMICOS(\" BAS162\",TABLAS!$A$211)+IMPORTARDATOSDINAMICOS(\" BAS162\",TABLAS!$A$281)+IMPORTARDATOSDINAMICOS(\" BAS162\",TABLAS!$A$341)"]
[163,"GESTANTES TAMIZADAS REACTIVAS PARA HEPATITIS B",{"$f":"+GETPIVOTDATA(\" BAS163\",TABLAS!$A$75)","v":0},{"$f":"+GETPIVOTDATA(\" BAS163\",TABLAS!$A$142)","v":0},{"$f":"+GETPIVOTDATA(\" BAS163\",TABLAS!$A$211)","v":5},{"$f":"+GETPIVOTDATA(\" BAS163\",TABLAS!$A$281)","v":8},{"$f":"+GETPIVOTDATA(\" BAS163\",TABLAS!$A$341)","v":0},13,{"$f":"+GETPIVOTDATA(\" BAS164\",TABLAS!$A$75)+GETPIVOTDATA(\" BAS164\",TABLAS!$A$142)+GETPIVOTDATA(\" BAS164\",TABLAS!$A$211)+GETPIVOTDATA(\" BAS164\",TABLAS!$A$281)+GETPIVOTDATA(\" BAS164\",TABLAS!$A$341)","v":7},{"$f":"+GETPIVOTDATA(\" BAS165\",TABLAS!$A$75)+GETPIVOTDATA(\" BAS165\",TABLAS!$A$142)+GETPIVOTDATA(\" BAS165\",TABLAS!$A$211)+GETPIVOTDATA(\" BAS165\",TABLAS!$A$281)+GETPIVOTDATA(\" BAS165\",TABLAS!$A$341)","v":2},{"$f":"+GETPIVOTDATA(\" BAS166\",TABLAS!$A$75)+GETPIVOTDATA(\" BAS166\",TABLAS!$A$142)+GETPIVOTDATA(\" BAS166\",TABLAS!$A$211)+GETPIVOTDATA(\" BAS166\",TABLAS!$A$281)+GETPIVOTDATA(\" BAS166\",TABLAS!$A$341)","v":4},13,null,"1900-01-01",null,null,null,null,null,null,null,null,null,null,null,null,null,null,null,null,null,null,null,null,null,null,null,null,null,null,null,163,{"$f":"+AP114+1","v":164},165,166,null,163,164,165,166,null,"=+IMPORTARDATOSDINAMICOS(\" BAS163\",TABLAS!$A$372)","=+IMPORTARDATOSDINAMICOS(\" BAS164\",TABLAS!$A$372)","=+IMPORTARDATOSDINAMICOS(\" BAS165\",TABLAS!$A$372)","=+IMPORTARDATOSDINAMICOS(\" BAS166\",TABLAS!$A$372)",null,null,null,null,null,null,null,null,null,null,null,"=+IMPORTARDATOSDINAMICOS(\" BAS164\",TABLAS!$A$75)","=+IMPORTARDATOSDINAMICOS(\" BAS164\",TABLAS!$A$142)","=+IMPORTARDATOSDINAMICOS(\" BAS164\",TABLAS!$A$211)","=+IMPORTARDATOSDINAMICOS(\" BAS164\",TABLAS!$A$281)","=+IMPORTARDATOSDINAMICOS(\" BAS164\",TABLAS!$A$341)",null,null,null,null,null,null,null,"=+IMPORTARDATOSDINAMICOS(\" BAS164\",TABLAS!$A$75)+IMPORTARDATOSDINAMICOS(\" BAS164\",TABLAS!$A$142)+IMPORTARDATOSDINAMICOS(\" BAS164\",TABLAS!$A$211)+IMPORTARDATOSDINAMICOS(\" BAS164\",TABLAS!$A$281)+IMPORTARDATOSDINAMICOS(\" BAS164\",TABLAS!$A$341)",null,null,null,null,null,null,null,null,null,null,null,"=+IMPORTARDATOSDINAMICOS(\" BAS165\",TABLAS!$A$75)","=+IMPORTARDATOSDINAMICOS(\" BAS165\",TABLAS!$A$142)","=+IMPORTARDATOSDINAMICOS(\" BAS165\",TABLAS!$A$211)","=+IMPORTARDATOSDINAMICOS(\" BAS165\",TABLAS!$A$281)","=+IMPORTARDATOSDINAMICOS(\" BAS165\",TABLAS!$A$341)",null,null,null,null,null,null,null,"=+IMPORTARDATOSDINAMICOS(\" BAS165\",TABLAS!$A$75)+IMPORTARDATOSDINAMICOS(\" BAS165\",TABLAS!$A$142)+IMPORTARDATOSDINAMICOS(\" BAS165\",TABLAS!$A$211)+IMPORTARDATOSDINAMICOS(\" BAS165\",TABLAS!$A$281)+IMPORTARDATOSDINAMICOS(\" BAS165\",TABLAS!$A$341)",null,null,null,null,"=+IMPORTARDATOSDINAMICOS(\" BAS166\",TABLAS!$A$75)","=+IMPORTARDATOSDINAMICOS(\" BAS166\",TABLAS!$A$142)","=+IMPORTARDATOSDINAMICOS(\" BAS166\",TABLAS!$A$211)","=+IMPORTARDATOSDINAMICOS(\" BAS166\",TABLAS!$A$281)","=+IMPORTARDATOSDINAMICOS(\" BAS166\",TABLAS!$A$341)",null,null,null,null,null,null,null,"=+IMPORTARDATOSDINAMICOS(\" BAS166\",TABLAS!$A$75)+IMPORTARDATOSDINAMICOS(\" BAS166\",TABLAS!$A$142)+IMPORTARDATOSDINAMICOS(\" BAS166\",TABLAS!$A$211)+IMPORTARDATOSDINAMICOS(\" BAS166\",TABLAS!$A$281)+IMPORTARDATOSDINAMICOS(\" BAS166\",TABLAS!$A$341)"]
[167,"GESTANTES CON HEPATITIS B QUE RECIBEN TRATAMIENTO",{"$f":"+GETPIVOTDATA(\" BAS167\",TABLAS!$A$75)","v":0},{"$f":"+GETPIVOTDATA(\" BAS167\",TABLAS!$A$142)","v":0},{"$f":"+GETPIVOTDATA(\" BAS167\",TABLAS!$A$211)","v":3},{"$f":"+GETPIVOTDATA(\" BAS167\",TABLAS!$A$281)","v":7},{"$f":"+GETPIVOTDATA(\" BAS167\",TABLAS!$A$341)","v":0},10,{"$f":"+GETPIVOTDATA(\" BAS168\",TABLAS!$A$75)+GETPIVOTDATA(\" BAS168\",TABLAS!$A$142)+GETPIVOTDATA(\" BAS168\",TABLAS!$A$211)+GETPIVOTDATA(\" BAS168\",TABLAS!$A$281)+GETPIVOTDATA(\" BAS168\",TABLAS!$A$341)","v":0},{"$f":"+GETPIVOTDATA(\" BAS169\",TABLAS!$A$75)+GETPIVOTDATA(\" BAS169\",TABLAS!$A$142)+GETPIVOTDATA(\" BAS169\",TABLAS!$A$211)+GETPIVOTDATA(\" BAS169\",TABLAS!$A$281)+GETPIVOTDATA(\" BAS169\",TABLAS!$A$341)","v":3},{"$f":"+GETPIVOTDATA(\" BAS170\",TABLAS!$A$75)+GETPIVOTDATA(\" BAS170\",TABLAS!$A$142)+GETPIVOTDATA(\" BAS170\",TABLAS!$A$211)+GETPIVOTDATA(\" BAS170\",TABLAS!$A$281)+GETPIVOTDATA(\" BAS170\",TABLAS!$A$341)","v":7},10,null,"1900-01-01",null,null,null,null,null,null,null,null,null,null,null,null,null,null,null,null,null,null,null,null,null,null,null,null,null,null,null,167,{"$f":"+AP115+1","v":168},169,170,null,167,168,169,170,null,"=+IMPORTARDATOSDINAMICOS(\" BAS167\",TABLAS!$A$372)","=+IMPORTARDATOSDINAMICOS(\" BAS168\",TABLAS!$A$372)","=+IMPORTARDATOSDINAMICOS(\" BAS169\",TABLAS!$A$372)","=+IMPORTARDATOSDINAMICOS(\" BAS170\",TABLAS!$A$372)",null,null,null,null,null,null,null,null,null,null,null,"=+IMPORTARDATOSDINAMICOS(\" BAS168\",TABLAS!$A$75)","=+IMPORTARDATOSDINAMICOS(\" BAS168\",TABLAS!$A$142)","=+IMPORTARDATOSDINAMICOS(\" BAS168\",TABLAS!$A$211)","=+IMPORTARDATOSDINAMICOS(\" BAS168\",TABLAS!$A$281)","=+IMPORTARDATOSDINAMICOS(\" BAS168\",TABLAS!$A$341)",null,null,null,null,null,null,null,"=+IMPORTARDATOSDINAMICOS(\" BAS168\",TABLAS!$A$75)+IMPORTARDATOSDINAMICOS(\" BAS168\",TABLAS!$A$142)+IMPORTARDATOSDINAMICOS(\" BAS168\",TABLAS!$A$211)+IMPORTARDATOSDINAMICOS(\" BAS168\",TABLAS!$A$281)+IMPORTARDATOSDINAMICOS(\" BAS168\",TABLAS!$A$341)",null,null,null,null,null,null,null,null,null,null,null,"=+IMPORTARDATOSDINAMICOS(\" BAS169\",TABLAS!$A$75)","=+IMPORTARDATOSDINAMICOS(\" BAS169\",TABLAS!$A$142)","=+IMPORTARDATOSDINAMICOS(\" BAS169\",TABLAS!$A$211)","=+IMPORTARDATOSDINAMICOS(\" BAS169\",TABLAS!$A$281)","=+IMPORTARDATOSDINAMICOS(\" BAS169\",TABLAS!$A$341)",null,null,null,null,null,null,null,"=+IMPORTARDATOSDINAMICOS(\" BAS169\",TABLAS!$A$75)+IMPORTARDATOSDINAMICOS(\" BAS169\",TABLAS!$A$142)+IMPORTARDATOSDINAMICOS(\" BAS169\",TABLAS!$A$211)+IMPORTARDATOSDINAMICOS(\" BAS169\",TABLAS!$A$281)+IMPORTARDATOSDINAMICOS(\" BAS169\",TABLAS!$A$341)",null,null,null,null,"=+IMPORTARDATOSDINAMICOS(\" BAS170\",TABLAS!$A$75)","=+IMPORTARDATOSDINAMICOS(\" BAS170\",TABLAS!$A$142)","=+IMPORTARDATOSDINAMICOS(\" BAS170\",TABLAS!$A$211)","=+IMPORTARDATOSDINAMICOS(\" BAS170\",TABLAS!$A$281)","=+IMPORTARDATOSDINAMICOS(\" BAS170\",TABLAS!$A$341)",null,null,null,null,null,null,null,"=+IMPORTARDATOSDINAMICOS(\" BAS170\",TABLAS!$A$75)+IMPORTARDATOSDINAMICOS(\" BAS170\",TABLAS!$A$142)+IMPORTARDATOSDINAMICOS(\" BAS170\",TABLAS!$A$211)+IMPORTARDATOSDINAMICOS(\" BAS170\",TABLAS!$A$281)+IMPORTARDATOSDINAMICOS(\" BAS170\",TABLAS!$A$341)"]
[171,"GESTANTE SERODISCORDANTES PARA VIH",{"$f":"+GETPIVOTDATA(\" BAS171\",TABLAS!$A$75)","v":0},{"$f":"+GETPIVOTDATA(\" BAS171\",TABLAS!$A$142)","v":0},{"$f":"+GETPIVOTDATA(\" BAS171\",TABLAS!$A$211)","v":0},{"$f":"+GETPIVOTDATA(\" BAS171\",TABLAS!$A$281)","v":0},{"$f":"+GETPIVOTDATA(\" BAS171\",TABLAS!$A$341)","v":0},0,{"$f":"+GETPIVOTDATA(\" BAS172\",TABLAS!$A$75)+GETPIVOTDATA(\" BAS172\",TABLAS!$A$142)+GETPIVOTDATA(\" BAS172\",TABLAS!$A$211)+GETPIVOTDATA(\" BAS172\",TABLAS!$A$281)+GETPIVOTDATA(\" BAS172\",TABLAS!$A$341)","v":0},{"$f":"+GETPIVOTDATA(\" BAS173\",TABLAS!$A$75)+GETPIVOTDATA(\" BAS173\",TABLAS!$A$142)+GETPIVOTDATA(\" BAS173\",TABLAS!$A$211)+GETPIVOTDATA(\" BAS173\",TABLAS!$A$281)+GETPIVOTDATA(\" BAS173\",TABLAS!$A$341)","v":0},{"$f":"+GETPIVOTDATA(\" BAS174\",TABLAS!$A$75)+GETPIVOTDATA(\" BAS174\",TABLAS!$A$142)+GETPIVOTDATA(\" BAS174\",TABLAS!$A$211)+GETPIVOTDATA(\" BAS174\",TABLAS!$A$281)+GETPIVOTDATA(\" BAS174\",TABLAS!$A$341)","v":0},0,null,"1900-01-01",null,null,null,null,null,null,null,null,null,null,null,null,null,null,null,null,null,null,null,null,null,null,null,null,null,null,null,171,{"$f":"+AP116+1","v":172},173,174,null,171,172,173,174,null,"=+IMPORTARDATOSDINAMICOS(\" BAS171\",TABLAS!$A$372)","=+IMPORTARDATOSDINAMICOS(\" BAS172\",TABLAS!$A$372)","=+IMPORTARDATOSDINAMICOS(\" BAS173\",TABLAS!$A$372)","=+IMPORTARDATOSDINAMICOS(\" BAS174\",TABLAS!$A$372)",null,null,null,null,null,null,null,null,null,null,null,"=+IMPORTARDATOSDINAMICOS(\" BAS172\",TABLAS!$A$75)","=+IMPORTARDATOSDINAMICOS(\" BAS172\",TABLAS!$A$142)","=+IMPORTARDATOSDINAMICOS(\" BAS172\",TABLAS!$A$211)","=+IMPORTARDATOSDINAMICOS(\" BAS172\",TABLAS!$A$281)","=+IMPORTARDATOSDINAMICOS(\" BAS172\",TABLAS!$A$341)",null,null,null,null,null,null,null,"=+IMPORTARDATOSDINAMICOS(\" BAS172\",TABLAS!$A$75)+IMPORTARDATOSDINAMICOS(\" BAS172\",TABLAS!$A$142)+IMPORTARDATOSDINAMICOS(\" BAS172\",TABLAS!$A$211)+IMPORTARDATOSDINAMICOS(\" BAS172\",TABLAS!$A$281)+IMPORTARDATOSDINAMICOS(\" BAS172\",TABLAS!$A$341)",null,null,null,null,null,null,null,null,null,null,null,"=+IMPORTARDATOSDINAMICOS(\" BAS173\",TABLAS!$A$75)","=+IMPORTARDATOSDINAMICOS(\" BAS173\",TABLAS!$A$142)","=+IMPORTARDATOSDINAMICOS(\" BAS173\",TABLAS!$A$211)","=+IMPORTARDATOSDINAMICOS(\" BAS173\",TABLAS!$A$281)","=+IMPORTARDATOSDINAMICOS(\" BAS173\",TABLAS!$A$341)",null,null,null,null,null,null,null,"=+IMPORTARDATOSDINAMICOS(\" BAS173\",TABLAS!$A$75)+IMPORTARDATOSDINAMICOS(\" BAS173\",TABLAS!$A$142)+IMPORTARDATOSDINAMICOS(\" BAS173\",TABLAS!$A$211)+IMPORTARDATOSDINAMICOS(\" BAS173\",TABLAS!$A$281)+IMPORTARDATOSDINAMICOS(\" BAS173\",TABLAS!$A$341)",null,null,null,null,"=+IMPORTARDATOSDINAMICOS(\" BAS174\",TABLAS!$A$75)","=+IMPORTARDATOSDINAMICOS(\" BAS174\",TABLAS!$A$142)","=+IMPORTARDATOSDINAMICOS(\" BAS174\",TABLAS!$A$211)","=+IMPORTARDATOSDINAMICOS(\" BAS174\",TABLAS!$A$281)","=+IMPORTARDATOSDINAMICOS(\" BAS174\",TABLAS!$A$341)",null,null,null,null,null,null,null,"=+IMPORTARDATOSDINAMICOS(\" BAS174\",TABLAS!$A$75)+IMPORTARDATOSDINAMICOS(\" BAS174\",TABLAS!$A$142)+IMPORTARDATOSDINAMICOS(\" BAS174\",TABLAS!$A$211)+IMPORTARDATOSDINAMICOS(\" BAS174\",TABLAS!$A$281)+IMPORTARDATOSDINAMICOS(\" BAS174\",TABLAS!$A$341)"]
[175,"GESTANTE SERODISCORDANTES PARA VIH CON PROFILAXIS PRE-EXPOSICIÓN ",{"$f":"+GETPIVOTDATA(\" BAS175\",TABLAS!$A$75)","v":0},{"$f":"+GETPIVOTDATA(\" BAS175\",TABLAS!$A$142)","v":0},{"$f":"+GETPIVOTDATA(\" BAS175\",TABLAS!$A$211)","v":0},{"$f":"+GETPIVOTDATA(\" BAS175\",TABLAS!$A$281)","v":0},{"$f":"+GETPIVOTDATA(\" BAS175\",TABLAS!$A$341)","v":0},0,{"$f":"+GETPIVOTDATA(\" BAS176\",TABLAS!$A$75)+GETPIVOTDATA(\" BAS176\",TABLAS!$A$142)+GETPIVOTDATA(\" BAS176\",TABLAS!$A$211)+GETPIVOTDATA(\" BAS176\",TABLAS!$A$281)+GETPIVOTDATA(\" BAS176\",TABLAS!$A$341)","v":0},{"$f":"+GETPIVOTDATA(\" BAS177\",TABLAS!$A$75)+GETPIVOTDATA(\" BAS177\",TABLAS!$A$142)+GETPIVOTDATA(\" BAS177\",TABLAS!$A$211)+GETPIVOTDATA(\" BAS177\",TABLAS!$A$281)+GETPIVOTDATA(\" BAS177\",TABLAS!$A$341)","v":0},{"$f":"+GETPIVOTDATA(\" BAS178\",TABLAS!$A$75)+GETPIVOTDATA(\" BAS178\",TABLAS!$A$142)+GETPIVOTDATA(\" BAS178\",TABLAS!$A$211)+GETPIVOTDATA(\" BAS178\",TABLAS!$A$281)+GETPIVOTDATA(\" BAS178\",TABLAS!$A$341)","v":0},0,null,"1900-01-01",null,null,null,null,null,null,null,null,null,null,null,null,null,null,null,null,null,null,null,null,null,null,null,null,null,null,null,175,{"$f":"+AP117+1","v":176},177,178,11,175,176,177,178,null,"=+IMPORTARDATOSDINAMICOS(\" BAS175\",TABLAS!$A$372)","=+IMPORTARDATOSDINAMICOS(\" BAS176\",TABLAS!$A$372)","=+IMPORTARDATOSDINAMICOS(\" BAS177\",TABLAS!$A$372)","=+IMPORTARDATOSDINAMICOS(\" BAS178\",TABLAS!$A$372)",null,null,null,null,null,null,null,null,null,null,null,"=+IMPORTARDATOSDINAMICOS(\" BAS176\",TABLAS!$A$75)","=+IMPORTARDATOSDINAMICOS(\" BAS176\",TABLAS!$A$142)","=+IMPORTARDATOSDINAMICOS(\" BAS176\",TABLAS!$A$211)","=+IMPORTARDATOSDINAMICOS(\" BAS176\",TABLAS!$A$281)","=+IMPORTARDATOSDINAMICOS(\" BAS176\",TABLAS!$A$341)",null,null,null,null,null,null,null,"=+IMPORTARDATOSDINAMICOS(\" BAS176\",TABLAS!$A$75)+IMPORTARDATOSDINAMICOS(\" BAS176\",TABLAS!$A$142)+IMPORTARDATOSDINAMICOS(\" BAS176\",TABLAS!$A$211)+IMPORTARDATOSDINAMICOS(\" BAS176\",TABLAS!$A$281)+IMPORTARDATOSDINAMICOS(\" BAS176\",TABLAS!$A$341)",null,null,null,null,null,null,null,null,null,null,null,"=+IMPORTARDATOSDINAMICOS(\" BAS177\",TABLAS!$A$75)","=+IMPORTARDATOSDINAMICOS(\" BAS177\",TABLAS!$A$142)","=+IMPORTARDATOSDINAMICOS(\" BAS177\",TABLAS!$A$211)","=+IMPORTARDATOSDINAMICOS(\" BAS177\",TABLAS!$A$281)","=+IMPORTARDATOSDINAMICOS(\" BAS177\",TABLAS!$A$341)",null,null,null,null,null,null,null,"=+IMPORTARDATOSDINAMICOS(\" BAS177\",TABLAS!$A$75)+IMPORTARDATOSDINAMICOS(\" BAS177\",TABLAS!$A$142)+IMPORTARDATOSDINAMICOS(\" BAS177\",TABLAS!$A$211)+IMPORTARDATOSDINAMICOS(\" BAS177\",TABLAS!$A$281)+IMPORTARDATOSDINAMICOS(\" BAS177\",TABLAS!$A$341)",null,null,null,null,"=+IMPORTARDATOSDINAMICOS(\" BAS178\",TABLAS!$A$75)","=+IMPORTARDATOSDINAMICOS(\" BAS178\",TABLAS!$A$142)","=+IMPORTARDATOSDINAMICOS(\" BAS178\",TABLAS!$A$211)","=+IMPORTARDATOSDINAMICOS(\" BAS178\",TABLAS!$A$281)","=+IMPORTARDATOSDINAMICOS(\" BAS178\",TABLAS!$A$341)",null,null,null,null,null,null,null,"=+IMPORTARDATOSDINAMICOS(\" BAS178\",TABLAS!$A$75)+IMPORTARDATOSDINAMICOS(\" BAS178\",TABLAS!$A$142)+IMPORTARDATOSDINAMICOS(\" BAS178\",TABLAS!$A$211)+IMPORTARDATOSDINAMICOS(\" BAS178\",TABLAS!$A$281)+IMPORTARDATOSDINAMICOS(\" BAS178\",TABLAS!$A$341)"]
[]
[null,"7A.- RECIÉN NACIDOS (Sífilis, VIH, Hepatitis B) ","Total"]
[{"$f":"+A117+12","v":187},"RN CON SIFILIS CONGENITA QUE RECIBEN TRATAMIENTO COMPLETO",{"$f":"+GETPIVOTDATA(\" BAS187\",TABLAS!$A$75)","v":0},null,null,null,null,null,null,null,null,null,null,null,null,null,null,null,null,null,null,null,null,null,null,null,null,null,null,null,null,null,null,null,null,null,null,null,null,null,null,{"$f":"+AP117+AT117+1","v":187},null,null,null,null,{"$f":"IF(AP120<10,CONCATENATE(\"00\",AP120),IF(AND(AP120>9,AP120<100),CONCATENATE(\"0\",AP120),AP120))","v":187},null,null,null,null,{"$f":"IF(LEN(AU120)=0,\"\",CONCATENATE($CQ$14,AU120,$CQ$15))","v":"=+IMPORTARDATOSDINAMICOS(\" BAS187\",TABLAS!$A$372)"}]
[{"$f":"+A120+1","v":188},"RN EXPUESTOS A VIH QUE RECIBEN ARV",{"$f":"+GETPIVOTDATA(\" BAS188\",TABLAS!$A$75)","v":0},null,null,null,null,null,null,null,null,null,null,null,null,null,null,null,null,null,null,null,null,null,null,null,null,null,null,null,null,null,null,null,null,null,null,null,null,null,null,{"$f":"+AP120+1","v":188},null,null,null,null,188,null,null,null,null,"=+IMPORTARDATOSDINAMICOS(\" BAS188\",TABLAS!$A$372)"]
[{"$f":"+A121+1","v":189},"RN EXPUESTOS A VIH QUE INICIAN SUCEDANEOS DE LECHE MATERNA",{"$f":"+GETPIVOTDATA(\" BAS189\",TABLAS!$A$75)","v":2},null,null,null,null,null,null,null,null,null,null,null,null,null,null,null,null,null,null,null,null,null,null,null,null,null,null,null,null,null,null,null,null,null,null,null,null,null,null,{"$f":"+AP121+1","v":189},null,null,null,null,189,null,null,null,null,"=+IMPORTARDATOSDINAMICOS(\" BAS189\",TABLAS!$A$372)"]
[190,"RN EXPUESTOS A VIH QUE RECIBEN SUCEDANEOS DE LECHE MATERNA",{"$f":"+GETPIVOTDATA(\" BAS190\",TABLAS!$A$75)","v":0},null,null,null,null,null,null,null,null,null,null,null,null,null,null,null,null,null,null,null,null,null,null,null,null,null,null,null,null,null,null,null,null,null,null,null,null,null,null,190,null,null,null,null,190,null,null,null,null,"=+IMPORTARDATOSDINAMICOS(\" BAS190\",TABLAS!$A$372)"]
[191,"RN EXPUESTOS A VIH QUE COMPLETAN SUCEDANEOS DE LECHE MATERNA",{"$f":"+GETPIVOTDATA(\" BAS191\",TABLAS!$A$75)","v":3},null,null,null,null,null,null,null,null,null,null,null,null,null,null,null,null,null,null,null,null,null,null,null,null,null,null,null,null,null,null,null,null,null,null,null,null,null,null,191,null,null,null,null,191,null,null,null,null,"=+IMPORTARDATOSDINAMICOS(\" BAS191\",TABLAS!$A$372)"]
[192,"RN EXPUESTOS A HEPATITIS B",{"$f":"+GETPIVOTDATA(\" BAS192\",TABLAS!$A$75)","v":3},null,null,null,null,null,null,null,null,null,null,null,null,null,null,null,null,null,null,null,null,null,null,null,null,null,null,null,null,null,null,null,null,null,null,null,null,null,null,192,null,null,null,null,192,null,null,null,null,"=+IMPORTARDATOSDINAMICOS(\" BAS192\",TABLAS!$A$372)"]
[193,"RN EXPUESTOS CON VACUNA DE HEPATITIS B EN ATENCION DE PARTO ANTES DE LAS 24HRS",{"$f":"+GETPIVOTDATA(\" BAS193\",TABLAS!$A$75)","v":0},null,null,null,null,null,null,null,null,null,null,null,null,null,null,null,null,null,null,null,null,null,null,null,null,null,null,null,null,null,null,null,null,null,null,null,null,null,null,193,null,null,null,null,193,null,null,null,null,"=+IMPORTARDATOSDINAMICOS(\" BAS193\",TABLAS!$A$372)"]
[194,"RN EXPUESTOS CON VACUNA DE HEPATITIS B EN ATENCION DE PARTO DESPUÉS DE LAS 24HRS",{"$f":"+GETPIVOTDATA(\" BAS194\",TABLAS!$A$75)","v":0},null,null,null,null,null,null,null,null,null,null,null,null,null,null,null,null,null,null,null,null,null,null,null,null,null,null,null,null,null,null,null,null,null,null,null,null,null,null,194,null,null,null,null,194,null,null,null,null,"=+IMPORTARDATOSDINAMICOS(\" BAS194\",TABLAS!$A$372)"]
[195,"RN EXPUESTOS QUE RECIBEN INMUNOGLOBULINA (HBIG) ANTES DE LAS 24 HRS",{"$f":"+GETPIVOTDATA(\" BAS195\",TABLAS!$A$75)","v":3},null,null,null,null,null,null,null,null,null,null,null,null,null,null,null,null,null,null,null,null,null,null,null,null,null,null,null,null,null,null,null,null,null,null,null,null,null,null,195,null,null,null,null,195,null,null,null,null,"=+IMPORTARDATOSDINAMICOS(\" BAS195\",TABLAS!$A$372)"]
[196,"RN EXPUESTOS QUE RECIBEN INMUNOGLOBULINA (HBIG) DESPUÉS DE LAS 24 HRS",{"$f":"+GETPIVOTDATA(\" BAS196\",TABLAS!$A$75)","v":0},null,null,null,null,null,null,null,null,null,null,null,null,null,null,null,null,null,null,null,null,null,null,null,null,null,null,null,null,null,null,null,null,null,null,null,null,null,null,196,null,null,null,3,196,null,null,null,null,"=+IMPORTARDATOSDINAMICOS(\" BAS196\",TABLAS!$A$372)"]
[]
[null,"8.- POBLACION CLAVE: Hombres que tienen Sexo con otros Hombres / Trans / TS","HSH",null,null,"TRANS",null,null,"TS-FEMENINO",null,null,"TS-TRANS",null,null,"TS-H",null,null,"Total"]
[null,null,"18a - 29a","30a - 59a","60a más","18a - 29a","30a - 59a","60a más","18a - 29a","30a - 59a","60a más","18a - 29a","30a - 59a","60a más","18a - 29a","30a - 59a","60a más","HSH","TRANS","TS-FEMENINO","TS-TRANS","TS-H"]
[1,"ATENDIDOS/AS HSH/TRANS",{"$f":"+GETPIVOTDATA(\" BAS001\",TABLAS!$A$402)","v":0},{"$f":"+GETPIVOTDATA(\" BAS077\",TABLAS!$A$402)","v":0},{"$f":"+GETPIVOTDATA(\" BAS153\",TABLAS!$A$402)","v":0},{"$f":"+GETPIVOTDATA(\" BAS001\",TABLAS!$A$463)","v":0},{"$f":"+GETPIVOTDATA(\" BAS077\",TABLAS!$A$463)","v":0},{"$f":"+GETPIVOTDATA(\" BAS153\",TABLAS!$A$463)","v":0},{"$f":"+GETPIVOTDATA(\" BAS001\",TABLAS!$A$433)","v":9},{"$f":"+GETPIVOTDATA(\" BAS077\",TABLAS!$A$433)","v":8},{"$f":"+GETPIVOTDATA(\" BAS153\",TABLAS!$A$433)","v":0},{"$f":"+GETPIVOTDATA(\" BAS001\",TABLAS!$A$495)","v":0},{"$f":"+GETPIVOTDATA(\" BAS077\",TABLAS!$A$495)","v":0},{"$f":"+GETPIVOTDATA(\" BAS153\",TABLAS!$A$495)","v":0},{"$f":"+GETPIVOTDATA(\" BAS001\",TABLAS!$A$525)","v":0},{"$f":"+GETPIVOTDATA(\" BAS077\",TABLAS!$A$525)","v":0},{"$f":"+GETPIVOTDATA(\" BAS153\",TABLAS!$A$525)","v":0},{"$f":"SUM(C133:E133)","v":0},{"$f":"SUM(F133:H133)","v":0},{"$f":"SUM(I133:K133)","v":17},{"$f":"SUM(L133:N133)","v":0},{"$f":"SUM(O133:Q133)","v":0},null,null,null,null,null,null,null,null,null,null,null,null,null,null,null,null,null,null,null,1,null,null,null,null,{"$f":"IF(AP133<10,CONCATENATE(\"00\",AP133),IF(AND(AP133>9,AP133<100),CONCATENATE(\"0\",AP133),AP133))","v":"001"},null,null,null,null,{"$f":"CONCATENATE($CQ$49,AU133,$CQ$50)","v":"=+IMPORTARDATOSDINAMICOS(\" BAS001\",TABLAS!$A$525)"}]
[{"$f":"+A133+1","v":2},"ATENCIONES A HSH/TRANS",{"$f":"+GETPIVOTDATA(\" BAS002\",TABLAS!$A$402)","v":0},{"$f":"+GETPIVOTDATA(\" BAS078\",TABLAS!$A$402)","v":0},{"$f":"+GETPIVOTDATA(\" BAS154\",TABLAS!$A$402)","v":0},{"$f":"+GETPIVOTDATA(\" BAS002\",TABLAS!$A$463)","v":0},{"$f":"+GETPIVOTDATA(\" BAS078\",TABLAS!$A$463)","v":0},{"$f":"+GETPIVOTDATA(\" BAS154\",TABLAS!$A$463)","v":0},{"$f":"+GETPIVOTDATA(\" BAS002\",TABLAS!$A$433)","v":12},{"$f":"+GETPIVOTDATA(\" BAS078\",TABLAS!$A$433)","v":12},{"$f":"+GETPIVOTDATA(\" BAS154\",TABLAS!$A$433)","v":0},{"$f":"+GETPIVOTDATA(\" BAS002\",TABLAS!$A$495)","v":0},{"$f":"+GETPIVOTDATA(\" BAS078\",TABLAS!$A$495)","v":0},{"$f":"+GETPIVOTDATA(\" BAS154\",TABLAS!$A$495)","v":0},{"$f":"+GETPIVOTDATA(\" BAS002\",TABLAS!$A$525)","v":0},{"$f":"+GETPIVOTDATA(\" BAS078\",TABLAS!$A$525)","v":0},{"$f":"+GETPIVOTDATA(\" BAS154\",TABLAS!$A$525)","v":0},{"$f":"SUM(C134:E134)","v":0},{"$f":"SUM(F134:H134)","v":0},{"$f":"SUM(I134:K134)","v":24},{"$f":"SUM(L134:N134)","v":0},{"$f":"SUM(O134:Q134)","v":0},null,null,null,null,null,null,null,null,null,null,null,null,null,null,null,null,null,null,null,{"$f":"+AP133+1","v":2},null,null,null,null,"002",null,null,null,null,"=+IMPORTARDATOSDINAMICOS(\" BAS002\",TABLAS!$A$525)"]
[{"$f":"+A134+1","v":3},"HSH/TRANS TAMIZADOS/AS PARA SÍFILIS (1° TAMIZAJE)",{"$f":"+GETPIVOTDATA(\" BAS003\",TABLAS!$A$402)","v":22},{"$f":"+GETPIVOTDATA(\" BAS079\",TABLAS!$A$402)","v":6},{"$f":"+GETPIVOTDATA(\" BAS155\",TABLAS!$A$402)","v":0},{"$f":"+GETPIVOTDATA(\" BAS003\",TABLAS!$A$463)","v":0},{"$f":"+GETPIVOTDATA(\" BAS079\",TABLAS!$A$463)","v":0},{"$f":"+GETPIVOTDATA(\" BAS155\",TABLAS!$A$463)","v":0},{"$f":"+GETPIVOTDATA(\" BAS003\",TABLAS!$A$433)","v":170},{"$f":"+GETPIVOTDATA(\" BAS079\",TABLAS!$A$433)","v":98},{"$f":"+GETPIVOTDATA(\" BAS155\",TABLAS!$A$433)","v":1},{"$f":"+GETPIVOTDATA(\" BAS003\",TABLAS!$A$495)","v":0},{"$f":"+GETPIVOTDATA(\" BAS079\",TABLAS!$A$495)","v":1},{"$f":"+GETPIVOTDATA(\" BAS155\",TABLAS!$A$495)","v":0},{"$f":"+GETPIVOTDATA(\" BAS003\",TABLAS!$A$525)","v":0},{"$f":"+GETPIVOTDATA(\" BAS079\",TABLAS!$A$525)","v":0},{"$f":"+GETPIVOTDATA(\" BAS155\",TABLAS!$A$525)","v":0},28,0,269,1,0,null,null,null,"=+IMPORTARDATOSDINAMICOS(\" BAS015\",TABLAS!$A$402)+IMPORTARDATOSDINAMICOS(\" BAS015\",TABLAS!$A$433)+IMPORTARDATOSDINAMICOS(\" BAS015\",TABLAS!$A$463)+IMPORTARDATOSDINAMICOS(\" BAS015\",TABLAS!$A$495)+IMPORTARDATOSDINAMICOS(\" BAS015\",TABLAS!$A$525)",null,null,null,null,null,null,null,null,null,null,null,null,null,null,null,{"$f":"+AP134+1","v":3},null,null,null,null,"003",null,null,null,null,"=+IMPORTARDATOSDINAMICOS(\" BAS003\",TABLAS!$A$525)"]
[4,"HSH/TRANS TAMIZADOS/AS PARA SÍFILIS CON RESULTADO REACTIVO",{"$f":"+GETPIVOTDATA(\" BAS004\",TABLAS!$A$402)","v":1},{"$f":"+GETPIVOTDATA(\" BAS080\",TABLAS!$A$402)","v":1},{"$f":"+GETPIVOTDATA(\" BAS156\",TABLAS!$A$402)","v":0},{"$f":"+GETPIVOTDATA(\" BAS004\",TABLAS!$A$463)","v":0},{"$f":"+GETPIVOTDATA(\" BAS080\",TABLAS!$A$463)","v":0},{"$f":"+GETPIVOTDATA(\" BAS156\",TABLAS!$A$463)","v":0},{"$f":"+GETPIVOTDATA(\" BAS004\",TABLAS!$A$433)","v":0},{"$f":"+GETPIVOTDATA(\" BAS080\",TABLAS!$A$433)","v":0},{"$f":"+GETPIVOTDATA(\" BAS156\",TABLAS!$A$433)","v":0},{"$f":"+GETPIVOTDATA(\" BAS004\",TABLAS!$A$495)","v":0},{"$f":"+GETPIVOTDATA(\" BAS080\",TABLAS!$A$495)","v":0},{"$f":"+GETPIVOTDATA(\" BAS156\",TABLAS!$A$495)","v":0},{"$f":"+GETPIVOTDATA(\" BAS004\",TABLAS!$A$525)","v":0},{"$f":"+GETPIVOTDATA(\" BAS080\",TABLAS!$A$525)","v":0},{"$f":"+GETPIVOTDATA(\" BAS156\",TABLAS!$A$525)","v":0},2,0,0,0,0,null,null,null,null,null,null,null,null,null,null,null,null,null,null,null,null,null,null,null,4,null,null,null,null,"004",null,null,null,null,"=+IMPORTARDATOSDINAMICOS(\" BAS004\",TABLAS!$A$525)"]
[5,"TS/HSH/TRANS  TAMIZADOS/AS PARA VIH (1º TAMIZAJE)",{"$f":"+GETPIVOTDATA(\" BAS005\",TABLAS!$A$402)","v":19},{"$f":"+GETPIVOTDATA(\" BAS081\",TABLAS!$A$402)","v":4},{"$f":"+GETPIVOTDATA(\" BAS157\",TABLAS!$A$402)","v":0},{"$f":"+GETPIVOTDATA(\" BAS005\",TABLAS!$A$463)","v":1},{"$f":"+GETPIVOTDATA(\" BAS081\",TABLAS!$A$463)","v":3},{"$f":"+GETPIVOTDATA(\" BAS157\",TABLAS!$A$463)","v":0},{"$f":"+GETPIVOTDATA(\" BAS005\",TABLAS!$A$433)","v":160},{"$f":"+GETPIVOTDATA(\" BAS081\",TABLAS!$A$433)","v":90},{"$f":"+GETPIVOTDATA(\" BAS157\",TABLAS!$A$433)","v":0},{"$f":"+GETPIVOTDATA(\" BAS005\",TABLAS!$A$495)","v":0},{"$f":"+GETPIVOTDATA(\" BAS081\",TABLAS!$A$495)","v":1},{"$f":"+GETPIVOTDATA(\" BAS157\",TABLAS!$A$495)","v":0},{"$f":"+GETPIVOTDATA(\" BAS005\",TABLAS!$A$525)","v":0},{"$f":"+GETPIVOTDATA(\" BAS081\",TABLAS!$A$525)","v":0},{"$f":"+GETPIVOTDATA(\" BAS157\",TABLAS!$A$525)","v":0},23,4,250,1,0,null,null,null,null,null,null,null,null,null,null,null,null,null,null,null,null,null,null,null,5,null,null,null,null,"005",null,null,null,null,"=+IMPORTARDATOSDINAMICOS(\" BAS005\",TABLAS!$A$525)"]
[6,"TS/HSH/TRANS CON TAMIZAJE PARA VIH CON RESULTADO REACTIVO",{"$f":"+GETPIVOTDATA(\" BAS006\",TABLAS!$A$402)","v":0},{"$f":"+GETPIVOTDATA(\" BAS082\",TABLAS!$A$402)","v":0},{"$f":"+GETPIVOTDATA(\" BAS158\",TABLAS!$A$402)","v":0},{"$f":"+GETPIVOTDATA(\" BAS006\",TABLAS!$A$463)","v":0},{"$f":"+GETPIVOTDATA(\" BAS082\",TABLAS!$A$463)","v":0},{"$f":"+GETPIVOTDATA(\" BAS158\",TABLAS!$A$463)","v":0},{"$f":"+GETPIVOTDATA(\" BAS006\",TABLAS!$A$433)","v":0},{"$f":"+GETPIVOTDATA(\" BAS082\",TABLAS!$A$433)","v":0},{"$f":"+GETPIVOTDATA(\" BAS158\",TABLAS!$A$433)","v":0},{"$f":"+GETPIVOTDATA(\" BAS006\",TABLAS!$A$495)","v":0},{"$f":"+GETPIVOTDATA(\" BAS082\",TABLAS!$A$495)","v":0},{"$f":"+GETPIVOTDATA(\" BAS158\",TABLAS!$A$495)","v":0},{"$f":"+GETPIVOTDATA(\" BAS006\",TABLAS!$A$525)","v":0},{"$f":"+GETPIVOTDATA(\" BAS082\",TABLAS!$A$525)","v":0},{"$f":"+GETPIVOTDATA(\" BAS158\",TABLAS!$A$525)","v":0},0,0,0,0,0,null,null,null,null,null,null,null,null,null,null,null,null,null,null,null,null,null,null,null,6,null,null,null,null,"006",null,null,null,null,"=+IMPORTARDATOSDINAMICOS(\" BAS006\",TABLAS!$A$525)"]
[7,"TS/HSH/TRANS CON DIAGNOSTICO DE VIH ",{"$f":"+GETPIVOTDATA(\" BAS007\",TABLAS!$A$402)","v":0},{"$f":"+GETPIVOTDATA(\" BAS083\",TABLAS!$A$402)","v":0},{"$f":"+GETPIVOTDATA(\" BAS159\",TABLAS!$A$402)","v":0},{"$f":"+GETPIVOTDATA(\" BAS007\",TABLAS!$A$463)","v":0},{"$f":"+GETPIVOTDATA(\" BAS083\",TABLAS!$A$463)","v":0},{"$f":"+GETPIVOTDATA(\" BAS159\",TABLAS!$A$463)","v":0},{"$f":"+GETPIVOTDATA(\" BAS007\",TABLAS!$A$433)","v":0},{"$f":"+GETPIVOTDATA(\" BAS083\",TABLAS!$A$433)","v":0},{"$f":"+GETPIVOTDATA(\" BAS159\",TABLAS!$A$433)","v":0},{"$f":"+GETPIVOTDATA(\" BAS007\",TABLAS!$A$495)","v":0},{"$f":"+GETPIVOTDATA(\" BAS083\",TABLAS!$A$495)","v":0},{"$f":"+GETPIVOTDATA(\" BAS159\",TABLAS!$A$495)","v":0},{"$f":"+GETPIVOTDATA(\" BAS007\",TABLAS!$A$525)","v":0},{"$f":"+GETPIVOTDATA(\" BAS083\",TABLAS!$A$525)","v":0},{"$f":"+GETPIVOTDATA(\" BAS159\",TABLAS!$A$525)","v":0},0,0,0,0,0,null,null,null,null,null,null,null,null,null,null,null,null,null,null,null,null,null,null,null,7,null,null,null,null,"007",null,null,null,null,"=+IMPORTARDATOSDINAMICOS(\" BAS007\",TABLAS!$A$525)"]
[8,"TS/HSH/TRANS QUE INICIAN TERAPIA ANTIRRETROVIRAL",{"$f":"+GETPIVOTDATA(\" BAS008\",TABLAS!$A$402)","v":0},{"$f":"+GETPIVOTDATA(\" BAS084\",TABLAS!$A$402)","v":0},{"$f":"+GETPIVOTDATA(\" BAS160\",TABLAS!$A$402)","v":0},{"$f":"+GETPIVOTDATA(\" BAS008\",TABLAS!$A$463)","v":0},{"$f":"+GETPIVOTDATA(\" BAS084\",TABLAS!$A$463)","v":0},{"$f":"+GETPIVOTDATA(\" BAS160\",TABLAS!$A$463)","v":0},{"$f":"+GETPIVOTDATA(\" BAS008\",TABLAS!$A$433)","v":0},{"$f":"+GETPIVOTDATA(\" BAS084\",TABLAS!$A$433)","v":0},{"$f":"+GETPIVOTDATA(\" BAS160\",TABLAS!$A$433)","v":0},{"$f":"+GETPIVOTDATA(\" BAS008\",TABLAS!$A$495)","v":0},{"$f":"+GETPIVOTDATA(\" BAS084\",TABLAS!$A$495)","v":0},{"$f":"+GETPIVOTDATA(\" BAS160\",TABLAS!$A$495)","v":0},{"$f":"+GETPIVOTDATA(\" BAS008\",TABLAS!$A$525)","v":0},{"$f":"+GETPIVOTDATA(\" BAS084\",TABLAS!$A$525)","v":0},{"$f":"+GETPIVOTDATA(\" BAS160\",TABLAS!$A$525)","v":0},0,0,0,0,0,null,null,null,null,null,null,null,null,null,null,null,null,null,null,null,null,null,null,null,8,null,null,null,null,"008",null,null,null,null,"=+IMPORTARDATOSDINAMICOS(\" BAS008\",TABLAS!$A$525)"]
[9,"TS/HSH/TRANS TAMIZADOS/AS PARA HEPATITIS B",{"$f":"+GETPIVOTDATA(\" BAS009\",TABLAS!$A$402)","v":21},{"$f":"+GETPIVOTDATA(\" BAS085\",TABLAS!$A$402)","v":7},{"$f":"+GETPIVOTDATA(\" BAS161\",TABLAS!$A$402)","v":0},{"$f":"+GETPIVOTDATA(\" BAS009\",TABLAS!$A$463)","v":0},{"$f":"+GETPIVOTDATA(\" BAS085\",TABLAS!$A$463)","v":0},{"$f":"+GETPIVOTDATA(\" BAS161\",TABLAS!$A$463)","v":0},{"$f":"+GETPIVOTDATA(\" BAS009\",TABLAS!$A$433)","v":170},{"$f":"+GETPIVOTDATA(\" BAS085\",TABLAS!$A$433)","v":98},{"$f":"+GETPIVOTDATA(\" BAS161\",TABLAS!$A$433)","v":1},{"$f":"+GETPIVOTDATA(\" BAS009\",TABLAS!$A$495)","v":0},{"$f":"+GETPIVOTDATA(\" BAS085\",TABLAS!$A$495)","v":1},{"$f":"+GETPIVOTDATA(\" BAS161\",TABLAS!$A$495)","v":0},{"$f":"+GETPIVOTDATA(\" BAS009\",TABLAS!$A$525)","v":0},{"$f":"+GETPIVOTDATA(\" BAS085\",TABLAS!$A$525)","v":0},{"$f":"+GETPIVOTDATA(\" BAS161\",TABLAS!$A$525)","v":0},28,0,269,1,0,null,null,null,null,null,null,null,null,null,null,null,null,null,null,null,null,null,null,null,9,null,null,null,null,"009",null,null,null,null,"=+IMPORTARDATOSDINAMICOS(\" BAS009\",TABLAS!$A$525)"]
[10,"TS/HSH/TRANS CON TAMIZAJE PARA HEPATITIS B CON RESULTADO REACTIVO",{"$f":"+GETPIVOTDATA(\" BAS010\",TABLAS!$A$402)","v":0},{"$f":"+GETPIVOTDATA(\" BAS086\",TABLAS!$A$402)","v":0},{"$f":"+GETPIVOTDATA(\" BAS162\",TABLAS!$A$402)","v":0},{"$f":"+GETPIVOTDATA(\" BAS010\",TABLAS!$A$463)","v":0},{"$f":"+GETPIVOTDATA(\" BAS086\",TABLAS!$A$463)","v":0},{"$f":"+GETPIVOTDATA(\" BAS162\",TABLAS!$A$463)","v":0},{"$f":"+GETPIVOTDATA(\" BAS010\",TABLAS!$A$433)","v":0},{"$f":"+GETPIVOTDATA(\" BAS086\",TABLAS!$A$433)","v":0},{"$f":"+GETPIVOTDATA(\" BAS162\",TABLAS!$A$433)","v":0},{"$f":"+GETPIVOTDATA(\" BAS010\",TABLAS!$A$495)","v":0},{"$f":"+GETPIVOTDATA(\" BAS086\",TABLAS!$A$495)","v":0},{"$f":"+GETPIVOTDATA(\" BAS162\",TABLAS!$A$495)","v":0},{"$f":"+GETPIVOTDATA(\" BAS010\",TABLAS!$A$525)","v":0},{"$f":"+GETPIVOTDATA(\" BAS086\",TABLAS!$A$525)","v":0},{"$f":"+GETPIVOTDATA(\" BAS162\",TABLAS!$A$525)","v":0},0,0,0,0,0,null,null,null,null,null,null,null,null,null,null,null,null,null,null,null,null,null,null,null,10,null,null,null,null,"010",null,null,null,null,"=+IMPORTARDATOSDINAMICOS(\" BAS010\",TABLAS!$A$525)"]
[11,"TS/HSH/TRANS QUE COMPLETAN VACUNACION DE HEPATITIS B",{"$f":"+GETPIVOTDATA(\" BAS011\",TABLAS!$A$402)","v":0},{"$f":"+GETPIVOTDATA(\" BAS087\",TABLAS!$A$402)","v":0},{"$f":"+GETPIVOTDATA(\" BAS163\",TABLAS!$A$402)","v":0},{"$f":"+GETPIVOTDATA(\" BAS011\",TABLAS!$A$463)","v":0},{"$f":"+GETPIVOTDATA(\" BAS087\",TABLAS!$A$463)","v":0},{"$f":"+GETPIVOTDATA(\" BAS163\",TABLAS!$A$463)","v":0},{"$f":"+GETPIVOTDATA(\" BAS011\",TABLAS!$A$433)","v":0},{"$f":"+GETPIVOTDATA(\" BAS087\",TABLAS!$A$433)","v":0},{"$f":"+GETPIVOTDATA(\" BAS163\",TABLAS!$A$433)","v":0},{"$f":"+GETPIVOTDATA(\" BAS011\",TABLAS!$A$495)","v":0},{"$f":"+GETPIVOTDATA(\" BAS087\",TABLAS!$A$495)","v":0},{"$f":"+GETPIVOTDATA(\" BAS163\",TABLAS!$A$495)","v":0},{"$f":"+GETPIVOTDATA(\" BAS011\",TABLAS!$A$525)","v":0},{"$f":"+GETPIVOTDATA(\" BAS087\",TABLAS!$A$525)","v":0},{"$f":"+GETPIVOTDATA(\" BAS163\",TABLAS!$A$525)","v":0},0,0,0,0,0,null,null,null,null,null,null,null,null,null,null,null,null,null,null,null,null,null,null,null,11,null,null,null,null,"011",null,null,null,null,"=+IMPORTARDATOSDINAMICOS(\" BAS011\",TABLAS!$A$525)"]
[12,"TS/HSH/TRANS TAMIZADOS/AS PARA HEPATITIS C",{"$f":"+GETPIVOTDATA(\" BAS012\",TABLAS!$A$402)","v":1},{"$f":"+GETPIVOTDATA(\" BAS088\",TABLAS!$A$402)","v":1},{"$f":"+GETPIVOTDATA(\" BAS164\",TABLAS!$A$402)","v":0},{"$f":"+GETPIVOTDATA(\" BAS012\",TABLAS!$A$463)","v":0},{"$f":"+GETPIVOTDATA(\" BAS088\",TABLAS!$A$463)","v":0},{"$f":"+GETPIVOTDATA(\" BAS164\",TABLAS!$A$463)","v":0},{"$f":"+GETPIVOTDATA(\" BAS012\",TABLAS!$A$433)","v":77},{"$f":"+GETPIVOTDATA(\" BAS088\",TABLAS!$A$433)","v":53},{"$f":"+GETPIVOTDATA(\" BAS164\",TABLAS!$A$433)","v":1},{"$f":"+GETPIVOTDATA(\" BAS012\",TABLAS!$A$495)","v":0},{"$f":"+GETPIVOTDATA(\" BAS088\",TABLAS!$A$495)","v":1},{"$f":"+GETPIVOTDATA(\" BAS164\",TABLAS!$A$495)","v":0},{"$f":"+GETPIVOTDATA(\" BAS012\",TABLAS!$A$525)","v":0},{"$f":"+GETPIVOTDATA(\" BAS088\",TABLAS!$A$525)","v":0},{"$f":"+GETPIVOTDATA(\" BAS164\",TABLAS!$A$525)","v":0},2,0,131,1,0,null,null,null,null,null,null,null,null,null,null,null,null,null,null,null,null,null,null,null,12,null,null,null,null,"012",null,null,null,null,"=+IMPORTARDATOSDINAMICOS(\" BAS012\",TABLAS!$A$525)",null,null,null,null,null,null,null,null,null,null,null,null,null,null,null,null,null,null,null,null,null,null,null,null,null,null,null,null,null,null,null,null,null,null,null,null,null,null,null,null,null,null,"=+IMPORTARDATOSDINAMICOS(\" BAS"]
[null,null,null,null,null,null,null,null,13,null,null,null,null,null,null,null,null,null,null,null,null,null,null,null,null,null,null,null,null,null,null,null,null,null,null,null,null,null,null,null,null,null,null,null,null,null,null,null,null,null,null,null,null,null,null,null,null,null,null,null,null,null,null,null,null,null,"TRATADO",null,null,null,null,null,null,null,null,null,null,null,null,null,null,null,null,null,null,null,null,null,null,null,null,null,null,null,"\",TABLAS!$A$402)"]
[null,"9.- POBLACION CLAVE:  Hombres que tienen sexo con otros hombres / Trans / TS  : ITS","HSH",null,null,"TRANS",null,null,"TS-FEMENINO",null,null,"TS-TRANS",null,null,"HTS",null,null,"Total",null,null,null,null,"TRATADOS",null,null,null,null,"CONTACTOS","CONTACTOS TRATADOS",null,null,null,null,null,null,null,null,null,null,null,null,null,null,null,null,null,null,null,null,null,null,null,null,null,null,null,null,null,null,null,null,null,null,null,null,null,"hsh","ts","tra","hts","tts"]
[null,null,"18a - 29a","30a - 59a","60a más","18a - 29a","30a - 59a","60a más","18a - 29a","30a - 59a","60a más","18a - 29a","30a - 59a","60a más","18a - 29a","30a - 59a","60a más","HSH","TRANS","TS-FEMENINO","TS-TRANS","HTS","HSH","TRANS","TS-FEMENINO","TS-TRANS","HTS",null,null,null,null,null,null,null,null,null,null,null,null,null,null,null,null,null,null,null,null,null,null,null,null,"CASO","TRATADO","CONTACTO","CONTAC TRATAD",null,null,null,null,null,null,null,null,null,null,null,402,433,463,495,525,null,null,null,null,null,null,null,null,null,null,null,null,null,null,null,null,null,null,null,"CONTACTO",null,null,null,null,null,null,null,null,null,null,null,null,null,null,null,null,"CONTACTO TRATADO"]
[{"$f":"+A144+1","v":13},"PERSONAS CON MANEJO SINDROMICO",{"$f":"+GETPIVOTDATA(\" BAS013\",TABLAS!$A$402)","v":1},{"$f":"+GETPIVOTDATA(\" BAS089\",TABLAS!$A$402)","v":1},{"$f":"+GETPIVOTDATA(\" BAS165\",TABLAS!$A$402)","v":0},{"$f":"+GETPIVOTDATA(\" BAS013\",TABLAS!$A$463)","v":0},{"$f":"+GETPIVOTDATA(\" BAS089\",TABLAS!$A$463)","v":0},{"$f":"+GETPIVOTDATA(\" BAS165\",TABLAS!$A$463)","v":0},{"$f":"+GETPIVOTDATA(\" BAS013\",TABLAS!$A$433)","v":4},{"$f":"+GETPIVOTDATA(\" BAS089\",TABLAS!$A$433)","v":10},{"$f":"+GETPIVOTDATA(\" BAS165\",TABLAS!$A$433)","v":0},{"$f":"+GETPIVOTDATA(\" BAS013\",TABLAS!$A$495)","v":0},{"$f":"+GETPIVOTDATA(\" BAS089\",TABLAS!$A$495)","v":0},{"$f":"+GETPIVOTDATA(\" BAS165\",TABLAS!$A$495)","v":0},{"$f":"+GETPIVOTDATA(\" BAS013\",TABLAS!$A$525)","v":0},{"$f":"+GETPIVOTDATA(\" BAS089\",TABLAS!$A$525)","v":0},{"$f":"+GETPIVOTDATA(\" BAS165\",TABLAS!$A$525)","v":0},{"$f":"SUM(C148:E148)","v":2},{"$f":"SUM(F148:H148)","v":0},{"$f":"SUM(I148:K148)","v":14},{"$f":"SUM(L148:N148)","v":0},{"$f":"SUM(O148:Q148)","v":0},{"$f":"+GETPIVOTDATA(\" BAS014\",TABLAS!$A$402)","v":2},{"$f":"+GETPIVOTDATA(\" BAS014\",TABLAS!$A$463)","v":0},{"$f":"+GETPIVOTDATA(\" BAS014\",TABLAS!$A$433)","v":14},{"$f":"+GETPIVOTDATA(\" BAS014\",TABLAS!$A$525)","v":0},{"$f":"+GETPIVOTDATA(\" BAS014\",TABLAS!$A$495)","v":0},{"$f":"+GETPIVOTDATA(\" BAS015\",TABLAS!$A$402)+GETPIVOTDATA(\" BAS015\",TABLAS!$A$433)+GETPIVOTDATA(\" BAS015\",TABLAS!$A$463)+GETPIVOTDATA(\" BAS015\",TABLAS!$A$495)+GETPIVOTDATA(\" BAS015\",TABLAS!$A$525)","v":2},{"$f":"+GETPIVOTDATA(\" BAS015\",TABLAS!$A$402)+GETPIVOTDATA(\" BAS015\",TABLAS!$A$433)+GETPIVOTDATA(\" BAS015\",TABLAS!$A$463)+GETPIVOTDATA(\" BAS015\",TABLAS!$A$495)+GETPIVOTDATA(\" BAS015\",TABLAS!$A$525)","v":2},null,null,null,null,null,null,null,null,null,null,null,null,{"$f":"+AP144+1","v":13},{"$f":"+AP148+1","v":14},{"$f":"+AQ148+1","v":15},16,null,{"$f":"IF(AP148<10,CONCATENATE(\"00\",AP148),IF(AND(AP148>9,AP148<100),CONCATENATE(\"0\",AP148),AP148))","v":"013"},"014","015","016",null,{"$f":"CONCATENATE($CQ$49,AU148,$CQ$50)","v":"=+IMPORTARDATOSDINAMICOS(\" BAS013\",TABLAS!$A$525)"},"=+IMPORTARDATOSDINAMICOS(\" BAS014\",TABLAS!$A$525)",{"$f":"CONCATENATE($CQ$49,AW148,$CQ$50)","v":"=+IMPORTARDATOSDINAMICOS(\" BAS015\",TABLAS!$A$525)"},{"$f":"CONCATENATE($CQ$49,AX148,$CQ$50)","v":"=+IMPORTARDATOSDINAMICOS(\" BAS016\",TABLAS!$A$525)"},null,null,null,null,null,null,null,null,null,null,null,"=+IMPORTARDATOSDINAMICOS(\" BAS014\",TABLAS!$A$402)","=+IMPORTARDATOSDINAMICOS(\" BAS014\",TABLAS!$A$433)","=+IMPORTARDATOSDINAMICOS(\" BAS014\",TABLAS!$A$463)","=+IMPORTARDATOSDINAMICOS(\" BAS014\",TABLAS!$A$495)","=+IMPORTARDATOSDINAMICOS(\" BAS014\",TABLAS!$A$525)",null,null,null,null,null,null,null,{"$f":"CONCATENATE(BO148,MID(BP148,2,50),MID(BQ148,2,50),MID(BR148,2,50),MID(BS148,2,50))","v":"=+IMPORTARDATOSDINAMICOS(\" BAS014\",TABLAS!$A$402)+IMPORTARDATOSDINAMICOS(\" BAS014\",TABLAS!$A$433)+IMPORTARDATOSDINAMICOS(\" BAS014\",TABLAS!$A$463)+IMPORTARDATOSDINAMICOS(\" BAS014\",TABLAS!$A$495)+IMPORTARDATOSDINAMICOS(\" BAS014\",TABLAS!$A$525)"},null,null,null,null,null,null,null,null,null,null,null,"=+IMPORTARDATOSDINAMICOS(\" BAS015\",TABLAS!$A$402)","=+IMPORTARDATOSDINAMICOS(\" BAS015\",TABLAS!$A$433)","=+IMPORTARDATOSDINAMICOS(\" BAS015\",TABLAS!$A$463)","=+IMPORTARDATOSDINAMICOS(\" BAS015\",TABLAS!$A$495)","=+IMPORTARDATOSDINAMICOS(\" BAS015\",TABLAS!$A$525)",null,null,null,null,null,null,null,{"$f":"CONCATENATE(CM148,MID(CN148,2,50),MID(CO148,2,50),MID(CP148,2,50),MID(CQ148,2,50))","v":"=+IMPORTARDATOSDINAMICOS(\" BAS015\",TABLAS!$A$402)+IMPORTARDATOSDINAMICOS(\" BAS015\",TABLAS!$A$433)+IMPORTARDATOSDINAMICOS(\" BAS015\",TABLAS!$A$463)+IMPORTARDATOSDINAMICOS(\" BAS015\",TABLAS!$A$495)+IMPORTARDATOSDINAMICOS(\" BAS015\",TABLAS!$A$525)"},null,null,null,null,"=+IMPORTARDATOSDINAMICOS(\" BAS016\",TABLAS!$A$402)","=+IMPORTARDATOSDINAMICOS(\" BAS016\",TABLAS!$A$433)","=+IMPORTARDATOSDINAMICOS(\" BAS016\",TABLAS!$A$463)","=+IMPORTARDATOSDINAMICOS(\" BAS016\",TABLAS!$A$495)","=+IMPORTARDATOSDINAMICOS(\" BAS016\",TABLAS!$A$525)",null,null,null,null,null,null,null,{"$f":"CONCATENATE(DD148,MID(DE148,2,50),MID(DF148,2,50),MID(DG148,2,50),MID(DH148,2,50))","v":"=+IMPORTARDATOSDINAMICOS(\" BAS016\",TABLAS!$A$402)+IMPORTARDATOSDINAMICOS(\" BAS016\",TABLAS!$A$433)+IMPORTARDATOSDINAMICOS(\" BAS016\",TABLAS!$A$463)+IMPORTARDATOSDINAMICOS(\" BAS016\",TABLAS!$A$495)+IMPORTARDATOSDINAMICOS(\" BAS016\",TABLAS!$A$525)"}]
[{"$f":"+A148+4","v":17},"CASOS DE DESCARGA URETRAL",{"$f":"+GETPIVOTDATA(\" BAS017\",TABLAS!$A$402)","v":0},{"$f":"+GETPIVOTDATA(\" BAS093\",TABLAS!$A$402)","v":0},{"$f":"+GETPIVOTDATA(\" BAS169\",TABLAS!$A$402)","v":0},{"$f":"+GETPIVOTDATA(\" BAS017\",TABLAS!$A$463)","v":0},{"$f":"+GETPIVOTDATA(\" BAS093\",TABLAS!$A$463)","v":0},{"$f":"+GETPIVOTDATA(\" BAS169\",TABLAS!$A$463)","v":0},{"$f":"+GETPIVOTDATA(\" BAS017\",TABLAS!$A$433)","v":0},{"$f":"+GETPIVOTDATA(\" BAS093\",TABLAS!$A$433)","v":0},{"$f":"+GETPIVOTDATA(\" BAS169\",TABLAS!$A$433)","v":0},{"$f":"+GETPIVOTDATA(\" BAS017\",TABLAS!$A$495)","v":0},{"$f":"+GETPIVOTDATA(\" BAS093\",TABLAS!$A$495)","v":0},{"$f":"+GETPIVOTDATA(\" BAS169\",TABLAS!$A$495)","v":0},{"$f":"+GETPIVOTDATA(\" BAS017\",TABLAS!$A$525)","v":0},{"$f":"+GETPIVOTDATA(\" BAS093\",TABLAS!$A$525)","v":0},{"$f":"+GETPIVOTDATA(\" BAS169\",TABLAS!$A$525)","v":0},{"$f":"SUM(C149:E149)","v":0},{"$f":"SUM(F149:H149)","v":0},null,{"$f":"SUM(L149:N149)","v":0},{"$f":"SUM(O149:Q149)","v":0},{"$f":"+GETPIVOTDATA(\" BAS018\",TABLAS!$A$402)","v":0},{"$f":"+GETPIVOTDATA(\" BAS018\",TABLAS!$A$463)","v":0},{"$f":"+GETPIVOTDATA(\" BAS018\",TABLAS!$A$433)+GETPIVOTDATA(\" BAS094\",TABLAS!$A$433)+GETPIVOTDATA(\" BAS158\",TABLAS!$A$433)","v":0},{"$f":"+GETPIVOTDATA(\" BAS018\",TABLAS!$A$525)","v":0},{"$f":"+GETPIVOTDATA(\" BAS018\",TABLAS!$A$495)","v":0},{"$f":"+GETPIVOTDATA(\" BAS019\",TABLAS!$A$402)+GETPIVOTDATA(\" BAS019\",TABLAS!$A$433)+GETPIVOTDATA(\" BAS019\",TABLAS!$A$463)+GETPIVOTDATA(\" BAS019\",TABLAS!$A$495)+GETPIVOTDATA(\" BAS019\",TABLAS!$A$525)","v":0},{"$f":"+GETPIVOTDATA(\" BAS020\",TABLAS!$A$402)+GETPIVOTDATA(\" BAS020\",TABLAS!$A$433)+GETPIVOTDATA(\" BAS020\",TABLAS!$A$463)+GETPIVOTDATA(\" BAS020\",TABLAS!$A$495)+GETPIVOTDATA(\" BAS020\",TABLAS!$A$525)","v":0},null,null,null,null,null,null,null,null,null,null,null,null,{"$f":"+AS148+1","v":17},{"$f":"+AP149+1","v":18},{"$f":"+AQ149+1","v":19},20,null,"017","018","019","020",null,{"$f":"CONCATENATE($CQ$49,AU149,$CQ$50)","v":"=+IMPORTARDATOSDINAMICOS(\" BAS017\",TABLAS!$A$525)"},{"$f":"CONCATENATE($CQ$49,AV149,$CQ$50)","v":"=+IMPORTARDATOSDINAMICOS(\" BAS018\",TABLAS!$A$525)"},{"$f":"CONCATENATE($CQ$49,AW149,$CQ$50)","v":"=+IMPORTARDATOSDINAMICOS(\" BAS019\",TABLAS!$A$525)"},{"$f":"CONCATENATE($CQ$49,AX149,$CQ$50)","v":"=+IMPORTARDATOSDINAMICOS(\" BAS020\",TABLAS!$A$525)"},null,null,null,null,null,null,null,null,null,null,null,"=+IMPORTARDATOSDINAMICOS(\" BAS018\",TABLAS!$A$402)","=+IMPORTARDATOSDINAMICOS(\" BAS018\",TABLAS!$A$433)","=+IMPORTARDATOSDINAMICOS(\" BAS018\",TABLAS!$A$463)","=+IMPORTARDATOSDINAMICOS(\" BAS018\",TABLAS!$A$495)","=+IMPORTARDATOSDINAMICOS(\" BAS018\",TABLAS!$A$525)",null,null,null,null,null,null,null,{"$f":"CONCATENATE(BO149,MID(BP149,2,50),MID(BQ149,2,50),MID(BR149,2,50),MID(BS149,2,50))","v":"=+IMPORTARDATOSDINAMICOS(\" BAS018\",TABLAS!$A$402)+IMPORTARDATOSDINAMICOS(\" BAS018\",TABLAS!$A$433)+IMPORTARDATOSDINAMICOS(\" BAS018\",TABLAS!$A$463)+IMPORTARDATOSDINAMICOS(\" BAS018\",TABLAS!$A$495)+IMPORTARDATOSDINAMICOS(\" BAS018\",TABLAS!$A$525)"},null,null,null,null,null,null,null,null,null,null,null,"=+IMPORTARDATOSDINAMICOS(\" BAS019\",TABLAS!$A$402)","=+IMPORTARDATOSDINAMICOS(\" BAS019\",TABLAS!$A$433)","=+IMPORTARDATOSDINAMICOS(\" BAS019\",TABLAS!$A$463)","=+IMPORTARDATOSDINAMICOS(\" BAS019\",TABLAS!$A$495)","=+IMPORTARDATOSDINAMICOS(\" BAS019\",TABLAS!$A$525)",null,null,null,null,null,null,null,{"$f":"CONCATENATE(CM149,MID(CN149,2,50),MID(CO149,2,50),MID(CP149,2,50),MID(CQ149,2,50))","v":"=+IMPORTARDATOSDINAMICOS(\" BAS019\",TABLAS!$A$402)+IMPORTARDATOSDINAMICOS(\" BAS019\",TABLAS!$A$433)+IMPORTARDATOSDINAMICOS(\" BAS019\",TABLAS!$A$463)+IMPORTARDATOSDINAMICOS(\" BAS019\",TABLAS!$A$495)+IMPORTARDATOSDINAMICOS(\" BAS019\",TABLAS!$A$525)"},null,null,null,null,"=+IMPORTARDATOSDINAMICOS(\" BAS020\",TABLAS!$A$402)","=+IMPORTARDATOSDINAMICOS(\" BAS020\",TABLAS!$A$433)","=+IMPORTARDATOSDINAMICOS(\" BAS020\",TABLAS!$A$463)","=+IMPORTARDATOSDINAMICOS(\" BAS020\",TABLAS!$A$495)","=+IMPORTARDATOSDINAMICOS(\" BAS020\",TABLAS!$A$525)",null,null,null,null,null,null,null,{"$f":"CONCATENATE(DD149,MID(DE149,2,50),MID(DF149,2,50),MID(DG149,2,50),MID(DH149,2,50))","v":"=+IMPORTARDATOSDINAMICOS(\" BAS020\",TABLAS!$A$402)+IMPORTARDATOSDINAMICOS(\" BAS020\",TABLAS!$A$433)+IMPORTARDATOSDINAMICOS(\" BAS020\",TABLAS!$A$463)+IMPORTARDATOSDINAMICOS(\" BAS020\",TABLAS!$A$495)+IMPORTARDATOSDINAMICOS(\" BAS020\",TABLAS!$A$525)"}]
[{"$f":"+A149+4","v":21},"CASOS DE FLUJO VAGINAL COMPATIBLE CON ITS",{"$f":"+GETPIVOTDATA(\" BAS021\",TABLAS!$A$402)","v":0},{"$f":"+GETPIVOTDATA(\" BAS097\",TABLAS!$A$402)","v":0},{"$f":"+GETPIVOTDATA(\" BAS173\",TABLAS!$A$402)","v":0},{"$f":"+GETPIVOTDATA(\" BAS021\",TABLAS!$A$463)","v":0},{"$f":"+GETPIVOTDATA(\" BAS097\",TABLAS!$A$463)","v":0},{"$f":"+GETPIVOTDATA(\" BAS173\",TABLAS!$A$463)","v":0},{"$f":"+GETPIVOTDATA(\" BAS021\",TABLAS!$A$433)","v":4},{"$f":"+GETPIVOTDATA(\" BAS097\",TABLAS!$A$433)","v":10},{"$f":"+GETPIVOTDATA(\" BAS173\",TABLAS!$A$433)","v":0},{"$f":"+GETPIVOTDATA(\" BAS021\",TABLAS!$A$495)","v":0},{"$f":"+GETPIVOTDATA(\" BAS097\",TABLAS!$A$495)","v":0},{"$f":"+GETPIVOTDATA(\" BAS173\",TABLAS!$A$495)","v":0},{"$f":"+GETPIVOTDATA(\" BAS021\",TABLAS!$A$525)","v":0},{"$f":"+GETPIVOTDATA(\" BAS097\",TABLAS!$A$525)","v":0},{"$f":"+GETPIVOTDATA(\" BAS173\",TABLAS!$A$525)","v":0},null,null,{"$f":"SUM(I150:K150)","v":14},null,null,{"$f":"+GETPIVOTDATA(\" BAS022\",TABLAS!$A$402)","v":0},{"$f":"+GETPIVOTDATA(\" BAS022\",TABLAS!$A$463)","v":0},{"$f":"+GETPIVOTDATA(\" BAS022\",TABLAS!$A$433)","v":14},{"$f":"+GETPIVOTDATA(\" BAS022\",TABLAS!$A$525)","v":0},{"$f":"+GETPIVOTDATA(\" BAS022\",TABLAS!$A$495)","v":0},{"$f":"+GETPIVOTDATA(\" BAS023\",TABLAS!$A$402)+GETPIVOTDATA(\" BAS023\",TABLAS!$A$433)+GETPIVOTDATA(\" BAS023\",TABLAS!$A$463)+GETPIVOTDATA(\" BAS023\",TABLAS!$A$495)+GETPIVOTDATA(\" BAS023\",TABLAS!$A$525)","v":1},{"$f":"+GETPIVOTDATA(\" BAS024\",TABLAS!$A$402)+GETPIVOTDATA(\" BAS024\",TABLAS!$A$433)+GETPIVOTDATA(\" BAS024\",TABLAS!$A$463)+GETPIVOTDATA(\" BAS024\",TABLAS!$A$495)+GETPIVOTDATA(\" BAS024\",TABLAS!$A$525)","v":1},null,null,null,null,null,null,null,null,null,null,null,null,{"$f":"+AS149+1","v":21},{"$f":"+AP150+1","v":22},{"$f":"+AQ150+1","v":23},{"$f":"+AR150+1","v":24},null,{"$f":"IF(AP150<10,CONCATENATE(\"00\",AP150),IF(AND(AP150>9,AP150<100),CONCATENATE(\"0\",AP150),AP150))","v":"021"},{"$f":"IF(AQ150<10,CONCATENATE(\"00\",AQ150),IF(AND(AQ150>9,AQ150<100),CONCATENATE(\"0\",AQ150),AQ150))","v":"022"},{"$f":"IF(AR150<10,CONCATENATE(\"00\",AR150),IF(AND(AR150>9,AR150<100),CONCATENATE(\"0\",AR150),AR150))","v":"023"},{"$f":"IF(AS150<10,CONCATENATE(\"00\",AS150),IF(AND(AS150>9,AS150<100),CONCATENATE(\"0\",AS150),AS150))","v":"024"},null,"=+IMPORTARDATOSDINAMICOS(\" BAS021\",TABLAS!$A$525)","=+IMPORTARDATOSDINAMICOS(\" BAS022\",TABLAS!$A$525)","=+IMPORTARDATOSDINAMICOS(\" BAS023\",TABLAS!$A$525)","=+IMPORTARDATOSDINAMICOS(\" BAS024\",TABLAS!$A$525)",null,null,null,null,null,null,null,null,null,null,null,"=+IMPORTARDATOSDINAMICOS(\" BAS022\",TABLAS!$A$402)","=+IMPORTARDATOSDINAMICOS(\" BAS022\",TABLAS!$A$433)","=+IMPORTARDATOSDINAMICOS(\" BAS022\",TABLAS!$A$463)","=+IMPORTARDATOSDINAMICOS(\" BAS022\",TABLAS!$A$495)","=+IMPORTARDATOSDINAMICOS(\" BAS022\",TABLAS!$A$525)",null,null,null,null,null,null,null,"=+IMPORTARDATOSDINAMICOS(\" BAS022\",TABLAS!$A$402)+IMPORTARDATOSDINAMICOS(\" BAS022\",TABLAS!$A$433)+IMPORTARDATOSDINAMICOS(\" BAS022\",TABLAS!$A$463)+IMPORTARDATOSDINAMICOS(\" BAS022\",TABLAS!$A$495)+IMPORTARDATOSDINAMICOS(\" BAS022\",TABLAS!$A$525)",null,null,null,null,null,null,null,null,null,null,null,"=+IMPORTARDATOSDINAMICOS(\" BAS023\",TABLAS!$A$402)","=+IMPORTARDATOSDINAMICOS(\" BAS023\",TABLAS!$A$433)","=+IMPORTARDATOSDINAMICOS(\" BAS023\",TABLAS!$A$463)","=+IMPORTARDATOSDINAMICOS(\" BAS023\",TABLAS!$A$495)","=+IMPORTARDATOSDINAMICOS(\" BAS023\",TABLAS!$A$525)",null,null,null,null,null,null,null,"=+IMPORTARDATOSDINAMICOS(\" BAS023\",TABLAS!$A$402)+IMPORTARDATOSDINAMICOS(\" BAS023\",TABLAS!$A$433)+IMPORTARDATOSDINAMICOS(\" BAS023\",TABLAS!$A$463)+IMPORTARDATOSDINAMICOS(\" BAS023\",TABLAS!$A$495)+IMPORTARDATOSDINAMICOS(\" BAS023\",TABLAS!$A$525)",null,null,null,null,"=+IMPORTARDATOSDINAMICOS(\" BAS024\",TABLAS!$A$402)","=+IMPORTARDATOSDINAMICOS(\" BAS024\",TABLAS!$A$433)","=+IMPORTARDATOSDINAMICOS(\" BAS024\",TABLAS!$A$463)","=+IMPORTARDATOSDINAMICOS(\" BAS024\",TABLAS!$A$495)","=+IMPORTARDATOSDINAMICOS(\" BAS024\",TABLAS!$A$525)",null,null,null,null,null,null,null,"=+IMPORTARDATOSDINAMICOS(\" BAS024\",TABLAS!$A$402)+IMPORTARDATOSDINAMICOS(\" BAS024\",TABLAS!$A$433)+IMPORTARDATOSDINAMICOS(\" BAS024\",TABLAS!$A$463)+IMPORTARDATOSDINAMICOS(\" BAS024\",TABLAS!$A$495)+IMPORTARDATOSDINAMICOS(\" BAS024\",TABLAS!$A$525)"]
[25,"CASOS DE ULCERA GENITAL",{"$f":"+GETPIVOTDATA(\" BAS025\",TABLAS!$A$402)","v":1},{"$f":"+GETPIVOTDATA(\" BAS101\",TABLAS!$A$402)","v":1},{"$f":"+GETPIVOTDATA(\" BAS177\",TABLAS!$A$402)","v":0},{"$f":"+GETPIVOTDATA(\" BAS025\",TABLAS!$A$463)","v":0},{"$f":"+GETPIVOTDATA(\" BAS101\",TABLAS!$A$463)","v":0},{"$f":"+GETPIVOTDATA(\" BAS177\",TABLAS!$A$463)","v":0},{"$f":"+GETPIVOTDATA(\" BAS025\",TABLAS!$A$433)","v":0},{"$f":"+GETPIVOTDATA(\" BAS101\",TABLAS!$A$433)","v":0},{"$f":"+GETPIVOTDATA(\" BAS177\",TABLAS!$A$433)","v":0},{"$f":"+GETPIVOTDATA(\" BAS025\",TABLAS!$A$495)","v":0},{"$f":"+GETPIVOTDATA(\" BAS101\",TABLAS!$A$495)","v":0},{"$f":"+GETPIVOTDATA(\" BAS177\",TABLAS!$A$495)","v":0},{"$f":"+GETPIVOTDATA(\" BAS025\",TABLAS!$A$525)","v":0},{"$f":"+GETPIVOTDATA(\" BAS101\",TABLAS!$A$525)","v":0},{"$f":"+GETPIVOTDATA(\" BAS177\",TABLAS!$A$525)","v":0},2,0,0,0,0,{"$f":"+GETPIVOTDATA(\" BAS026\",TABLAS!$A$402)","v":2},{"$f":"+GETPIVOTDATA(\" BAS026\",TABLAS!$A$463)","v":0},{"$f":"+GETPIVOTDATA(\" BAS026\",TABLAS!$A$433)","v":0},{"$f":"+GETPIVOTDATA(\" BAS026\",TABLAS!$A$525)","v":0},{"$f":"+GETPIVOTDATA(\" BAS026\",TABLAS!$A$495)","v":0},{"$f":"+GETPIVOTDATA(\" BAS027\",TABLAS!$A$402)+GETPIVOTDATA(\" BAS027\",TABLAS!$A$433)+GETPIVOTDATA(\" BAS027\",TABLAS!$A$463)+GETPIVOTDATA(\" BAS027\",TABLAS!$A$495)+GETPIVOTDATA(\" BAS027\",TABLAS!$A$525)","v":1},{"$f":"+GETPIVOTDATA(\" BAS028\",TABLAS!$A$402)+GETPIVOTDATA(\" BAS028\",TABLAS!$A$433)+GETPIVOTDATA(\" BAS028\",TABLAS!$A$463)+GETPIVOTDATA(\" BAS028\",TABLAS!$A$495)+GETPIVOTDATA(\" BAS028\",TABLAS!$A$525)","v":1},null,null,null,null,null,null,null,null,null,null,null,null,25,26,27,28,null,{"$f":"IF(AP151<10,CONCATENATE(\"00\",AP151),IF(AND(AP151>9,AP151<100),CONCATENATE(\"0\",AP151),AP151))","v":"025"},"026","027","028",null,"=+IMPORTARDATOSDINAMICOS(\" BAS025\",TABLAS!$A$525)","=+IMPORTARDATOSDINAMICOS(\" BAS026\",TABLAS!$A$525)","=+IMPORTARDATOSDINAMICOS(\" BAS027\",TABLAS!$A$525)","=+IMPORTARDATOSDINAMICOS(\" BAS028\",TABLAS!$A$525)",null,null,null,null,null,null,null,null,null,null,null,"=+IMPORTARDATOSDINAMICOS(\" BAS026\",TABLAS!$A$402)","=+IMPORTARDATOSDINAMICOS(\" BAS026\",TABLAS!$A$433)","=+IMPORTARDATOSDINAMICOS(\" BAS026\",TABLAS!$A$463)","=+IMPORTARDATOSDINAMICOS(\" BAS026\",TABLAS!$A$495)","=+IMPORTARDATOSDINAMICOS(\" BAS026\",TABLAS!$A$525)",null,null,null,null,null,null,null,"=+IMPORTARDATOSDINAMICOS(\" BAS026\",TABLAS!$A$402)+IMPORTARDATOSDINAMICOS(\" BAS026\",TABLAS!$A$433)+IMPORTARDATOSDINAMICOS(\" BAS026\",TABLAS!$A$463)+IMPORTARDATOSDINAMICOS(\" BAS026\",TABLAS!$A$495)+IMPORTARDATOSDINAMICOS(\" BAS026\",TABLAS!$A$525)",null,null,null,null,null,null,null,null,null,null,null,"=+IMPORTARDATOSDINAMICOS(\" BAS027\",TABLAS!$A$402)","=+IMPORTARDATOSDINAMICOS(\" BAS027\",TABLAS!$A$433)","=+IMPORTARDATOSDINAMICOS(\" BAS027\",TABLAS!$A$463)","=+IMPORTARDATOSDINAMICOS(\" BAS027\",TABLAS!$A$495)","=+IMPORTARDATOSDINAMICOS(\" BAS027\",TABLAS!$A$525)",null,null,null,null,null,null,null,"=+IMPORTARDATOSDINAMICOS(\" BAS027\",TABLAS!$A$402)+IMPORTARDATOSDINAMICOS(\" BAS027\",TABLAS!$A$433)+IMPORTARDATOSDINAMICOS(\" BAS027\",TABLAS!$A$463)+IMPORTARDATOSDINAMICOS(\" BAS027\",TABLAS!$A$495)+IMPORTARDATOSDINAMICOS(\" BAS027\",TABLAS!$A$525)",null,null,null,null,"=+IMPORTARDATOSDINAMICOS(\" BAS028\",TABLAS!$A$402)","=+IMPORTARDATOSDINAMICOS(\" BAS028\",TABLAS!$A$433)","=+IMPORTARDATOSDINAMICOS(\" BAS028\",TABLAS!$A$463)","=+IMPORTARDATOSDINAMICOS(\" BAS028\",TABLAS!$A$495)","=+IMPORTARDATOSDINAMICOS(\" BAS028\",TABLAS!$A$525)",null,null,null,null,null,null,null,"=+IMPORTARDATOSDINAMICOS(\" BAS028\",TABLAS!$A$402)+IMPORTARDATOSDINAMICOS(\" BAS028\",TABLAS!$A$433)+IMPORTARDATOSDINAMICOS(\" BAS028\",TABLAS!$A$463)+IMPORTARDATOSDINAMICOS(\" BAS028\",TABLAS!$A$495)+IMPORTARDATOSDINAMICOS(\" BAS028\",TABLAS!$A$525)"]
[29,"CASOS DE BUBON INGUINAL",{"$f":"+GETPIVOTDATA(\" BAS029\",TABLAS!$A$402)","v":0},{"$f":"+GETPIVOTDATA(\" BAS105\",TABLAS!$A$402)","v":0},{"$f":"+GETPIVOTDATA(\" BAS181\",TABLAS!$A$402)","v":0},{"$f":"+GETPIVOTDATA(\" BAS029\",TABLAS!$A$463)","v":0},{"$f":"+GETPIVOTDATA(\" BAS105\",TABLAS!$A$463)","v":0},{"$f":"+GETPIVOTDATA(\" BAS181\",TABLAS!$A$463)","v":0},{"$f":"+GETPIVOTDATA(\" BAS029\",TABLAS!$A$433)","v":0},{"$f":"+GETPIVOTDATA(\" BAS105\",TABLAS!$A$433)","v":0},{"$f":"+GETPIVOTDATA(\" BAS181\",TABLAS!$A$433)","v":0},{"$f":"+GETPIVOTDATA(\" BAS029\",TABLAS!$A$495)","v":0},{"$f":"+GETPIVOTDATA(\" BAS105\",TABLAS!$A$495)","v":0},{"$f":"+GETPIVOTDATA(\" BAS181\",TABLAS!$A$495)","v":0},{"$f":"+GETPIVOTDATA(\" BAS029\",TABLAS!$A$525)","v":0},{"$f":"+GETPIVOTDATA(\" BAS105\",TABLAS!$A$525)","v":0},{"$f":"+GETPIVOTDATA(\" BAS181\",TABLAS!$A$525)","v":0},0,0,0,0,0,{"$f":"+GETPIVOTDATA(\" BAS030\",TABLAS!$A$402)","v":0},{"$f":"+GETPIVOTDATA(\" BAS030\",TABLAS!$A$463)","v":0},{"$f":"+GETPIVOTDATA(\" BAS030\",TABLAS!$A$433)","v":0},{"$f":"+GETPIVOTDATA(\" BAS030\",TABLAS!$A$525)","v":0},{"$f":"+GETPIVOTDATA(\" BAS030\",TABLAS!$A$495)","v":0},{"$f":"+GETPIVOTDATA(\" BAS031\",TABLAS!$A$402)+GETPIVOTDATA(\" BAS031\",TABLAS!$A$433)+GETPIVOTDATA(\" BAS031\",TABLAS!$A$463)+GETPIVOTDATA(\" BAS031\",TABLAS!$A$495)+GETPIVOTDATA(\" BAS031\",TABLAS!$A$525)","v":0},{"$f":"+GETPIVOTDATA(\" BAS032\",TABLAS!$A$402)+GETPIVOTDATA(\" BAS032\",TABLAS!$A$433)+GETPIVOTDATA(\" BAS032\",TABLAS!$A$463)+GETPIVOTDATA(\" BAS032\",TABLAS!$A$495)+GETPIVOTDATA(\" BAS032\",TABLAS!$A$525)","v":0},null,null,null,null,null,null,null,null,null,null,null,null,29,30,31,32,null,"029","030","031","032",null,"=+IMPORTARDATOSDINAMICOS(\" BAS029\",TABLAS!$A$525)","=+IMPORTARDATOSDINAMICOS(\" BAS030\",TABLAS!$A$525)","=+IMPORTARDATOSDINAMICOS(\" BAS031\",TABLAS!$A$525)","=+IMPORTARDATOSDINAMICOS(\" BAS032\",TABLAS!$A$525)",null,null,null,null,null,null,null,null,null,null,null,"=+IMPORTARDATOSDINAMICOS(\" BAS030\",TABLAS!$A$402)","=+IMPORTARDATOSDINAMICOS(\" BAS030\",TABLAS!$A$433)","=+IMPORTARDATOSDINAMICOS(\" BAS030\",TABLAS!$A$463)","=+IMPORTARDATOSDINAMICOS(\" BAS030\",TABLAS!$A$495)","=+IMPORTARDATOSDINAMICOS(\" BAS030\",TABLAS!$A$525)",null,null,null,null,null,null,null,"=+IMPORTARDATOSDINAMICOS(\" BAS030\",TABLAS!$A$402)+IMPORTARDATOSDINAMICOS(\" BAS030\",TABLAS!$A$433)+IMPORTARDATOSDINAMICOS(\" BAS030\",TABLAS!$A$463)+IMPORTARDATOSDINAMICOS(\" BAS030\",TABLAS!$A$495)+IMPORTARDATOSDINAMICOS(\" BAS030\",TABLAS!$A$525)",null,null,null,null,null,null,null,null,null,null,null,"=+IMPORTARDATOSDINAMICOS(\" BAS031\",TABLAS!$A$402)","=+IMPORTARDATOSDINAMICOS(\" BAS031\",TABLAS!$A$433)","=+IMPORTARDATOSDINAMICOS(\" BAS031\",TABLAS!$A$463)","=+IMPORTARDATOSDINAMICOS(\" BAS031\",TABLAS!$A$495)","=+IMPORTARDATOSDINAMICOS(\" BAS031\",TABLAS!$A$525)",null,null,null,null,null,null,null,"=+IMPORTARDATOSDINAMICOS(\" BAS031\",TABLAS!$A$402)+IMPORTARDATOSDINAMICOS(\" BAS031\",TABLAS!$A$433)+IMPORTARDATOSDINAMICOS(\" BAS031\",TABLAS!$A$463)+IMPORTARDATOSDINAMICOS(\" BAS031\",TABLAS!$A$495)+IMPORTARDATOSDINAMICOS(\" BAS031\",TABLAS!$A$525)",null,null,null,null,"=+IMPORTARDATOSDINAMICOS(\" BAS032\",TABLAS!$A$402)","=+IMPORTARDATOSDINAMICOS(\" BAS032\",TABLAS!$A$433)","=+IMPORTARDATOSDINAMICOS(\" BAS032\",TABLAS!$A$463)","=+IMPORTARDATOSDINAMICOS(\" BAS032\",TABLAS!$A$495)","=+IMPORTARDATOSDINAMICOS(\" BAS032\",TABLAS!$A$525)",null,null,null,null,null,null,null,"=+IMPORTARDATOSDINAMICOS(\" BAS032\",TABLAS!$A$402)+IMPORTARDATOSDINAMICOS(\" BAS032\",TABLAS!$A$433)+IMPORTARDATOSDINAMICOS(\" BAS032\",TABLAS!$A$463)+IMPORTARDATOSDINAMICOS(\" BAS032\",TABLAS!$A$495)+IMPORTARDATOSDINAMICOS(\" BAS032\",TABLAS!$A$525)"]
[33,"CASOS DE SINDROME DE DOLOR ABDOMINAL BAJO",{"$f":"+GETPIVOTDATA(\" BAS033\",TABLAS!$A$402)","v":0},{"$f":"+GETPIVOTDATA(\" BAS109\",TABLAS!$A$402)","v":0},{"$f":"+GETPIVOTDATA(\" BAS185\",TABLAS!$A$402)","v":0},{"$f":"+GETPIVOTDATA(\" BAS033\",TABLAS!$A$463)","v":0},{"$f":"+GETPIVOTDATA(\" BAS109\",TABLAS!$A$463)","v":0},{"$f":"+GETPIVOTDATA(\" BAS185\",TABLAS!$A$463)","v":0},{"$f":"+GETPIVOTDATA(\" BAS033\",TABLAS!$A$433)","v":0},{"$f":"+GETPIVOTDATA(\" BAS109\",TABLAS!$A$433)","v":0},{"$f":"+GETPIVOTDATA(\" BAS185\",TABLAS!$A$433)","v":0},{"$f":"+GETPIVOTDATA(\" BAS033\",TABLAS!$A$495)","v":0},{"$f":"+GETPIVOTDATA(\" BAS109\",TABLAS!$A$495)","v":0},{"$f":"+GETPIVOTDATA(\" BAS185\",TABLAS!$A$495)","v":0},{"$f":"+GETPIVOTDATA(\" BAS033\",TABLAS!$A$525)","v":0},{"$f":"+GETPIVOTDATA(\" BAS109\",TABLAS!$A$525)","v":0},{"$f":"+GETPIVOTDATA(\" BAS185\",TABLAS!$A$525)","v":0},null,null,0,null,null,{"$f":"+GETPIVOTDATA(\" BAS034\",TABLAS!$A$402)","v":0},{"$f":"+GETPIVOTDATA(\" BAS034\",TABLAS!$A$463)","v":0},{"$f":"+GETPIVOTDATA(\" BAS034\",TABLAS!$A$433)","v":0},{"$f":"+GETPIVOTDATA(\" BAS034\",TABLAS!$A$525)","v":0},{"$f":"+GETPIVOTDATA(\" BAS034\",TABLAS!$A$495)","v":0},{"$f":"+GETPIVOTDATA(\" BAS035\",TABLAS!$A$402)+GETPIVOTDATA(\" BAS035\",TABLAS!$A$433)+GETPIVOTDATA(\" BAS035\",TABLAS!$A$463)+GETPIVOTDATA(\" BAS035\",TABLAS!$A$495)+GETPIVOTDATA(\" BAS035\",TABLAS!$A$525)","v":0},{"$f":"+GETPIVOTDATA(\" BAS036\",TABLAS!$A$402)+GETPIVOTDATA(\" BAS036\",TABLAS!$A$433)+GETPIVOTDATA(\" BAS036\",TABLAS!$A$463)+GETPIVOTDATA(\" BAS036\",TABLAS!$A$495)+GETPIVOTDATA(\" BAS036\",TABLAS!$A$525)","v":0},null,null,null,null,null,null,null,null,null,null,null,null,33,34,35,36,null,{"$f":"IF(AP153<10,CONCATENATE(\"00\",AP153),IF(AND(AP153>9,AP153<100),CONCATENATE(\"0\",AP153),AP153))","v":"033"},{"$f":"IF(AQ153<10,CONCATENATE(\"00\",AQ153),IF(AND(AQ153>9,AQ153<100),CONCATENATE(\"0\",AQ153),AQ153))","v":"034"},{"$f":"IF(AR153<10,CONCATENATE(\"00\",AR153),IF(AND(AR153>9,AR153<100),CONCATENATE(\"0\",AR153),AR153))","v":"035"},{"$f":"IF(AS153<10,CONCATENATE(\"00\",AS153),IF(AND(AS153>9,AS153<100),CONCATENATE(\"0\",AS153),AS153))","v":"036"},null,"=+IMPORTARDATOSDINAMICOS(\" BAS033\",TABLAS!$A$525)","=+IMPORTARDATOSDINAMICOS(\" BAS034\",TABLAS!$A$525)","=+IMPORTARDATOSDINAMICOS(\" BAS035\",TABLAS!$A$525)","=+IMPORTARDATOSDINAMICOS(\" BAS036\",TABLAS!$A$525)",null,null,null,null,null,null,null,null,null,null,null,"=+IMPORTARDATOSDINAMICOS(\" BAS034\",TABLAS!$A$402)","=+IMPORTARDATOSDINAMICOS(\" BAS034\",TABLAS!$A$433)","=+IMPORTARDATOSDINAMICOS(\" BAS034\",TABLAS!$A$463)","=+IMPORTARDATOSDINAMICOS(\" BAS034\",TABLAS!$A$495)","=+IMPORTARDATOSDINAMICOS(\" BAS034\",TABLAS!$A$525)",null,null,null,null,null,null,null,"=+IMPORTARDATOSDINAMICOS(\" BAS034\",TABLAS!$A$402)+IMPORTARDATOSDINAMICOS(\" BAS034\",TABLAS!$A$433)+IMPORTARDATOSDINAMICOS(\" BAS034\",TABLAS!$A$463)+IMPORTARDATOSDINAMICOS(\" BAS034\",TABLAS!$A$495)+IMPORTARDATOSDINAMICOS(\" BAS034\",TABLAS!$A$525)",null,null,null,null,null,null,null,null,null,null,null,"=+IMPORTARDATOSDINAMICOS(\" BAS035\",TABLAS!$A$402)","=+IMPORTARDATOSDINAMICOS(\" BAS035\",TABLAS!$A$433)","=+IMPORTARDATOSDINAMICOS(\" BAS035\",TABLAS!$A$463)","=+IMPORTARDATOSDINAMICOS(\" BAS035\",TABLAS!$A$495)","=+IMPORTARDATOSDINAMICOS(\" BAS035\",TABLAS!$A$525)",null,null,null,null,null,null,null,"=+IMPORTARDATOSDINAMICOS(\" BAS035\",TABLAS!$A$402)+IMPORTARDATOSDINAMICOS(\" BAS035\",TABLAS!$A$433)+IMPORTARDATOSDINAMICOS(\" BAS035\",TABLAS!$A$463)+IMPORTARDATOSDINAMICOS(\" BAS035\",TABLAS!$A$495)+IMPORTARDATOSDINAMICOS(\" BAS035\",TABLAS!$A$525)",null,null,null,null,"=+IMPORTARDATOSDINAMICOS(\" BAS036\",TABLAS!$A$402)","=+IMPORTARDATOSDINAMICOS(\" BAS036\",TABLAS!$A$433)","=+IMPORTARDATOSDINAMICOS(\" BAS036\",TABLAS!$A$463)","=+IMPORTARDATOSDINAMICOS(\" BAS036\",TABLAS!$A$495)","=+IMPORTARDATOSDINAMICOS(\" BAS036\",TABLAS!$A$525)",null,null,null,null,null,null,null,"=+IMPORTARDATOSDINAMICOS(\" BAS036\",TABLAS!$A$402)+IMPORTARDATOSDINAMICOS(\" BAS036\",TABLAS!$A$433)+IMPORTARDATOSDINAMICOS(\" BAS036\",TABLAS!$A$463)+IMPORTARDATOSDINAMICOS(\" BAS036\",TABLAS!$A$495)+IMPORTARDATOSDINAMICOS(\" BAS036\",TABLAS!$A$525)"]
[37,"CASOS DE CONDILOMA",{"$f":"+GETPIVOTDATA(\" BAS037\",TABLAS!$A$402)","v":0},{"$f":"+GETPIVOTDATA(\" BAS113\",TABLAS!$A$402)","v":0},{"$f":"+GETPIVOTDATA(\" BAS189\",TABLAS!$A$402)","v":0},{"$f":"+GETPIVOTDATA(\" BAS037\",TABLAS!$A$463)","v":0},{"$f":"+GETPIVOTDATA(\" BAS113\",TABLAS!$A$463)","v":0},{"$f":"+GETPIVOTDATA(\" BAS189\",TABLAS!$A$463)","v":0},{"$f":"+GETPIVOTDATA(\" BAS037\",TABLAS!$A$433)","v":0},{"$f":"+GETPIVOTDATA(\" BAS113\",TABLAS!$A$433)","v":0},{"$f":"+GETPIVOTDATA(\" BAS189\",TABLAS!$A$433)","v":0},{"$f":"+GETPIVOTDATA(\" BAS037\",TABLAS!$A$495)","v":0},{"$f":"+GETPIVOTDATA(\" BAS113\",TABLAS!$A$495)","v":0},{"$f":"+GETPIVOTDATA(\" BAS189\",TABLAS!$A$495)","v":0},{"$f":"+GETPIVOTDATA(\" BAS037\",TABLAS!$A$525)","v":0},{"$f":"+GETPIVOTDATA(\" BAS113\",TABLAS!$A$525)","v":0},{"$f":"+GETPIVOTDATA(\" BAS189\",TABLAS!$A$525)","v":0},0,0,0,0,0,{"$f":"+GETPIVOTDATA(\" BAS038\",TABLAS!$A$402)","v":0},{"$f":"+GETPIVOTDATA(\" BAS038\",TABLAS!$A$463)","v":0},{"$f":"+GETPIVOTDATA(\" BAS038\",TABLAS!$A$433)","v":0},{"$f":"+GETPIVOTDATA(\" BAS038\",TABLAS!$A$525)","v":0},{"$f":"+GETPIVOTDATA(\" BAS038\",TABLAS!$A$495)","v":0},{"$f":"+GETPIVOTDATA(\" BAS039\",TABLAS!$A$402)+GETPIVOTDATA(\" BAS039\",TABLAS!$A$433)+GETPIVOTDATA(\" BAS039\",TABLAS!$A$463)+GETPIVOTDATA(\" BAS039\",TABLAS!$A$495)+GETPIVOTDATA(\" BAS039\",TABLAS!$A$525)","v":0},{"$f":"+GETPIVOTDATA(\" BAS040\",TABLAS!$A$402)+GETPIVOTDATA(\" BAS040\",TABLAS!$A$433)+GETPIVOTDATA(\" BAS040\",TABLAS!$A$463)+GETPIVOTDATA(\" BAS040\",TABLAS!$A$495)+GETPIVOTDATA(\" BAS040\",TABLAS!$A$525)","v":0},null,null,null,null,null,null,null,null,null,null,null,null,37,38,39,40,null,{"$f":"IF(AP154<10,CONCATENATE(\"00\",AP154),IF(AND(AP154>9,AP154<100),CONCATENATE(\"0\",AP154),AP154))","v":"037"},"038","039","040",null,"=+IMPORTARDATOSDINAMICOS(\" BAS037\",TABLAS!$A$525)","=+IMPORTARDATOSDINAMICOS(\" BAS038\",TABLAS!$A$525)","=+IMPORTARDATOSDINAMICOS(\" BAS039\",TABLAS!$A$525)","=+IMPORTARDATOSDINAMICOS(\" BAS040\",TABLAS!$A$525)",null,null,null,null,null,null,null,null,null,null,null,"=+IMPORTARDATOSDINAMICOS(\" BAS038\",TABLAS!$A$402)","=+IMPORTARDATOSDINAMICOS(\" BAS038\",TABLAS!$A$433)","=+IMPORTARDATOSDINAMICOS(\" BAS038\",TABLAS!$A$463)","=+IMPORTARDATOSDINAMICOS(\" BAS038\",TABLAS!$A$495)","=+IMPORTARDATOSDINAMICOS(\" BAS038\",TABLAS!$A$525)",null,null,null,null,null,null,null,"=+IMPORTARDATOSDINAMICOS(\" BAS038\",TABLAS!$A$402)+IMPORTARDATOSDINAMICOS(\" BAS038\",TABLAS!$A$433)+IMPORTARDATOSDINAMICOS(\" BAS038\",TABLAS!$A$463)+IMPORTARDATOSDINAMICOS(\" BAS038\",TABLAS!$A$495)+IMPORTARDATOSDINAMICOS(\" BAS038\",TABLAS!$A$525)",null,null,null,null,null,null,null,null,null,null,null,"=+IMPORTARDATOSDINAMICOS(\" BAS039\",TABLAS!$A$402)","=+IMPORTARDATOSDINAMICOS(\" BAS039\",TABLAS!$A$433)","=+IMPORTARDATOSDINAMICOS(\" BAS039\",TABLAS!$A$463)","=+IMPORTARDATOSDINAMICOS(\" BAS039\",TABLAS!$A$495)","=+IMPORTARDATOSDINAMICOS(\" BAS039\",TABLAS!$A$525)",null,null,null,null,null,null,null,"=+IMPORTARDATOSDINAMICOS(\" BAS039\",TABLAS!$A$402)+IMPORTARDATOSDINAMICOS(\" BAS039\",TABLAS!$A$433)+IMPORTARDATOSDINAMICOS(\" BAS039\",TABLAS!$A$463)+IMPORTARDATOSDINAMICOS(\" BAS039\",TABLAS!$A$495)+IMPORTARDATOSDINAMICOS(\" BAS039\",TABLAS!$A$525)",null,null,null,null,"=+IMPORTARDATOSDINAMICOS(\" BAS040\",TABLAS!$A$402)","=+IMPORTARDATOSDINAMICOS(\" BAS040\",TABLAS!$A$433)","=+IMPORTARDATOSDINAMICOS(\" BAS040\",TABLAS!$A$463)","=+IMPORTARDATOSDINAMICOS(\" BAS040\",TABLAS!$A$495)","=+IMPORTARDATOSDINAMICOS(\" BAS040\",TABLAS!$A$525)",null,null,null,null,null,null,null,"=+IMPORTARDATOSDINAMICOS(\" BAS040\",TABLAS!$A$402)+IMPORTARDATOSDINAMICOS(\" BAS040\",TABLAS!$A$433)+IMPORTARDATOSDINAMICOS(\" BAS040\",TABLAS!$A$463)+IMPORTARDATOSDINAMICOS(\" BAS040\",TABLAS!$A$495)+IMPORTARDATOSDINAMICOS(\" BAS040\",TABLAS!$A$525)"]
[41,"CASOS DE PROCTITIS",{"$f":"+GETPIVOTDATA(\" BAS041\",TABLAS!$A$402)","v":0},{"$f":"+GETPIVOTDATA(\" BAS117\",TABLAS!$A$402)","v":0},{"$f":"+GETPIVOTDATA(\" BAS193\",TABLAS!$A$402)","v":0},{"$f":"+GETPIVOTDATA(\" BAS041\",TABLAS!$A$463)","v":0},{"$f":"+GETPIVOTDATA(\" BAS117\",TABLAS!$A$463)","v":0},{"$f":"+GETPIVOTDATA(\" BAS193\",TABLAS!$A$463)","v":0},{"$f":"+GETPIVOTDATA(\" BAS041\",TABLAS!$A$433)","v":0},{"$f":"+GETPIVOTDATA(\" BAS117\",TABLAS!$A$433)","v":0},{"$f":"+GETPIVOTDATA(\" BAS193\",TABLAS!$A$433)","v":0},{"$f":"+GETPIVOTDATA(\" BAS041\",TABLAS!$A$495)","v":0},{"$f":"+GETPIVOTDATA(\" BAS117\",TABLAS!$A$495)","v":0},{"$f":"+GETPIVOTDATA(\" BAS193\",TABLAS!$A$495)","v":0},{"$f":"+GETPIVOTDATA(\" BAS041\",TABLAS!$A$525)","v":0},{"$f":"+GETPIVOTDATA(\" BAS117\",TABLAS!$A$525)","v":0},{"$f":"+GETPIVOTDATA(\" BAS193\",TABLAS!$A$525)","v":0},0,0,null,0,0,{"$f":"+GETPIVOTDATA(\" BAS042\",TABLAS!$A$402)","v":0},{"$f":"+GETPIVOTDATA(\" BAS042\",TABLAS!$A$463)","v":0},{"$f":"+GETPIVOTDATA(\" BAS042\",TABLAS!$A$433)","v":0},{"$f":"+GETPIVOTDATA(\" BAS042\",TABLAS!$A$525)","v":0},{"$f":"+GETPIVOTDATA(\" BAS042\",TABLAS!$A$495)","v":0},{"$f":"+GETPIVOTDATA(\" BAS043\",TABLAS!$A$402)+GETPIVOTDATA(\" BAS043\",TABLAS!$A$433)+GETPIVOTDATA(\" BAS043\",TABLAS!$A$463)+GETPIVOTDATA(\" BAS043\",TABLAS!$A$495)+GETPIVOTDATA(\" BAS043\",TABLAS!$A$525)","v":0},{"$f":"+GETPIVOTDATA(\" BAS044\",TABLAS!$A$402)+GETPIVOTDATA(\" BAS044\",TABLAS!$A$433)+GETPIVOTDATA(\" BAS044\",TABLAS!$A$463)+GETPIVOTDATA(\" BAS044\",TABLAS!$A$495)+GETPIVOTDATA(\" BAS044\",TABLAS!$A$525)","v":0},null,null,null,null,null,null,null,null,null,null,null,null,41,42,43,44,null,"041","042","043","044",null,"=+IMPORTARDATOSDINAMICOS(\" BAS041\",TABLAS!$A$525)","=+IMPORTARDATOSDINAMICOS(\" BAS042\",TABLAS!$A$525)","=+IMPORTARDATOSDINAMICOS(\" BAS043\",TABLAS!$A$525)","=+IMPORTARDATOSDINAMICOS(\" BAS044\",TABLAS!$A$525)",null,null,null,null,null,null,null,null,null,null,null,"=+IMPORTARDATOSDINAMICOS(\" BAS042\",TABLAS!$A$402)","=+IMPORTARDATOSDINAMICOS(\" BAS042\",TABLAS!$A$433)","=+IMPORTARDATOSDINAMICOS(\" BAS042\",TABLAS!$A$463)","=+IMPORTARDATOSDINAMICOS(\" BAS042\",TABLAS!$A$495)","=+IMPORTARDATOSDINAMICOS(\" BAS042\",TABLAS!$A$525)",null,null,null,null,null,null,null,"=+IMPORTARDATOSDINAMICOS(\" BAS042\",TABLAS!$A$402)+IMPORTARDATOSDINAMICOS(\" BAS042\",TABLAS!$A$433)+IMPORTARDATOSDINAMICOS(\" BAS042\",TABLAS!$A$463)+IMPORTARDATOSDINAMICOS(\" BAS042\",TABLAS!$A$495)+IMPORTARDATOSDINAMICOS(\" BAS042\",TABLAS!$A$525)",null,null,null,null,null,null,null,null,null,null,null,"=+IMPORTARDATOSDINAMICOS(\" BAS043\",TABLAS!$A$402)","=+IMPORTARDATOSDINAMICOS(\" BAS043\",TABLAS!$A$433)","=+IMPORTARDATOSDINAMICOS(\" BAS043\",TABLAS!$A$463)","=+IMPORTARDATOSDINAMICOS(\" BAS043\",TABLAS!$A$495)","=+IMPORTARDATOSDINAMICOS(\" BAS043\",TABLAS!$A$525)",null,null,null,null,null,null,null,"=+IMPORTARDATOSDINAMICOS(\" BAS043\",TABLAS!$A$402)+IMPORTARDATOSDINAMICOS(\" BAS043\",TABLAS!$A$433)+IMPORTARDATOSDINAMICOS(\" BAS043\",TABLAS!$A$463)+IMPORTARDATOSDINAMICOS(\" BAS043\",TABLAS!$A$495)+IMPORTARDATOSDINAMICOS(\" BAS043\",TABLAS!$A$525)",null,null,null,null,"=+IMPORTARDATOSDINAMICOS(\" BAS044\",TABLAS!$A$402)","=+IMPORTARDATOSDINAMICOS(\" BAS044\",TABLAS!$A$433)","=+IMPORTARDATOSDINAMICOS(\" BAS044\",TABLAS!$A$463)","=+IMPORTARDATOSDINAMICOS(\" BAS044\",TABLAS!$A$495)","=+IMPORTARDATOSDINAMICOS(\" BAS044\",TABLAS!$A$525)",null,null,null,null,null,null,null,"=+IMPORTARDATOSDINAMICOS(\" BAS044\",TABLAS!$A$402)+IMPORTARDATOSDINAMICOS(\" BAS044\",TABLAS!$A$433)+IMPORTARDATOSDINAMICOS(\" BAS044\",TABLAS!$A$463)+IMPORTARDATOSDINAMICOS(\" BAS044\",TABLAS!$A$495)+IMPORTARDATOSDINAMICOS(\" BAS044\",TABLAS!$A$525)"]
[{"$f":"+A155+4","v":45},"PERSONAS CON MANEJO ETIOLOGICO",{"$f":"+GETPIVOTDATA(\" BAS045\",TABLAS!$A$402)","v":1},{"$f":"+GETPIVOTDATA(\" BAS121\",TABLAS!$A$402)","v":1},{"$f":"+GETPIVOTDATA(\" BAS197\",TABLAS!$A$402)","v":0},{"$f":"+GETPIVOTDATA(\" BAS045\",TABLAS!$A$463)","v":0},{"$f":"+GETPIVOTDATA(\" BAS121\",TABLAS!$A$463)","v":0},{"$f":"+GETPIVOTDATA(\" BAS197\",TABLAS!$A$463)","v":0},{"$f":"+GETPIVOTDATA(\" BAS045\",TABLAS!$A$433)","v":0},{"$f":"+GETPIVOTDATA(\" BAS121\",TABLAS!$A$433)","v":1},{"$f":"+GETPIVOTDATA(\" BAS197\",TABLAS!$A$433)","v":0},{"$f":"+GETPIVOTDATA(\" BAS045\",TABLAS!$A$495)","v":0},{"$f":"+GETPIVOTDATA(\" BAS121\",TABLAS!$A$495)","v":0},{"$f":"+GETPIVOTDATA(\" BAS197\",TABLAS!$A$495)","v":0},{"$f":"+GETPIVOTDATA(\" BAS045\",TABLAS!$A$525)","v":0},{"$f":"+GETPIVOTDATA(\" BAS121\",TABLAS!$A$525)","v":0},{"$f":"+GETPIVOTDATA(\" BAS197\",TABLAS!$A$525)","v":0},2,0,1,0,0,{"$f":"+GETPIVOTDATA(\" BAS046\",TABLAS!$A$402)","v":2},{"$f":"+GETPIVOTDATA(\" BAS046\",TABLAS!$A$463)","v":0},{"$f":"+GETPIVOTDATA(\" BAS046\",TABLAS!$A$433)","v":1},{"$f":"+GETPIVOTDATA(\" BAS046\",TABLAS!$A$525)","v":0},{"$f":"+GETPIVOTDATA(\" BAS046\",TABLAS!$A$495)","v":0},{"$f":"+GETPIVOTDATA(\" BAS047\",TABLAS!$A$402)+GETPIVOTDATA(\" BAS047\",TABLAS!$A$433)+GETPIVOTDATA(\" BAS047\",TABLAS!$A$463)+GETPIVOTDATA(\" BAS047\",TABLAS!$A$495)+GETPIVOTDATA(\" BAS047\",TABLAS!$A$525)","v":0},{"$f":"+GETPIVOTDATA(\" BAS048\",TABLAS!$A$402)+GETPIVOTDATA(\" BAS048\",TABLAS!$A$433)+GETPIVOTDATA(\" BAS048\",TABLAS!$A$463)+GETPIVOTDATA(\" BAS048\",TABLAS!$A$495)+GETPIVOTDATA(\" BAS048\",TABLAS!$A$525)","v":0},null,null,null,null,null,null,null,null,null,null,null,null,45,46,47,48,null,"045","046","047","048",null,"=+IMPORTARDATOSDINAMICOS(\" BAS045\",TABLAS!$A$525)","=+IMPORTARDATOSDINAMICOS(\" BAS046\",TABLAS!$A$525)","=+IMPORTARDATOSDINAMICOS(\" BAS047\",TABLAS!$A$525)","=+IMPORTARDATOSDINAMICOS(\" BAS048\",TABLAS!$A$525)",null,null,null,null,null,null,null,null,null,null,null,"=+IMPORTARDATOSDINAMICOS(\" BAS046\",TABLAS!$A$402)","=+IMPORTARDATOSDINAMICOS(\" BAS046\",TABLAS!$A$433)","=+IMPORTARDATOSDINAMICOS(\" BAS046\",TABLAS!$A$463)","=+IMPORTARDATOSDINAMICOS(\" BAS046\",TABLAS!$A$495)","=+IMPORTARDATOSDINAMICOS(\" BAS046\",TABLAS!$A$525)",null,null,null,null,null,null,null,"=+IMPORTARDATOSDINAMICOS(\" BAS046\",TABLAS!$A$402)+IMPORTARDATOSDINAMICOS(\" BAS046\",TABLAS!$A$433)+IMPORTARDATOSDINAMICOS(\" BAS046\",TABLAS!$A$463)+IMPORTARDATOSDINAMICOS(\" BAS046\",TABLAS!$A$495)+IMPORTARDATOSDINAMICOS(\" BAS046\",TABLAS!$A$525)",null,null,null,null,null,null,null,null,null,null,null,"=+IMPORTARDATOSDINAMICOS(\" BAS047\",TABLAS!$A$402)","=+IMPORTARDATOSDINAMICOS(\" BAS047\",TABLAS!$A$433)","=+IMPORTARDATOSDINAMICOS(\" BAS047\",TABLAS!$A$463)","=+IMPORTARDATOSDINAMICOS(\" BAS047\",TABLAS!$A$495)","=+IMPORTARDATOSDINAMICOS(\" BAS047\",TABLAS!$A$525)",null,null,null,null,null,null,null,"=+IMPORTARDATOSDINAMICOS(\" BAS047\",TABLAS!$A$402)+IMPORTARDATOSDINAMICOS(\" BAS047\",TABLAS!$A$433)+IMPORTARDATOSDINAMICOS(\" BAS047\",TABLAS!$A$463)+IMPORTARDATOSDINAMICOS(\" BAS047\",TABLAS!$A$495)+IMPORTARDATOSDINAMICOS(\" BAS047\",TABLAS!$A$525)",null,null,null,null,"=+IMPORTARDATOSDINAMICOS(\" BAS048\",TABLAS!$A$402)","=+IMPORTARDATOSDINAMICOS(\" BAS048\",TABLAS!$A$433)","=+IMPORTARDATOSDINAMICOS(\" BAS048\",TABLAS!$A$463)","=+IMPORTARDATOSDINAMICOS(\" BAS048\",TABLAS!$A$495)","=+IMPORTARDATOSDINAMICOS(\" BAS048\",TABLAS!$A$525)",null,null,null,null,null,null,null,"=+IMPORTARDATOSDINAMICOS(\" BAS048\",TABLAS!$A$402)+IMPORTARDATOSDINAMICOS(\" BAS048\",TABLAS!$A$433)+IMPORTARDATOSDINAMICOS(\" BAS048\",TABLAS!$A$463)+IMPORTARDATOSDINAMICOS(\" BAS048\",TABLAS!$A$495)+IMPORTARDATOSDINAMICOS(\" BAS048\",TABLAS!$A$525)"]
[49,"CASOS DE GONORREA",{"$f":"+GETPIVOTDATA(\" BAS049\",TABLAS!$A$402)","v":0},{"$f":"+GETPIVOTDATA(\" BAS125\",TABLAS!$A$402)","v":0},{"$f":"+GETPIVOTDATA(\" BAS201\",TABLAS!$A$402)","v":0},{"$f":"+GETPIVOTDATA(\" BAS049\",TABLAS!$A$463)","v":0},{"$f":"+GETPIVOTDATA(\" BAS125\",TABLAS!$A$463)","v":0},{"$f":"+GETPIVOTDATA(\" BAS201\",TABLAS!$A$463)","v":0},{"$f":"+GETPIVOTDATA(\" BAS049\",TABLAS!$A$433)","v":0},{"$f":"+GETPIVOTDATA(\" BAS125\",TABLAS!$A$433)","v":0},{"$f":"+GETPIVOTDATA(\" BAS201\",TABLAS!$A$433)","v":0},{"$f":"+GETPIVOTDATA(\" BAS049\",TABLAS!$A$495)","v":0},{"$f":"+GETPIVOTDATA(\" BAS125\",TABLAS!$A$495)","v":0},{"$f":"+GETPIVOTDATA(\" BAS201\",TABLAS!$A$495)","v":0},{"$f":"+GETPIVOTDATA(\" BAS049\",TABLAS!$A$525)","v":0},{"$f":"+GETPIVOTDATA(\" BAS125\",TABLAS!$A$525)","v":0},{"$f":"+GETPIVOTDATA(\" BAS201\",TABLAS!$A$525)","v":0},0,0,0,0,0,{"$f":"+GETPIVOTDATA(\" BAS050\",TABLAS!$A$402)","v":0},{"$f":"+GETPIVOTDATA(\" BAS050\",TABLAS!$A$463)","v":0},{"$f":"+GETPIVOTDATA(\" BAS050\",TABLAS!$A$433)","v":0},{"$f":"+GETPIVOTDATA(\" BAS050\",TABLAS!$A$525)","v":0},{"$f":"+GETPIVOTDATA(\" BAS050\",TABLAS!$A$495)","v":0},{"$f":"+GETPIVOTDATA(\" BAS051\",TABLAS!$A$402)+GETPIVOTDATA(\" BAS051\",TABLAS!$A$433)+GETPIVOTDATA(\" BAS051\",TABLAS!$A$463)+GETPIVOTDATA(\" BAS051\",TABLAS!$A$495)+GETPIVOTDATA(\" BAS051\",TABLAS!$A$525)","v":0},{"$f":"+GETPIVOTDATA(\" BAS052\",TABLAS!$A$402)+GETPIVOTDATA(\" BAS052\",TABLAS!$A$433)+GETPIVOTDATA(\" BAS052\",TABLAS!$A$463)+GETPIVOTDATA(\" BAS052\",TABLAS!$A$495)+GETPIVOTDATA(\" BAS052\",TABLAS!$A$525)","v":0},null,null,null,null,null,null,null,null,null,null,null,null,49,50,51,52,null,"049","050","051","052",null,"=+IMPORTARDATOSDINAMICOS(\" BAS049\",TABLAS!$A$525)","=+IMPORTARDATOSDINAMICOS(\" BAS050\",TABLAS!$A$525)","=+IMPORTARDATOSDINAMICOS(\" BAS051\",TABLAS!$A$525)","=+IMPORTARDATOSDINAMICOS(\" BAS052\",TABLAS!$A$525)",null,null,null,null,null,null,null,null,null,null,null,"=+IMPORTARDATOSDINAMICOS(\" BAS050\",TABLAS!$A$402)","=+IMPORTARDATOSDINAMICOS(\" BAS050\",TABLAS!$A$433)","=+IMPORTARDATOSDINAMICOS(\" BAS050\",TABLAS!$A$463)","=+IMPORTARDATOSDINAMICOS(\" BAS050\",TABLAS!$A$495)","=+IMPORTARDATOSDINAMICOS(\" BAS050\",TABLAS!$A$525)",null,null,null,null,null,null,null,"=+IMPORTARDATOSDINAMICOS(\" BAS050\",TABLAS!$A$402)+IMPORTARDATOSDINAMICOS(\" BAS050\",TABLAS!$A$433)+IMPORTARDATOSDINAMICOS(\" BAS050\",TABLAS!$A$463)+IMPORTARDATOSDINAMICOS(\" BAS050\",TABLAS!$A$495)+IMPORTARDATOSDINAMICOS(\" BAS050\",TABLAS!$A$525)",null,null,null,null,null,null,null,null,null,null,null,"=+IMPORTARDATOSDINAMICOS(\" BAS051\",TABLAS!$A$402)","=+IMPORTARDATOSDINAMICOS(\" BAS051\",TABLAS!$A$433)","=+IMPORTARDATOSDINAMICOS(\" BAS051\",TABLAS!$A$463)","=+IMPORTARDATOSDINAMICOS(\" BAS051\",TABLAS!$A$495)","=+IMPORTARDATOSDINAMICOS(\" BAS051\",TABLAS!$A$525)",null,null,null,null,null,null,null,"=+IMPORTARDATOSDINAMICOS(\" BAS051\",TABLAS!$A$402)+IMPORTARDATOSDINAMICOS(\" BAS051\",TABLAS!$A$433)+IMPORTARDATOSDINAMICOS(\" BAS051\",TABLAS!$A$463)+IMPORTARDATOSDINAMICOS(\" BAS051\",TABLAS!$A$495)+IMPORTARDATOSDINAMICOS(\" BAS051\",TABLAS!$A$525)",null,null,null,null,"=+IMPORTARDATOSDINAMICOS(\" BAS052\",TABLAS!$A$402)","=+IMPORTARDATOSDINAMICOS(\" BAS052\",TABLAS!$A$433)","=+IMPORTARDATOSDINAMICOS(\" BAS052\",TABLAS!$A$463)","=+IMPORTARDATOSDINAMICOS(\" BAS052\",TABLAS!$A$495)","=+IMPORTARDATOSDINAMICOS(\" BAS052\",TABLAS!$A$525)",null,null,null,null,null,null,null,"=+IMPORTARDATOSDINAMICOS(\" BAS052\",TABLAS!$A$402)+IMPORTARDATOSDINAMICOS(\" BAS052\",TABLAS!$A$433)+IMPORTARDATOSDINAMICOS(\" BAS052\",TABLAS!$A$463)+IMPORTARDATOSDINAMICOS(\" BAS052\",TABLAS!$A$495)+IMPORTARDATOSDINAMICOS(\" BAS052\",TABLAS!$A$525)"]
[53,"CASOS DE SIFILIS",{"$f":"+GETPIVOTDATA(\" BAS053\",TABLAS!$A$402)","v":1},{"$f":"+GETPIVOTDATA(\" BAS129\",TABLAS!$A$402)","v":1},{"$f":"+GETPIVOTDATA(\" BAS205\",TABLAS!$A$402)","v":0},{"$f":"+GETPIVOTDATA(\" BAS053\",TABLAS!$A$463)","v":0},{"$f":"+GETPIVOTDATA(\" BAS129\",TABLAS!$A$463)","v":0},{"$f":"+GETPIVOTDATA(\" BAS205\",TABLAS!$A$463)","v":0},{"$f":"+GETPIVOTDATA(\" BAS053\",TABLAS!$A$433)","v":0},{"$f":"+GETPIVOTDATA(\" BAS129\",TABLAS!$A$433)","v":1},{"$f":"+GETPIVOTDATA(\" BAS205\",TABLAS!$A$433)","v":0},{"$f":"+GETPIVOTDATA(\" BAS053\",TABLAS!$A$495)","v":0},{"$f":"+GETPIVOTDATA(\" BAS129\",TABLAS!$A$495)","v":0},{"$f":"+GETPIVOTDATA(\" BAS205\",TABLAS!$A$495)","v":0},{"$f":"+GETPIVOTDATA(\" BAS053\",TABLAS!$A$525)","v":0},{"$f":"+GETPIVOTDATA(\" BAS129\",TABLAS!$A$525)","v":0},{"$f":"+GETPIVOTDATA(\" BAS205\",TABLAS!$A$525)","v":0},2,0,1,0,0,{"$f":"+GETPIVOTDATA(\" BAS054\",TABLAS!$A$402)","v":0},{"$f":"+GETPIVOTDATA(\" BAS054\",TABLAS!$A$463)","v":0},{"$f":"+GETPIVOTDATA(\" BAS054\",TABLAS!$A$433)","v":0},{"$f":"+GETPIVOTDATA(\" BAS054\",TABLAS!$A$525)","v":0},{"$f":"+GETPIVOTDATA(\" BAS054\",TABLAS!$A$495)","v":0},{"$f":"+GETPIVOTDATA(\" BAS055\",TABLAS!$A$402)+GETPIVOTDATA(\" BAS055\",TABLAS!$A$433)+GETPIVOTDATA(\" BAS055\",TABLAS!$A$463)+GETPIVOTDATA(\" BAS055\",TABLAS!$A$495)+GETPIVOTDATA(\" BAS055\",TABLAS!$A$525)","v":0},{"$f":"+GETPIVOTDATA(\" BAS056\",TABLAS!$A$402)+GETPIVOTDATA(\" BAS056\",TABLAS!$A$433)+GETPIVOTDATA(\" BAS056\",TABLAS!$A$463)+GETPIVOTDATA(\" BAS056\",TABLAS!$A$495)+GETPIVOTDATA(\" BAS056\",TABLAS!$A$525)","v":0},null,null,null,null,null,null,null,null,null,null,null,null,{"$f":"+AS157+1","v":53},{"$f":"+AP158+1","v":54},55,56,null,"053","054","055","056",null,"=+IMPORTARDATOSDINAMICOS(\" BAS053\",TABLAS!$A$525)","=+IMPORTARDATOSDINAMICOS(\" BAS054\",TABLAS!$A$525)","=+IMPORTARDATOSDINAMICOS(\" BAS055\",TABLAS!$A$525)","=+IMPORTARDATOSDINAMICOS(\" BAS056\",TABLAS!$A$525)",null,null,null,null,null,null,null,null,null,null,null,"=+IMPORTARDATOSDINAMICOS(\" BAS054\",TABLAS!$A$402)","=+IMPORTARDATOSDINAMICOS(\" BAS054\",TABLAS!$A$433)","=+IMPORTARDATOSDINAMICOS(\" BAS054\",TABLAS!$A$463)","=+IMPORTARDATOSDINAMICOS(\" BAS054\",TABLAS!$A$495)","=+IMPORTARDATOSDINAMICOS(\" BAS054\",TABLAS!$A$525)",null,null,null,null,null,null,null,"=+IMPORTARDATOSDINAMICOS(\" BAS054\",TABLAS!$A$402)+IMPORTARDATOSDINAMICOS(\" BAS054\",TABLAS!$A$433)+IMPORTARDATOSDINAMICOS(\" BAS054\",TABLAS!$A$463)+IMPORTARDATOSDINAMICOS(\" BAS054\",TABLAS!$A$495)+IMPORTARDATOSDINAMICOS(\" BAS054\",TABLAS!$A$525)",null,null,null,null,null,null,null,null,null,null,null,"=+IMPORTARDATOSDINAMICOS(\" BAS055\",TABLAS!$A$402)","=+IMPORTARDATOSDINAMICOS(\" BAS055\",TABLAS!$A$433)","=+IMPORTARDATOSDINAMICOS(\" BAS055\",TABLAS!$A$463)","=+IMPORTARDATOSDINAMICOS(\" BAS055\",TABLAS!$A$495)","=+IMPORTARDATOSDINAMICOS(\" BAS055\",TABLAS!$A$525)",null,null,null,null,null,null,null,"=+IMPORTARDATOSDINAMICOS(\" BAS055\",TABLAS!$A$402)+IMPORTARDATOSDINAMICOS(\" BAS055\",TABLAS!$A$433)+IMPORTARDATOSDINAMICOS(\" BAS055\",TABLAS!$A$463)+IMPORTARDATOSDINAMICOS(\" BAS055\",TABLAS!$A$495)+IMPORTARDATOSDINAMICOS(\" BAS055\",TABLAS!$A$525)",null,null,null,null,"=+IMPORTARDATOSDINAMICOS(\" BAS056\",TABLAS!$A$402)","=+IMPORTARDATOSDINAMICOS(\" BAS056\",TABLAS!$A$433)","=+IMPORTARDATOSDINAMICOS(\" BAS056\",TABLAS!$A$463)","=+IMPORTARDATOSDINAMICOS(\" BAS056\",TABLAS!$A$495)","=+IMPORTARDATOSDINAMICOS(\" BAS056\",TABLAS!$A$525)",null,null,null,null,null,null,null,"=+IMPORTARDATOSDINAMICOS(\" BAS056\",TABLAS!$A$402)+IMPORTARDATOSDINAMICOS(\" BAS056\",TABLAS!$A$433)+IMPORTARDATOSDINAMICOS(\" BAS056\",TABLAS!$A$463)+IMPORTARDATOSDINAMICOS(\" BAS056\",TABLAS!$A$495)+IMPORTARDATOSDINAMICOS(\" BAS056\",TABLAS!$A$525)"]
[]
[null,"10- POBLACION CLAVE:BRIGADAS MÓVILES/MCC","OFERTA MOVIL"]
[null,"Hombres que tienen Sexo con otros Hombres / Trans","HSH",null,null,"TRANS",null,null,"TS -FEMENINO",null,null,"TS-TRANS",null,null,"TS-H",null,null,"Total",null,null,null,null,null,null,null,null,null,null,null,null,null,null,null,null,null,null,null,null,null,null,null,null,null,null,null,null,null,null,null,null,null,null,null,null,null,null,null,null,null,null,null,null,null,null,null,null,null,null,null,null,null,null,null,null,null,null,null,null,"=+IMPORTARDATOSDINAMICOS(\" BAS014\",TABLAS!$A$402)+IMPORTARDATOSDINAMICOS(\" BAS014\",TABLAS!$A$433)+IMPORTARDATOSDINAMICOS(\" BAS014\",TABLAS!$A$463)+IMPORTARDATOSDINAMICOS(\" BAS014\",TABLAS!$A$495)+IMPORTARDATOSDINAMICOS(\" BAS014\",TABLAS!$A$525)"]
[null,null,"18a - 29a","30a - 59a","60a más","18a - 29a","30a - 59a","60a más","18a - 29a","30a - 59a","60a más","18a - 29a","30a - 59a","60a más","18a - 29a","30a - 59a","60a más","HSH","TRANS","TS-FEMENINO","TS-TRANS","TS-H",null,null,null,null,null,null,null,null,null,null,null,null,null,null,null,null,null,null,null,null,null,null,null,null,null,null,null,null,null,null,null,null,null,null,null,null,null,null,null,null,null,null,null,null,null,null,null,null,null,null,null,null,null,null,null,null,"=+IMPORTARDATOSDINAMICOS(\" BAS018\",TABLAS!$A$402)+IMPORTARDATOSDINAMICOS(\" BAS018\",TABLAS!$A$433)+IMPORTARDATOSDINAMICOS(\" BAS018\",TABLAS!$A$463)+IMPORTARDATOSDINAMICOS(\" BAS018\",TABLAS!$A$495)+IMPORTARDATOSDINAMICOS(\" BAS018\",TABLAS!$A$525)"]
[{"$f":"+A158+4","v":57},"Nº HSH/TRANS ATENDIDOS/AS ",{"$f":"+GETPIVOTDATA(\" BAS057\",TABLAS!$A$402)","v":23},{"$f":"+GETPIVOTDATA(\" BAS133\",TABLAS!$A$402)","v":3},{"$f":"+GETPIVOTDATA(\" BAS209\",TABLAS!$A$402)","v":0},{"$f":"+GETPIVOTDATA(\" BAS057\",TABLAS!$A$463)","v":0},{"$f":"+GETPIVOTDATA(\" BAS133\",TABLAS!$A$463)","v":0},{"$f":"+GETPIVOTDATA(\" BAS209\",TABLAS!$A$463)","v":0},{"$f":"+GETPIVOTDATA(\" BAS057\",TABLAS!$A$433)","v":0},{"$f":"+GETPIVOTDATA(\" BAS133\",TABLAS!$A$433)","v":0},{"$f":"+GETPIVOTDATA(\" BAS209\",TABLAS!$A$433)","v":0},{"$f":"+GETPIVOTDATA(\" BAS057\",TABLAS!$A$495)","v":0},{"$f":"+GETPIVOTDATA(\" BAS133\",TABLAS!$A$495)","v":0},{"$f":"+GETPIVOTDATA(\" BAS209\",TABLAS!$A$495)","v":0},{"$f":"+GETPIVOTDATA(\" BAS057\",TABLAS!$A$525)","v":0},{"$f":"+GETPIVOTDATA(\" BAS133\",TABLAS!$A$525)","v":0},{"$f":"+GETPIVOTDATA(\" BAS209\",TABLAS!$A$525)","v":0},{"$f":"SUM(C163:E163)","v":26},{"$f":"SUM(F163:H163)","v":0},{"$f":"SUM(I163:K163)","v":0},{"$f":"SUM(L163:N163)","v":0},{"$f":"SUM(O163:Q163)","v":0},null,null,null,null,null,null,null,null,null,null,null,null,null,null,null,null,null,null,null,{"$f":"+AS158+1","v":57},null,null,null,null,{"$f":"IF(AP163<10,CONCATENATE(\"00\",AP163),IF(AND(AP163>9,AP163<100),CONCATENATE(\"0\",AP163),AP163))","v":"057"},null,null,null,null,{"$f":"CONCATENATE($CQ$49,AU163,$CQ$50)","v":"=+IMPORTARDATOSDINAMICOS(\" BAS057\",TABLAS!$A$525)"},null,null,null,null,null,null,null,null,null,null,null,null,null,null,null,null,null,null,null,null,null,null,null,null,null,null,"=+IMPORTARDATOSDINAMICOS(\" BAS022\",TABLAS!$A$402)+IMPORTARDATOSDINAMICOS(\" BAS022\",TABLAS!$A$433)+IMPORTARDATOSDINAMICOS(\" BAS022\",TABLAS!$A$463)+IMPORTARDATOSDINAMICOS(\" BAS022\",TABLAS!$A$495)+IMPORTARDATOSDINAMICOS(\" BAS022\",TABLAS!$A$525)"]
[{"$f":"+A163+1","v":58}," Nº DE ATENCIONES A HSH/TRANS ",{"$f":"+GETPIVOTDATA(\" BAS058\",TABLAS!$A$402)","v":61},{"$f":"+GETPIVOTDATA(\" BAS134\",TABLAS!$A$402)","v":9},{"$f":"+GETPIVOTDATA(\" BAS210\",TABLAS!$A$402)","v":0},{"$f":"+GETPIVOTDATA(\" BAS058\",TABLAS!$A$463)","v":0},{"$f":"+GETPIVOTDATA(\" BAS134\",TABLAS!$A$463)","v":0},{"$f":"+GETPIVOTDATA(\" BAS210\",TABLAS!$A$463)","v":0},{"$f":"+GETPIVOTDATA(\" BAS058\",TABLAS!$A$433)","v":0},{"$f":"+GETPIVOTDATA(\" BAS134\",TABLAS!$A$433)","v":0},{"$f":"+GETPIVOTDATA(\" BAS210\",TABLAS!$A$433)","v":0},{"$f":"+GETPIVOTDATA(\" BAS058\",TABLAS!$A$495)","v":0},{"$f":"+GETPIVOTDATA(\" BAS134\",TABLAS!$A$495)","v":0},{"$f":"+GETPIVOTDATA(\" BAS210\",TABLAS!$A$495)","v":0},{"$f":"+GETPIVOTDATA(\" BAS058\",TABLAS!$A$525)","v":0},{"$f":"+GETPIVOTDATA(\" BAS134\",TABLAS!$A$525)","v":0},{"$f":"+GETPIVOTDATA(\" BAS210\",TABLAS!$A$525)","v":0},{"$f":"SUM(C164:E164)","v":70},{"$f":"SUM(F164:H164)","v":0},{"$f":"SUM(I164:K164)","v":0},{"$f":"SUM(L164:N164)","v":0},{"$f":"SUM(O164:Q164)","v":0},null,null,null,null,null,null,null,null,null,null,null,null,null,null,null,null,null,null,null,{"$f":"+AP163+1","v":58},null,null,null,null,"058",null,null,null,null,"=+IMPORTARDATOSDINAMICOS(\" BAS058\",TABLAS!$A$525)",null,null,null,null,null,null,null,null,null,null,null,null,null,null,null,null,null,null,null,null,null,null,null,null,null,null,"=+IMPORTARDATOSDINAMICOS(\" BAS026\",TABLAS!$A$402)+IMPORTARDATOSDINAMICOS(\" BAS026\",TABLAS!$A$433)+IMPORTARDATOSDINAMICOS(\" BAS026\",TABLAS!$A$463)+IMPORTARDATOSDINAMICOS(\" BAS026\",TABLAS!$A$495)+IMPORTARDATOSDINAMICOS(\" BAS026\",TABLAS!$A$525)"]
[{"$f":"+A164+1","v":59}," Nº DE HSH/TRANS  TAMIZADOS/AS PARA VIH (1º TAMIZAJE) ",{"$f":"+GETPIVOTDATA(\" BAS059\",TABLAS!$A$402)","v":17},{"$f":"+GETPIVOTDATA(\" BAS135\",TABLAS!$A$402)","v":2},{"$f":"+GETPIVOTDATA(\" BAS211\",TABLAS!$A$402)","v":0},{"$f":"+GETPIVOTDATA(\" BAS059\",TABLAS!$A$463)","v":0},{"$f":"+GETPIVOTDATA(\" BAS135\",TABLAS!$A$463)","v":0},{"$f":"+GETPIVOTDATA(\" BAS211\",TABLAS!$A$463)","v":0},{"$f":"+GETPIVOTDATA(\" BAS059\",TABLAS!$A$433)","v":0},{"$f":"+GETPIVOTDATA(\" BAS135\",TABLAS!$A$433)","v":0},{"$f":"+GETPIVOTDATA(\" BAS211\",TABLAS!$A$433)","v":0},{"$f":"+GETPIVOTDATA(\" BAS059\",TABLAS!$A$495)","v":0},{"$f":"+GETPIVOTDATA(\" BAS135\",TABLAS!$A$495)","v":0},{"$f":"+GETPIVOTDATA(\" BAS211\",TABLAS!$A$495)","v":0},{"$f":"+GETPIVOTDATA(\" BAS059\",TABLAS!$A$525)","v":0},{"$f":"+GETPIVOTDATA(\" BAS135\",TABLAS!$A$525)","v":0},{"$f":"+GETPIVOTDATA(\" BAS211\",TABLAS!$A$525)","v":0},{"$f":"SUM(C165:E165)","v":19},0,0,0,0,null,null,null,null,null,null,null,null,null,null,null,null,null,null,null,null,null,null,null,{"$f":"+AP164+1","v":59},null,null,null,null,"059",null,null,null,null,"=+IMPORTARDATOSDINAMICOS(\" BAS059\",TABLAS!$A$525)",null,null,null,null,null,null,null,null,null,null,null,null,null,null,null,null,null,null,null,null,null,null,null,null,null,null,"=+IMPORTARDATOSDINAMICOS(\" BAS030\",TABLAS!$A$402)+IMPORTARDATOSDINAMICOS(\" BAS030\",TABLAS!$A$433)+IMPORTARDATOSDINAMICOS(\" BAS030\",TABLAS!$A$463)+IMPORTARDATOSDINAMICOS(\" BAS030\",TABLAS!$A$495)+IMPORTARDATOSDINAMICOS(\" BAS030\",TABLAS!$A$525)"]
[60," Nº  HSH/TRANS CON TAMIZAJE PARA VIH CON RESULTADO REACTIVO ",{"$f":"+GETPIVOTDATA(\" BAS060\",TABLAS!$A$402)","v":0},{"$f":"+GETPIVOTDATA(\" BAS136\",TABLAS!$A$402)","v":0},{"$f":"+GETPIVOTDATA(\" BAS212\",TABLAS!$A$402)","v":0},{"$f":"+GETPIVOTDATA(\" BAS060\",TABLAS!$A$463)","v":0},{"$f":"+GETPIVOTDATA(\" BAS136\",TABLAS!$A$463)","v":0},{"$f":"+GETPIVOTDATA(\" BAS212\",TABLAS!$A$463)","v":0},{"$f":"+GETPIVOTDATA(\" BAS060\",TABLAS!$A$433)","v":0},{"$f":"+GETPIVOTDATA(\" BAS136\",TABLAS!$A$433)","v":0},{"$f":"+GETPIVOTDATA(\" BAS212\",TABLAS!$A$433)","v":0},{"$f":"+GETPIVOTDATA(\" BAS060\",TABLAS!$A$495)","v":0},{"$f":"+GETPIVOTDATA(\" BAS136\",TABLAS!$A$495)","v":0},{"$f":"+GETPIVOTDATA(\" BAS212\",TABLAS!$A$495)","v":0},{"$f":"+GETPIVOTDATA(\" BAS060\",TABLAS!$A$525)","v":0},{"$f":"+GETPIVOTDATA(\" BAS136\",TABLAS!$A$525)","v":0},{"$f":"+GETPIVOTDATA(\" BAS212\",TABLAS!$A$525)","v":0},{"$f":"SUM(C166:E166)","v":0},0,0,0,0,null,null,null,null,null,null,null,null,null,null,null,null,null,null,null,null,null,null,null,60,null,null,null,null,"060",null,null,null,null,"=+IMPORTARDATOSDINAMICOS(\" BAS060\",TABLAS!$A$525)",null,null,null,null,null,null,null,null,null,null,null,null,null,null,null,null,null,null,null,null,null,null,null,null,null,null,"=+IMPORTARDATOSDINAMICOS(\" BAS034\",TABLAS!$A$402)+IMPORTARDATOSDINAMICOS(\" BAS034\",TABLAS!$A$433)+IMPORTARDATOSDINAMICOS(\" BAS034\",TABLAS!$A$463)+IMPORTARDATOSDINAMICOS(\" BAS034\",TABLAS!$A$495)+IMPORTARDATOSDINAMICOS(\" BAS034\",TABLAS!$A$525)"]
[61," Nº DE HSH/TRANS  TAMIZADOS/AS PARA SÍFILIS  (1º TAMIZAJE) ",{"$f":"+GETPIVOTDATA(\" BAS061\",TABLAS!$A$402)","v":17},{"$f":"+GETPIVOTDATA(\" BAS137\",TABLAS!$A$402)","v":2},{"$f":"+GETPIVOTDATA(\" BAS213\",TABLAS!$A$402)","v":0},{"$f":"+GETPIVOTDATA(\" BAS061\",TABLAS!$A$463)","v":0},{"$f":"+GETPIVOTDATA(\" BAS137\",TABLAS!$A$463)","v":0},{"$f":"+GETPIVOTDATA(\" BAS213\",TABLAS!$A$463)","v":0},{"$f":"+GETPIVOTDATA(\" BAS061\",TABLAS!$A$433)","v":0},{"$f":"+GETPIVOTDATA(\" BAS137\",TABLAS!$A$433)","v":0},{"$f":"+GETPIVOTDATA(\" BAS213\",TABLAS!$A$433)","v":0},{"$f":"+GETPIVOTDATA(\" BAS061\",TABLAS!$A$495)","v":0},{"$f":"+GETPIVOTDATA(\" BAS137\",TABLAS!$A$495)","v":0},{"$f":"+GETPIVOTDATA(\" BAS213\",TABLAS!$A$495)","v":0},{"$f":"+GETPIVOTDATA(\" BAS061\",TABLAS!$A$525)","v":0},{"$f":"+GETPIVOTDATA(\" BAS137\",TABLAS!$A$525)","v":0},{"$f":"+GETPIVOTDATA(\" BAS213\",TABLAS!$A$525)","v":0},19,0,0,0,0,null,null,null,null,null,null,null,null,null,null,null,null,null,null,null,null,null,null,null,61,null,null,null,null,"061",null,null,null,null,"=+IMPORTARDATOSDINAMICOS(\" BAS061\",TABLAS!$A$525)",null,null,null,null,null,null,null,null,null,null,null,null,null,null,null,null,null,null,null,null,null,null,null,null,null,null,"=+IMPORTARDATOSDINAMICOS(\" BAS038\",TABLAS!$A$402)+IMPORTARDATOSDINAMICOS(\" BAS038\",TABLAS!$A$433)+IMPORTARDATOSDINAMICOS(\" BAS038\",TABLAS!$A$463)+IMPORTARDATOSDINAMICOS(\" BAS038\",TABLAS!$A$495)+IMPORTARDATOSDINAMICOS(\" BAS038\",TABLAS!$A$525)"]
[62," Nº  HSH/TRANS CON TAMIZAJE PARA SÍFILIS CON RESULTADO REACTIVO ",{"$f":"+GETPIVOTDATA(\" BAS062\",TABLAS!$A$402)","v":0},{"$f":"+GETPIVOTDATA(\" BAS138\",TABLAS!$A$402)","v":0},{"$f":"+GETPIVOTDATA(\" BAS214\",TABLAS!$A$402)","v":0},{"$f":"+GETPIVOTDATA(\" BAS062\",TABLAS!$A$463)","v":0},{"$f":"+GETPIVOTDATA(\" BAS138\",TABLAS!$A$463)","v":0},{"$f":"+GETPIVOTDATA(\" BAS214\",TABLAS!$A$463)","v":0},{"$f":"+GETPIVOTDATA(\" BAS062\",TABLAS!$A$433)","v":0},{"$f":"+GETPIVOTDATA(\" BAS138\",TABLAS!$A$433)","v":0},{"$f":"+GETPIVOTDATA(\" BAS214\",TABLAS!$A$433)","v":0},{"$f":"+GETPIVOTDATA(\" BAS062\",TABLAS!$A$495)","v":0},{"$f":"+GETPIVOTDATA(\" BAS138\",TABLAS!$A$495)","v":0},{"$f":"+GETPIVOTDATA(\" BAS214\",TABLAS!$A$495)","v":0},{"$f":"+GETPIVOTDATA(\" BAS062\",TABLAS!$A$525)","v":0},{"$f":"+GETPIVOTDATA(\" BAS138\",TABLAS!$A$525)","v":0},{"$f":"+GETPIVOTDATA(\" BAS214\",TABLAS!$A$525)","v":0},0,0,0,0,0,null,null,null,null,null,null,null,null,null,null,null,null,null,null,null,null,null,null,null,62,null,null,null,null,"062",null,null,null,null,"=+IMPORTARDATOSDINAMICOS(\" BAS062\",TABLAS!$A$525)",null,null,null,null,null,null,null,null,null,null,null,null,null,null,null,null,null,null,null,null,null,null,null,null,null,null,"=+IMPORTARDATOSDINAMICOS(\" BAS042\",TABLAS!$A$402)+IMPORTARDATOSDINAMICOS(\" BAS042\",TABLAS!$A$433)+IMPORTARDATOSDINAMICOS(\" BAS042\",TABLAS!$A$463)+IMPORTARDATOSDINAMICOS(\" BAS042\",TABLAS!$A$495)+IMPORTARDATOSDINAMICOS(\" BAS042\",TABLAS!$A$525)"]
[63," Nº DE HSH/TRANS  TAMIZADOS/AS PARA HEPATITIS  (1º TAMIZAJE) ",{"$f":"+GETPIVOTDATA(\" BAS063\",TABLAS!$A$402)","v":36},{"$f":"+GETPIVOTDATA(\" BAS139\",TABLAS!$A$402)","v":6},{"$f":"+GETPIVOTDATA(\" BAS215\",TABLAS!$A$402)","v":0},{"$f":"+GETPIVOTDATA(\" BAS063\",TABLAS!$A$463)","v":0},{"$f":"+GETPIVOTDATA(\" BAS139\",TABLAS!$A$463)","v":0},{"$f":"+GETPIVOTDATA(\" BAS215\",TABLAS!$A$463)","v":0},{"$f":"+GETPIVOTDATA(\" BAS063\",TABLAS!$A$433)","v":0},{"$f":"+GETPIVOTDATA(\" BAS139\",TABLAS!$A$433)","v":0},{"$f":"+GETPIVOTDATA(\" BAS215\",TABLAS!$A$433)","v":0},{"$f":"+GETPIVOTDATA(\" BAS063\",TABLAS!$A$495)","v":0},{"$f":"+GETPIVOTDATA(\" BAS139\",TABLAS!$A$495)","v":0},{"$f":"+GETPIVOTDATA(\" BAS215\",TABLAS!$A$495)","v":0},{"$f":"+GETPIVOTDATA(\" BAS063\",TABLAS!$A$525)","v":0},{"$f":"+GETPIVOTDATA(\" BAS139\",TABLAS!$A$525)","v":0},{"$f":"+GETPIVOTDATA(\" BAS215\",TABLAS!$A$525)","v":0},42,0,0,0,0,null,null,null,null,null,null,null,null,null,null,null,null,null,null,null,null,null,null,null,63,null,null,null,null,"063",null,null,null,null,"=+IMPORTARDATOSDINAMICOS(\" BAS063\",TABLAS!$A$525)",null,null,null,null,null,null,null,null,null,null,null,null,null,null,null,null,null,null,null,null,null,null,null,null,null,null,"=+IMPORTARDATOSDINAMICOS(\" BAS046\",TABLAS!$A$402)+IMPORTARDATOSDINAMICOS(\" BAS046\",TABLAS!$A$433)+IMPORTARDATOSDINAMICOS(\" BAS046\",TABLAS!$A$463)+IMPORTARDATOSDINAMICOS(\" BAS046\",TABLAS!$A$495)+IMPORTARDATOSDINAMICOS(\" BAS046\",TABLAS!$A$525)"]
[64," Nº  HSH/TRANS CON TAMIZAJE PARA HEPATITIS CON RESULTADO REACTIVO ",{"$f":"+GETPIVOTDATA(\" BAS064\",TABLAS!$A$402)","v":0},{"$f":"+GETPIVOTDATA(\" BAS140\",TABLAS!$A$402)","v":0},{"$f":"+GETPIVOTDATA(\" BAS216\",TABLAS!$A$402)","v":0},{"$f":"+GETPIVOTDATA(\" BAS064\",TABLAS!$A$463)","v":0},{"$f":"+GETPIVOTDATA(\" BAS140\",TABLAS!$A$463)","v":0},{"$f":"+GETPIVOTDATA(\" BAS216\",TABLAS!$A$463)","v":0},{"$f":"+GETPIVOTDATA(\" BAS064\",TABLAS!$A$433)","v":0},{"$f":"+GETPIVOTDATA(\" BAS140\",TABLAS!$A$433)","v":0},{"$f":"+GETPIVOTDATA(\" BAS216\",TABLAS!$A$433)","v":0},{"$f":"+GETPIVOTDATA(\" BAS064\",TABLAS!$A$495)","v":0},{"$f":"+GETPIVOTDATA(\" BAS140\",TABLAS!$A$495)","v":0},{"$f":"+GETPIVOTDATA(\" BAS216\",TABLAS!$A$495)","v":0},{"$f":"+GETPIVOTDATA(\" BAS064\",TABLAS!$A$525)","v":0},{"$f":"+GETPIVOTDATA(\" BAS140\",TABLAS!$A$525)","v":0},{"$f":"+GETPIVOTDATA(\" BAS216\",TABLAS!$A$525)","v":0},0,0,0,0,0,null,null,null,null,null,null,null,null,null,null,null,null,null,null,null,null,null,null,null,64,null,null,null,null,"064",null,null,null,null,"=+IMPORTARDATOSDINAMICOS(\" BAS064\",TABLAS!$A$525)",null,null,null,null,null,null,null,null,null,null,null,null,null,null,null,null,null,null,null,null,null,null,null,null,null,null,"=+IMPORTARDATOSDINAMICOS(\" BAS050\",TABLAS!$A$402)+IMPORTARDATOSDINAMICOS(\" BAS050\",TABLAS!$A$433)+IMPORTARDATOSDINAMICOS(\" BAS050\",TABLAS!$A$463)+IMPORTARDATOSDINAMICOS(\" BAS050\",TABLAS!$A$495)+IMPORTARDATOSDINAMICOS(\" BAS050\",TABLAS!$A$525)"]
[null,null,null,null,null,null,null,null,null,null,null,null,null,null,null,null,null,null,null,null,null,null,null,null,null,null,null,null,null,null,null,null,null,null,null,null,null,null,null,null,null,null,null,null,null,null,null,null,null,null,null,null,null,null,null,null,null,null,null,null,null,null,null,null,null,null,null,null,null,null,null,null,null,null,null,null,null,null,"=+IMPORTARDATOSDINAMICOS(\" BAS054\",TABLAS!$A$402)+IMPORTARDATOSDINAMICOS(\" BAS054\",TABLAS!$A$433)+IMPORTARDATOSDINAMICOS(\" BAS054\",TABLAS!$A$463)+IMPORTARDATOSDINAMICOS(\" BAS054\",TABLAS!$A$495)+IMPORTARDATOSDINAMICOS(\" BAS054\",TABLAS!$A$525)"]
[null,"11 POBLACION CLAVE: MECANISMO DE COORDINACIÓN COMUNITARIA","MECANISMO DE COORDINACIÓN COMUNITARIA"]
[null,"Hombres que tienen Sexo con otros Hombres / Trans","HSH",null,null,"TRANS",null,null,"TS -FEMENINO",null,null,"TS-TRANS",null,null,"TS-H",null,null,"Total"]
[null,null,"18a - 29a","30a - 59a","60a más","18a - 29a","30a - 59a","60a más","18a - 29a","30a - 59a","60a más","18a - 29a","30a - 59a","60a más","18a - 29a","30a - 59a","60a más","HSH","TRANS","TS-FEMENINO","TS-TRANS","TS-H"]
[{"$f":"+A170+1","v":65},"Nº HSH/TRANS ATENDIDOS/AS ",{"$f":"+GETPIVOTDATA(\" BAS065\",TABLAS!$A$402)","v":0},{"$f":"+GETPIVOTDATA(\" BAS141\",TABLAS!$A$402)","v":0},{"$f":"+GETPIVOTDATA(\" BAS217\",TABLAS!$A$402)","v":0},{"$f":"+GETPIVOTDATA(\" BAS065\",TABLAS!$A$463)","v":0},{"$f":"+GETPIVOTDATA(\" BAS141\",TABLAS!$A$463)","v":0},{"$f":"+GETPIVOTDATA(\" BAS217\",TABLAS!$A$463)","v":0},{"$f":"+GETPIVOTDATA(\" BAS065\",TABLAS!$A$433)","v":0},{"$f":"+GETPIVOTDATA(\" BAS141\",TABLAS!$A$433)","v":0},{"$f":"+GETPIVOTDATA(\" BAS217\",TABLAS!$A$433)","v":0},{"$f":"+GETPIVOTDATA(\" BAS065\",TABLAS!$A$495)","v":0},{"$f":"+GETPIVOTDATA(\" BAS141\",TABLAS!$A$495)","v":0},{"$f":"+GETPIVOTDATA(\" BAS217\",TABLAS!$A$495)","v":0},{"$f":"+GETPIVOTDATA(\" BAS065\",TABLAS!$A$525)","v":0},{"$f":"+GETPIVOTDATA(\" BAS141\",TABLAS!$A$525)","v":0},{"$f":"+GETPIVOTDATA(\" BAS217\",TABLAS!$A$525)","v":0},{"$f":"SUM(C175:E175)","v":0},{"$f":"SUM(F175:H175)","v":0},{"$f":"SUM(I175:K175)","v":0},{"$f":"SUM(L175:N175)","v":0},{"$f":"SUM(O175:Q175)","v":0},null,null,null,null,null,null,null,null,null,null,null,null,null,null,null,null,null,null,null,{"$f":"+AP170+1","v":65},null,null,null,null,{"$f":"IF(AP175<10,CONCATENATE(\"00\",AP175),IF(AND(AP175>9,AP175<100),CONCATENATE(\"0\",AP175),AP175))","v":"065"},null,null,null,null,{"$f":"CONCATENATE($CQ$49,AU175,$CQ$50)","v":"=+IMPORTARDATOSDINAMICOS(\" BAS065\",TABLAS!$A$525)"}]
[{"$f":"+A175+1","v":66}," Nº DE ATENCIONES A HSH/TRANS ",{"$f":"+GETPIVOTDATA(\" BAS066\",TABLAS!$A$402)","v":0},{"$f":"+GETPIVOTDATA(\" BAS142\",TABLAS!$A$402)","v":0},{"$f":"+GETPIVOTDATA(\" BAS218\",TABLAS!$A$402)","v":0},{"$f":"+GETPIVOTDATA(\" BAS066\",TABLAS!$A$463)","v":0},{"$f":"+GETPIVOTDATA(\" BAS142\",TABLAS!$A$463)","v":0},{"$f":"+GETPIVOTDATA(\" BAS218\",TABLAS!$A$463)","v":0},{"$f":"+GETPIVOTDATA(\" BAS066\",TABLAS!$A$433)","v":0},{"$f":"+GETPIVOTDATA(\" BAS142\",TABLAS!$A$433)","v":0},{"$f":"+GETPIVOTDATA(\" BAS218\",TABLAS!$A$433)","v":0},{"$f":"+GETPIVOTDATA(\" BAS066\",TABLAS!$A$495)","v":0},{"$f":"+GETPIVOTDATA(\" BAS142\",TABLAS!$A$495)","v":0},{"$f":"+GETPIVOTDATA(\" BAS218\",TABLAS!$A$495)","v":0},{"$f":"+GETPIVOTDATA(\" BAS066\",TABLAS!$A$525)","v":0},{"$f":"+GETPIVOTDATA(\" BAS142\",TABLAS!$A$525)","v":0},{"$f":"+GETPIVOTDATA(\" BAS218\",TABLAS!$A$525)","v":0},{"$f":"SUM(C176:E176)","v":0},{"$f":"SUM(F176:H176)","v":0},{"$f":"SUM(I176:K176)","v":0},{"$f":"SUM(L176:N176)","v":0},{"$f":"SUM(O176:Q176)","v":0},null,null,null,null,null,null,null,null,null,null,null,null,null,null,null,null,null,null,null,{"$f":"+AP175+1","v":66},null,null,null,null,"066",null,null,null,null,"=+IMPORTARDATOSDINAMICOS(\" BAS066\",TABLAS!$A$525)"]
[{"$f":"+A176+1","v":67}," Nº DE HSH/TRANS  TAMIZADOS/AS PARA VIH (1º TAMIZAJE) ",{"$f":"+GETPIVOTDATA(\" BAS067\",TABLAS!$A$402)","v":0},{"$f":"+GETPIVOTDATA(\" BAS143\",TABLAS!$A$402)","v":0},{"$f":"+GETPIVOTDATA(\" BAS219\",TABLAS!$A$402)","v":0},{"$f":"+GETPIVOTDATA(\" BAS067\",TABLAS!$A$463)","v":0},{"$f":"+GETPIVOTDATA(\" BAS143\",TABLAS!$A$463)","v":0},{"$f":"+GETPIVOTDATA(\" BAS219\",TABLAS!$A$463)","v":0},{"$f":"+GETPIVOTDATA(\" BAS067\",TABLAS!$A$433)","v":0},{"$f":"+GETPIVOTDATA(\" BAS143\",TABLAS!$A$433)","v":0},{"$f":"+GETPIVOTDATA(\" BAS219\",TABLAS!$A$433)","v":0},{"$f":"+GETPIVOTDATA(\" BAS067\",TABLAS!$A$495)","v":0},{"$f":"+GETPIVOTDATA(\" BAS143\",TABLAS!$A$495)","v":0},{"$f":"+GETPIVOTDATA(\" BAS219\",TABLAS!$A$495)","v":0},{"$f":"+GETPIVOTDATA(\" BAS067\",TABLAS!$A$525)","v":0},{"$f":"+GETPIVOTDATA(\" BAS143\",TABLAS!$A$525)","v":0},{"$f":"+GETPIVOTDATA(\" BAS219\",TABLAS!$A$525)","v":0},{"$f":"SUM(C177:E177)","v":0},0,0,0,0,null,null,null,null,null,null,null,null,null,null,null,null,null,null,null,null,null,null,null,{"$f":"+AP176+1","v":67},null,null,null,null,"067",null,null,null,null,"=+IMPORTARDATOSDINAMICOS(\" BAS067\",TABLAS!$A$525)"]
[68," Nº  HSH/TRANS CON TAMIZAJE PARA VIH CON RESULTADO REACTIVO ",{"$f":"+GETPIVOTDATA(\" BAS068\",TABLAS!$A$402)","v":0},{"$f":"+GETPIVOTDATA(\" BAS144\",TABLAS!$A$402)","v":0},{"$f":"+GETPIVOTDATA(\" BAS220\",TABLAS!$A$402)","v":0},{"$f":"+GETPIVOTDATA(\" BAS068\",TABLAS!$A$463)","v":0},{"$f":"+GETPIVOTDATA(\" BAS144\",TABLAS!$A$463)","v":0},{"$f":"+GETPIVOTDATA(\" BAS220\",TABLAS!$A$463)","v":0},{"$f":"+GETPIVOTDATA(\" BAS068\",TABLAS!$A$433)","v":0},{"$f":"+GETPIVOTDATA(\" BAS144\",TABLAS!$A$433)","v":0},{"$f":"+GETPIVOTDATA(\" BAS220\",TABLAS!$A$433)","v":0},{"$f":"+GETPIVOTDATA(\" BAS068\",TABLAS!$A$495)","v":0},{"$f":"+GETPIVOTDATA(\" BAS144\",TABLAS!$A$495)","v":0},{"$f":"+GETPIVOTDATA(\" BAS220\",TABLAS!$A$495)","v":0},{"$f":"+GETPIVOTDATA(\" BAS068\",TABLAS!$A$525)","v":0},{"$f":"+GETPIVOTDATA(\" BAS144\",TABLAS!$A$525)","v":0},{"$f":"+GETPIVOTDATA(\" BAS220\",TABLAS!$A$525)","v":0},{"$f":"SUM(C178:E178)","v":0},0,0,0,0,null,null,null,null,null,null,null,null,null,null,null,null,null,null,null,null,null,null,null,68,null,null,null,null,"068",null,null,null,null,"=+IMPORTARDATOSDINAMICOS(\" BAS068\",TABLAS!$A$525)"]
[69," Nº DE HSH/TRANS  TAMIZADOS/AS PARA SÍFILIS  (1º TAMIZAJE) ",{"$f":"+GETPIVOTDATA(\" BAS069\",TABLAS!$A$402)","v":0},{"$f":"+GETPIVOTDATA(\" BAS145\",TABLAS!$A$402)","v":0},{"$f":"+GETPIVOTDATA(\" BAS221\",TABLAS!$A$402)","v":0},{"$f":"+GETPIVOTDATA(\" BAS069\",TABLAS!$A$463)","v":0},{"$f":"+GETPIVOTDATA(\" BAS145\",TABLAS!$A$463)","v":0},{"$f":"+GETPIVOTDATA(\" BAS221\",TABLAS!$A$463)","v":0},{"$f":"+GETPIVOTDATA(\" BAS069\",TABLAS!$A$433)","v":0},{"$f":"+GETPIVOTDATA(\" BAS145\",TABLAS!$A$433)","v":0},{"$f":"+GETPIVOTDATA(\" BAS221\",TABLAS!$A$433)","v":0},{"$f":"+GETPIVOTDATA(\" BAS069\",TABLAS!$A$495)","v":0},{"$f":"+GETPIVOTDATA(\" BAS145\",TABLAS!$A$495)","v":0},{"$f":"+GETPIVOTDATA(\" BAS221\",TABLAS!$A$495)","v":0},{"$f":"+GETPIVOTDATA(\" BAS069\",TABLAS!$A$525)","v":0},{"$f":"+GETPIVOTDATA(\" BAS145\",TABLAS!$A$525)","v":0},{"$f":"+GETPIVOTDATA(\" BAS221\",TABLAS!$A$525)","v":0},0,0,0,0,0,null,null,null,null,null,null,null,null,null,null,null,null,null,null,null,null,null,null,null,69,null,null,null,null,"069",null,null,null,null,"=+IMPORTARDATOSDINAMICOS(\" BAS069\",TABLAS!$A$525)"]
[70," Nº  HSH/TRANS CON TAMIZAJE PARA SÍFILIS CON RESULTADO REACTIVO ",{"$f":"+GETPIVOTDATA(\" BAS070\",TABLAS!$A$402)","v":0},{"$f":"+GETPIVOTDATA(\" BAS146\",TABLAS!$A$402)","v":0},{"$f":"+GETPIVOTDATA(\" BAS222\",TABLAS!$A$402)","v":0},{"$f":"+GETPIVOTDATA(\" BAS070\",TABLAS!$A$463)","v":0},{"$f":"+GETPIVOTDATA(\" BAS146\",TABLAS!$A$463)","v":0},{"$f":"+GETPIVOTDATA(\" BAS222\",TABLAS!$A$463)","v":0},{"$f":"+GETPIVOTDATA(\" BAS070\",TABLAS!$A$433)","v":0},{"$f":"+GETPIVOTDATA(\" BAS146\",TABLAS!$A$433)","v":0},{"$f":"+GETPIVOTDATA(\" BAS222\",TABLAS!$A$433)","v":0},{"$f":"+GETPIVOTDATA(\" BAS070\",TABLAS!$A$495)","v":0},{"$f":"+GETPIVOTDATA(\" BAS146\",TABLAS!$A$495)","v":0},{"$f":"+GETPIVOTDATA(\" BAS222\",TABLAS!$A$495)","v":0},{"$f":"+GETPIVOTDATA(\" BAS070\",TABLAS!$A$525)","v":0},{"$f":"+GETPIVOTDATA(\" BAS146\",TABLAS!$A$525)","v":0},{"$f":"+GETPIVOTDATA(\" BAS222\",TABLAS!$A$525)","v":0},0,0,0,0,0,null,null,null,null,null,null,null,null,null,null,null,null,null,null,null,null,null,null,null,70,null,null,null,null,"070",null,null,null,null,"=+IMPORTARDATOSDINAMICOS(\" BAS070\",TABLAS!$A$525)"]
[71," Nº DE HSH/TRANS  TAMIZADOS/AS PARA HEPATITIS  (1º TAMIZAJE) ",{"$f":"+GETPIVOTDATA(\" BAS071\",TABLAS!$A$402)","v":0},{"$f":"+GETPIVOTDATA(\" BAS147\",TABLAS!$A$402)","v":0},{"$f":"+GETPIVOTDATA(\" BAS223\",TABLAS!$A$402)","v":0},{"$f":"+GETPIVOTDATA(\" BAS071\",TABLAS!$A$463)","v":0},{"$f":"+GETPIVOTDATA(\" BAS147\",TABLAS!$A$463)","v":0},{"$f":"+GETPIVOTDATA(\" BAS223\",TABLAS!$A$463)","v":0},{"$f":"+GETPIVOTDATA(\" BAS071\",TABLAS!$A$433)","v":0},{"$f":"+GETPIVOTDATA(\" BAS147\",TABLAS!$A$433)","v":0},{"$f":"+GETPIVOTDATA(\" BAS223\",TABLAS!$A$433)","v":0},{"$f":"+GETPIVOTDATA(\" BAS071\",TABLAS!$A$495)","v":0},{"$f":"+GETPIVOTDATA(\" BAS147\",TABLAS!$A$495)","v":0},{"$f":"+GETPIVOTDATA(\" BAS223\",TABLAS!$A$495)","v":0},{"$f":"+GETPIVOTDATA(\" BAS071\",TABLAS!$A$525)","v":0},{"$f":"+GETPIVOTDATA(\" BAS147\",TABLAS!$A$525)","v":0},{"$f":"+GETPIVOTDATA(\" BAS223\",TABLAS!$A$525)","v":0},0,0,0,0,0,null,null,null,null,null,null,null,null,null,null,null,null,null,null,null,null,null,null,null,71,null,null,null,null,"071",null,null,null,null,"=+IMPORTARDATOSDINAMICOS(\" BAS071\",TABLAS!$A$525)"]
[72," Nº  HSH/TRANS CON TAMIZAJE PARA HEPATITIS CON RESULTADO REACTIVO ",{"$f":"+GETPIVOTDATA(\" BAS072\",TABLAS!$A$402)","v":0},{"$f":"+GETPIVOTDATA(\" BAS148\",TABLAS!$A$402)","v":0},{"$f":"+GETPIVOTDATA(\" BAS224\",TABLAS!$A$402)","v":0},{"$f":"+GETPIVOTDATA(\" BAS072\",TABLAS!$A$463)","v":0},{"$f":"+GETPIVOTDATA(\" BAS148\",TABLAS!$A$463)","v":0},{"$f":"+GETPIVOTDATA(\" BAS224\",TABLAS!$A$463)","v":0},{"$f":"+GETPIVOTDATA(\" BAS072\",TABLAS!$A$433)","v":0},{"$f":"+GETPIVOTDATA(\" BAS148\",TABLAS!$A$433)","v":0},{"$f":"+GETPIVOTDATA(\" BAS224\",TABLAS!$A$433)","v":0},{"$f":"+GETPIVOTDATA(\" BAS072\",TABLAS!$A$495)","v":0},{"$f":"+GETPIVOTDATA(\" BAS148\",TABLAS!$A$495)","v":0},{"$f":"+GETPIVOTDATA(\" BAS224\",TABLAS!$A$495)","v":0},{"$f":"+GETPIVOTDATA(\" BAS072\",TABLAS!$A$525)","v":0},{"$f":"+GETPIVOTDATA(\" BAS148\",TABLAS!$A$525)","v":0},{"$f":"+GETPIVOTDATA(\" BAS224\",TABLAS!$A$525)","v":0},0,0,0,0,0,null,null,null,null,null,null,null,null,null,null,null,null,null,null,null,null,null,null,null,72,null,null,null,null,"072",null,null,null,null,"=+IMPORTARDATOSDINAMICOS(\" BAS072\",TABLAS!$A$525)"]
[]
[null,"12- BRIGADAS MÓVILES AMAZONICAS- BMA","FEMENINO",null,null,null,null,"MASCULINO",null,null,null,null,"Total"]
[null,null,"01d - 11a","12a - 17a","18a - 29a","30a - 59a","60a más","01d - 11a","12a - 17a","18a - 29a","30a - 59a","60a más","F","M","Total"]
[{"$f":"+A129+4","v":200},"Nº  ATENDIDOS/AS ",{"$f":"+GETPIVOTDATA(\" BAS200\",TABLAS!$A$75)","v":0},{"$f":"+GETPIVOTDATA(\" BAS200\",TABLAS!$A$142)","v":0},{"$f":"+GETPIVOTDATA(\" BAS200\",TABLAS!$A$211)","v":0},{"$f":"+GETPIVOTDATA(\" BAS200\",TABLAS!$A$281)","v":0},{"$f":"+GETPIVOTDATA(\" BAS200\",TABLAS!$A$341)","v":0},{"$f":"+GETPIVOTDATA(\" BAS200\",TABLAS!$A$108)","v":0},{"$f":"+GETPIVOTDATA(\" BAS200\",TABLAS!$A$176)","v":0},{"$f":"+GETPIVOTDATA(\" BAS200\",TABLAS!$A$246)","v":0},{"$f":"+GETPIVOTDATA(\" BAS200\",TABLAS!$A$311)","v":0},{"$f":"+GETPIVOTDATA(\" BAS200\",TABLAS!$A$372)","v":0},{"$f":"SUM(C186:G186)","v":0},{"$f":"SUM(H186:L186)","v":0},{"$f":"SUM(M186:N186)","v":0},null,null,null,null,null,null,null,null,null,null,null,null,null,null,null,null,null,null,null,null,null,null,null,null,null,null,{"$f":"+AP129+AT129+1","v":200},null,null,null,null,{"$f":"IF(AP186<10,CONCATENATE(\"00\",AP186),IF(AND(AP186>9,AP186<100),CONCATENATE(\"0\",AP186),AP186))","v":200},null,null,null,null,{"$f":"IF(LEN(AU186)=0,\"\",CONCATENATE($CQ$14,AU186,$CQ$15))","v":"=+IMPORTARDATOSDINAMICOS(\" BAS200\",TABLAS!$A$372)"}]
[{"$f":"+A186+1","v":201}," Nº DE ATENCIONES  ",{"$f":"+GETPIVOTDATA(\" BAS201\",TABLAS!$A$75)","v":0},{"$f":"+GETPIVOTDATA(\" BAS201\",TABLAS!$A$142)","v":0},{"$f":"+GETPIVOTDATA(\" BAS201\",TABLAS!$A$211)","v":0},{"$f":"+GETPIVOTDATA(\" BAS201\",TABLAS!$A$281)","v":0},{"$f":"+GETPIVOTDATA(\" BAS201\",TABLAS!$A$341)","v":0},{"$f":"+GETPIVOTDATA(\" BAS201\",TABLAS!$A$108)","v":0},{"$f":"+GETPIVOTDATA(\" BAS201\",TABLAS!$A$176)","v":0},{"$f":"+GETPIVOTDATA(\" BAS201\",TABLAS!$A$246)","v":0},{"$f":"+GETPIVOTDATA(\" BAS201\",TABLAS!$A$311)","v":0},{"$f":"+GETPIVOTDATA(\" BAS201\",TABLAS!$A$372)","v":0},{"$f":"SUM(C187:G187)","v":0},{"$f":"SUM(H187:L187)","v":0},{"$f":"SUM(M187:N187)","v":0},null,null,null,null,null,null,null,null,null,null,null,null,null,null,null,null,null,null,null,null,null,null,null,null,null,null,{"$f":"+AP186+1","v":201},null,null,null,null,201,null,null,null,null,"=+IMPORTARDATOSDINAMICOS(\" BAS201\",TABLAS!$A$372)"]
[{"$f":"+A187+1","v":202}," Nº DE PERSONAS TAMIZADAS PARA VIH (1º TAMIZAJE) ",{"$f":"+GETPIVOTDATA(\" BAS202\",TABLAS!$A$75)","v":0},{"$f":"+GETPIVOTDATA(\" BAS202\",TABLAS!$A$142)","v":0},{"$f":"+GETPIVOTDATA(\" BAS202\",TABLAS!$A$211)","v":0},{"$f":"+GETPIVOTDATA(\" BAS202\",TABLAS!$A$281)","v":0},{"$f":"+GETPIVOTDATA(\" BAS202\",TABLAS!$A$341)","v":0},{"$f":"+GETPIVOTDATA(\" BAS202\",TABLAS!$A$108)","v":0},{"$f":"+GETPIVOTDATA(\" BAS202\",TABLAS!$A$176)","v":0},{"$f":"+GETPIVOTDATA(\" BAS202\",TABLAS!$A$246)","v":0},{"$f":"+GETPIVOTDATA(\" BAS202\",TABLAS!$A$311)","v":0},{"$f":"+GETPIVOTDATA(\" BAS202\",TABLAS!$A$372)","v":0},0,0,0,null,null,null,null,null,null,null,null,null,null,null,null,null,null,null,null,null,null,null,null,null,null,null,null,null,null,{"$f":"+AP187+1","v":202},null,null,null,null,202,null,null,null,null,"=+IMPORTARDATOSDINAMICOS(\" BAS202\",TABLAS!$A$372)"]
[203," Nº  DE PERSONAS TAMIZADAS PARA  PARA VIH CON RESULTADO REACTIVO ",{"$f":"+GETPIVOTDATA(\" BAS203\",TABLAS!$A$75)","v":0},{"$f":"+GETPIVOTDATA(\" BAS203\",TABLAS!$A$142)","v":0},{"$f":"+GETPIVOTDATA(\" BAS203\",TABLAS!$A$211)","v":0},{"$f":"+GETPIVOTDATA(\" BAS203\",TABLAS!$A$281)","v":0},{"$f":"+GETPIVOTDATA(\" BAS203\",TABLAS!$A$341)","v":0},{"$f":"+GETPIVOTDATA(\" BAS203\",TABLAS!$A$108)","v":0},{"$f":"+GETPIVOTDATA(\" BAS203\",TABLAS!$A$176)","v":0},{"$f":"+GETPIVOTDATA(\" BAS203\",TABLAS!$A$246)","v":0},{"$f":"+GETPIVOTDATA(\" BAS203\",TABLAS!$A$311)","v":0},{"$f":"+GETPIVOTDATA(\" BAS203\",TABLAS!$A$372)","v":0},0,0,0,null,null,null,null,null,null,null,null,null,null,null,null,null,null,null,null,null,null,null,null,null,null,null,null,null,null,203,null,null,null,null,203,null,null,null,null,"=+IMPORTARDATOSDINAMICOS(\" BAS203\",TABLAS!$A$372)"]
[204," Nº DE PERSONAS TAMIZADAS PARA SÍFILIS  (1º TAMIZAJE) ",{"$f":"+GETPIVOTDATA(\" BAS204\",TABLAS!$A$75)","v":0},{"$f":"+GETPIVOTDATA(\" BAS204\",TABLAS!$A$142)","v":0},{"$f":"+GETPIVOTDATA(\" BAS204\",TABLAS!$A$211)","v":0},{"$f":"+GETPIVOTDATA(\" BAS204\",TABLAS!$A$281)","v":0},{"$f":"+GETPIVOTDATA(\" BAS204\",TABLAS!$A$341)","v":0},{"$f":"+GETPIVOTDATA(\" BAS204\",TABLAS!$A$108)","v":0},{"$f":"+GETPIVOTDATA(\" BAS204\",TABLAS!$A$176)","v":0},{"$f":"+GETPIVOTDATA(\" BAS204\",TABLAS!$A$246)","v":0},{"$f":"+GETPIVOTDATA(\" BAS204\",TABLAS!$A$311)","v":0},{"$f":"+GETPIVOTDATA(\" BAS204\",TABLAS!$A$372)","v":0},0,0,0,null,null,null,null,null,null,null,null,null,null,null,null,null,null,null,null,null,null,null,null,null,null,null,null,null,null,204,null,null,null,null,204,null,null,null,null,"=+IMPORTARDATOSDINAMICOS(\" BAS204\",TABLAS!$A$372)"]
[205," Nº DE PERSONAS TAMIZADAS PARA SÍFILIS CON RESULTADO REACTIVO ",{"$f":"+GETPIVOTDATA(\" BAS205\",TABLAS!$A$75)","v":0},{"$f":"+GETPIVOTDATA(\" BAS205\",TABLAS!$A$142)","v":0},{"$f":"+GETPIVOTDATA(\" BAS205\",TABLAS!$A$211)","v":0},{"$f":"+GETPIVOTDATA(\" BAS205\",TABLAS!$A$281)","v":0},{"$f":"+GETPIVOTDATA(\" BAS205\",TABLAS!$A$341)","v":0},{"$f":"+GETPIVOTDATA(\" BAS205\",TABLAS!$A$108)","v":0},{"$f":"+GETPIVOTDATA(\" BAS205\",TABLAS!$A$176)","v":0},{"$f":"+GETPIVOTDATA(\" BAS205\",TABLAS!$A$246)","v":0},{"$f":"+GETPIVOTDATA(\" BAS205\",TABLAS!$A$311)","v":0},{"$f":"+GETPIVOTDATA(\" BAS205\",TABLAS!$A$372)","v":0},0,0,0,null,null,null,null,null,null,null,null,null,null,null,null,null,null,null,null,null,null,null,null,null,null,null,null,null,null,205,null,null,null,null,205,null,null,null,null,"=+IMPORTARDATOSDINAMICOS(\" BAS205\",TABLAS!$A$372)"]
[206," Nº DE PERSONAS TAMIZADAS  PARA HEPATITIS  (1º TAMIZAJE) ",{"$f":"+GETPIVOTDATA(\" BAS206\",TABLAS!$A$75)","v":0},{"$f":"+GETPIVOTDATA(\" BAS206\",TABLAS!$A$142)","v":0},{"$f":"+GETPIVOTDATA(\" BAS206\",TABLAS!$A$211)","v":0},{"$f":"+GETPIVOTDATA(\" BAS206\",TABLAS!$A$281)","v":0},{"$f":"+GETPIVOTDATA(\" BAS206\",TABLAS!$A$341)","v":0},{"$f":"+GETPIVOTDATA(\" BAS206\",TABLAS!$A$108)","v":0},{"$f":"+GETPIVOTDATA(\" BAS206\",TABLAS!$A$176)","v":0},{"$f":"+GETPIVOTDATA(\" BAS206\",TABLAS!$A$246)","v":0},{"$f":"+GETPIVOTDATA(\" BAS206\",TABLAS!$A$311)","v":0},{"$f":"+GETPIVOTDATA(\" BAS206\",TABLAS!$A$372)","v":0},0,0,0,null,null,null,null,null,null,null,null,null,null,null,null,null,null,null,null,null,null,null,null,null,null,null,null,null,null,206,null,null,null,null,206,null,null,null,null,"=+IMPORTARDATOSDINAMICOS(\" BAS206\",TABLAS!$A$372)"]
[207," Nº  DE PERSONAS TAMIZADAS PARA PARA HEPATITIS CON RESULTADO REACTIVO ",{"$f":"+GETPIVOTDATA(\" BAS207\",TABLAS!$A$75)","v":0},{"$f":"+GETPIVOTDATA(\" BAS207\",TABLAS!$A$142)","v":0},{"$f":"+GETPIVOTDATA(\" BAS207\",TABLAS!$A$211)","v":0},{"$f":"+GETPIVOTDATA(\" BAS207\",TABLAS!$A$281)","v":0},{"$f":"+GETPIVOTDATA(\" BAS207\",TABLAS!$A$341)","v":0},{"$f":"+GETPIVOTDATA(\" BAS207\",TABLAS!$A$108)","v":0},{"$f":"+GETPIVOTDATA(\" BAS207\",TABLAS!$A$176)","v":0},{"$f":"+GETPIVOTDATA(\" BAS207\",TABLAS!$A$246)","v":0},{"$f":"+GETPIVOTDATA(\" BAS207\",TABLAS!$A$311)","v":0},{"$f":"+GETPIVOTDATA(\" BAS207\",TABLAS!$A$372)","v":0},0,0,0,null,null,null,null,null,null,null,null,null,null,null,null,null,null,null,null,null,null,null,null,null,null,null,null,null,null,207,null,null,null,3,207,null,null,null,null,"=+IMPORTARDATOSDINAMICOS(\" BAS207\",TABLAS!$A$372)"]
[]
[]
[null,"13.TELEMEDICINA","FEMENINO",null,null,null,null,"MASCULINO",null,null,null,null,"Total"]
[null,null,"01d - 11a","12a - 17a","18a - 29a","30a - 59a","60a más","01d - 11a","12a - 17a","18a - 29a","30a - 59a","60a más","F","M","Total"]
[{"$f":"+A193+4","v":211},"NÚMERO DE TELEORIENTACIONES REALIZADOS EN LOS SERVICIOS DE VIH,ITS Y HEPATITIS",{"$f":"+GETPIVOTDATA(\" BAS211\",TABLAS!$A$75)","v":0},{"$f":"+GETPIVOTDATA(\" BAS211\",TABLAS!$A$142)","v":0},{"$f":"+GETPIVOTDATA(\" BAS211\",TABLAS!$A$211)","v":0},{"$f":"+GETPIVOTDATA(\" BAS211\",TABLAS!$A$281)","v":0},{"$f":"+GETPIVOTDATA(\" BAS211\",TABLAS!$A$341)","v":0},{"$f":"+GETPIVOTDATA(\" BAS211\",TABLAS!$A$108)","v":0},{"$f":"+GETPIVOTDATA(\" BAS211\",TABLAS!$A$176)","v":0},{"$f":"+GETPIVOTDATA(\" BAS211\",TABLAS!$A$246)","v":0},{"$f":"+GETPIVOTDATA(\" BAS211\",TABLAS!$A$311)","v":0},{"$f":"+GETPIVOTDATA(\" BAS211\",TABLAS!$A$372)","v":1},{"$f":"SUM(C198:G198)","v":0},{"$f":"SUM(H198:L198)","v":1},{"$f":"SUM(M198:N198)","v":1},null,null,null,null,null,null,null,null,null,null,null,null,null,null,null,null,null,null,null,null,null,null,null,null,null,null,{"$f":"+AP193+AT193+1","v":211},null,null,null,null,{"$f":"IF(AP198<10,CONCATENATE(\"00\",AP198),IF(AND(AP198>9,AP198<100),CONCATENATE(\"0\",AP198),AP198))","v":211},null,null,null,null,{"$f":"IF(LEN(AU198)=0,\"\",CONCATENATE($CQ$14,AU198,$CQ$15))","v":"=+IMPORTARDATOSDINAMICOS(\" BAS211\",TABLAS!$A$372)"}]
[{"$f":"+A198+1","v":212},"NÚMERO DE TELEMONITOREOS REALIZADOS EN LOS SERVICIOS DE VIH, ITS Y HEPATITIS",{"$f":"+GETPIVOTDATA(\" BAS212\",TABLAS!$A$75)","v":0},{"$f":"+GETPIVOTDATA(\" BAS212\",TABLAS!$A$142)","v":0},{"$f":"+GETPIVOTDATA(\" BAS212\",TABLAS!$A$211)","v":0},{"$f":"+GETPIVOTDATA(\" BAS212\",TABLAS!$A$281)","v":4},{"$f":"+GETPIVOTDATA(\" BAS212\",TABLAS!$A$341)","v":0},{"$f":"+GETPIVOTDATA(\" BAS212\",TABLAS!$A$108)","v":0},{"$f":"+GETPIVOTDATA(\" BAS212\",TABLAS!$A$176)","v":1},{"$f":"+GETPIVOTDATA(\" BAS212\",TABLAS!$A$246)","v":2},{"$f":"+GETPIVOTDATA(\" BAS212\",TABLAS!$A$311)","v":8},{"$f":"+GETPIVOTDATA(\" BAS212\",TABLAS!$A$372)","v":1},4,12,16,null,null,null,null,null,null,null,null,null,null,null,null,null,null,null,null,null,null,null,null,null,null,null,null,null,null,{"$f":"+AP198+1","v":212},null,null,null,null,{"$f":"IF(AP199<10,CONCATENATE(\"00\",AP199),IF(AND(AP199>9,AP199<100),CONCATENATE(\"0\",AP199),AP199))","v":212},null,null,null,null,{"$f":"IF(LEN(AU199)=0,\"\",CONCATENATE($CQ$14,AU199,$CQ$15))","v":"=+IMPORTARDATOSDINAMICOS(\" BAS212\",TABLAS!$A$372)"}]
[{"$f":"+A199+1","v":213},"NÚMERO DE TELECONSULTAS REALIZADOS EN LOS SERVICIOS DE VIH, ITS Y HEPATITIS",{"$f":"+GETPIVOTDATA(\" BAS213\",TABLAS!$A$75)","v":0},{"$f":"+GETPIVOTDATA(\" BAS213\",TABLAS!$A$142)","v":0},{"$f":"+GETPIVOTDATA(\" BAS213\",TABLAS!$A$211)","v":0},{"$f":"+GETPIVOTDATA(\" BAS213\",TABLAS!$A$281)","v":0},{"$f":"+GETPIVOTDATA(\" BAS213\",TABLAS!$A$341)","v":0},{"$f":"+GETPIVOTDATA(\" BAS213\",TABLAS!$A$108)","v":0},{"$f":"+GETPIVOTDATA(\" BAS213\",TABLAS!$A$176)","v":0},{"$f":"+GETPIVOTDATA(\" BAS213\",TABLAS!$A$246)","v":0},{"$f":"+GETPIVOTDATA(\" BAS213\",TABLAS!$A$311)","v":0},{"$f":"+GETPIVOTDATA(\" BAS213\",TABLAS!$A$372)","v":0},0,0,0,null,null,null,null,null,null,null,null,null,null,null,null,null,null,null,null,null,null,null,null,null,null,null,null,null,null,{"$f":"+AP199+1","v":213},null,null,null,null,{"$f":"IF(AP200<10,CONCATENATE(\"00\",AP200),IF(AND(AP200>9,AP200<100),CONCATENATE(\"0\",AP200),AP200))","v":213},null,null,null,null,{"$f":"IF(LEN(AU200)=0,\"\",CONCATENATE($CQ$14,AU200,$CQ$15))","v":"=+IMPORTARDATOSDINAMICOS(\" BAS213\",TABLAS!$A$372)"}]
[214,"NÚMERO DE TELEMONITOREOS REALIZADOS A LOS PACIENTES CON VIH",{"$f":"+GETPIVOTDATA(\" BAS214\",TABLAS!$A$75)","v":0},{"$f":"+GETPIVOTDATA(\" BAS214\",TABLAS!$A$142)","v":0},{"$f":"+GETPIVOTDATA(\" BAS214\",TABLAS!$A$211)","v":0},{"$f":"+GETPIVOTDATA(\" BAS214\",TABLAS!$A$281)","v":4},{"$f":"+GETPIVOTDATA(\" BAS214\",TABLAS!$A$341)","v":0},{"$f":"+GETPIVOTDATA(\" BAS214\",TABLAS!$A$108)","v":0},{"$f":"+GETPIVOTDATA(\" BAS214\",TABLAS!$A$176)","v":1},{"$f":"+GETPIVOTDATA(\" BAS214\",TABLAS!$A$246)","v":2},{"$f":"+GETPIVOTDATA(\" BAS214\",TABLAS!$A$311)","v":8},{"$f":"+GETPIVOTDATA(\" BAS214\",TABLAS!$A$372)","v":0},4,11,15,null,null,null,null,null,null,null,null,null,null,null,null,null,null,null,null,null,null,null,null,null,null,null,null,null,null,214,null,null,null,null,{"$f":"IF(AP201<10,CONCATENATE(\"00\",AP201),IF(AND(AP201>9,AP201<100),CONCATENATE(\"0\",AP201),AP201))","v":214},null,null,null,null,{"$f":"IF(LEN(AU201)=0,\"\",CONCATENATE($CQ$14,AU201,$CQ$15))","v":"=+IMPORTARDATOSDINAMICOS(\" BAS214\",TABLAS!$A$372)"}]
[215,"NÚMERO DE TELEMONITOREOS REALIZADO A LOS PACIENTES CON HEPATITIS B CRÓNICA",{"$f":"+GETPIVOTDATA(\" BAS215\",TABLAS!$A$75)","v":0},{"$f":"+GETPIVOTDATA(\" BAS215\",TABLAS!$A$142)","v":0},{"$f":"+GETPIVOTDATA(\" BAS215\",TABLAS!$A$211)","v":0},{"$f":"+GETPIVOTDATA(\" BAS215\",TABLAS!$A$281)","v":0},{"$f":"+GETPIVOTDATA(\" BAS215\",TABLAS!$A$341)","v":0},{"$f":"+GETPIVOTDATA(\" BAS215\",TABLAS!$A$108)","v":0},{"$f":"+GETPIVOTDATA(\" BAS215\",TABLAS!$A$176)","v":0},{"$f":"+GETPIVOTDATA(\" BAS215\",TABLAS!$A$246)","v":0},{"$f":"+GETPIVOTDATA(\" BAS215\",TABLAS!$A$311)","v":0},{"$f":"+GETPIVOTDATA(\" BAS215\",TABLAS!$A$372)","v":0},0,0,0,null,null,null,null,null,null,null,null,null,null,null,null,null,null,null,null,null,null,null,null,null,null,null,null,null,null,215,null,null,null,null,{"$f":"IF(AP202<10,CONCATENATE(\"00\",AP202),IF(AND(AP202>9,AP202<100),CONCATENATE(\"0\",AP202),AP202))","v":215},null,null,null,null,{"$f":"IF(LEN(AU202)=0,\"\",CONCATENATE($CQ$14,AU202,$CQ$15))","v":"=+IMPORTARDATOSDINAMICOS(\" BAS215\",TABLAS!$A$372)"}]

{"sheet":"Instructivo","index":4,"n_rows":138,"n_cols":24,"rows_kept":138,"cut":false,"hidden":true,"merged":[[7,0,7,1],[9,0,9,1],[11,0,11,1],[13,0,13,1],[15,0,15,1],[17,0,17,1],[0,0,0,23],[1,0,1,23],[2,0,2,23],[4,0,4,23],[5,6,5,9],[6,0,6,1],[6,6,6,8],[20,0,22,1],[20,2,20,11],[20,12,20,21],[20,22,22,22],[20,23,22,23],[21,2,21,3],[21,4,21,5],[21,6,21,7],[21,8,21,9],[21,10,21,11],[24,12,24,21],[25,2,25,11],[26,2,26,11],[26,12,26,21],[27,2,27,11],[27,12,27,21],[21,12,21,13],[21,14,21,15],[21,16,21,17],[21,18,21,19],[21,20,21,21],[23,2,23,11],[23,12,23,21],[34,0,35,1],[34,2,34,6],[34,7,34,11],[28,2,28,11],[29,2,29,11],[29,12,29,21],[30,2,30,11],[30,12,30,21],[31,2,31,11],[31,12,31,21],[36,2,36,6],[36,7,36,11],[37,2,37,6],[37,7,37,11],[38,2,38,6],[38,7,38,11],[32,4,32,11],[32,12,32,13],[32,14,32,21],[43,0,44,1],[43,2,43,6],[43,7,43,11],[45,2,45,6],[45,7,45,11],[45,12,45,14],[39,2,39,6],[39,7,39,11],[40,2,40,6],[40,7,40,11],[41,2,41,6],[41,7,41,11],[49,2,49,6],[49,7,49,11],[50,2,50,6],[50,7,50,11],[52,0,53,1],[52,2,52,6],[52,7,52,11],[46,2,46,6],[46,7,46,11],[47,2,47,6],[47,7,47,11],[48,2,48,6],[48,7,48,11],[57,2,57,6],[57,7,57,11],[58,2,59,3],[58,4,58,6],[58,7,59,8],[58,9,58,11],[59,4,59,6],[59,9,59,11],[54,4,54,6],[54,9,54,11],[55,4,55,6],[55,9,55,11],[56,2,56,6],[56,7,56,11],[65,2,65,6],[65,7,65,11],[66,2,66,6],[66,7,66,11],[67,2,67,6],[67,7,67,11],[61,0,62,1],[61,2,61,6],[61,7,61,11],[63,2,63,6],[63,7,63,11],[64,2,64,6],[64,7,64,11],[71,2,71,6],[71,7,71,11],[72,2,72,6],[72,7,72,11],[73,2,73,6],[73,7,73,11],[68,2,68,6],[68,7,68,11],[69,2,69,6],[69,7,69,11],[70,2,70,6],[70,7,70,11],[77,3,77,5],[77,6,77,8],[78,3,78,5],[78,6,78,8],[79,3,79,5],[79,6,79,8],[75,0,76,1],[75,2,76,2],[75,3,76,3],[75,4,76,4],[75,5,76,5],[75,6,75,8],[79,9,85,9],[80,3,80,5],[80,6,80,8],[81,3,81,5],[81,6,81,8],[82,3,82,5],[82,6,82,8],[83,3,83,5],[84,3,84,5],[84,6,84,8],[90,2,90,5],[91,2,91,5],[92,2,92,5],[94,0,95,1],[94,2,94,4],[94,5,94,7],[85,3,85,5],[85,6,85,8],[86,2,86,5],[87,2,87,5],[88,2,88,5],[89,2,89,5],[101,2,101,10],[102,2,102,10],[103,2,103,10],[104,2,104,10],[106,0,107,1],[106,2,106,4],[106,5,106,7],[106,8,106,10],[94,8,94,10],[96,2,96,10],[97,2,97,10],[98,2,98,10],[99,2,99,10],[100,2,100,10],[106,11,106,13],[106,14,107,14],[106,15,107,15],[108,2,108,10],[108,11,108,13],[109,5,109,10],[109,11,109,13],[109,14,113,14],[109,15,113,15],[110,2,110,4],[114,2,114,10],[114,11,114,13],[115,2,115,10],[115,11,115,13],[116,2,116,10],[116,11,116,13],[110,11,110,13],[111,2,111,10],[111,11,111,13],[112,2,112,10],[112,11,112,13],[113,2,113,4],[113,11,113,13],[123,2,123,7],[124,2,124,7],[125,2,125,7],[126,2,126,7],[127,2,127,7],[129,0,130,1],[129,2,129,4],[129,5,129,7],[118,0,119,1],[118,2,118,4],[118,5,118,7],[120,2,120,7],[121,2,121,7],[122,2,122,7],[134,2,134,7],[135,2,135,7],[136,2,136,7],[137,2,137,7],[129,8,130,8],[129,9,130,9],[129,10,130,10],[131,2,131,7],[132,2,132,7],[133,2,133,7]]}
["HOJA DE MONITORIZACION DE ACTIVIDADES - VERSIÓN 2016"]
["ESTRATEGIA SANITARIA NACIONAL DE PREVENCION Y CONTROL DE ITS, VIH/Sida Y HEPATITIS B"]
["INSTRUCTIVO"]
[]
["La Hoja de Monitorización de Actividades es un instrumento que consolida información mensual de diagnósticos y actividades NUEVAS relacionadas a la Estrategia Sanitaria de Prevención y Control de ITS, VIH y Hepatitis B. \nEl reporte es elaborado por cada EESS público y no público que cuente con la Estrategia Sanitaria. Debe ser consolidado por las Micro redes, Redes de Salud, IGSS / DIRESAS / GERESAS según su jurisdicción y competencia, en los períodos correspondientes. \nCada región deberá remitir a la Estrategia Sanitaria Nacional  trimestralmente por medio electrónico, en el plazo no mayor de 15 días de culminado el período trimestral.\nFuentes de información: Estadística (HIS) y Libros de Registros de atención continua de la ESPCITS, VIH y Hepatitis B."]
[]
["Registrar la entidad según corresponda: ",null,null,null,null,null,"Marca con una \"X\" el sector que pertenezca"]
["DIRESA/DISA/GERESA ",null,null,null,null,null,"MINSA "]
[]
["RED ",null,null,null,null,null,"ESSALUD "]
[]
["MICRO RED",null,null,null,null,null,"SANIDAD FFAA - PNP "]
[]
["ESTABLECIMIENTO ",null,null,null,null,null,"INPE "]
[]
["MES ",null,null,null,null,null,"ONG"]
[]
["AÑO ",null,null,null,null,null,"OTRA  (especificar)"]
[]
[]
["1.-  POBLACION GENERAL: ITS",null,"Femenino",null,null,null,null,null,null,null,null,null,"Masculino",null,null,null,null,null,null,null,null,null,"Contactos","Contactos Tratados"]
[null,null," 0-11a",null,"12-17a",null,"18-29a",null,"30-59a",null,"60a más",null," 0-11a",null,"12-17a",null,"18-29a",null,"30-59a",null,"60a más"]
[null,null,"Diagnóstico","Tratado","Diagnóstico","Tratado","Diagnóstico","Tratado","Diagnóstico","Tratado","Diagnóstico","Tratado","Diagnóstico","Tratado","Diagnóstico","Tratado","Diagnóstico","Tratado","Diagnóstico","Tratado","Diagnóstico","Tratado"]
[1.1000000000000001,"N° de Personas con manejo sindrómico","Reportar de la población general el total de mujeres por grupo etáreo con \"diagnóstico\" sindrómico de ITS y aquellas que recibieron \"tratamiento\" en base a los flujogramas de atención. Incluye gestantes. No incluye población trans, ni TS.",null,null,null,null,null,null,null,null,null,"Reportar por grupo etáreo de la población general el total de varones a quienes se realizó el \"diagnóstico\" sindrómico de ITS y recibieron \"tratamiento\" en base a los flujogramas de atención. No incluye HSH, trans, ni TS.",null,null,null,null,null,null,null,null,null,"Reportar el total de contactos de las personas con diagnóstico sindrómico de ITS. ","Reportar el total de contactos de las personas con diagnóstico sindrómico de ITS que recibieron tratamiento.  "]
["1.2.","Nº de casos de descarga uretral",null,null,null,null,null,null,null,null,null,null,"Reportar por grupo etáreo el número de casos con Descarga uretral en varones y su respectiva conclusión de \"tratamiento\" en base a los flujogramas de manejo sindrómico. Incluye población general. No incluye HSH, trans, ni TS. ",null,null,null,null,null,null,null,null,null,"Reportar el número de contactos  por los casos de Descarga uretral. ","Reportar el número de contactos por los casos con Descarga uretral que recibieron tratamiento.  "]
["1.3.","Nº de casos de flujo vaginal compatible con ITS","Reportar por grupo etáreo el número de casos con Flujo vaginal en mujeres que SOLO sean compatibles a una ITS y su respectivo \"tratamiento\" en base a los flujogramas de manejo sindrómico. Incluye gestantes. No incluye población trans, ni TS.",null,null,null,null,null,null,null,null,null,null,null,null,null,null,null,null,null,null,null,null,"Reportar el número de contactos por los casos con Flujo Vaginal que recibieron tratamiento.  "]
["1.4.","Nº de casos de úlcera genital ","Reportar por grupo etáreo el número de casos con úlcera genital en mujeres y su respectivo \"tratamiento\" en base a los flujogramas de manejo sindrómico. Incluye gestantes.No incluye población trans, ni TS. ",null,null,null,null,null,null,null,null,null,"Reportar por grupo etáreo el número de casos con úlcera genital en varones y su respectiva conclusión de \"tratamiento\" en base a los flujogramas de manejo sindrómico. No incluye HSH, trans, ni TS.",null,null,null,null,null,null,null,null,null,"Reportar el número de contactos  por casos con úlcera genital. ","Reportar el número de contactos  por casos con úlcera genital que recibieron tratamiento.  "]
["1.5.","Nº de casos de bubón inguinal ","Reportar por grupo etáreo el número de casos con bubón inguinal en mujeres y su respectiva conclusión de \"tratamiento\" en base a los flujogramas de manejo sindrómico. Incluye gestantes. No incluye población trans, ni TS. ",null,null,null,null,null,null,null,null,null,"Reportar por grupo etáreo el número de casos con bubón inguinal en varones y su respectiva conclusión de \"tratamiento\" en base a los flujogramas de manejo sindrómico. No incluye HSH, trans, ni TS.",null,null,null,null,null,null,null,null,null,"Reportar el número de contactos  por casos con bubón inguinal. ","Reportar el número de contactos por casos con bubón inguinal que recibieron tratamiento.  "]
["1.6.","Nº de casos con síndrome de dolor abdominal bajo","Reportar por grupo etáreo el número de casos con síndrome de dolor abdominal bajo en mujeres y su respectiva conclusión de \"tratamiento\" en base a los flujogramas de manejo sindrómico. Incluye gestantes. No incluye población trans, ni TS. ",null,null,null,null,null,null,null,null,null,null,null,null,null,null,null,null,null,null,null,"Reportar el número de contactos  por casos con síndrome de dolor abdominal bajo. ","Reportar el número de contactos  por casos con síndrome de dolor abdominal bajo que recibieron tratamiento.  "]
[1.7,"Nº de personas con Manejo Etiológico","Reportar de la población general el total de mujeres por grupo etáreo con \"diagnóstico\" etiológico de ITS y aquellas que recibieron \"tratamiento\" en base a los flujogramas de atención. Incluye gestantes. No incluye población trans, ni TS.",null,null,null,null,null,null,null,null,null,"Reportar por grupo etáreo de la población general el total de varones a quienes se realizó el \"diagnóstico\" etiológico de ITS y recibieron \"tratamiento\" en base a los flujogramas de atención. No incluye HSH, trans, ni TS.",null,null,null,null,null,null,null,null,null,"Reportar el total de contactos de las personas con diagnóstico etiológico de ITS. ","Reportar el total de contactos de las personas con diagnóstico etiológico de ITS que recibieron tratamiento.  "]
[1.8,"Nº de casos con Gonorrea","Reportar por grupo etáreo el número de casos con diagnóstico de Gonorrea en mujeres  basados en resultados de laboratorio y su respectiva conclusión de \"tratamiento\". No incluye población trans, ni TS, ni gestantes.",null,null,null,null,null,null,null,null,null,"Reportar por grupo etáreo el número con casos de diagnóstico de Gonorrea en varones basados en resultados de laboratorio y su respectiva conclusión de \"tratamiento\".  No incluye HSH, trans, ni TS.",null,null,null,null,null,null,null,null,null,"Reportar el número de contactos  por casos de Gonorrea","Reportar el número de contactos  por casos con Gonorrea que recibieron tratamiento.  "]
["1.9.","Nº de casos con serología reactiva para sífilis ","Reportar por grupo etáreo el número de casos con serología reactiva para sífilis en mujeres  basados en resultados de laboratorio y su respectiva conclusión de \"tratamiento\". No incluye población trans, ni TS, ni gestantes.",null,null,null,null,null,null,null,null,null,"Reportar por grupo etáreo el número con casos de  serología reactiva para sífilis en varones basados en resultados de laboratorio y su respectiva conclusión de \"tratamiento\".  No incluye HSH, trans, ni TS.",null,null,null,null,null,null,null,null,null,"Reportar el número de contactos  por casos con serología reactiva para sífilis","Reportar el número de contactos  por casos con serología reactiva para sífilis que recibieron tratamiento.  "]
["1.10.","Nº de personas que reciben consejería en ITS ",null,null,"Reportar por grupo etáreo el número de mujeres que reciben consejería en ITS.\nConsejería en ITS: proceso de información, orientación y soporte que permite realizar y explorar junto con el/a consultante en forma individual, los factores de riesgo de las ITS y de otros temas relacionados con la prevención y el tratamiento. Incluir personas con y sin diagnóstico de ITS (sindrómico o etiológico).\nEn el caso de Adolescentes, este dato será utilizado para reportar número de adolescentes que reciben consejería en ITS (indicador de EVA)\nIncluye gestantes ",null,null,null,null,null,null,null,null,null,"Reportar por grupo etáreo el número de varones que reciben consejería en ITS.\nConsejería en ITS: proceso de información, orientación y soporte que permite realizar y explorar junto con el/a consultante en forma individual, los factores de riesgo de las ITS y de otros temas relacionados con la prevención y el tratamiento. Incluir personas con y sin diagnóstico de ITS (sindrómico o etiológico).\nEn el caso de Adolescentes, este dato será utilizado para reportar número de adolescentes que reciben consejería en ITS (indicador de EVA). No incluye HSH, trans, ni TS."]
[]
["2.-  Hepatitis B",null,"Femenino",null,null,null,null,"Masculino"]
[null,null,"0-11a","12-17a","18-29a","30-59a","60a más","0-11a","12-17a","18-29a","30-59a","60a más"]
["2.1.","N° personas tamizadas para Hepatitis B (prueba rápida o Elisa)","Reportar por grupo etáreo el número de mujeres que se realizan prueba de tamizaje de hepatitis B indicado en los sevicios de salud (inlcuye pre quirúrjico, bancos de sangre, hemodiálisis, campañas, etc), incluye prueba rápida o Elisa. \nIncluye además de población general a trabajadores de salud, PPL, FFAA y policiales. ",null,null,null,null,"Reportar por grupo etáreo el número de varones que se realizan prueba de tamizaje de hepatitis B indicado en los sevicios de salud (inlcuye pre quirúrjico, bancos de sangre, hemodiálisis, campañas, etc), incluye prueba rápida o Elisa. \nIncluye además de población general a trabajadores de salud,  PPL, FFAA y policiales."]
["2.2.","N° personas reactivos a prueba para Hepatitis B (prueba rápida o Elisa)","Reportar por grupo etáreo el número de mujeres tamizadas para Hepatitis B con resultado reactivo (sea antígeno de superficie o anticore)\nInlcuye además de población general a trabajadores de salud, PPL, FFAA y policiales.",null,null,null,null,"Reportar por grupo etáreo el número de varones tamizados para Hepatitis B con resultado reactivo (sea antígeno de superficie o anticore)\nInlcuye además de población general a trabajadores de salud,  PPL, FFAA y policiales, etc) "]
["2.3.","N° Personas con diagnóstico confirmado de Hepatitis B Crónica ","Reportar por grupo etáreo aquellas mujeres con diagnóstico confirmado de hepatitis B Crónica. No incluye pacientes con co-infección VIH-VHB.",null,null,null,null,"Reportar por grupo etáreo aquellos varones con diagnóstico confirmado de hepatitis B Crónica. No incluye pacientes con co-infección con VIH-VHB."]
["2.4.","N° personas de población indígena tamizadas a Hepatitis B ","Reportar por grupo etáreo el número de mujeres que pertenecen a poblaciones indígenas que se realizan prueba de tamizaje de hepatitis B indicado en los sevicios de salud o fuera de ellos (inlcuye pre quirúrjico, bancos de sangre, hemodiálisis, campañas, etc), incluye prueba rápida o Elisa. ",null,null,null,null,"Reportar por grupo etáreo el número de varones que pertenecen a poblaciones indígenas se realizan prueba de tamizaje de hepatitis B indicado en cualquier sevicio de salud o fuera de ellos (inlcuye además pre quirúrjico, bancos de sangre, hemodiálisis, campañas, etc), incluye prueba rápida o Elisa. "]
["2.5.","N° de personas de población indígena tamizadas reactivas a Hepatitis B ","Reportar por grupo etáreo el número de mujeres que pertenecen a comunidades indígenas  tamizadas para Hepatitis B con resultado reactivo (sea antígeno de superficie o anticore)",null,null,null,null,"Reportar por grupo etáreo el número de varones que pertenecen a comunidades indígenas tamizados para Hepatitis B con resultado reactivo (sea antígeno de superficie o anticore)"]
["2.6.","N° Personas de población indígena con diagnóstico confirmado de Hepatitis B Crónica ","Reportar por grupo etáreo aquellas mujeres de comunidades indígenas con diagnóstico confirmado de hepatitis B Crónica. No incluye pacientes con co-infección VIH-VHB.",null,null,null,null,"Reportar por grupo etáreo aquellos varones de comunidades indígenas con diagnóstico confirmado de hepatitis B Crónica. No incluye pacientes con co-infección con VIH-VHB."]
[]
["3.- POBLACION GENERAL : Tamizaje de VIH",null,"Femenino",null,null,null,null,"Masculino"]
[null,null,"0-11a","12-17a","18-29a","30-59a","60a más","0-11a","12-17a","18-29a","30-59a","60a más"]
[3.1,"Nº de personas tamizadas para VIH (excepto gestantes)","Reportar por grupo etáreo el número de mujeres tamizadas para VIH con Pruebas Rápidas o de ELISA, previa consejería . Incluye información de ESSSR (MEF), no incluye los tamizajes de la ESNTB. No incluye gestantes, población Trans, ni TS.",null,null,null,null,"Reportar por grupo etáreo el número de varones tamizados para VIH con Pruebas Rápidas o de ELISA, previa consejería, no se incluyen los tamizajes de la ESNTB. No incluiye población HSH, Trans, ni TS."]
[3.2,"Nº de personas tamizadas para VIH con resultado reactivo ","Reportar por  grupo etáreo el número de mujeres tamizadas para VIH con pruebas rápidas o de ELISA con resultado reactivo. Incluir información de ESN SSR. Solo incluye población general. No incluye gestantes, población Trans, ni TS.",null,null,null,null,"Reportar por grupo etáreo el número de varones tamizados para VIH con pruebas rápidas o de ELISA con resultado reactivo. No incluye población HSH, Trans, ni TS."]
["3.3.","Nº de personas con TB tamizadas para VIH ","Reportar por  grupo etáreo el número de mujeres con diagnóstico de Tuberculosis que fueron tamizadas para VIH con Pruebas Rápidas o de ELISA, con previa consejería.",null,null,null,null,"Reportar por  grupo etáreo el número de varones con diagnóstico de Tuberculosis que fueron tamizados para VIH con Pruebas Rápidas o de ELISA, y previa consejería."]
["3.4.","Nº de personas con TB tamizadas para VIH con resultado reactivo","Reportar por grupo etáreo el número de mujeres con diagnóstico de Tuberculosis tamizadas con resulltado reactivo.",null,null,null,null,"Reportar por grupo etáreo el número de varones con diagnóstico de Tuberculosis tamizados con resulltado reactivo. "]
["3.5.","Nº de personas de población indígena tamizadas para VIH","Reportar por grupo etáreo el número de mujeres de poblaciones indígenas que son tamizadas para VIH con Pruebas Rápidas o de ELISA, previa consejería . Incluye información de ESSSR (MEF), no incluye los tamizajes de la ESPCTB. Incluye a gestantes, población Trans, ni TS.",null,null,null,null,"Reportar por grupo etáreo el número de varones de poblaciones indígenas tamizados para VIH con Pruebas Rápidas o de ELISA, previa consejería, no se incluyen los tamizajes de la ESPCTB. No incluiye población HSH, Trans, ni TS."]
["3.6.","Nº de personas de población indígena tamizadas para VIH con resultado reactivo","Reportar por grupo etáreo el número de mujeres de poblaciones indígenas que presentan tamizaje reactivo para VIH por Pruebas Rápidas o de ELISA, previa consejería . Incluye información de ESSSR (MEF), no incluye los tamizajes de la ESPCTB. No incluye gestantes, población Trans, ni TS.",null,null,null,null,"Reportar por grupo etáreo el número de varones de poblaciones indígenas que presentan  tamizaje reactivo para VIH con Pruebas Rápidas o de ELISA, previa consejería, no se incluyen los tamizajes de la ESPCTB. No incluiye población HSH, Trans, ni TS."]
[]
["4.- EXPOSICION A VIH",null,"Femenino",null,null,null,null,"Masculino"]
[null,null,"0-11a","12-17a","18-29a","30-59a","60a más","0-11a","12-17a","18-29a","30-59a","60a más"]
["4.1.","Nº de personas que sufrieron exposición ocupacional o con factores de riesgo al VIH",null,null,"Reportar por  grupo etáreo el número de mujeres que realizan actividades de atencion de salud que son atendidas por exposición a fluidos o secresiones de riesgo para VIH en los EESS. ",null,null,null,null,"Reportar por  grupo etáreo el número de varones que realizan actividades de atencion de salud que son atendidas por exposición a fluidos o secresiones de riesgo para VIH en los EESS. "]
["4.2.","Nº de personas que sufrieron exposición ocupacional o con factores de riesgo al VIH que reciben profilaxis ARV",null,null,"Reportar por  grupo etáreo el número de mujeres que realizan actividades de atención de salud o trabajan con material contaminado que son atendidas por exposición a fluidos o secresiones de riesgo para VIH, que reciben profilaxis con ARV según protocolo de norma vigente. ",null,null,null,null,"Reportar por  grupo etáreo el número de varones que realizan actividades de atención de salud o trabajan con material contaminado que son atendidas por exposición a fluidos o secresiones de riesgo para VIH, que reciben profilaxis con ARV según protocolo de norma vigente. "]
["4.3.","Nº de personas expuestas a VIH por exposición no ocupacional","Reportar por grupo etáreo mujeres con exposición no ocupacional que incluyen los casos de violencia sexual, exposición sexual de alto riesgo (sexo sin preservativo), contactos de riesgo con fluidos corporales",null,null,null,null,"Reportar por grupo etáreo varones con exposición no ocupacional que incluyen los casos de violencia sexual, exposición sexual de alto riesgo (sexo sin preservativo, sexo con HSH, Trans,TS), contactos de riesgo con fluidos corporales."]
["4.4.","Nº de personas expuestas a VIH por exposición no ocupacional y reciben profilaxis ARV","Reportar por grupo etáreo mujeres con exposición no ocupacional que incluye los casos de violencia sexual, exposición sexual de alto riesgo (sexo sin preservativo), contactos de riesgo con fluidos corporales,  que reciben profilaxis antiretroviral.",null,null,null,null,"Reportar por grupo etáreo varones con exposición no ocupacional que incluye los casos de violencia sexual, exposición sexual de alto riesgo, contactos de riesgo con fluidos corporales, que reciben profilaxis antiretroviral."]
["4.5.","Nº de personas que sufrieron exposición ocupacional a Hepatitis B ",null,null,"Reportar por  grupo etáreo el número de mujeres que realizan actividades de atencion de salud que son atendidas por exposición a fluidos o secresiones de riesgo para el Virus de Hepatitis B en el EE.SS.",null,null,null,null,"Reportar por  grupo etáreo el número de varones que realizan actividades de atencion de salud que son atendidas por exposición a fluidos o secresiones de riesgo para el Virus de Hepatitis B en el EE.SS."]
["4.6.","Nº de personas que sufrieron exposición ocupacional a Hepatitis B y no fueron previamente vacunados.",null,null,"Reportar por grupo etáreo el número de mujeres que realizan actividades de atención de salud que son atendidas por exposición a fluidos o secreciones que de riesgo para VHB, pero no se encuentran vacunados o no completaron el calendario de vacunación para Hepatitis B.",null,null,null,null,"Reportar por grupo etáreo el número de varones que realizan actividades de atención de salud que son atendidas por exposición a fluidos o secreciones que de riesgo para VHB, pero no se encuentran vacunados o no completaron el calendario de vacunación para Hepatitis B."]
[]
["5.-   PVVIH:  Atención Integral",null,"Femenino",null,null,null,null,"Masculino"]
[null,null,"0-11a","12-17a","18-29a","30-59a","60a más","0-11","12-17a","18-29a","30-59a","60a más"]
[5.0999999999999996,"Nº de PVVIH que inician Terapia preventiva con Cotrimoxazol (TPC)","Reportar por  grupo etáreo el número de mujeres viviendo con VIH que inician profilaxis con cotrimoxazol (TPC) en un servicio de salud. Incluye gestantes.",null,null,null,null,"Reportar por  grupo etáreo el número de varones viviendo con VIH que inician profilaxis con cotrimoxazol (TPC) en un servicio de salud. "]
[5.2,"Nº de PVVIH que inician Terapia preventiva con INH (TPI)","Reportar por  grupo etáreo el número de mujeres que inician Terapia preventiva con Isoniazida (TPI) en un servicio de salud. Incluye gestantes.",null,null,null,null,"Reportar por  grupo etáreo el número de varones que inician Terapia preventiva con Isoniazida (TPI) en un servicio de salud. "]
[5.3,"N° de PVVIH que abandonan la Terapia preventiva con Isoniazida (TPI)","Reportar por  grupo etáreo el número de mujeres que abandonaron (más de 30 días de inasistencia) laTerapia preventiva con Isoniazida (TPI) en el servicio de salud. Incluye gestantes.",null,null,null,null,"Reportar por  grupo etáreo el número de varones que abandonaron (más de 30 días de inasistencia) la Terapia preventiva con Isoniazida (TPI) en el servicio de salud. "]
[5.4,"Nº de PVVIH que completan Terapia preventiva con INH  (TPI)","Reportar por  grupo etáreo el número de mujeres con VIH que completaron  la Terapia Preventiva de Isoniazida (TPI)  según normatividad en el servicio de salud (se considera tratamiento profiláctivo completo hasta 9 meses consecutivos de Isoniazida).",null,null,null,null,"Reportar por  grupo etáreo el número de varones con VIH que completaron  la Terapia Preventiva de Isoniazida (TPI)  según normatividad en el servicio de salud (se considera tratamiento profiláctivo completo hasta 9 meses consecutivos de Isoniazida)."]
[5.5,"N° de PVVIH con diagnóstico de TB ","Reportar por grupo etáreo el número de mujeres (incluye gestantes) con VIH (con o sin TARGA) con diagnóstico de TUBERCULOSIS por primera vez. ",null,null,null,null,"Reportar por grupo etáreo el número de varones con VIH (con o sin TARGA) con diagnóstico de TUBERCULOSIS por primera vez. "]
[5.6,"N° de PVVIH con TB que inician tratamiento para TB","Reportar por  grupo etáreo el número de mujeres con VIH (con o sin TARGA) con diagnóstico de TUBERCULOSIS por primera vez y que inician tratamiento antituberculoso según normatividad vigente.",null,null,null,null,"Reportar por  grupo etáreo el número de varones con VIH (con o sin TARGA) con diagnóstico de TUBERCULOSIS por primera vez y que inician tratamiento antituberculoso según normatividad vigente."]
[5.7,"N° de PVVIH con TB que completan tratamiento  para TB","Reportar por  grupo etáreo el número de mujeres con VIH (con o sin TARGA) con diagnóstico de TUBERCULOSIS por primera vez y culminaron  tratamiento según normatividad (se considera tratamiento completo en PVVS que reciben medicamentos para TB durante 9, 12 meses consecutivos o según sea el caso). ",null,null,null,null,"Reportar por  grupo etáreo el número de varones con VIH (con o sin TARGA) con diagnóstico de TUBERCULOSIS por primera vez y culminaron  tratamiento según normatividad (se considera tratamiento completo en PVVS que reciben medicamentos para TB durante 9, 12 meses consecutivos o según sea el caso ). "]
[5.8,"N° de PVVIH con TB que abandonan tratamiento para TB","Reportar por grupo etáreo el número de mujeres con VIH (con o sin TARGA) con diagnóstico de TUBERCULOSIS que abandonan el tratamiento para TB (se considera abandono al tratamiento cuando excede los 30 días).",null,null,null,null,"Reportar por grupo etáreo el número de varones con VIH (con o sin TARGA) con diagnóstico de TUBERCULOSIS que abandonan el tratamiento para TB (se considera abandono al tratamiento cuando excede los 30 días)."]
[5.9,"N° de PVVIH con Hepatitis B crónica","Reportar por  grupo etáreo el número de mujeres con VIH (con o sin TARGA) que fueron diagnosticadas con Hepatitis B crónica por primera vez. ",null,null,null,null,"Reportar por  grupo etáreo el número de varones con VIH (con o sin TARGA) que fueron diagnosticados con Hepatitis B crónica por primera vez. "]
["5.10.","N° de PVVIH que completan vacunación de Hepatitis B","Reportar por  grupo etáreo el número de mujeres con VIH (con o sin TARGA) que completaron  la vacunación para Hepatitis B según normatividad vigente. ",null,null,null,null,"Reportar por  grupo etáreo el número de hombres con VIH (con o sin TARGA) que completaron  la vacunación para Hepatitis B según normatividad vigente. "]
["5.11.","Nº de PVVIH fallecidos en el mes ","Reportar por grupo etáreo el número de mujeres con VIH (con y sin TARGA) que fallecieron. Incluye gestantes. ",null,null,null,null,"Reportar por grupo etáreo el número de varones con VIH (con y sin TARGA) que fallecieron."]
[]
["6.-   GESTANTES Y PUERPERAS: Transmisión Vertical - Sífilis",null,"0-11a","12-17a","18-29a","30-59a","TRIMESTRES DE EMBARAZO"]
[null,null,null,null,null,null,"1er Trim.","2do Trim.","3er Trim."]
["6.1.","Nº de Gestantes tamizadas para Sífilis (1er tamizaje)",null,"Reportar por grupo etáreo a las gestantes con el primer tamizaje de Sífilis.",null,null,"Reportar a las gestantes por período trimestral de gestación. "]
["6.2.","Nº de Gestantes tamizadas reactivas para Sífilis",null,"Reportar por grupo etáreo a las gestantes con tamizaje reactivo a Sífilis.",null,null,"Reportar a las gestantes por período trimestral de gestación. "]
["6.3.","N° de Gestantes con Sífilis que reciben tratamiento completo",null,"Reportar por grupo etáreo las gestantes con diagnóstico de Sífilis que completaron tratamiento en el servicio de salud.",null,null,"Reportar a las gestantes por período trimestral de gestación. "]
["6.4.","Nº de Gestantes tamizadas para VIH (1er tamizaje)",null,"Reportar por grupo etáreo a las gestantes con el primer tamizaje para VIH.",null,null,"Reportar a las gestantes por período trimestral de gestación. "]
["6.5.","Nº de Gestantes tamizadas reactivas para VIH",null,"Reportar por grupo etáreo a las gestantes con el  tamizaje reactivo para VIH.",null,null,"Reportar a las gestantes por período trimestral de gestación. "]
["6.6.","N° de Gestantes con VIH que reciben TARGA",null,"Reportar por grupo etáreo el número de gestantes con VIH que inician TARGA y las mujeres con TARGA que se embarazan durante el período.",null,null,"Reportar a las gestantes con TARGA por período de gestación."]
["6.7.","N° de Gestantes con VIH que culminan embarazo por cesárea",null,"Reportar por grupo etáreo el número de gestantes con diagnóstico de VIH que culminaron el período de gestación por Cesárea según normatividad vigente."]
["6.8.","Nº de Gestantes tamizadas para Hepatitis B",null,"Reportar por grupo etáreo las gestantes que fueron tamizadas para Hepatitis B (por lo menos una vez).",null,null,"Reportar a las gestantes por período trimestral de gestación. "]
["6.9.","N° de Gestantes reactivas para Hepatitis B",null,"Reportar por grupo etáreo las gestantes reactivas para Hepatitis B según resultado laboratorial (Prueba rápida o Prueba de Elisa)",null,null,"Reportar las gestantes reactivos por períodos de gestación"]
[null,null,"Total"]
["6.10.","N° de RN con Sífilis congénita que reciben tratamiento completo","Reportar los Recién Nacidos con diagnóstico de Sífilis congénita que completaron tratamiento"]
["6.11.","N° de RN expuestos a VIH que reciben ARV","Reportar el número de recién nacidos/as de madres con diagnóstico de VIH o probable VIH que inician ARV."]
["6.12.","N° de RN expuestos a VIH que inician sucedáneos de leche materna","Reportar el número de recién nacidos/as de madres con diagnóstico de VIH o probable VIH que  inician sucedáneos de leche materna. "]
["6.13.","N° RN Expuestos a Hepatitis B","Reportar el  número de recién nacidos expuestos de madres con diagnóstico de hepatitis B. "]
["6.14.","N° RN Expuestos con Vacuna de Hepatitis B en atencion de Parto","Reportar el  número de recién nacidos expuestos de madres con diagnóstico de hepatitis B que fueron vacunados en la atención inmediata del RN"]
["6.15.","N° RN Expuestos que reciben Inmunoglobulina (HBIG)","Reportar el  número de recién nacidos expuestos de madres con diagnóstico de hepatitis B a quienes se les aplicó la Inmunoglobulina dentro de las primeras 24 hrs.de vida."]
[]
["7.-   TRABAJADORAS/ES SEXUALES",null,"TS-F",null,null,"TS-HSH",null,null,"TS-Trans"]
[null,null,"18-29a","30-59a","60a más","18-29a","30-59a","60a más","18-29a","30-59a","60a más"]
[7.1,"Nº TS atendidos/as en AMP ","Reportar por grupo etáreo  el número de trabajadores/as sexuales que reciben atención médica periodica (AMP) por primera vez en el año en CERITS y UAMP. Se consideran nuevos y reingresos."]
[7.2,"Nº de atenciones a TS  en AMP ","Reportar por grupo etáreo el número de atenciones médicas periódicas en trabajadores/as sexuales en CERITS y UAMP. Se consideran nuevos, reingresos y continuadores."]
[7.3,"Nº TS controlados/as ","Reportar por grupo etáreo  el número de trabajadores/as sexuales controlados en AMP en CERITS y UAMP. Solo se reportará la primera vez en el año la condición de controlado/a\nLa condición de “controlado(a)”  para un (a) TS en una visita se determinará en base a la historia de atenciones, si en los 4 meses previos a la visita actual recibió por lo menos 2 AMP. Para determinar esta condición se sugiere: - Verificar el número de atenciones registradas en su historia clínica en los últimos 4 meses (excluyendo la visita actual). - Si se registraron menos de 2 controles en el establecimiento, preguntar a el (la) TS acerca de atenciones médicas periódicas en otros establecimientos y agregarlos a los registrados. "]
[7.4,"Nº de TS tamizados/as para VIH (1er Tamizaje)","Reportar por grupo etáreo el número de Trabajadores/as sexuales tamizados para VIH por primera vez en el año en CERITS y UAMP, mediante prueba rápida o prueba de Elisa. Se considera a nuevos y reingresos."]
[7.5,"Nº  TS con tamizaje para VIH con resultado reactivo","Reportar por grupo etáreo el número de Trabajadores/as sexuales tamizados para VIH en CERITS y UAMP con resultado reactivo. Incluye nuevos, reingresantes y continuadores. "]
[7.6,"N° TS que inician Terapia Antiretroviral","Reportar por grupo etáreo el número de Trabajadores/as sexuales que inician TARGA en el EE.SS. y período."]
["7.7.","N° de TS tamizados/as para Hepatitis B","Reportar por grupo etáreo el número de Trabajadores/as sexuales tamizados para Hepatitis B por primera vez al año en CERITS y UAMP, mediante prueba rápida o prueba de Elisa. Se considera a nuevos y reingresos."]
["7.8.","Nº de TS con tamizaje reactivo para Hepatitis B","Reportar por grupo etáreo el número de Trabajadores/as sexuales tamizados para Hepatitis B en CERITS y UAMP con resultado reactivo. Incluye nuevos, reingresantes y continuadores. "]
["7.9.","N° de TS que completan vacunación de Hepatitis B","Reportar por grupo etáreo el número de Trabajadores/as sexuales que completaron la vacunación para Hepatitis B según normatividad vigente."]
[]
["8.-  POBLACION CLAVE: TRABAJADORAS/ES SEXUALES: ITS",null,"TS-F",null,null,"TS-HSH",null,null,"TS-Trans",null,null,"TS Tratados",null,null,"Contactos","Contactos Tratados"]
[null,null,"18-29a","30-59a","60a más","18-29a","30-59a","60a más","18-29a","30-59a","60a más","TS-F","TS-HSH","TS-Trans"]
["8.1.","Nº de personas con diagnóstico de ITS con manejo sindrómico","Reportar por grupo etáreo y grupo poblacional el total de trabajadores/as sexuales diagnosticadas con manejo sindrómico  en base a los flujogramas de atención.",null,null,null,null,null,null,null,null,"Reportar las (los) trabajadores/as sexuales con \"diagnóstico\" sindrómico de ITS que recibieron tratamiento por tipo de población.",null,null,"Reportar el total de contactos de las personas con diagnóstico sindrómico de ITS. ","Reportar el total de contactos de las personas con diagnóstico sindrómico de ITS que fueron tratados."]
["8.2.","Nº de casos con descarga uretral",null,null,null,"Reportar por número de casos de Descarga uretral en TS según población en base a los flujogramas de manejo sindrómico.",null,null,null,null,null,"Reportar el número de casos nuevos de Descarga uretral que recibieron tratamiento por tipo de población.",null,null,"Reportar los  contactos atendidos de casos de ITS  según tipo de diagnóstico por manejo sindrómico","Reportar los  contactos tratados de casos de ITS según tipo de diagnóstico por manejo sindrómico"]
["8.3.","Nº de casos con flujo vaginal compatible con ITS","Reportar por grupo etáreo el número de casos por Flujo vaginal compatibles a una ITS  en base a los flujogramas de manejo sindrómico.",null,null,null,null,null,null,null,null,"Reportar el número de casos por Flujo vaginal que recibieron tratamiento por tipo de población."]
[8.4,"Nº de casos de úlcera genital ","Reportar por grupo etáreo y grupo poblacional los casos por úlcera genital en base a los flujogramas de manejo sindrómico.",null,null,null,null,null,null,null,null,"Reportar casos de úlcera genital que recibieron  tratamiento por tipo de población.."]
[8.5,"Nº de casos de bubón inguinal","Reportar por grupo etáreo y grupo poblacional el número de casos de bubón inguinal  en base a los flujogramas de manejo sindrómico",null,null,null,null,null,null,null,null,"Reportar los casos de Bubón inguinal que recibieron  tratamiento por tipo de población.."]
[8.6,"Nº de casos con síndrome de dolor abdominal bajo","Reportar por grupo etáreo el número de casos de Síndrome de dolor abdominal bajo en mujeres en base a los flujogramas de manejo sindrómico.",null,null,null,null,null,null,null,null,"Reportar los casos de síndrome de dolor abdominal bajo que recibieron  tratamiento por tipo de población.."]
[8.6999999999999993,"Nº de personas con diagnóstico de ITS con manejo etiológico","Reportar por grupo etáreo y sexo el total de trabajadores/as sexuales con diagnóstico etilógico de ITS basado en estudios de laboratorio. Los casos etiológicos en general continuarán reportándose en las Hojas His.  Para TS serán considerados los casos de ITS más prevalentes.",null,null,null,null,null,null,null,null,"Reportar el total de trabajadores/as sexuales con  diagnóstico etiológico de ITS que recibieron  tratamiento por tipo de población.",null,null,"Reportar el total de contactos de las personas con diagnóstico etiológico de ITS. ","Reportar el total de contactos de las personas con diagnóstico etiológico de ITS que fueron tratados"]
["8.8.","Nº de casos de gonorreas ","Reportar por grupo etáreo y grupo poblacional los casos de gonorrea basado en examen de cultivo.  ",null,null,null,null,null,null,null,null,"Reportar los casos de Gonorrea que recibieron tratamiento por tipo de población..",null,null,"Reportar los contactos de los casos de Gonorrea reportados","Reportar los contactos tratados de los casos de Gonorrea reportados"]
["8.9.","Nº de casos con serología reactiva para sífilis ","Reportar por grupo etáreo y sexo los casos de serología reactiva para Sífilis con diagnóstico nuevo.",null,null,null,null,null,null,null,null,"Reportar los casos de serología reactiva para sífilis que recibieron  tratamiento por tipo de población.",null,null,"Reportar los contactos de los casos de Sífilis reportados","Reportar los contactos tratados de los casos de Sífilis reportados"]
[]
["9.-   POBLACION CLAVE: HOMBRES QUE TIENEN SEXO CON OTROS HOMBRES / TRANS",null,"HSH ",null,null,"TRANS"]
[null,null,"18-29a","30-59a","60a más","18-29a","30-59a","60a más"]
[9.1,"Nº HSH/Trans atendidos/as ","Reportar por grupo etáreo y grupo poblacional HSH/Trans que reciben atención por primera vez en el año en CERITS y UAMP. Se considera a nuevos y reingresantes."]
[9.1999999999999993,"Nº de atenciones a HSH/Trans","Reportar por grupo etáreo  y grupo poblacional HSH/Trans que se atienden en CERITS y UAMP. Se considera a nuevos, reingresos y continuadores."]
[9.3000000000000007,"Nº de HSH/Trans tamizados/as para VIH  ","Reportar por grupo etáreo y grupo poblacional  HSH/Trans personas tamizadas para VIH por primera vez en el año que son atendidas en CERITS y UAMP, mediante prueba rápida o prueba de Elisa. Incluye nuevos, reingresantes y continuadores. "]
[9.4,"Nº  HSH/Trans  con tamizaje para VIH con resultado reactivo","Reportar por grupo etáreo y grupo poblacional  HSH/Trans personas tamizadas para VIH en CERITS y UAMP con resultado reactivo. Incluye nuevos, reingresantes y continuadores. "]
[9.5,"N° HSH/Trans que inician Terapia Antiretroviral","Reportar por grupo etáreo y grupo poblacional los HSH/Trans que iniciaron el TARGA en el  EE.SS. y período."]
["9.6.","N° HSH/Trans tamizados/as para Hepatitis B","Reportar por grupo etáreo y grupo poblacional  los HSH/Trans tamizados/as para Hepatitis B que son atendidos en CERITS y UAMP, mediante prueba rápida o prueba de Elisa. Incluye nuevos, reingresantes y continuadores. "]
["9.7.","Nº  HSH/Trans con tamizaje para Hepatitis B con resultado reactivo","Reportar por grupo etáreo y grupo poblacional  los HSH/Trans tamizados/as para Hepatitis B en CERITS y UAMP con resultado reactivo. Incluye nuevos, reingresantes y continuadores. "]
["9.8.","N° de HSH/Trans que completan vacunación de Hepatitis B","Reportar por grupo etáreo y grupo poblacional los HSH/Trans que completaron la vacunación para Hepatitis B"]
[]
["10.-  POBLACION CLAVE: HSH / TRANS: ITS",null,"HSH ",null,null,"TRANS",null,null,"Tratados","Contactos","Contactos Tratados"]
[null,null,"18-29a","30-59a","60a más","18-29a","30-59a","60a más"]
[10.1,"Nº de personas con diagnóstico de ITS con manejo sindrómico","Reportar por grupo etáreo y grupo poblacional el total de personas HSH/Trans con diagnóstico sindrómico de ITS en base a los flujogramas de atención.",null,null,null,null,null,"Reportar el total de HSH/Trans  con diagnóstico sinfdrómico de ITS que recibieron tratamiento.","Reportar el total de contactos de personas con diagnóstico sindrómico de ITS. ","Reportar el total de contactos de personas con diagnóstico sindrómico de ITS que fueron tratados."]
[10.199999999999999,"Nº de casos con descarga uretral","Reportar por grupo etáreo y grupo poblacional HSH/Trans los casos  de descarga uretral diagnosticados en base a los flujogramas de atención. ",null,null,null,null,null,"Reportar los casos de Descarga uretral que fueron tratados","Reportar los contactos  de casos con Descarga uretral. ","Reportar los contactos  de casos con Descarga uretral que fueron tratados."]
[10.3,"Nº de casos de úlcera genital ","Reportar por grupo etáreo y grupo poblacional HSH/Trans los casos  de úlcera genital diagnosticadas en base a los flujogramas de atención. ",null,null,null,null,null,"Reportar los casos de úlcera genital que fueron tratados.","Reportar los contactos  de casos con úlcera genital . ","Reportar los contactos  de casos con úlcera genital  que fueron tratados."]
[10.4,"Nº de casos de bubón inguinal ","Reportar por grupo etáreo y grupo poblacional HSH/Trans los casos  de bubón inguinal diagnosticados en base a los flujogramas de atención. ",null,null,null,null,null,"Reportar los casos de Bubón inguinal que fueron tratados.","Reportar los contactos  de casos con Bubón inguinal . ","Reportar los contactos  de casos con Bubón inguinal que fueron tratados."]
[10.5,"Nº de personas con diagnóstico de ITS con manejo etiológico","Reportar por grupo etáreo y grupo poblacional el total de personas HSH/Trans con diagnóstico etiológico de ITS en base a los flujogramas de atención. ",null,null,null,null,null,"Reportar el total de casos diagnosticados etiológicamente que fueron tratados.","Reportar el total de contactos de personas con diagnóstico etiológico de ITS. ","Reportar el total de contactos de personas con diagnóstico etiológico de ITS que fueron tratados."]
[10.6,"Nº de casos de gonorreas ","Reportar por grupo etáreo y grupo poblacional HSH/Trans los casos  de gonorrea diagnosticados por cultivo.",null,null,null,null,null,"Reportar los casos de gonorrea que fueron tratados.","Reportar los contactos  de casos con gonorrea . ","Reportar los contactos  de casos con gonorrea  que fueron tratados."]
[10.7,"Nº de casos con serología reactiva para sífilis","Reportar por grupo etáreo y grupo poblacional HSH/Trans los casos  de serología reativa para Sífilis con diagnóstico nuevo. ",null,null,null,null,null,"Reportar los casos de sífilis tratados","Reportar los contactos de casos con  sífilis reactiva. ","Reportar los contactos de casos con  sífilis reactiva que fueron tratados."]