{"text_format":"1","workbook":"xlsx","n_sheets":6,"sheets":["MENU","TABLAS","LAB_ANALISIS_CLINICO","LAB ESTRATEGIAS","Datos","Datos (2)"],"not_rendered":{"charts":0,"images":30,"macros":1,"external_links":0,"defined_names":8,"comments":0,"pivot_tables":32},"unopened":[],"bounds":{"document_bytes":16777216,"sheet_cells":100000,"rows_first":2000,"rows_last":500,"rows_between":2000,"halvings":0,"cell_chars":16384,"cell_head_chars":4096},"cells_cut":0,"cells_raw":0,"read":"whole","date_system":"1900"}

{"sheet":"MENU","index":0,"n_rows":35,"n_cols":12,"rows_kept":35,"cut":false,"hidden":false,"merged":[[28,7,29,10],[26,7,27,10]]}
[]
[]
[]
[null,null,null,null,null,null,null,null,null,null,null,{"$f":"+TABLAS!A92","v":"1-5-2-3-4-6-11-10-9-8-7-T"}]
[null,null,null,null,null,null,null,null,null,null,null,{"$f":"+TABLAS!A122","v":"1-5-2-3-4-6-11-10-9-8-7-Total general"}]
[null,null,null,null,null,null,null,null,null,null,null,{"$f":"+TABLAS!A152","v":"1-5-2-3-4-6-11-10-9-8-7-Total general"}]
[null,null,null,null,null,null,null,null,null,null,null,{"$f":"+TABLAS!A183","v":"1-5-2-3-4-6-11-10-9-8-7-Total general"}]
[null,null,null,null,null,null,null,null,null,null,null,{"$f":"+TABLAS!A216","v":"1-5-2-3-4-6-11-10-9-8-7-Total general"}]
[null,null,null,null,null,null,null,null,null,null,null,{"$f":"+TABLAS!A247","v":"1-5-2-3-4-6-11-10-9-8-7-Total general"}]
[null,null,null,null,null,null,null,null,null,null,null,{"$f":"+TABLAS!A277","v":"1-5-2-3-4-6-11-10-9-8-7-Total general"}]
[null,null,null,null,null,null,null,null,null,null,null,{"$f":"+TABLAS!A308","v":"1-5-3-4-6-2-11-10-9-8-7-Total general"}]
[null,null,null,null,null,null,null,null,null,null,null,{"$f":"+TABLAS!A338","v":"1-5-2-3-4-6-11-10-9-8-7-Total general"}]
[null,null,null,null,null,null,null,null,null,null,null,{"$f":"+TABLAS!A368","v":"1-5-2-3-4-6-11-10-9-8-7-Total general"}]
[null,null,null,null,null,null,null,null,null,null,null,{"$f":"+TABLAS!A398","v":"1-5-2-3-4-6-11-10-9-8-7-Total general"}]
[null,null,null,null,null,null,null,null,null,null,null,{"$f":"+TABLAS!A428","v":"1-5-2-3-4-6-11-10-9-8-7-Total general"}]
[null,null,null,null,null,null,null,null,null,null,null,{"$f":"+TABLAS!A458","v":"1-5-2-3-4-6-11-10-9-8-7-Total general"}]
[null,null,null,null,null,null,null,null,null,null,null,{"$f":"+TABLAS!A488","v":"1-5-2-3-4-6-11-10-9-8-7-Total general"}]
[null,null,null,null,null,null,null,null,null,null,null,{"$f":"+TABLAS!A518","v":"1-5-2-3-4-6-11-10-9-8-7-Total general"}]
[null,null,null,null,null,null,null,null,null,null,null,{"$f":"+TABLAS!A548","v":"1-5-2-3-4-6-11-10-9-8-7-Total general"}]
[null,null,null,null,null,null,null,null,null,null,null,{"$f":"+TABLAS!A578","v":"1-5-2-3-4-6-11-10-9-8-7-Total general"}]
[null,null,null,null,null,null,null,null,null,null,null,{"$f":"+TABLAS!A608","v":"1-5-2-3-4-6-11-10-9-8-7-Total general"}]
[null,null,null,null,null,null,null,null,null,null,null,{"$f":"+TABLAS!A638","v":"1-5-2-3-4-6-11-10-9-8-7-Total general"}]
[null,null,null,null,null,null,null,null,null,null,null,{"$f":"+TABLAS!A668","v":"1-5-2-3-4-6-11-10-9-8-7-Total general"}]
[null,null,null,null,null,null,null,null,null,null,null,{"$f":"+TABLAS!A698","v":"1-5-2-3-4-6-11-10-9-8-7-Total general"}]
[null,null,null,null,null,null,null,null,null,null,null,{"$f":"+TABLAS!A728","v":"1-5-2-3-4-6-11-10-9-8-7-Total general"}]
[null,null,null,null,null,null,null,null,null,null,null,{"$f":"+TABLAS!A758","v":"1-5-2-3-4-6-11-10-9-8-7-Total general"}]
[null,null,null,null,null,null,null,"CONTROL DE MESES",null,null,null,{"$f":"+TABLAS!A788","v":"1-5-2-3-4-6-11-10-9-8-7-Total general"}]
[null,null,null,null,null,null,null,null,null,null,null,{"$f":"+TABLAS!A818","v":"1-5-2-3-4-6-11-10-9-8-7-Total general"}]
[null,null,null,null,null,null,null,{"$f":"+TABLAS!A92","v":"1-5-2-3-4-6-11-10-9-8-7-T"},null,null,null,{"$f":"+TABLAS!A848","v":"1-5-2-3-4-6-11-10-9-8-7-Total general"}]
[null,null,null,null,null,null,null,null,null,null,null,{"$f":"+TABLAS!A878","v":"1-5-2-3-4-6-11-10-9-8-7-Total general"}]
[null,null,null,null,null,null,null,null,null,null,null,{"$f":"+TABLAS!A908","v":"1-5-2-3-4-6-11-10-9-8-7-Total general"}]
[null,null,null,null,null,null,null,null,null,null,null,{"$f":"+TABLAS!A938","v":"1-5-2-3-4-6-11-10-9-8-7-Total general"}]
[null,null,null,null,null,null,null,null,null,null,null,{"$f":"+TABLAS!A968","v":"-----------"}]
[null,null,null,null,null,null,null,null,null,null,null,{"$f":"+TABLAS!A998","v":"1-5-2-3-4-6-11-10-9-8-7-Total general"}]
[null,null,null,null,null,null,null,null,null,null,null,{"$f":"+TABLAS!A1028","v":"1-5-2-3-4-6-11-10-9-8-7-Total general"}]

{"sheet":"TABLAS","index":1,"n_rows":1030,"n_cols":236,"rows_kept":562,"cut":true,"hidden":true,"merged":[[967,0,967,1],[997,0,997,1],[1027,0,1027,1],[817,0,817,1],[847,0,847,1],[877,0,877,1],[907,0,907,1],[937,0,937,1],[667,0,667,1],[697,0,697,1],[727,0,727,1],[757,0,757,1],[787,0,787,1],[13,3,13,6],[246,0,246,1],[91,0,91,1],[121,0,121,1],[151,0,151,1],[182,0,182,1],[215,0,215,1],[11,3,11,6],[12,3,12,6],[7,2,7,6],[8,3,8,6],[9,3,9,6],[10,3,10,6],[276,0,276,1],[307,0,307,1],[337,0,337,1],[367,0,367,1],[397,0,397,1],[577,0,577,1],[607,0,607,1],[637,0,637,1],[427,0,427,1],[457,0,457,1],[487,0,487,1],[517,0,517,1],[547,0,547,1]],"bounds":{"rows_first":250,"rows_last":62,"rows_between":250,"halvings":3}}
[]
[]
[]
[]
[]
[]
[]
[null,null,"Valores",null,null,null,null,null,"Tabla",{"$f":"IF(I9=\"(Todas)\",\"CUSCO \",\"\")","v":""},null,null,null,null,{"$f":"MID(D9,6,5)","v":"LA CO"}]
[null,null,"RED","03 - LA CONVENCION",null,null,null,null,{"$f":"IF(MID(D9,1,2)=\"99\",\"(All)\",MID(D9,1,2))","v":"03"},{"$f":"IF(I9=\"(All)\",\" \",I9)","v":"03"},null,null,{"$f":"LEN(MID(D9,5,90))","v":14},null,{"$f":"IF(MID(D9,6,5)=\"(All)\",\"\",D9)","v":"03 - LA CONVENCION"}]
[null,null,"Micro RED","0399 - (All)",null,null,null,null,{"$f":"IF(MID(D10,3,2)=\"99\",\"(All)\",MID(D10,1,4))","v":"(All)"}," ",null,null,{"$f":"LEN(MID(D10,7,90))","v":6},null,{"$f":"IF(MID(D10,8,5)=\"(All)\",\"\",D10)","v":""}]
[null,null,"Establecimiento","999999999 - (All)",null,null,null,null,{"$f":"IF(OR(MID(D11,1,9)=\"999999999\",MID(D11,1,9)=\"000000000\"),\"(All)\",MID(D11,1,9))","v":"(All)"}," ",null,null,{"$f":"LEN(MID(D11,12,90))","v":6},null,{"$f":"IF(MID(D11,13,5)=\"(All)\",\"\",D11)","v":""}]
[null,null,"Provincia","00 - (All)",null,null,null,null,{"$f":"IF(MID(D12,1,2)=\"00\",\"(All)\",MID(D12,1,2))","v":"(All)"}," ",null,null,{"$f":"LEN(MID(D12,6,90))","v":5},null,{"$f":"IF(MID(D12,6,5)=\"(All)\",\"\",D12)","v":""}]
[null,null,"Distrito","0000 - (All)",null,null,null,null,{"$f":"IF(OR(MID(D13,1,4)=\"0000\",MID(D13,3,2)=\"00\"),\"(All)\",MID(D13,1,4))","v":"(All)"}," ",null,null,{"$f":"LEN(MID(D13,8,90))","v":5},null,{"$f":"IF(MID(D13,8,5)=\"(All)\",\"\",D13)","v":""}]
[null,null,"Ejecutora","99 - (ALL)",null,null,null,null,{"$f":"IF(MID(D14,1,2)=\"99\",\"(All)\",MID(D14,1,2))","v":"(All)"}," ",null,null,{"$f":"LEN(MID(D14,5,90))","v":6},null,{"$f":"IF(MID(D14,6,5)=\"(All)\",\"\",D14)","v":""}]
[]
[null,null,"Año","2024",null,null,null,null,{"$f":"+D16","v":"2024"},{"$f":"IF(I16=\"(Todas)\",\" \",I16)","v":"2024"}]
[]
[]
[]
[null,1,1,1,1,1,1,1,1,1,1,1,0,{"$f":"SUM(B20:M20)","v":11}]
[null,{"$f":"IF(B20=1,\"ENERO\",\"\")","v":"ENERO"},{"$f":"IF(C20=1,\"FEBRERO\",\"\")","v":"FEBRERO"},{"$f":"IF(D20=1,\"MARZO\",\"\")","v":"MARZO"},{"$f":"IF(E20=1,\"ABRIL\",\"\")","v":"ABRIL"},{"$f":"IF(F20=1,\"MAYO\",\"\")","v":"MAYO"},{"$f":"IF(G20=1,\"JUNIO\",\"\")","v":"JUNIO"},{"$f":"IF(H20=1,\"JULIO\",\"\")","v":"JULIO"},{"$f":"IF(I20=1,\"AGOSTO\",\"\")","v":"AGOSTO"},{"$f":"IF(J20=1,\"SETIEMBRE\",\"\")","v":"SETIEMBRE"},{"$f":"IF(K20=1,\"OCTUBRE\",\"\")","v":"OCTUBRE"},{"$f":"IF(L20=1,\"NOVIEMBRE\",\"\")","v":"NOVIEMBRE"},{"$f":"IF(M20=1,\"DICIEMBRE\",\"\")","v":""},{"$f":"IF(B20=1,B21,IF(C20=1,C21,IF(D20=1,D21,IF(E20=1,E21,IF(F20=1,F21,IF(G20=1,G21,IF(H20=1,H21,IF(I20=1,I21,IF(J20=1,J21,IF(K20=1,K21,IF(L20=1,L21,IF(M20=1,M21,\"\"))))))))))))","v":"ENERO"}]
[null,null,null,null,null,null,null,null,null,null,null,null,null,{"$f":"IF(N20=1,N21,\"\")","v":""}]
[null,2,4,6,8,10,12,14,16,18,20,22,null,{"$f":"MIN(B23:M23)","v":2},{"$f":"MAX(B23:M23)","v":22},{"$f":"MAX(C23:N23)","v":22}]
[null,{"$f":"IF(B23=2,\"ENE\",\"\")","v":"ENE"},{"$f":"IF(C23=4,\"FEB\",\"\")","v":"FEB"},{"$f":"IF(D23=6,\"MAR\",\"\")","v":"MAR"},{"$f":"IF(E23=8,\"ABR\",\"\")","v":"ABR"},{"$f":"IF(F23=10,\"MAY\",\"\")","v":"MAY"},{"$f":"IF(G23=12,\"JUN\",\"\")","v":"JUN"},{"$f":"IF(H23=14,\"JUL\",\"\")","v":"JUL"},{"$f":"IF(I23=16,\"AGO\",\"\")","v":"AGO"},{"$f":"IF(J23=18,\"SET\",\"\")","v":"SET"},{"$f":"IF(K23=20,\"OCT\",\"\")","v":"OCT"},{"$f":"IF(L23=22,\"NOV\",\"\")","v":"NOV"},{"$f":"IF(M23=24,\"DIC\",\"\")","v":""},{"$f":"IF(N23=B23,B24,IF(N23=C23,C24,IF(N23=D23,D24,IF(N23=E23,E24,IF(N23=F23,F24,IF(N23=G23,G24,IF(N23=H23,H58,IF(N23=I23,I24,IF(N23=J23,J24,IF(N23=K23,K24,IF(N23=L23,L24,IF(N23=M23,M24,\"\"))))))))))))","v":"ENE"},{"$f":"IF(O23=C23,C24,IF(O23=D23,D24,IF(O23=E23,E24,IF(O23=F23,F24,IF(O23=G23,G24,IF(O23=H23,H24,IF(O23=I23,I24,IF(O23=J23,J24,IF(O23=K23,K24,IF(O23=L23,L24,IF(O23=M23,M24,\"\")))))))))))","v":"NOV"},{"$f":"IF(P23=D23,D24,IF(P23=E23,E24,IF(P23=F23,F24,IF(P23=G23,G24,IF(P23=H23,H24,IF(P23=I23,I24,IF(P23=J23,J24,IF(P23=K23,K24,IF(P23=L23,L24,IF(P23=M23,M24,IF(P23=N23,N24,\"\")))))))))))","v":"NOV"}]
[null,null,null,null,null,null,null,null,null,null,null,null,null,{"$f":"CONCATENATE(N24,\" - \",O24)","v":"ENE - NOV"}]
[null,null,null,null,null,null,null,null,null,null,null,null,null,{"$f":"IF(N23=O23,N22,N25)","v":"ENE - NOV"}]
[]
[]
[]
[]
[]
[]
[]
[]
[]
[]
[]
[]
[]
[]
[]
[]
[]
[]
[]
[]
[]
[]
[]
[]
[]
[]
[]
[]
[]
[]
[]
[]
[]
[]
[]
[]
[]
[]
[]
["AB142007"]
["anno",2024]
["cod_red","03"]
["codmic","(Todas)"]
["cod_prov","(Todas)"]
["coddist","(Todas)"]
["cod_estab","(Todas)"]
["cod_eje","(Todas)"]
[]
[null,"Valores"]
["Etiquetas de fila"," BAS001"," BAS002"," BAS003"," BAS004"," BAS005"," BAS006"," BAS007"," BAS008"," BAS009"," BAS010"," BAS011"," BAS012"," BAS013"," BAS014"," BAS015"," BAS016"," BAS017"," BAS018"," BAS019"," BAS020"," BAS021"," BAS022"," BAS023"," BAS024"," BAS025"," BAS026"," BAS027"," BAS028"," BAS029"," BAS030"," BAS031"," BAS032"," BAS033"," BAS034"," BAS035"," BAS036"," BAS037"," BAS038"," BAS039"," BAS040"," BAS041"," BAS042"," BAS043"," BAS044"," BAS045"," BAS046"," BAS047"," BAS048"," BAS049"," BAS050"," BAS051"," BAS052"," BAS053"," BAS054"," BAS055"," BAS056"," BAS057"," BAS058"," BAS059"," BAS060"," BAS061"," BAS062"," BAS063"," BAS064"," BAS065"," BAS066"," BAS067"," BAS068"," BAS069"," BAS070"," BAS071"," BAS072"," BAS073"," BAS074"," BAS075"," BAS076"," BAS077"," BAS078"," BAS079"," BAS080"," BAS081"," BAS082"," BAS083"," BAS084"," BAS085"," BAS086"," BAS087"," BAS088"," BAS089"," BAS090"," BAS091"," BAS092"," BAS093"," BAS094"," BAS095"," BAS096"," BAS097"," BAS098"," BAS099"," BAS100"," BAS101"," BAS102"," BAS103"," BAS104"," BAS105"," BAS106"," BAS107"," BAS108"," BAS109"," BAS110"," BAS111"," BAS112"," BAS113"," BAS114"," BAS115"," BAS116"," BAS117"," BAS118"," BAS119"," BAS120"," BAS121"," BAS122"," BAS123"," BAS124"," BAS125"," BAS126"," BAS127"," BAS128"," BAS129"," BAS130"," BAS131"," BAS132"," BAS133"," BAS134"," BAS135"," BAS136"," BAS137"," BAS138"," BAS139"," BAS140"," BAS141"," BAS142"," BAS143"," BAS144"," BAS145"," BAS146"," BAS147"," BAS148"," BAS149"," BAS150"," BAS151"," BAS152"," BAS153"," BAS154"," BAS155"," BAS156"," BAS157"," BAS158"," BAS159"," BAS160"," BAS161"," BAS162"," BAS163"," BAS164"," BAS165"," BAS166"," BAS167"," BAS168"," BAS169"," BAS170"," BAS171"," BAS172"," BAS173"," BAS174"," BAS175"," BAS176"," BAS177"," BAS178"," BAS179"," BAS180"," BAS181"," BAS182"," BAS183"," BAS184"," BAS185"," BAS186"," BAS187"," BAS188"," BAS189"," BAS190"," BAS191"," BAS192"," BAS193"," BAS194"," BAS195"," BAS196"," BAS197"," BAS198"," BAS199"," BAS200"," BAS201"," BAS202"," BAS203"," BAS204"," BAS205"," BAS206"," BAS207"," BAS208"," BAS209"," BAS210"," BAS211"," BAS212"," BAS213"," BAS214"," BAS215"," BAS216"," BAS217"," BAS218"," BAS219"," BAS220"," BAS221"," BAS222"," BAS223"," BAS224"," BAS225"," BAS226"," BAS227"," BAS228"," BAS229"," BAS230"]
[1,0,0,0,0,0,0,0,0,0,0,0,0,0,0,0,0,0,0,0,0,0,0,0,0,0,0,0,0,0,0,0,0,0,0,0,0,0,0,0,0,0,0,0,0,0,0,0,0,0,0,0,0,0,0,0,0,0,0,0,0,0,0,0,0,0,0,0,0,0,0,0,0,0,0,0,0,0,0,0,0,0,0,0,0,0,0,0,0,0,0,0,0,0,0,0,0,0,0,0,0,0,0,0,0,0,0,0,0,0,0,0,0,0,0,0,0,0,0,0,0,0,0,0,0,0,0,0,0,0,0,0,0,0,0,0,0,0,0,0,0,0,0,0,0,0,0,0,0,0,0,0,0,0,0,0,0,0,0,0,0,0,0,0,0,0,0,0,0,0,0,0,0,0,0,0,0,0,0,0,0,0,0,0,0,0,0,0,0,0,0,0,0,0,0,0,0,0,0,0,0,0,0,0,0,0,0,0,0,0,0,0,0,0,0,0,0,0,0,0,0,0,0,0,0,0,0,0,0,0,0]
[5,0,0,0,0,0,0,0,0,0,0,0,0,0,0,0,0,0,0,0,0,0,0,0,0,0,0,0,0,0,0,0,0,0,0,0,0,0,0,0,0,0,0,0,0,0,0,0,0,0,0,0,0,0,0,0,0,0,0,0,0,0,0,0,0,0,0,0,0,0,0,0,0,0,0,0,0,0,0,0,0,0,0,0,0,0,0,0,0,0,0,0,0,0,0,0,0,0,0,0,0,0,0,0,0,0,0,0,0,0,0,0,0,0,0,0,0,0,0,0,0,0,0,0,0,0,0,0,0,0,0,0,0,0,0,0,0,0,0,0,0,0,0,0,0,0,0,0,0,0,0,0,0,0,0,0,0,0,0,0,0,0,0,0,0,0,0,0,0,0,0,0,0,0,0,0,0,0,0,0,0,0,0,0,0,0,0,0,0,0,0,0,0,0,0,0,0,0,0,0,0,0,0,0,0,0,0,0,0,0,0,0,0,0,0,0,0,0,0,0,0,0,0,0,0,0,0,0,0,0,0]
[2,0,0,0,0,0,0,0,0,0,0,0,0,0,0,0,0,0,0,0,0,0,0,0,0,0,0,0,0,0,0,0,0,0,0,0,0,0,0,0,0,0,0,0,0,0,0,0,0,0,0,0,0,0,0,0,0,0,0,0,0,0,0,0,0,0,0,0,0,0,0,0,0,0,0,0,0,0,0,0,0,0,0,0,0,0,0,0,0,0,0,0,0,0,0,0,0,0,0,0,0,0,0,0,0,0,0,0,0,0,0,0,0,0,0,0,0,0,0,0,0,0,0,0,0,0,0,0,0,0,0,0,0,0,0,0,0,0,0,0,0,0,0,0,0,0,0,0,0,0,0,0,0,0,0,0,0,0,0,0,0,0,0,0,0,0,0,0,0,0,0,0,0,0,0,0,0,0,0,0,0,0,0,0,0,0,0,0,0,0,0,0,0,0,0,0,0,0,0,0,0,0,0,0,0,0,0,0,0,0,0,0,0,0,0,0,0,0,0,0,0,0,0,0,0,0,0,0,0,0,0]
[3,0,0,0,0,0,0,0,0,0,0,0,0,0,0,0,0,0,0,0,0,0,0,0,0,0,0,0,0,0,0,0,0,0,0,0,0,0,0,0,0,0,0,0,0,0,0,0,0,0,0,0,0,0,0,0,0,0,0,0,0,0,0,0,0,0,0,0,0,0,0,0,0,0,0,0,0,0,0,0,0,0,0,0,0,0,0,0,0,0,0,0,0,0,0,0,0,0,0,0,0,0,0,0,0,0,0,0,0,0,0,0,0,0,0,0,0,0,0,0,0,0,0,0,0,0,0,0,0,0,0,0,0,0,0,0,0,0,0,0,0,0,0,0,0,0,0,0,0,0,0,0,0,0,0,0,0,0,0,0,0,0,0,0,0,0,0,0,0,0,0,0,0,0,0,0,0,0,0,0,0,0,0,0,0,0,0,0,0,0,0,0,0,0,0,0,0,0,0,0,0,0,0,0,0,0,0,0,0,0,0,0,0,0,0,0,0,0,0,0,0,0,0,0,0,0,0,0,0,0,0]
[4,0,0,0,0,0,0,0,0,0,0,0,0,0,0,0,0,0,0,0,0,0,0,0,0,0,0,0,0,0,0,0,0,0,0,0,0,0,0,0,0,0,0,0,0,0,0,0,0,0,0,0,0,0,0,0,0,0,0,0,0,0,0,0,0,0,0,0,0,0,0,0,0,0,0,0,0,0,0,0,0,0,0,0,0,0,0,0,0,0,0,0,0,0,0,0,0,0,0,0,0,0,0,0,0,0,0,0,0,0,0,0,0,0,0,0,0,0,0,0,0,0,0,0,0,0,0,0,0,0,0,0,0,0,0,0,0,0,0,0,0,0,0,0,0,0,0,0,0,0,0,0,0,0,0,0,0,0,0,0,0,0,0,0,0,0,0,0,0,0,0,0,0,0,0,0,0,0,0,0,0,0,0,0,0,0,0,0,0,0,0,0,0,0,0,0,0,0,0,0,0,0,0,0,0,0,0,0,0,0,0,0,0,0,0,0,0,0,0,0,0,0,0,0,0,0,0,0,0,0,0]
[6,0,0,0,0,0,0,0,0,0,0,0,0,0,0,0,0,0,0,0,0,0,0,0,0,0,0,0,0,0,0,0,0,0,0,0,0,0,0,0,0,0,0,0,0,0,0,0,0,0,0,0,0,0,0,0,0,0,0,0,0,0,0,0,0,0,0,0,0,0,0,0,0,0,0,0,0,0,0,0,0,0,0,0,0,0,0,0,0,0,0,0,0,0,0,0,0,0,0,0,0,0,0,0,0,0,0,0,0,0,0,0,0,0,0,0,0,0,0,0,0,0,0,0,0,0,0,0,0,0,0,0,0,0,0,0,0,0,0,0,0,0,0,0,0,0,0,0,0,0,0,0,0,0,0,0,0,0,0,0,0,0,0,0,0,0,0,0,0,0,0,0,0,0,0,0,0,0,0,0,0,0,0,0,0,0,0,0,0,0,0,0,0,0,0,0,0,0,0,0,0,0,0,0,0,0,0,0,0,0,0,0,0,0,0,0,0,0,0,0,0,0,0,0,0,0,0,0,0,0,0]
[11,0,0,0,0,0,0,0,0,0,0,0,0,0,0,0,0,0,0,0,0,0,0,0,0,0,0,0,0,0,0,0,0,0,0,0,0,0,0,0,0,0,0,0,0,0,0,0,0,0,0,0,0,0,0,0,0,0,0,0,0,0,0,0,0,0,0,0,0,0,0,0,0,0,0,0,0,0,0,0,0,0,0,0,0,0,0,0,0,0,0,0,0,0,0,0,0,0,0,0,0,0,0,0,0,0,0,0,0,0,0,0,0,0,0,0,0,0,0,0,0,0,0,0,0,0,0,0,0,0,0,0,0,0,0,0,0,0,0,0,0,0,0,0,0,0,0,0,0,0,0,0,0,0,0,0,0,0,0,0,0,0,0,0,0,0,0,0,0,0,0,0,0,0,0,0,0,0,0,0,0,0,0,0,0,0,0,0,0,0,0,0,0,0,0,0,0,0,0,0,0,0,0,0,0,0,0,0,0,0,0,0,0,0,0,0,0,0,0,0,0,0,0,0,0,0,0,0,0,0,0]
[10,0,0,0,0,0,0,0,0,0,0,0,0,0,0,0,0,0,0,0,0,0,0,0,0,0,0,0,0,0,0,0,0,0,0,0,0,0,0,0,0,0,0,0,0,0,0,0,0,0,0,0,0,0,0,0,0,0,0,0,0,0,0,0,0,0,0,0,0,0,0,0,0,0,0,0,0,0,0,0,0,0,0,0,0,0,0,0,0,0,0,0,0,0,0,0,0,0,0,0,0,0,0,0,0,0,0,0,0,0,0,0,0,0,0,0,0,0,0,0,0,0,0,0,0,0,0,0,0,0,0,0,0,0,0,0,0,0,0,0,0,0,0,0,0,0,0,0,0,0,0,0,0,0,0,0,0,0,0,0,0,0,0,0,0,0,0,0,0,0,0,0,0,0,0,0,0,0,0,0,0,0,0,0,0,0,0,0,0,0,0,0,0,0,0,0,0,0,0,0,0,0,0,0,0,0,0,0,0,0,0,0,0,0,0,0,0,0,0,0,0,0,0,0,0,0,0,0,0,0,0]
[9,0,0,0,0,0,0,0,0,0,0,0,0,0,0,0,0,0,0,0,0,0,0,0,0,0,0,0,0,0,0,0,0,0,0,0,0,0,0,0,0,0,0,0,0,0,0,0,0,0,0,0,0,0,0,0,0,0,0,0,0,0,0,0,0,0,0,0,0,0,0,0,0,0,0,0,0,0,0,0,0,0,0,0,0,0,0,0,0,0,0,0,0,0,0,0,0,0,0,0,0,0,0,0,0,0,0,0,0,0,0,0,0,0,0,0,0,0,0,0,0,0,0,0,0,0,0,0,0,0,0,0,0,0,0,0,0,0,0,0,0,0,0,0,0,0,0,0,0,0,0,0,0,0,0,0,0,0,0,0,0,0,0,0,0,0,0,0,0,0,0,0,0,0,0,0,0,0,0,0,0,0,0,0,0,0,0,0,0,0,0,0,0,0,0,0,0,0,0,0,0,0,0,0,0,0,0,0,0,0,0,0,0,0,0,0,0,0,0,0,0,0,0,0,0,0,0,0,0,0,0]
[8,0,0,0,0,0,0,0,0,0,0,0,0,0,0,0,0,0,0,0,0,0,0,0,0,0,0,0,0,0,0,0,0,0,0,0,0,0,0,0,0,0,0,0,0,0,0,0,0,0,0,0,0,0,0,0,0,0,0,0,0,0,0,0,0,0,0,0,0,0,0,0,0,0,0,0,0,0,0,0,0,0,0,0,0,0,0,0,0,0,0,0,0,0,0,0,0,0,0,0,0,0,0,0,0,0,0,0,0,0,0,0,0,0,0,0,0,0,0,0,0,0,0,0,0,0,0,0,0,0,0,0,0,0,0,0,0,0,0,0,0,0,0,0,0,0,0,0,0,0,0,0,0,0,0,0,0,0,0,0,0,0,0,0,0,0,0,0,0,0,0,0,0,0,0,0,0,0,0,0,0,0,0,0,0,0,0,0,0,0,0,0,0,0,0,0,0,0,0,0,0,0,0,0,0,0,0,0,0,0,0,0,0,0,0,0,0,0,0,0,0,0,0,0,0,0,0,0,0,0,0]
[7,0,0,0,0,0,0,0,0,0,0,0,0,0,0,0,0,0,0,0,0,0,0,0,0,0,0,0,0,0,0,0,0,0,0,0,0,0,0,0,0,0,0,0,0,0,0,0,0,0,0,0,0,0,0,0,0,0,0,0,0,0,0,0,0,0,0,0,0,0,0,0,0,0,0,0,0,0,0,0,0,0,0,0,0,0,0,0,0,0,0,0,0,0,0,0,0,0,0,0,0,0,0,0,0,0,0,0,0,0,0,0,0,0,0,0,0,0,0,0,0,0,0,0,0,0,0,0,0,0,0,0,0,0,0,0,0,0,0,0,0,0,0,0,0,0,0,0,0,0,0,0,0,0,0,0,0,0,0,0,0,0,0,0,0,0,0,0,0,0,0,0,0,0,0,0,0,0,0,0,0,0,0,0,0,0,0,0,0,0,0,0,0,0,0,0,0,0,0,0,0,0,0,0,0,0,0,0,0,0,0,0,0,0,0,0,0,0,0,0,0,0,0,0,0,0,0,0,0,0,0]
["T",0,0,0,0,0,0,0,0,0,0,0,0,0,0,0,0,0,0,0,0,0,0,0,0,0,0,0,0,0,0,0,0,0,0,0,0,0,0,0,0,0,0,0,0,0,0,0,0,0,0,0,0,0,0,0,0,0,0,0,0,0,0,0,0,0,0,0,0,0,0,0,0,0,0,0,0,0,0,0,0,0,0,0,0,0,0,0,0,0,0,0,0,0,0,0,0,0,0,0,0,0,0,0,0,0,0,0,0,0,0,0,0,0,0,0,0,0,0,0,0,0,0,0,0,0,0,0,0,0,0,0,0,0,0,0,0,0,0,0,0,0,0,0,0,0,0,0,0,0,0,0,0,0,0,0,0,0,0,0,0,0,0,0,0,0,0,0,0,0,0,0,0,0,0,0,0,0,0,0,0,0,0,0,0,0,0,0,0,0,0,0,0,0,0,0,0,0,0,0,0,0,0,0,0,0,0,0,0,0,0,0,0,0,0,0,0,0,0,0,0,0,0,0,0,0,0,0,0,0,0]
[]
["TOTAL"]
[{"$f":"COUNT(A77:A88)","v":11},{"$f":"SUM(B77:B88)","v":0},{"$f":"SUM(C77:C88)","v":0},0,0,0,0,0,0,0,0,0,0,0,0,0,0,0,0,0,0,0,0,0,0,0,0,0,0,0,0,0,0,0,0,0,0,0,0,0,0,0,0,0,0,0,0,0,0,0,0,0,0,0,0,0,0,0,0,0,0,0,0,0,0,0,{"$f":"SUM(BO77:BO88)","v":0},0,0,0,0,0,0,0,0,0,0,0,0,0,0,0,0,0,0,0,0,0,0,0,0,0,0,0,0,0,0,0,0,0,0,0,0,0,0,0,0,0,0,0,0,0,0,0,0,0,0,0,0,0,0,0,0,0,0,0,0,0,0,0,{"$f":"SUM(EA77:EA88)","v":0},0,0,0,0,0,0,0,0,0,0,0,0,0,0,0,0,0,0,0,0,0,0,0,0,0,0,0,0,0,0,0,0,0,0,0,0,0,0,0,0,0,0,0,0,0,0,0,0,0,0,0,0,0,0,0,0,0,0,0,0,0,0,0,{"$f":"SUM(GM77:GM88)","v":0},0,0,0,0,0,0,0,0,0,0,0,0,0,0,0,0,0,0,0,0,0,0,0,0,0,0,0,0,0,0,0,0,0,0,0,0]
[{"$f":"CONCATENATE(A77,\"-\",A78,\"-\",A79,\"-\",A80,\"-\",A81,\"-\",A82,\"-\",A83,\"-\",A84,\"-\",A85,\"-\",A86,\"-\",A87,\"-\",A88)","v":"1-5-2-3-4-6-11-10-9-8-7-T"}]
[null," BAS001"," BAS002"," BAS003"," BAS004"," BAS005"," BAS006"," BAS007"," BAS008"," BAS009"," BAS010"," BAS011"," BAS012"," BAS013"," BAS014"," BAS015"," BAS016"," BAS017"," BAS018"," BAS019"," BAS020"," BAS021"," BAS022"," BAS023"," BAS024"," BAS025"," BAS026"," BAS027"," BAS028"," BAS029"," BAS030"," BAS031"," BAS032"," BAS033"," BAS034"," BAS035"," BAS036"," BAS037"," BAS038"," BAS039"," BAS040"," BAS041"," BAS042"," BAS043"," BAS044"," BAS045"," BAS046"," BAS047"," BAS048"," BAS049"," BAS050"," BAS051"," BAS052"," BAS053"," BAS054"," BAS055"," BAS056"," BAS057"," BAS058"," BAS059"," BAS060"," BAS061"," BAS062"," BAS063"," BAS064"," BAS065"," BAS066"," BAS067"," BAS068"," BAS069"," BAS070"," BAS071"," BAS072"," BAS073"," BAS074"," BAS075"," BAS076"," BAS077"," BAS078"," BAS079"," BAS080"," BAS081"," BAS082"," BAS083"," BAS084"," BAS085"," BAS086"," BAS087"," BAS088"," BAS089"," BAS090"," BAS091"," BAS092"," BAS093"," BAS094"," BAS095"," BAS096"," BAS097"," BAS098"," BAS099"," BAS100"," BAS101"," BAS102"," BAS103"," BAS104"," BAS105"," BAS106"," BAS107"," BAS108"," BAS109"," BAS110"," BAS111"," BAS112"," BAS113"," BAS114"," BAS115"," BAS116"," BAS117"," BAS118"," BAS119"," BAS120"," BAS121"," BAS122"," BAS123"," BAS124"," BAS125"," BAS126"," BAS127"," BAS128"," BAS129"," BAS130"," BAS131"," BAS132"," BAS133"," BAS134"," BAS135"," BAS136"," BAS137"," BAS138"," BAS139"," BAS140"," BAS141"," BAS142"," BAS143"," BAS144"," BAS145"," BAS146"," BAS147"," BAS148"," BAS149"," BAS150"," BAS151"," BAS152"," BAS153"," BAS154"," BAS155"," BAS156"," BAS157"," BAS158"," BAS159"," BAS160"," BAS161"," BAS162"," BAS163"," BAS164"," BAS165"," BAS166"," BAS167"," BAS168"," BAS169"," BAS170"," BAS171"," BAS172"," BAS173"," BAS174"," BAS175"," BAS176"," BAS177"," BAS178"," BAS179"," BAS180"," BAS181"," BAS182"," BAS183"," BAS184"," BAS185"," BAS186"," BAS187"," BAS188"," BAS189"," BAS190"," BAS191"," BAS192"," BAS193"," BAS194"," BAS195"," BAS196"," BAS197"," BAS198"," BAS199"," BAS200"," BAS201"," BAS202"," BAS203"," BAS204"," BAS205"," BAS206"," BAS207"," BAS208"," BAS209"," BAS210"," BAS211"," BAS212"," BAS213"," BAS214"," BAS215"," BAS216"," BAS217"," BAS218"," BAS219"," BAS220"," BAS221"," BAS222"," BAS223"," BAS224"," BAS225"," BAS226"," BAS227"," BAS228"," BAS229"," BAS230"]
[null,{"$f":"IF(B93=B76,\"SI\",\"NO\")","v":"SI"},{"$f":"IF(C93=C76,\"SI\",\"NO\")","v":"SI"},"SI","SI","SI","SI","SI","SI","SI","SI","SI","SI","SI","SI","SI","SI","SI","SI","SI","SI","SI","SI","SI","SI","SI","SI","SI","SI","SI","SI","SI","SI","SI","SI","SI","SI","SI","SI","SI","SI","SI","SI","SI","SI","SI","SI","SI","SI","SI","SI","SI","SI","SI","SI","SI","SI","SI","SI","SI","SI","SI","SI","SI","SI","SI",{"$f":"IF(BO93=BO76,\"SI\",\"NO\")","v":"SI"},"SI","SI","SI","SI","SI","SI","SI","SI","SI","SI","SI","SI","SI","SI","SI","SI","SI","SI","SI","SI","SI","SI","SI","SI","SI","SI","SI","SI","SI","SI","SI","SI","SI","SI","SI","SI","SI","SI","SI","SI","SI","SI","SI","SI","SI","SI","SI","SI","SI","SI","SI","SI","SI","SI","SI","SI","SI","SI","SI","SI","SI","SI","SI",{"$f":"IF(EA93=EA76,\"SI\",\"NO\")","v":"SI"},"SI","SI","SI","SI","SI","SI","SI","SI","SI","SI","SI","SI","SI","SI","SI","SI","SI","SI","SI","SI","SI","SI","SI","SI","SI","SI","SI","SI","SI","SI","SI","SI","SI","SI","SI","SI","SI","SI","SI","SI","SI","SI","SI","SI","SI","SI","SI","SI","SI","SI","SI","SI","SI","SI","SI","SI","SI","SI","SI","SI","SI","SI","SI",{"$f":"IF(GM93=GM76,\"SI\",\"NO\")","v":"SI"},"SI","SI","SI","SI","SI","SI","SI","SI","SI","SI","SI","SI","SI","SI","SI","SI","SI","SI","SI","SI","SI","SI","SI","SI","SI","SI","SI","SI","SI","SI","SI","SI","SI","SI","SI","SI"]
[]
["AB152007"]
["anno",2024]
["cod_red","03"]
["codmic","(Todas)"]
["cod_prov","(Todas)"]
["coddist","(Todas)"]
["cod_estab","(Todas)"]
["cod_eje","(Todas)"]
[]
[null,"Valores"]
["Etiquetas de fila"," BAS001"," BAS002"," BAS003"," BAS004"," BAS005"," BAS006"," BAS007"," BAS008"," BAS009"," BAS010"," BAS011"," BAS012"," BAS013"," BAS014"," BAS015"," BAS016"," BAS017"," BAS018"," BAS019"," BAS020"," BAS021"," BAS022"," BAS023"," BAS024"," BAS025"," BAS026"," BAS027"," BAS028"," BAS029"," BAS030"," BAS031"," BAS032"," BAS033"," BAS034"," BAS035"," BAS036"," BAS037"," BAS038"," BAS039"," BAS040"," BAS041"," BAS042"," BAS043"," BAS044"," BAS045"," BAS046"," BAS047"," BAS048"," BAS049"," BAS050"," BAS051"," BAS052"," BAS053"," BAS054"," BAS055"," BAS056"," BAS057"," BAS058"," BAS059"," BAS060"," BAS061"," BAS062"," BAS063"," BAS064"," BAS065"," BAS066"," BAS067"," BAS068"," BAS069"," BAS070"," BAS071"," BAS072"," BAS073"," BAS074"," BAS075"," BAS076"," BAS077"," BAS078"," BAS079"," BAS080"," BAS081"," BAS082"," BAS083"," BAS084"," BAS085"," BAS086"," BAS087"," BAS088"," BAS089"," BAS090"," BAS091"," BAS092"," BAS093"," BAS094"," BAS095"," BAS096"," BAS097"," BAS098"," BAS099"," BAS100"," BAS101"," BAS102"," BAS103"," BAS104"," BAS105"," BAS106"," BAS107"," BAS108"," BAS109"," BAS110"," BAS111"," BAS112"," BAS113"," BAS114"," BAS115"," BAS116"," BAS117"," BAS118"," BAS119"," BAS120"," BAS121"," BAS122"," BAS123"," BAS124"," BAS125"," BAS126"," BAS127"," BAS128"," BAS129"," BAS130"," BAS131"," BAS132"," BAS133"," BAS134"," BAS135"," BAS136"," BAS137"," BAS138"," BAS139"," BAS140"," BAS141"," BAS142"," BAS143"," BAS144"," BAS145"," BAS146"," BAS147"," BAS148"," BAS149"," BAS150"," BAS151"," BAS152"," BAS153"," BAS154"," BAS155"," BAS156"," BAS157"," BAS158"," BAS159"," BAS160"," BAS161"," BAS162"," BAS163"," BAS164"," BAS165"," BAS166"," BAS167"," BAS168"," BAS169"," BAS170"," BAS171"," BAS172"," BAS173"," BAS174"," BAS175"," BAS176"," BAS177"," BAS178"," BAS179"," BAS180"," BAS181"," BAS182"," BAS183"," BAS184"," BAS185"," BAS186"," BAS187"," BAS188"," BAS189"," BAS190"," BAS191"," BAS192"," BAS193"," BAS194"," BAS195"," BAS196"," BAS197"," BAS198"," BAS199"," BAS200"," BAS201"," BAS202"," BAS203"," BAS204"," BAS205"," BAS206"," BAS207"," BAS208"," BAS209"," BAS210"," BAS211"," BAS212"," BAS213"," BAS214"," BAS215"," BAS216"," BAS217"," BAS218"," BAS219"," BAS220"," BAS221"," BAS222"," BAS223"," BAS224"," BAS225"," BAS226"," BAS227"," BAS228"," BAS229"," BAS230"]
[1,0,0,0,0,0,0,0,0,0,0,0,0,0,0,0,0,0,0,0,0,0,0,0,0,0,0,0,0,0,0,0,0,0,0,0,0,0,0,0,0,0,0,0,0,0,0,0,0,0,0,0,0,0,0,0,0,0,0,0,0,0,0,0,0,0,0,0,0,0,0,0,0,0,0,0,0,0,0,0,0,0,0,0,0,0,0,0,0,0,0,0,0,0,0,0,0,0,0,0,0,0,0,0,0,0,0,0,0,0,0,0,0,0,0,0,0,0,0,0,0,0,0,0,0,0,0,0,0,0,0,0,0,0,0,0,0,0,0,0,0,0,0,0,0,0,0,0,0,0,0,0,0,0,0,0,0,0,0,0,0,0,0,0,0,0,0,0,0,0,0,0,0,0,0,0,0,0,0,0,0,0,0,0,0,0,0,0,0,0,0,0,0,0,0,0,0,0,0,0,0,0,0,0,0,0,0,0,0,0,0,0,0,0,0,0,0,0,0,0,0,0,0,0,0,0,0,0,0,0,0]
[5,0,0,0,0,0,0,0,0,0,0,0,0,0,0,0,0,0,0,0,0,0,0,0,0,0,0,0,0,0,0,0,0,0,0,0,0,0,0,0,0,0,0,0,0,0,0,0,0,0,0,0,0,0,0,0,0,0,0,0,0,0,0,0,0,0,0,0,0,0,0,0,0,0,0,0,0,0,0,0,0,0,0,0,0,0,0,0,0,0,0,0,0,0,0,0,0,0,0,0,0,0,0,0,0,0,0,0,0,0,0,0,0,0,0,0,0,0,0,0,0,0,0,0,0,0,0,0,0,0,0,0,0,0,0,0,0,0,0,0,0,0,0,0,0,0,0,0,0,0,0,0,0,0,0,0,0,0,0,0,0,0,0,0,0,0,0,0,0,0,0,0,0,0,0,0,0,0,0,0,0,0,0,0,0,0,0,0,0,0,0,0,0,0,0,0,0,0,0,0,0,0,0,0,0,0,0,0,0,0,0,0,0,0,0,0,0,0,0,0,0,0,0,0,0,0,0,0,0,0,0]
[2,0,0,0,0,0,0,0,0,0,0,0,0,0,0,0,0,0,0,0,0,0,0,0,0,0,0,0,0,0,0,0,0,0,0,0,0,0,0,0,0,0,0,0,0,0,0,0,0,0,0,0,0,0,0,0,0,0,0,0,0,0,0,0,0,0,0,0,0,0,0,0,0,0,0,0,0,0,0,0,0,0,0,0,0,0,0,0,0,0,0,0,0,0,0,0,0,0,0,0,0,0,0,0,0,0,0,0,0,0,0,0,0,0,0,0,0,0,0,0,0,0,0,0,0,0,0,0,0,0,0,0,0,0,0,0,0,0,0,0,0,0,0,0,0,0,0,0,0,0,0,0,0,0,0,0,0,0,0,0,0,0,0,0,0,0,0,0,0,0,0,0,0,0,0,0,0,0,0,0,0,0,0,0,0,0,0,0,0,0,0,0,0,0,0,0,0,0,0,0,0,0,0,0,0,0,0,0,0,0,0,0,0,0,0,0,0,0,0,0,0,0,0,0,0,0,0,0,0,0,0]
[3,0,0,0,0,0,0,0,0,0,0,0,0,0,0,0,0,0,0,0,0,0,0,0,0,0,0,0,0,0,0,0,0,0,0,0,0,0,0,0,0,0,0,0,0,0,0,0,0,0,0,0,0,0,0,0,0,0,0,0,0,0,0,0,0,0,0,0,0,0,0,0,0,0,0,0,0,0,0,0,0,0,0,0,0,0,0,0,0,0,0,0,0,0,0,0,0,0,0,0,0,0,0,0,0,0,0,0,0,0,0,0,0,0,0,0,0,0,0,0,0,0,0,0,0,0,0,0,0,0,0,0,0,0,0,0,0,0,0,0,0,0,0,0,0,0,0,0,0,0,0,0,0,0,0,0,0,0,0,0,0,0,0,0,0,0,0,0,0,0,0,0,0,0,0,0,0,0,0,0,0,0,0,0,0,0,0,0,0,0,0,0,0,0,0,0,0,0,0,0,0,0,0,0,0,0,0,0,0,0,0,0,0,0,0,0,0,0,0,0,0,0,0,0,0,0,0,0,0,0,0]
[4,0,0,0,0,0,0,0,0,0,0,0,0,0,0,0,0,0,0,0,0,0,0,0,0,0,0,0,0,0,0,0,0,0,0,0,0,0,0,0,0,0,0,0,0,0,0,0,0,0,0,0,0,0,0,0,0,0,0,0,0,0,0,0,0,0,0,0,0,0,0,0,0,0,0,0,0,0,0,0,0,0,0,0,0,0,0,0,0,0,0,0,0,0,0,0,0,0,0,0,0,0,0,0,0,0,0,0,0,0,0,0,0,0,0,0,0,0,0,0,0,0,0,0,0,0,0,0,0,0,0,0,0,0,0,0,0,0,0,0,0,0,0,0,0,0,0,0,0,0,0,0,0,0,0,0,0,0,0,0,0,0,0,0,0,0,0,0,0,0,0,0,0,0,0,0,0,0,0,0,0,0,0,0,0,0,0,0,0,0,0,0,0,0,0,0,0,0,0,0,0,0,0,0,0,0,0,0,0,0,0,0,0,0,0,0,0,0,0,0,0,0,0,0,0,0,0,0,0,0,0]
[6,0,0,0,0,0,0,0,0,0,0,0,0,0,0,0,0,0,0,0,0,0,0,0,0,0,0,0,0,0,0,0,0,0,0,0,0,0,0,0,0,0,0,0,0,0,0,0,0,0,0,0,0,0,0,0,0,0,0,0,0,0,0,0,0,0,0,0,0,0,0,0,0,0,0,0,0,0,0,0,0,0,0,0,0,0,0,0,0,0,0,0,0,0,0,0,0,0,0,0,0,0,0,0,0,0,0,0,0,0,0,0,0,0,0,0,0,0,0,0,0,0,0,0,0,0,0,0,0,0,0,0,0,0,0,0,0,0,0,0,0,0,0,0,0,0,0,0,0,0,0,0,0,0,0,0,0,0,0,0,0,0,0,0,0,0,0,0,0,0,0,0,0,0,0,0,0,0,0,0,0,0,0,0,0,0,0,0,0,0,0,0,0,0,0,0,0,0,0,0,0,0,0,0,0,0,0,0,0,0,0,0,0,0,0,0,0,0,0,0,0,0,0,0,0,0,0,0,0,0,0]
[11,0,0,0,0,0,0,0,0,0,0,0,0,0,0,0,0,0,0,0,0,0,0,0,0,0,0,0,0,0,0,0,0,0,0,0,0,0,0,0,0,0,0,0,0,0,0,0,0,0,0,0,0,0,0,0,0,0,0,0,0,0,0,0,0,0,0,0,0,0,0,0,0,0,0,0,0,0,0,0,0,0,0,0,0,0,0,0,0,0,0,0,0,0,0,0,0,0,0,0,0,0,0,0,0,0,0,0,0,0,0,0,0,0,0,0,0,0,0,0,0,0,0,0,0,0,0,0,0,0,0,0,0,0,0,0,0,0,0,0,0,0,0,0,0,0,0,0,0,0,0,0,0,0,0,0,0,0,0,0,0,0,0,0,0,0,0,0,0,0,0,0,0,0,0,0,0,0,0,0,0,0,0,0,0,0,0,0,0,0,0,0,0,0,0,0,0,0,0,0,0,0,0,0,0,0,0,0,0,0,0,0,0,0,0,0,0,0,0,0,0,0,0,0,0,0,0,0,0,0,0]
[10,0,0,0,0,0,0,0,0,0,0,0,0,0,0,0,0,0,0,0,0,0,0,0,0,0,0,0,0,0,0,0,0,0,0,0,0,0,0,0,0,0,0,0,0,0,0,0,0,0,0,0,0,0,0,0,0,0,0,0,0,0,0,0,0,0,0,0,0,0,0,0,0,0,0,0,0,0,0,0,0,0,0,0,0,0,0,0,0,0,0,0,0,0,0,0,0,0,0,0,0,0,0,0,0,0,0,0,0,0,0,0,0,0,0,0,0,0,0,0,0,0,0,0,0,0,0,0,0,0,0,0,0,0,0,0,0,0,0,0,0,0,0,0,0,0,0,0,0,0,0,0,0,0,0,0,0,0,0,0,0,0,0,0,0,0,0,0,0,0,0,0,0,0,0,0,0,0,0,0,0,0,0,0,0,0,0,0,0,0,0,0,0,0,0,0,0,0,0,0,0,0,0,0,0,0,0,0,0,0,0,0,0,0,0,0,0,0,0,0,0,0,0,0,0,0,0,0,0,0,0]
[9,0,0,0,0,0,0,0,0,0,0,0,0,0,0,0,0,0,0,0,0,0,0,0,0,0,0,0,0,0,0,0,0,0,0,0,0,0,0,0,0,0,0,0,0,0,0,0,0,0,0,0,0,0,0,0,0,0,0,0,0,0,0,0,0,0,0,0,0,0,0,0,0,0,0,0,0,0,0,0,0,0,0,0,0,0,0,0,0,0,0,0,0,0,0,0,0,0,0,0,0,0,0,0,0,0,0,0,0,0,0,0,0,0,0,0,0,0,0,0,0,0,0,0,0,0,0,0,0,0,0,0,0,0,0,0,0,0,0,0,0,0,0,0,0,0,0,0,0,0,0,0,0,0,0,0,0,0,0,0,0,0,0,0,0,0,0,0,0,0,0,0,0,0,0,0,0,0,0,0,0,0,0,0,0,0,0,0,0,0,0,0,0,0,0,0,0,0,0,0,0,0,0,0,0,0,0,0,0,0,0,0,0,0,0,0,0,0,0,0,0,0,0,0,0,0,0,0,0,0,0]
[8,0,0,0,0,0,0,0,0,0,0,0,0,0,0,0,0,0,0,0,0,0,0,0,0,0,0,0,0,0,0,0,0,0,0,0,0,0,0,0,0,0,0,0,0,0,0,0,0,0,0,0,0,0,0,0,0,0,0,0,0,0,0,0,0,0,0,0,0,0,0,0,0,0,0,0,0,0,0,0,0,0,0,0,0,0,0,0,0,0,0,0,0,0,0,0,0,0,0,0,0,0,0,0,0,0,0,0,0,0,0,0,0,0,0,0,0,0,0,0,0,0,0,0,0,0,0,0,0,0,0,0,0,0,0,0,0,0,0,0,0,0,0,0,0,0,0,0,0,0,0,0,0,0,0,0,0,0,0,0,0,0,0,0,0,0,0,0,0,0,0,0,0,0,0,0,0,0,0,0,0,0,0,0,0,0,0,0,0,0,0,0,0,0,0,0,0,0,0,0,0,0,0,0,0,0,0,0,0,0,0,0,0,0,0,0,0,0,0,0,0,0,0,0,0,0,0,0,0,0,0]
[7,0,0,0,0,0,0,0,0,0,0,0,0,0,0,0,0,0,0,0,0,0,0,0,0,0,0,0,0,0,0,0,0,0,0,0,0,0,0,0,0,0,0,0,0,0,0,0,0,0,0,0,0,0,0,0,0,0,0,0,0,0,0,0,0,0,0,0,0,0,0,0,0,0,0,0,0,0,0,0,0,0,0,0,0,0,0,0,0,0,0,0,0,0,0,0,0,0,0,0,0,0,0,0,0,0,0,0,0,0,0,0,0,0,0,0,0,0,0,0,0,0,0,0,0,0,0,0,0,0,0,0,0,0,0,0,0,0,0,0,0,0,0,0,0,0,0,0,0,0,0,0,0,0,0,0,0,0,0,0,0,0,0,0,0,0,0,0,0,0,0,0,0,0,0,0,0,0,0,0,0,0,0,0,0,0,0,0,0,0,0,0,0,0,0,0,0,0,0,0,0,0,0,0,0,0,0,0,0,0,0,0,0,0,0,0,0,0,0,0,0,0,0,0,0,0,0,0,0,0,0]
["Total general",0,0,0,0,0,0,0,0,0,0,0,0,0,0,0,0,0,0,0,0,0,0,0,0,0,0,0,0,0,0,0,0,0,0,0,0,0,0,0,0,0,0,0,0,0,0,0,0,0,0,0,0,0,0,0,0,0,0,0,0,0,0,0,0,0,0,0,0,0,0,0,0,0,0,0,0,0,0,0,0,0,0,0,0,0,0,0,0,0,0,0,0,0,0,0,0,0,0,0,0,0,0,0,0,0,0,0,0,0,0,0,0,0,0,0,0,0,0,0,0,0,0,0,0,0,0,0,0,0,0,0,0,0,0,0,0,0,0,0,0,0,0,0,0,0,0,0,0,0,0,0,0,0,0,0,0,0,0,0,0,0,0,0,0,0,0,0,0,0,0,0,0,0,0,0,0,0,0,0,0,0,0,0,0,0,0,0,0,0,0,0,0,0,0,0,0,0,0,0,0,0,0,0,0,0,0,0,0,0,0,0,0,0,0,0,0,0,0,0,0,0,0,0,0,0,0,0,0,0,0]
[]
["TOTAL"]
[{"$f":"COUNT(A107:A118)","v":11},{"$f":"SUM(B107:B118)","v":0},{"$f":"SUM(C107:C118)","v":0},0,0,0,0,0,0,0,0,0,0,0,0,0,0,0,0,0,0,0,0,0,0,0,0,0,0,0,0,0,0,0,0,0,0,0,0,0,0,0,0,0,0,0,0,0,0,0,0,0,0,0,0,0,0,0,0,0,0,0,0,0,0,0,{"$f":"SUM(BO107:BO118)","v":0},0,0,0,0,0,0,0,0,0,0,0,0,0,0,0,0,0,0,0,0,0,0,0,0,0,0,0,0,0,0,0,0,0,0,0,0,0,0,0,0,0,0,0,0,0,0,0,0,0,0,0,0,0,0,0,0,0,0,0,0,0,0,0,{"$f":"SUM(EA107:EA118)","v":0},0,0,0,0,0,0,0,0,0,0,0,0,0,0,0,0,0,0,0,0,0,0,0,0,0,0,0,0,0,0,0,0,0,0,0,0,0,0,0,0,0,0,0,0,0,0,0,0,0,0,0,0,0,0,0,0,0,0,0,0,0,0,0,{"$f":"SUM(GM107:GM118)","v":0},0,0,0,0,0,0,0,0,0,0,0,0,0,0,0,0,0,0,0,0,0,0,0,0,0,0,0,0,0,0,0,0,0,0,0,0]
[{"$f":"CONCATENATE(A107,\"-\",A108,\"-\",A109,\"-\",A110,\"-\",A111,\"-\",A112,\"-\",A113,\"-\",A114,\"-\",A115,\"-\",A116,\"-\",A117,\"-\",A118)","v":"1-5-2-3-4-6-11-10-9-8-7-Total general"}]
[null," BAS001"," BAS002"," BAS003"," BAS004"," BAS005"," BAS006"," BAS007"," BAS008"," BAS009"," BAS010"," BAS011"," BAS012"," BAS013"," BAS014"," BAS015"," BAS016"," BAS017"," BAS018"," BAS019"," BAS020"," BAS021"," BAS022"," BAS023"," BAS024"," BAS025"," BAS026"," BAS027"," BAS028"," BAS029"," BAS030"," BAS031"," BAS032"," BAS033"," BAS034"," BAS035"," BAS036"," BAS037"," BAS038"," BAS039"," BAS040"," BAS041"," BAS042"," BAS043"," BAS044"," BAS045"," BAS046"," BAS047"," BAS048"," BAS049"," BAS050"," BAS051"," BAS052"," BAS053"," BAS054"," BAS055"," BAS056"," BAS057"," BAS058"," BAS059"," BAS060"," BAS061"," BAS062"," BAS063"," BAS064"," BAS065"," BAS066"," BAS067"," BAS068"," BAS069"," BAS070"," BAS071"," BAS072"," BAS073"," BAS074"," BAS075"," BAS076"," BAS077"," BAS078"," BAS079"," BAS080"," BAS081"," BAS082"," BAS083"," BAS084"," BAS085"," BAS086"," BAS087"," BAS088"," BAS089"," BAS090"," BAS091"," BAS092"," BAS093"," BAS094"," BAS095"," BAS096"," BAS097"," BAS098"," BAS099"," BAS100"," BAS101"," BAS102"," BAS103"," BAS104"," BAS105"," BAS106"," BAS107"," BAS108"," BAS109"," BAS110"," BAS111"," BAS112"," BAS113"," BAS114"," BAS115"," BAS116"," BAS117"," BAS118"," BAS119"," BAS120"," BAS121"," BAS122"," BAS123"," BAS124"," BAS125"," BAS126"," BAS127"," BAS128"," BAS129"," BAS130"," BAS131"," BAS132"," BAS133"," BAS134"," BAS135"," BAS136"," BAS137"," BAS138"," BAS139"," BAS140"," BAS141"," BAS142"," BAS143"," BAS144"," BAS145"," BAS146"," BAS147"," BAS148"," BAS149"," BAS150"," BAS151"," BAS152"," BAS153"," BAS154"," BAS155"," BAS156"," BAS157"," BAS158"," BAS159"," BAS160"," BAS161"," BAS162"," BAS163"," BAS164"," BAS165"," BAS166"," BAS167"," BAS168"," BAS169"," BAS170"," BAS171"," BAS172"," BAS173"," BAS174"," BAS175"," BAS176"," BAS177"," BAS178"," BAS179"," BAS180"," BAS181"," BAS182"," BAS183"," BAS184"," BAS185"," BAS186"," BAS187"," BAS188"," BAS189"," BAS190"," BAS191"," BAS192"," BAS193"," BAS194"," BAS195"," BAS196"," BAS197"," BAS198"," BAS199"," BAS200"," BAS201"," BAS202"," BAS203"," BAS204"," BAS205"," BAS206"," BAS207"," BAS208"," BAS209"," BAS210"," BAS211"," BAS212"," BAS213"," BAS214"," BAS215"," BAS216"," BAS217"," BAS218"," BAS219"," BAS220"," BAS221"," BAS222"," BAS223"," BAS224"," BAS225"," BAS226"," BAS227"," BAS228"," BAS229"," BAS230"]
[null,{"$f":"IF(B123=B106,\"SI\",\"NO\")","v":"SI"},{"$f":"IF(C123=C106,\"SI\",\"NO\")","v":"SI"},{"$f":"IF(D123=D106,\"SI\",\"NO\")","v":"SI"},{"$f":"IF(E123=E106,\"SI\",\"NO\")","v":"SI"},{"$f":"IF(F123=F106,\"SI\",\"NO\")","v":"SI"},{"$f":"IF(G123=G106,\"SI\",\"NO\")","v":"SI"},{"$f":"IF(H123=H106,\"SI\",\"NO\")","v":"SI"},{"$f":"IF(I123=I106,\"SI\",\"NO\")","v":"SI"},{"$f":"IF(J123=J106,\"SI\",\"NO\")","v":"SI"},{"$f":"IF(K123=K106,\"SI\",\"NO\")","v":"SI"},{"$f":"IF(L123=L106,\"SI\",\"NO\")","v":"SI"},{"$f":"IF(M123=M106,\"SI\",\"NO\")","v":"SI"},{"$f":"IF(N123=N106,\"SI\",\"NO\")","v":"SI"},{"$f":"IF(O123=O106,\"SI\",\"NO\")","v":"SI"},{"$f":"IF(P123=P106,\"SI\",\"NO\")","v":"SI"},{"$f":"IF(Q123=Q106,\"SI\",\"NO\")","v":"SI"},{"$f":"IF(R123=R106,\"SI\",\"NO\")","v":"SI"},{"$f":"IF(S123=S106,\"SI\",\"NO\")","v":"SI"},{"$f":"IF(T123=T106,\"SI\",\"NO\")","v":"SI"},{"$f":"IF(U123=U106,\"SI\",\"NO\")","v":"SI"},{"$f":"IF(V123=V106,\"SI\",\"NO\")","v":"SI"},{"$f":"IF(W123=W106,\"SI\",\"NO\")","v":"SI"},{"$f":"IF(X123=X106,\"SI\",\"NO\")","v":"SI"},{"$f":"IF(Y123=Y106,\"SI\",\"NO\")","v":"SI"},{"$f":"IF(Z123=Z106,\"SI\",\"NO\")","v":"SI"},{"$f":"IF(AA123=AA106,\"SI\",\"NO\")","v":"SI"},{"$f":"IF(AB123=AB106,\"SI\",\"NO\")","v":"SI"},{"$f":"IF(AC123=AC106,\"SI\",\"NO\")","v":"SI"},{"$f":"IF(AD123=AD106,\"SI\",\"NO\")","v":"SI"},{"$f":"IF(AE123=AE106,\"SI\",\"NO\")","v":"SI"},{"$f":"IF(AF123=AF106,\"SI\",\"NO\")","v":"SI"},{"$f":"IF(AG123=AG106,\"SI\",\"NO\")","v":"SI"},{"$f":"IF(AH123=AH106,\"SI\",\"NO\")","v":"SI"},{"$f":"IF(AI123=AI106,\"SI\",\"NO\")","v":"SI"},{"$f":"IF(AJ123=AJ106,\"SI\",\"NO\")","v":"SI"},{"$f":"IF(AK123=AK106,\"SI\",\"NO\")","v":"SI"},{"$f":"IF(AL123=AL106,\"SI\",\"NO\")","v":"SI"},{"$f":"IF(AM123=AM106,\"SI\",\"NO\")","v":"SI"},{"$f":"IF(AN123=AN106,\"SI\",\"NO\")","v":"SI"},{"$f":"IF(AO123=AO106,\"SI\",\"NO\")","v":"SI"},{"$f":"IF(AP123=AP106,\"SI\",\"NO\")","v":"SI"},{"$f":"IF(AQ123=AQ106,\"SI\",\"NO\")","v":"SI"},{"$f":"IF(AR123=AR106,\"SI\",\"NO\")","v":"SI"},{"$f":"IF(AS123=AS106,\"SI\",\"NO\")","v":"SI"},{"$f":"IF(AT123=AT106,\"SI\",\"NO\")","v":"SI"},{"$f":"IF(AU123=AU106,\"SI\",\"NO\")","v":"SI"},{"$f":"IF(AV123=AV106,\"SI\",\"NO\")","v":"SI"},{"$f":"IF(AW123=AW106,\"SI\",\"NO\")","v":"SI"},{"$f":"IF(AX123=AX106,\"SI\",\"NO\")","v":"SI"},{"$f":"IF(AY123=AY106,\"SI\",\"NO\")","v":"SI"},{"$f":"IF(AZ123=AZ106,\"SI\",\"NO\")","v":"SI"},{"$f":"IF(BA123=BA106,\"SI\",\"NO\")","v":"SI"},{"$f":"IF(BB123=BB106,\"SI\",\"NO\")","v":"SI"},{"$f":"IF(BC123=BC106,\"SI\",\"NO\")","v":"SI"},{"$f":"IF(BD123=BD106,\"SI\",\"NO\")","v":"SI"},{"$f":"IF(BE123=BE106,\"SI\",\"NO\")","v":"SI"},{"$f":"IF(BF123=BF106,\"SI\",\"NO\")","v":"SI"},{"$f":"IF(BG123=BG106,\"SI\",\"NO\")","v":"SI"},{"$f":"IF(BH123=BH106,\"SI\",\"NO\")","v":"SI"},{"$f":"IF(BI123=BI106,\"SI\",\"NO\")","v":"SI"},{"$f":"IF(BJ123=BJ106,\"SI\",\"NO\")","v":"SI"},{"$f":"IF(BK123=BK106,\"SI\",\"NO\")","v":"SI"},{"$f":"IF(BL123=BL106,\"SI\",\"NO\")","v":"SI"},{"$f":"IF(BM123=BM106,\"SI\",\"NO\")","v":"SI"},{"$f":"IF(BN123=BN106,\"SI\",\"NO\")","v":"SI"},{"$f":"IF(BO123=BO106,\"SI\",\"NO\")","v":"SI"},{"$f":"IF(BP123=BP106,\"SI\",\"NO\")","v":"SI"},{"$f":"IF(BQ123=BQ106,\"SI\",\"NO\")","v":"SI"},{"$f":"IF(BR123=BR106,\"SI\",\"NO\")","v":"SI"},{"$f":"IF(BS123=BS106,\"SI\",\"NO\")","v":"SI"},{"$f":"IF(BT123=BT106,\"SI\",\"NO\")","v":"SI"},{"$f":"IF(BU123=BU106,\"SI\",\"NO\")","v":"SI"},{"$f":"IF(BV123=BV106,\"SI\",\"NO\")","v":"SI"},{"$f":"IF(BW123=BW106,\"SI\",\"NO\")","v":"SI"},{"$f":"IF(BX123=BX106,\"SI\",\"NO\")","v":"SI"},{"$f":"IF(BY123=BY106,\"SI\",\"NO\")","v":"SI"},{"$f":"IF(BZ123=BZ106,\"SI\",\"NO\")","v":"SI"},{"$f":"IF(CA123=CA106,\"SI\",\"NO\")","v":"SI"},{"$f":"IF(CB123=CB106,\"SI\",\"NO\")","v":"SI"},{"$f":"IF(CC123=CC106,\"SI\",\"NO\")","v":"SI"},{"$f":"IF(CD123=CD106,\"SI\",\"NO\")","v":"SI"},{"$f":"IF(CE123=CE106,\"SI\",\"NO\")","v":"SI"},{"$f":"IF(CF123=CF106,\"SI\",\"NO\")","v":"SI"},{"$f":"IF(CG123=CG106,\"SI\",\"NO\")","v":"SI"},{"$f":"IF(CH123=CH106,\"SI\",\"NO\")","v":"SI"},{"$f":"IF(CI123=CI106,\"SI\",\"NO\")","v":"SI"},{"$f":"IF(CJ123=CJ106,\"SI\",\"NO\")","v":"SI"},{"$f":"IF(CK123=CK106,\"SI\",\"NO\")","v":"SI"},{"$f":"IF(CL123=CL106,\"SI\",\"NO\")","v":"SI"},{"$f":"IF(CM123=CM106,\"SI\",\"NO\")","v":"SI"},{"$f":"IF(CN123=CN106,\"SI\",\"NO\")","v":"SI"},{"$f":"IF(CO123=CO106,\"SI\",\"NO\")","v":"SI"},{"$f":"IF(CP123=CP106,\"SI\",\"NO\")","v":"SI"},{"$f":"IF(CQ123=CQ106,\"SI\",\"NO\")","v":"SI"},{"$f":"IF(CR123=CR106,\"SI\",\"NO\")","v":"SI"},{"$f":"IF(CS123=CS106,\"SI\",\"NO\")","v":"SI"},{"$f":"IF(CT123=CT106,\"SI\",\"NO\")","v":"SI"},{"$f":"IF(CU123=CU106,\"SI\",\"NO\")","v":"SI"},{"$f":"IF(CV123=CV106,\"SI\",\"NO\")","v":"SI"},{"$f":"IF(CW123=CW106,\"SI\",\"NO\")","v":"SI"},{"$f":"IF(CX123=CX106,\"SI\",\"NO\")","v":"SI"},{"$f":"IF(CY123=CY106,\"SI\",\"NO\")","v":"SI"},{"$f":"IF(CZ123=CZ106,\"SI\",\"NO\")","v":"SI"},{"$f":"IF(DA123=DA106,\"SI\",\"NO\")","v":"SI"},{"$f":"IF(DB123=DB106,\"SI\",\"NO\")","v":"SI"},{"$f":"IF(DC123=DC106,\"SI\",\"NO\")","v":"SI"},{"$f":"IF(DD123=DD106,\"SI\",\"NO\")","v":"SI"},{"$f":"IF(DE123=DE106,\"SI\",\"NO\")","v":"SI"},{"$f":"IF(DF123=DF106,\"SI\",\"NO\")","v":"SI"},{"$f":"IF(DG123=DG106,\"SI\",\"NO\")","v":"SI"},{"$f":"IF(DH123=DH106,\"SI\",\"NO\")","v":"SI"},{"$f":"IF(DI123=DI106,\"SI\",\"NO\")","v":"SI"},{"$f":"IF(DJ123=DJ106,\"SI\",\"NO\")","v":"SI"},{"$f":"IF(DK123=DK106,\"SI\",\"NO\")","v":"SI"},{"$f":"IF(DL123=DL106,\"SI\",\"NO\")","v":"SI"},{"$f":"IF(DM123=DM106,\"SI\",\"NO\")","v":"SI"},{"$f":"IF(DN123=DN106,\"SI\",\"NO\")","v":"SI"},{"$f":"IF(DO123=DO106,\"SI\",\"NO\")","v":"SI"},{"$f":"IF(DP123=DP106,\"SI\",\"NO\")","v":"SI"},{"$f":"IF(DQ123=DQ106,\"SI\",\"NO\")","v":"SI"},{"$f":"IF(DR123=DR106,\"SI\",\"NO\")","v":"SI"},{"$f":"IF(DS123=DS106,\"SI\",\"NO\")","v":"SI"},{"$f":"IF(DT123=DT106,\"SI\",\"NO\")","v":"SI"},{"$f":"IF(DU123=DU106,\"SI\",\"NO\")","v":"SI"},{"$f":"IF(DV123=DV106,\"SI\",\"NO\")","v":"SI"},{"$f":"IF(DW123=DW106,\"SI\",\"NO\")","v":"SI"},{"$f":"IF(DX123=DX106,\"SI\",\"NO\")","v":"SI"},{"$f":"IF(DY123=DY106,\"SI\",\"NO\")","v":"SI"},{"$f":"IF(DZ123=DZ106,\"SI\",\"NO\")","v":"SI"},{"$f":"IF(EA123=EA106,\"SI\",\"NO\")","v":"SI"},{"$f":"IF(EB123=EB106,\"SI\",\"NO\")","v":"SI"},{"$f":"IF(EC123=EC106,\"SI\",\"NO\")","v":"SI"},{"$f":"IF(ED123=ED106,\"SI\",\"NO\")","v":"SI"},{"$f":"IF(EE123=EE106,\"SI\",\"NO\")","v":"SI"},{"$f":"IF(EF123=EF106,\"SI\",\"NO\")","v":"SI"},{"$f":"IF(EG123=EG106,\"SI\",\"NO\")","v":"SI"},{"$f":"IF(EH123=EH106,\"SI\",\"NO\")","v":"SI"},{"$f":"IF(EI123=EI106,\"SI\",\"NO\")","v":"SI"},{"$f":"IF(EJ123=EJ106,\"SI\",\"NO\")","v":"SI"},{"$f":"IF(EK123=EK106,\"SI\",\"NO\")","v":"SI"},{"$f":"IF(EL123=EL106,\"SI\",\"NO\")","v":"SI"},{"$f":"IF(EM123=EM106,\"SI\",\"NO\")","v":"SI"},{"$f":"IF(EN123=EN106,\"SI\",\"NO\")","v":"SI"},{"$f":"IF(EO123=EO106,\"SI\",\"NO\")","v":"SI"},{"$f":"IF(EP123=EP106,\"SI\",\"NO\")","v":"SI"},{"$f":"IF(EQ123=EQ106,\"SI\",\"NO\")","v":"SI"},{"$f":"IF(ER123=ER106,\"SI\",\"NO\")","v":"SI"},{"$f":"IF(ES123=ES106,\"SI\",\"NO\")","v":"SI"},{"$f":"IF(ET123=ET106,\"SI\",\"NO\")","v":"SI"},{"$f":"IF(EU123=EU106,\"SI\",\"NO\")","v":"SI"},{"$f":"IF(EV123=EV106,\"SI\",\"NO\")","v":"SI"},{"$f":"IF(EW123=EW106,\"SI\",\"NO\")","v":"SI"},{"$f":"IF(EX123=EX106,\"SI\",\"NO\")","v":"SI"},{"$f":"IF(EY123=EY106,\"SI\",\"NO\")","v":"SI"},{"$f":"IF(EZ123=EZ106,\"SI\",\"NO\")","v":"SI"},{"$f":"IF(FA123=FA106,\"SI\",\"NO\")","v":"SI"},{"$f":"IF(FB123=FB106,\"SI\",\"NO\")","v":"SI"},{"$f":"IF(FC123=FC106,\"SI\",\"NO\")","v":"SI"},{"$f":"IF(FD123=FD106,\"SI\",\"NO\")","v":"SI"},{"$f":"IF(FE123=FE106,\"SI\",\"NO\")","v":"SI"},{"$f":"IF(FF123=FF106,\"SI\",\"NO\")","v":"SI"},{"$f":"IF(FG123=FG106,\"SI\",\"NO\")","v":"SI"},{"$f":"IF(FH123=FH106,\"SI\",\"NO\")","v":"SI"},{"$f":"IF(FI123=FI106,\"SI\",\"NO\")","v":"SI"},{"$f":"IF(FJ123=FJ106,\"SI\",\"NO\")","v":"SI"},{"$f":"IF(FK123=FK106,\"SI\",\"NO\")","v":"SI"},{"$f":"IF(FL123=FL106,\"SI\",\"NO\")","v":"SI"},{"$f":"IF(FM123=FM106,\"SI\",\"NO\")","v":"SI"},{"$f":"IF(FN123=FN106,\"SI\",\"NO\")","v":"SI"},{"$f":"IF(FO123=FO106,\"SI\",\"NO\")","v":"SI"},{"$f":"IF(FP123=FP106,\"SI\",\"NO\")","v":"SI"},{"$f":"IF(FQ123=FQ106,\"SI\",\"NO\")","v":"SI"},{"$f":"IF(FR123=FR106,\"SI\",\"NO\")","v":"SI"},{"$f":"IF(FS123=FS106,\"SI\",\"NO\")","v":"SI"},{"$f":"IF(FT123=FT106,\"SI\",\"NO\")","v":"SI"},{"$f":"IF(FU123=FU106,\"SI\",\"NO\")","v":"SI"},{"$f":"IF(FV123=FV106,\"SI\",\"NO\")","v":"SI"},{"$f":"IF(FW123=FW106,\"SI\",\"NO\")","v":"SI"},{"$f":"IF(FX123=FX106,\"SI\",\"NO\")","v":"SI"},{"$f":"IF(FY123=FY106,\"SI\",\"NO\")","v":"SI"},{"$f":"IF(FZ123=FZ106,\"SI\",\"NO\")","v":"SI"},{"$f":"IF(GA123=GA106,\"SI\",\"NO\")","v":"SI"},{"$f":"IF(GB123=GB106,\"SI\",\"NO\")","v":"SI"},{"$f":"IF(GC123=GC106,\"SI\",\"NO\")","v":"SI"},{"$f":"IF(GD123=GD106,\"SI\",\"NO\")","v":"SI"},{"$f":"IF(GE123=GE106,\"SI\",\"NO\")","v":"SI"},{"$f":"IF(GF123=GF106,\"SI\",\"NO\")","v":"SI"},{"$f":"IF(GG123=GG106,\"SI\",\"NO\")","v":"SI"},{"$f":"IF(GH123=GH106,\"SI\",\"NO\")","v":"SI"},{"$f":"IF(GI123=GI106,\"SI\",\"NO\")","v":"SI"},{"$f":"IF(GJ123=GJ106,\"SI\",\"NO\")","v":"SI"},{"$f":"IF(GK123=GK106,\"SI\",\"NO\")","v":"SI"},{"$f":"IF(GL123=GL106,\"SI\",\"NO\")","v":"SI"},{"$f":"IF(GM123=GM106,\"SI\",\"NO\")","v":"SI"},{"$f":"IF(GN123=GN106,\"SI\",\"NO\")","v":"SI"},{"$f":"IF(GO123=GO106,\"SI\",\"NO\")","v":"SI"},{"$f":"IF(GP123=GP106,\"SI\",\"NO\")","v":"SI"},{"$f":"IF(GQ123=GQ106,\"SI\",\"NO\")","v":"SI"},{"$f":"IF(GR123=GR106,\"SI\",\"NO\")","v":"SI"},{"$f":"IF(GS123=GS106,\"SI\",\"NO\")","v":"SI"},{"$f":"IF(GT123=GT106,\"SI\",\"NO\")","v":"SI"},{"$f":"IF(GU123=GU106,\"SI\",\"NO\")","v":"SI"},{"$f":"IF(GV123=GV106,\"SI\",\"NO\")","v":"SI"},{"$f":"IF(GW123=GW106,\"SI\",\"NO\")","v":"SI"},{"$f":"IF(GX123=GX106,\"SI\",\"NO\")","v":"SI"},{"$f":"IF(GY123=GY106,\"SI\",\"NO\")","v":"SI"},{"$f":"IF(GZ123=GZ106,\"SI\",\"NO\")","v":"SI"},{"$f":"IF(HA123=HA106,\"SI\",\"NO\")","v":"SI"},{"$f":"IF(HB123=HB106,\"SI\",\"NO\")","v":"SI"},{"$f":"IF(HC123=HC106,\"SI\",\"NO\")","v":"SI"},{"$f":"IF(HD123=HD106,\"SI\",\"NO\")","v":"SI"},{"$f":"IF(HE123=HE106,\"SI\",\"NO\")","v":"SI"},{"$f":"IF(HF123=HF106,\"SI\",\"NO\")","v":"SI"},{"$f":"IF(HG123=HG106,\"SI\",\"NO\")","v":"SI"},{"$f":"IF(HH123=HH106,\"SI\",\"NO\")","v":"SI"},{"$f":"IF(HI123=HI106,\"SI\",\"NO\")","v":"SI"},{"$f":"IF(HJ123=HJ106,\"SI\",\"NO\")","v":"SI"},{"$f":"IF(HK123=HK106,\"SI\",\"NO\")","v":"SI"},{"$f":"IF(HL123=HL106,\"SI\",\"NO\")","v":"SI"},{"$f":"IF(HM123=HM106,\"SI\",\"NO\")","v":"SI"},{"$f":"IF(HN123=HN106,\"SI\",\"NO\")","v":"SI"},{"$f":"IF(HO123=HO106,\"SI\",\"NO\")","v":"SI"},{"$f":"IF(HP123=HP106,\"SI\",\"NO\")","v":"SI"},{"$f":"IF(HQ123=HQ106,\"SI\",\"NO\")","v":"SI"},{"$f":"IF(HR123=HR106,\"SI\",\"NO\")","v":"SI"},"SI","SI","SI","SI","SI"]
[]
["AB162007"]
["anno",2024]
["cod_red","03"]
["codmic","(Todas)"]
["cod_prov","(Todas)"]
["coddist","(Todas)"]
["cod_estab","(Todas)"]
["cod_eje","(Todas)"]
[]
[null,"Valores"]
["Etiquetas de fila"," BAS001"," BAS002"," BAS003"," BAS004"," BAS005"," BAS006"," BAS007"," BAS008"," BAS009"," BAS010"," BAS011"," BAS012"," BAS013"," BAS014"," BAS015"," BAS016"," BAS017"," BAS018"," BAS019"," BAS020"," BAS021"," BAS022"," BAS023"," BAS024"," BAS025"," BAS026"," BAS027"," BAS028"," BAS029"," BAS030"," BAS031"," BAS032"," BAS033"," BAS034"," BAS035"," BAS036"," BAS037"," BAS038"," BAS039"," BAS040"," BAS041"," BAS042"," BAS043"," BAS044"," BAS045"," BAS046"," BAS047"," BAS048"," BAS049"," BAS050"," BAS051"," BAS052"," BAS053"," BAS054"," BAS055"," BAS056"," BAS057"," BAS058"," BAS059"," BAS060"," BAS061"," BAS062"," BAS063"," BAS064"," BAS065"," BAS066"," BAS067"," BAS068"," BAS069"," BAS070"," BAS071"," BAS072"," BAS073"," BAS074"," BAS075"," BAS076"," BAS077"," BAS078"," BAS079"," BAS080"," BAS081"," BAS082"," BAS083"," BAS084"," BAS085"," BAS086"," BAS087"," BAS088"," BAS089"," BAS090"," BAS091"," BAS092"," BAS093"," BAS094"," BAS095"," BAS096"," BAS097"," BAS098"," BAS099"," BAS100"," BAS101"," BAS102"," BAS103"," BAS104"," BAS105"," BAS106"," BAS107"," BAS108"," BAS109"," BAS110"," BAS111"," BAS112"," BAS113"," BAS114"," BAS115"," BAS116"," BAS117"," BAS118"," BAS119"," BAS120"," BAS121"," BAS122"," BAS123"," BAS124"," BAS125"," BAS126"," BAS127"," BAS128"," BAS129"," BAS130"," BAS131"," BAS132"," BAS133"," BAS134"," BAS135"," BAS136"," BAS137"," BAS138"," BAS139"," BAS140"," BAS141"," BAS142"," BAS143"," BAS144"," BAS145"," BAS146"," BAS147"," BAS148"," BAS149"," BAS150"," BAS151"," BAS152"," BAS153"," BAS154"," BAS155"," BAS156"," BAS157"," BAS158"," BAS159"," BAS160"," BAS161"," BAS162"," BAS163"," BAS164"," BAS165"," BAS166"," BAS167"," BAS168"," BAS169"," BAS170"," BAS171"," BAS172"," BAS173"," BAS174"," BAS175"," BAS176"," BAS177"," BAS178"," BAS179"," BAS180"," BAS181"," BAS182"," BAS183"," BAS184"," BAS185"," BAS186"," BAS187"," BAS188"," BAS189"," BAS190"," BAS191"," BAS192"," BAS193"," BAS194"," BAS195"," BAS196"," BAS197"," BAS198"," BAS199"," BAS200"," BAS201"," BAS202"," BAS203"," BAS204"," BAS205"," BAS206"," BAS207"," BAS208"," BAS209"," BAS210"," BAS211"," BAS212"," BAS213"," BAS214"," BAS215"," BAS216"," BAS217"," BAS218"," BAS219"," BAS220"," BAS221"," BAS222"," BAS223"," BAS224"," BAS225"," BAS226"," BAS227"," BAS228"," BAS229"," BAS230"]
[1,0,0,0,0,0,0,0,0,0,0,0,0,0,0,0,0,0,0,0,0,0,0,0,0,0,0,0,0,0,0,0,0,0,0,0,0,0,0,0,0,0,0,0,0,0,0,0,0,0,0,0,0,0,0,0,0,0,0,0,0,0,0,0,0,0,0,0,0,0,0,0,0,0,0,0,0,0,0,0,0,0,0,0,0,0,0,0,0,0,0,0,0,0,0,0,0,0,0,0,0,0,0,0,0,0,0,0,0,0,0,0,0,0,0,0,0,0,0,0,0,0,0,0,0,0,0,0,0,0,0,0,0,0,0,0,0,0,0,0,0,0,0,0,0,0,0,0,0,0,0,0,0,0,0,0,0,0,0,0,0,0,0,0,0,0,0,0,0,0,0,0,0,0,0,0,0,0,0,0,0,0,0,0,0,0,0,0,0,0,0,0,0,0,0,0,0,0,0,0,0,0,0,0,0,0,0,0,0,0,0,0,0,0,0,0,0,0,0,0,0,0,0,0,0,0,0,0,0,0,0]
[5,0,0,0,0,0,0,0,0,0,0,0,0,0,0,0,0,0,0,0,0,0,0,0,0,0,0,0,0,0,0,0,0,0,0,0,0,0,0,0,0,0,0,0,0,0,0,0,0,0,0,0,0,0,0,0,0,0,0,0,0,0,0,0,0,0,0,0,0,0,0,0,0,0,0,0,0,0,0,0,0,0,0,0,0,0,0,0,0,0,0,0,0,0,0,0,0,0,0,0,0,0,0,0,0,0,0,0,0,0,0,0,0,0,0,0,0,0,0,0,0,0,0,0,0,0,0,0,0,0,0,0,0,0,0,0,0,0,0,0,0,0,0,0,0,0,0,0,0,0,0,0,0,0,0,0,0,0,0,0,0,0,0,0,0,0,0,0,0,0,0,0,0,0,0,0,0,0,0,0,0,0,0,0,0,0,0,0,0,0,0,0,0,0,0,0,0,0,0,0,0,0,0,0,0,0,0,0,0,0,0,0,0,0,0,0,0,0,0,0,0,0,0,0,0,0,0,0,0,0,0]
[2,0,0,0,0,0,0,0,0,0,0,0,0,0,0,0,0,0,0,0,0,0,0,0,0,0,0,0,0,0,0,0,0,0,0,0,0,0,0,0,0,0,0,0,0,0,0,0,0,0,0,0,0,0,0,0,0,0,0,0,0,0,0,0,0,0,0,0,0,0,0,0,0,0,0,0,0,0,0,0,0,0,0,0,0,0,0,0,0,0,0,0,0,0,0,0,0,0,0,0,0,0,0,0,0,0,0,0,0,0,0,0,0,0,0,0,0,0,0,0,0,0,0,0,0,0,0,0,0,0,0,0,0,0,0,0,0,0,0,0,0,0,0,0,0,0,0,0,0,0,0,0,0,0,0,0,0,0,0,0,0,0,0,0,0,0,0,0,0,0,0,0,0,0,0,0,0,0,0,0,0,0,0,0,0,0,0,0,0,0,0,0,0,0,0,0,0,0,0,0,0,0,0,0,0,0,0,0,0,0,0,0,0,0,0,0,0,0,0,0,0,0,0,0,0,0,0,0,0,0,0]
[3,0,0,0,0,0,0,0,0,0,0,0,0,0,0,0,0,0,0,0,0,0,0,0,0,0,0,0,0,0,0,0,0,0,0,0,0,0,0,0,0,0,0,0,0,0,0,0,0,0,0,0,0,0,0,0,0,0,0,0,0,0,0,0,0,0,0,0,0,0,0,0,0,0,0,0,0,0,0,0,0,0,0,0,0,0,0,0,0,0,0,0,0,0,0,0,0,0,0,0,0,0,0,0,0,0,0,0,0,0,0,0,0,0,0,0,0,0,0,0,0,0,0,0,0,0,0,0,0,0,0,0,0,0,0,0,0,0,0,0,0,0,0,0,0,0,0,0,0,0,0,0,0,0,0,0,0,0,0,0,0,0,0,0,0,0,0,0,0,0,0,0,0,0,0,0,0,0,0,0,0,0,0,0,0,0,0,0,0,0,0,0,0,0,0,0,0,0,0,0,0,0,0,0,0,0,0,0,0,0,0,0,0,0,0,0,0,0,0,0,0,0,0,0,0,0,0,0,0,0,0]
[4,0,0,0,0,0,0,0,0,0,0,0,0,0,0,0,0,0,0,0,0,0,0,0,0,0,0,0,0,0,0,0,0,0,0,0,0,0,0,0,0,0,0,0,0,0,0,0,0,0,0,0,0,0,0,0,0,0,0,0,0,0,0,0,0,0,0,0,0,0,0,0,0,0,0,0,0,0,0,0,0,0,0,0,0,0,0,0,0,0,0,0,0,0,0,0,0,0,0,0,0,0,0,0,0,0,0,0,0,0,0,0,0,0,0,0,0,0,0,0,0,0,0,0,0,0,0,0,0,0,0,0,0,0,0,0,0,0,0,0,0,0,0,0,0,0,0,0,0,0,0,0,0,0,0,0,0,0,0,0,0,0,0,0,0,0,0,0,0,0,0,0,0,0,0,0,0,0,0,0,0,0,0,0,0,0,0,0,0,0,0,0,0,0,0,0,0,0,0,0,0,0,0,0,0,0,0,0,0,0,0,0,0,0,0,0,0,0,0,0,0,0,0,0,0,0,0,0,0,0,0]
[6,0,0,0,0,0,0,0,0,0,0,0,0,0,0,0,0,0,0,0,0,0,0,0,0,0,0,0,0,0,0,0,0,0,0,0,0,0,0,0,0,0,0,0,0,0,0,0,0,0,0,0,0,0,0,0,0,0,0,0,0,0,0,0,0,0,0,0,0,0,0,0,0,0,0,0,0,0,0,0,0,0,0,0,0,0,0,0,0,0,0,0,0,0,0,0,0,0,0,0,0,0,0,0,0,0,0,0,0,0,0,0,0,0,0,0,0,0,0,0,0,0,0,0,0,0,0,0,0,0,0,0,0,0,0,0,0,0,0,0,0,0,0,0,0,0,0,0,0,0,0,0,0,0,0,0,0,0,0,0,0,0,0,0,0,0,0,0,0,0,0,0,0,0,0,0,0,0,0,0,0,0,0,0,0,0,0,0,0,0,0,0,0,0,0,0,0,0,0,0,0,0,0,0,0,0,0,0,0,0,0,0,0,0,0,0,0,0,0,0,0,0,0,0,0,0,0,0,0,0,0]
[11,0,0,0,0,0,0,0,0,0,0,0,0,0,0,0,0,0,0,0,0,0,0,0,0,0,0,0,0,0,0,0,0,0,0,0,0,0,0,0,0,0,0,0,0,0,0,0,0,0,0,0,0,0,0,0,0,0,0,0,0,0,0,0,0,0,0,0,0,0,0,0,0,0,0,0,0,0,0,0,0,0,0,0,0,0,0,0,0,0,0,0,0,0,0,0,0,0,0,0,0,0,0,0,0,0,0,0,0,0,0,0,0,0,0,0,0,0,0,0,0,0,0,0,0,0,0,0,0,0,0,0,0,0,0,0,0,0,0,0,0,0,0,0,0,0,0,0,0,0,0,0,0,0,0,0,0,0,0,0,0,0,0,0,0,0,0,0,0,0,0,0,0,0,0,0,0,0,0,0,0,0,0,0,0,0,0,0,0,0,0,0,0,0,0,0,0,0,0,0,0,0,0,0,0,0,0,0,0,0,0,0,0,0,0,0,0,0,0,0,0,0,0,0,0,0,0,0,0,0,0]
[10,0,0,0,0,0,0,0,0,0,0,0,0,0,0,0,0,0,0,0,0,0,0,0,0,0,0,0,0,0,0,0,0,0,0,0,0,0,0,0,0,0,0,0,0,0,0,0,0,0,0,0,0,0,0,0,0,0,0,0,0,0,0,0,0,0,0,0,0,0,0,0,0,0,0,0,0,0,0,0,0,0,0,0,0,0,0,0,0,0,0,0,0,0,0,0,0,0,0,0,0,0,0,0,0,0,0,0,0,0,0,0,0,0,0,0,0,0,0,0,0,0,0,0,0,0,0,0,0,0,0,0,0,0,0,0,0,0,0,0,0,0,0,0,0,0,0,0,0,0,0,0,0,0,0,0,0,0,0,0,0,0,0,0,0,0,0,0,0,0,0,0,0,0,0,0,0,0,0,0,0,0,0,0,0,0,0,0,0,0,0,0,0,0,0,0,0,0,0,0,0,0,0,0,0,0,0,0,0,0,0,0,0,0,0,0,0,0,0,0,0,0,0,0,0,0,0,0,0,0,0]
[9,0,0,0,0,0,0,0,0,0,0,0,0,0,0,0,0,0,0,0,0,0,0,0,0,0,0,0,0,0,0,0,0,0,0,0,0,0,0,0,0,0,0,0,0,0,0,0,0,0,0,0,0,0,0,0,0,0,0,0,0,0,0,0,0,0,0,0,0,0,0,0,0,0,0,0,0,0,0,0,0,0,0,0,0,0,0,0,0,0,0,0,0,0,0,0,0,0,0,0,0,0,0,0,0,0,0,0,0,0,0,0,0,0,0,0,0,0,0,0,0,0,0,0,0,0,0,0,0,0,0,0,0,0,0,0,0,0,0,0,0,0,0,0,0,0,0,0,0,0,0,0,0,0,0,0,0,0,0,0,0,0,0,0,0,0,0,0,0,0,0,0,0,0,0,0,0,0,0,0,0,0,0,0,0,0,0,0,0,0,0,0,0,0,0,0,0,0,0,0,0,0,0,0,0,0,0,0,0,0,0,0,0,0,0,0,0,0,0,0,0,0,0,0,0,0,0,0,0,0,0]
[8,0,0,0,0,0,0,0,0,0,0,0,0,0,0,0,0,0,0,0,0,0,0,0,0,0,0,0,0,0,0,0,0,0,0,0,0,0,0,0,0,0,0,0,0,0,0,0,0,0,0,0,0,0,0,0,0,0,0,0,0,0,0,0,0,0,0,0,0,0,0,0,0,0,0,0,0,0,0,0,0,0,0,0,0,0,0,0,0,0,0,0,0,0,0,0,0,0,0,0,0,0,0,0,0,0,0,0,0,0,0,0,0,0,0,0,0,0,0,0,0,0,0,0,0,0,0,0,0,0,0,0,0,0,0,0,0,0,0,0,0,0,0,0,0,0,0,0,0,0,0,0,0,0,0,0,0,0,0,0,0,0,0,0,0,0,0,0,0,0,0,0,0,0,0,0,0,0,0,0,0,0,0,0,0,0,0,0,0,0,0,0,0,0,0,0,0,0,0,0,0,0,0,0,0,0,0,0,0,0,0,0,0,0,0,0,0,0,0,0,0,0,0,0,0,0,0,0,0,0,0]
[7,0,0,0,0,0,0,0,0,0,0,0,0,0,0,0,0,0,0,0,0,0,0,0,0,0,0,0,0,0,0,0,0,0,0,0,0,0,0,0,0,0,0,0,0,0,0,0,0,0,0,0,0,0,0,0,0,0,0,0,0,0,0,0,0,0,0,0,0,0,0,0,0,0,0,0,0,0,0,0,0,0,0,0,0,0,0,0,0,0,0,0,0,0,0,0,0,0,0,0,0,0,0,0,0,0,0,0,0,0,0,0,0,0,0,0,0,0,0,0,0,0,0,0,0,0,0,0,0,0,0,0,0,0,0,0,0,0,0,0,0,0,0,0,0,0,0,0,0,0,0,0,0,0,0,0,0,0,0,0,0,0,0,0,0,0,0,0,0,0,0,0,0,0,0,0,0,0,0,0,0,0,0,0,0,0,0,0,0,0,0,0,0,0,0,0,0,0,0,0,0,0,0,0,0,0,0,0,0,0,0,0,0,0,0,0,0,0,0,0,0,0,0,0,0,0,0,0,0,0,0]
["Total general",0,0,0,0,0,0,0,0,0,0,0,0,0,0,0,0,0,0,0,0,0,0,0,0,0,0,0,0,0,0,0,0,0,0,0,0,0,0,0,0,0,0,0,0,0,0,0,0,0,0,0,0,0,0,0,0,0,0,0,0,0,0,0,0,0,0,0,0,0,0,0,0,0,0,0,0,0,0,0,0,0,0,0,0,0,0,0,0,0,0,0,0,0,0,0,0,0,0,0,0,0,0,0,0,0,0,0,0,0,0,0,0,0,0,0,0,0,0,0,0,0,0,0,0,0,0,0,0,0,0,0,0,0,0,0,0,0,0,0,0,0,0,0,0,0,0,0,0,0,0,0,0,0,0,0,0,0,0,0,0,0,0,0,0,0,0,0,0,0,0,0,0,0,0,0,0,0,0,0,0,0,0,0,0,0,0,0,0,0,0,0,0,0,0,0,0,0,0,0,0,0,0,0,0,0,0,0,0,0,0,0,0,0,0,0,0,0,0,0,0,0,0,0,0,0,0,0,0,0,0]
[]
["TOTAL"]
[{"$f":"COUNT(A137:A148)","v":11},{"$f":"SUM(B137:B148)","v":0},{"$f":"SUM(C137:C148)","v":0},0,0,0,0,0,0,0,0,0,0,0,0,0,0,0,0,0,0,0,0,0,0,0,0,0,0,0,0,0,0,0,0,0,0,0,0,0,0,0,0,0,0,0,0,0,0,0,0,0,0,0,0,0,0,0,0,0,0,0,0,0,0,0,{"$f":"SUM(BO137:BO148)","v":0},0,0,0,0,0,0,0,0,0,0,0,0,0,0,0,0,0,0,0,0,0,0,0,0,0,0,0,0,0,0,0,0,0,0,0,0,0,0,0,0,0,0,0,0,0,0,0,0,0,0,0,0,0,0,0,0,0,0,0,0,0,0,0,{"$f":"SUM(EA137:EA148)","v":0},0,0,0,0,0,0,0,0,0,0,0,0,0,0,0,0,0,0,0,0,0,0,0,0,0,0,0,0,0,0,0,0,0,0,0,0,0,0,0,0,0,0,0,0,0,0,0,0,0,0,0,0,0,0,0,0,0,0,0,0,0,0,0,{"$f":"SUM(GM137:GM148)","v":0},0,0,0,0,0,0,0,0,0,0,0,0,0,0,0,0,0,0,0,0,0,0,0,0,0,0,0,0,0,0,0,0,0,0,0,0]
[{"$f":"CONCATENATE(A137,\"-\",A138,\"-\",A139,\"-\",A140,\"-\",A141,\"-\",A142,\"-\",A143,\"-\",A144,\"-\",A145,\"-\",A146,\"-\",A147,\"-\",A148)","v":"1-5-2-3-4-6-11-10-9-8-7-Total general"}]
[null," BAS001"," BAS002"," BAS003"," BAS004"," BAS005"," BAS006"," BAS007"," BAS008"," BAS009"," BAS010"," BAS011"," BAS012"," BAS013"," BAS014"," BAS015"," BAS016"," BAS017"," BAS018"," BAS019"," BAS020"," BAS021"," BAS022"," BAS023"," BAS024"," BAS025"," BAS026"," BAS027"," BAS028"," BAS029"," BAS030"," BAS031"," BAS032"," BAS033"," BAS034"," BAS035"," BAS036"," BAS037"," BAS038"," BAS039"," BAS040"," BAS041"," BAS042"," BAS043"," BAS044"," BAS045"," BAS046"," BAS047"," BAS048"," BAS049"," BAS050"," BAS051"," BAS052"," BAS053"," BAS054"," BAS055"," BAS056"," BAS057"," BAS058"," BAS059"," BAS060"," BAS061"," BAS062"," BAS063"," BAS064"," BAS065"," BAS066"," BAS067"," BAS068"," BAS069"," BAS070"," BAS071"," BAS072"," BAS073"," BAS074"," BAS075"," BAS076"," BAS077"," BAS078"," BAS079"," BAS080"," BAS081"," BAS082"," BAS083"," BAS084"," BAS085"," BAS086"," BAS087"," BAS088"," BAS089"," BAS090"," BAS091"," BAS092"," BAS093"," BAS094"," BAS095"," BAS096"," BAS097"," BAS098"," BAS099"," BAS100"," BAS101"," BAS102"," BAS103"," BAS104"," BAS105"," BAS106"," BAS107"," BAS108"," BAS109"," BAS110"," BAS111"," BAS112"," BAS113"," BAS114"," BAS115"," BAS116"," BAS117"," BAS118"," BAS119"," BAS120"," BAS121"," BAS122"," BAS123"," BAS124"," BAS125"," BAS126"," BAS127"," BAS128"," BAS129"," BAS130"," BAS131"," BAS132"," BAS133"," BAS134"," BAS135"," BAS136"," BAS137"," BAS138"," BAS139"," BAS140"," BAS141"," BAS142"," BAS143"," BAS144"," BAS145"," BAS146"," BAS147"," BAS148"," BAS149"," BAS150"," BAS151"," BAS152"," BAS153"," BAS154"," BAS155"," BAS156"," BAS157"," BAS158"," BAS159"," BAS160"," BAS161"," BAS162"," BAS163"," BAS164"," BAS165"," BAS166"," BAS167"," BAS168"," BAS169"," BAS170"," BAS171"," BAS172"," BAS173"," BAS174"," BAS175"," BAS176"," BAS177"," BAS178"," BAS179"," BAS180"," BAS181"," BAS182"," BAS183"," BAS184"," BAS185"," BAS186"," BAS187"," BAS188"," BAS189"," BAS190"," BAS191"," BAS192"," BAS193"," BAS194"," BAS195"," BAS196"," BAS197"," BAS198"," BAS199"," BAS200"," BAS201"," BAS202"," BAS203"," BAS204"," BAS205"," BAS206"," BAS207"," BAS208"," BAS209"," BAS210"," BAS211"," BAS212"," BAS213"," BAS214"," BAS215"," BAS216"," BAS217"," BAS218"," BAS219"," BAS220"," BAS221"," BAS222"," BAS223"," BAS224"," BAS225"," BAS226"," BAS227"," BAS228"," BAS229"," BAS230"]
[null,{"$f":"IF(B153=B136,\"SI\",\"NO\")","v":"SI"},{"$f":"IF(C153=C136,\"SI\",\"NO\")","v":"SI"},"SI","SI","SI","SI","SI","SI","SI","SI","SI","SI","SI","SI","SI","SI","SI","SI","SI","SI","SI","SI","SI","SI","SI","SI","SI","SI","SI","SI","SI","SI","SI","SI","SI","SI","SI","SI","SI","SI","SI","SI","SI","SI","SI","SI","SI","SI","SI","SI","SI","SI","SI","SI","SI","SI","SI","SI","SI","SI","SI","SI","SI","SI","SI",{"$f":"IF(BO153=BO136,\"SI\",\"NO\")","v":"SI"},"SI","SI","SI","SI","SI","SI","SI","SI","SI","SI","SI","SI","SI","SI","SI","SI","SI","SI","SI","SI","SI","SI","SI","SI","SI","SI","SI","SI","SI","SI","SI","SI","SI","SI","SI","SI","SI","SI","SI","SI","SI","SI","SI","SI","SI","SI","SI","SI","SI","SI","SI","SI","SI","SI","SI","SI","SI","SI","SI","SI","SI","SI","SI",{"$f":"IF(EA153=EA136,\"SI\",\"NO\")","v":"SI"},"SI","SI","SI","SI","SI","SI","SI","SI","SI","SI","SI","SI","SI","SI","SI","SI","SI","SI","SI","SI","SI","SI","SI","SI","SI","SI","SI","SI","SI","SI","SI","SI","SI","SI","SI","SI","SI","SI","SI","SI","SI","SI","SI","SI","SI","SI","SI","SI","SI","SI","SI","SI","SI","SI","SI","SI","SI","SI","SI","SI","SI","SI","SI",{"$f":"IF(GM153=GM136,\"SI\",\"NO\")","v":"SI"},"SI","SI","SI","SI","SI","SI","SI","SI","SI","SI","SI","SI","SI","SI","SI","SI","SI","SI","SI","SI","SI","SI","SI","SI","SI","SI","SI","SI","SI","SI","SI","SI","SI","SI","SI","SI"]
[]
[]
["AB172007"]
["anno",2024]
["cod_red","03"]
["codmic","(Todas)"]
["cod_prov","(Todas)"]
["coddist","(Todas)"]
["cod_estab","(Todas)"]
["cod_eje","(Todas)"]
[]
[null,"Valores"]
["Etiquetas de fila"," BAS001"," BAS002"," BAS003"," BAS004"," BAS005"," BAS006"," BAS007"," BAS008"," BAS009"," BAS010"," BAS011"," BAS012"," BAS013"," BAS014"," BAS015"," BAS016"," BAS017"," BAS018"," BAS019"," BAS020"," BAS021"," BAS022"," BAS023"," BAS024"," BAS025"," BAS026"," BAS027"," BAS028"," BAS029"," BAS030"," BAS031"," BAS032"," BAS033"," BAS034"," BAS035"," BAS036"," BAS037"," BAS038"," BAS039"," BAS040"," BAS041"," BAS042"," BAS043"," BAS044"," BAS045"," BAS046"," BAS047"," BAS048"," BAS049"," BAS050"," BAS051"," BAS052"," BAS053"," BAS054"," BAS055"," BAS056"," BAS057"," BAS058"," BAS059"," BAS060"," BAS061"," BAS062"," BAS063"," BAS064"," BAS065"," BAS066"," BAS067"," BAS068"," BAS069"," BAS070"," BAS071"," BAS072"," BAS073"," BAS074"," BAS075"," BAS076"," BAS077"," BAS078"," BAS079"," BAS080"," BAS081"," BAS082"," BAS083"," BAS084"," BAS085"," BAS086"," BAS087"," BAS088"," BAS089"," BAS090"," BAS091"," BAS092"," BAS093"," BAS094"," BAS095"," BAS096"," BAS097"," BAS098"," BAS099"," BAS100"," BAS101"," BAS102"," BAS103"," BAS104"," BAS105"," BAS106"," BAS107"," BAS108"," BAS109"," BAS110"," BAS111"," BAS112"," BAS113"," BAS114"," BAS115"," BAS116"," BAS117"," BAS118"," BAS119"," BAS120"," BAS121"," BAS122"," BAS123"," BAS124"," BAS125"," BAS126"," BAS127"," BAS128"," BAS129"," BAS130"," BAS131"," BAS132"," BAS133"," BAS134"," BAS135"," BAS136"," BAS137"," BAS138"," BAS139"," BAS140"," BAS141"," BAS142"," BAS143"," BAS144"," BAS145"," BAS146"," BAS147"," BAS148"," BAS149"," BAS150"," BAS151"," BAS152"," BAS153"," BAS154"," BAS155"," BAS156"," BAS157"," BAS158"," BAS159"," BAS160"," BAS161"," BAS162"," BAS163"," BAS164"," BAS165"," BAS166"," BAS167"," BAS168"," BAS169"," BAS170"," BAS171"," BAS172"," BAS173"," BAS174"," BAS175"," BAS176"," BAS177"," BAS178"," BAS179"," BAS180"," BAS181"," BAS182"," BAS183"," BAS184"," BAS185"," BAS186"," BAS187"," BAS188"," BAS189"," BAS190"," BAS191"," BAS192"," BAS193"," BAS194"," BAS195"," BAS196"," BAS197"," BAS198"," BAS199"," BAS200"," BAS201"," BAS202"," BAS203"," BAS204"," BAS205"," BAS206"," BAS207"," BAS208"," BAS209"," BAS210"," BAS211"," BAS212"," BAS213"," BAS214"," BAS215"," BAS216"," BAS217"," BAS218"," BAS219"," BAS220"," BAS221"," BAS222"," BAS223"," BAS224"," BAS225"," BAS226"," BAS227"," BAS228"," BAS229"," BAS230"]
[1,0,0,0,0,0,0,0,0,0,0,0,0,0,0,0,0,0,0,0,0,0,0,0,0,0,0,0,0,0,0,0,0,0,0,0,0,0,0,0,0,0,0,0,0,0,0,0,0,0,0,0,0,0,0,0,0,0,0,0,0,0,0,0,0,0,0,0,0,0,0,0,0,0,0,0,0,0,0,0,0,0,0,0,0,0,0,0,0,0,0,0,0,0,0,0,0,0,0,0,0,0,0,0,0,0,0,0,0,0,0,0,0,0,0,0,0,0,0,0,0,0,0,0,0,0,0,0,0,0,0,0,0,0,0,0,0,0,0,0,0,0,0,0,0,0,0,0,0,0,0,0,0,0,0,0,0,0,0,0,0,0,0,0,0,0,0,0,0,0,0,0,0,0,0,0,0,0,0,0,0,0,0,0,0,0,0,0,0,0,0,0,0,0,0,0,0,0,0,0,0,0,0,0,0,0,0,0,0,0,0,0,0,0,0,0,0,0,0,0,0,0,0,0,0,0,0,0,0,0,0]
[5,0,0,0,0,0,0,0,0,0,0,0,0,0,0,0,0,0,0,0,0,0,0,0,0,0,0,0,0,0,0,0,0,0,0,0,0,0,0,0,0,0,0,0,0,0,0,0,0,0,0,0,0,0,0,0,0,0,0,0,0,0,0,0,0,0,0,0,0,0,0,0,0,0,0,0,0,0,0,0,0,0,0,0,0,0,0,0,0,0,0,0,0,0,0,0,0,0,0,0,0,0,0,0,0,0,0,0,0,0,0,0,0,0,0,0,0,0,0,0,0,0,0,0,0,0,0,0,0,0,0,0,0,0,0,0,0,0,0,0,0,0,0,0,0,0,0,0,0,0,0,0,0,0,0,0,0,0,0,0,0,0,0,0,0,0,0,0,0,0,0,0,0,0,0,0,0,0,0,0,0,0,0,0,0,0,0,0,0,0,0,0,0,0,0,0,0,0,0,0,0,0,0,0,0,0,0,0,0,0,0,0,0,0,0,0,0,0,0,0,0,0,0,0,0,0,0,0,0,0,0]
[2,0,0,0,0,0,0,0,0,0,0,0,0,0,0,0,0,0,0,0,0,0,0,0,0,0,0,0,0,0,0,0,0,0,0,0,0,0,0,0,0,0,0,0,0,0,0,0,0,0,0,0,0,0,0,0,0,0,0,0,0,0,0,0,0,0,0,0,0,0,0,0,0,0,0,0,0,0,0,0,0,0,0,0,0,0,0,0,0,0,0,0,0,0,0,0,0,0,0,0,0,0,0,0,0,0,0,0,0,0,0,0,0,0,0,0,0,0,0,0,0,0,0,0,0,0,0,0,0,0,0,0,0,0,0,0,0,0,0,0,0,0,0,0,0,0,0,0,0,0,0,0,0,0,0,0,0,0,0,0,0,0,0,0,0,0,0,0,0,0,0,0,0,0,0,0,0,0,0,0,0,0,0,0,0,0,0,0,0,0,0,0,0,0,0,0,0,0,0,0,0,0,0,0,0,0,0,0,0,0,0,0,0,0,0,0,0,0,0,0,0,0,0,0,0,0,0,0,0,0,0]
[3,0,0,0,0,0,0,0,0,0,0,0,0,0,0,0,0,0,0,0,0,0,0,0,0,0,0,0,0,0,0,0,0,0,0,0,0,0,0,0,0,0,0,0,0,0,0,0,0,0,0,0,0,0,0,0,0,0,0,0,0,0,0,0,0,0,0,0,0,0,0,0,0,0,0,0,0,0,0,0,0,0,0,0,0,0,0,0,0,0,0,0,0,0,0,0,0,0,0,0,0,0,0,0,0,0,0,0,0,0,0,0,0,0,0,0,0,0,0,0,0,0,0,0,0,0,0,0,0,0,0,0,0,0,0,0,0,0,0,0,0,0,0,0,0,0,0,0,0,0,0,0,0,0,0,0,0,0,0,0,0,0,0,0,0,0,0,0,0,0,0,0,0,0,0,0,0,0,0,0,0,0,0,0,0,0,0,0,0,0,0,0,0,0,0,0,0,0,0,0,0,0,0,0,0,0,0,0,0,0,0,0,0,0,0,0,0,0,0,0,0,0,0,0,0,0,0,0,0,0,0]
[4,0,0,0,0,0,0,0,0,0,0,0,0,0,0,0,0,0,0,0,0,0,0,0,0,0,0,0,0,0,0,0,0,0,0,0,0,0,0,0,0,0,0,0,0,0,0,0,0,0,0,0,0,0,0,0,0,0,0,0,0,0,0,0,0,0,0,0,0,0,0,0,0,0,0,0,0,0,0,0,0,0,0,0,0,0,0,0,0,0,0,0,0,0,0,0,0,0,0,0,0,0,0,0,0,0,0,0,0,0,0,0,0,0,0,0,0,0,0,0,0,0,0,0,0,0,0,0,0,0,0,0,0,0,0,0,0,0,0,0,0,0,0,0,0,0,0,0,0,0,0,0,0,0,0,0,0,0,0,0,0,0,0,0,0,0,0,0,0,0,0,0,0,0,0,0,0,0,0,0,0,0,0,0,0,0,0,0,0,0,0,0,0,0,0,0,0,0,0,0,0,0,0,0,0,0,0,0,0,0,0,0,0,0,0,0,0,0,0,0,0,0,0,0,0,0,0,0,0,0,0]
[6,0,0,0,0,0,0,0,0,0,0,0,0,0,0,0,0,0,0,0,0,0,0,0,0,0,0,0,0,0,0,0,0,0,0,0,0,0,0,0,0,0,0,0,0,0,0,0,0,0,0,0,0,0,0,0,0,0,0,0,0,0,0,0,0,0,0,0,0,0,0,0,0,0,0,0,0,0,0,0,0,0,0,0,0,0,0,0,0,0,0,0,0,0,0,0,0,0,0,0,0,0,0,0,0,0,0,0,0,0,0,0,0,0,0,0,0,0,0,0,0,0,0,0,0,0,0,0,0,0,0,0,0,0,0,0,0,0,0,0,0,0,0,0,0,0,0,0,0,0,0,0,0,0,0,0,0,0,0,0,0,0,0,0,0,0,0,0,0,0,0,0,0,0,0,0,0,0,0,0,0,0,0,0,0,0,0,0,0,0,0,0,0,0,0,0,0,0,0,0,0,0,0,0,0,0,0,0,0,0,0,0,0,0,0,0,0,0,0,0,0,0,0,0,0,0,0,0,0,0,0]
[11,0,0,0,0,0,0,0,0,0,0,0,0,0,0,0,0,0,0,0,0,0,0,0,0,0,0,0,0,0,0,0,0,0,0,0,0,0,0,0,0,0,0,0,0,0,0,0,0,0,0,0,0,0,0,0,0,0,0,0,0,0,0,0,0,0,0,0,0,0,0,0,0,0,0,0,0,0,0,0,0,0,0,0,0,0,0,0,0,0,0,0,0,0,0,0,0,0,0,0,0,0,0,0,0,0,0,0,0,0,0,0,0,0,0,0,0,0,0,0,0,0,0,0,0,0,0,0,0,0,0,0,0,0,0,0,0,0,0,0,0,0,0,0,0,0,0,0,0,0,0,0,0,0,0,0,0,0,0,0,0,0,0,0,0,0,0,0,0,0,0,0,0,0,0,0,0,0,0,0,0,0,0,0,0,0,0,0,0,0,0,0,0,0,0,0,0,0,0,0,0,0,0,0,0,0,0,0,0,0,0,0,0,0,0,0,0,0,0,0,0,0,0,0,0,0,0,0,0,0,0]
[10,0,0,0,0,0,0,0,0,0,0,0,0,0,0,0,0,0,0,0,0,0,0,0,0,0,0,0,0,0,0,0,0,0,0,0,0,0,0,0,0,0,0,0,0,0,0,0,0,0,0,0,0,0,0,0,0,0,0,0,0,0,0,0,0,0,0,0,0,0,0,0,0,0,0,0,0,0,0,0,0,0,0,0,0,0,0,0,0,0,0,0,0,0,0,0,0,0,0,0,0,0,0,0,0,0,0,0,0,0,0,0,0,0,0,0,0,0,0,0,0,0,0,0,0,0,0,0,0,0,0,0,0,0,0,0,0,0,0,0,0,0,0,0,0,0,0,0,0,0,0,0,0,0,0,0,0,0,0,0,0,0,0,0,0,0,0,0,0,0,0,0,0,0,0,0,0,0,0,0,0,0,0,0,0,0,0,0,0,0,0,0,0,0,0,0,0,0,0,0,0,0,0,0,0,0,0,0,0,0,0,0,0,0,0,0,0,0,0,0,0,0,0,0,0,0,0,0,0,0,0]
[9,0,0,0,0,0,0,0,0,0,0,0,0,0,0,0,0,0,0,0,0,0,0,0,0,0,0,0,0,0,0,0,0,0,0,0,0,0,0,0,0,0,0,0,0,0,0,0,0,0,0,0,0,0,0,0,0,0,0,0,0,0,0,0,0,0,0,0,0,0,0,0,0,0,0,0,0,0,0,0,0,0,0,0,0,0,0,0,0,0,0,0,0,0,0,0,0,0,0,0,0,0,0,0,0,0,0,0,0,0,0,0,0,0,0,0,0,0,0,0,0,0,0,0,0,0,0,0,0,0,0,0,0,0,0,0,0,0,0,0,0,0,0,0,0,0,0,0,0,0,0,0,0,0,0,0,0,0,0,0,0,0,0,0,0,0,0,0,0,0,0,0,0,0,0,0,0,0,0,0,0,0,0,0,0,0,0,0,0,0,0,0,0,0,0,0,0,0,0,0,0,0,0,0,0,0,0,0,0,0,0,0,0,0,0,0,0,0,0,0,0,0,0,0,0,0,0,0,0,0,0]
[8,0,0,0,0,0,0,0,0,0,0,0,0,0,0,0,0,0,0,0,0,0,0,0,0,0,0,0,0,0,0,0,0,0,0,0,0,0,0,0,0,0,0,0,0,0,0,0,0,0,0,0,0,0,0,0,0,0,0,0,0,0,0,0,0,0,0,0,0,0,0,0,0,0,0,0,0,0,0,0,0,0,0,0,0,0,0,0,0,0,0,0,0,0,0,0,0,0,0,0,0,0,0,0,0,0,0,0,0,0,0,0,0,0,0,0,0,0,0,0,0,0,0,0,0,0,0,0,0,0,0,0,0,0,0,0,0,0,0,0,0,0,0,0,0,0,0,0,0,0,0,0,0,0,0,0,0,0,0,0,0,0,0,0,0,0,0,0,0,0,0,0,0,0,0,0,0,0,0,0,0,0,0,0,0,0,0,0,0,0,0,0,0,0,0,0,0,0,0,0,0,0,0,0,0,0,0,0,0,0,0,0,0,0,0,0,0,0,0,0,0,0,0,0,0,0,0,0,0,0,0]
[7,0,0,0,0,0,0,0,0,0,0,0,0,0,0,0,0,0,0,0,0,0,0,0,0,0,0,0,0,0,0,0,0,0,0,0,0,0,0,0,0,0,0,0,0,0,0,0,0,0,0,0,0,0,0,0,0,0,0,0,0,0,0,0,0,0,0,0,0,0,0,0,0,0,0,0,0,0,0,0,0,0,0,0,0,0,0,0,0,0,0,0,0,0,0,0,0,0,0,0,0,0,0,0,0,0,0,0,0,0,0,0,0,0,0,0,0,0,0,0,0,0,0,0,0,0,0,0,0,0,0,0,0,0,0,0,0,0,0,0,0,0,0,0,0,0,0,0,0,0,0,0,0,0,0,0,0,0,0,0,0,0,0,0,0,0,0,0,0,0,0,0,0,0,0,0,0,0,0,0,0,0,0,0,0,0,0,0,0,0,0,0,0,0,0,0,0,0,0,0,0,0,0,0,0,0,0,0,0,0,0,0,0,0,0,0,0,0,0,0,0,0,0,0,0,0,0,0,0,0,0]
["Total general",0,0,0,0,0,0,0,0,0,0,0,0,0,0,0,0,0,0,0,0,0,0,0,0,0,0,0,0,0,0,0,0,0,0,0,0,0,0,0,0,0,0,0,0,0,0,0,0,0,0,0,0,0,0,0,0,0,0,0,0,0,0,0,0,0,0,0,0,0,0,0,0,0,0,0,0,0,0,0,0,0,0,0,0,0,0,0,0,0,0,0,0,0,0,0,0,0,0,0,0,0,0,0,0,0,0,0,0,0,0,0,0,0,0,0,0,0,0,0,0,0,0,0,0,0,0,0,0,0,0,0,0,0,0,0,0,0,0,0,0,0,0,0,0,0,0,0,0,0,0,0,0,0,0,0,0,0,0,0,0,0,0,0,0,0,0,0,0,0,0,0,0,0,0,0,0,0,0,0,0,0,0,0,0,0,0,0,0,0,0,0,0,0,0,0,0,0,0,0,0,0,0,0,0,0,0,0,0,0,0,0,0,0,0,0,0,0,0,0,0,0,0,0,0,0,0,0,0,0,0]
[]
["TOTAL"]
[{"$f":"COUNT(A168:A179)","v":11},{"$f":"SUM(B168:B179)","v":0},{"$f":"SUM(C168:C179)","v":0},0,0,0,0,0,0,0,0,0,0,0,0,0,0,0,0,0,0,0,0,0,0,0,0,0,0,0,0,0,0,0,0,0,0,0,0,0,0,0,0,0,0,0,0,0,0,0,0,0,0,0,0,0,0,0,0,0,0,0,0,0,0,0,{"$f":"SUM(BO168:BO179)","v":0},0,0,0,0,0,0,0,0,0,0,0,0,0,0,0,0,0,0,0,0,0,0,0,0,0,0,0,0,0,0,0,0,0,0,0,0,0,0,0,0,0,0,0,0,0,0,0,0,0,0,0,0,0,0,0,0,0,0,0,0,0,0,0,{"$f":"SUM(EA168:EA179)","v":0},0,0,0,0,0,0,0,0,0,0,0,0,0,0,0,0,0,0,0,0,0,0,0,0,0,0,0,0,0,0,0,0,0,0,0,0,0,0,0,0,0,0,0,0,0,0,0,0,0,0,0,0,0,0,0,0,0,0,0,0,0,0,0,{"$f":"SUM(GM168:GM179)","v":0},0,0,0,0,0,0,0,0,0,0,0,0,0,0,0,0,0,0,0,0,0,0,0,0,0,0,0,0,0,0,0,0,0,0,0,0]
[{"$f":"CONCATENATE(A168,\"-\",A169,\"-\",A170,\"-\",A171,\"-\",A172,\"-\",A173,\"-\",A174,\"-\",A175,\"-\",A176,\"-\",A177,\"-\",A178,\"-\",A179)","v":"1-5-2-3-4-6-11-10-9-8-7-Total general"}]
[null," BAS001"," BAS002"," BAS003"," BAS004"," BAS005"," BAS006"," BAS007"," BAS008"," BAS009"," BAS010"," BAS011"," BAS012"," BAS013"," BAS014"," BAS015"," BAS016"," BAS017"," BAS018"," BAS019"," BAS020"," BAS021"," BAS022"," BAS023"," BAS024"," BAS025"," BAS026"," BAS027"," BAS028"," BAS029"," BAS030"," BAS031"," BAS032"," BAS033"," BAS034"," BAS035"," BAS036"," BAS037"," BAS038"," BAS039"," BAS040"," BAS041"," BAS042"," BAS043"," BAS044"," BAS045"," BAS046"," BAS047"," BAS048"," BAS049"," BAS050"," BAS051"," BAS052"," BAS053"," BAS054"," BAS055"," BAS056"," BAS057"," BAS058"," BAS059"," BAS060"," BAS061"," BAS062"," BAS063"," BAS064"," BAS065"," BAS066"," BAS067"," BAS068"," BAS069"," BAS070"," BAS071"," BAS072"," BAS073"," BAS074"," BAS075"," BAS076"," BAS077"," BAS078"," BAS079"," BAS080"," BAS081"," BAS082"," BAS083"," BAS084"," BAS085"," BAS086"," BAS087"," BAS088"," BAS089"," BAS090"," BAS091"," BAS092"," BAS093"," BAS094"," BAS095"," BAS096"," BAS097"," BAS098"," BAS099"," BAS100"," BAS101"," BAS102"," BAS103"," BAS104"," BAS105"," BAS106"," BAS107"," BAS108"," BAS109"," BAS110"," BAS111"," BAS112"," BAS113"," BAS114"," BAS115"," BAS116"," BAS117"," BAS118"," BAS119"," BAS120"," BAS121"," BAS122"," BAS123"," BAS124"," BAS125"," BAS126"," BAS127"," BAS128"," BAS129"," BAS130"," BAS131"," BAS132"," BAS133"," BAS134"," BAS135"," BAS136"," BAS137"," BAS138"," BAS139"," BAS140"," BAS141"," BAS142"," BAS143"," BAS144"," BAS145"," BAS146"," BAS147"," BAS148"," BAS149"," BAS150"," BAS151"," BAS152"," BAS153"," BAS154"," BAS155"," BAS156"," BAS157"," BAS158"," BAS159"," BAS160"," BAS161"," BAS162"," BAS163"," BAS164"," BAS165"," BAS166"," BAS167"," BAS168"," BAS169"," BAS170"," BAS171"," BAS172"," BAS173"," BAS174"," BAS175"," BAS176"," BAS177"," BAS178"," BAS179"," BAS180"," BAS181"," BAS182"," BAS183"," BAS184"," BAS185"," BAS186"," BAS187"," BAS188"," BAS189"," BAS190"," BAS191"," BAS192"," BAS193"," BAS194"," BAS195"," BAS196"," BAS197"," BAS198"," BAS199"," BAS200"," BAS201"," BAS202"," BAS203"," BAS204"," BAS205"," BAS206"," BAS207"," BAS208"," BAS209"," BAS210"," BAS211"," BAS212"," BAS213"," BAS214"," BAS215"," BAS216"," BAS217"," BAS218"," BAS219"," BAS220"," BAS221"," BAS222"," BAS223"," BAS224"," BAS225"," BAS226"," BAS227"," BAS228"," BAS229"," BAS230"]
[null,{"$f":"IF(B184=B167,\"SI\",\"NO\")","v":"SI"},{"$f":"IF(C184=C167,\"SI\",\"NO\")","v":"SI"},"SI","SI","SI","SI","SI","SI","SI","SI","SI","SI","SI","SI","SI","SI","SI","SI","SI","SI","SI","SI","SI","SI","SI","SI","SI","SI","SI","SI","SI","SI","SI","SI","SI","SI","SI","SI","SI","SI","SI","SI","SI","SI","SI","SI","SI","SI","SI","SI","SI","SI","SI","SI","SI","SI","SI","SI","SI","SI","SI","SI","SI","SI","SI",{"$f":"IF(BO184=BO167,\"SI\",\"NO\")","v":"SI"},"SI","SI","SI","SI","SI","SI","SI","SI","SI","SI","SI","SI","SI","SI","SI","SI","SI","SI","SI","SI","SI","SI","SI","SI","SI","SI","SI","SI","SI","SI","SI","SI","SI","SI","SI","SI","SI","SI","SI","SI","SI","SI","SI","SI","SI","SI","SI","SI","SI","SI","SI","SI","SI","SI","SI","SI","SI","SI","SI","SI","SI","SI","SI",{"$f":"IF(EA184=EA167,\"SI\",\"NO\")","v":"SI"},"SI","SI","SI","SI","SI","SI","SI","SI","SI","SI","SI","SI","SI","SI","SI","SI","SI","SI","SI","SI","SI","SI","SI","SI","SI","SI","SI","SI","SI","SI","SI","SI","SI","SI","SI","SI","SI","SI","SI","SI","SI","SI","SI","SI","SI","SI","SI","SI","SI","SI","SI","SI","SI","SI","SI","SI","SI","SI","SI","SI","SI","SI","SI",{"$f":"IF(GM184=GM167,\"SI\",\"NO\")","v":"SI"},"SI","SI","SI","SI","SI","SI","SI","SI","SI","SI","SI","SI","SI","SI","SI","SI","SI","SI","SI","SI","SI","SI","SI","SI","SI","SI","SI","SI","SI","SI","SI","SI","SI","SI","SI","SI"]
[]
[]
[]
[]
["AB202007"]
["anno",2024]
["cod_red","03"]
["codmic","(Todas)"]
["cod_prov","(Todas)"]
["coddist","(Todas)"]
["cod_estab","(Todas)"]
["cod_eje","(Todas)"]
[]
[null,"Valores"]
["Etiquetas de fila"," BAS001"," BAS002"," BAS003"," BAS004"," BAS005"," BAS006"," BAS007"," BAS008"," BAS009"," BAS010"," BAS011"," BAS012"," BAS013"," BAS014"," BAS015"," BAS016"," BAS017"," BAS018"," BAS019"," BAS020"," BAS021"," BAS022"," BAS023"," BAS024"," BAS025"," BAS026"," BAS027"," BAS028"," BAS029"," BAS030"," BAS031"," BAS032"," BAS033"," BAS034"," BAS035"," BAS036"," BAS037"," BAS038"," BAS039"," BAS040"," BAS041"," BAS042"," BAS043"," BAS044"," BAS045"," BAS046"," BAS047"," BAS048"," BAS049"," BAS050"," BAS051"," BAS052"," BAS053"," BAS054"," BAS055"," BAS056"," BAS057"," BAS058"," BAS059"," BAS060"," BAS061"," BAS062"," BAS063"," BAS064"," BAS065"," BAS066"," BAS067"," BAS068"," BAS069"," BAS070"," BAS071"," BAS072"," BAS073"," BAS074"," BAS075"," BAS076"," BAS077"," BAS078"," BAS079"," BAS080"," BAS081"," BAS082"," BAS083"," BAS084"," BAS085"," BAS086"," BAS087"," BAS088"," BAS089"," BAS090"," BAS091"," BAS092"," BAS093"," BAS094"," BAS095"," BAS096"," BAS097"," BAS098"," BAS099"," BAS100"," BAS101"," BAS102"," BAS103"," BAS104"," BAS105"," BAS106"," BAS107"," BAS108"," BAS109"," BAS110"," BAS111"," BAS112"," BAS113"," BAS114"," BAS115"," BAS116"," BAS117"," BAS118"," BAS119"," BAS120"," BAS121"," BAS122"," BAS123"," BAS124"," BAS125"," BAS126"," BAS127"," BAS128"," BAS129"," BAS130"," BAS131"," BAS132"," BAS133"," BAS134"," BAS135"," BAS136"," BAS137"," BAS138"," BAS139"," BAS140"," BAS141"," BAS142"," BAS143"," BAS144"," BAS145"," BAS146"," BAS147"," BAS148"," BAS149"," BAS150"," BAS151"," BAS152"," BAS153"," BAS154"," BAS155"," BAS156"," BAS157"," BAS158"," BAS159"," BAS160"," BAS161"," BAS162"," BAS163"," BAS164"," BAS165"," BAS166"," BAS167"," BAS168"," BAS169"," BAS170"," BAS171"," BAS172"," BAS173"," BAS174"," BAS175"," BAS176"," BAS177"," BAS178"," BAS179"," BAS180"," BAS181"," BAS182"," BAS183"," BAS184"," BAS185"," BAS186"," BAS187"," BAS188"," BAS189"," BAS190"," BAS191"," BAS192"," BAS193"," BAS194"," BAS195"," BAS196"," BAS197"," BAS198"," BAS199"," BAS200"," BAS201"," BAS202"," BAS203"," BAS204"," BAS205"," BAS206"," BAS207"," BAS208"," BAS209"," BAS210"," BAS211"," BAS212"," BAS213"," BAS214"," BAS215"," BAS216"," BAS217"," BAS218"," BAS219"," BAS220"," BAS221"," BAS222"," BAS223"," BAS224"," BAS225"," BAS226"," BAS227"," BAS228"," BAS229"," BAS230"," BAS231"," BAS232"," BAS233"," BAS234"," BAS235"]
[1,0,0,0,0,0,0,0,0,0,0,0,0,0,0,0,0,0,0,0,0,0,0,0,0,0,0,0,0,0,0,0,0,0,0,0,0,0,0,0,0,0,0,0,0,0,0,0,0,0,0,0,0,0,0,0,0,0,0,0,0,0,0,0,0,0,0,0,0,0,0,0,0,0,0,0,0,0,0,0,0,0,0,0,0,0,0,0,0,0,0,0,0,0,0,0,0,0,0,0,0,0,0,0,0,0,0,0,0,0,0,0,0,0,0,0,0,0,0,0,0,0,0,0,0,0,0,0,0,0,0,0,0,0,0,0,0,0,0,0,0,0,0,0,0,0,0,0,0,0,0,0,0,0,0,0,0,0,0,0,0,0,0,0,0,0,0,0,0,0,0,0,0,0,0,0,0,0,0,0,0,0,0,0,0,0,0,0,0,0,0,0,0,0,0,0,0,0,0,0,0,0,0,0,0,0,0,0,0,0,0,0,0,0,0,0,0,0,0,0,0,0,0,0,0,0,0,0,0,0,0,0,0,0,0,0]
[5,0,0,0,0,0,0,0,0,0,0,0,0,0,0,0,0,0,0,0,0,0,0,0,0,0,0,0,0,0,0,0,0,0,0,0,0,0,0,0,0,0,0,0,0,0,0,0,0,0,0,0,0,0,0,0,0,0,0,0,0,0,0,0,0,0,0,0,0,0,0,0,0,0,0,0,0,0,0,0,0,0,0,0,0,0,0,0,0,0,0,0,0,0,0,0,0,0,0,0,0,0,0,0,0,0,0,0,0,0,0,0,0,0,0,0,0,0,0,0,0,0,0,0,0,0,0,0,0,0,0,0,0,0,0,0,0,0,0,0,0,0,0,0,0,0,0,0,0,0,0,0,0,0,0,0,0,0,0,0,0,0,0,0,0,0,0,0,0,0,0,0,0,0,0,0,0,0,0,0,0,0,0,0,0,0,0,0,0,0,0,0,0,0,0,0,0,0,0,0,0,0,0,0,0,0,0,0,0,0,0,0,0,0,0,0,0,0,0,0,0,0,0,0,0,0,0,0,0,0,0,0,0,0,0,0]
[2,0,0,0,0,0,0,0,0,0,0,0,0,0,0,0,0,0,0,0,0,0,0,0,0,0,0,0,0,0,0,0,0,0,0,0,0,0,0,0,0,0,0,0,0,0,0,0,0,0,0,0,0,0,0,0,0,0,0,0,0,0,0,0,0,0,0,0,0,0,0,0,0,0,0,0,0,0,0,0,0,0,0,0,0,0,0,0,0,0,0,0,0,0,0,0,0,0,0,0,0,0,0,0,0,0,0,0,0,0,0,0,0,0,0,0,0,0,0,0,0,0,0,0,0,0,0,0,0,0,0,0,0,0,0,0,0,0,0,0,0,0,0,0,0,0,0,0,0,0,0,0,0,0,0,0,0,0,0,0,0,0,0,0,0,0,0,0,0,0,0,0,0,0,0,0,0,0,0,0,0,0,0,0,0,0,0,0,0,0,0,0,0,0,0,0,0,0,0,0,0,0,0,0,0,0,0,0,0,0,0,0,0,0,0,0,0,0,0,0,0,0,0,0,0,0,0,0,0,0,0,0,0,0,0,0]
[3,0,0,0,0,0,0,0,0,0,0,0,0,0,0,0,0,0,0,0,0,0,0,0,0,0,0,0,0,0,0,0,0,0,0,0,0,0,0,0,0,0,0,0,0,0,0,0,0,0,0,0,0,0,0,0,0,0,0,0,0,0,0,0,0,0,0,0,0,0,0,0,0,0,0,0,0,0,0,0,0,0,0,0,0,0,0,0,0,0,0,0,0,0,0,0,0,0,0,0,0,0,0,0,0,0,0,0,0,0,0,0,0,0,0,0,0,0,0,0,0,0,0,0,0,0,0,0,0,0,0,0,0,0,0,0,0,0,0,0,0,0,0,0,0,0,0,0,0,0,0,0,0,0,0,0,0,0,0,0,0,0,0,0,0,0,0,0,0,0,0,0,0,0,0,0,0,0,0,0,0,0,0,0,0,0,0,0,0,0,0,0,0,0,0,0,0,0,0,0,0,0,0,0,0,0,0,0,0,0,0,0,0,0,0,0,0,0,0,0,0,0,0,0,0,0,0,0,0,0,0,0,0,0,0,0]
[4,0,0,0,0,0,0,0,0,0,0,0,0,0,0,0,0,0,0,0,0,0,0,0,0,0,0,0,0,0,0,0,0,0,0,0,0,0,0,0,0,0,0,0,0,0,0,0,0,0,0,0,0,0,0,0,0,0,0,0,0,0,0,0,0,0,0,0,0,0,0,0,0,0,0,0,0,0,0,0,0,0,0,0,0,0,0,0,0,0,0,0,0,0,0,0,0,0,0,0,0,0,0,0,0,0,0,0,0,0,0,0,0,0,0,0,0,0,0,0,0,0,0,0,0,0,0,0,0,0,0,0,0,0,0,0,0,0,0,0,0,0,0,0,0,0,0,0,0,0,0,0,0,0,0,0,0,0,0,0,0,0,0,0,0,0,0,0,0,0,0,0,0,0,0,0,0,0,0,0,0,0,0,0,0,0,0,0,0,0,0,0,0,0,0,0,0,0,0,0,0,0,0,0,0,0,0,0,0,0,0,0,0,0,0,0,0,0,0,0,0,0,0,0,0,0,0,0,0,0,0,0,0,0,0,0]
[6,0,0,0,0,0,0,0,0,0,0,0,0,0,0,0,0,0,0,0,0,0,0,0,0,0,0,0,0,0,0,0,0,0,0,0,0,0,0,0,0,0,0,0,0,0,0,0,0,0,0,0,0,0,0,0,0,0,0,0,0,0,0,0,0,0,0,0,0,0,0,0,0,0,0,0,0,0,0,0,0,0,0,0,0,0,0,0,0,0,0,0,0,0,0,0,0,0,0,0,0,0,0,0,0,0,0,0,0,0,0,0,0,0,0,0,0,0,0,0,0,0,0,0,0,0,0,0,0,0,0,0,0,0,0,0,0,0,0,0,0,0,0,0,0,0,0,0,0,0,0,0,0,0,0,0,0,0,0,0,0,0,0,0,0,0,0,0,0,0,0,0,0,0,0,0,0,0,0,0,0,0,0,0,0,0,0,0,0,0,0,0,0,0,0,0,0,0,0,0,0,0,0,0,0,0,0,0,0,0,0,0,0,0,0,0,0,0,0,0,0,0,0,0,0,0,0,0,0,0,0,0,0,0,0,0]
[11,0,0,0,0,0,0,0,0,0,0,0,0,0,0,0,0,0,0,0,0,0,0,0,0,0,0,0,0,0,0,0,0,0,0,0,0,0,0,0,0,0,0,0,0,0,0,0,0,0,0,0,0,0,0,0,0,0,0,0,0,0,0,0,0,0,0,0,0,0,0,0,0,0,0,0,0,0,0,0,0,0,0,0,0,0,0,0,0,0,0,0,0,0,0,0,0,0,0,0,0,0,0,0,0,0,0,0,0,0,0,0,0,0,0,0,0,0,0,0,0,0,0,0,0,0,0,0,0,0,0,0,0,0,0,0,0,0,0,0,0,0,0,0,0,0,0,0,0,0,0,0,0,0,0,0,0,0,0,0,0,0,0,0,0,0,0,0,0,0,0,0,0,0,0,0,0,0,0,0,0,0,0,0,0,0,0,0,0,0,0,0,0,0,0,0,0,0,0,0,0,0,0,0,0,0,0,0,0,0,0,0,0,0,0,0,0,0,0,0,0,0,0,0,0,0,0,0,0,0,0,0,0,0,0,0]
[10,0,0,0,0,0,0,0,0,0,0,0,0,0,0,0,0,0,0,0,0,0,0,0,0,0,0,0,0,0,0,0,0,0,0,0,0,0,0,0,0,0,0,0,0,0,0,0,0,0,0,0,0,0,0,0,0,0,0,0,0,0,0,0,0,0,0,0,0,0,0,0,0,0,0,0,0,0,0,0,0,0,0,0,0,0,0,0,0,0,0,0,0,0,0,0,0,0,0,0,0,0,0,0,0,0,0,0,0,0,0,0,0,0,0,0,0,0,0,0,0,0,0,0,0,0,0,0,0,0,0,0,0,0,0,0,0,0,0,0,0,0,0,0,0,0,0,0,0,0,0,0,0,0,0,0,0,0,0,0,0,0,0,0,0,0,0,0,0,0,0,0,0,0,0,0,0,0,0,0,0,0,0,0,0,0,0,0,0,0,0,0,0,0,0,0,0,0,0,0,0,0,0,0,0,0,0,0,0,0,0,0,0,0,0,0,0,0,0,0,0,0,0,0,0,0,0,0,0,0,0,0,0,0,0,0]
[9,0,0,0,0,0,0,0,0,0,0,0,0,0,0,0,0,0,0,0,0,0,0,0,0,0,0,0,0,0,0,0,0,0,0,0,0,0,0,0,0,0,0,0,0,0,0,0,0,0,0,0,0,0,0,0,0,0,0,0,0,0,0,0,0,0,0,0,0,0,0,0,0,0,0,0,0,0,0,0,0,0,0,0,0,0,0,0,0,0,0,0,0,0,0,0,0,0,0,0,0,0,0,0,0,0,0,0,0,0,0,0,0,0,0,0,0,0,0,0,0,0,0,0,0,0,0,0,0,0,0,0,0,0,0,0,0,0,0,0,0,0,0,0,0,0,0,0,0,0,0,0,0,0,0,0,0,0,0,0,0,0,0,0,0,0,0,0,0,0,0,0,0,0,0,0,0,0,0,0,0,0,0,0,0,0,0,0,0,0,0,0,0,0,0,0,0,0,0,0,0,0,0,0,0,0,0,0,0,0,0,0,0,0,0,0,0,0,0,0,0,0,0,0,0,0,0,0,0,0,0,0,0,0,0,0]
[8,0,0,0,0,0,0,0,0,0,0,0,0,0,0,0,0,0,0,0,0,0,0,0,0,0,0,0,0,0,0,0,0,0,0,0,0,0,0,0,0,0,0,0,0,0,0,0,0,0,0,0,0,0,0,0,0,0,0,0,0,0,0,0,0,0,0,0,0,0,0,0,0,0,0,0,0,0,0,0,0,0,0,0,0,0,0,0,0,0,0,0,0,0,0,0,0,0,0,0,0,0,0,0,0,0,0,0,0,0,0,0,0,0,0,0,0,0,0,0,0,0,0,0,0,0,0,0,0,0,0,0,0,0,0,0,0,0,0,0,0,0,0,0,0,0,0,0,0,0,0,0,0,0,0,0,0,0,0,0,0,0,0,0,0,0,0,0,0,0,0,0,0,0,0,0,0,0,0,0,0,0,0,0,0,0,0,0,0,0,0,0,0,0,0,0,0,0,0,0,0,0,0,0,0,0,0,0,0,0,0,0,0,0,0,0,0,0,0,0,0,0,0,0,0,0,0,0,0,0,0,0,0,0,0,0]
[7,0,0,0,0,0,0,0,0,0,0,0,0,0,0,0,0,0,0,0,0,0,0,0,0,0,0,0,0,0,0,0,0,0,0,0,0,0,0,0,0,0,0,0,0,0,0,0,0,0,0,0,0,0,0,0,0,0,0,0,0,0,0,0,0,0,0,0,0,0,0,0,0,0,0,0,0,0,0,0,0,0,0,0,0,0,0,0,0,0,0,0,0,0,0,0,0,0,0,0,0,0,0,0,0,0,0,0,0,0,0,0,0,0,0,0,0,0,0,0,0,0,0,0,0,0,0,0,0,0,0,0,0,0,0,0,0,0,0,0,0,0,0,0,0,0,0,0,0,0,0,0,0,0,0,0,0,0,0,0,0,0,0,0,0,0,0,0,0,0,0,0,0,0,0,0,0,0,0,0,0,0,0,0,0,0,0,0,0,0,0,0,0,0,0,0,0,0,0,0,0,0,0,0,0,0,0,0,0,0,0,0,0,0,0,0,0,0,0,0,0,0,0,0,0,0,0,0,0,0,0,0,0,0,0,0]
["Total general",0,0,0,0,0,0,0,0,0,0,0,0,0,0,0,0,0,0,0,0,0,0,0,0,0,0,0,0,0,0,0,0,0,0,0,0,0,0,0,0,0,0,0,0,0,0,0,0,0,0,0,0,0,0,0,0,0,0,0,0,0,0,0,0,0,0,0,0,0,0,0,0,0,0,0,0,0,0,0,0,0,0,0,0,0,0,0,0,0,0,0,0,0,0,0,0,0,0,0,0,0,0,0,0,0,0,0,0,0,0,0,0,0,0,0,0,0,0,0,0,0,0,0,0,0,0,0,0,0,0,0,0,0,0,0,0,0,0,0,0,0,0,0,0,0,0,0,0,0,0,0,0,0,0,0,0,0,0,0,0,0,0,0,0,0,0,0,0,0,0,0,0,0,0,0,0,0,0,0,0,0,0,0,0,0,0,0,0,0,0,0,0,0,0,0,0,0,0,0,0,0,0,0,0,0,0,0,0,0,0,0,0,0,0,0,0,0,0,0,0,0,0,0,0,0,0,0,0,0,0,0,0,0,0,0]
[]
["TOTAL"]
[{"$f":"COUNT(A201:A212)","v":11},{"$f":"SUM(B201:B212)","v":0},{"$f":"SUM(C201:C212)","v":0},0,0,0,0,0,0,0,0,0,0,0,0,0,0,0,0,0,0,0,0,0,0,0,0,0,0,0,0,0,0,0,0,0,0,0,0,0,0,0,0,0,0,0,0,0,0,0,0,0,0,0,0,0,0,0,0,0,0,0,0,0,0,0,{"$f":"SUM(BO201:BO212)","v":0},0,0,0,0,0,0,0,0,0,0,0,0,0,0,0,0,0,0,0,0,0,0,0,0,0,0,0,0,0,0,0,0,0,0,0,0,0,0,0,0,0,0,0,0,0,0,0,0,0,0,0,0,0,0,0,0,0,0,0,0,0,0,0,{"$f":"SUM(EA201:EA212)","v":0},0,0,0,0,0,0,0,0,0,0,0,0,0,0,0,0,0,0,0,0,0,0,0,0,0,0,0,0,0,0,0,0,0,0,0,0,0,0,0,0,0,0,0,0,0,0,0,0,0,0,0,0,0,0,0,0,0,0,0,0,0,0,0,{"$f":"SUM(GM201:GM212)","v":0},0,0,0,0,0,0,0,0,0,0,0,0,0,0,0,0,0,0,0,0,0,0,0,0,0,0,0,0,0,0,0,0,0,0,0,0,{"$f":"SUM(HX201:HX212)","v":0},0,0,0,0]
[{"$f":"CONCATENATE(A201,\"-\",A202,\"-\",A203,\"-\",A204,\"-\",A205,\"-\",A206,\"-\",A207,\"-\",A208,\"-\",A209,\"-\",A210,\"-\",A211,\"-\",A212)","v":"1-5-2-3-4-6-11-10-9-8-7-Total general"}]
[null," BAS001"," BAS002"," BAS003"," BAS004"," BAS005"," BAS006"," BAS007"," BAS008"," BAS009"," BAS010"," BAS011"," BAS012"," BAS013"," BAS014"," BAS015"," BAS016"," BAS017"," BAS018"," BAS019"," BAS020"," BAS021"," BAS022"," BAS023"," BAS024"," BAS025"," BAS026"," BAS027"," BAS028"," BAS029"," BAS030"," BAS031"," BAS032"," BAS033"," BAS034"," BAS035"," BAS036"," BAS037"," BAS038"," BAS039"," BAS040"," BAS041"," BAS042"," BAS043"," BAS044"," BAS045"," BAS046"," BAS047"," BAS048"," BAS049"," BAS050"," BAS051"," BAS052"," BAS053"," BAS054"," BAS055"," BAS056"," BAS057"," BAS058"," BAS059"," BAS060"," BAS061"," BAS062"," BAS063"," BAS064"," BAS065"," BAS066"," BAS067"," BAS068"," BAS069"," BAS070"," BAS071"," BAS072"," BAS073"," BAS074"," BAS075"," BAS076"," BAS077"," BAS078"," BAS079"," BAS080"," BAS081"," BAS082"," BAS083"," BAS084"," BAS085"," BAS086"," BAS087"," BAS088"," BAS089"," BAS090"," BAS091"," BAS092"," BAS093"," BAS094"," BAS095"," BAS096"," BAS097"," BAS098"," BAS099"," BAS100"," BAS101"," BAS102"," BAS103"," BAS104"," BAS105"," BAS106"," BAS107"," BAS108"," BAS109"," BAS110"," BAS111"," BAS112"," BAS113"," BAS114"," BAS115"," BAS116"," BAS117"," BAS118"," BAS119"," BAS120"," BAS121"," BAS122"," BAS123"," BAS124"," BAS125"," BAS126"," BAS127"," BAS128"," BAS129"," BAS130"," BAS131"," BAS132"," BAS133"," BAS134"," BAS135"," BAS136"," BAS137"," BAS138"," BAS139"," BAS140"," BAS141"," BAS142"," BAS143"," BAS144"," BAS145"," BAS146"," BAS147"," BAS148"," BAS149"," BAS150"," BAS151"," BAS152"," BAS153"," BAS154"," BAS155"," BAS156"," BAS157"," BAS158"," BAS159"," BAS160"," BAS161"," BAS162"," BAS163"," BAS164"," BAS165"," BAS166"," BAS167"," BAS168"," BAS169"," BAS170"," BAS171"," BAS172"," BAS173"," BAS174"," BAS175"," BAS176"," BAS177"," BAS178"," BAS179"," BAS180"," BAS181"," BAS182"," BAS183"," BAS184"," BAS185"," BAS186"," BAS187"," BAS188"," BAS189"," BAS190"," BAS191"," BAS192"," BAS193"," BAS194"," BAS195"," BAS196"," BAS197"," BAS198"," BAS199"," BAS200"," BAS201"," BAS202"," BAS203"," BAS204"," BAS205"," BAS206"," BAS207"," BAS208"," BAS209"," BAS210"," BAS211"," BAS212"," BAS213"," BAS214"," BAS215"," BAS216"," BAS217"," BAS218"," BAS219"," BAS220"," BAS221"," BAS222"," BAS223"," BAS224"," BAS225"," BAS226"," BAS227"," BAS228"," BAS229"," BAS230"," BAS231"," BAS232"," BAS233"," BAS234"," BAS235"]
[null,{"$f":"IF(B217=B200,\"SI\",\"NO\")","v":"SI"},{"$f":"IF(C217=C200,\"SI\",\"NO\")","v":"SI"},"SI","SI","SI","SI","SI","SI","SI","SI","SI","SI","SI","SI","SI","SI","SI","SI","SI","SI","SI","SI","SI","SI","SI","SI","SI","SI","SI","SI","SI","SI","SI","SI","SI","SI","SI","SI","SI","SI","SI","SI","SI","SI","SI","SI","SI","SI","SI","SI","SI","SI","SI","SI","SI","SI","SI","SI","SI","SI","SI","SI","SI","SI","SI",{"$f":"IF(BO217=BO200,\"SI\",\"NO\")","v":"SI"},"SI","SI","SI","SI","SI","SI","SI","SI","SI","SI","SI","SI","SI","SI","SI","SI","SI","SI","SI","SI","SI","SI","SI","SI","SI","SI","SI","SI","SI","SI","SI","SI","SI","SI","SI","SI","SI","SI","SI","SI","SI","SI","SI","SI","SI","SI","SI","SI","SI","SI","SI","SI","SI","SI","SI","SI","SI","SI","SI","SI","SI","SI","SI",{"$f":"IF(EA217=EA200,\"SI\",\"NO\")","v":"SI"},"SI","SI","SI","SI","SI","SI","SI","SI","SI","SI","SI","SI","SI","SI","SI","SI","SI","SI","SI","SI","SI","SI","SI","SI","SI","SI","SI","SI","SI","SI","SI","SI","SI","SI","SI","SI","SI","SI","SI","SI","SI","SI","SI","SI","SI","SI","SI","SI","SI","SI","SI","SI","SI","SI","SI","SI","SI","SI","SI","SI","SI","SI","SI",{"$f":"IF(GM217=GM200,\"SI\",\"NO\")","v":"SI"},"SI","SI","SI","SI","SI","SI","SI","SI","SI","SI","SI","SI","SI","SI","SI","SI","SI","SI","SI","SI","SI","SI","SI","SI","SI","SI","SI","SI","SI","SI","SI","SI","SI","SI","SI","SI",{"$f":"IF(HX217=HX200,\"SI\",\"NO\")","v":"SI"},"SI","SI","SI","SI"]
[]
[]
["AB212007"]
["anno",2024]
["cod_red","03"]
["codmic","(Todas)"]
["cod_prov","(Todas)"]
["coddist","(Todas)"]
["cod_estab","(Todas)"]
["cod_eje","(Todas)"]
[]
[null,"Valores"]
["Etiquetas de fila"," BAS001"," BAS002"," BAS003"," BAS004"," BAS005"," BAS006"," BAS007"," BAS008"," BAS009"," BAS010"," BAS011"," BAS012"," BAS013"," BAS014"," BAS015"," BAS016"," BAS017"," BAS018"," BAS019"," BAS020"," BAS021"," BAS022"," BAS023"," BAS024"," BAS025"," BAS026"," BAS027"," BAS028"," BAS029"," BAS030"," BAS031"," BAS032"," BAS033"," BAS034"," BAS035"," BAS036"," BAS037"," BAS038"," BAS039"," BAS040"," BAS041"," BAS042"," BAS043"," BAS044"," BAS045"," BAS046"," BAS047"," BAS048"," BAS049"," BAS050"," BAS051"," BAS052"," BAS053"," BAS054"," BAS055"," BAS056"," BAS057"," BAS058"," BAS059"," BAS060"," BAS061"," BAS062"," BAS063"," BAS064"," BAS065"," BAS066"," BAS067"," BAS068"," BAS069"," BAS070"," BAS071"," BAS072"," BAS073"," BAS074"," BAS075"," BAS076"," BAS077"," BAS078"," BAS079"," BAS080"," BAS081"," BAS082"," BAS083"," BAS084"," BAS085"," BAS086"," BAS087"," BAS088"," BAS089"," BAS090"," BAS091"," BAS092"," BAS093"," BAS094"," BAS095"," BAS096"," BAS097"," BAS098"," BAS099"," BAS100"," BAS101"," BAS102"," BAS103"," BAS104"," BAS105"," BAS106"," BAS107"," BAS108"," BAS109"," BAS110"," BAS111"," BAS112"," BAS113"," BAS114"," BAS115"," BAS116"," BAS117"," BAS118"," BAS119"," BAS120"," BAS121"," BAS122"," BAS123"," BAS124"," BAS125"," BAS126"," BAS127"," BAS128"," BAS129"," BAS130"," BAS131"," BAS132"," BAS133"," BAS134"," BAS135"," BAS136"," BAS137"," BAS138"," BAS139"," BAS140"," BAS141"," BAS142"," BAS143"," BAS144"," BAS145"," BAS146"," BAS147"," BAS148"," BAS149"," BAS150"," BAS151"," BAS152"," BAS153"," BAS154"," BAS155"," BAS156"," BAS157"," BAS158"," BAS159"," BAS160"," BAS161"," BAS162"," BAS163"," BAS164"," BAS165"," BAS166"," BAS167"," BAS168"," BAS169"," BAS170"," BAS171"," BAS172"," BAS173"," BAS174"," BAS175"," BAS176"," BAS177"," BAS178"," BAS179"," BAS180"," BAS181"," BAS182"," BAS183"," BAS184"," BAS185"," BAS186"," BAS187"," BAS188"," BAS189"," BAS190"," BAS191"," BAS192"," BAS193"," BAS194"," BAS195"," BAS196"," BAS197"," BAS198"," BAS199"," BAS200"," BAS201"," BAS202"," BAS203"," BAS204"," BAS205"," BAS206"," BAS207"," BAS208"," BAS209"," BAS210"," BAS211"," BAS212"," BAS213"," BAS214"," BAS215"," BAS216"," BAS217"," BAS218"," BAS219"," BAS220"," BAS221"," BAS222"," BAS223"," BAS224"," BAS225"," BAS226"," BAS227"," BAS228"," BAS229"," BAS230"," BAS231"," BAS232"," BAS233"," BAS234"," BAS235"]
[1,0,0,0,0,0,0,0,0,0,0,0,0,0,0,0,0,0,0,0,0,0,0,0,0,0,0,0,0,0,0,0,0,0,0,0,0,0,0,0,0,0,0,0,0,0,0,0,0,0,0,0,0,0,0,0,0,0,0,0,0,0,0,0,0,0,0,0,0,0,0,0,0,0,0,0,0,0,0,0,0,0,0,0,0,0,0,0,0,0,0,0,0,0,0,0,0,0,0,0,0,0,0,0,0,0,0,0,0,0,0,0,0,0,0,0,0,0,0,0,0,0,0,0,0,0,0,0,0,0,0,0,0,0,0,0,0,0,0,0,0,0,0,0,0,0,0,0,0,0,0,0,0,0,0,0,0,0,0,0,0,0,0,0,0,0,0,0,0,0,0,0,0,0,0,0,0,0,0,0,0,0,0,0,0,0,0,0,0,0,0,0,0,0,0,0,0,0,0,0,0,0,0,0,0,0,0,0,0,0,0,0,0,0,0,0,0,0,0,0,0,0,0,0,0,0,0,0,0,0,0,0,0,0,0,0]
[5,0,0,0,0,0,0,0,0,0,0,0,0,0,0,0,0,0,0,0,0,0,0,0,0,0,0,0,0,0,0,0,0,0,0,0,0,0,0,0,0,0,0,0,0,0,0,0,0,0,0,0,0,0,0,0,0,0,0,0,0,0,0,0,0,0,0,0,0,0,0,0,0,0,0,0,0,0,0,0,0,0,0,0,0,0,0,0,0,0,0,0,0,0,0,0,0,0,0,0,0,0,0,0,0,0,0,0,0,0,0,0,0,0,0,0,0,0,0,0,0,0,0,0,0,0,0,0,0,0,0,0,0,0,0,0,0,0,0,0,0,0,0,0,0,0,0,0,0,0,0,0,0,0,0,0,0,0,0,0,0,0,0,0,0,0,0,0,0,0,0,0,0,0,0,0,0,0,0,0,0,0,0,0,0,0,0,0,0,0,0,0,0,0,0,0,0,0,0,0,0,0,0,0,0,0,0,0,0,0,0,0,0,0,0,0,0,0,0,0,0,0,0,0,0,0,0,0,0,0,0,0,0,0,0,0]
[2,0,0,0,0,0,0,0,0,0,0,0,0,0,0,0,0,0,0,0,0,0,0,0,0,0,0,0,0,0,0,0,0,0,0,0,0,0,0,0,0,0,0,0,0,0,0,0,0,0,0,0,0,0,0,0,0,0,0,0,0,0,0,0,0,0,0,0,0,0,0,0,0,0,0,0,0,0,0,0,0,0,0,0,0,0,0,0,0,0,0,0,0,0,0,0,0,0,0,0,0,0,0,0,0,0,0,0,0,0,0,0,0,0,0,0,0,0,0,0,0,0,0,0,0,0,0,0,0,0,0,0,0,0,0,0,0,0,0,0,0,0,0,0,0,0,0,0,0,0,0,0,0,0,0,0,0,0,0,0,0,0,0,0,0,0,0,0,0,0,0,0,0,0,0,0,0,0,0,0,0,0,0,0,0,0,0,0,0,0,0,0,0,0,0,0,0,0,0,0,0,0,0,0,0,0,0,0,0,0,0,0,0,0,0,0,0,0,0,0,0,0,0,0,0,0,0,0,0,0,0,0,0,0,0,0]
[3,0,0,0,0,0,0,0,0,0,0,0,0,0,0,0,0,0,0,0,0,0,0,0,0,0,0,0,0,0,0,0,0,0,0,0,0,0,0,0,0,0,0,0,0,0,0,0,0,0,0,0,0,0,0,0,0,0,0,0,0,0,0,0,0,0,0,0,0,0,0,0,0,0,0,0,0,0,0,0,0,0,0,0,0,0,0,0,0,0,0,0,0,0,0,0,0,0,0,0,0,0,0,0,0,0,0,0,0,0,0,0,0,0,0,0,0,0,0,0,0,0,0,0,0,0,0,0,0,0,0,0,0,0,0,0,0,0,0,0,0,0,0,0,0,0,0,0,0,0,0,0,0,0,0,0,0,0,0,0,0,0,0,0,0,0,0,0,0,0,0,0,0,0,0,0,0,0,0,0,0,0,0,0,0,0,0,0,0,0,0,0,0,0,0,0,0,0,0,0,0,0,0,0,0,0,0,0,0,0,0,0,0,0,0,0,0,0,0,0,0,0,0,0,0,0,0,0,0,0,0,0,0,0,0,0]
[4,0,0,0,0,0,0,0,0,0,0,0,0,0,0,0,0,0,0,0,0,0,0,0,0,0,0,0,0,0,0,0,0,0,0,0,0,0,0,0,0,0,0,0,0,0,0,0,0,0,0,0,0,0,0,0,0,0,0,0,0,0,0,0,0,0,0,0,0,0,0,0,0,0,0,0,0,0,0,0,0,0,0,0,0,0,0,0,0,0,0,0,0,0,0,0,0,0,0,0,0,0,0,0,0,0,0,0,0,0,0,0,0,0,0,0,0,0,0,0,0,0,0,0,0,0,0,0,0,0,0,0,0,0,0,0,0,0,0,0,0,0,0,0,0,0,0,0,0,0,0,0,0,0,0,0,0,0,0,0,0,0,0,0,0,0,0,0,0,0,0,0,0,0,0,0,0,0,0,0,0,0,0,0,0,0,0,0,0,0,0,0,0,0,0,0,0,0,0,0,0,0,0,0,0,0,0,0,0,0,0,0,0,0,0,0,0,0,0,0,0,0,0,0,0,0,0,0,0,0,0,0,0,0,0,0]
[6,0,0,0,0,0,0,0,0,0,0,0,0,0,0,0,0,0,0,0,0,0,0,0,0,0,0,0,0,0,0,0,0,0,0,0,0,0,0,0,0,0,0,0,0,0,0,0,0,0,0,0,0,0,0,0,0,0,0,0,0,0,0,0,0,0,0,0,0,0,0,0,0,0,0,0,0,0,0,0,0,0,0,0,0,0,0,0,0,0,0,0,0,0,0,0,0,0,0,0,0,0,0,0,0,0,0,0,0,0,0,0,0,0,0,0,0,0,0,0,0,0,0,0,0,0,0,0,0,0,0,0,0,0,0,0,0,0,0,0,0,0,0,0,0,0,0,0,0,0,0,0,0,0,0,0,0,0,0,0,0,0,0,0,0,0,0,0,0,0,0,0,0,0,0,0,0,0,0,0,0,0,0,0,0,0,0,0,0,0,0,0,0,0,0,0,0,0,0,0,0,0,0,0,0,0,0,0,0,0,0,0,0,0,0,0,0,0,0,0,0,0,0,0,0,0,0,0,0,0,0,0,0,0,0,0]
[11,0,0,0,0,0,0,0,0,0,0,0,0,0,0,0,0,0,0,0,0,0,0,0,0,0,0,0,0,0,0,0,0,0,0,0,0,0,0,0,0,0,0,0,0,0,0,0,0,0,0,0,0,0,0,0,0,0,0,0,0,0,0,0,0,0,0,0,0,0,0,0,0,0,0,0,0,0,0,0,0,0,0,0,0,0,0,0,0,0,0,0,0,0,0,0,0,0,0,0,0,0,0,0,0,0,0,0,0,0,0,0,0,0,0,0,0,0,0,0,0,0,0,0,0,0,0,0,0,0,0,0,0,0,0,0,0,0,0,0,0,0,0,0,0,0,0,0,0,0,0,0,0,0,0,0,0,0,0,0,0,0,0,0,0,0,0,0,0,0,0,0,0,0,0,0,0,0,0,0,0,0,0,0,0,0,0,0,0,0,0,0,0,0,0,0,0,0,0,0,0,0,0,0,0,0,0,0,0,0,0,0,0,0,0,0,0,0,0,0,0,0,0,0,0,0,0,0,0,0,0,0,0,0,0,0]
[10,0,0,0,0,0,0,0,0,0,0,0,0,0,0,0,0,0,0,0,0,0,0,0,0,0,0,0,0,0,0,0,0,0,0,0,0,0,0,0,0,0,0,0,0,0,0,0,0,0,0,0,0,0,0,0,0,0,0,0,0,0,0,0,0,0,0,0,0,0,0,0,0,0,0,0,0,0,0,0,0,0,0,0,0,0,0,0,0,0,0,0,0,0,0,0,0,0,0,0,0,0,0,0,0,0,0,0,0,0,0,0,0,0,0,0,0,0,0,0,0,0,0,0,0,0,0,0,0,0,0,0,0,0,0,0,0,0,0,0,0,0,0,0,0,0,0,0,0,0,0,0,0,0,0,0,0,0,0,0,0,0,0,0,0,0,0,0,0,0,0,0,0,0,0,0,0,0,0,0,0,0,0,0,0,0,0,0,0,0,0,0,0,0,0,0,0,0,0,0,0,0,0,0,0,0,0,0,0,0,0,0,0,0,0,0,0,0,0,0,0,0,0,0,0,0,0,0,0,0,0,0,0,0,0,0]
[9,0,0,0,0,0,0,0,0,0,0,0,0,0,0,0,0,0,0,0,0,0,0,0,0,0,0,0,0,0,0,0,0,0,0,0,0,0,0,0,0,0,0,0,0,0,0,0,0,0,0,0,0,0,0,0,0,0,0,0,0,0,0,0,0,0,0,0,0,0,0,0,0,0,0,0,0,0,0,0,0,0,0,0,0,0,0,0,0,0,0,0,0,0,0,0,0,0,0,0,0,0,0,0,0,0,0,0,0,0,0,0,0,0,0,0,0,0,0,0,0,0,0,0,0,0,0,0,0,0,0,0,0,0,0,0,0,0,0,0,0,0,0,0,0,0,0,0,0,0,0,0,0,0,0,0,0,0,0,0,0,0,0,0,0,0,0,0,0,0,0,0,0,0,0,0,0,0,0,0,0,0,0,0,0,0,0,0,0,0,0,0,0,0,0,0,0,0,0,0,0,0,0,0,0,0,0,0,0,0,0,0,0,0,0,0,0,0,0,0,0,0,0,0,0,0,0,0,0,0,0,0,0,0,0,0]
[8,0,0,0,0,0,0,0,0,0,0,0,0,0,0,0,0,0,0,0,0,0,0,0,0,0,0,0,0,0,0,0,0,0,0,0,0,0,0,0,0,0,0,0,0,0,0,0,0,0,0,0,0,0,0,0,0,0,0,0,0,0,0,0,0,0,0,0,0,0,0,0,0,0,0,0,0,0,0,0,0,0,0,0,0,0,0,0,0,0,0,0,0,0,0,0,0,0,0,0,0,0,0,0,0,0,0,0,0,0,0,0,0,0,0,0,0,0,0,0,0,0,0,0,0,0,0,0,0,0,0,0,0,0,0,0,0,0,0,0,0,0,0,0,0,0,0,0,0,0,0,0,0,0,0,0,0,0,0,0,0,0,0,0,0,0,0,0,0,0,0,0,0,0,0,0,0,0,0,0,0,0,0,0,0,0,0,0,0,0,0,0,0,0,0,0,0,0,0,0,0,0,0,0,0,0,0,0,0,0,0,0,0,0,0,0,0,0,0,0,0,0,0,0,0,0,0,0,0,0,0,0,0,0,0,0]
[7,0,0,0,0,0,0,0,0,0,0,0,0,0,0,0,0,0,0,0,0,0,0,0,0,0,0,0,0,0,0,0,0,0,0,0,0,0,0,0,0,0,0,0,0,0,0,0,0,0,0,0,0,0,0,0,0,0,0,0,0,0,0,0,0,0,0,0,0,0,0,0,0,0,0,0,0,0,0,0,0,0,0,0,0,0,0,0,0,0,0,0,0,0,0,0,0,0,0,0,0,0,0,0,0,0,0,0,0,0,0,0,0,0,0,0,0,0,0,0,0,0,0,0,0,0,0,0,0,0,0,0,0,0,0,0,0,0,0,0,0,0,0,0,0,0,0,0,0,0,0,0,0,0,0,0,0,0,0,0,0,0,0,0,0,0,0,0,0,0,0,0,0,0,0,0,0,0,0,0,0,0,0,0,0,0,0,0,0,0,0,0,0,0,0,0,0,0,0,0,0,0,0,0,0,0,0,0,0,0,0,0,0,0,0,0,0,0,0,0,0,0,0,0,0,0,0,0,0,0,0,0,0,0,0,0]
["Total general",0,0,0,0,0,0,0,0,0,0,0,0,0,0,0,0,0,0,0,0,0,0,0,0,0,0,0,0,0,0,0,0,0,0,0,0,0,0,0,0,0,0,0,0,0,0,0,0,0,0,0,0,0,0,0,0,0,0,0,0,0,0,0,0,0,0,0,0,0,0,0,0,0,0,0,0,0,0,0,0,0,0,0,0,0,0,0,0,0,0,0,0,0,0,0,0,0,0,0,0,0,0,0,0,0,0,0,0,0,0,0,0,0,0,0,0,0,0,0,0,0,0,0,0,0,0,0,0,0,0,0,0,0,0,0,0,0,0,0,0,0,0,0,0,0,0,0,0,0,0,0,0,0,0,0,0,0,0,0,0,0,0,0,0,0,0,0,0,0,0,0,0,0,0,0,0,0,0,0,0,0,0,0,0,0,0,0,0,0,0,0,0,0,0,0,0,0,0,0,0,0,0,0,0,0,0,0,0,0,0,0,0,0,0,0,0,0,0,0,0,0,0,0,0,0,0,0,0,0,0,0,0,0,0,0]
[]
["TOTAL"]
[{"$f":"COUNT(A232:A243)","v":11},{"$f":"SUM(B232:B243)","v":0},{"$f":"SUM(C232:C243)","v":0},0,0,0,0,0,0,0,0,0,0,0,0,0,0,0,0,0,0,0,0,0,0,0,0,0,0,0,0,0,0,0,0,0,0,0,0,0,0,0,0,0,0,0,0,0,0,0,0,0,0,0,0,0,0,0,0,0,0,0,0,0,0,0,{"$f":"SUM(BO232:BO243)","v":0},0,0,0,0,0,0,0,0,0,0,0,0,0,0,0,0,0,0,0,0,0,0,0,0,0,0,0,0,0,0,0,0,0,0,0,0,0,0,0,0,0,0,0,0,0,0,0,0,0,0,0,0,0,0,0,0,0,0,0,0,0,0,0,{"$f":"SUM(EA232:EA243)","v":0},0,0,0,0,0,0,0,0,0,0,0,0,0,0,0,0,0,0,0,0,0,0,0,0,0,0,0,0,0,0,0,0,0,0,0,0,0,0,0,0,0,0,0,0,0,0,0,0,0,0,0,0,0,0,0,0,0,0,0,0,0,0,0,{"$f":"SUM(GM232:GM243)","v":0},0,0,0,0,0,0,0,0,0,0,0,0,0,0,0,0,0,0,0,0,0,0,0,0,0,0,0,0,0,0,0,0,0,0,0,0,{"$f":"SUM(HX232:HX243)","v":0},0,0,0,0]
[{"$f":"CONCATENATE(A232,\"-\",A233,\"-\",A234,\"-\",A235,\"-\",A236,\"-\",A237,\"-\",A238,\"-\",A239,\"-\",A240,\"-\",A241,\"-\",A242,\"-\",A243)","v":"1-5-2-3-4-6-11-10-9-8-7-Total general"}]
[null," BAS001"," BAS002"," BAS003"," BAS004"," BAS005"," BAS006"," BAS007"," BAS008"," BAS009"," BAS010"," BAS011"," BAS012"," BAS013"," BAS014"," BAS015"," BAS016"," BAS017"," BAS018"," BAS019"," BAS020"," BAS021"," BAS022"," BAS023"," BAS024"," BAS025"," BAS026"," BAS027"," BAS028"," BAS029"," BAS030"," BAS031"," BAS032"," BAS033"," BAS034"," BAS035"," BAS036"," BAS037"," BAS038"," BAS039"," BAS040"," BAS041"," BAS042"," BAS043"," BAS044"," BAS045"," BAS046"," BAS047"," BAS048"," BAS049"," BAS050"," BAS051"," BAS052"," BAS053"," BAS054"," BAS055"," BAS056"," BAS057"," BAS058"," BAS059"," BAS060"," BAS061"," BAS062"," BAS063"," BAS064"," BAS065"," BAS066"," BAS067"," BAS068"," BAS069"," BAS070"," BAS071"," BAS072"," BAS073"," BAS074"," BAS075"," BAS076"," BAS077"," BAS078"," BAS079"," BAS080"," BAS081"," BAS082"," BAS083"," BAS084"," BAS085"," BAS086"," BAS087"," BAS088"," BAS089"," BAS090"," BAS091"," BAS092"," BAS093"," BAS094"," BAS095"," BAS096"," BAS097"," BAS098"," BAS099"," BAS100"," BAS101"," BAS102"," BAS103"," BAS104"," BAS105"," BAS106"," BAS107"," BAS108"," BAS109"," BAS110"," BAS111"," BAS112"," BAS113"," BAS114"," BAS115"," BAS116"," BAS117"," BAS118"," BAS119"," BAS120"," BAS121"," BAS122"," BAS123"," BAS124"," BAS125"," BAS126"," BAS127"," BAS128"," BAS129"," BAS130"," BAS131"," BAS132"," BAS133"," BAS134"," BAS135"," BAS136"," BAS137"," BAS138"," BAS139"," BAS140"," BAS141"," BAS142"," BAS143"," BAS144"," BAS145"," BAS146"," BAS147"," BAS148"," BAS149"," BAS150"," BAS151"," BAS152"," BAS153"," BAS154"," BAS155"," BAS156"," BAS157"," BAS158"," BAS159"," BAS160"," BAS161"," BAS162"," BAS163"," BAS164"," BAS165"," BAS166"," BAS167"," BAS168"," BAS169"," BAS170"," BAS171"," BAS172"," BAS173"," BAS174"," BAS175"," BAS176"," BAS177"," BAS178"," BAS179"," BAS180"," BAS181"," BAS182"," BAS183"," BAS184"," BAS185"," BAS186"," BAS187"," BAS188"," BAS189"," BAS190"," BAS191"," BAS192"," BAS193"," BAS194"," BAS195"," BAS196"," BAS197"," BAS198"," BAS199"," BAS200"," BAS201"," BAS202"," BAS203"," BAS204"," BAS205"," BAS206"," BAS207"," BAS208"," BAS209"," BAS210"," BAS211"," BAS212"," BAS213"," BAS214"," BAS215"," BAS216"," BAS217"," BAS218"," BAS219"," BAS220"," BAS221"," BAS222"," BAS223"," BAS224"," BAS225"," BAS226"," BAS227"," BAS228"," BAS229"," BAS230"," BAS231"," BAS232"," BAS233"," BAS234"," BAS235"]
[null,{"$f":"IF(B248=B231,\"SI\",\"NO\")","v":"SI"},{"$f":"IF(C248=C231,\"SI\",\"NO\")","v":"SI"},"SI","SI","SI","SI","SI","SI","SI","SI","SI","SI","SI","SI","SI","SI","SI","SI","SI","SI","SI","SI","SI","SI","SI","SI","SI","SI","SI","SI","SI","SI","SI","SI","SI","SI","SI","SI","SI","SI","SI","SI","SI","SI","SI","SI","SI","SI","SI","SI","SI","SI","SI","SI","SI","SI","SI","SI","SI","SI","SI","SI","SI","SI","SI",{"$f":"IF(BO248=BO231,\"SI\",\"NO\")","v":"SI"},"SI","SI","SI","SI","SI","SI","SI","SI","SI","SI","SI","SI","SI","SI","SI","SI","SI","SI","SI","SI","SI","SI","SI","SI","SI","SI","SI","SI","SI","SI","SI","SI","SI","SI","SI","SI","SI","SI","SI","SI","SI","SI","SI","SI","SI","SI","SI","SI","SI","SI","SI","SI","SI","SI","SI","SI","SI","SI","SI","SI","SI","SI","SI",{"$f":"IF(EA248=EA231,\"SI\",\"NO\")","v":"SI"},"SI","SI","SI","SI","SI","SI","SI","SI","SI","SI","SI","SI","SI","SI","SI","SI","SI","SI","SI","SI","SI","SI","SI","SI","SI","SI","SI","SI","SI","SI","SI","SI","SI","SI","SI","SI","SI","SI","SI","SI","SI","SI","SI","SI","SI","SI","SI","SI","SI","SI","SI","SI","SI","SI","SI","SI","SI","SI","SI","SI","SI","SI","SI",{"$f":"IF(GM248=GM231,\"SI\",\"NO\")","v":"SI"},"SI","SI","SI","SI","SI","SI","SI","SI","SI","SI","SI","SI","SI","SI","SI","SI","SI","SI","SI","SI","SI","SI","SI","SI","SI","SI","SI","SI","SI","SI","SI","SI","SI","SI","SI","SI",{"$f":"IF(HX248=HX231,\"SI\",\"NO\")","v":"SI"},"SI","SI","SI","SI"]
[]
["anno",2024]
["codmic","(Todas)"]
["cod_estab","(Todas)"]
["Etiquetas de fila"," BAS001"," BAS002"," BAS003"," BAS004"," BAS005"," BAS006"," BAS007"," BAS008"," BAS009"," BAS010"," BAS011"," BAS012"," BAS013"," BAS014"," BAS015"," BAS016"," BAS017"," BAS018"," BAS019"," BAS020"," BAS021"," BAS022"," BAS023"," BAS024"," BAS025"," BAS026"," BAS027"," BAS028"," BAS029"," BAS030"," BAS031"," BAS032"," BAS033"," BAS034"," BAS035"," BAS036"," BAS037"," BAS038"," BAS039"," BAS040"," BAS041"," BAS042"," BAS043"," BAS044"," BAS045"," BAS046"," BAS047"," BAS048"," BAS049"," BAS050"," BAS051"," BAS052"," BAS053"," BAS054"," BAS055"," BAS056"," BAS057"," BAS058"," BAS059"," BAS060"," BAS061"," BAS062"," BAS063"," BAS064"," BAS065"," BAS066"," BAS067"," BAS068"," BAS069"," BAS070"," BAS071"," BAS072"," BAS073"," BAS074"," BAS075"," BAS076"," BAS077"," BAS078"," BAS079"," BAS080"," BAS081"," BAS082"," BAS083"," BAS084"," BAS085"," BAS086"," BAS087"," BAS088"," BAS089"," BAS090"," BAS091"," BAS092"," BAS093"," BAS094"," BAS095"," BAS096"," BAS097"," BAS098"," BAS099"," BAS100"," BAS101"," BAS102"," BAS103"," BAS104"," BAS105"," BAS106"," BAS107"," BAS108"," BAS109"," BAS110"," BAS111"," BAS112"," BAS113"," BAS114"," BAS115"," BAS116"," BAS117"," BAS118"," BAS119"," BAS120"," BAS121"," BAS122"," BAS123"," BAS124"," BAS125"," BAS126"," BAS127"," BAS128"," BAS129"," BAS130"," BAS131"," BAS132"," BAS133"," BAS134"," BAS135"," BAS136"," BAS137"," BAS138"," BAS139"," BAS140"," BAS141"," BAS142"," BAS143"," BAS144"," BAS145"," BAS146"," BAS147"," BAS148"," BAS149"," BAS150"," BAS151"," BAS152"," BAS153"," BAS154"," BAS155"," BAS156"," BAS157"," BAS158"," BAS159"," BAS160"," BAS161"," BAS162"," BAS163"," BAS164"," BAS165"," BAS166"," BAS167"," BAS168"," BAS169"," BAS170"," BAS171"," BAS172"," BAS173"," BAS174"," BAS175"," BAS176"," BAS177"," BAS178"," BAS179"," BAS180"," BAS181"," BAS182"," BAS183"," BAS184"," BAS185"," BAS186"," BAS187"," BAS188"," BAS189"," BAS190"," BAS191"," BAS192"," BAS193"," BAS194"," BAS195"," BAS196"," BAS197"," BAS198"," BAS199"," BAS200"," BAS201"," BAS202"," BAS203"," BAS204"," BAS205"," BAS206"," BAS207"," BAS208"," BAS209"," BAS210"," BAS211"," BAS212"," BAS213"," BAS214"," BAS215"," BAS216"," BAS217"," BAS218"," BAS219"," BAS220"," BAS221"," BAS222"," BAS223"," BAS224"," BAS225"," BAS226"," BAS227"," BAS228"," BAS229"," BAS230"," BAS231"," BAS232"," BAS233"," BAS234"," BAS235"]
[2,0,0,0,0,0,0,0,0,0,0,0,0,0,0,0,0,0,0,0,0,0,0,0,0,0,0,0,0,0,0,0,0,0,0,0,0,0,0,0,0,0,0,0,0,0,0,0,0,0,0,0,0,0,0,0,0,0,0,0,0,0,0,0,0,0,0,0,0,0,0,0,0,0,0,0,0,0,0,0,0,0,0,0,0,0,0,0,0,0,0,0,0,0,0,0,0,0,0,0,0,0,0,0,0,0,0,0,0,0,0,0,0,0,0,0,0,0,0,0,0,0,0,0,0,0,0,0,0,0,0,0,0,0,0,0,0,0,0,0,0,0,0,0,0,0,0,0,0,0,0,0,0,0,0,0,0,0,0,0,0,0,0,0,0,0,0,0,0,0,0,0,0,0,0,0,0,0,0,0,0,0,0,0,0,0,0,0,0,0,0,0,0,0,0,0,0,0,0,0,0,0,0,0,0,0,0,0,0,0,0,0,0,0,0,0,0,0,0,0,0,0,0,0,0,0,0,0,0,0,0,0,0,0,0,0]
[6,0,0,0,0,0,0,0,0,0,0,0,0,0,0,0,0,0,0,0,0,0,0,0,0,0,0,0,0,0,0,0,0,0,0,0,0,0,0,0,0,0,0,0,0,0,0,0,0,0,0,0,0,0,0,0,0,0,0,0,0,0,0,0,0,0,0,0,0,0,0,0,0,0,0,0,0,0,0,0,0,0,0,0,0,0,0,0,0,0,0,0,0,0,0,0,0,0,0,0,0,0,0,0,0,0,0,0,0,0,0,0,0,0,0,0,0,0,0,0,0,0,0,0,0,0,0,0,0,0,0,0,0,0,0,0,0,0,0,0,0,0,0,0,0,0,0,0,0,0,0,0,0,0,0,0,0,0,0,0,0,0,0,0,0,0,0,0,0,0,0,0,0,0,0,0,0,0,0,0,0,0,0,0,0,0,0,0,0,0,0,0,0,0,0,0,0,0,0,0,0,0,0,0,0,0,0,0,0,0,0,0,0,0,0,0,0,0,0,0,0,0,0,0,0,0,0,0,0,0,0,0,0,0,0,0]
[11,0,0,0,0,0,0,0,0,0,0,0,0,0,0,0,0,0,0,0,0,0,0,0,0,0,0,0,0,0,0,0,0,0,0,0,0,0,0,0,0,0,0,0,0,0,0,0,0,0,0,0,0,0,0,0,0,0,0,0,0,0,0,0,0,0,0,0,0,0,0,0,0,0,0,0,0,0,0,0,0,0,0,0,0,0,0,0,0,0,0,0,0,0,0,0,0,0,0,0,0,0,0,0,0,0,0,0,0,0,0,0,0,0,0,0,0,0,0,0,0,0,0,0,0,0,0,0,0,0,0,0,0,0,0,0,0,0,0,0,0,0,0,0,0,0,0,0,0,0,0,0,0,0,0,0,0,0,0,0,0,0,0,0,0,0,0,0,0,0,0,0,0,0,0,0,0,0,0,0,0,0,0,0,0,0,0,0,0,0,0,0,0,0,0,0,0,0,0,0,0,0,0,0,0,0,0,0,0,0,0,0,0,0,0,0,0,0,0,0,0,0,0,0,0,0,0,0,0,0,0,0,0,0,0,0]
[8,0,0,0,0,0,0,0,0,0,0,0,0,0,0,0,0,0,0,0,0,0,0,0,0,0,0,0,0,0,0,0,0,0,0,0,0,0,0,0,0,0,0,0,0,0,0,0,0,0,0,0,0,0,0,0,0,0,0,0,0,0,0,0,0,0,0,0,0,0,0,0,0,0,0,0,0,0,0,0,0,0,0,0,0,0,0,0,0,0,0,0,0,0,0,0,0,0,0,0,0,0,0,0,0,0,0,0,0,0,0,0,0,0,0,0,0,0,0,0,0,0,0,0,0,0,0,0,0,0,0,0,0,0,0,0,0,0,0,0,0,0,0,0,0,0,0,0,0,0,0,0,0,0,0,0,0,0,0,0,0,0,0,0,0,0,0,0,0,0,0,0,0,0,0,0,0,0,0,0,0,0,0,0,0,0,0,0,0,0,0,0,0,0,0,0,0,0,0,0,0,0,0,0,0,0,0,0,0,0,0,0,0,0,0,0,0,0,0,0,0,0,0,0,0,0,0,0,0,0,0,0,0,0,0,0]
[]
[{"$f":"CONCATENATE(A262,\"-\",A263,\"-\",A264,\"-\",A265,\"-\",A266,\"-\",A267,\"-\",A268,\"-\",A269,\"-\",A270,\"-\",A271,\"-\",A272,\"-\",A273)","v":"1-5-2-3-4-6-11-10-9-8-7-Total general"}]
[]
["cod_red","03"]
["coddist","(Todas)"]
[]
[null,"Valores"]
[5,0,0,0,0,0,0,0,0,0,0,0,0,0,0,0,0,0,0,0,0,0,0,0,0,0,0,0,0,0,0,0,0,0,0,0,0,0,0,0,0,0,0,0,0,0,0,0,0,0,0,0,0,0,0,0,0,0,0,0,0,0,0,0,0,0,0,0,0,0,0,0,0,0,0,0,0,0,0,0,0,0,0,0,0,0,0,0,0,0,0,0,0,0,0,0,0,0,0,0,0,0,0,0,0,0,0,0,0,0,0,0,0,0,0,0,0,0,0,0,0,0,0,0,0,0,0,0,0,0,0,0,0,0,0,0,0,0,0,0,0,0,0,0,0,0,0,0,0,0,0,0,0,0,0,0,0,0,0,0,0,0,0,0,0,0,0,0,0,0,0,0,0,0,0,0,0,0,0,0,0,0,0,0,0,0,0,0,0,0,0,0,0,0,0,0,0,0,0,0,0,0,0,0,0,0,0,0,0,0,0,0,0,0,0,0,0,0,0,0,0,0,0,0,0,0,0,0,0,0,0,0,0,0,0,0]
[6,0,0,0,0,0,0,0,0,0,0,0,0,0,0,0,0,0,0,0,0,0,0,0,0,0,0,0,0,0,0,0,0,0,0,0,0,0,0,0,0,0,0,0,0,0,0,0,0,0,0,0,0,0,0,0,0,0,0,0,0,0,0,0,0,0,0,0,0,0,0,0,0,0,0,0,0,0,0,0,0,0,0,0,0,0,0,0,0,0,0,0,0,0,0,0,0,0,0,0,0,0,0,0,0,0,0,0,0,0,0,0,0,0,0,0,0,0,0,0,0,0,0,0,0,0,0,0,0,0,0,0,0,0,0,0,0,0,0,0,0,0,0,0,0,0,0,0,0,0,0,0,0,0,0,0,0,0,0,0,0,0,0,0,0,0,0,0,0,0,0,0,0,0,0,0,0,0,0,0,0,0,0,0,0,0,0,0,0,0,0,0,0,0,0,0,0,0,0,0,0,0,0,0,0,0,0,0,0,0,0,0,0,0,0,0,0,0,0,0,0,0,0,0,0,0,0,0,0,0,0,0,0,0,0,0]
[10,0,0,0,0,0,0,0,0,0,0,0,0,0,0,0,0,0,0,0,0,0,0,0,0,0,0,0,0,0,0,0,0,0,0,0,0,0,0,0,0,0,0,0,0,0,0,0,0,0,0,0,0,0,0,0,0,0,0,0,0,0,0,0,0,0,0,0,0,0,0,0,0,0,0,0,0,0,0,0,0,0,0,0,0,0,0,0,0,0,0,0,0,0,0,0,0,0,0,0,0,0,0,0,0,0,0,0,0,0,0,0,0,0,0,0,0,0,0,0,0,0,0,0,0,0,0,0,0,0,0,0,0,0,0,0,0,0,0,0,0,0,0,0,0,0,0,0,0,0,0,0,0,0,0,0,0,0,0,0,0,0,0,0,0,0,0,0,0,0,0,0,0,0,0,0,0,0,0,0,0,0,0,0,0,0,0,0,0,0,0,0,0,0,0,0,0,0,0,0,0,0,0,0,0,0,0,0,0,0,0,0,0,0,0,0,0,0,0,0,0,0,0,0,0,0,0,0,0,0,0,0,0,0,0,0]
[7,0,0,0,0,0,0,0,0,0,0,0,0,0,0,0,0,0,0,0,0,0,0,0,0,0,0,0,0,0,0,0,0,0,0,0,0,0,0,0,0,0,0,0,0,0,0,0,0,0,0,0,0,0,0,0,0,0,0,0,0,0,0,0,0,0,0,0,0,0,0,0,0,0,0,0,0,0,0,0,0,0,0,0,0,0,0,0,0,0,0,0,0,0,0,0,0,0,0,0,0,0,0,0,0,0,0,0,0,0,0,0,0,0,0,0,0,0,0,0,0,0,0,0,0,0,0,0,0,0,0,0,0,0,0,0,0,0,0,0,0,0,0,0,0,0,0,0,0,0,0,0,0,0,0,0,0,0,0,0,0,0,0,0,0,0,0,0,0,0,0,0,0,0,0,0,0,0,0,0,0,0,0,0,0,0,0,0,0,0,0,0,0,0,0,0,0,0,0,0,0,0,0,0,0,0,0,0,0,0,0,0,0,0,0,0,0,0,0,0,0,0,0,0,0,0,0,0,0,0,0,0,0,0,0,0]
[{"$f":"COUNT(A293:A304)","v":11},{"$f":"SUM(B293:B304)","v":0},{"$f":"SUM(C293:C304)","v":0},0,0,0,0,0,0,0,0,0,0,0,0,0,0,0,0,0,0,0,0,0,0,0,0,0,0,0,0,0,0,0,0,0,0,0,0,0,0,0,0,0,0,0,0,0,0,0,0,0,0,0,0,0,0,0,0,0,0,0,0,0,0,0,{"$f":"SUM(BO293:BO304)","v":0},0,0,0,0,0,0,0,0,0,0,0,0,0,0,0,0,0,0,0,0,0,0,0,0,0,0,0,0,0,0,0,0,0,0,0,0,0,0,0,0,0,0,0,0,0,0,0,0,0,0,0,0,0,0,0,0,0,0,0,0,0,0,0,{"$f":"SUM(EA293:EA304)","v":0},0,0,0,0,0,0,0,0,0,0,0,0,0,0,0,0,0,0,0,0,0,0,0,0,0,0,0,0,0,0,0,0,0,0,0,0,0,0,0,0,0,0,0,0,0,0,0,0,0,0,0,0,0,0,0,0,0,0,0,0,0,0,0,{"$f":"SUM(GM293:GM304)","v":0},0,0,0,0,0,0,0,0,0,0,0,0,0,0,0,0,0,0,0,0,0,0,0,0,0,0,0,0,0,0,0,0,0,0,0,0,0,0,0,0,0]
[null,{"$f":"IF(B309=B292,\"SI\",\"NO\")","v":"SI"},{"$f":"IF(C309=C292,\"SI\",\"NO\")","v":"SI"},"SI","SI","SI","SI","SI","SI","SI","SI","SI","SI","SI","SI","SI","SI","SI","SI","SI","SI","SI","SI","SI","SI","SI","SI","SI","SI","SI","SI","SI","SI","SI","SI","SI","SI","SI","SI","SI","SI","SI","SI","SI","SI","SI","SI","SI","SI","SI","SI","SI","SI","SI","SI","SI","SI","SI","SI","SI","SI","SI","SI","SI","SI","SI",{"$f":"IF(BO309=BO292,\"SI\",\"NO\")","v":"SI"},"SI","SI","SI","SI","SI","SI","SI","SI","SI","SI","SI","SI","SI","SI","SI","SI","SI","SI","SI","SI","SI","SI","SI","SI","SI","SI","SI","SI","SI","SI","SI","SI","SI","SI","SI","SI","SI","SI","SI","SI","SI","SI","SI","SI","SI","SI","SI","SI","SI","SI","SI","SI","SI","SI","SI","SI","SI","SI","SI","SI","SI","SI","SI",{"$f":"IF(EA309=EA292,\"SI\",\"NO\")","v":"SI"},"SI","SI","SI","SI","SI","SI","SI","SI","SI","SI","SI","SI","SI","SI","SI","SI","SI","SI","SI","SI","SI","SI","SI","SI","SI","SI","SI","SI","SI","SI","SI","SI","SI","SI","SI","SI","SI","SI","SI","SI","SI","SI","SI","SI","SI","SI","SI","SI","SI","SI","SI","SI","SI","SI","SI","SI","SI","SI","SI","SI","SI","SI","SI",{"$f":"IF(GM309=GM292,\"SI\",\"NO\")","v":"SI"},"SI","SI","SI","SI","SI","SI","SI","SI","SI","SI","SI","SI","SI","SI","SI","SI","SI","SI","SI","SI","SI","SI","SI","SI","SI","SI","SI","SI","SI","SI","SI","SI","SI","SI","SI","SI","SI","SI","SI","SI","SI"]
[]
["cod_red","03"]
["coddist","(Todas)"]
[]
[1,0,0,0,0,0,0,0,0,0,0,0,0,0,0,0,0,0,0,0,0,0,0,0,0,0,0,0,0,0,0,0,0,0,0,0,0,0,0,0,0,0,0,0,0,0,0,0,0,0,0,0,0,0,0,0,0,0,0,0,0,0,0,0,0,0,0,0,0,0,0,0,0,0,0,0,0,0,0,0,0,0,0,0,0,0,0,0,0,0,0,0,0,0,0,0,0,0,0,0,0,0,0,0,0,0,0,0,0,0,0,0,0,0,0,0,0,0,0,0,0,0,0,0,0,0,0,0,0,0,0,0,0,0,0,0,0,0,0,0,0,0,0,0,0,0,0,0,0,0,0,0,0,0,0,0,0,0,0,0,0,0,0,0,0,0,0,0,0,0,0,0,0,0,0,0,0,0,0,0,0,0,0,0,0,0,0,0,0,0,0,0,0,0,0,0,0,0,0,0,0,0,0,0,0,0,0,0,0,0,0,0,0,0,0,0,0,0,0,0,0,0,0,0,0,0,0,0,0,0,0,0,0,0,0,0]
[3,0,0,0,0,0,0,0,0,0,0,0,0,0,0,0,0,0,0,0,0,0,0,0,0,0,0,0,0,0,0,0,0,0,0,0,0,0,0,0,0,0,0,0,0,0,0,0,0,0,0,0,0,0,0,0,0,0,0,0,0,0,0,0,0,0,0,0,0,0,0,0,0,0,0,0,0,0,0,0,0,0,0,0,0,0,0,0,0,0,0,0,0,0,0,0,0,0,0,0,0,0,0,0,0,0,0,0,0,0,0,0,0,0,0,0,0,0,0,0,0,0,0,0,0,0,0,0,0,0,0,0,0,0,0,0,0,0,0,0,0,0,0,0,0,0,0,0,0,0,0,0,0,0,0,0,0,0,0,0,0,0,0,0,0,0,0,0,0,0,0,0,0,0,0,0,0,0,0,0,0,0,0,0,0,0,0,0,0,0,0,0,0,0,0,0,0,0,0,0,0,0,0,0,0,0,0,0,0,0,0,0,0,0,0,0,0,0,0,0,0,0,0,0,0,0,0,0,0,0,0,0,0,0,0,0]
[10,0,0,0,0,0,0,0,0,0,0,0,0,0,0,0,0,0,0,0,0,0,0,0,0,0,0,0,0,0,0,0,0,0,0,0,0,0,0,0,0,0,0,0,0,0,0,0,0,0,0,0,0,0,0,0,0,0,0,0,0,0,0,0,0,0,0,0,0,0,0,0,0,0,0,0,0,0,0,0,0,0,0,0,0,0,0,0,0,0,0,0,0,0,0,0,0,0,0,0,0,0,0,0,0,0,0,0,0,0,0,0,0,0,0,0,0,0,0,0,0,0,0,0,0,0,0,0,0,0,0,0,0,0,0,0,0,0,0,0,0,0,0,0,0,0,0,0,0,0,0,0,0,0,0,0,0,0,0,0,0,0,0,0,0,0,0,0,0,0,0,0,0,0,0,0,0,0,0,0,0,0,0,0,0,0,0,0,0,0,0,0,0,0,0,0,0,0,0,0,0,0,0,0,0,0,0,0,0,0,0,0,0,0,0,0,0,0,0,0,0,0,0,0,0,0,0,0,0,0,0,0,0,0,0,0]
[7,0,0,0,0,0,0,0,0,0,0,0,0,0,0,0,0,0,0,0,0,0,0,0,0,0,0,0,0,0,0,0,0,0,0,0,0,0,0,0,0,0,0,0,0,0,0,0,0,0,0,0,0,0,0,0,0,0,0,0,0,0,0,0,0,0,0,0,0,0,0,0,0,0,0,0,0,0,0,0,0,0,0,0,0,0,0,0,0,0,0,0,0,0,0,0,0,0,0,0,0,0,0,0,0,0,0,0,0,0,0,0,0,0,0,0,0,0,0,0,0,0,0,0,0,0,0,0,0,0,0,0,0,0,0,0,0,0,0,0,0,0,0,0,0,0,0,0,0,0,0,0,0,0,0,0,0,0,0,0,0,0,0,0,0,0,0,0,0,0,0,0,0,0,0,0,0,0,0,0,0,0,0,0,0,0,0,0,0,0,0,0,0,0,0,0,0,0,0,0,0,0,0,0,0,0,0,0,0,0,0,0,0,0,0,0,0,0,0,0,0,0,0,0,0,0,0,0,0,0,0,0,0,0,0,0]
["Total general",0,0,0,0,0,0,0,0,0,0,0,0,0,0,0,0,0,0,0,0,0,0,0,0,0,0,0,0,0,0,0,0,0,0,0,0,0,0,0,0,0,0,0,0,0,0,0,0,0,0,0,0,0,0,0,0,0,0,0,0,0,0,0,0,0,0,0,0,0,0,0,0,0,0,0,0,0,0,0,0,0,0,0,0,0,0,0,0,0,0,0,0,0,0,0,0,0,0,0,0,0,0,0,0,0,0,0,0,0,0,0,0,0,0,0,0,0,0,0,0,0,0,0,0,0,0,0,0,0,0,0,0,0,0,0,0,0,0,0,0,0,0,0,0,0,0,0,0,0,0,0,0,0,0,0,0,0,0,0,0,0,0,0,0,0,0,0,0,0,0,0,0,0,0,0,0,0,0,0,0,0,0,0,0,0,0,0,0,0,0,0,0,0,0,0,0,0,0,0,0,0,0,0,0,0,0,0,0,0,0,0,0,0,0,0,0,0,0,0,0,0,0,0,0,0,0,0,0,0,0,0,0,0,0,0]
[{"$f":"COUNT(A323:A334)","v":11},{"$f":"SUM(B323:B334)","v":0},{"$f":"SUM(C323:C334)","v":0},0,0,0,0,0,0,0,0,0,0,0,0,0,0,0,0,0,0,0,0,0,0,0,0,0,0,0,0,0,0,0,0,0,0,0,0,0,0,0,0,0,0,0,0,0,0,0,0,0,0,0,0,0,0,0,0,0,0,0,0,0,0,0,{"$f":"SUM(BO323:BO334)","v":0},0,0,0,0,0,0,0,0,0,0,0,0,0,0,0,0,0,0,0,0,0,0,0,0,0,0,0,0,0,0,0,0,0,0,0,0,0,0,0,0,0,0,0,0,0,0,0,0,0,0,0,0,0,0,0,0,0,0,0,0,0,0,0,{"$f":"SUM(EA323:EA334)","v":0},0,0,0,0,0,0,0,0,0,0,0,0,0,0,0,0,0,0,0,0,0,0,0,0,0,0,0,0,0,0,0,0,0,0,0,0,0,0,0,0,0,0,0,0,0,0,0,0,0,0,0,0,0,0,0,0,0,0,0,0,0,0,0,{"$f":"SUM(GM323:GM334)","v":0},0,0,0,0,0,0,0,0,0,0,0,0,0,0,0,0,0,0,0,0,0,0,0,0,0,0,0,0,0,0,0,0,0,0,0,0,0,0,0,0,0]
[null,{"$f":"IF(B339=B322,\"SI\",\"NO\")","v":"SI"},{"$f":"IF(C339=C322,\"SI\",\"NO\")","v":"SI"},"SI","SI","SI","SI","SI","SI","SI","SI","SI","SI","SI","SI","SI","SI","SI","SI","SI","SI","SI","SI","SI","SI","SI","SI","SI","SI","SI","SI","SI","SI","SI","SI","SI","SI","SI","SI","SI","SI","SI","SI","SI","SI","SI","SI","SI","SI","SI","SI","SI","SI","SI","SI","SI","SI","SI","SI","SI","SI","SI","SI","SI","SI","SI",{"$f":"IF(BO339=BO322,\"SI\",\"NO\")","v":"SI"},"SI","SI","SI","SI","SI","SI","SI","SI","SI","SI","SI","SI","SI","SI","SI","SI","SI","SI","SI","SI","SI","SI","SI","SI","SI","SI","SI","SI","SI","SI","SI","SI","SI","SI","SI","SI","SI","SI","SI","SI","SI","SI","SI","SI","SI","SI","SI","SI","SI","SI","SI","SI","SI","SI","SI","SI","SI","SI","SI","SI","SI","SI","SI",{"$f":"IF(EA339=EA322,\"SI\",\"NO\")","v":"SI"},"SI","SI","SI","SI","SI","SI","SI","SI","SI","SI","SI","SI","SI","SI","SI","SI","SI","SI","SI","SI","SI","SI","SI","SI","SI","SI","SI","SI","SI","SI","SI","SI","SI","SI","SI","SI","SI","SI","SI","SI","SI","SI","SI","SI","SI","SI","SI","SI","SI","SI","SI","SI","SI","SI","SI","SI","SI","SI","SI","SI","SI","SI","SI",{"$f":"IF(GM339=GM322,\"SI\",\"NO\")","v":"SI"},"SI","SI","SI","SI","SI","SI","SI","SI","SI","SI","SI","SI","SI","SI","SI","SI","SI","SI","SI","SI","SI","SI","SI","SI","SI","SI","SI","SI","SI","SI","SI","SI","SI","SI","SI","SI","SI","SI","SI","SI","SI"]
["anno",2024]
["cod_prov","(Todas)"]
["cod_eje","(Todas)"]
[1,0,0,0,0,0,0,0,0,0,0,0,0,0,0,0,0,0,0,0,0,0,0,0,0,0,0,0,0,0,0,0,0,0,0,0,0,0,0,0,0,0,0,0,0,0,0,0,0,0,0,0,0,0,0,0,0,0,0,0,0,0,0,0,0,0,0,0,0,0,0,0,0,0,0,0,0,0,0,0,0,0,0,0,0,0,0,0,0,0,0,0,0,0,0,0,0,0,0,0,0,0,0,0,0,0,0,0,0,0,0,0,0,0,0,0,0,0,0,0,0,0,0,0,0,0,0,0,0,0,0,0,0,0,0,0,0,0,0,0,0,0,0,0,0,0,0,0,0,0,0,0,0,0,0,0,0,0,0,0,0,0,0,0,0,0,0,0,0,0,0,0,0,0,0,0,0,0,0,0,0,0,0,0,0,0,0,0,0,0,0,0,0,0,0,0,0,0,0,0,0,0,0,0,0,0,0,0,0,0,0,0,0,0,0,0,0,0,0,0,0,0,0,0,0,0,0,0,0,0,0,0,0,0,0,0]
[3,0,0,0,0,0,0,0,0,0,0,0,0,0,0,0,0,0,0,0,0,0,0,0,0,0,0,0,0,0,0,0,0,0,0,0,0,0,0,0,0,0,0,0,0,0,0,0,0,0,0,0,0,0,0,0,0,0,0,0,0,0,0,0,0,0,0,0,0,0,0,0,0,0,0,0,0,0,0,0,0,0,0,0,0,0,0,0,0,0,0,0,0,0,0,0,0,0,0,0,0,0,0,0,0,0,0,0,0,0,0,0,0,0,0,0,0,0,0,0,0,0,0,0,0,0,0,0,0,0,0,0,0,0,0,0,0,0,0,0,0,0,0,0,0,0,0,0,0,0,0,0,0,0,0,0,0,0,0,0,0,0,0,0,0,0,0,0,0,0,0,0,0,0,0,0,0,0,0,0,0,0,0,0,0,0,0,0,0,0,0,0,0,0,0,0,0,0,0,0,0,0,0,0,0,0,0,0,0,0,0,0,0,0,0,0,0,0,0,0,0,0,0,0,0,0,0,0,0,0,0,0,0,0,0,0]
[4,0,0,0,0,0,0,0,0,0,0,0,0,0,0,0,0,0,0,0,0,0,0,0,0,0,0,0,0,0,0,0,0,0,0,0,0,0,0,0,0,0,0,0,0,0,0,0,0,0,0,0,0,0,0,0,0,0,0,0,0,0,0,0,0,0,0,0,0,0,0,0,0,0,0,0,0,0,0,0,0,0,0,0,0,0,0,0,0,0,0,0,0,0,0,0,0,0,0,0,0,0,0,0,0,0,0,0,0,0,0,0,0,0,0,0,0,0,0,0,0,0,0,0,0,0,0,0,0,0,0,0,0,0,0,0,0,0,0,0,0,0,0,0,0,0,0,0,0,0,0,0,0,0,0,0,0,0,0,0,0,0,0,0,0,0,0,0,0,0,0,0,0,0,0,0,0,0,0,0,0,0,0,0,0,0,0,0,0,0,0,0,0,0,0,0,0,0,0,0,0,0,0,0,0,0,0,0,0,0,0,0,0,0,0,0,0,0,0,0,0,0,0,0,0,0,0,0,0,0,0,0,0,0,0,0]
[10,0,0,0,0,0,0,0,0,0,0,0,0,0,0,0,0,0,0,0,0,0,0,0,0,0,0,0,0,0,0,0,0,0,0,0,0,0,0,0,0,0,0,0,0,0,0,0,0,0,0,0,0,0,0,0,0,0,0,0,0,0,0,0,0,0,0,0,0,0,0,0,0,0,0,0,0,0,0,0,0,0,0,0,0,0,0,0,0,0,0,0,0,0,0,0,0,0,0,0,0,0,0,0,0,0,0,0,0,0,0,0,0,0,0,0,0,0,0,0,0,0,0,0,0,0,0,0,0,0,0,0,0,0,0,0,0,0,0,0,0,0,0,0,0,0,0,0,0,0,0,0,0,0,0,0,0,0,0,0,0,0,0,0,0,0,0,0,0,0,0,0,0,0,0,0,0,0,0,0,0,0,0,0,0,0,0,0,0,0,0,0,0,0,0,0,0,0,0,0,0,0,0,0,0,0,0,0,0,0,0,0,0,0,0,0,0,0,0,0,0,0,0,0,0,0,0,0,0,0,0,0,0,0,0,0]
[7,0,0,0,0,0,0,0,0,0,0,0,0,0,0,0,0,0,0,0,0,0,0,0,0,0,0,0,0,0,0,0,0,0,0,0,0,0,0,0,0,0,0,0,0,0,0,0,0,0,0,0,0,0,0,0,0,0,0,0,0,0,0,0,0,0,0,0,0,0,0,0,0,0,0,0,0,0,0,0,0,0,0,0,0,0,0,0,0,0,0,0,0,0,0,0,0,0,0,0,0,0,0,0,0,0,0,0,0,0,0,0,0,0,0,0,0,0,0,0,0,0,0,0,0,0,0,0,0,0,0,0,0,0,0,0,0,0,0,0,0,0,0,0,0,0,0,0,0,0,0,0,0,0,0,0,0,0,0,0,0,0,0,0,0,0,0,0,0,0,0,0,0,0,0,0,0,0,0,0,0,0,0,0,0,0,0,0,0,0,0,0,0,0,0,0,0,0,0,0,0,0,0,0,0,0,0,0,0,0,0,0,0,0,0,0,0,0,0,0,0,0,0,0,0,0,0,0,0,0,0,0,0,0,0,0]
["TOTAL"]
[null," BAS001"," BAS002"," BAS003"," BAS004"," BAS005"," BAS006"," BAS007"," BAS008"," BAS009"," BAS010"," BAS011"," BAS012"," BAS013"," BAS014"," BAS015"," BAS016"," BAS017"," BAS018"," BAS019"," BAS020"," BAS021"," BAS022"," BAS023"," BAS024"," BAS025"," BAS026"," BAS027"," BAS028"," BAS029"," BAS030"," BAS031"," BAS032"," BAS033"," BAS034"," BAS035"," BAS036"," BAS037"," BAS038"," BAS039"," BAS040"," BAS041"," BAS042"," BAS043"," BAS044"," BAS045"," BAS046"," BAS047"," BAS048"," BAS049"," BAS050"," BAS051"," BAS052"," BAS053"," BAS054"," BAS055"," BAS056"," BAS057"," BAS058"," BAS059"," BAS060"," BAS061"," BAS062"," BAS063"," BAS064"," BAS065"," BAS066"," BAS067"," BAS068"," BAS069"," BAS070"," BAS071"," BAS072"," BAS073"," BAS074"," BAS075"," BAS076"," BAS077"," BAS078"," BAS079"," BAS080"," BAS081"," BAS082"," BAS083"," BAS084"," BAS085"," BAS086"," BAS087"," BAS088"," BAS089"," BAS090"," BAS091"," BAS092"," BAS093"," BAS094"," BAS095"," BAS096"," BAS097"," BAS098"," BAS099"," BAS100"," BAS101"," BAS102"," BAS103"," BAS104"," BAS105"," BAS106"," BAS107"," BAS108"," BAS109"," BAS110"," BAS111"," BAS112"," BAS113"," BAS114"," BAS115"," BAS116"," BAS117"," BAS118"," BAS119"," BAS120"," BAS121"," BAS122"," BAS123"," BAS124"," BAS125"," BAS126"," BAS127"," BAS128"," BAS129"," BAS130"," BAS131"," BAS132"," BAS133"," BAS134"," BAS135"," BAS136"," BAS137"," BAS138"," BAS139"," BAS140"," BAS141"," BAS142"," BAS143"," BAS144"," BAS145"," BAS146"," BAS147"," BAS148"," BAS149"," BAS150"," BAS151"," BAS152"," BAS153"," BAS154"," BAS155"," BAS156"," BAS157"," BAS158"," BAS159"," BAS160"," BAS161"," BAS162"," BAS163"," BAS164"," BAS165"," BAS166"," BAS167"," BAS168"," BAS169"," BAS170"," BAS171"," BAS172"," BAS173"," BAS174"," BAS175"," BAS176"," BAS177"," BAS178"," BAS179"," BAS180"," BAS181"," BAS182"," BAS183"," BAS184"," BAS185"," BAS186"," BAS187"," BAS188"," BAS189"," BAS190"," BAS191"," BAS192"," BAS193"," BAS194"," BAS195"," BAS196"," BAS197"," BAS198"," BAS199"," BAS200"," BAS201"," BAS202"," BAS203"," BAS204"," BAS205"," BAS206"," BAS207"," BAS208"," BAS209"," BAS210"," BAS211"," BAS212"," BAS213"," BAS214"," BAS215"," BAS216"," BAS217"," BAS218"," BAS219"," BAS220"," BAS221"," BAS222"," BAS223"," BAS224"," BAS225"," BAS226"," BAS227"," BAS228"," BAS229"," BAS230"," BAS231"," BAS232"," BAS233"," BAS234"," BAS235"]
["anno",2024]
["cod_prov","(Todas)"]
["cod_eje","(Todas)"]
[]
[5,0,0,0,0,0,0,0,0,0,0,0,0,0,0,0,0,0,0,0,0,0,0,0,0,0,0,0,0,0,0,0,0,0,0,0,0,0,0,0,0,0,0,0,0,0,0,0,0,0,0,0,0,0,0,0,0,0,0,0,0,0,0,0,0,0,0,0,0,0,0,0,0,0,0,0,0,0,0,0,0,0,0,0,0,0,0,0,0,0,0,0,0,0,0,0,0,0,0,0,0,0,0,0,0,0,0,0,0,0,0,0,0,0,0,0,0,0,0,0,0,0,0,0,0,0,0,0,0,0,0,0,0,0,0,0,0,0,0,0,0,0,0,0,0,0,0,0,0,0,0,0,0,0,0,0,0,0,0,0,0,0,0,0,0,0,0,0,0,0,0,0,0,0,0,0,0,0,0,0,0,0,0,0,0,0,0,0,0,0,0,0,0,0,0,0,0,0,0,0,0,0,0,0,0,0,0,0,0,0,0,0,0,0,0,0,0,0,0,0,0,0,0,0,0,0,0,0,0,0,0,0,0,0,0,0]
[2,0,0,0,0,0,0,0,0,0,0,0,0,0,0,0,0,0,0,0,0,0,0,0,0,0,0,0,0,0,0,0,0,0,0,0,0,0,0,0,0,0,0,0,0,0,0,0,0,0,0,0,0,0,0,0,0,0,0,0,0,0,0,0,0,0,0,0,0,0,0,0,0,0,0,0,0,0,0,0,0,0,0,0,0,0,0,0,0,0,0,0,0,0,0,0,0,0,0,0,0,0,0,0,0,0,0,0,0,0,0,0,0,0,0,0,0,0,0,0,0,0,0,0,0,0,0,0,0,0,0,0,0,0,0,0,0,0,0,0,0,0,0,0,0,0,0,0,0,0,0,0,0,0,0,0,0,0,0,0,0,0,0,0,0,0,0,0,0,0,0,0,0,0,0,0,0,0,0,0,0,0,0,0,0,0,0,0,0,0,0,0,0,0,0,0,0,0,0,0,0,0,0,0,0,0,0,0,0,0,0,0,0,0,0,0,0,0,0,0,0,0,0,0,0,0,0,0,0,0,0,0,0,0,0,0]
[11,0,0,0,0,0,0,0,0,0,0,0,0,0,0,0,0,0,0,0,0,0,0,0,0,0,0,0,0,0,0,0,0,0,0,0,0,0,0,0,0,0,0,0,0,0,0,0,0,0,0,0,0,0,0,0,0,0,0,0,0,0,0,0,0,0,0,0,0,0,0,0,0,0,0,0,0,0,0,0,0,0,0,0,0,0,0,0,0,0,0,0,0,0,0,0,0,0,0,0,0,0,0,0,0,0,0,0,0,0,0,0,0,0,0,0,0,0,0,0,0,0,0,0,0,0,0,0,0,0,0,0,0,0,0,0,0,0,0,0,0,0,0,0,0,0,0,0,0,0,0,0,0,0,0,0,0,0,0,0,0,0,0,0,0,0,0,0,0,0,0,0,0,0,0,0,0,0,0,0,0,0,0,0,0,0,0,0,0,0,0,0,0,0,0,0,0,0,0,0,0,0,0,0,0,0,0,0,0,0,0,0,0,0,0,0,0,0,0,0,0,0,0,0,0,0,0,0,0,0,0,0,0,0,0,0]
[8,0,0,0,0,0,0,0,0,0,0,0,0,0,0,0,0,0,0,0,0,0,0,0,0,0,0,0,0,0,0,0,0,0,0,0,0,0,0,0,0,0,0,0,0,0,0,0,0,0,0,0,0,0,0,0,0,0,0,0,0,0,0,0,0,0,0,0,0,0,0,0,0,0,0,0,0,0,0,0,0,0,0,0,0,0,0,0,0,0,0,0,0,0,0,0,0,0,0,0,0,0,0,0,0,0,0,0,0,0,0,0,0,0,0,0,0,0,0,0,0,0,0,0,0,0,0,0,0,0,0,0,0,0,0,0,0,0,0,0,0,0,0,0,0,0,0,0,0,0,0,0,0,0,0,0,0,0,0,0,0,0,0,0,0,0,0,0,0,0,0,0,0,0,0,0,0,0,0,0,0,0,0,0,0,0,0,0,0,0,0,0,0,0,0,0,0,0,0,0,0,0,0,0,0,0,0,0,0,0,0,0,0,0,0,0,0,0,0,0,0,0,0,0,0,0,0,0,0,0,0,0,0,0,0,0]
["TOTAL"]
[null," BAS001"," BAS002"," BAS003"," BAS004"," BAS005"," BAS006"," BAS007"," BAS008"," BAS009"," BAS010"," BAS011"," BAS012"," BAS013"," BAS014"," BAS015"," BAS016"," BAS017"," BAS018"," BAS019"," BAS020"," BAS021"," BAS022"," BAS023"," BAS024"," BAS025"," BAS026"," BAS027"," BAS028"," BAS029"," BAS030"," BAS031"," BAS032"," BAS033"," BAS034"," BAS035"," BAS036"," BAS037"," BAS038"," BAS039"," BAS040"," BAS041"," BAS042"," BAS043"," BAS044"," BAS045"," BAS046"," BAS047"," BAS048"," BAS049"," BAS050"," BAS051"," BAS052"," BAS053"," BAS054"," BAS055"," BAS056"," BAS057"," BAS058"," BAS059"," BAS060"," BAS061"," BAS062"," BAS063"," BAS064"," BAS065"," BAS066"," BAS067"," BAS068"," BAS069"," BAS070"," BAS071"," BAS072"," BAS073"," BAS074"," BAS075"," BAS076"," BAS077"," BAS078"," BAS079"," BAS080"," BAS081"," BAS082"," BAS083"," BAS084"," BAS085"," BAS086"," BAS087"," BAS088"," BAS089"," BAS090"," BAS091"," BAS092"," BAS093"," BAS094"," BAS095"," BAS096"," BAS097"," BAS098"," BAS099"," BAS100"," BAS101"," BAS102"," BAS103"," BAS104"," BAS105"," BAS106"," BAS107"," BAS108"," BAS109"," BAS110"," BAS111"," BAS112"," BAS113"," BAS114"," BAS115"," BAS116"," BAS117"," BAS118"," BAS119"," BAS120"," BAS121"," BAS122"," BAS123"," BAS124"," BAS125"," BAS126"," BAS127"," BAS128"," BAS129"," BAS130"," BAS131"," BAS132"," BAS133"," BAS134"," BAS135"," BAS136"," BAS137"," BAS138"," BAS139"," BAS140"," BAS141"," BAS142"," BAS143"," BAS144"," BAS145"," BAS146"," BAS147"," BAS148"," BAS149"," BAS150"," BAS151"," BAS152"," BAS153"," BAS154"," BAS155"," BAS156"," BAS157"," BAS158"," BAS159"," BAS160"," BAS161"," BAS162"," BAS163"," BAS164"," BAS165"," BAS166"," BAS167"," BAS168"," BAS169"," BAS170"," BAS171"," BAS172"," BAS173"," BAS174"," BAS175"," BAS176"," BAS177"," BAS178"," BAS179"," BAS180"," BAS181"," BAS182"," BAS183"," BAS184"," BAS185"," BAS186"," BAS187"," BAS188"," BAS189"," BAS190"," BAS191"," BAS192"," BAS193"," BAS194"," BAS195"," BAS196"," BAS197"," BAS198"," BAS199"," BAS200"," BAS201"," BAS202"," BAS203"," BAS204"," BAS205"," BAS206"," BAS207"," BAS208"," BAS209"," BAS210"," BAS211"," BAS212"," BAS213"," BAS214"," BAS215"," BAS216"," BAS217"," BAS218"," BAS219"," BAS220"," BAS221"," BAS222"," BAS223"," BAS224"," BAS225"," BAS226"," BAS227"," BAS228"," BAS229"," BAS230"," BAS231"," BAS232"," BAS233"," BAS234"," BAS235"]
["AB332007"]
["anno",2024]
["coddist","(Todas)"]
["cod_eje","(Todas)"]
["Etiquetas de fila"," BAS001"," BAS002"," BAS003"," BAS004"," BAS005"," BAS006"," BAS007"," BAS008"," BAS009"," BAS010"," BAS011"," BAS012"," BAS013"," BAS014"," BAS015"," BAS016"," BAS017"," BAS018"," BAS019"," BAS020"," BAS021"," BAS022"," BAS023"," BAS024"," BAS025"," BAS026"," BAS027"," BAS028"," BAS029"," BAS030"," BAS031"," BAS032"," BAS033"," BAS034"," BAS035"," BAS036"," BAS037"," BAS038"," BAS039"," BAS040"," BAS041"," BAS042"," BAS043"," BAS044"," BAS045"," BAS046"," BAS047"," BAS048"," BAS049"," BAS050"," BAS051"," BAS052"," BAS053"," BAS054"," BAS055"," BAS056"," BAS057"," BAS058"," BAS059"," BAS060"," BAS061"," BAS062"," BAS063"," BAS064"," BAS065"," BAS066"," BAS067"," BAS068"," BAS069"," BAS070"," BAS071"," BAS072"," BAS073"," BAS074"," BAS075"," BAS076"," BAS077"," BAS078"," BAS079"," BAS080"," BAS081"," BAS082"," BAS083"," BAS084"," BAS085"," BAS086"," BAS087"," BAS088"," BAS089"," BAS090"," BAS091"," BAS092"," BAS093"," BAS094"," BAS095"," BAS096"," BAS097"," BAS098"," BAS099"," BAS100"," BAS101"," BAS102"," BAS103"," BAS104"," BAS105"," BAS106"," BAS107"," BAS108"," BAS109"," BAS110"," BAS111"," BAS112"," BAS113"," BAS114"," BAS115"," BAS116"," BAS117"," BAS118"," BAS119"," BAS120"," BAS121"," BAS122"," BAS123"," BAS124"," BAS125"," BAS126"," BAS127"," BAS128"," BAS129"," BAS130"," BAS131"," BAS132"," BAS133"," BAS134"," BAS135"," BAS136"," BAS137"," BAS138"," BAS139"," BAS140"," BAS141"," BAS142"," BAS143"," BAS144"," BAS145"," BAS146"," BAS147"," BAS148"," BAS149"," BAS150"," BAS151"," BAS152"," BAS153"," BAS154"," BAS155"," BAS156"," BAS157"," BAS158"," BAS159"," BAS160"," BAS161"," BAS162"," BAS163"," BAS164"," BAS165"," BAS166"," BAS167"," BAS168"," BAS169"," BAS170"," BAS171"," BAS172"," BAS173"," BAS174"," BAS175"," BAS176"," BAS177"," BAS178"," BAS179"," BAS180"," BAS181"," BAS182"," BAS183"," BAS184"," BAS185"," BAS186"," BAS187"," BAS188"," BAS189"," BAS190"," BAS191"," BAS192"," BAS193"," BAS194"," BAS195"," BAS196"," BAS197"," BAS198"," BAS199"," BAS200"," BAS201"," BAS202"," BAS203"," BAS204"," BAS205"," BAS206"," BAS207"," BAS208"," BAS209"," BAS210"," BAS211"," BAS212"," BAS213"," BAS214"," BAS215"," BAS216"," BAS217"," BAS218"," BAS219"," BAS220"," BAS221"," BAS222"," BAS223"," BAS224"," BAS225"," BAS226"," BAS227"," BAS228"," BAS229"," BAS230"," BAS231"," BAS232"," BAS233"," BAS234"," BAS235"]
[2,0,0,0,0,0,0,0,0,0,0,0,0,0,0,0,0,0,0,0,0,0,0,0,0,0,0,0,0,0,0,0,0,0,0,0,0,0,0,0,0,0,0,0,0,0,0,0,0,0,0,0,0,0,0,0,0,0,0,0,0,0,0,0,0,0,0,0,0,0,0,0,0,0,0,0,0,0,0,0,0,0,0,0,0,0,0,0,0,0,0,0,0,0,0,0,0,0,0,0,0,0,0,0,0,0,0,0,0,0,0,0,0,0,0,0,0,0,0,0,0,0,0,0,0,0,0,0,0,0,0,0,0,0,0,0,0,0,0,0,0,0,0,0,0,0,0,0,0,0,0,0,0,0,0,0,0,0,0,0,0,0,0,0,0,0,0,0,0,0,0,0,0,0,0,0,0,0,0,0,0,0,0,0,0,0,0,0,0,0,0,0,0,0,0,0,0,0,0,0,0,0,0,0,0,0,0,0,0,0,0,0,0,0,0,0,0,0,0,0,0,0,0,0,0,0,0,0,0,0,0,0,0,0,0,0]
[11,0,0,0,0,0,0,0,0,0,0,0,0,0,0,0,0,0,0,0,0,0,0,0,0,0,0,0,0,0,0,0,0,0,0,0,0,0,0,0,0,0,0,0,0,0,0,0,0,0,0,0,0,0,0,0,0,0,0,0,0,0,0,0,0,0,0,0,0,0,0,0,0,0,0,0,0,0,0,0,0,0,0,0,0,0,0,0,0,0,0,0,0,0,0,0,0,0,0,0,0,0,0,0,0,0,0,0,0,0,0,0,0,0,0,0,0,0,0,0,0,0,0,0,0,0,0,0,0,0,0,0,0,0,0,0,0,0,0,0,0,0,0,0,0,0,0,0,0,0,0,0,0,0,0,0,0,0,0,0,0,0,0,0,0,0,0,0,0,0,0,0,0,0,0,0,0,0,0,0,0,0,0,0,0,0,0,0,0,0,0,0,0,0,0,0,0,0,0,0,0,0,0,0,0,0,0,0,0,0,0,0,0,0,0,0,0,0,0,0,0,0,0,0,0,0,0,0,0,0,0,0,0,0,0,0]
[8,0,0,0,0,0,0,0,0,0,0,0,0,0,0,0,0,0,0,0,0,0,0,0,0,0,0,0,0,0,0,0,0,0,0,0,0,0,0,0,0,0,0,0,0,0,0,0,0,0,0,0,0,0,0,0,0,0,0,0,0,0,0,0,0,0,0,0,0,0,0,0,0,0,0,0,0,0,0,0,0,0,0,0,0,0,0,0,0,0,0,0,0,0,0,0,0,0,0,0,0,0,0,0,0,0,0,0,0,0,0,0,0,0,0,0,0,0,0,0,0,0,0,0,0,0,0,0,0,0,0,0,0,0,0,0,0,0,0,0,0,0,0,0,0,0,0,0,0,0,0,0,0,0,0,0,0,0,0,0,0,0,0,0,0,0,0,0,0,0,0,0,0,0,0,0,0,0,0,0,0,0,0,0,0,0,0,0,0,0,0,0,0,0,0,0,0,0,0,0,0,0,0,0,0,0,0,0,0,0,0,0,0,0,0,0,0,0,0,0,0,0,0,0,0,0,0,0,0,0,0,0,0,0,0,0]
[]
["TOTAL"]
[null,{"$f":"IF(B429=B412,\"SI\",\"NO\")","v":"SI"},{"$f":"IF(C429=C412,\"SI\",\"NO\")","v":"SI"},"SI","SI","SI","SI","SI","SI","SI","SI","SI","SI","SI","SI","SI","SI","SI","SI","SI","SI","SI","SI","SI","SI","SI","SI","SI","SI","SI","SI","SI","SI","SI","SI","SI","SI","SI","SI","SI","SI","SI","SI","SI","SI","SI","SI","SI","SI","SI","SI","SI","SI","SI","SI","SI","SI","SI","SI","SI","SI","SI","SI","SI","SI","SI",{"$f":"IF(BO429=BO412,\"SI\",\"NO\")","v":"SI"},"SI","SI","SI","SI","SI","SI","SI","SI","SI","SI","SI","SI","SI","SI","SI","SI","SI","SI","SI","SI","SI","SI","SI","SI","SI","SI","SI","SI","SI","SI","SI","SI","SI","SI","SI","SI","SI","SI","SI","SI","SI","SI","SI","SI","SI","SI","SI","SI","SI","SI","SI","SI","SI","SI","SI","SI","SI","SI","SI","SI","SI","SI","SI",{"$f":"IF(EA429=EA412,\"SI\",\"NO\")","v":"SI"},"SI","SI","SI","SI","SI","SI","SI","SI","SI","SI","SI","SI","SI","SI","SI","SI","SI","SI","SI","SI","SI","SI","SI","SI","SI","SI","SI","SI","SI","SI","SI","SI","SI","SI","SI","SI","SI","SI","SI","SI","SI","SI","SI","SI","SI","SI","SI","SI","SI","SI","SI","SI","SI","SI","SI","SI","SI","SI","SI","SI","SI","SI","SI",{"$f":"IF(GM429=GM412,\"SI\",\"NO\")","v":"SI"},"SI","SI","SI","SI","SI","SI","SI","SI","SI","SI","SI","SI","SI","SI","SI","SI","SI","SI","SI","SI","SI","SI","SI","SI","SI","SI","SI","SI","SI","SI","SI","SI","SI","SI","SI","SI","SI","SI","SI","SI","SI"]
["AB342007"]
["codmic","(Todas)"]
["cod_estab","(Todas)"]
["Etiquetas de fila"," BAS001"," BAS002"," BAS003"," BAS004"," BAS005"," BAS006"," BAS007"," BAS008"," BAS009"," BAS010"," BAS011"," BAS012"," BAS013"," BAS014"," BAS015"," BAS016"," BAS017"," BAS018"," BAS019"," BAS020"," BAS021"," BAS022"," BAS023"," BAS024"," BAS025"," BAS026"," BAS027"," BAS028"," BAS029"," BAS030"," BAS031"," BAS032"," BAS033"," BAS034"," BAS035"," BAS036"," BAS037"," BAS038"," BAS039"," BAS040"," BAS041"," BAS042"," BAS043"," BAS044"," BAS045"," BAS046"," BAS047"," BAS048"," BAS049"," BAS050"," BAS051"," BAS052"," BAS053"," BAS054"," BAS055"," BAS056"," BAS057"," BAS058"," BAS059"," BAS060"," BAS061"," BAS062"," BAS063"," BAS064"," BAS065"," BAS066"," BAS067"," BAS068"," BAS069"," BAS070"," BAS071"," BAS072"," BAS073"," BAS074"," BAS075"," BAS076"," BAS077"," BAS078"," BAS079"," BAS080"," BAS081"," BAS082"," BAS083"," BAS084"," BAS085"," BAS086"," BAS087"," BAS088"," BAS089"," BAS090"," BAS091"," BAS092"," BAS093"," BAS094"," BAS095"," BAS096"," BAS097"," BAS098"," BAS099"," BAS100"," BAS101"," BAS102"," BAS103"," BAS104"," BAS105"," BAS106"," BAS107"," BAS108"," BAS109"," BAS110"," BAS111"," BAS112"," BAS113"," BAS114"," BAS115"," BAS116"," BAS117"," BAS118"," BAS119"," BAS120"," BAS121"," BAS122"," BAS123"," BAS124"," BAS125"," BAS126"," BAS127"," BAS128"," BAS129"," BAS130"," BAS131"," BAS132"," BAS133"," BAS134"," BAS135"," BAS136"," BAS137"," BAS138"," BAS139"," BAS140"," BAS141"," BAS142"," BAS143"," BAS144"," BAS145"," BAS146"," BAS147"," BAS148"," BAS149"," BAS150"," BAS151"," BAS152"," BAS153"," BAS154"," BAS155"," BAS156"," BAS157"," BAS158"," BAS159"," BAS160"," BAS161"," BAS162"," BAS163"," BAS164"," BAS165"," BAS166"," BAS167"," BAS168"," BAS169"," BAS170"," BAS171"," BAS172"," BAS173"," BAS174"," BAS175"," BAS176"," BAS177"," BAS178"," BAS179"," BAS180"," BAS181"," BAS182"," BAS183"," BAS184"," BAS185"," BAS186"," BAS187"," BAS188"," BAS189"," BAS190"," BAS191"," BAS192"," BAS193"," BAS194"," BAS195"," BAS196"," BAS197"," BAS198"," BAS199"," BAS200"," BAS201"," BAS202"," BAS203"," BAS204"," BAS205"," BAS206"," BAS207"," BAS208"," BAS209"," BAS210"," BAS211"," BAS212"," BAS213"," BAS214"," BAS215"," BAS216"," BAS217"," BAS218"," BAS219"," BAS220"," BAS221"," BAS222"," BAS223"," BAS224"," BAS225"," BAS226"," BAS227"," BAS228"," BAS229"," BAS230"," BAS231"," BAS232"," BAS233"," BAS234"," BAS235"]
[2,0,0,0,0,0,0,0,0,0,0,0,0,0,0,0,0,0,0,0,0,0,0,0,0,0,0,0,0,0,0,0,0,0,0,0,0,0,0,0,0,0,0,0,0,0,0,0,0,0,0,0,0,0,0,0,0,0,0,0,0,0,0,0,0,0,0,0,0,0,0,0,0,0,0,0,0,0,0,0,0,0,0,0,0,0,0,0,0,0,0,0,0,0,0,0,0,0,0,0,0,0,0,0,0,0,0,0,0,0,0,0,0,0,0,0,0,0,0,0,0,0,0,0,0,0,0,0,0,0,0,0,0,0,0,0,0,0,0,0,0,0,0,0,0,0,0,0,0,0,0,0,0,0,0,0,0,0,0,0,0,0,0,0,0,0,0,0,0,0,0,0,0,0,0,0,0,0,0,0,0,0,0,0,0,0,0,0,0,0,0,0,0,0,0,0,0,0,0,0,0,0,0,0,0,0,0,0,0,0,0,0,0,0,0,0,0,0,0,0,0,0,0,0,0,0,0,0,0,0,0,0,0,0,0,0]
[6,0,0,0,0,0,0,0,0,0,0,0,0,0,0,0,0,0,0,0,0,0,0,0,0,0,0,0,0,0,0,0,0,0,0,0,0,0,0,0,0,0,0,0,0,0,0,0,0,0,0,0,0,0,0,0,0,0,0,0,0,0,0,0,0,0,0,0,0,0,0,0,0,0,0,0,0,0,0,0,0,0,0,0,0,0,0,0,0,0,0,0,0,0,0,0,0,0,0,0,0,0,0,0,0,0,0,0,0,0,0,0,0,0,0,0,0,0,0,0,0,0,0,0,0,0,0,0,0,0,0,0,0,0,0,0,0,0,0,0,0,0,0,0,0,0,0,0,0,0,0,0,0,0,0,0,0,0,0,0,0,0,0,0,0,0,0,0,0,0,0,0,0,0,0,0,0,0,0,0,0,0,0,0,0,0,0,0,0,0,0,0,0,0,0,0,0,0,0,0,0,0,0,0,0,0,0,0,0,0,0,0,0,0,0,0,0,0,0,0,0,0,0,0,0,0,0,0,0,0,0,0,0,0,0,0]
[11,0,0,0,0,0,0,0,0,0,0,0,0,0,0,0,0,0,0,0,0,0,0,0,0,0,0,0,0,0,0,0,0,0,0,0,0,0,0,0,0,0,0,0,0,0,0,0,0,0,0,0,0,0,0,0,0,0,0,0,0,0,0,0,0,0,0,0,0,0,0,0,0,0,0,0,0,0,0,0,0,0,0,0,0,0,0,0,0,0,0,0,0,0,0,0,0,0,0,0,0,0,0,0,0,0,0,0,0,0,0,0,0,0,0,0,0,0,0,0,0,0,0,0,0,0,0,0,0,0,0,0,0,0,0,0,0,0,0,0,0,0,0,0,0,0,0,0,0,0,0,0,0,0,0,0,0,0,0,0,0,0,0,0,0,0,0,0,0,0,0,0,0,0,0,0,0,0,0,0,0,0,0,0,0,0,0,0,0,0,0,0,0,0,0,0,0,0,0,0,0,0,0,0,0,0,0,0,0,0,0,0,0,0,0,0,0,0,0,0,0,0,0,0,0,0,0,0,0,0,0,0,0,0,0,0]
[7,0,0,0,0,0,0,0,0,0,0,0,0,0,0,0,0,0,0,0,0,0,0,0,0,0,0,0,0,0,0,0,0,0,0,0,0,0,0,0,0,0,0,0,0,0,0,0,0,0,0,0,0,0,0,0,0,0,0,0,0,0,0,0,0,0,0,0,0,0,0,0,0,0,0,0,0,0,0,0,0,0,0,0,0,0,0,0,0,0,0,0,0,0,0,0,0,0,0,0,0,0,0,0,0,0,0,0,0,0,0,0,0,0,0,0,0,0,0,0,0,0,0,0,0,0,0,0,0,0,0,0,0,0,0,0,0,0,0,0,0,0,0,0,0,0,0,0,0,0,0,0,0,0,0,0,0,0,0,0,0,0,0,0,0,0,0,0,0,0,0,0,0,0,0,0,0,0,0,0,0,0,0,0,0,0,0,0,0,0,0,0,0,0,0,0,0,0,0,0,0,0,0,0,0,0,0,0,0,0,0,0,0,0,0,0,0,0,0,0,0,0,0,0,0,0,0,0,0,0,0,0,0,0,0,0]
[]
[{"$f":"CONCATENATE(A443,\"-\",A444,\"-\",A445,\"-\",A446,\"-\",A447,\"-\",A448,\"-\",A449,\"-\",A450,\"-\",A451,\"-\",A452,\"-\",A453,\"-\",A454)","v":"1-5-2-3-4-6-11-10-9-8-7-Total general"}]
[]
["codmic","(Todas)"]
["cod_estab","(Todas)"]
["cod_eje","(Todas)"]
["Etiquetas de fila"," BAS001"," BAS002"," BAS003"," BAS004"," BAS005"," BAS006"," BAS007"," BAS008"," BAS009"," BAS010"," BAS011"," BAS012"," BAS013"," BAS014"," BAS015"," BAS016"," BAS017"," BAS018"," BAS019"," BAS020"," BAS021"," BAS022"," BAS023"," BAS024"," BAS025"," BAS026"," BAS027"," BAS028"," BAS029"," BAS030"," BAS031"," BAS032"," BAS033"," BAS034"," BAS035"," BAS036"," BAS037"," BAS038"," BAS039"," BAS040"," BAS041"," BAS042"," BAS043"," BAS044"," BAS045"," BAS046"," BAS047"," BAS048"," BAS049"," BAS050"," BAS051"," BAS052"," BAS053"," BAS054"," BAS055"," BAS056"," BAS057"," BAS058"," BAS059"," BAS060"," BAS061"," BAS062"," BAS063"," BAS064"," BAS065"," BAS066"," BAS067"," BAS068"," BAS069"," BAS070"," BAS071"," BAS072"," BAS073"," BAS074"," BAS075"," BAS076"," BAS077"," BAS078"," BAS079"," BAS080"," BAS081"," BAS082"," BAS083"," BAS084"," BAS085"," BAS086"," BAS087"," BAS088"," BAS089"," BAS090"," BAS091"," BAS092"," BAS093"," BAS094"," BAS095"," BAS096"," BAS097"," BAS098"," BAS099"," BAS100"," BAS101"," BAS102"," BAS103"," BAS104"," BAS105"," BAS106"," BAS107"," BAS108"," BAS109"," BAS110"," BAS111"," BAS112"," BAS113"," BAS114"," BAS115"," BAS116"," BAS117"," BAS118"," BAS119"," BAS120"," BAS121"," BAS122"," BAS123"," BAS124"," BAS125"," BAS126"," BAS127"," BAS128"," BAS129"," BAS130"," BAS131"," BAS132"," BAS133"," BAS134"," BAS135"," BAS136"," BAS137"," BAS138"," BAS139"," BAS140"," BAS141"," BAS142"," BAS143"," BAS144"," BAS145"," BAS146"," BAS147"," BAS148"," BAS149"," BAS150"," BAS151"," BAS152"," BAS153"," BAS154"," BAS155"," BAS156"," BAS157"," BAS158"," BAS159"," BAS160"," BAS161"," BAS162"," BAS163"," BAS164"," BAS165"," BAS166"," BAS167"," BAS168"," BAS169"," BAS170"," BAS171"," BAS172"," BAS173"," BAS174"," BAS175"," BAS176"," BAS177"," BAS178"," BAS179"," BAS180"," BAS181"," BAS182"," BAS183"," BAS184"," BAS185"," BAS186"," BAS187"," BAS188"," BAS189"," BAS190"," BAS191"," BAS192"," BAS193"," BAS194"," BAS195"," BAS196"," BAS197"," BAS198"," BAS199"," BAS200"," BAS201"," BAS202"," BAS203"," BAS204"," BAS205"," BAS206"," BAS207"," BAS208"," BAS209"," BAS210"," BAS211"," BAS212"," BAS213"," BAS214"," BAS215"," BAS216"," BAS217"," BAS218"," BAS219"," BAS220"," BAS221"," BAS222"," BAS223"," BAS224"," BAS225"," BAS226"," BAS227"," BAS228"," BAS229"," BAS230"," BAS231"," BAS232"," BAS233"," BAS234"," BAS235"]
[3,0,0,0,0,0,0,0,0,0,0,0,0,0,0,0,0,0,0,0,0,0,0,0,0,0,0,0,0,0,0,0,0,0,0,0,0,0,0,0,0,0,0,0,0,0,0,0,0,0,0,0,0,0,0,0,0,0,0,0,0,0,0,0,0,0,0,0,0,0,0,0,0,0,0,0,0,0,0,0,0,0,0,0,0,0,0,0,0,0,0,0,0,0,0,0,0,0,0,0,0,0,0,0,0,0,0,0,0,0,0,0,0,0,0,0,0,0,0,0,0,0,0,0,0,0,0,0,0,0,0,0,0,0,0,0,0,0,0,0,0,0,0,0,0,0,0,0,0,0,0,0,0,0,0,0,0,0,0,0,0,0,0,0,0,0,0,0,0,0,0,0,0,0,0,0,0,0,0,0,0,0,0,0,0,0,0,0,0,0,0,0,0,0,0,0,0,0,0,0,0,0,0,0,0,0,0,0,0,0,0,0,0,0,0,0,0,0,0,0,0,0,0,0,0,0,0,0,0,0,0,0,0,0,0,0]
[6,0,0,0,0,0,0,0,0,0,0,0,0,0,0,0,0,0,0,0,0,0,0,0,0,0,0,0,0,0,0,0,0,0,0,0,0,0,0,0,0,0,0,0,0,0,0,0,0,0,0,0,0,0,0,0,0,0,0,0,0,0,0,0,0,0,0,0,0,0,0,0,0,0,0,0,0,0,0,0,0,0,0,0,0,0,0,0,0,0,0,0,0,0,0,0,0,0,0,0,0,0,0,0,0,0,0,0,0,0,0,0,0,0,0,0,0,0,0,0,0,0,0,0,0,0,0,0,0,0,0,0,0,0,0,0,0,0,0,0,0,0,0,0,0,0,0,0,0,0,0,0,0,0,0,0,0,0,0,0,0,0,0,0,0,0,0,0,0,0,0,0,0,0,0,0,0,0,0,0,0,0,0,0,0,0,0,0,0,0,0,0,0,0,0,0,0,0,0,0,0,0,0,0,0,0,0,0,0,0,0,0,0,0,0,0,0,0,0,0,0,0,0,0,0,0,0,0,0,0,0,0,0,0,0,0]
[9,0,0,0,0,0,0,0,0,0,0,0,0,0,0,0,0,0,0,0,0,0,0,0,0,0,0,0,0,0,0,0,0,0,0,0,0,0,0,0,0,0,0,0,0,0,0,0,0,0,0,0,0,0,0,0,0,0,0,0,0,0,0,0,0,0,0,0,0,0,0,0,0,0,0,0,0,0,0,0,0,0,0,0,0,0,0,0,0,0,0,0,0,0,0,0,0,0,0,0,0,0,0,0,0,0,0,0,0,0,0,0,0,0,0,0,0,0,0,0,0,0,0,0,0,0,0,0,0,0,0,0,0,0,0,0,0,0,0,0,0,0,0,0,0,0,0,0,0,0,0,0,0,0,0,0,0,0,0,0,0,0,0,0,0,0,0,0,0,0,0,0,0,0,0,0,0,0,0,0,0,0,0,0,0,0,0,0,0,0,0,0,0,0,0,0,0,0,0,0,0,0,0,0,0,0,0,0,0,0,0,0,0,0,0,0,0,0,0,0,0,0,0,0,0,0,0,0,0,0,0,0,0,0,0,0]
["Total general",0,0,0,0,0,0,0,0,0,0,0,0,0,0,0,0,0,0,0,0,0,0,0,0,0,0,0,0,0,0,0,0,0,0,0,0,0,0,0,0,0,0,0,0,0,0,0,0,0,0,0,0,0,0,0,0,0,0,0,0,0,0,0,0,0,0,0,0,0,0,0,0,0,0,0,0,0,0,0,0,0,0,0,0,0,0,0,0,0,0,0,0,0,0,0,0,0,0,0,0,0,0,0,0,0,0,0,0,0,0,0,0,0,0,0,0,0,0,0,0,0,0,0,0,0,0,0,0,0,0,0,0,0,0,0,0,0,0,0,0,0,0,0,0,0,0,0,0,0,0,0,0,0,0,0,0,0,0,0,0,0,0,0,0,0,0,0,0,0,0,0,0,0,0,0,0,0,0,0,0,0,0,0,0,0,0,0,0,0,0,0,0,0,0,0,0,0,0,0,0,0,0,0,0,0,0,0,0,0,0,0,0,0,0,0,0,0,0,0,0,0,0,0,0,0,0,0,0,0,0,0,0,0,0,0]
[{"$f":"CONCATENATE(A473,\"-\",A474,\"-\",A475,\"-\",A476,\"-\",A477,\"-\",A478,\"-\",A479,\"-\",A480,\"-\",A481,\"-\",A482,\"-\",A483,\"-\",A484)","v":"1-5-2-3-4-6-11-10-9-8-7-Total general"}]
[]
["AB412007"]
["codmic","(Todas)"]
["coddist","(Todas)"]
[null,"Valores"]
[5,0,0,0,0,0,0,0,0,0,0,0,0,0,0,0,0,0,0,0,0,0,0,0,0,0,0,0,0,0,0,0,0,0,0,0,0,0,0,0,0,0,0,0,0,0,0,0,0,0,0,0,0,0,0,0,0,0,0,0,0,0,0,0,0,0,0,0,0,0,0,0,0,0,0,0,0,0,0,0,0,0,0,0,0,0,0,0,0,0,0,0,0,0,0,0,0,0,0,0,0,0,0,0,0,0,0,0,0,0,0,0,0,0,0,0,0,0,0,0,0,0,0,0,0,0,0,0,0,0,0,0,0,0,0,0,0,0,0,0,0,0,0,0,0,0,0,0,0,0,0,0,0,0,0,0,0,0,0,0,0,0,0,0,0,0,0,0,0,0,0,0,0,0,0,0,0,0,0,0,0,0,0,0,0,0,0,0,0,0,0,0,0,0,0,0,0,0,0,0,0,0,0,0,0,0,0,0,0,0,0,0,0,0,0,0,0,0,0,0,0,0,0,0,0,0,0,0,0,0,0,0,0,0,0,0]
[4,0,0,0,0,0,0,0,0,0,0,0,0,0,0,0,0,0,0,0,0,0,0,0,0,0,0,0,0,0,0,0,0,0,0,0,0,0,0,0,0,0,0,0,0,0,0,0,0,0,0,0,0,0,0,0,0,0,0,0,0,0,0,0,0,0,0,0,0,0,0,0,0,0,0,0,0,0,0,0,0,0,0,0,0,0,0,0,0,0,0,0,0,0,0,0,0,0,0,0,0,0,0,0,0,0,0,0,0,0,0,0,0,0,0,0,0,0,0,0,0,0,0,0,0,0,0,0,0,0,0,0,0,0,0,0,0,0,0,0,0,0,0,0,0,0,0,0,0,0,0,0,0,0,0,0,0,0,0,0,0,0,0,0,0,0,0,0,0,0,0,0,0,0,0,0,0,0,0,0,0,0,0,0,0,0,0,0,0,0,0,0,0,0,0,0,0,0,0,0,0,0,0,0,0,0,0,0,0,0,0,0,0,0,0,0,0,0,0,0,0,0,0,0,0,0,0,0,0,0,0,0,0,0,0,0]
[9,0,0,0,0,0,0,0,0,0,0,0,0,0,0,0,0,0,0,0,0,0,0,0,0,0,0,0,0,0,0,0,0,0,0,0,0,0,0,0,0,0,0,0,0,0,0,0,0,0,0,0,0,0,0,0,0,0,0,0,0,0,0,0,0,0,0,0,0,0,0,0,0,0,0,0,0,0,0,0,0,0,0,0,0,0,0,0,0,0,0,0,0,0,0,0,0,0,0,0,0,0,0,0,0,0,0,0,0,0,0,0,0,0,0,0,0,0,0,0,0,0,0,0,0,0,0,0,0,0,0,0,0,0,0,0,0,0,0,0,0,0,0,0,0,0,0,0,0,0,0,0,0,0,0,0,0,0,0,0,0,0,0,0,0,0,0,0,0,0,0,0,0,0,0,0,0,0,0,0,0,0,0,0,0,0,0,0,0,0,0,0,0,0,0,0,0,0,0,0,0,0,0,0,0,0,0,0,0,0,0,0,0,0,0,0,0,0,0,0,0,0,0,0,0,0,0,0,0,0,0,0,0,0,0,0]
["Total general",0,0,0,0,0,0,0,0,0,0,0,0,0,0,0,0,0,0,0,0,0,0,0,0,0,0,0,0,0,0,0,0,0,0,0,0,0,0,0,0,0,0,0,0,0,0,0,0,0,0,0,0,0,0,0,0,0,0,0,0,0,0,0,0,0,0,0,0,0,0,0,0,0,0,0,0,0,0,0,0,0,0,0,0,0,0,0,0,0,0,0,0,0,0,0,0,0,0,0,0,0,0,0,0,0,0,0,0,0,0,0,0,0,0,0,0,0,0,0,0,0,0,0,0,0,0,0,0,0,0,0,0,0,0,0,0,0,0,0,0,0,0,0,0,0,0,0,0,0,0,0,0,0,0,0,0,0,0,0,0,0,0,0,0,0,0,0,0,0,0,0,0,0,0,0,0,0,0,0,0,0,0,0,0,0,0,0,0,0,0,0,0,0,0,0,0,0,0,0,0,0,0,0,0,0,0,0,0,0,0,0,0,0,0,0,0,0,0,0,0,0,0,0,0,0,0,0,0,0,0,0,0,0,0,0]
[]
[{"$f":"CONCATENATE(A503,\"-\",A504,\"-\",A505,\"-\",A506,\"-\",A507,\"-\",A508,\"-\",A509,\"-\",A510,\"-\",A511,\"-\",A512,\"-\",A513,\"-\",A514)","v":"1-5-2-3-4-6-11-10-9-8-7-Total general"}]
[null,{"$f":"IF(B519=B502,\"SI\",\"NO\")","v":"SI"},{"$f":"IF(C519=C502,\"SI\",\"NO\")","v":"SI"},"SI","SI","SI","SI","SI","SI","SI","SI","SI","SI","SI","SI","SI","SI","SI","SI","SI","SI","SI","SI","SI","SI","SI","SI","SI","SI","SI","SI","SI","SI","SI","SI","SI","SI","SI","SI","SI","SI","SI","SI","SI","SI","SI","SI","SI","SI","SI","SI","SI","SI","SI","SI","SI","SI","SI","SI","SI","SI","SI","SI","SI","SI","SI",{"$f":"IF(BO519=BO502,\"SI\",\"NO\")","v":"SI"},"SI","SI","SI","SI","SI","SI","SI","SI","SI","SI","SI","SI","SI","SI","SI","SI","SI","SI","SI","SI","SI","SI","SI","SI","SI","SI","SI","SI","SI","SI","SI","SI","SI","SI","SI","SI","SI","SI","SI","SI","SI","SI","SI","SI","SI","SI","SI","SI","SI","SI","SI","SI","SI","SI","SI","SI","SI","SI","SI","SI","SI","SI","SI",{"$f":"IF(EA519=EA502,\"SI\",\"NO\")","v":"SI"},"SI","SI","SI","SI","SI","SI","SI","SI","SI","SI","SI","SI","SI","SI","SI","SI","SI","SI","SI","SI","SI","SI","SI","SI","SI","SI","SI","SI","SI","SI","SI","SI","SI","SI","SI","SI","SI","SI","SI","SI","SI","SI","SI","SI","SI","SI","SI","SI","SI","SI","SI","SI","SI","SI","SI","SI","SI","SI","SI","SI","SI","SI","SI",{"$f":"IF(GM519=GM502,\"SI\",\"NO\")","v":"SI"},"SI","SI","SI","SI","SI","SI","SI","SI","SI","SI","SI","SI","SI","SI","SI","SI","SI","SI","SI","SI","SI","SI","SI","SI","SI","SI","SI","SI","SI","SI","SI","SI","SI","SI","SI","SI","SI","SI","SI","SI","SI"]
["cod_red","03"]
["coddist","(Todas)"]
[null,"Valores"]
[5,0,0,0,0,0,0,0,0,0,0,0,0,0,0,0,0,0,0,0,0,0,0,0,0,0,0,0,0,0,0,0,0,0,0,0,0,0,0,0,0,0,0,0,0,0,0,0,0,0,0,0,0,0,0,0,0,0,0,0,0,0,0,0,0,0,0,0,0,0,0,0,0,0,0,0,0,0,0,0,0,0,0,0,0,0,0,0,0,0,0,0,0,0,0,0,0,0,0,0,0,0,0,0,0,0,0,0,0,0,0,0,0,0,0,0,0,0,0,0,0,0,0,0,0,0,0,0,0,0,0,0,0,0,0,0,0,0,0,0,0,0,0,0,0,0,0,0,0,0,0,0,0,0,0,0,0,0,0,0,0,0,0,0,0,0,0,0,0,0,0,0,0,0,0,0,0,0,0,0,0,0,0,0,0,0,0,0,0,0,0,0,0,0,0,0,0,0,0,0,0,0,0,0,0,0,0,0,0,0,0,0,0,0,0,0,0,0,0,0,0,0,0,0,0,0,0,0,0,0,0,0,0,0,0,0]
[4,0,0,0,0,0,0,0,0,0,0,0,0,0,0,0,0,0,0,0,0,0,0,0,0,0,0,0,0,0,0,0,0,0,0,0,0,0,0,0,0,0,0,0,0,0,0,0,0,0,0,0,0,0,0,0,0,0,0,0,0,0,0,0,0,0,0,0,0,0,0,0,0,0,0,0,0,0,0,0,0,0,0,0,0,0,0,0,0,0,0,0,0,0,0,0,0,0,0,0,0,0,0,0,0,0,0,0,0,0,0,0,0,0,0,0,0,0,0,0,0,0,0,0,0,0,0,0,0,0,0,0,0,0,0,0,0,0,0,0,0,0,0,0,0,0,0,0,0,0,0,0,0,0,0,0,0,0,0,0,0,0,0,0,0,0,0,0,0,0,0,0,0,0,0,0,0,0,0,0,0,0,0,0,0,0,0,0,0,0,0,0,0,0,0,0,0,0,0,0,0,0,0,0,0,0,0,0,0,0,0,0,0,0,0,0,0,0,0,0,0,0,0,0,0,0,0,0,0,0,0,0,0,0,0,0]
[6,0,0,0,0,0,0,0,0,0,0,0,0,0,0,0,0,0,0,0,0,0,0,0,0,0,0,0,0,0,0,0,0,0,0,0,0,0,0,0,0,0,0,0,0,0,0,0,0,0,0,0,0,0,0,0,0,0,0,0,0,0,0,0,0,0,0,0,0,0,0,0,0,0,0,0,0,0,0,0,0,0,0,0,0,0,0,0,0,0,0,0,0,0,0,0,0,0,0,0,0,0,0,0,0,0,0,0,0,0,0,0,0,0,0,0,0,0,0,0,0,0,0,0,0,0,0,0,0,0,0,0,0,0,0,0,0,0,0,0,0,0,0,0,0,0,0,0,0,0,0,0,0,0,0,0,0,0,0,0,0,0,0,0,0,0,0,0,0,0,0,0,0,0,0,0,0,0,0,0,0,0,0,0,0,0,0,0,0,0,0,0,0,0,0,0,0,0,0,0,0,0,0,0,0,0,0,0,0,0,0,0,0,0,0,0,0,0,0,0,0,0,0,0,0,0,0,0,0,0,0,0,0,0,0,0]
[9,0,0,0,0,0,0,0,0,0,0,0,0,0,0,0,0,0,0,0,0,0,0,0,0,0,0,0,0,0,0,0,0,0,0,0,0,0,0,0,0,0,0,0,0,0,0,0,0,0,0,0,0,0,0,0,0,0,0,0,0,0,0,0,0,0,0,0,0,0,0,0,0,0,0,0,0,0,0,0,0,0,0,0,0,0,0,0,0,0,0,0,0,0,0,0,0,0,0,0,0,0,0,0,0,0,0,0,0,0,0,0,0,0,0,0,0,0,0,0,0,0,0,0,0,0,0,0,0,0,0,0,0,0,0,0,0,0,0,0,0,0,0,0,0,0,0,0,0,0,0,0,0,0,0,0,0,0,0,0,0,0,0,0,0,0,0,0,0,0,0,0,0,0,0,0,0,0,0,0,0,0,0,0,0,0,0,0,0,0,0,0,0,0,0,0,0,0,0,0,0,0,0,0,0,0,0,0,0,0,0,0,0,0,0,0,0,0,0,0,0,0,0,0,0,0,0,0,0,0,0,0,0,0,0,0]
[7,0,0,0,0,0,0,0,0,0,0,0,0,0,0,0,0,0,0,0,0,0,0,0,0,0,0,0,0,0,0,0,0,0,0,0,0,0,0,0,0,0,0,0,0,0,0,0,0,0,0,0,0,0,0,0,0,0,0,0,0,0,0,0,0,0,0,0,0,0,0,0,0,0,0,0,0,0,0,0,0,0,0,0,0,0,0,0,0,0,0,0,0,0,0,0,0,0,0,0,0,0,0,0,0,0,0,0,0,0,0,0,0,0,0,0,0,0,0,0,0,0,0,0,0,0,0,0,0,0,0,0,0,0,0,0,0,0,0,0,0,0,0,0,0,0,0,0,0,0,0,0,0,0,0,0,0,0,0,0,0,0,0,0,0,0,0,0,0,0,0,0,0,0,0,0,0,0,0,0,0,0,0,0,0,0,0,0,0,0,0,0,0,0,0,0,0,0,0,0,0,0,0,0,0,0,0,0,0,0,0,0,0,0,0,0,0,0,0,0,0,0,0,0,0,0,0,0,0,0,0,0,0,0,0,0]
[{"$f":"COUNT(A533:A544)","v":11},{"$f":"SUM(B533:B544)","v":0},{"$f":"SUM(C533:C544)","v":0},0,0,0,0,0,0,0,0,0,0,0,0,0,0,0,0,0,0,0,0,0,0,0,0,0,0,0,0,0,0,0,0,0,0,0,0,0,0,0,0,0,0,0,0,0,0,0,0,0,0,0,0,0,0,0,0,0,0,0,0,0,0,0,{"$f":"SUM(BO533:BO544)","v":0},0,0,0,0,0,0,0,0,0,0,0,0,0,0,0,0,0,0,0,0,0,0,0,0,0,0,0,0,0,0,0,0,0,0,0,0,0,0,0,0,0,0,0,0,0,0,0,0,0,0,0,0,0,0,0,0,0,0,0,0,0,0,0,{"$f":"SUM(EA533:EA544)","v":0},0,0,0,0,0,0,0,0,0,0,0,0,0,0,0,0,0,0,0,0,0,0,0,0,0,0,0,0,0,0,0,0,0,0,0,0,0,0,0,0,0,0,0,0,0,0,0,0,0,0,0,0,0,0,0,0,0,0,0,0,0,0,0,{"$f":"SUM(GM533:GM544)","v":0},0,0,0,0,0,0,0,0,0,0,0,0,0,0,0,0,0,0,0,0,0,0,0,0,0,0,0,0,0,0,0,0,0,0,0,0,0,0,0,0,0]
[null,{"$f":"IF(B549=B532,\"SI\",\"NO\")","v":"SI"},{"$f":"IF(C549=C532,\"SI\",\"NO\")","v":"SI"},"SI","SI","SI","SI","SI","SI","SI","SI","SI","SI","SI","SI","SI","SI","SI","SI","SI","SI","SI","SI","SI","SI","SI","SI","SI","SI","SI","SI","SI","SI","SI","SI","SI","SI","SI","SI","SI","SI","SI","SI","SI","SI","SI","SI","SI","SI","SI","SI","SI","SI","SI","SI","SI","SI","SI","SI","SI","SI","SI","SI","SI","SI","SI",{"$f":"IF(BO549=BO532,\"SI\",\"NO\")","v":"SI"},"SI","SI","SI","SI","SI","SI","SI","SI","SI","SI","SI","SI","SI","SI","SI","SI","SI","SI","SI","SI","SI","SI","SI","SI","SI","SI","SI","SI","SI","SI","SI","SI","SI","SI","SI","SI","SI","SI","SI","SI","SI","SI","SI","SI","SI","SI","SI","SI","SI","SI","SI","SI","SI","SI","SI","SI","SI","SI","SI","SI","SI","SI","SI",{"$f":"IF(EA549=EA532,\"SI\",\"NO\")","v":"SI"},"SI","SI","SI","SI","SI","SI","SI","SI","SI","SI","SI","SI","SI","SI","SI","SI","SI","SI","SI","SI","SI","SI","SI","SI","SI","SI","SI","SI","SI","SI","SI","SI","SI","SI","SI","SI","SI","SI","SI","SI","SI","SI","SI","SI","SI","SI","SI","SI","SI","SI","SI","SI","SI","SI","SI","SI","SI","SI","SI","SI","SI","SI","SI",{"$f":"IF(GM549=GM532,\"SI\",\"NO\")","v":"SI"},"SI","SI","SI","SI","SI","SI","SI","SI","SI","SI","SI","SI","SI","SI","SI","SI","SI","SI","SI","SI","SI","SI","SI","SI","SI","SI","SI","SI","SI","SI","SI","SI","SI","SI","SI","SI","SI","SI","SI","SI","SI"]
["cod_red","03"]
["coddist","(Todas)"]
[]
[null,"Valores"]
[5,0,0,0,0,0,0,0,0,0,0,0,0,0,0,0,0,0,0,0,0,0,0,0,0,0,0,0,0,0,0,0,0,0,0,0,0,0,0,0,0,0,0,0,0,0,0,0,0,0,0,0,0,0,0,0,0,0,0,0,0,0,0,0,0,0,0,0,0,0,0,0,0,0,0,0,0,0,0,0,0,0,0,0,0,0,0,0,0,0,0,0,0,0,0,0,0,0,0,0,0,0,0,0,0,0,0,0,0,0,0,0,0,0,0,0,0,0,0,0,0,0,0,0,0,0,0,0,0,0,0,0,0,0,0,0,0,0,0,0,0,0,0,0,0,0,0,0,0,0,0,0,0,0,0,0,0,0,0,0,0,0,0,0,0,0,0,0,0,0,0,0,0,0,0,0,0,0,0,0,0,0,0,0,0,0,0,0,0,0,0,0,0,0,0,0,0,0,0,0,0,0,0,0,0,0,0,0,0,0,0,0,0,0,0,0,0,0,0,0,0,0,0,0,0,0,0,0,0,0,0,0,0,0,0,0]
[4,0,0,0,0,0,0,0,0,0,0,0,0,0,0,0,0,0,0,0,0,0,0,0,0,0,0,0,0,0,0,0,0,0,0,0,0,0,0,0,0,0,0,0,0,0,0,0,0,0,0,0,0,0,0,0,0,0,0,0,0,0,0,0,0,0,0,0,0,0,0,0,0,0,0,0,0,0,0,0,0,0,0,0,0,0,0,0,0,0,0,0,0,0,0,0,0,0,0,0,0,0,0,0,0,0,0,0,0,0,0,0,0,0,0,0,0,0,0,0,0,0,0,0,0,0,0,0,0,0,0,0,0,0,0,0,0,0,0,0,0,0,0,0,0,0,0,0,0,0,0,0,0,0,0,0,0,0,0,0,0,0,0,0,0,0,0,0,0,0,0,0,0,0,0,0,0,0,0,0,0,0,0,0,0,0,0,0,0,0,0,0,0,0,0,0,0,0,0,0,0,0,0,0,0,0,0,0,0,0,0,0,0,0,0,0,0,0,0,0,0,0,0,0,0,0,0,0,0,0,0,0,0,0,0,0]
[10,0,0,0,0,0,0,0,0,0,0,0,0,0,0,0,0,0,0,0,0,0,0,0,0,0,0,0,0,0,0,0,0,0,0,0,0,0,0,0,0,0,0,0,0,0,0,0,0,0,0,0,0,0,0,0,0,0,0,0,0,0,0,0,0,0,0,0,0,0,0,0,0,0,0,0,0,0,0,0,0,0,0,0,0,0,0,0,0,0,0,0,0,0,0,0,0,0,0,0,0,0,0,0,0,0,0,0,0,0,0,0,0,0,0,0,0,0,0,0,0,0,0,0,0,0,0,0,0,0,0,0,0,0,0,0,0,0,0,0,0,0,0,0,0,0,0,0,0,0,0,0,0,0,0,0,0,0,0,0,0,0,0,0,0,0,0,0,0,0,0,0,0,0,0,0,0,0,0,0,0,0,0,0,0,0,0,0,0,0,0,0,0,0,0,0,0,0,0,0,0,0,0,0,0,0,0,0,0,0,0,0,0,0,0,0,0,0,0,0,0,0,0,0,0,0,0,0,0,0,0,0,0,0,0,0]
[7,0,0,0,0,0,0,0,0,0,0,0,0,0,0,0,0,0,0,0,0,0,0,0,0,0,0,0,0,0,0,0,0,0,0,0,0,0,0,0,0,0,0,0,0,0,0,0,0,0,0,0,0,0,0,0,0,0,0,0,0,0,0,0,0,0,0,0,0,0,0,0,0,0,0,0,0,0,0,0,0,0,0,0,0,0,0,0,0,0,0,0,0,0,0,0,0,0,0,0,0,0,0,0,0,0,0,0,0,0,0,0,0,0,0,0,0,0,0,0,0,0,0,0,0,0,0,0,0,0,0,0,0,0,0,0,0,0,0,0,0,0,0,0,0,0,0,0,0,0,0,0,0,0,0,0,0,0,0,0,0,0,0,0,0,0,0,0,0,0,0,0,0,0,0,0,0,0,0,0,0,0,0,0,0,0,0,0,0,0,0,0,0,0,0,0,0,0,0,0,0,0,0,0,0,0,0,0,0,0,0,0,0,0,0,0,0,0,0,0,0,0,0,0,0,0,0,0,0,0,0,0,0,0,0,0]
[{"$f":"COUNT(A563:A574)","v":11},{"$f":"SUM(B563:B574)","v":0},{"$f":"SUM(C563:C574)","v":0},0,0,0,0,0,0,0,0,0,0,0,0,0,0,0,0,0,0,0,0,0,0,0,0,0,0,0,0,0,0,0,0,0,0,0,0,0,0,0,0,0,0,0,0,0,0,0,0,0,0,0,0,0,0,0,0,0,0,0,0,0,0,0,{"$f":"SUM(BO563:BO574)","v":0},0,0,0,0,0,0,0,0,0,0,0,0,0,0,0,0,0,0,0,0,0,0,0,0,0,0,0,0,0,0,0,0,0,0,0,0,0,0,0,0,0,0,0,0,0,0,0,0,0,0,0,0,0,0,0,0,0,0,0,0,0,0,0,{"$f":"SUM(EA563:EA574)","v":0},0,0,0,0,0,0,0,0,0,0,0,0,0,0,0,0,0,0,0,0,0,0,0,0,0,0,0,0,0,0,0,0,0,0,0,0,0,0,0,0,0,0,0,0,0,0,0,0,0,0,0,0,0,0,0,0,0,0,0,0,0,0,0,{"$f":"SUM(GM563:GM574)","v":0},0,0,0,0,0,0,0,0,0,0,0,0,0,0,0,0,0,0,0,0,0,0,0,0,0,0,0,0,0,0,0,0,0,0,0,0,0,0,0,0,0]
[null,{"$f":"IF(B579=B562,\"SI\",\"NO\")","v":"SI"},{"$f":"IF(C579=C562,\"SI\",\"NO\")","v":"SI"},"SI","SI","SI","SI","SI","SI","SI","SI","SI","SI","SI","SI","SI","SI","SI","SI","SI","SI","SI","SI","SI","SI","SI","SI","SI","SI","SI","SI","SI","SI","SI","SI","SI","SI","SI","SI","SI","SI","SI","SI","SI","SI","SI","SI","SI","SI","SI","SI","SI","SI","SI","SI","SI","SI","SI","SI","SI","SI","SI","SI","SI","SI","SI",{"$f":"IF(BO579=BO562,\"SI\",\"NO\")","v":"SI"},"SI","SI","SI","SI","SI","SI","SI","SI","SI","SI","SI","SI","SI","SI","SI","SI","SI","SI","SI","SI","SI","SI","SI","SI","SI","SI","SI","SI","SI","SI","SI","SI","SI","SI","SI","SI","SI","SI","SI","SI","SI","SI","SI","SI","SI","SI","SI","SI","SI","SI","SI","SI","SI","SI","SI","SI","SI","SI","SI","SI","SI","SI","SI",{"$f":"IF(EA579=EA562,\"SI\",\"NO\")","v":"SI"},"SI","SI","SI","SI","SI","SI","SI","SI","SI","SI","SI","SI","SI","SI","SI","SI","SI","SI","SI","SI","SI","SI","SI","SI","SI","SI","SI","SI","SI","SI","SI","SI","SI","SI","SI","SI","SI","SI","SI","SI","SI","SI","SI","SI","SI","SI","SI","SI","SI","SI","SI","SI","SI","SI","SI","SI","SI","SI","SI","SI","SI","SI","SI",{"$f":"IF(GM579=GM562,\"SI\",\"NO\")","v":"SI"},"SI","SI","SI","SI","SI","SI","SI","SI","SI","SI","SI","SI","SI","SI","SI","SI","SI","SI","SI","SI","SI","SI","SI","SI","SI","SI","SI","SI","SI","SI","SI","SI","SI","SI","SI","SI","SI","SI","SI","SI","SI"]
["anno",2024]
["cod_red","03"]
["coddist","(Todas)"]
[]
[1,0,0,0,0,0,0,0,0,0,0,0,0,0,0,0,0,0,0,0,0,0,0,0,0,0,0,0,0,0,0,0,0,0,0,0,0,0,0,0,0,0,0,0,0,0,0,0,0,0,0,0,0,0,0,0,0,0,0,0,0,0,0,0,0,0,0,0,0,0,0,0,0,0,0,0,0,0,0,0,0,0,0,0,0,0,0,0,0,0,0,0,0,0,0,0,0,0,0,0,0,0,0,0,0,0,0,0,0,0,0,0,0,0,0,0,0,0,0,0,0,0,0,0,0,0,0,0,0,0,0,0,0,0,0,0,0,0,0,0,0,0,0,0,0,0,0,0,0,0,0,0,0,0,0,0,0,0,0,0,0,0,0,0,0,0,0,0,0,0,0,0,0,0,0,0,0,0,0,0,0,0,0,0,0,0,0,0,0,0,0,0,0,0,0,0,0,0,0,0,0,0,0,0,0,0,0,0,0,0,0,0,0,0,0,0,0,0,0,0,0,0,0,0,0,0,0,0,0,0,0,0,0,0,0,0]
[3,0,0,0,0,0,0,0,0,0,0,0,0,0,0,0,0,0,0,0,0,0,0,0,0,0,0,0,0,0,0,0,0,0,0,0,0,0,0,0,0,0,0,0,0,0,0,0,0,0,0,0,0,0,0,0,0,0,0,0,0,0,0,0,0,0,0,0,0,0,0,0,0,0,0,0,0,0,0,0,0,0,0,0,0,0,0,0,0,0,0,0,0,0,0,0,0,0,0,0,0,0,0,0,0,0,0,0,0,0,0,0,0,0,0,0,0,0,0,0,0,0,0,0,0,0,0,0,0,0,0,0,0,0,0,0,0,0,0,0,0,0,0,0,0,0,0,0,0,0,0,0,0,0,0,0,0,0,0,0,0,0,0,0,0,0,0,0,0,0,0,0,0,0,0,0,0,0,0,0,0,0,0,0,0,0,0,0,0,0,0,0,0,0,0,0,0,0,0,0,0,0,0,0,0,0,0,0,0,0,0,0,0,0,0,0,0,0,0,0,0,0,0,0,0,0,0,0,0,0,0,0,0,0,0,0]
[10,0,0,0,0,0,0,0,0,0,0,0,0,0,0,0,0,0,0,0,0,0,0,0,0,0,0,0,0,0,0,0,0,0,0,0,0,0,0,0,0,0,0,0,0,0,0,0,0,0,0,0,0,0,0,0,0,0,0,0,0,0,0,0,0,0,0,0,0,0,0,0,0,0,0,0,0,0,0,0,0,0,0,0,0,0,0,0,0,0,0,0,0,0,0,0,0,0,0,0,0,0,0,0,0,0,0,0,0,0,0,0,0,0,0,0,0,0,0,0,0,0,0,0,0,0,0,0,0,0,0,0,0,0,0,0,0,0,0,0,0,0,0,0,0,0,0,0,0,0,0,0,0,0,0,0,0,0,0,0,0,0,0,0,0,0,0,0,0,0,0,0,0,0,0,0,0,0,0,0,0,0,0,0,0,0,0,0,0,0,0,0,0,0,0,0,0,0,0,0,0,0,0,0,0,0,0,0,0,0,0,0,0,0,0,0,0,0,0,0,0,0,0,0,0,0,0,0,0,0,0,0,0,0,0,0]
[7,0,0,0,0,0,0,0,0,0,0,0,0,0,0,0,0,0,0,0,0,0,0,0,0,0,0,0,0,0,0,0,0,0,0,0,0,0,0,0,0,0,0,0,0,0,0,0,0,0,0,0,0,0,0,0,0,0,0,0,0,0,0,0,0,0,0,0,0,0,0,0,0,0,0,0,0,0,0,0,0,0,0,0,0,0,0,0,0,0,0,0,0,0,0,0,0,0,0,0,0,0,0,0,0,0,0,0,0,0,0,0,0,0,0,0,0,0,0,0,0,0,0,0,0,0,0,0,0,0,0,0,0,0,0,0,0,0,0,0,0,0,0,0,0,0,0,0,0,0,0,0,0,0,0,0,0,0,0,0,0,0,0,0,0,0,0,0,0,0,0,0,0,0,0,0,0,0,0,0,0,0,0,0,0,0,0,0,0,0,0,0,0,0,0,0,0,0,0,0,0,0,0,0,0,0,0,0,0,0,0,0,0,0,0,0,0,0,0,0,0,0,0,0,0,0,0,0,0,0,0,0,0,0,0,0]
["TOTAL"]
[{"$f":"COUNT(A593:A604)","v":11},{"$f":"SUM(B593:B604)","v":0},{"$f":"SUM(C593:C604)","v":0},0,0,0,0,0,0,0,0,0,0,0,0,0,0,0,0,0,0,0,0,0,0,0,0,0,0,0,0,0,0,0,0,0,0,0,0,0,0,0,0,0,0,0,0,0,0,0,0,0,0,0,0,0,0,0,0,0,0,0,0,0,0,0,{"$f":"SUM(BO593:BO604)","v":0},0,0,0,0,0,0,0,0,0,0,0,0,0,0,0,0,0,0,0,0,0,0,0,0,0,0,0,0,0,0,0,0,0,0,0,0,0,0,0,0,0,0,0,0,0,0,0,0,0,0,0,0,0,0,0,0,0,0,0,0,0,0,0,{"$f":"SUM(EA593:EA604)","v":0},0,0,0,0,0,0,0,0,0,0,0,0,0,0,0,0,0,0,0,0,0,0,0,0,0,0,0,0,0,0,0,0,0,0,0,0,0,0,0,0,0,0,0,0,0,0,0,0,0,0,0,0,0,0,0,0,0,0,0,0,0,0,0,{"$f":"SUM(GM593:GM604)","v":0},0,0,0,0,0,0,0,0,0,0,0,0,0,0,0,0,0,0,0,0,0,0,0,0,0,0,0,0,0,0,0,0,0,0,0,0,0,0,0,0,0]
[null,{"$f":"IF(B609=B592,\"SI\",\"NO\")","v":"SI"},{"$f":"IF(C609=C592,\"SI\",\"NO\")","v":"SI"},"SI","SI","SI","SI","SI","SI","SI","SI","SI","SI","SI","SI","SI","SI","SI","SI","SI","SI","SI","SI","SI","SI","SI","SI","SI","SI","SI","SI","SI","SI","SI","SI","SI","SI","SI","SI","SI","SI","SI","SI","SI","SI","SI","SI","SI","SI","SI","SI","SI","SI","SI","SI","SI","SI","SI","SI","SI","SI","SI","SI","SI","SI","SI",{"$f":"IF(BO609=BO592,\"SI\",\"NO\")","v":"SI"},"SI","SI","SI","SI","SI","SI","SI","SI","SI","SI","SI","SI","SI","SI","SI","SI","SI","SI","SI","SI","SI","SI","SI","SI","SI","SI","SI","SI","SI","SI","SI","SI","SI","SI","SI","SI","SI","SI","SI","SI","SI","SI","SI","SI","SI","SI","SI","SI","SI","SI","SI","SI","SI","SI","SI","SI","SI","SI","SI","SI","SI","SI","SI",{"$f":"IF(EA609=EA592,\"SI\",\"NO\")","v":"SI"},"SI","SI","SI","SI","SI","SI","SI","SI","SI","SI","SI","SI","SI","SI","SI","SI","SI","SI","SI","SI","SI","SI","SI","SI","SI","SI","SI","SI","SI","SI","SI","SI","SI","SI","SI","SI","SI","SI","SI","SI","SI","SI","SI","SI","SI","SI","SI","SI","SI","SI","SI","SI","SI","SI","SI","SI","SI","SI","SI","SI","SI","SI","SI",{"$f":"IF(GM609=GM592,\"SI\",\"NO\")","v":"SI"},"SI","SI","SI","SI","SI","SI","SI","SI","SI","SI","SI","SI","SI","SI","SI","SI","SI","SI","SI","SI","SI","SI","SI","SI","SI","SI","SI","SI","SI","SI","SI","SI","SI","SI","SI","SI","SI","SI","SI","SI","SI"]
["anno",2024]
["cod_prov","(Todas)"]
["cod_eje","(Todas)"]
[1,0,0,0,0,0,0,0,0,0,0,0,0,0,0,0,0,0,0,0,0,0,0,0,0,0,0,0,0,0,0,0,0,0,0,0,0,0,0,0,0,0,0,0,0,0,0,0,0,0,0,0,0,0,0,0,0,0,0,0,0,0,0,0,0,0,0,0,0,0,0,0,0,0,0,0,0,0,0,0,0,0,0,0,0,0,0,0,0,0,0,0,0,0,0,0,0,0,0,0,0,0,0,0,0,0,0,0,0,0,0,0,0,0,0,0,0,0,0,0,0,0,0,0,0,0,0,0,0,0,0,0,0,0,0,0,0,0,0,0,0,0,0,0,0,0,0,0,0,0,0,0,0,0,0,0,0,0,0,0,0,0,0,0,0,0,0,0,0,0,0,0,0,0,0,0,0,0,0,0,0,0,0,0,0,0,0,0,0,0,0,0,0,0,0,0,0,0,0,0,0,0,0,0,0,0,0,0,0,0,0,0,0,0,0,0,0,0,0,0,0,0,0,0,0,0,0,0,0,0,0,0,0,0,0,0]
[3,0,0,0,0,0,0,0,0,0,0,0,0,0,0,0,0,0,0,0,0,0,0,0,0,0,0,0,0,0,0,0,0,0,0,0,0,0,0,0,0,0,0,0,0,0,0,0,0,0,0,0,0,0,0,0,0,0,0,0,0,0,0,0,0,0,0,0,0,0,0,0,0,0,0,0,0,0,0,0,0,0,0,0,0,0,0,0,0,0,0,0,0,0,0,0,0,0,0,0,0,0,0,0,0,0,0,0,0,0,0,0,0,0,0,0,0,0,0,0,0,0,0,0,0,0,0,0,0,0,0,0,0,0,0,0,0,0,0,0,0,0,0,0,0,0,0,0,0,0,0,0,0,0,0,0,0,0,0,0,0,0,0,0,0,0,0,0,0,0,0,0,0,0,0,0,0,0,0,0,0,0,0,0,0,0,0,0,0,0,0,0,0,0,0,0,0,0,0,0,0,0,0,0,0,0,0,0,0,0,0,0,0,0,0,0,0,0,0,0,0,0,0,0,0,0,0,0,0,0,0,0,0,0,0,0]
[4,0,0,0,0,0,0,0,0,0,0,0,0,0,0,0,0,0,0,0,0,0,0,0,0,0,0,0,0,0,0,0,0,0,0,0,0,0,0,0,0,0,0,0,0,0,0,0,0,0,0,0,0,0,0,0,0,0,0,0,0,0,0,0,0,0,0,0,0,0,0,0,0,0,0,0,0,0,0,0,0,0,0,0,0,0,0,0,0,0,0,0,0,0,0,0,0,0,0,0,0,0,0,0,0,0,0,0,0,0,0,0,0,0,0,0,0,0,0,0,0,0,0,0,0,0,0,0,0,0,0,0,0,0,0,0,0,0,0,0,0,0,0,0,0,0,0,0,0,0,0,0,0,0,0,0,0,0,0,0,0,0,0,0,0,0,0,0,0,0,0,0,0,0,0,0,0,0,0,0,0,0,0,0,0,0,0,0,0,0,0,0,0,0,0,0,0,0,0,0,0,0,0,0,0,0,0,0,0,0,0,0,0,0,0,0,0,0,0,0,0,0,0,0,0,0,0,0,0,0,0,0,0,0,0,0]
[9,0,0,0,0,0,0,0,0,0,0,0,0,0,0,0,0,0,0,0,0,0,0,0,0,0,0,0,0,0,0,0,0,0,0,0,0,0,0,0,0,0,0,0,0,0,0,0,0,0,0,0,0,0,0,0,0,0,0,0,0,0,0,0,0,0,0,0,0,0,0,0,0,0,0,0,0,0,0,0,0,0,0,0,0,0,0,0,0,0,0,0,0,0,0,0,0,0,0,0,0,0,0,0,0,0,0,0,0,0,0,0,0,0,0,0,0,0,0,0,0,0,0,0,0,0,0,0,0,0,0,0,0,0,0,0,0,0,0,0,0,0,0,0,0,0,0,0,0,0,0,0,0,0,0,0,0,0,0,0,0,0,0,0,0,0,0,0,0,0,0,0,0,0,0,0,0,0,0,0,0,0,0,0,0,0,0,0,0,0,0,0,0,0,0,0,0,0,0,0,0,0,0,0,0,0,0,0,0,0,0,0,0,0,0,0,0,0,0,0,0,0,0,0,0,0,0,0,0,0,0,0,0,0,0,0]
[8,0,0,0,0,0,0,0,0,0,0,0,0,0,0,0,0,0,0,0,0,0,0,0,0,0,0,0,0,0,0,0,0,0,0,0,0,0,0,0,0,0,0,0,0,0,0,0,0,0,0,0,0,0,0,0,0,0,0,0,0,0,0,0,0,0,0,0,0,0,0,0,0,0,0,0,0,0,0,0,0,0,0,0,0,0,0,0,0,0,0,0,0,0,0,0,0,0,0,0,0,0,0,0,0,0,0,0,0,0,0,0,0,0,0,0,0,0,0,0,0,0,0,0,0,0,0,0,0,0,0,0,0,0,0,0,0,0,0,0,0,0,0,0,0,0,0,0,0,0,0,0,0,0,0,0,0,0,0,0,0,0,0,0,0,0,0,0,0,0,0,0,0,0,0,0,0,0,0,0,0,0,0,0,0,0,0,0,0,0,0,0,0,0,0,0,0,0,0,0,0,0,0,0,0,0,0,0,0,0,0,0,0,0,0,0,0,0,0,0,0,0,0,0,0,0,0,0,0,0,0,0,0,0,0,0]
["TOTAL"]
[null," BAS001"," BAS002"," BAS003"," BAS004"," BAS005"," BAS006"," BAS007"," BAS008"," BAS009"," BAS010"," BAS011"," BAS012"," BAS013"," BAS014"," BAS015"," BAS016"," BAS017"," BAS018"," BAS019"," BAS020"," BAS021"," BAS022"," BAS023"," BAS024"," BAS025"," BAS026"," BAS027"," BAS028"," BAS029"," BAS030"," BAS031"," BAS032"," BAS033"," BAS034"," BAS035"," BAS036"," BAS037"," BAS038"," BAS039"," BAS040"," BAS041"," BAS042"," BAS043"," BAS044"," BAS045"," BAS046"," BAS047"," BAS048"," BAS049"," BAS050"," BAS051"," BAS052"," BAS053"," BAS054"," BAS055"," BAS056"," BAS057"," BAS058"," BAS059"," BAS060"," BAS061"," BAS062"," BAS063"," BAS064"," BAS065"," BAS066"," BAS067"," BAS068"," BAS069"," BAS070"," BAS071"," BAS072"," BAS073"," BAS074"," BAS075"," BAS076"," BAS077"," BAS078"," BAS079"," BAS080"," BAS081"," BAS082"," BAS083"," BAS084"," BAS085"," BAS086"," BAS087"," BAS088"," BAS089"," BAS090"," BAS091"," BAS092"," BAS093"," BAS094"," BAS095"," BAS096"," BAS097"," BAS098"," BAS099"," BAS100"," BAS101"," BAS102"," BAS103"," BAS104"," BAS105"," BAS106"," BAS107"," BAS108"," BAS109"," BAS110"," BAS111"," BAS112"," BAS113"," BAS114"," BAS115"," BAS116"," BAS117"," BAS118"," BAS119"," BAS120"," BAS121"," BAS122"," BAS123"," BAS124"," BAS125"," BAS126"," BAS127"," BAS128"," BAS129"," BAS130"," BAS131"," BAS132"," BAS133"," BAS134"," BAS135"," BAS136"," BAS137"," BAS138"," BAS139"," BAS140"," BAS141"," BAS142"," BAS143"," BAS144"," BAS145"," BAS146"," BAS147"," BAS148"," BAS149"," BAS150"," BAS151"," BAS152"," BAS153"," BAS154"," BAS155"," BAS156"," BAS157"," BAS158"," BAS159"," BAS160"," BAS161"," BAS162"," BAS163"," BAS164"," BAS165"," BAS166"," BAS167"," BAS168"," BAS169"," BAS170"," BAS171"," BAS172"," BAS173"," BAS174"," BAS175"," BAS176"," BAS177"," BAS178"," BAS179"," BAS180"," BAS181"," BAS182"," BAS183"," BAS184"," BAS185"," BAS186"," BAS187"," BAS188"," BAS189"," BAS190"," BAS191"," BAS192"," BAS193"," BAS194"," BAS195"," BAS196"," BAS197"," BAS198"," BAS199"," BAS200"," BAS201"," BAS202"," BAS203"," BAS204"," BAS205"," BAS206"," BAS207"," BAS208"," BAS209"," BAS210"," BAS211"," BAS212"," BAS213"," BAS214"," BAS215"," BAS216"," BAS217"," BAS218"," BAS219"," BAS220"," BAS221"," BAS222"," BAS223"," BAS224"," BAS225"," BAS226"," BAS227"," BAS228"," BAS229"," BAS230"," BAS231"," BAS232"," BAS233"," BAS234"," BAS235"]
["AB612007"]
["cod_prov","(Todas)"]
["cod_eje","(Todas)"]
[]
[5,0,0,0,0,0,0,0,0,0,0,0,0,0,0,0,0,0,0,0,0,0,0,0,0,0,0,0,0,0,0,0,0,0,0,0,0,0,0,0,0,0,0,0,0,0,0,0,0,0,0,0,0,0,0,0,0,0,0,0,0,0,0,0,0,0,0,0,0,0,0,0,0,0,0,0,0,0,0,0,0,0,0,0,0,0,0,0,0,0,0,0,0,0,0,0,0,0,0,0,0,0,0,0,0,0,0,0,0,0,0,0,0,0,0,0,0,0,0,0,0,0,0,0,0,0,0,0,0,0,0,0,0,0,0,0,0,0,0,0,0,0,0,0,0,0,0,0,0,0,0,0,0,0,0,0,0,0,0,0,0,0,0,0,0,0,0,0,0,0,0,0,0,0,0,0,0,0,0,0,0,0,0,0,0,0,0,0,0,0,0,0,0,0,0,0,0,0,0,0,0,0,0,0,0,0,0,0,0,0,0,0,0,0,0,0,0,0,0,0,0,0,0,0,0,0,0,0,0,0,0,0,0,0,0,0]
[2,0,0,0,0,0,0,0,0,0,0,0,0,0,0,0,0,0,0,0,0,0,0,0,0,0,0,0,0,0,0,0,0,0,0,0,0,0,0,0,0,0,0,0,0,0,0,0,0,0,0,0,0,0,0,0,0,0,0,0,0,0,0,0,0,0,0,0,0,0,0,0,0,0,0,0,0,0,0,0,0,0,0,0,0,0,0,0,0,0,0,0,0,0,0,0,0,0,0,0,0,0,0,0,0,0,0,0,0,0,0,0,0,0,0,0,0,0,0,0,0,0,0,0,0,0,0,0,0,0,0,0,0,0,0,0,0,0,0,0,0,0,0,0,0,0,0,0,0,0,0,0,0,0,0,0,0,0,0,0,0,0,0,0,0,0,0,0,0,0,0,0,0,0,0,0,0,0,0,0,0,0,0,0,0,0,0,0,0,0,0,0,0,0,0,0,0,0,0,0,0,0,0,0,0,0,0,0,0,0,0,0,0,0,0,0,0,0,0,0,0,0,0,0,0,0,0,0,0,0,0,0,0,0,0,0]
[11,0,0,0,0,0,0,0,0,0,0,0,0,0,0,0,0,0,0,0,0,0,0,0,0,0,0,0,0,0,0,0,0,0,0,0,0,0,0,0,0,0,0,0,0,0,0,0,0,0,0,0,0,0,0,0,0,0,0,0,0,0,0,0,0,0,0,0,0,0,0,0,0,0,0,0,0,0,0,0,0,0,0,0,0,0,0,0,0,0,0,0,0,0,0,0,0,0,0,0,0,0,0,0,0,0,0,0,0,0,0,0,0,0,0,0,0,0,0,0,0,0,0,0,0,0,0,0,0,0,0,0,0,0,0,0,0,0,0,0,0,0,0,0,0,0,0,0,0,0,0,0,0,0,0,0,0,0,0,0,0,0,0,0,0,0,0,0,0,0,0,0,0,0,0,0,0,0,0,0,0,0,0,0,0,0,0,0,0,0,0,0,0,0,0,0,0,0,0,0,0,0,0,0,0,0,0,0,0,0,0,0,0,0,0,0,0,0,0,0,0,0,0,0,0,0,0,0,0,0,0,0,0,0,0,0]
[8,0,0,0,0,0,0,0,0,0,0,0,0,0,0,0,0,0,0,0,0,0,0,0,0,0,0,0,0,0,0,0,0,0,0,0,0,0,0,0,0,0,0,0,0,0,0,0,0,0,0,0,0,0,0,0,0,0,0,0,0,0,0,0,0,0,0,0,0,0,0,0,0,0,0,0,0,0,0,0,0,0,0,0,0,0,0,0,0,0,0,0,0,0,0,0,0,0,0,0,0,0,0,0,0,0,0,0,0,0,0,0,0,0,0,0,0,0,0,0,0,0,0,0,0,0,0,0,0,0,0,0,0,0,0,0,0,0,0,0,0,0,0,0,0,0,0,0,0,0,0,0,0,0,0,0,0,0,0,0,0,0,0,0,0,0,0,0,0,0,0,0,0,0,0,0,0,0,0,0,0,0,0,0,0,0,0,0,0,0,0,0,0,0,0,0,0,0,0,0,0,0,0,0,0,0,0,0,0,0,0,0,0,0,0,0,0,0,0,0,0,0,0,0,0,0,0,0,0,0,0,0,0,0,0,0]
["TOTAL"]
[null," BAS001"," BAS002"," BAS003"," BAS004"," BAS005"," BAS006"," BAS007"," BAS008"," BAS009"," BAS010"," BAS011"," BAS012"," BAS013"," BAS014"," BAS015"," BAS016"," BAS017"," BAS018"," BAS019"," BAS020"," BAS021"," BAS022"," BAS023"," BAS024"," BAS025"," BAS026"," BAS027"," BAS028"," BAS029"," BAS030"," BAS031"," BAS032"," BAS033"," BAS034"," BAS035"," BAS036"," BAS037"," BAS038"," BAS039"," BAS040"," BAS041"," BAS042"," BAS043"," BAS044"," BAS045"," BAS046"," BAS047"," BAS048"," BAS049"," BAS050"," BAS051"," BAS052"," BAS053"," BAS054"," BAS055"," BAS056"," BAS057"," BAS058"," BAS059"," BAS060"," BAS061"," BAS062"," BAS063"," BAS064"," BAS065"," BAS066"," BAS067"," BAS068"," BAS069"," BAS070"," BAS071"," BAS072"," BAS073"," BAS074"," BAS075"," BAS076"," BAS077"," BAS078"," BAS079"," BAS080"," BAS081"," BAS082"," BAS083"," BAS084"," BAS085"," BAS086"," BAS087"," BAS088"," BAS089"," BAS090"," BAS091"," BAS092"," BAS093"," BAS094"," BAS095"," BAS096"," BAS097"," BAS098"," BAS099"," BAS100"," BAS101"," BAS102"," BAS103"," BAS104"," BAS105"," BAS106"," BAS107"," BAS108"," BAS109"," BAS110"," BAS111"," BAS112"," BAS113"," BAS114"," BAS115"," BAS116"," BAS117"," BAS118"," BAS119"," BAS120"," BAS121"," BAS122"," BAS123"," BAS124"," BAS125"," BAS126"," BAS127"," BAS128"," BAS129"," BAS130"," BAS131"," BAS132"," BAS133"," BAS134"," BAS135"," BAS136"," BAS137"," BAS138"," BAS139"," BAS140"," BAS141"," BAS142"," BAS143"," BAS144"," BAS145"," BAS146"," BAS147"," BAS148"," BAS149"," BAS150"," BAS151"," BAS152"," BAS153"," BAS154"," BAS155"," BAS156"," BAS157"," BAS158"," BAS159"," BAS160"," BAS161"," BAS162"," BAS163"," BAS164"," BAS165"," BAS166"," BAS167"," BAS168"," BAS169"," BAS170"," BAS171"," BAS172"," BAS173"," BAS174"," BAS175"," BAS176"," BAS177"," BAS178"," BAS179"," BAS180"," BAS181"," BAS182"," BAS183"," BAS184"," BAS185"," BAS186"," BAS187"," BAS188"," BAS189"," BAS190"," BAS191"," BAS192"," BAS193"," BAS194"," BAS195"," BAS196"," BAS197"," BAS198"," BAS199"," BAS200"," BAS201"," BAS202"," BAS203"," BAS204"," BAS205"," BAS206"," BAS207"," BAS208"," BAS209"," BAS210"," BAS211"," BAS212"," BAS213"," BAS214"," BAS215"," BAS216"," BAS217"," BAS218"," BAS219"," BAS220"," BAS221"," BAS222"," BAS223"," BAS224"," BAS225"," BAS226"," BAS227"," BAS228"," BAS229"," BAS230"," BAS231"," BAS232"," BAS233"," BAS234"," BAS235"]
["AB622007"]
["anno",2024]
["coddist","(Todas)"]
["cod_estab","(Todas)"]
["Etiquetas de fila"," BAS001"," BAS002"," BAS003"," BAS004"," BAS005"," BAS006"," BAS007"," BAS008"," BAS009"," BAS010"," BAS011"," BAS012"," BAS013"," BAS014"," BAS015"," BAS016"," BAS017"," BAS018"," BAS019"," BAS020"," BAS021"," BAS022"," BAS023"," BAS024"," BAS025"," BAS026"," BAS027"," BAS028"," BAS029"," BAS030"," BAS031"," BAS032"," BAS033"," BAS034"," BAS035"," BAS036"," BAS037"," BAS038"," BAS039"," BAS040"," BAS041"," BAS042"," BAS043"," BAS044"," BAS045"," BAS046"," BAS047"," BAS048"," BAS049"," BAS050"," BAS051"," BAS052"," BAS053"," BAS054"," BAS055"," BAS056"," BAS057"," BAS058"," BAS059"," BAS060"," BAS061"," BAS062"," BAS063"," BAS064"," BAS065"," BAS066"," BAS067"," BAS068"," BAS069"," BAS070"," BAS071"," BAS072"," BAS073"," BAS074"," BAS075"," BAS076"," BAS077"," BAS078"," BAS079"," BAS080"," BAS081"," BAS082"," BAS083"," BAS084"," BAS085"," BAS086"," BAS087"," BAS088"," BAS089"," BAS090"," BAS091"," BAS092"," BAS093"," BAS094"," BAS095"," BAS096"," BAS097"," BAS098"," BAS099"," BAS100"," BAS101"," BAS102"," BAS103"," BAS104"," BAS105"," BAS106"," BAS107"," BAS108"," BAS109"," BAS110"," BAS111"," BAS112"," BAS113"," BAS114"," BAS115"," BAS116"," BAS117"," BAS118"," BAS119"," BAS120"," BAS121"," BAS122"," BAS123"," BAS124"," BAS125"," BAS126"," BAS127"," BAS128"," BAS129"," BAS130"," BAS131"," BAS132"," BAS133"," BAS134"," BAS135"," BAS136"," BAS137"," BAS138"," BAS139"," BAS140"," BAS141"," BAS142"," BAS143"," BAS144"," BAS145"," BAS146"," BAS147"," BAS148"," BAS149"," BAS150"," BAS151"," BAS152"," BAS153"," BAS154"," BAS155"," BAS156"," BAS157"," BAS158"," BAS159"," BAS160"," BAS161"," BAS162"," BAS163"," BAS164"," BAS165"," BAS166"," BAS167"," BAS168"," BAS169"," BAS170"," BAS171"," BAS172"," BAS173"," BAS174"," BAS175"," BAS176"," BAS177"," BAS178"," BAS179"," BAS180"," BAS181"," BAS182"," BAS183"," BAS184"," BAS185"," BAS186"," BAS187"," BAS188"," BAS189"," BAS190"," BAS191"," BAS192"," BAS193"," BAS194"," BAS195"," BAS196"," BAS197"," BAS198"," BAS199"," BAS200"," BAS201"," BAS202"," BAS203"," BAS204"," BAS205"," BAS206"," BAS207"," BAS208"," BAS209"," BAS210"," BAS211"," BAS212"," BAS213"," BAS214"," BAS215"," BAS216"," BAS217"," BAS218"," BAS219"," BAS220"," BAS221"," BAS222"," BAS223"," BAS224"," BAS225"," BAS226"," BAS227"," BAS228"," BAS229"," BAS230"," BAS231"," BAS232"," BAS233"," BAS234"," BAS235"]
[2,0,0,0,0,0,0,0,0,0,0,0,0,0,0,0,0,0,0,0,0,0,0,0,0,0,0,0,0,0,0,0,0,0,0,0,0,0,0,0,0,0,0,0,0,0,0,0,0,0,0,0,0,0,0,0,0,0,0,0,0,0,0,0,0,0,0,0,0,0,0,0,0,0,0,0,0,0,0,0,0,0,0,0,0,0,0,0,0,0,0,0,0,0,0,0,0,0,0,0,0,0,0,0,0,0,0,0,0,0,0,0,0,0,0,0,0,0,0,0,0,0,0,0,0,0,0,0,0,0,0,0,0,0,0,0,0,0,0,0,0,0,0,0,0,0,0,0,0,0,0,0,0,0,0,0,0,0,0,0,0,0,0,0,0,0,0,0,0,0,0,0,0,0,0,0,0,0,0,0,0,0,0,0,0,0,0,0,0,0,0,0,0,0,0,0,0,0,0,0,0,0,0,0,0,0,0,0,0,0,0,0,0,0,0,0,0,0,0,0,0,0,0,0,0,0,0,0,0,0,0,0,0,0,0,0]
[11,0,0,0,0,0,0,0,0,0,0,0,0,0,0,0,0,0,0,0,0,0,0,0,0,0,0,0,0,0,0,0,0,0,0,0,0,0,0,0,0,0,0,0,0,0,0,0,0,0,0,0,0,0,0,0,0,0,0,0,0,0,0,0,0,0,0,0,0,0,0,0,0,0,0,0,0,0,0,0,0,0,0,0,0,0,0,0,0,0,0,0,0,0,0,0,0,0,0,0,0,0,0,0,0,0,0,0,0,0,0,0,0,0,0,0,0,0,0,0,0,0,0,0,0,0,0,0,0,0,0,0,0,0,0,0,0,0,0,0,0,0,0,0,0,0,0,0,0,0,0,0,0,0,0,0,0,0,0,0,0,0,0,0,0,0,0,0,0,0,0,0,0,0,0,0,0,0,0,0,0,0,0,0,0,0,0,0,0,0,0,0,0,0,0,0,0,0,0,0,0,0,0,0,0,0,0,0,0,0,0,0,0,0,0,0,0,0,0,0,0,0,0,0,0,0,0,0,0,0,0,0,0,0,0,0]
[8,0,0,0,0,0,0,0,0,0,0,0,0,0,0,0,0,0,0,0,0,0,0,0,0,0,0,0,0,0,0,0,0,0,0,0,0,0,0,0,0,0,0,0,0,0,0,0,0,0,0,0,0,0,0,0,0,0,0,0,0,0,0,0,0,0,0,0,0,0,0,0,0,0,0,0,0,0,0,0,0,0,0,0,0,0,0,0,0,0,0,0,0,0,0,0,0,0,0,0,0,0,0,0,0,0,0,0,0,0,0,0,0,0,0,0,0,0,0,0,0,0,0,0,0,0,0,0,0,0,0,0,0,0,0,0,0,0,0,0,0,0,0,0,0,0,0,0,0,0,0,0,0,0,0,0,0,0,0,0,0,0,0,0,0,0,0,0,0,0,0,0,0,0,0,0,0,0,0,0,0,0,0,0,0,0,0,0,0,0,0,0,0,0,0,0,0,0,0,0,0,0,0,0,0,0,0,0,0,0,0,0,0,0,0,0,0,0,0,0,0,0,0,0,0,0,0,0,0,0,0,0,0,0,0,0]
[]
["TOTAL"]
[null,{"$f":"IF(B699=B682,\"SI\",\"NO\")","v":"SI"},{"$f":"IF(C699=C682,\"SI\",\"NO\")","v":"SI"},"SI","SI","SI","SI","SI","SI","SI","SI","SI","SI","SI","SI","SI","SI","SI","SI","SI","SI","SI","SI","SI","SI","SI","SI","SI","SI","SI","SI","SI","SI","SI","SI","SI","SI","SI","SI","SI","SI","SI","SI","SI","SI","SI","SI","SI","SI","SI","SI","SI","SI","SI","SI","SI","SI","SI","SI","SI","SI","SI","SI","SI","SI","SI",{"$f":"IF(BO699=BO682,\"SI\",\"NO\")","v":"SI"},"SI","SI","SI","SI","SI","SI","SI","SI","SI","SI","SI","SI","SI","SI","SI","SI","SI","SI","SI","SI","SI","SI","SI","SI","SI","SI","SI","SI","SI","SI","SI","SI","SI","SI","SI","SI","SI","SI","SI","SI","SI","SI","SI","SI","SI","SI","SI","SI","SI","SI","SI","SI","SI","SI","SI","SI","SI","SI","SI","SI","SI","SI","SI",{"$f":"IF(EA699=EA682,\"SI\",\"NO\")","v":"SI"},"SI","SI","SI","SI","SI","SI","SI","SI","SI","SI","SI","SI","SI","SI","SI","SI","SI","SI","SI","SI","SI","SI","SI","SI","SI","SI","SI","SI","SI","SI","SI","SI","SI","SI","SI","SI","SI","SI","SI","SI","SI","SI","SI","SI","SI","SI","SI","SI","SI","SI","SI","SI","SI","SI","SI","SI","SI","SI","SI","SI","SI","SI","SI",{"$f":"IF(GM699=GM682,\"SI\",\"NO\")","v":"SI"},"SI","SI","SI","SI","SI","SI","SI","SI","SI","SI","SI","SI","SI","SI","SI","SI","SI","SI","SI","SI","SI","SI","SI","SI","SI","SI","SI","SI","SI","SI","SI","SI","SI","SI","SI","SI","SI","SI","SI","SI","SI"]
[]
["codmic","(Todas)"]
["cod_estab","(Todas)"]
["Etiquetas de fila"," BAS001"," BAS002"," BAS003"," BAS004"," BAS005"," BAS006"," BAS007"," BAS008"," BAS009"," BAS010"," BAS011"," BAS012"," BAS013"," BAS014"," BAS015"," BAS016"," BAS017"," BAS018"," BAS019"," BAS020"," BAS021"," BAS022"," BAS023"," BAS024"," BAS025"," BAS026"," BAS027"," BAS028"," BAS029"," BAS030"," BAS031"," BAS032"," BAS033"," BAS034"," BAS035"," BAS036"," BAS037"," BAS038"," BAS039"," BAS040"," BAS041"," BAS042"," BAS043"," BAS044"," BAS045"," BAS046"," BAS047"," BAS048"," BAS049"," BAS050"," BAS051"," BAS052"," BAS053"," BAS054"," BAS055"," BAS056"," BAS057"," BAS058"," BAS059"," BAS060"," BAS061"," BAS062"," BAS063"," BAS064"," BAS065"," BAS066"," BAS067"," BAS068"," BAS069"," BAS070"," BAS071"," BAS072"," BAS073"," BAS074"," BAS075"," BAS076"," BAS077"," BAS078"," BAS079"," BAS080"," BAS081"," BAS082"," BAS083"," BAS084"," BAS085"," BAS086"," BAS087"," BAS088"," BAS089"," BAS090"," BAS091"," BAS092"," BAS093"," BAS094"," BAS095"," BAS096"," BAS097"," BAS098"," BAS099"," BAS100"," BAS101"," BAS102"," BAS103"," BAS104"," BAS105"," BAS106"," BAS107"," BAS108"," BAS109"," BAS110"," BAS111"," BAS112"," BAS113"," BAS114"," BAS115"," BAS116"," BAS117"," BAS118"," BAS119"," BAS120"," BAS121"," BAS122"," BAS123"," BAS124"," BAS125"," BAS126"," BAS127"," BAS128"," BAS129"," BAS130"," BAS131"," BAS132"," BAS133"," BAS134"," BAS135"," BAS136"," BAS137"," BAS138"," BAS139"," BAS140"," BAS141"," BAS142"," BAS143"," BAS144"," BAS145"," BAS146"," BAS147"," BAS148"," BAS149"," BAS150"," BAS151"," BAS152"," BAS153"," BAS154"," BAS155"," BAS156"," BAS157"," BAS158"," BAS159"," BAS160"," BAS161"," BAS162"," BAS163"," BAS164"," BAS165"," BAS166"," BAS167"," BAS168"," BAS169"," BAS170"," BAS171"," BAS172"," BAS173"," BAS174"," BAS175"," BAS176"," BAS177"," BAS178"," BAS179"," BAS180"," BAS181"," BAS182"," BAS183"," BAS184"," BAS185"," BAS186"," BAS187"," BAS188"," BAS189"," BAS190"," BAS191"," BAS192"," BAS193"," BAS194"," BAS195"," BAS196"," BAS197"," BAS198"," BAS199"," BAS200"," BAS201"," BAS202"," BAS203"," BAS204"," BAS205"," BAS206"," BAS207"," BAS208"," BAS209"," BAS210"," BAS211"," BAS212"," BAS213"," BAS214"," BAS215"," BAS216"," BAS217"," BAS218"," BAS219"," BAS220"," BAS221"," BAS222"," BAS223"," BAS224"," BAS225"," BAS226"," BAS227"," BAS228"," BAS229"," BAS230"," BAS231"," BAS232"," BAS233"," BAS234"," BAS235"]
[2,0,0,0,0,0,0,0,0,0,0,0,0,0,0,0,0,0,0,0,0,0,0,0,0,0,0,0,0,0,0,0,0,0,0,0,0,0,0,0,0,0,0,0,0,0,0,0,0,0,0,0,0,0,0,0,0,0,0,0,0,0,0,0,0,0,0,0,0,0,0,0,0,0,0,0,0,0,0,0,0,0,0,0,0,0,0,0,0,0,0,0,0,0,0,0,0,0,0,0,0,0,0,0,0,0,0,0,0,0,0,0,0,0,0,0,0,0,0,0,0,0,0,0,0,0,0,0,0,0,0,0,0,0,0,0,0,0,0,0,0,0,0,0,0,0,0,0,0,0,0,0,0,0,0,0,0,0,0,0,0,0,0,0,0,0,0,0,0,0,0,0,0,0,0,0,0,0,0,0,0,0,0,0,0,0,0,0,0,0,0,0,0,0,0,0,0,0,0,0,0,0,0,0,0,0,0,0,0,0,0,0,0,0,0,0,0,0,0,0,0,0,0,0,0,0,0,0,0,0,0,0,0,0,0,0]
[6,0,0,0,0,0,0,0,0,0,0,0,0,0,0,0,0,0,0,0,0,0,0,0,0,0,0,0,0,0,0,0,0,0,0,0,0,0,0,0,0,0,0,0,0,0,0,0,0,0,0,0,0,0,0,0,0,0,0,0,0,0,0,0,0,0,0,0,0,0,0,0,0,0,0,0,0,0,0,0,0,0,0,0,0,0,0,0,0,0,0,0,0,0,0,0,0,0,0,0,0,0,0,0,0,0,0,0,0,0,0,0,0,0,0,0,0,0,0,0,0,0,0,0,0,0,0,0,0,0,0,0,0,0,0,0,0,0,0,0,0,0,0,0,0,0,0,0,0,0,0,0,0,0,0,0,0,0,0,0,0,0,0,0,0,0,0,0,0,0,0,0,0,0,0,0,0,0,0,0,0,0,0,0,0,0,0,0,0,0,0,0,0,0,0,0,0,0,0,0,0,0,0,0,0,0,0,0,0,0,0,0,0,0,0,0,0,0,0,0,0,0,0,0,0,0,0,0,0,0,0,0,0,0,0,0]
[11,0,0,0,0,0,0,0,0,0,0,0,0,0,0,0,0,0,0,0,0,0,0,0,0,0,0,0,0,0,0,0,0,0,0,0,0,0,0,0,0,0,0,0,0,0,0,0,0,0,0,0,0,0,0,0,0,0,0,0,0,0,0,0,0,0,0,0,0,0,0,0,0,0,0,0,0,0,0,0,0,0,0,0,0,0,0,0,0,0,0,0,0,0,0,0,0,0,0,0,0,0,0,0,0,0,0,0,0,0,0,0,0,0,0,0,0,0,0,0,0,0,0,0,0,0,0,0,0,0,0,0,0,0,0,0,0,0,0,0,0,0,0,0,0,0,0,0,0,0,0,0,0,0,0,0,0,0,0,0,0,0,0,0,0,0,0,0,0,0,0,0,0,0,0,0,0,0,0,0,0,0,0,0,0,0,0,0,0,0,0,0,0,0,0,0,0,0,0,0,0,0,0,0,0,0,0,0,0,0,0,0,0,0,0,0,0,0,0,0,0,0,0,0,0,0,0,0,0,0,0,0,0,0,0,0]
[7,0,0,0,0,0,0,0,0,0,0,0,0,0,0,0,0,0,0,0,0,0,0,0,0,0,0,0,0,0,0,0,0,0,0,0,0,0,0,0,0,0,0,0,0,0,0,0,0,0,0,0,0,0,0,0,0,0,0,0,0,0,0,0,0,0,0,0,0,0,0,0,0,0,0,0,0,0,0,0,0,0,0,0,0,0,0,0,0,0,0,0,0,0,0,0,0,0,0,0,0,0,0,0,0,0,0,0,0,0,0,0,0,0,0,0,0,0,0,0,0,0,0,0,0,0,0,0,0,0,0,0,0,0,0,0,0,0,0,0,0,0,0,0,0,0,0,0,0,0,0,0,0,0,0,0,0,0,0,0,0,0,0,0,0,0,0,0,0,0,0,0,0,0,0,0,0,0,0,0,0,0,0,0,0,0,0,0,0,0,0,0,0,0,0,0,0,0,0,0,0,0,0,0,0,0,0,0,0,0,0,0,0,0,0,0,0,0,0,0,0,0,0,0,0,0,0,0,0,0,0,0,0,0,0,0]
[]
[{"$f":"CONCATENATE(A713,\"-\",A714,\"-\",A715,\"-\",A716,\"-\",A717,\"-\",A718,\"-\",A719,\"-\",A720,\"-\",A721,\"-\",A722,\"-\",A723,\"-\",A724)","v":"1-5-2-3-4-6-11-10-9-8-7-Total general"}]
[]
["codmic","(Todas)"]
["cod_estab","(Todas)"]
[null,"Valores"]
["Etiquetas de fila"," BAS001"," BAS002"," BAS003"," BAS004"," BAS005"," BAS006"," BAS007"," BAS008"," BAS009"," BAS010"," BAS011"," BAS012"," BAS013"," BAS014"," BAS015"," BAS016"," BAS017"," BAS018"," BAS019"," BAS020"," BAS021"," BAS022"," BAS023"," BAS024"," BAS025"," BAS026"," BAS027"," BAS028"," BAS029"," BAS030"," BAS031"," BAS032"," BAS033"," BAS034"," BAS035"," BAS036"," BAS037"," BAS038"," BAS039"," BAS040"," BAS041"," BAS042"," BAS043"," BAS044"," BAS045"," BAS046"," BAS047"," BAS048"," BAS049"," BAS050"," BAS051"," BAS052"," BAS053"," BAS054"," BAS055"," BAS056"," BAS057"," BAS058"," BAS059"," BAS060"," BAS061"," BAS062"," BAS063"," BAS064"," BAS065"," BAS066"," BAS067"," BAS068"," BAS069"," BAS070"," BAS071"," BAS072"," BAS073"," BAS074"," BAS075"," BAS076"," BAS077"," BAS078"," BAS079"," BAS080"," BAS081"," BAS082"," BAS083"," BAS084"," BAS085"," BAS086"," BAS087"," BAS088"," BAS089"," BAS090"," BAS091"," BAS092"," BAS093"," BAS094"," BAS095"," BAS096"," BAS097"," BAS098"," BAS099"," BAS100"," BAS101"," BAS102"," BAS103"," BAS104"," BAS105"," BAS106"," BAS107"," BAS108"," BAS109"," BAS110"," BAS111"," BAS112"," BAS113"," BAS114"," BAS115"," BAS116"," BAS117"," BAS118"," BAS119"," BAS120"," BAS121"," BAS122"," BAS123"," BAS124"," BAS125"," BAS126"," BAS127"," BAS128"," BAS129"," BAS130"," BAS131"," BAS132"," BAS133"," BAS134"," BAS135"," BAS136"," BAS137"," BAS138"," BAS139"," BAS140"," BAS141"," BAS142"," BAS143"," BAS144"," BAS145"," BAS146"," BAS147"," BAS148"," BAS149"," BAS150"," BAS151"," BAS152"," BAS153"," BAS154"," BAS155"," BAS156"," BAS157"," BAS158"," BAS159"," BAS160"," BAS161"," BAS162"," BAS163"," BAS164"," BAS165"," BAS166"," BAS167"," BAS168"," BAS169"," BAS170"," BAS171"," BAS172"," BAS173"," BAS174"," BAS175"," BAS176"," BAS177"," BAS178"," BAS179"," BAS180"," BAS181"," BAS182"," BAS183"," BAS184"," BAS185"," BAS186"," BAS187"," BAS188"," BAS189"," BAS190"," BAS191"," BAS192"," BAS193"," BAS194"," BAS195"," BAS196"," BAS197"," BAS198"," BAS199"," BAS200"," BAS201"," BAS202"," BAS203"," BAS204"," BAS205"," BAS206"," BAS207"," BAS208"," BAS209"," BAS210"," BAS211"," BAS212"," BAS213"," BAS214"," BAS215"," BAS216"," BAS217"," BAS218"," BAS219"," BAS220"," BAS221"," BAS222"," BAS223"," BAS224"," BAS225"," BAS226"," BAS227"," BAS228"," BAS229"," BAS230"," BAS231"," BAS232"," BAS233"," BAS234"," BAS235"]
[5,0,0,0,0,0,0,0,0,0,0,0,0,0,0,0,0,0,0,0,0,0,0,0,0,0,0,0,0,0,0,0,0,0,0,0,0,0,0,0,0,0,0,0,0,0,0,0,0,0,0,0,0,0,0,0,0,0,0,0,0,0,0,0,0,0,0,0,0,0,0,0,0,0,0,0,0,0,0,0,0,0,0,0,0,0,0,0,0,0,0,0,0,0,0,0,0,0,0,0,0,0,0,0,0,0,0,0,0,0,0,0,0,0,0,0,0,0,0,0,0,0,0,0,0,0,0,0,0,0,0,0,0,0,0,0,0,0,0,0,0,0,0,0,0,0,0,0,0,0,0,0,0,0,0,0,0,0,0,0,0,0,0,0,0,0,0,0,0,0,0,0,0,0,0,0,0,0,0,0,0,0,0,0,0,0,0,0,0,0,0,0,0,0,0,0,0,0,0,0,0,0,0,0,0,0,0,0,0,0,0,0,0,0,0,0,0,0,0,0,0,0,0,0,0,0,0,0,0,0,0,0,0,0,0,0]
[6,0,0,0,0,0,0,0,0,0,0,0,0,0,0,0,0,0,0,0,0,0,0,0,0,0,0,0,0,0,0,0,0,0,0,0,0,0,0,0,0,0,0,0,0,0,0,0,0,0,0,0,0,0,0,0,0,0,0,0,0,0,0,0,0,0,0,0,0,0,0,0,0,0,0,0,0,0,0,0,0,0,0,0,0,0,0,0,0,0,0,0,0,0,0,0,0,0,0,0,0,0,0,0,0,0,0,0,0,0,0,0,0,0,0,0,0,0,0,0,0,0,0,0,0,0,0,0,0,0,0,0,0,0,0,0,0,0,0,0,0,0,0,0,0,0,0,0,0,0,0,0,0,0,0,0,0,0,0,0,0,0,0,0,0,0,0,0,0,0,0,0,0,0,0,0,0,0,0,0,0,0,0,0,0,0,0,0,0,0,0,0,0,0,0,0,0,0,0,0,0,0,0,0,0,0,0,0,0,0,0,0,0,0,0,0,0,0,0,0,0,0,0,0,0,0,0,0,0,0,0,0,0,0,0,0]
[9,0,0,0,0,0,0,0,0,0,0,0,0,0,0,0,0,0,0,0,0,0,0,0,0,0,0,0,0,0,0,0,0,0,0,0,0,0,0,0,0,0,0,0,0,0,0,0,0,0,0,0,0,0,0,0,0,0,0,0,0,0,0,0,0,0,0,0,0,0,0,0,0,0,0,0,0,0,0,0,0,0,0,0,0,0,0,0,0,0,0,0,0,0,0,0,0,0,0,0,0,0,0,0,0,0,0,0,0,0,0,0,0,0,0,0,0,0,0,0,0,0,0,0,0,0,0,0,0,0,0,0,0,0,0,0,0,0,0,0,0,0,0,0,0,0,0,0,0,0,0,0,0,0,0,0,0,0,0,0,0,0,0,0,0,0,0,0,0,0,0,0,0,0,0,0,0,0,0,0,0,0,0,0,0,0,0,0,0,0,0,0,0,0,0,0,0,0,0,0,0,0,0,0,0,0,0,0,0,0,0,0,0,0,0,0,0,0,0,0,0,0,0,0,0,0,0,0,0,0,0,0,0,0,0,0]
["Total general",0,0,0,0,0,0,0,0,0,0,0,0,0,0,0,0,0,0,0,0,0,0,0,0,0,0,0,0,0,0,0,0,0,0,0,0,0,0,0,0,0,0,0,0,0,0,0,0,0,0,0,0,0,0,0,0,0,0,0,0,0,0,0,0,0,0,0,0,0,0,0,0,0,0,0,0,0,0,0,0,0,0,0,0,0,0,0,0,0,0,0,0,0,0,0,0,0,0,0,0,0,0,0,0,0,0,0,0,0,0,0,0,0,0,0,0,0,0,0,0,0,0,0,0,0,0,0,0,0,0,0,0,0,0,0,0,0,0,0,0,0,0,0,0,0,0,0,0,0,0,0,0,0,0,0,0,0,0,0,0,0,0,0,0,0,0,0,0,0,0,0,0,0,0,0,0,0,0,0,0,0,0,0,0,0,0,0,0,0,0,0,0,0,0,0,0,0,0,0,0,0,0,0,0,0,0,0,0,0,0,0,0,0,0,0,0,0,0,0,0,0,0,0,0,0,0,0,0,0,0,0,0,0,0,0]
[{"$f":"CONCATENATE(A743,\"-\",A744,\"-\",A745,\"-\",A746,\"-\",A747,\"-\",A748,\"-\",A749,\"-\",A750,\"-\",A751,\"-\",A752,\"-\",A753,\"-\",A754)","v":"1-5-2-3-4-6-11-10-9-8-7-Total general"}]
[]
["cod_red","03"]
["codmic","(Todas)"]
["coddist","(Todas)"]
[null,"Valores"]
[5,0,0,0,0,0,0,0,0,0,0,0,0,0,0,0,0,0,0,0,0,0,0,0,0,0,0,0,0,0,0,0,0,0,0,0,0,0,0,0,0,0,0,0,0,0,0,0,0,0,0,0,0,0,0,0,0,0,0,0,0,0,0,0,0,0,0,0,0,0,0,0,0,0,0,0,0,0,0,0,0,0,0,0,0,0,0,0,0,0,0,0,0,0,0,0,0,0,0,0,0,0,0,0,0,0,0,0,0,0,0,0,0,0,0,0,0,0,0,0,0,0,0,0,0,0,0,0,0,0,0,0,0,0,0,0,0,0,0,0,0,0,0,0,0,0,0,0,0,0,0,0,0,0,0,0,0,0,0,0,0,0,0,0,0,0,0,0,0,0,0,0,0,0,0,0,0,0,0,0,0,0,0,0,0,0,0,0,0,0,0,0,0,0,0,0,0,0,0,0,0,0,0,0,0,0,0,0,0,0,0,0,0,0,0,0,0,0,0,0,0,0,0,0,0,0,0,0,0,0,0,0,0,0,0,0]
[4,0,0,0,0,0,0,0,0,0,0,0,0,0,0,0,0,0,0,0,0,0,0,0,0,0,0,0,0,0,0,0,0,0,0,0,0,0,0,0,0,0,0,0,0,0,0,0,0,0,0,0,0,0,0,0,0,0,0,0,0,0,0,0,0,0,0,0,0,0,0,0,0,0,0,0,0,0,0,0,0,0,0,0,0,0,0,0,0,0,0,0,0,0,0,0,0,0,0,0,0,0,0,0,0,0,0,0,0,0,0,0,0,0,0,0,0,0,0,0,0,0,0,0,0,0,0,0,0,0,0,0,0,0,0,0,0,0,0,0,0,0,0,0,0,0,0,0,0,0,0,0,0,0,0,0,0,0,0,0,0,0,0,0,0,0,0,0,0,0,0,0,0,0,0,0,0,0,0,0,0,0,0,0,0,0,0,0,0,0,0,0,0,0,0,0,0,0,0,0,0,0,0,0,0,0,0,0,0,0,0,0,0,0,0,0,0,0,0,0,0,0,0,0,0,0,0,0,0,0,0,0,0,0,0,0]
[9,0,0,0,0,0,0,0,0,0,0,0,0,0,0,0,0,0,0,0,0,0,0,0,0,0,0,0,0,0,0,0,0,0,0,0,0,0,0,0,0,0,0,0,0,0,0,0,0,0,0,0,0,0,0,0,0,0,0,0,0,0,0,0,0,0,0,0,0,0,0,0,0,0,0,0,0,0,0,0,0,0,0,0,0,0,0,0,0,0,0,0,0,0,0,0,0,0,0,0,0,0,0,0,0,0,0,0,0,0,0,0,0,0,0,0,0,0,0,0,0,0,0,0,0,0,0,0,0,0,0,0,0,0,0,0,0,0,0,0,0,0,0,0,0,0,0,0,0,0,0,0,0,0,0,0,0,0,0,0,0,0,0,0,0,0,0,0,0,0,0,0,0,0,0,0,0,0,0,0,0,0,0,0,0,0,0,0,0,0,0,0,0,0,0,0,0,0,0,0,0,0,0,0,0,0,0,0,0,0,0,0,0,0,0,0,0,0,0,0,0,0,0,0,0,0,0,0,0,0,0,0,0,0,0,0]
["Total general",0,0,0,0,0,0,0,0,0,0,0,0,0,0,0,0,0,0,0,0,0,0,0,0,0,0,0,0,0,0,0,0,0,0,0,0,0,0,0,0,0,0,0,0,0,0,0,0,0,0,0,0,0,0,0,0,0,0,0,0,0,0,0,0,0,0,0,0,0,0,0,0,0,0,0,0,0,0,0,0,0,0,0,0,0,0,0,0,0,0,0,0,0,0,0,0,0,0,0,0,0,0,0,0,0,0,0,0,0,0,0,0,0,0,0,0,0,0,0,0,0,0,0,0,0,0,0,0,0,0,0,0,0,0,0,0,0,0,0,0,0,0,0,0,0,0,0,0,0,0,0,0,0,0,0,0,0,0,0,0,0,0,0,0,0,0,0,0,0,0,0,0,0,0,0,0,0,0,0,0,0,0,0,0,0,0,0,0,0,0,0,0,0,0,0,0,0,0,0,0,0,0,0,0,0,0,0,0,0,0,0,0,0,0,0,0,0,0,0,0,0,0,0,0,0,0,0,0,0,0,0,0,0,0,0]
[]
[{"$f":"CONCATENATE(A773,\"-\",A774,\"-\",A775,\"-\",A776,\"-\",A777,\"-\",A778,\"-\",A779,\"-\",A780,\"-\",A781,\"-\",A782,\"-\",A783,\"-\",A784)","v":"1-5-2-3-4-6-11-10-9-8-7-Total general"}]
[null,{"$f":"IF(B789=B772,\"SI\",\"NO\")","v":"SI"},{"$f":"IF(C789=C772,\"SI\",\"NO\")","v":"SI"},"SI","SI","SI","SI","SI","SI","SI","SI","SI","SI","SI","SI","SI","SI","SI","SI","SI","SI","SI","SI","SI","SI","SI","SI","SI","SI","SI","SI","SI","SI","SI","SI","SI","SI","SI","SI","SI","SI","SI","SI","SI","SI","SI","SI","SI","SI","SI","SI","SI","SI","SI","SI","SI","SI","SI","SI","SI","SI","SI","SI","SI","SI","SI",{"$f":"IF(BO789=BO772,\"SI\",\"NO\")","v":"SI"},"SI","SI","SI","SI","SI","SI","SI","SI","SI","SI","SI","SI","SI","SI","SI","SI","SI","SI","SI","SI","SI","SI","SI","SI","SI","SI","SI","SI","SI","SI","SI","SI","SI","SI","SI","SI","SI","SI","SI","SI","SI","SI","SI","SI","SI","SI","SI","SI","SI","SI","SI","SI","SI","SI","SI","SI","SI","SI","SI","SI","SI","SI","SI",{"$f":"IF(EA789=EA772,\"SI\",\"NO\")","v":"SI"},"SI","SI","SI","SI","SI","SI","SI","SI","SI","SI","SI","SI","SI","SI","SI","SI","SI","SI","SI","SI","SI","SI","SI","SI","SI","SI","SI","SI","SI","SI","SI","SI","SI","SI","SI","SI","SI","SI","SI","SI","SI","SI","SI","SI","SI","SI","SI","SI","SI","SI","SI","SI","SI","SI","SI","SI","SI","SI","SI","SI","SI","SI","SI",{"$f":"IF(GM789=GM772,\"SI\",\"NO\")","v":"SI"},"SI","SI","SI","SI","SI","SI","SI","SI","SI","SI","SI","SI","SI","SI","SI","SI","SI","SI","SI","SI","SI","SI","SI","SI","SI","SI","SI","SI","SI","SI","SI","SI","SI","SI","SI","SI","SI","SI","SI","SI","SI"]
["cod_red","03"]
["coddist","(Todas)"]
[]
[5,0,0,0,0,0,0,0,0,0,0,0,0,0,0,0,0,0,0,0,0,0,0,0,0,0,0,0,0,0,0,0,0,0,0,0,0,0,0,0,0,0,0,0,0,0,0,0,0,0,0,0,0,0,0,0,0,0,0,0,0,0,0,0,0,0,0,0,0,0,0,0,0,0,0,0,0,0,0,0,0,0,0,0,0,0,0,0,0,0,0,0,0,0,0,0,0,0,0,0,0,0,0,0,0,0,0,0,0,0,0,0,0,0,0,0,0,0,0,0,0,0,0,0,0,0,0,0,0,0,0,0,0,0,0,0,0,0,0,0,0,0,0,0,0,0,0,0,0,0,0,0,0,0,0,0,0,0,0,0,0,0,0,0,0,0,0,0,0,0,0,0,0,0,0,0,0,0,0,0,0,0,0,0,0,0,0,0,0,0,0,0,0,0,0,0,0,0,0,0,0,0,0,0,0,0,0,0,0,0,0,0,0,0,0,0,0,0,0,0,0,0,0,0,0,0,0,0,0,0,0,0,0,0,0,0]
[4,0,0,0,0,0,0,0,0,0,0,0,0,0,0,0,0,0,0,0,0,0,0,0,0,0,0,0,0,0,0,0,0,0,0,0,0,0,0,0,0,0,0,0,0,0,0,0,0,0,0,0,0,0,0,0,0,0,0,0,0,0,0,0,0,0,0,0,0,0,0,0,0,0,0,0,0,0,0,0,0,0,0,0,0,0,0,0,0,0,0,0,0,0,0,0,0,0,0,0,0,0,0,0,0,0,0,0,0,0,0,0,0,0,0,0,0,0,0,0,0,0,0,0,0,0,0,0,0,0,0,0,0,0,0,0,0,0,0,0,0,0,0,0,0,0,0,0,0,0,0,0,0,0,0,0,0,0,0,0,0,0,0,0,0,0,0,0,0,0,0,0,0,0,0,0,0,0,0,0,0,0,0,0,0,0,0,0,0,0,0,0,0,0,0,0,0,0,0,0,0,0,0,0,0,0,0,0,0,0,0,0,0,0,0,0,0,0,0,0,0,0,0,0,0,0,0,0,0,0,0,0,0,0,0,0]
[6,0,0,0,0,0,0,0,0,0,0,0,0,0,0,0,0,0,0,0,0,0,0,0,0,0,0,0,0,0,0,0,0,0,0,0,0,0,0,0,0,0,0,0,0,0,0,0,0,0,0,0,0,0,0,0,0,0,0,0,0,0,0,0,0,0,0,0,0,0,0,0,0,0,0,0,0,0,0,0,0,0,0,0,0,0,0,0,0,0,0,0,0,0,0,0,0,0,0,0,0,0,0,0,0,0,0,0,0,0,0,0,0,0,0,0,0,0,0,0,0,0,0,0,0,0,0,0,0,0,0,0,0,0,0,0,0,0,0,0,0,0,0,0,0,0,0,0,0,0,0,0,0,0,0,0,0,0,0,0,0,0,0,0,0,0,0,0,0,0,0,0,0,0,0,0,0,0,0,0,0,0,0,0,0,0,0,0,0,0,0,0,0,0,0,0,0,0,0,0,0,0,0,0,0,0,0,0,0,0,0,0,0,0,0,0,0,0,0,0,0,0,0,0,0,0,0,0,0,0,0,0,0,0,0,0]
[9,0,0,0,0,0,0,0,0,0,0,0,0,0,0,0,0,0,0,0,0,0,0,0,0,0,0,0,0,0,0,0,0,0,0,0,0,0,0,0,0,0,0,0,0,0,0,0,0,0,0,0,0,0,0,0,0,0,0,0,0,0,0,0,0,0,0,0,0,0,0,0,0,0,0,0,0,0,0,0,0,0,0,0,0,0,0,0,0,0,0,0,0,0,0,0,0,0,0,0,0,0,0,0,0,0,0,0,0,0,0,0,0,0,0,0,0,0,0,0,0,0,0,0,0,0,0,0,0,0,0,0,0,0,0,0,0,0,0,0,0,0,0,0,0,0,0,0,0,0,0,0,0,0,0,0,0,0,0,0,0,0,0,0,0,0,0,0,0,0,0,0,0,0,0,0,0,0,0,0,0,0,0,0,0,0,0,0,0,0,0,0,0,0,0,0,0,0,0,0,0,0,0,0,0,0,0,0,0,0,0,0,0,0,0,0,0,0,0,0,0,0,0,0,0,0,0,0,0,0,0,0,0,0,0,0]
[7,0,0,0,0,0,0,0,0,0,0,0,0,0,0,0,0,0,0,0,0,0,0,0,0,0,0,0,0,0,0,0,0,0,0,0,0,0,0,0,0,0,0,0,0,0,0,0,0,0,0,0,0,0,0,0,0,0,0,0,0,0,0,0,0,0,0,0,0,0,0,0,0,0,0,0,0,0,0,0,0,0,0,0,0,0,0,0,0,0,0,0,0,0,0,0,0,0,0,0,0,0,0,0,0,0,0,0,0,0,0,0,0,0,0,0,0,0,0,0,0,0,0,0,0,0,0,0,0,0,0,0,0,0,0,0,0,0,0,0,0,0,0,0,0,0,0,0,0,0,0,0,0,0,0,0,0,0,0,0,0,0,0,0,0,0,0,0,0,0,0,0,0,0,0,0,0,0,0,0,0,0,0,0,0,0,0,0,0,0,0,0,0,0,0,0,0,0,0,0,0,0,0,0,0,0,0,0,0,0,0,0,0,0,0,0,0,0,0,0,0,0,0,0,0,0,0,0,0,0,0,0,0,0,0,0]
[{"$f":"COUNT(A803:A814)","v":11},{"$f":"SUM(B803:B814)","v":0},{"$f":"SUM(C803:C814)","v":0},0,0,0,0,0,0,0,0,0,0,0,0,0,0,0,0,0,0,0,0,0,0,0,0,0,0,0,0,0,0,0,0,0,0,0,0,0,0,0,0,0,0,0,0,0,0,0,0,0,0,0,0,0,0,0,0,0,0,0,0,0,0,0,{"$f":"SUM(BO803:BO814)","v":0},0,0,0,0,0,0,0,0,0,0,0,0,0,0,0,0,0,0,0,0,0,0,0,0,0,0,0,0,0,0,0,0,0,0,0,0,0,0,0,0,0,0,0,0,0,0,0,0,0,0,0,0,0,0,0,0,0,0,0,0,0,0,0,{"$f":"SUM(EA803:EA814)","v":0},0,0,0,0,0,0,0,0,0,0,0,0,0,0,0,0,0,0,0,0,0,0,0,0,0,0,0,0,0,0,0,0,0,0,0,0,0,0,0,0,0,0,0,0,0,0,0,0,0,0,0,0,0,0,0,0,0,0,0,0,0,0,0,{"$f":"SUM(GM803:GM814)","v":0},0,0,0,0,0,0,0,0,0,0,0,0,0,0,0,0,0,0,0,0,0,0,0,0,0,0,0,0,0,0,0,0,0,0,0,0,0,0,0,0,0]
[null,{"$f":"IF(B819=B802,\"SI\",\"NO\")","v":"SI"},{"$f":"IF(C819=C802,\"SI\",\"NO\")","v":"SI"},"SI","SI","SI","SI","SI","SI","SI","SI","SI","SI","SI","SI","SI","SI","SI","SI","SI","SI","SI","SI","SI","SI","SI","SI","SI","SI","SI","SI","SI","SI","SI","SI","SI","SI","SI","SI","SI","SI","SI","SI","SI","SI","SI","SI","SI","SI","SI","SI","SI","SI","SI","SI","SI","SI","SI","SI","SI","SI","SI","SI","SI","SI","SI",{"$f":"IF(BO819=BO802,\"SI\",\"NO\")","v":"SI"},"SI","SI","SI","SI","SI","SI","SI","SI","SI","SI","SI","SI","SI","SI","SI","SI","SI","SI","SI","SI","SI","SI","SI","SI","SI","SI","SI","SI","SI","SI","SI","SI","SI","SI","SI","SI","SI","SI","SI","SI","SI","SI","SI","SI","SI","SI","SI","SI","SI","SI","SI","SI","SI","SI","SI","SI","SI","SI","SI","SI","SI","SI","SI",{"$f":"IF(EA819=EA802,\"SI\",\"NO\")","v":"SI"},"SI","SI","SI","SI","SI","SI","SI","SI","SI","SI","SI","SI","SI","SI","SI","SI","SI","SI","SI","SI","SI","SI","SI","SI","SI","SI","SI","SI","SI","SI","SI","SI","SI","SI","SI","SI","SI","SI","SI","SI","SI","SI","SI","SI","SI","SI","SI","SI","SI","SI","SI","SI","SI","SI","SI","SI","SI","SI","SI","SI","SI","SI","SI",{"$f":"IF(GM819=GM802,\"SI\",\"NO\")","v":"SI"},"SI","SI","SI","SI","SI","SI","SI","SI","SI","SI","SI","SI","SI","SI","SI","SI","SI","SI","SI","SI","SI","SI","SI","SI","SI","SI","SI","SI","SI","SI","SI","SI","SI","SI","SI","SI","SI","SI","SI","SI","SI"]
["cod_red","03"]
["coddist","(Todas)"]
[]
[null,"Valores"]
[5,0,0,0,0,0,0,0,0,0,0,0,0,0,0,0,0,0,0,0,0,0,0,0,0,0,0,0,0,0,0,0,0,0,0,0,0,0,0,0,0,0,0,0,0,0,0,0,0,0,0,0,0,0,0,0,0,0,0,0,0,0,0,0,0,0,0,0,0,0,0,0,0,0,0,0,0,0,0,0,0,0,0,0,0,0,0,0,0,0,0,0,0,0,0,0,0,0,0,0,0,0,0,0,0,0,0,0,0,0,0,0,0,0,0,0,0,0,0,0,0,0,0,0,0,0,0,0,0,0,0,0,0,0,0,0,0,0,0,0,0,0,0,0,0,0,0,0,0,0,0,0,0,0,0,0,0,0,0,0,0,0,0,0,0,0,0,0,0,0,0,0,0,0,0,0,0,0,0,0,0,0,0,0,0,0,0,0,0,0,0,0,0,0,0,0,0,0,0,0,0,0,0,0,0,0,0,0,0,0,0,0,0,0,0,0,0,0,0,0,0,0,0,0,0,0,0,0,0,0,0,0,0,0,0,0]
[3,0,0,0,0,0,0,0,0,0,0,0,0,0,0,0,0,0,0,0,0,0,0,0,0,0,0,0,0,0,0,0,0,0,0,0,0,0,0,0,0,0,0,0,0,0,0,0,0,0,0,0,0,0,0,0,0,0,0,0,0,0,0,0,0,0,0,0,0,0,0,0,0,0,0,0,0,0,0,0,0,0,0,0,0,0,0,0,0,0,0,0,0,0,0,0,0,0,0,0,0,0,0,0,0,0,0,0,0,0,0,0,0,0,0,0,0,0,0,0,0,0,0,0,0,0,0,0,0,0,0,0,0,0,0,0,0,0,0,0,0,0,0,0,0,0,0,0,0,0,0,0,0,0,0,0,0,0,0,0,0,0,0,0,0,0,0,0,0,0,0,0,0,0,0,0,0,0,0,0,0,0,0,0,0,0,0,0,0,0,0,0,0,0,0,0,0,0,0,0,0,0,0,0,0,0,0,0,0,0,0,0,0,0,0,0,0,0,0,0,0,0,0,0,0,0,0,0,0,0,0,0,0,0,0,0]
[10,0,0,0,0,0,0,0,0,0,0,0,0,0,0,0,0,0,0,0,0,0,0,0,0,0,0,0,0,0,0,0,0,0,0,0,0,0,0,0,0,0,0,0,0,0,0,0,0,0,0,0,0,0,0,0,0,0,0,0,0,0,0,0,0,0,0,0,0,0,0,0,0,0,0,0,0,0,0,0,0,0,0,0,0,0,0,0,0,0,0,0,0,0,0,0,0,0,0,0,0,0,0,0,0,0,0,0,0,0,0,0,0,0,0,0,0,0,0,0,0,0,0,0,0,0,0,0,0,0,0,0,0,0,0,0,0,0,0,0,0,0,0,0,0,0,0,0,0,0,0,0,0,0,0,0,0,0,0,0,0,0,0,0,0,0,0,0,0,0,0,0,0,0,0,0,0,0,0,0,0,0,0,0,0,0,0,0,0,0,0,0,0,0,0,0,0,0,0,0,0,0,0,0,0,0,0,0,0,0,0,0,0,0,0,0,0,0,0,0,0,0,0,0,0,0,0,0,0,0,0,0,0,0,0,0]
[7,0,0,0,0,0,0,0,0,0,0,0,0,0,0,0,0,0,0,0,0,0,0,0,0,0,0,0,0,0,0,0,0,0,0,0,0,0,0,0,0,0,0,0,0,0,0,0,0,0,0,0,0,0,0,0,0,0,0,0,0,0,0,0,0,0,0,0,0,0,0,0,0,0,0,0,0,0,0,0,0,0,0,0,0,0,0,0,0,0,0,0,0,0,0,0,0,0,0,0,0,0,0,0,0,0,0,0,0,0,0,0,0,0,0,0,0,0,0,0,0,0,0,0,0,0,0,0,0,0,0,0,0,0,0,0,0,0,0,0,0,0,0,0,0,0,0,0,0,0,0,0,0,0,0,0,0,0,0,0,0,0,0,0,0,0,0,0,0,0,0,0,0,0,0,0,0,0,0,0,0,0,0,0,0,0,0,0,0,0,0,0,0,0,0,0,0,0,0,0,0,0,0,0,0,0,0,0,0,0,0,0,0,0,0,0,0,0,0,0,0,0,0,0,0,0,0,0,0,0,0,0,0,0,0,0]
[{"$f":"COUNT(A833:A844)","v":11},{"$f":"SUM(B833:B844)","v":0},{"$f":"SUM(C833:C844)","v":0},0,0,0,0,0,0,0,0,0,0,0,0,0,0,0,0,0,0,0,0,0,0,0,0,0,0,0,0,0,0,0,0,0,0,0,0,0,0,0,0,0,0,0,0,0,0,0,0,0,0,0,0,0,0,0,0,0,0,0,0,0,0,0,{"$f":"SUM(BO833:BO844)","v":0},0,0,0,0,0,0,0,0,0,0,0,0,0,0,0,0,0,0,0,0,0,0,0,0,0,0,0,0,0,0,0,0,0,0,0,0,0,0,0,0,0,0,0,0,0,0,0,0,0,0,0,0,0,0,0,0,0,0,0,0,0,0,0,{"$f":"SUM(EA833:EA844)","v":0},0,0,0,0,0,0,0,0,0,0,0,0,0,0,0,0,0,0,0,0,0,0,0,0,0,0,0,0,0,0,0,0,0,0,0,0,0,0,0,0,0,0,0,0,0,0,0,0,0,0,0,0,0,0,0,0,0,0,0,0,0,0,0,{"$f":"SUM(GM833:GM844)","v":0},0,0,0,0,0,0,0,0,0,0,0,0,0,0,0,0,0,0,0,0,0,0,0,0,0,0,0,0,0,0,0,0,0,0,0,0,0,0,0,0,0]
[null,{"$f":"IF(B849=B832,\"SI\",\"NO\")","v":"SI"},{"$f":"IF(C849=C832,\"SI\",\"NO\")","v":"SI"},"SI","SI","SI","SI","SI","SI","SI","SI","SI","SI","SI","SI","SI","SI","SI","SI","SI","SI","SI","SI","SI","SI","SI","SI","SI","SI","SI","SI","SI","SI","SI","SI","SI","SI","SI","SI","SI","SI","SI","SI","SI","SI","SI","SI","SI","SI","SI","SI","SI","SI","SI","SI","SI","SI","SI","SI","SI","SI","SI","SI","SI","SI","SI",{"$f":"IF(BO849=BO832,\"SI\",\"NO\")","v":"SI"},"SI","SI","SI","SI","SI","SI","SI","SI","SI","SI","SI","SI","SI","SI","SI","SI","SI","SI","SI","SI","SI","SI","SI","SI","SI","SI","SI","SI","SI","SI","SI","SI","SI","SI","SI","SI","SI","SI","SI","SI","SI","SI","SI","SI","SI","SI","SI","SI","SI","SI","SI","SI","SI","SI","SI","SI","SI","SI","SI","SI","SI","SI","SI",{"$f":"IF(EA849=EA832,\"SI\",\"NO\")","v":"SI"},"SI","SI","SI","SI","SI","SI","SI","SI","SI","SI","SI","SI","SI","SI","SI","SI","SI","SI","SI","SI","SI","SI","SI","SI","SI","SI","SI","SI","SI","SI","SI","SI","SI","SI","SI","SI","SI","SI","SI","SI","SI","SI","SI","SI","SI","SI","SI","SI","SI","SI","SI","SI","SI","SI","SI","SI","SI","SI","SI","SI","SI","SI","SI",{"$f":"IF(GM849=GM832,\"SI\",\"NO\")","v":"SI"},"SI","SI","SI","SI","SI","SI","SI","SI","SI","SI","SI","SI","SI","SI","SI","SI","SI","SI","SI","SI","SI","SI","SI","SI","SI","SI","SI","SI","SI","SI","SI","SI","SI","SI","SI","SI","SI","SI","SI","SI","SI"]
["anno",2024]
["codmic","(Todas)"]
["cod_prov","(Todas)"]
["cod_eje","(Todas)"]
[1,0,0,0,0,0,0,0,0,0,0,0,0,0,0,0,0,0,0,0,0,0,0,0,0,0,0,0,0,0,0,0,0,0,0,0,0,0,0,0,0,0,0,0,0,0,0,0,0,0,0,0,0,0,0,0,0,0,0,0,0,0,0,0,0,0,0,0,0,0,0,0,0,0,0,0,0,0,0,0,0,0,0,0,0,0,0,0,0,0,0,0,0,0,0,0,0,0,0,0,0,0,0,0,0,0,0,0,0,0,0,0,0,0,0,0,0,0,0,0,0,0,0,0,0,0,0,0,0,0,0,0,0,0,0,0,0,0,0,0,0,0,0,0,0,0,0,0,0,0,0,0,0,0,0,0,0,0,0,0,0,0,0,0,0,0,0,0,0,0,0,0,0,0,0,0,0,0,0,0,0,0,0,0,0,0,0,0,0,0,0,0,0,0,0,0,0,0,0,0,0,0,0,0,0,0,0,0,0,0,0,0,0,0,0,0,0,0,0,0,0,0,0,0,0,0,0,0,0,0,0,0,0,0,0,0]
[3,0,0,0,0,0,0,0,0,0,0,0,0,0,0,0,0,0,0,0,0,0,0,0,0,0,0,0,0,0,0,0,0,0,0,0,0,0,0,0,0,0,0,0,0,0,0,0,0,0,0,0,0,0,0,0,0,0,0,0,0,0,0,0,0,0,0,0,0,0,0,0,0,0,0,0,0,0,0,0,0,0,0,0,0,0,0,0,0,0,0,0,0,0,0,0,0,0,0,0,0,0,0,0,0,0,0,0,0,0,0,0,0,0,0,0,0,0,0,0,0,0,0,0,0,0,0,0,0,0,0,0,0,0,0,0,0,0,0,0,0,0,0,0,0,0,0,0,0,0,0,0,0,0,0,0,0,0,0,0,0,0,0,0,0,0,0,0,0,0,0,0,0,0,0,0,0,0,0,0,0,0,0,0,0,0,0,0,0,0,0,0,0,0,0,0,0,0,0,0,0,0,0,0,0,0,0,0,0,0,0,0,0,0,0,0,0,0,0,0,0,0,0,0,0,0,0,0,0,0,0,0,0,0,0,0]
[10,0,0,0,0,0,0,0,0,0,0,0,0,0,0,0,0,0,0,0,0,0,0,0,0,0,0,0,0,0,0,0,0,0,0,0,0,0,0,0,0,0,0,0,0,0,0,0,0,0,0,0,0,0,0,0,0,0,0,0,0,0,0,0,0,0,0,0,0,0,0,0,0,0,0,0,0,0,0,0,0,0,0,0,0,0,0,0,0,0,0,0,0,0,0,0,0,0,0,0,0,0,0,0,0,0,0,0,0,0,0,0,0,0,0,0,0,0,0,0,0,0,0,0,0,0,0,0,0,0,0,0,0,0,0,0,0,0,0,0,0,0,0,0,0,0,0,0,0,0,0,0,0,0,0,0,0,0,0,0,0,0,0,0,0,0,0,0,0,0,0,0,0,0,0,0,0,0,0,0,0,0,0,0,0,0,0,0,0,0,0,0,0,0,0,0,0,0,0,0,0,0,0,0,0,0,0,0,0,0,0,0,0,0,0,0,0,0,0,0,0,0,0,0,0,0,0,0,0,0,0,0,0,0,0,0]
[7,0,0,0,0,0,0,0,0,0,0,0,0,0,0,0,0,0,0,0,0,0,0,0,0,0,0,0,0,0,0,0,0,0,0,0,0,0,0,0,0,0,0,0,0,0,0,0,0,0,0,0,0,0,0,0,0,0,0,0,0,0,0,0,0,0,0,0,0,0,0,0,0,0,0,0,0,0,0,0,0,0,0,0,0,0,0,0,0,0,0,0,0,0,0,0,0,0,0,0,0,0,0,0,0,0,0,0,0,0,0,0,0,0,0,0,0,0,0,0,0,0,0,0,0,0,0,0,0,0,0,0,0,0,0,0,0,0,0,0,0,0,0,0,0,0,0,0,0,0,0,0,0,0,0,0,0,0,0,0,0,0,0,0,0,0,0,0,0,0,0,0,0,0,0,0,0,0,0,0,0,0,0,0,0,0,0,0,0,0,0,0,0,0,0,0,0,0,0,0,0,0,0,0,0,0,0,0,0,0,0,0,0,0,0,0,0,0,0,0,0,0,0,0,0,0,0,0,0,0,0,0,0,0,0,0]
["TOTAL"]
[{"$f":"CONCATENATE(A863,\"-\",A864,\"-\",A865,\"-\",A866,\"-\",A867,\"-\",A868,\"-\",A869,\"-\",A870,\"-\",A871,\"-\",A872,\"-\",A873,\"-\",A874)","v":"1-5-2-3-4-6-11-10-9-8-7-Total general"}]
[null," BAS001"," BAS002"," BAS003"," BAS004"," BAS005"," BAS006"," BAS007"," BAS008"," BAS009"," BAS010"," BAS011"," BAS012"," BAS013"," BAS014"," BAS015"," BAS016"," BAS017"," BAS018"," BAS019"," BAS020"," BAS021"," BAS022"," BAS023"," BAS024"," BAS025"," BAS026"," BAS027"," BAS028"," BAS029"," BAS030"," BAS031"," BAS032"," BAS033"," BAS034"," BAS035"," BAS036"," BAS037"," BAS038"," BAS039"," BAS040"," BAS041"," BAS042"," BAS043"," BAS044"," BAS045"," BAS046"," BAS047"," BAS048"," BAS049"," BAS050"," BAS051"," BAS052"," BAS053"," BAS054"," BAS055"," BAS056"," BAS057"," BAS058"," BAS059"," BAS060"," BAS061"," BAS062"," BAS063"," BAS064"," BAS065"," BAS066"," BAS067"," BAS068"," BAS069"," BAS070"," BAS071"," BAS072"," BAS073"," BAS074"," BAS075"," BAS076"," BAS077"," BAS078"," BAS079"," BAS080"," BAS081"," BAS082"," BAS083"," BAS084"," BAS085"," BAS086"," BAS087"," BAS088"," BAS089"," BAS090"," BAS091"," BAS092"," BAS093"," BAS094"," BAS095"," BAS096"," BAS097"," BAS098"," BAS099"," BAS100"," BAS101"," BAS102"," BAS103"," BAS104"," BAS105"," BAS106"," BAS107"," BAS108"," BAS109"," BAS110"," BAS111"," BAS112"," BAS113"," BAS114"," BAS115"," BAS116"," BAS117"," BAS118"," BAS119"," BAS120"," BAS121"," BAS122"," BAS123"," BAS124"," BAS125"," BAS126"," BAS127"," BAS128"," BAS129"," BAS130"," BAS131"," BAS132"," BAS133"," BAS134"," BAS135"," BAS136"," BAS137"," BAS138"," BAS139"," BAS140"," BAS141"," BAS142"," BAS143"," BAS144"," BAS145"," BAS146"," BAS147"," BAS148"," BAS149"," BAS150"," BAS151"," BAS152"," BAS153"," BAS154"," BAS155"," BAS156"," BAS157"," BAS158"," BAS159"," BAS160"," BAS161"," BAS162"," BAS163"," BAS164"," BAS165"," BAS166"," BAS167"," BAS168"," BAS169"," BAS170"," BAS171"," BAS172"," BAS173"," BAS174"," BAS175"," BAS176"," BAS177"," BAS178"," BAS179"," BAS180"," BAS181"," BAS182"," BAS183"," BAS184"," BAS185"," BAS186"," BAS187"," BAS188"," BAS189"," BAS190"," BAS191"," BAS192"," BAS193"," BAS194"," BAS195"," BAS196"," BAS197"," BAS198"," BAS199"," BAS200"," BAS201"," BAS202"," BAS203"," BAS204"," BAS205"," BAS206"," BAS207"," BAS208"," BAS209"," BAS210"," BAS211"," BAS212"," BAS213"," BAS214"," BAS215"," BAS216"," BAS217"," BAS218"," BAS219"," BAS220"," BAS221"," BAS222"," BAS223"," BAS224"," BAS225"," BAS226"," BAS227"," BAS228"," BAS229"," BAS230"," BAS231"," BAS232"," BAS233"," BAS234"," BAS235"]
["anno",2024]
["cod_prov","(Todas)"]
["cod_eje","(Todas)"]
[1,0,0,0,0,0,0,0,0,0,0,0,0,0,0,0,0,0,0,0,0,0,0,0,0,0,0,0,0,0,0,0,0,0,0,0,0,0,0,0,0,0,0,0,0,0,0,0,0,0,0,0,0,0,0,0,0,0,0,0,0,0,0,0,0,0,0,0,0,0,0,0,0,0,0,0,0,0,0,0,0,0,0,0,0,0,0,0,0,0,0,0,0,0,0,0,0,0,0,0,0,0,0,0,0,0,0,0,0,0,0,0,0,0,0,0,0,0,0,0,0,0,0,0,0,0,0,0,0,0,0,0,0,0,0,0,0,0,0,0,0,0,0,0,0,0,0,0,0,0,0,0,0,0,0,0,0,0,0,0,0,0,0,0,0,0,0,0,0,0,0,0,0,0,0,0,0,0,0,0,0,0,0,0,0,0,0,0,0,0,0,0,0,0,0,0,0,0,0,0,0,0,0,0,0,0,0,0,0,0,0,0,0,0,0,0,0,0,0,0,0,0,0,0,0,0,0,0,0,0,0,0,0,0,0,0]
[3,0,0,0,0,0,0,0,0,0,0,0,0,0,0,0,0,0,0,0,0,0,0,0,0,0,0,0,0,0,0,0,0,0,0,0,0,0,0,0,0,0,0,0,0,0,0,0,0,0,0,0,0,0,0,0,0,0,0,0,0,0,0,0,0,0,0,0,0,0,0,0,0,0,0,0,0,0,0,0,0,0,0,0,0,0,0,0,0,0,0,0,0,0,0,0,0,0,0,0,0,0,0,0,0,0,0,0,0,0,0,0,0,0,0,0,0,0,0,0,0,0,0,0,0,0,0,0,0,0,0,0,0,0,0,0,0,0,0,0,0,0,0,0,0,0,0,0,0,0,0,0,0,0,0,0,0,0,0,0,0,0,0,0,0,0,0,0,0,0,0,0,0,0,0,0,0,0,0,0,0,0,0,0,0,0,0,0,0,0,0,0,0,0,0,0,0,0,0,0,0,0,0,0,0,0,0,0,0,0,0,0,0,0,0,0,0,0,0,0,0,0,0,0,0,0,0,0,0,0,0,0,0,0,0,0]
[11,0,0,0,0,0,0,0,0,0,0,0,0,0,0,0,0,0,0,0,0,0,0,0,0,0,0,0,0,0,0,0,0,0,0,0,0,0,0,0,0,0,0,0,0,0,0,0,0,0,0,0,0,0,0,0,0,0,0,0,0,0,0,0,0,0,0,0,0,0,0,0,0,0,0,0,0,0,0,0,0,0,0,0,0,0,0,0,0,0,0,0,0,0,0,0,0,0,0,0,0,0,0,0,0,0,0,0,0,0,0,0,0,0,0,0,0,0,0,0,0,0,0,0,0,0,0,0,0,0,0,0,0,0,0,0,0,0,0,0,0,0,0,0,0,0,0,0,0,0,0,0,0,0,0,0,0,0,0,0,0,0,0,0,0,0,0,0,0,0,0,0,0,0,0,0,0,0,0,0,0,0,0,0,0,0,0,0,0,0,0,0,0,0,0,0,0,0,0,0,0,0,0,0,0,0,0,0,0,0,0,0,0,0,0,0,0,0,0,0,0,0,0,0,0,0,0,0,0,0,0,0,0,0,0,0]
[9,0,0,0,0,0,0,0,0,0,0,0,0,0,0,0,0,0,0,0,0,0,0,0,0,0,0,0,0,0,0,0,0,0,0,0,0,0,0,0,0,0,0,0,0,0,0,0,0,0,0,0,0,0,0,0,0,0,0,0,0,0,0,0,0,0,0,0,0,0,0,0,0,0,0,0,0,0,0,0,0,0,0,0,0,0,0,0,0,0,0,0,0,0,0,0,0,0,0,0,0,0,0,0,0,0,0,0,0,0,0,0,0,0,0,0,0,0,0,0,0,0,0,0,0,0,0,0,0,0,0,0,0,0,0,0,0,0,0,0,0,0,0,0,0,0,0,0,0,0,0,0,0,0,0,0,0,0,0,0,0,0,0,0,0,0,0,0,0,0,0,0,0,0,0,0,0,0,0,0,0,0,0,0,0,0,0,0,0,0,0,0,0,0,0,0,0,0,0,0,0,0,0,0,0,0,0,0,0,0,0,0,0,0,0,0,0,0,0,0,0,0,0,0,0,0,0,0,0,0,0,0,0,0,0,0]
[8,0,0,0,0,0,0,0,0,0,0,0,0,0,0,0,0,0,0,0,0,0,0,0,0,0,0,0,0,0,0,0,0,0,0,0,0,0,0,0,0,0,0,0,0,0,0,0,0,0,0,0,0,0,0,0,0,0,0,0,0,0,0,0,0,0,0,0,0,0,0,0,0,0,0,0,0,0,0,0,0,0,0,0,0,0,0,0,0,0,0,0,0,0,0,0,0,0,0,0,0,0,0,0,0,0,0,0,0,0,0,0,0,0,0,0,0,0,0,0,0,0,0,0,0,0,0,0,0,0,0,0,0,0,0,0,0,0,0,0,0,0,0,0,0,0,0,0,0,0,0,0,0,0,0,0,0,0,0,0,0,0,0,0,0,0,0,0,0,0,0,0,0,0,0,0,0,0,0,0,0,0,0,0,0,0,0,0,0,0,0,0,0,0,0,0,0,0,0,0,0,0,0,0,0,0,0,0,0,0,0,0,0,0,0,0,0,0,0,0,0,0,0,0,0,0,0,0,0,0,0,0,0,0,0,0]
["TOTAL"]
[null," BAS001"," BAS002"," BAS003"," BAS004"," BAS005"," BAS006"," BAS007"," BAS008"," BAS009"," BAS010"," BAS011"," BAS012"," BAS013"," BAS014"," BAS015"," BAS016"," BAS017"," BAS018"," BAS019"," BAS020"," BAS021"," BAS022"," BAS023"," BAS024"," BAS025"," BAS026"," BAS027"," BAS028"," BAS029"," BAS030"," BAS031"," BAS032"," BAS033"," BAS034"," BAS035"," BAS036"," BAS037"," BAS038"," BAS039"," BAS040"," BAS041"," BAS042"," BAS043"," BAS044"," BAS045"," BAS046"," BAS047"," BAS048"," BAS049"," BAS050"," BAS051"," BAS052"," BAS053"," BAS054"," BAS055"," BAS056"," BAS057"," BAS058"," BAS059"," BAS060"," BAS061"," BAS062"," BAS063"," BAS064"," BAS065"," BAS066"," BAS067"," BAS068"," BAS069"," BAS070"," BAS071"," BAS072"," BAS073"," BAS074"," BAS075"," BAS076"," BAS077"," BAS078"," BAS079"," BAS080"," BAS081"," BAS082"," BAS083"," BAS084"," BAS085"," BAS086"," BAS087"," BAS088"," BAS089"," BAS090"," BAS091"," BAS092"," BAS093"," BAS094"," BAS095"," BAS096"," BAS097"," BAS098"," BAS099"," BAS100"," BAS101"," BAS102"," BAS103"," BAS104"," BAS105"," BAS106"," BAS107"," BAS108"," BAS109"," BAS110"," BAS111"," BAS112"," BAS113"," BAS114"," BAS115"," BAS116"," BAS117"," BAS118"," BAS119"," BAS120"," BAS121"," BAS122"," BAS123"," BAS124"," BAS125"," BAS126"," BAS127"," BAS128"," BAS129"," BAS130"," BAS131"," BAS132"," BAS133"," BAS134"," BAS135"," BAS136"," BAS137"," BAS138"," BAS139"," BAS140"," BAS141"," BAS142"," BAS143"," BAS144"," BAS145"," BAS146"," BAS147"," BAS148"," BAS149"," BAS150"," BAS151"," BAS152"," BAS153"," BAS154"," BAS155"," BAS156"," BAS157"," BAS158"," BAS159"," BAS160"," BAS161"," BAS162"," BAS163"," BAS164"," BAS165"," BAS166"," BAS167"," BAS168"," BAS169"," BAS170"," BAS171"," BAS172"," BAS173"," BAS174"," BAS175"," BAS176"," BAS177"," BAS178"," BAS179"," BAS180"," BAS181"," BAS182"," BAS183"," BAS184"," BAS185"," BAS186"," BAS187"," BAS188"," BAS189"," BAS190"," BAS191"," BAS192"," BAS193"," BAS194"," BAS195"," BAS196"," BAS197"," BAS198"," BAS199"," BAS200"," BAS201"," BAS202"," BAS203"," BAS204"," BAS205"," BAS206"," BAS207"," BAS208"," BAS209"," BAS210"," BAS211"," BAS212"," BAS213"," BAS214"," BAS215"," BAS216"," BAS217"," BAS218"," BAS219"," BAS220"," BAS221"," BAS222"," BAS223"," BAS224"," BAS225"," BAS226"," BAS227"," BAS228"," BAS229"," BAS230"," BAS231"," BAS232"," BAS233"," BAS234"," BAS235"]
["AB812007"]
["cod_prov","(Todas)"]
["cod_eje","(Todas)"]
["Etiquetas de fila"," BAS001"," BAS002"," BAS003"," BAS004"," BAS005"," BAS006"," BAS007"," BAS008"," BAS009"," BAS010"," BAS011"," BAS012"," BAS013"," BAS014"," BAS015"," BAS016"," BAS017"," BAS018"," BAS019"," BAS020"," BAS021"," BAS022"," BAS023"," BAS024"," BAS025"," BAS026"," BAS027"," BAS028"," BAS029"," BAS030"," BAS031"," BAS032"," BAS033"," BAS034"," BAS035"," BAS036"," BAS037"," BAS038"," BAS039"," BAS040"," BAS041"," BAS042"," BAS043"," BAS044"," BAS045"," BAS046"," BAS047"," BAS048"," BAS049"," BAS050"," BAS051"," BAS052"," BAS053"," BAS054"," BAS055"," BAS056"," BAS057"," BAS058"," BAS059"," BAS060"," BAS061"," BAS062"," BAS063"," BAS064"," BAS065"," BAS066"," BAS067"," BAS068"," BAS069"," BAS070"," BAS071"," BAS072"," BAS073"," BAS074"," BAS075"," BAS076"," BAS077"," BAS078"," BAS079"," BAS080"," BAS081"," BAS082"," BAS083"," BAS084"," BAS085"," BAS086"," BAS087"," BAS088"," BAS089"," BAS090"," BAS091"," BAS092"," BAS093"," BAS094"," BAS095"," BAS096"," BAS097"," BAS098"," BAS099"," BAS100"," BAS101"," BAS102"," BAS103"," BAS104"," BAS105"," BAS106"," BAS107"," BAS108"," BAS109"," BAS110"," BAS111"," BAS112"," BAS113"," BAS114"," BAS115"," BAS116"," BAS117"," BAS118"," BAS119"," BAS120"," BAS121"," BAS122"," BAS123"," BAS124"," BAS125"," BAS126"," BAS127"," BAS128"," BAS129"," BAS130"," BAS131"," BAS132"," BAS133"," BAS134"," BAS135"," BAS136"," BAS137"," BAS138"," BAS139"," BAS140"," BAS141"," BAS142"," BAS143"," BAS144"," BAS145"," BAS146"," BAS147"," BAS148"," BAS149"," BAS150"," BAS151"," BAS152"," BAS153"," BAS154"," BAS155"," BAS156"," BAS157"," BAS158"," BAS159"," BAS160"," BAS161"," BAS162"," BAS163"," BAS164"," BAS165"," BAS166"," BAS167"," BAS168"," BAS169"," BAS170"," BAS171"," BAS172"," BAS173"," BAS174"," BAS175"," BAS176"," BAS177"," BAS178"," BAS179"," BAS180"," BAS181"," BAS182"," BAS183"," BAS184"," BAS185"," BAS186"," BAS187"," BAS188"," BAS189"," BAS190"," BAS191"," BAS192"," BAS193"," BAS194"," BAS195"," BAS196"," BAS197"," BAS198"," BAS199"," BAS200"," BAS201"," BAS202"," BAS203"," BAS204"," BAS205"," BAS206"," BAS207"," BAS208"," BAS209"," BAS210"," BAS211"," BAS212"," BAS213"," BAS214"," BAS215"," BAS216"," BAS217"," BAS218"," BAS219"," BAS220"," BAS221"," BAS222"," BAS223"," BAS224"," BAS225"," BAS226"," BAS227"," BAS228"," BAS229"," BAS230"," BAS231"," BAS232"," BAS233"," BAS234"," BAS235"]
[5,0,0,0,0,0,0,0,0,0,0,0,0,0,0,0,0,0,0,0,0,0,0,0,0,0,0,0,0,0,0,0,0,0,0,0,0,0,0,0,0,0,0,0,0,0,0,0,0,0,0,0,0,0,0,0,0,0,0,0,0,0,0,0,0,0,0,0,0,0,0,0,0,0,0,0,0,0,0,0,0,0,0,0,0,0,0,0,0,0,0,0,0,0,0,0,0,0,0,0,0,0,0,0,0,0,0,0,0,0,0,0,0,0,0,0,0,0,0,0,0,0,0,0,0,0,0,0,0,0,0,0,0,0,0,0,0,0,0,0,0,0,0,0,0,0,0,0,0,0,0,0,0,0,0,0,0,0,0,0,0,0,0,0,0,0,0,0,0,0,0,0,0,0,0,0,0,0,0,0,0,0,0,0,0,0,0,0,0,0,0,0,0,0,0,0,0,0,0,0,0,0,0,0,0,0,0,0,0,0,0,0,0,0,0,0,0,0,0,0,0,0,0,0,0,0,0,0,0,0,0,0,0,0,0,0]
[2,0,0,0,0,0,0,0,0,0,0,0,0,0,0,0,0,0,0,0,0,0,0,0,0,0,0,0,0,0,0,0,0,0,0,0,0,0,0,0,0,0,0,0,0,0,0,0,0,0,0,0,0,0,0,0,0,0,0,0,0,0,0,0,0,0,0,0,0,0,0,0,0,0,0,0,0,0,0,0,0,0,0,0,0,0,0,0,0,0,0,0,0,0,0,0,0,0,0,0,0,0,0,0,0,0,0,0,0,0,0,0,0,0,0,0,0,0,0,0,0,0,0,0,0,0,0,0,0,0,0,0,0,0,0,0,0,0,0,0,0,0,0,0,0,0,0,0,0,0,0,0,0,0,0,0,0,0,0,0,0,0,0,0,0,0,0,0,0,0,0,0,0,0,0,0,0,0,0,0,0,0,0,0,0,0,0,0,0,0,0,0,0,0,0,0,0,0,0,0,0,0,0,0,0,0,0,0,0,0,0,0,0,0,0,0,0,0,0,0,0,0,0,0,0,0,0,0,0,0,0,0,0,0,0,0]
[11,0,0,0,0,0,0,0,0,0,0,0,0,0,0,0,0,0,0,0,0,0,0,0,0,0,0,0,0,0,0,0,0,0,0,0,0,0,0,0,0,0,0,0,0,0,0,0,0,0,0,0,0,0,0,0,0,0,0,0,0,0,0,0,0,0,0,0,0,0,0,0,0,0,0,0,0,0,0,0,0,0,0,0,0,0,0,0,0,0,0,0,0,0,0,0,0,0,0,0,0,0,0,0,0,0,0,0,0,0,0,0,0,0,0,0,0,0,0,0,0,0,0,0,0,0,0,0,0,0,0,0,0,0,0,0,0,0,0,0,0,0,0,0,0,0,0,0,0,0,0,0,0,0,0,0,0,0,0,0,0,0,0,0,0,0,0,0,0,0,0,0,0,0,0,0,0,0,0,0,0,0,0,0,0,0,0,0,0,0,0,0,0,0,0,0,0,0,0,0,0,0,0,0,0,0,0,0,0,0,0,0,0,0,0,0,0,0,0,0,0,0,0,0,0,0,0,0,0,0,0,0,0,0,0,0]
[8,0,0,0,0,0,0,0,0,0,0,0,0,0,0,0,0,0,0,0,0,0,0,0,0,0,0,0,0,0,0,0,0,0,0,0,0,0,0,0,0,0,0,0,0,0,0,0,0,0,0,0,0,0,0,0,0,0,0,0,0,0,0,0,0,0,0,0,0,0,0,0,0,0,0,0,0,0,0,0,0,0,0,0,0,0,0,0,0,0,0,0,0,0,0,0,0,0,0,0,0,0,0,0,0,0,0,0,0,0,0,0,0,0,0,0,0,0,0,0,0,0,0,0,0,0,0,0,0,0,0,0,0,0,0,0,0,0,0,0,0,0,0,0,0,0,0,0,0,0,0,0,0,0,0,0,0,0,0,0,0,0,0,0,0,0,0,0,0,0,0,0,0,0,0,0,0,0,0,0,0,0,0,0,0,0,0,0,0,0,0,0,0,0,0,0,0,0,0,0,0,0,0,0,0,0,0,0,0,0,0,0,0,0,0,0,0,0,0,0,0,0,0,0,0,0,0,0,0,0,0,0,0,0,0,0]
[]
[null," BAS001"," BAS002"," BAS003"," BAS004"," BAS005"," BAS006"," BAS007"," BAS008"," BAS009"," BAS010"," BAS011"," BAS012"," BAS013"," BAS014"," BAS015"," BAS016"," BAS017"," BAS018"," BAS019"," BAS020"," BAS021"," BAS022"," BAS023"," BAS024"," BAS025"," BAS026"," BAS027"," BAS028"," BAS029"," BAS030"," BAS031"," BAS032"," BAS033"," BAS034"," BAS035"," BAS036"," BAS037"," BAS038"," BAS039"," BAS040"," BAS041"," BAS042"," BAS043"," BAS044"," BAS045"," BAS046"," BAS047"," BAS048"," BAS049"," BAS050"," BAS051"," BAS052"," BAS053"," BAS054"," BAS055"," BAS056"," BAS057"," BAS058"," BAS059"," BAS060"," BAS061"," BAS062"," BAS063"," BAS064"," BAS065"," BAS066"," BAS067"," BAS068"," BAS069"," BAS070"," BAS071"," BAS072"," BAS073"," BAS074"," BAS075"," BAS076"," BAS077"," BAS078"," BAS079"," BAS080"," BAS081"," BAS082"," BAS083"," BAS084"," BAS085"," BAS086"," BAS087"," BAS088"," BAS089"," BAS090"," BAS091"," BAS092"," BAS093"," BAS094"," BAS095"," BAS096"," BAS097"," BAS098"," BAS099"," BAS100"," BAS101"," BAS102"," BAS103"," BAS104"," BAS105"," BAS106"," BAS107"," BAS108"," BAS109"," BAS110"," BAS111"," BAS112"," BAS113"," BAS114"," BAS115"," BAS116"," BAS117"," BAS118"," BAS119"," BAS120"," BAS121"," BAS122"," BAS123"," BAS124"," BAS125"," BAS126"," BAS127"," BAS128"," BAS129"," BAS130"," BAS131"," BAS132"," BAS133"," BAS134"," BAS135"," BAS136"," BAS137"," BAS138"," BAS139"," BAS140"," BAS141"," BAS142"," BAS143"," BAS144"," BAS145"," BAS146"," BAS147"," BAS148"," BAS149"," BAS150"," BAS151"," BAS152"," BAS153"," BAS154"," BAS155"," BAS156"," BAS157"," BAS158"," BAS159"," BAS160"," BAS161"," BAS162"," BAS163"," BAS164"," BAS165"," BAS166"," BAS167"," BAS168"," BAS169"," BAS170"," BAS171"," BAS172"," BAS173"," BAS174"," BAS175"," BAS176"," BAS177"," BAS178"," BAS179"," BAS180"," BAS181"," BAS182"," BAS183"," BAS184"," BAS185"," BAS186"," BAS187"," BAS188"," BAS189"," BAS190"," BAS191"," BAS192"," BAS193"," BAS194"," BAS195"," BAS196"," BAS197"," BAS198"," BAS199"," BAS200"," BAS201"," BAS202"," BAS203"," BAS204"," BAS205"," BAS206"," BAS207"," BAS208"," BAS209"," BAS210"," BAS211"," BAS212"," BAS213"," BAS214"," BAS215"," BAS216"," BAS217"," BAS218"," BAS219"," BAS220"," BAS221"," BAS222"," BAS223"," BAS224"," BAS225"," BAS226"," BAS227"," BAS228"," BAS229"," BAS230"," BAS231"," BAS232"," BAS233"," BAS234"," BAS235"]
["AB822007"]
["anno","(Todas)"]
["coddist","(Todas)"]
["cod_estab","(Todas)"]
["Etiquetas de fila"]
[]
[]
[]
[]
["TOTAL"]
[null," BAS001"," BAS002"," BAS003"," BAS004"," BAS005"," BAS006"," BAS007"," BAS008"," BAS009"," BAS010"," BAS011"," BAS012"," BAS013"," BAS014"," BAS015"," BAS016"," BAS017"," BAS018"," BAS019"," BAS020"," BAS021"," BAS022"," BAS023"," BAS024"," BAS025"," BAS026"," BAS027"," BAS028"," BAS029"," BAS030"," BAS031"," BAS032"," BAS033"," BAS034"," BAS035"," BAS036"," BAS037"," BAS038"," BAS039"," BAS040"," BAS041"," BAS042"," BAS043"," BAS044"," BAS045"," BAS046"," BAS047"," BAS048"," BAS049"," BAS050"," BAS051"," BAS052"," BAS053"," BAS054"," BAS055"," BAS056"," BAS057"," BAS058"," BAS059"," BAS060"," BAS061"," BAS062"," BAS063"," BAS064"," BAS065"," BAS066"," BAS067"," BAS068"," BAS069"," BAS070"," BAS071"," BAS072"," BAS073"," BAS074"," BAS075"," BAS076"," BAS077"," BAS078"," BAS079"," BAS080"," BAS081"," BAS082"," BAS083"," BAS084"," BAS085"," BAS086"," BAS087"," BAS088"," BAS089"," BAS090"," BAS091"," BAS092"," BAS093"," BAS094"," BAS095"," BAS096"," BAS097"," BAS098"," BAS099"," BAS100"," BAS101"," BAS102"," BAS103"," BAS104"," BAS105"," BAS106"," BAS107"," BAS108"," BAS109"," BAS110"," BAS111"," BAS112"," BAS113"," BAS114"," BAS115"," BAS116"," BAS117"," BAS118"," BAS119"," BAS120"," BAS121"," BAS122"," BAS123"," BAS124"," BAS125"," BAS126"," BAS127"," BAS128"," BAS129"," BAS130"," BAS131"," BAS132"," BAS133"," BAS134"," BAS135"," BAS136"," BAS137"," BAS138"," BAS139"," BAS140"," BAS141"," BAS142"," BAS143"," BAS144"," BAS145"," BAS146"," BAS147"," BAS148"," BAS149"," BAS150"," BAS151"," BAS152"," BAS153"," BAS154"," BAS155"," BAS156"," BAS157"," BAS158"," BAS159"," BAS160"," BAS161"," BAS162"," BAS163"," BAS164"," BAS165"," BAS166"," BAS167"," BAS168"," BAS169"," BAS170"," BAS171"," BAS172"," BAS173"," BAS174"," BAS175"," BAS176"," BAS177"," BAS178"," BAS179"," BAS180"," BAS181"," BAS182"," BAS183"," BAS184"," BAS185"," BAS186"," BAS187"," BAS188"," BAS189"," BAS190"," BAS191"," BAS192"," BAS193"," BAS194"," BAS195"," BAS196"," BAS197"," BAS198"," BAS199"," BAS200"," BAS201"," BAS202"," BAS203"," BAS204"," BAS205"," BAS206"," BAS207"," BAS208"," BAS209"," BAS210"," BAS211"," BAS212"," BAS213"," BAS214"," BAS215"," BAS216"," BAS217"," BAS218"," BAS219"," BAS220"," BAS221"," BAS222"," BAS223"," BAS224"," BAS225"," BAS226"," BAS227"," BAS228"," BAS229"," BAS230"," BAS231"," BAS232"," BAS233"," BAS234"," BAS235"]
[null,{"$f":"IF(B969=B952,\"SI\",\"NO\")","v":"NO"},{"$f":"IF(C969=C952,\"SI\",\"NO\")","v":"NO"},"NO","NO","NO","NO","NO","NO","NO","NO","NO","NO","NO","NO","NO","NO","NO","NO","NO","NO","NO","NO","NO","NO","NO","NO","NO","NO","NO","NO","NO","NO","NO","NO","NO","NO","NO","NO","NO","NO","NO","NO","NO","NO","NO","NO","NO","NO","NO","NO","NO","NO","NO","NO","NO","NO","NO","NO","NO","NO","NO","NO","NO","NO","NO",{"$f":"IF(BO969=BO952,\"SI\",\"NO\")","v":"NO"},"NO","NO","NO","NO","NO","NO","NO","NO","NO","NO","NO","NO","NO","NO","NO","NO","NO","NO","NO","NO","NO","NO","NO","NO","NO","NO","NO","NO","NO","NO","NO","NO","NO","NO","NO","NO","NO","NO","NO","NO","NO","NO","NO","NO","NO","NO","NO","NO","NO","NO","NO","NO","NO","NO","NO","NO","NO","NO","NO","NO","NO","NO","NO",{"$f":"IF(EA969=EA952,\"SI\",\"NO\")","v":"NO"},"NO","NO","NO","NO","NO","NO","NO","NO","NO","NO","NO","NO","NO","NO","NO","NO","NO","NO","NO","NO","NO","NO","NO","NO","NO","NO","NO","NO","NO","NO","NO","NO","NO","NO","NO","NO","NO","NO","NO","NO","NO","NO","NO","NO","NO","NO","NO","NO","NO","NO","NO","NO","NO","NO","NO","NO","NO","NO","NO","NO","NO","NO","NO",{"$f":"IF(GM969=GM952,\"SI\",\"NO\")","v":"NO"},"NO","NO","NO","NO","NO","NO","NO","NO","NO","NO","NO","NO","NO","NO","NO","NO","NO","NO","NO","NO","NO","NO","NO","NO","NO","NO","NO","NO","NO","NO","NO","NO","NO","NO","NO","NO","NO","NO","NO","NO","NO"]
[]
["AB832007"]
["anno",2024]
["cod_red","01"]
["codmic","(Todas)"]
["cod_prov","(Todas)"]
["coddist","(Todas)"]
["cod_estab","(Todas)"]
["cod_eje","(Todas)"]
[]
[null,"Valores"]
["Etiquetas de fila"," BAS001"," BAS002"," BAS003"," BAS004"," BAS005"," BAS006"," BAS007"," BAS008"," BAS009"," BAS010"," BAS011"," BAS012"," BAS013"," BAS014"," BAS015"," BAS016"," BAS017"," BAS018"," BAS019"," BAS020"," BAS021"," BAS022"," BAS023"," BAS024"," BAS025"," BAS026"," BAS027"," BAS028"," BAS029"," BAS030"," BAS031"," BAS032"," BAS033"," BAS034"," BAS035"," BAS036"," BAS037"," BAS038"," BAS039"," BAS040"," BAS041"," BAS042"," BAS043"," BAS044"," BAS045"," BAS046"," BAS047"," BAS048"," BAS049"," BAS050"," BAS051"," BAS052"," BAS053"," BAS054"," BAS055"," BAS056"," BAS057"," BAS058"," BAS059"," BAS060"," BAS061"," BAS062"," BAS063"," BAS064"," BAS065"," BAS066"," BAS067"," BAS068"," BAS069"," BAS070"," BAS071"," BAS072"," BAS073"," BAS074"," BAS075"," BAS076"," BAS077"," BAS078"," BAS079"," BAS080"," BAS081"," BAS082"," BAS083"," BAS084"," BAS085"," BAS086"," BAS087"," BAS088"," BAS089"," BAS090"," BAS091"," BAS092"," BAS093"," BAS094"," BAS095"," BAS096"," BAS097"," BAS098"," BAS099"," BAS100"," BAS101"," BAS102"," BAS103"," BAS104"," BAS105"," BAS106"," BAS107"," BAS108"," BAS109"," BAS110"," BAS111"," BAS112"," BAS113"," BAS114"," BAS115"," BAS116"," BAS117"," BAS118"," BAS119"," BAS120"," BAS121"," BAS122"," BAS123"," BAS124"," BAS125"," BAS126"," BAS127"," BAS128"," BAS129"," BAS130"," BAS131"," BAS132"," BAS133"," BAS134"," BAS135"," BAS136"," BAS137"," BAS138"," BAS139"," BAS140"," BAS141"," BAS142"," BAS143"," BAS144"," BAS145"," BAS146"," BAS147"," BAS148"," BAS149"," BAS150"," BAS151"," BAS152"," BAS153"," BAS154"," BAS155"," BAS156"," BAS157"," BAS158"," BAS159"," BAS160"," BAS161"," BAS162"," BAS163"," BAS164"," BAS165"," BAS166"," BAS167"," BAS168"," BAS169"," BAS170"," BAS171"," BAS172"," BAS173"," BAS174"," BAS175"," BAS176"," BAS177"," BAS178"," BAS179"," BAS180"," BAS181"," BAS182"," BAS183"," BAS184"," BAS185"," BAS186"," BAS187"," BAS188"," BAS189"," BAS190"," BAS191"," BAS192"," BAS193"," BAS194"," BAS195"," BAS196"," BAS197"," BAS198"," BAS199"," BAS200"," BAS201"," BAS202"," BAS203"," BAS204"," BAS205"," BAS206"," BAS207"," BAS208"," BAS209"," BAS210"," BAS211"," BAS212"," BAS213"," BAS214"," BAS215"," BAS216"," BAS217"," BAS218"," BAS219"," BAS220"," BAS221"," BAS222"," BAS223"," BAS224"," BAS225"," BAS226"," BAS227"," BAS228"," BAS229"," BAS230"," BAS231"," BAS232"," BAS233"," BAS234"," BAS235"]
[1,0,0,0,0,0,0,0,0,0,0,0,0,0,0,0,0,0,0,0,0,0,0,0,0,0,0,0,0,0,0,0,0,0,0,0,0,0,0,0,0,0,0,0,0,0,0,0,0,0,0,0,0,0,0,0,0,0,0,0,0,0,0,0,0,0,0,0,0,0,0,0,0,0,0,0,0,0,0,0,0,0,0,0,0,0,0,0,0,0,0,0,0,0,0,0,0,0,0,0,0,0,0,0,0,0,0,0,0,0,0,0,0,0,0,0,0,0,0,0,0,0,0,0,0,0,0,0,0,0,0,0,0,0,0,0,0,0,0,0,0,0,0,0,0,0,0,0,0,0,0,0,0,0,0,0,0,0,0,0,0,0,0,0,0,0,0,0,0,0,0,0,0,0,0,0,0,0,0,0,0,0,0,0,0,0,0,0,0,0,0,0,0,0,0,0,0,0,0,0,0,0,0,0,0,0,0,0,0,0,0,0,0,0,0,0,0,0,0,0,0,0,0,0,0,0,0,0,0,0,0,0,0,0,0,0]
[5,0,0,0,0,0,0,0,0,0,0,0,0,0,0,0,0,0,0,0,0,0,0,0,0,0,0,0,0,0,0,0,0,0,0,0,0,0,0,0,0,0,0,0,0,0,0,0,0,0,0,0,0,0,0,0,0,0,0,0,0,0,0,0,0,0,0,0,0,0,0,0,0,0,0,0,0,0,0,0,0,0,0,0,0,0,0,0,0,0,0,0,0,0,0,0,0,0,0,0,0,0,0,0,0,0,0,0,0,0,0,0,0,0,0,0,0,0,0,0,0,0,0,0,0,0,0,0,0,0,0,0,0,0,0,0,0,0,0,0,0,0,0,0,0,0,0,0,0,0,0,0,0,0,0,0,0,0,0,0,0,0,0,0,0,0,0,0,0,0,0,0,0,0,0,0,0,0,0,0,0,0,0,0,0,0,0,0,0,0,0,0,0,0,0,0,0,0,0,0,0,0,0,0,0,0,0,0,0,0,0,0,0,0,0,0,0,0,0,0,0,0,0,0,0,0,0,0,0,0,0,0,0,0,0,0]
[2,0,0,0,0,0,0,0,0,0,0,0,0,0,0,0,0,0,0,0,0,0,0,0,0,0,0,0,0,0,0,0,0,0,0,0,0,0,0,0,0,0,0,0,0,0,0,0,0,0,0,0,0,0,0,0,0,0,0,0,0,0,0,0,0,0,0,0,0,0,0,0,0,0,0,0,0,0,0,0,0,0,0,0,0,0,0,0,0,0,0,0,0,0,0,0,0,0,0,0,0,0,0,0,0,0,0,0,0,0,0,0,0,0,0,0,0,0,0,0,0,0,0,0,0,0,0,0,0,0,0,0,0,0,0,0,0,0,0,0,0,0,0,0,0,0,0,0,0,0,0,0,0,0,0,0,0,0,0,0,0,0,0,0,0,0,0,0,0,0,0,0,0,0,0,0,0,0,0,0,0,0,0,0,0,0,0,0,0,0,0,0,0,0,0,0,0,0,0,0,0,0,0,0,0,0,0,0,0,0,0,0,0,0,0,0,0,0,0,0,0,0,0,0,0,0,0,0,0,0,0,0,0,0,0,0]
[3,0,0,0,0,0,0,0,0,0,0,0,0,0,0,0,0,0,0,0,0,0,0,0,0,0,0,0,0,0,0,0,0,0,0,0,0,0,0,0,0,0,0,0,0,0,0,0,0,0,0,0,0,0,0,0,0,0,0,0,0,0,0,0,0,0,0,0,0,0,0,0,0,0,0,0,0,0,0,0,0,0,0,0,0,0,0,0,0,0,0,0,0,0,0,0,0,0,0,0,0,0,0,0,0,0,0,0,0,0,0,0,0,0,0,0,0,0,0,0,0,0,0,0,0,0,0,0,0,0,0,0,0,0,0,0,0,0,0,0,0,0,0,0,0,0,0,0,0,0,0,0,0,0,0,0,0,0,0,0,0,0,0,0,0,0,0,0,0,0,0,0,0,0,0,0,0,0,0,0,0,0,0,0,0,0,0,0,0,0,0,0,0,0,0,0,0,0,0,0,0,0,0,0,0,0,0,0,0,0,0,0,0,0,0,0,0,0,0,0,0,0,0,0,0,0,0,0,0,0,0,0,0,0,0,0]
[4,0,0,0,0,0,0,0,0,0,0,0,0,0,0,0,0,0,0,0,0,0,0,0,0,0,0,0,0,0,0,0,0,0,0,0,0,0,0,0,0,0,0,0,0,0,0,0,0,0,0,0,0,0,0,0,0,0,0,0,0,0,0,0,0,0,0,0,0,0,0,0,0,0,0,0,0,0,0,0,0,0,0,0,0,0,0,0,0,0,0,0,0,0,0,0,0,0,0,0,0,0,0,0,0,0,0,0,0,0,0,0,0,0,0,0,0,0,0,0,0,0,0,0,0,0,0,0,0,0,0,0,0,0,0,0,0,0,0,0,0,0,0,0,0,0,0,0,0,0,0,0,0,0,0,0,0,0,0,0,0,0,0,0,0,0,0,0,0,0,0,0,0,0,0,0,0,0,0,0,0,0,0,0,0,0,0,0,0,0,0,0,0,0,0,0,0,0,0,0,0,0,0,0,0,0,0,0,0,0,0,0,0,0,0,0,0,0,0,0,0,0,0,0,0,0,0,0,0,0,0,0,0,0,0,0]
[6,0,0,0,0,0,0,0,0,0,0,0,0,0,0,0,0,0,0,0,0,0,0,0,0,0,0,0,0,0,0,0,0,0,0,0,0,0,0,0,0,0,0,0,0,0,0,0,0,0,0,0,0,0,0,0,0,0,0,0,0,0,0,0,0,0,0,0,0,0,0,0,0,0,0,0,0,0,0,0,0,0,0,0,0,0,0,0,0,0,0,0,0,0,0,0,0,0,0,0,0,0,0,0,0,0,0,0,0,0,0,0,0,0,0,0,0,0,0,0,0,0,0,0,0,0,0,0,0,0,0,0,0,0,0,0,0,0,0,0,0,0,0,0,0,0,0,0,0,0,0,0,0,0,0,0,0,0,0,0,0,0,0,0,0,0,0,0,0,0,0,0,0,0,0,0,0,0,0,0,0,0,0,0,0,0,0,0,0,0,0,0,0,0,0,0,0,0,0,0,0,0,0,0,0,0,0,0,0,0,0,0,0,0,0,0,0,0,0,0,0,0,0,0,0,0,0,0,0,0,0,0,0,0,0,0]
[11,0,0,0,0,0,0,0,0,0,0,0,0,0,0,0,0,0,0,0,0,0,0,0,0,0,0,0,0,0,0,0,0,0,0,0,0,0,0,0,0,0,0,0,0,0,0,0,0,0,0,0,0,0,0,0,0,0,0,0,0,0,0,0,0,0,0,0,0,0,0,0,0,0,0,0,0,0,0,0,0,0,0,0,0,0,0,0,0,0,0,0,0,0,0,0,0,0,0,0,0,0,0,0,0,0,0,0,0,0,0,0,0,0,0,0,0,0,0,0,0,0,0,0,0,0,0,0,0,0,0,0,0,0,0,0,0,0,0,0,0,0,0,0,0,0,0,0,0,0,0,0,0,0,0,0,0,0,0,0,0,0,0,0,0,0,0,0,0,0,0,0,0,0,0,0,0,0,0,0,0,0,0,0,0,0,0,0,0,0,0,0,0,0,0,0,0,0,0,0,0,0,0,0,0,0,0,0,0,0,0,0,0,0,0,0,0,0,0,0,0,0,0,0,0,0,0,0,0,0,0,0,0,0,0,0]
[10,0,0,0,0,0,0,0,0,0,0,0,0,0,0,0,0,0,0,0,0,0,0,0,0,0,0,0,0,0,0,0,0,0,0,0,0,0,0,0,0,0,0,0,0,0,0,0,0,0,0,0,0,0,0,0,0,0,0,0,0,0,0,0,0,0,0,0,0,0,0,0,0,0,0,0,0,0,0,0,0,0,0,0,0,0,0,0,0,0,0,0,0,0,0,0,0,0,0,0,0,0,0,0,0,0,0,0,0,0,0,0,0,0,0,0,0,0,0,0,0,0,0,0,0,0,0,0,0,0,0,0,0,0,0,0,0,0,0,0,0,0,0,0,0,0,0,0,0,0,0,0,0,0,0,0,0,0,0,0,0,0,0,0,0,0,0,0,0,0,0,0,0,0,0,0,0,0,0,0,0,0,0,0,0,0,0,0,0,0,0,0,0,0,0,0,0,0,0,0,0,0,0,0,0,0,0,0,0,0,0,0,0,0,0,0,0,0,0,0,0,0,0,0,0,0,0,0,0,0,0,0,0,0,0,0]
[9,0,0,0,0,0,0,0,0,0,0,0,0,0,0,0,0,0,0,0,0,0,0,0,0,0,0,0,0,0,0,0,0,0,0,0,0,0,0,0,0,0,0,0,0,0,0,0,0,0,0,0,0,0,0,0,0,0,0,0,0,0,0,0,0,0,0,0,0,0,0,0,0,0,0,0,0,0,0,0,0,0,0,0,0,0,0,0,0,0,0,0,0,0,0,0,0,0,0,0,0,0,0,0,0,0,0,0,0,0,0,0,0,0,0,0,0,0,0,0,0,0,0,0,0,0,0,0,0,0,0,0,0,0,0,0,0,0,0,0,0,0,0,0,0,0,0,0,0,0,0,0,0,0,0,0,0,0,0,0,0,0,0,0,0,0,0,0,0,0,0,0,0,0,0,0,0,0,0,0,0,0,0,0,0,0,0,0,0,0,0,0,0,0,0,0,0,0,0,0,0,0,0,0,0,0,0,0,0,0,0,0,0,0,0,0,0,0,0,0,0,0,0,0,0,0,0,0,0,0,0,0,0,0,0,0]
[8,0,0,0,0,0,0,0,0,0,0,0,0,0,0,0,0,0,0,0,0,0,0,0,0,0,0,0,0,0,0,0,0,0,0,0,0,0,0,0,0,0,0,0,0,0,0,0,0,0,0,0,0,0,0,0,0,0,0,0,0,0,0,0,0,0,0,0,0,0,0,0,0,0,0,0,0,0,0,0,0,0,0,0,0,0,0,0,0,0,0,0,0,0,0,0,0,0,0,0,0,0,0,0,0,0,0,0,0,0,0,0,0,0,0,0,0,0,0,0,0,0,0,0,0,0,0,0,0,0,0,0,0,0,0,0,0,0,0,0,0,0,0,0,0,0,0,0,0,0,0,0,0,0,0,0,0,0,0,0,0,0,0,0,0,0,0,0,0,0,0,0,0,0,0,0,0,0,0,0,0,0,0,0,0,0,0,0,0,0,0,0,0,0,0,0,0,0,0,0,0,0,0,0,0,0,0,0,0,0,0,0,0,0,0,0,0,0,0,0,0,0,0,0,0,0,0,0,0,0,0,0,0,0,0,0]
[7,0,0,0,0,0,0,0,0,0,0,0,0,0,0,0,0,0,0,0,0,0,0,0,0,0,0,0,0,0,0,0,0,0,0,0,0,0,0,0,0,0,0,0,0,0,0,0,0,0,0,0,0,0,0,0,0,0,0,0,0,0,0,0,0,0,0,0,0,0,0,0,0,0,0,0,0,0,0,0,0,0,0,0,0,0,0,0,0,0,0,0,0,0,0,0,0,0,0,0,0,0,0,0,0,0,0,0,0,0,0,0,0,0,0,0,0,0,0,0,0,0,0,0,0,0,0,0,0,0,0,0,0,0,0,0,0,0,0,0,0,0,0,0,0,0,0,0,0,0,0,0,0,0,0,0,0,0,0,0,0,0,0,0,0,0,0,0,0,0,0,0,0,0,0,0,0,0,0,0,0,0,0,0,0,0,0,0,0,0,0,0,0,0,0,0,0,0,0,0,0,0,0,0,0,0,0,0,0,0,0,0,0,0,0,0,0,0,0,0,0,0,0,0,0,0,0,0,0,0,0,0,0,0,0,0]
["Total general",0,0,0,0,0,0,0,0,0,0,0,0,0,0,0,0,0,0,0,0,0,0,0,0,0,0,0,0,0,0,0,0,0,0,0,0,0,0,0,0,0,0,0,0,0,0,0,0,0,0,0,0,0,0,0,0,0,0,0,0,0,0,0,0,0,0,0,0,0,0,0,0,0,0,0,0,0,0,0,0,0,0,0,0,0,0,0,0,0,0,0,0,0,0,0,0,0,0,0,0,0,0,0,0,0,0,0,0,0,0,0,0,0,0,0,0,0,0,0,0,0,0,0,0,0,0,0,0,0,0,0,0,0,0,0,0,0,0,0,0,0,0,0,0,0,0,0,0,0,0,0,0,0,0,0,0,0,0,0,0,0,0,0,0,0,0,0,0,0,0,0,0,0,0,0,0,0,0,0,0,0,0,0,0,0,0,0,0,0,0,0,0,0,0,0,0,0,0,0,0,0,0,0,0,0,0,0,0,0,0,0,0,0,0,0,0,0,0,0,0,0,0,0,0,0,0,0,0,0,0,0,0,0,0,0]
[]
["TOTAL"]
[{"$f":"COUNT(A983:A994)","v":11},{"$f":"SUM(B983:B994)","v":0},{"$f":"SUM(C983:C994)","v":0},0,0,0,0,0,0,0,0,0,0,0,0,0,0,0,0,0,0,0,0,0,0,0,0,0,0,0,0,0,0,0,0,0,0,0,0,0,0,0,0,0,0,0,0,0,0,0,0,0,0,0,0,0,0,0,0,0,0,0,0,0,0,0,{"$f":"SUM(BO983:BO994)","v":0},0,0,0,0,0,0,0,0,0,0,0,0,0,0,0,0,0,0,0,0,0,0,0,0,0,0,0,0,0,0,0,0,0,0,0,0,0,0,0,0,0,0,0,0,0,0,0,0,0,0,0,0,0,0,0,0,0,0,0,0,0,0,0,{"$f":"SUM(EA983:EA994)","v":0},0,0,0,0,0,0,0,0,0,0,0,0,0,0,0,0,0,0,0,0,0,0,0,0,0,0,0,0,0,0,0,0,0,0,0,0,0,0,0,0,0,0,0,0,0,0,0,0,0,0,0,0,0,0,0,0,0,0,0,0,0,0,0,{"$f":"SUM(GM983:GM994)","v":0},0,0,0,0,0,0,0,0,0,0,0,0,0,0,0,0,0,0,0,0,0,0,0,0,0,0,0,0,0,0,0,0,0,0,0,0,0,0,0,0,0]
[{"$f":"CONCATENATE(A983,\"-\",A984,\"-\",A985,\"-\",A986,\"-\",A987,\"-\",A988,\"-\",A989,\"-\",A990,\"-\",A991,\"-\",A992,\"-\",A993,\"-\",A994)","v":"1-5-2-3-4-6-11-10-9-8-7-Total general"}]
[null," BAS001"," BAS002"," BAS003"," BAS004"," BAS005"," BAS006"," BAS007"," BAS008"," BAS009"," BAS010"," BAS011"," BAS012"," BAS013"," BAS014"," BAS015"," BAS016"," BAS017"," BAS018"," BAS019"," BAS020"," BAS021"," BAS022"," BAS023"," BAS024"," BAS025"," BAS026"," BAS027"," BAS028"," BAS029"," BAS030"," BAS031"," BAS032"," BAS033"," BAS034"," BAS035"," BAS036"," BAS037"," BAS038"," BAS039"," BAS040"," BAS041"," BAS042"," BAS043"," BAS044"," BAS045"," BAS046"," BAS047"," BAS048"," BAS049"," BAS050"," BAS051"," BAS052"," BAS053"," BAS054"," BAS055"," BAS056"," BAS057"," BAS058"," BAS059"," BAS060"," BAS061"," BAS062"," BAS063"," BAS064"," BAS065"," BAS066"," BAS067"," BAS068"," BAS069"," BAS070"," BAS071"," BAS072"," BAS073"," BAS074"," BAS075"," BAS076"," BAS077"," BAS078"," BAS079"," BAS080"," BAS081"," BAS082"," BAS083"," BAS084"," BAS085"," BAS086"," BAS087"," BAS088"," BAS089"," BAS090"," BAS091"," BAS092"," BAS093"," BAS094"," BAS095"," BAS096"," BAS097"," BAS098"," BAS099"," BAS100"," BAS101"," BAS102"," BAS103"," BAS104"," BAS105"," BAS106"," BAS107"," BAS108"," BAS109"," BAS110"," BAS111"," BAS112"," BAS113"," BAS114"," BAS115"," BAS116"," BAS117"," BAS118"," BAS119"," BAS120"," BAS121"," BAS122"," BAS123"," BAS124"," BAS125"," BAS126"," BAS127"," BAS128"," BAS129"," BAS130"," BAS131"," BAS132"," BAS133"," BAS134"," BAS135"," BAS136"," BAS137"," BAS138"," BAS139"," BAS140"," BAS141"," BAS142"," BAS143"," BAS144"," BAS145"," BAS146"," BAS147"," BAS148"," BAS149"," BAS150"," BAS151"," BAS152"," BAS153"," BAS154"," BAS155"," BAS156"," BAS157"," BAS158"," BAS159"," BAS160"," BAS161"," BAS162"," BAS163"," BAS164"," BAS165"," BAS166"," BAS167"," BAS168"," BAS169"," BAS170"," BAS171"," BAS172"," BAS173"," BAS174"," BAS175"," BAS176"," BAS177"," BAS178"," BAS179"," BAS180"," BAS181"," BAS182"," BAS183"," BAS184"," BAS185"," BAS186"," BAS187"," BAS188"," BAS189"," BAS190"," BAS191"," BAS192"," BAS193"," BAS194"," BAS195"," BAS196"," BAS197"," BAS198"," BAS199"," BAS200"," BAS201"," BAS202"," BAS203"," BAS204"," BAS205"," BAS206"," BAS207"," BAS208"," BAS209"," BAS210"," BAS211"," BAS212"," BAS213"," BAS214"," BAS215"," BAS216"," BAS217"," BAS218"," BAS219"," BAS220"," BAS221"," BAS222"," BAS223"," BAS224"," BAS225"," BAS226"," BAS227"," BAS228"," BAS229"," BAS230"," BAS231"," BAS232"," BAS233"," BAS234"," BAS235"]
[null,{"$f":"IF(B999=B982,\"SI\",\"NO\")","v":"SI"},{"$f":"IF(C999=C982,\"SI\",\"NO\")","v":"SI"},"SI","SI","SI","SI","SI","SI","SI","SI","SI","SI","SI","SI","SI","SI","SI","SI","SI","SI","SI","SI","SI","SI","SI","SI","SI","SI","SI","SI","SI","SI","SI","SI","SI","SI","SI","SI","SI","SI","SI","SI","SI","SI","SI","SI","SI","SI","SI","SI","SI","SI","SI","SI","SI","SI","SI","SI","SI","SI","SI","SI","SI","SI","SI",{"$f":"IF(BO999=BO982,\"SI\",\"NO\")","v":"SI"},"SI","SI","SI","SI","SI","SI","SI","SI","SI","SI","SI","SI","SI","SI","SI","SI","SI","SI","SI","SI","SI","SI","SI","SI","SI","SI","SI","SI","SI","SI","SI","SI","SI","SI","SI","SI","SI","SI","SI","SI","SI","SI","SI","SI","SI","SI","SI","SI","SI","SI","SI","SI","SI","SI","SI","SI","SI","SI","SI","SI","SI","SI","SI",{"$f":"IF(EA999=EA982,\"SI\",\"NO\")","v":"SI"},"SI","SI","SI","SI","SI","SI","SI","SI","SI","SI","SI","SI","SI","SI","SI","SI","SI","SI","SI","SI","SI","SI","SI","SI","SI","SI","SI","SI","SI","SI","SI","SI","SI","SI","SI","SI","SI","SI","SI","SI","SI","SI","SI","SI","SI","SI","SI","SI","SI","SI","SI","SI","SI","SI","SI","SI","SI","SI","SI","SI","SI","SI","SI",{"$f":"IF(GM999=GM982,\"SI\",\"NO\")","v":"SI"},"SI","SI","SI","SI","SI","SI","SI","SI","SI","SI","SI","SI","SI","SI","SI","SI","SI","SI","SI","SI","SI","SI","SI","SI","SI","SI","SI","SI","SI","SI","SI","SI","SI","SI","SI","SI","SI","SI","SI","SI","SI"]
[]
["AB842007"]
["anno",2024]
["cod_red","01"]
["codmic","(Todas)"]
["cod_prov","(Todas)"]
["coddist","(Todas)"]
["cod_estab","(Todas)"]
["cod_eje","(Todas)"]
[]
[null,"Valores"]
["Etiquetas de fila"," BAS001"," BAS002"," BAS003"," BAS004"," BAS005"," BAS006"," BAS007"," BAS008"," BAS009"," BAS010"," BAS011"," BAS012"," BAS013"," BAS014"," BAS015"," BAS016"," BAS017"," BAS018"," BAS019"," BAS020"," BAS021"," BAS022"," BAS023"," BAS024"," BAS025"," BAS026"," BAS027"," BAS028"," BAS029"," BAS030"," BAS031"," BAS032"," BAS033"," BAS034"," BAS035"," BAS036"," BAS037"," BAS038"," BAS039"," BAS040"," BAS041"," BAS042"," BAS043"," BAS044"," BAS045"," BAS046"," BAS047"," BAS048"," BAS049"," BAS050"," BAS051"," BAS052"," BAS053"," BAS054"," BAS055"," BAS056"," BAS057"," BAS058"," BAS059"," BAS060"," BAS061"," BAS062"," BAS063"," BAS064"," BAS065"," BAS066"," BAS067"," BAS068"," BAS069"," BAS070"," BAS071"," BAS072"," BAS073"," BAS074"," BAS075"," BAS076"," BAS077"," BAS078"," BAS079"," BAS080"," BAS081"," BAS082"," BAS083"," BAS084"," BAS085"," BAS086"," BAS087"," BAS088"," BAS089"," BAS090"," BAS091"," BAS092"," BAS093"," BAS094"," BAS095"," BAS096"," BAS097"," BAS098"," BAS099"," BAS100"," BAS101"," BAS102"," BAS103"," BAS104"," BAS105"," BAS106"," BAS107"," BAS108"," BAS109"," BAS110"," BAS111"," BAS112"," BAS113"," BAS114"," BAS115"," BAS116"," BAS117"," BAS118"," BAS119"," BAS120"," BAS121"," BAS122"," BAS123"," BAS124"," BAS125"," BAS126"," BAS127"," BAS128"," BAS129"," BAS130"," BAS131"," BAS132"," BAS133"," BAS134"," BAS135"," BAS136"," BAS137"," BAS138"," BAS139"," BAS140"," BAS141"," BAS142"," BAS143"," BAS144"," BAS145"," BAS146"," BAS147"," BAS148"," BAS149"," BAS150"," BAS151"," BAS152"," BAS153"," BAS154"," BAS155"," BAS156"," BAS157"," BAS158"," BAS159"," BAS160"," BAS161"," BAS162"," BAS163"," BAS164"," BAS165"," BAS166"," BAS167"," BAS168"," BAS169"," BAS170"," BAS171"," BAS172"," BAS173"," BAS174"," BAS175"," BAS176"," BAS177"," BAS178"," BAS179"," BAS180"," BAS181"," BAS182"," BAS183"," BAS184"," BAS185"," BAS186"," BAS187"," BAS188"," BAS189"," BAS190"," BAS191"," BAS192"," BAS193"," BAS194"," BAS195"," BAS196"," BAS197"," BAS198"," BAS199"," BAS200"," BAS201"," BAS202"," BAS203"," BAS204"," BAS205"," BAS206"," BAS207"," BAS208"," BAS209"," BAS210"," BAS211"," BAS212"," BAS213"," BAS214"," BAS215"," BAS216"," BAS217"," BAS218"," BAS219"," BAS220"," BAS221"," BAS222"," BAS223"," BAS224"," BAS225"," BAS226"," BAS227"," BAS228"," BAS229"," BAS230"," BAS231"," BAS232"," BAS233"," BAS234"," BAS235"]
[1,0,0,0,0,0,0,0,0,0,0,0,0,0,0,0,0,0,0,0,0,0,0,0,0,0,0,0,0,0,0,0,0,0,0,0,0,0,0,0,0,0,0,0,0,0,0,0,0,0,0,0,0,0,0,0,0,0,0,0,0,0,0,0,0,0,0,0,0,0,0,0,0,0,0,0,0,0,0,0,0,0,0,0,0,0,0,0,0,0,0,0,0,0,0,0,0,0,0,0,0,0,0,0,0,0,0,0,0,0,0,0,0,0,0,0,0,0,0,0,0,0,0,0,0,0,0,0,0,0,0,0,0,0,0,0,0,0,0,0,0,0,0,0,0,0,0,0,0,0,0,0,0,0,0,0,0,0,0,0,0,0,0,0,0,0,0,0,0,0,0,0,0,0,0,0,0,0,0,0,0,0,0,0,0,0,0,0,0,0,0,0,0,0,0,0,0,0,0,0,0,0,0,0,0,0,0,0,0,0,0,0,0,0,0,0,0,0,0,0,0,0,0,0,0,0,0,0,0,0,0,0,0,0,0,0]
[5,0,0,0,0,0,0,0,0,0,0,0,0,0,0,0,0,0,0,0,0,0,0,0,0,0,0,0,0,0,0,0,0,0,0,0,0,0,0,0,0,0,0,0,0,0,0,0,0,0,0,0,0,0,0,0,0,0,0,0,0,0,0,0,0,0,0,0,0,0,0,0,0,0,0,0,0,0,0,0,0,0,0,0,0,0,0,0,0,0,0,0,0,0,0,0,0,0,0,0,0,0,0,0,0,0,0,0,0,0,0,0,0,0,0,0,0,0,0,0,0,0,0,0,0,0,0,0,0,0,0,0,0,0,0,0,0,0,0,0,0,0,0,0,0,0,0,0,0,0,0,0,0,0,0,0,0,0,0,0,0,0,0,0,0,0,0,0,0,0,0,0,0,0,0,0,0,0,0,0,0,0,0,0,0,0,0,0,0,0,0,0,0,0,0,0,0,0,0,0,0,0,0,0,0,0,0,0,0,0,0,0,0,0,0,0,0,0,0,0,0,0,0,0,0,0,0,0,0,0,0,0,0,0,0,0]
[2,0,0,0,0,0,0,0,0,0,0,0,0,0,0,0,0,0,0,0,0,0,0,0,0,0,0,0,0,0,0,0,0,0,0,0,0,0,0,0,0,0,0,0,0,0,0,0,0,0,0,0,0,0,0,0,0,0,0,0,0,0,0,0,0,0,0,0,0,0,0,0,0,0,0,0,0,0,0,0,0,0,0,0,0,0,0,0,0,0,0,0,0,0,0,0,0,0,0,0,0,0,0,0,0,0,0,0,0,0,0,0,0,0,0,0,0,0,0,0,0,0,0,0,0,0,0,0,0,0,0,0,0,0,0,0,0,0,0,0,0,0,0,0,0,0,0,0,0,0,0,0,0,0,0,0,0,0,0,0,0,0,0,0,0,0,0,0,0,0,0,0,0,0,0,0,0,0,0,0,0,0,0,0,0,0,0,0,0,0,0,0,0,0,0,0,0,0,0,0,0,0,0,0,0,0,0,0,0,0,0,0,0,0,0,0,0,0,0,0,0,0,0,0,0,0,0,0,0,0,0,0,0,0,0,0]
[3,0,0,0,0,0,0,0,0,0,0,0,0,0,0,0,0,0,0,0,0,0,0,0,0,0,0,0,0,0,0,0,0,0,0,0,0,0,0,0,0,0,0,0,0,0,0,0,0,0,0,0,0,0,0,0,0,0,0,0,0,0,0,0,0,0,0,0,0,0,0,0,0,0,0,0,0,0,0,0,0,0,0,0,0,0,0,0,0,0,0,0,0,0,0,0,0,0,0,0,0,0,0,0,0,0,0,0,0,0,0,0,0,0,0,0,0,0,0,0,0,0,0,0,0,0,0,0,0,0,0,0,0,0,0,0,0,0,0,0,0,0,0,0,0,0,0,0,0,0,0,0,0,0,0,0,0,0,0,0,0,0,0,0,0,0,0,0,0,0,0,0,0,0,0,0,0,0,0,0,0,0,0,0,0,0,0,0,0,0,0,0,0,0,0,0,0,0,0,0,0,0,0,0,0,0,0,0,0,0,0,0,0,0,0,0,0,0,0,0,0,0,0,0,0,0,0,0,0,0,0,0,0,0,0,0]
[4,0,0,0,0,0,0,0,0,0,0,0,0,0,0,0,0,0,0,0,0,0,0,0,0,0,0,0,0,0,0,0,0,0,0,0,0,0,0,0,0,0,0,0,0,0,0,0,0,0,0,0,0,0,0,0,0,0,0,0,0,0,0,0,0,0,0,0,0,0,0,0,0,0,0,0,0,0,0,0,0,0,0,0,0,0,0,0,0,0,0,0,0,0,0,0,0,0,0,0,0,0,0,0,0,0,0,0,0,0,0,0,0,0,0,0,0,0,0,0,0,0,0,0,0,0,0,0,0,0,0,0,0,0,0,0,0,0,0,0,0,0,0,0,0,0,0,0,0,0,0,0,0,0,0,0,0,0,0,0,0,0,0,0,0,0,0,0,0,0,0,0,0,0,0,0,0,0,0,0,0,0,0,0,0,0,0,0,0,0,0,0,0,0,0,0,0,0,0,0,0,0,0,0,0,0,0,0,0,0,0,0,0,0,0,0,0,0,0,0,0,0,0,0,0,0,0,0,0,0,0,0,0,0,0,0]
[6,0,0,0,0,0,0,0,0,0,0,0,0,0,0,0,0,0,0,0,0,0,0,0,0,0,0,0,0,0,0,0,0,0,0,0,0,0,0,0,0,0,0,0,0,0,0,0,0,0,0,0,0,0,0,0,0,0,0,0,0,0,0,0,0,0,0,0,0,0,0,0,0,0,0,0,0,0,0,0,0,0,0,0,0,0,0,0,0,0,0,0,0,0,0,0,0,0,0,0,0,0,0,0,0,0,0,0,0,0,0,0,0,0,0,0,0,0,0,0,0,0,0,0,0,0,0,0,0,0,0,0,0,0,0,0,0,0,0,0,0,0,0,0,0,0,0,0,0,0,0,0,0,0,0,0,0,0,0,0,0,0,0,0,0,0,0,0,0,0,0,0,0,0,0,0,0,0,0,0,0,0,0,0,0,0,0,0,0,0,0,0,0,0,0,0,0,0,0,0,0,0,0,0,0,0,0,0,0,0,0,0,0,0,0,0,0,0,0,0,0,0,0,0,0,0,0,0,0,0,0,0,0,0,0,0]
[11,0,0,0,0,0,0,0,0,0,0,0,0,0,0,0,0,0,0,0,0,0,0,0,0,0,0,0,0,0,0,0,0,0,0,0,0,0,0,0,0,0,0,0,0,0,0,0,0,0,0,0,0,0,0,0,0,0,0,0,0,0,0,0,0,0,0,0,0,0,0,0,0,0,0,0,0,0,0,0,0,0,0,0,0,0,0,0,0,0,0,0,0,0,0,0,0,0,0,0,0,0,0,0,0,0,0,0,0,0,0,0,0,0,0,0,0,0,0,0,0,0,0,0,0,0,0,0,0,0,0,0,0,0,0,0,0,0,0,0,0,0,0,0,0,0,0,0,0,0,0,0,0,0,0,0,0,0,0,0,0,0,0,0,0,0,0,0,0,0,0,0,0,0,0,0,0,0,0,0,0,0,0,0,0,0,0,0,0,0,0,0,0,0,0,0,0,0,0,0,0,0,0,0,0,0,0,0,0,0,0,0,0,0,0,0,0,0,0,0,0,0,0,0,0,0,0,0,0,0,0,0,0,0,0,0]
[10,0,0,0,0,0,0,0,0,0,0,0,0,0,0,0,0,0,0,0,0,0,0,0,0,0,0,0,0,0,0,0,0,0,0,0,0,0,0,0,0,0,0,0,0,0,0,0,0,0,0,0,0,0,0,0,0,0,0,0,0,0,0,0,0,0,0,0,0,0,0,0,0,0,0,0,0,0,0,0,0,0,0,0,0,0,0,0,0,0,0,0,0,0,0,0,0,0,0,0,0,0,0,0,0,0,0,0,0,0,0,0,0,0,0,0,0,0,0,0,0,0,0,0,0,0,0,0,0,0,0,0,0,0,0,0,0,0,0,0,0,0,0,0,0,0,0,0,0,0,0,0,0,0,0,0,0,0,0,0,0,0,0,0,0,0,0,0,0,0,0,0,0,0,0,0,0,0,0,0,0,0,0,0,0,0,0,0,0,0,0,0,0,0,0,0,0,0,0,0,0,0,0,0,0,0,0,0,0,0,0,0,0,0,0,0,0,0,0,0,0,0,0,0,0,0,0,0,0,0,0,0,0,0,0,0]
[9,0,0,0,0,0,0,0,0,0,0,0,0,0,0,0,0,0,0,0,0,0,0,0,0,0,0,0,0,0,0,0,0,0,0,0,0,0,0,0,0,0,0,0,0,0,0,0,0,0,0,0,0,0,0,0,0,0,0,0,0,0,0,0,0,0,0,0,0,0,0,0,0,0,0,0,0,0,0,0,0,0,0,0,0,0,0,0,0,0,0,0,0,0,0,0,0,0,0,0,0,0,0,0,0,0,0,0,0,0,0,0,0,0,0,0,0,0,0,0,0,0,0,0,0,0,0,0,0,0,0,0,0,0,0,0,0,0,0,0,0,0,0,0,0,0,0,0,0,0,0,0,0,0,0,0,0,0,0,0,0,0,0,0,0,0,0,0,0,0,0,0,0,0,0,0,0,0,0,0,0,0,0,0,0,0,0,0,0,0,0,0,0,0,0,0,0,0,0,0,0,0,0,0,0,0,0,0,0,0,0,0,0,0,0,0,0,0,0,0,0,0,0,0,0,0,0,0,0,0,0,0,0,0,0,0]
[8,0,0,0,0,0,0,0,0,0,0,0,0,0,0,0,0,0,0,0,0,0,0,0,0,0,0,0,0,0,0,0,0,0,0,0,0,0,0,0,0,0,0,0,0,0,0,0,0,0,0,0,0,0,0,0,0,0,0,0,0,0,0,0,0,0,0,0,0,0,0,0,0,0,0,0,0,0,0,0,0,0,0,0,0,0,0,0,0,0,0,0,0,0,0,0,0,0,0,0,0,0,0,0,0,0,0,0,0,0,0,0,0,0,0,0,0,0,0,0,0,0,0,0,0,0,0,0,0,0,0,0,0,0,0,0,0,0,0,0,0,0,0,0,0,0,0,0,0,0,0,0,0,0,0,0,0,0,0,0,0,0,0,0,0,0,0,0,0,0,0,0,0,0,0,0,0,0,0,0,0,0,0,0,0,0,0,0,0,0,0,0,0,0,0,0,0,0,0,0,0,0,0,0,0,0,0,0,0,0,0,0,0,0,0,0,0,0,0,0,0,0,0,0,0,0,0,0,0,0,0,0,0,0,0,0]
[7,0,0,0,0,0,0,0,0,0,0,0,0,0,0,0,0,0,0,0,0,0,0,0,0,0,0,0,0,0,0,0,0,0,0,0,0,0,0,0,0,0,0,0,0,0,0,0,0,0,0,0,0,0,0,0,0,0,0,0,0,0,0,0,0,0,0,0,0,0,0,0,0,0,0,0,0,0,0,0,0,0,0,0,0,0,0,0,0,0,0,0,0,0,0,0,0,0,0,0,0,0,0,0,0,0,0,0,0,0,0,0,0,0,0,0,0,0,0,0,0,0,0,0,0,0,0,0,0,0,0,0,0,0,0,0,0,0,0,0,0,0,0,0,0,0,0,0,0,0,0,0,0,0,0,0,0,0,0,0,0,0,0,0,0,0,0,0,0,0,0,0,0,0,0,0,0,0,0,0,0,0,0,0,0,0,0,0,0,0,0,0,0,0,0,0,0,0,0,0,0,0,0,0,0,0,0,0,0,0,0,0,0,0,0,0,0,0,0,0,0,0,0,0,0,0,0,0,0,0,0,0,0,0,0,0]
["Total general",0,0,0,0,0,0,0,0,0,0,0,0,0,0,0,0,0,0,0,0,0,0,0,0,0,0,0,0,0,0,0,0,0,0,0,0,0,0,0,0,0,0,0,0,0,0,0,0,0,0,0,0,0,0,0,0,0,0,0,0,0,0,0,0,0,0,0,0,0,0,0,0,0,0,0,0,0,0,0,0,0,0,0,0,0,0,0,0,0,0,0,0,0,0,0,0,0,0,0,0,0,0,0,0,0,0,0,0,0,0,0,0,0,0,0,0,0,0,0,0,0,0,0,0,0,0,0,0,0,0,0,0,0,0,0,0,0,0,0,0,0,0,0,0,0,0,0,0,0,0,0,0,0,0,0,0,0,0,0,0,0,0,0,0,0,0,0,0,0,0,0,0,0,0,0,0,0,0,0,0,0,0,0,0,0,0,0,0,0,0,0,0,0,0,0,0,0,0,0,0,0,0,0,0,0,0,0,0,0,0,0,0,0,0,0,0,0,0,0,0,0,0,0,0,0,0,0,0,0,0,0,0,0,0,0]
[]
["TOTAL"]
[{"$f":"COUNT(A1013:A1024)","v":11},{"$f":"SUM(B1013:B1024)","v":0},{"$f":"SUM(C1013:C1024)","v":0},0,0,0,0,0,0,0,0,0,0,0,0,0,0,0,0,0,0,0,0,0,0,0,0,0,0,0,0,0,0,0,0,0,0,0,0,0,0,0,0,0,0,0,0,0,0,0,0,0,0,0,0,0,0,0,0,0,0,0,0,0,0,0,{"$f":"SUM(BO1013:BO1024)","v":0},0,0,0,0,0,0,0,0,0,0,0,0,0,0,0,0,0,0,0,0,0,0,0,0,0,0,0,0,0,0,0,0,0,0,0,0,0,0,0,0,0,0,0,0,0,0,0,0,0,0,0,0,0,0,0,0,0,0,0,0,0,0,0,{"$f":"SUM(EA1013:EA1024)","v":0},0,0,0,0,0,0,0,0,0,0,0,0,0,0,0,0,0,0,0,0,0,0,0,0,0,0,0,0,0,0,0,0,0,0,0,0,0,0,0,0,0,0,0,0,0,0,0,0,0,0,0,0,0,0,0,0,0,0,0,0,0,0,0,{"$f":"SUM(GM1013:GM1024)","v":0},0,0,0,0,0,0,0,0,0,0,0,0,0,0,0,0,0,0,0,0,0,0,0,0,0,0,0,0,0,0,0,0,0,0,0,0,0,0,0,0,0]
[{"$f":"CONCATENATE(A1013,\"-\",A1014,\"-\",A1015,\"-\",A1016,\"-\",A1017,\"-\",A1018,\"-\",A1019,\"-\",A1020,\"-\",A1021,\"-\",A1022,\"-\",A1023,\"-\",A1024)","v":"1-5-2-3-4-6-11-10-9-8-7-Total general"}]
[null," BAS001"," BAS002"," BAS003"," BAS004"," BAS005"," BAS006"," BAS007"," BAS008"," BAS009"," BAS010"," BAS011"," BAS012"," BAS013"," BAS014"," BAS015"," BAS016"," BAS017"," BAS018"," BAS019"," BAS020"," BAS021"," BAS022"," BAS023"," BAS024"," BAS025"," BAS026"," BAS027"," BAS028"," BAS029"," BAS030"," BAS031"," BAS032"," BAS033"," BAS034"," BAS035"," BAS036"," BAS037"," BAS038"," BAS039"," BAS040"," BAS041"," BAS042"," BAS043"," BAS044"," BAS045"," BAS046"," BAS047"," BAS048"," BAS049"," BAS050"," BAS051"," BAS052"," BAS053"," BAS054"," BAS055"," BAS056"," BAS057"," BAS058"," BAS059"," BAS060"," BAS061"," BAS062"," BAS063"," BAS064"," BAS065"," BAS066"," BAS067"," BAS068"," BAS069"," BAS070"," BAS071"," BAS072"," BAS073"," BAS074"," BAS075"," BAS076"," BAS077"," BAS078"," BAS079"," BAS080"," BAS081"," BAS082"," BAS083"," BAS084"," BAS085"," BAS086"," BAS087"," BAS088"," BAS089"," BAS090"," BAS091"," BAS092"," BAS093"," BAS094"," BAS095"," BAS096"," BAS097"," BAS098"," BAS099"," BAS100"," BAS101"," BAS102"," BAS103"," BAS104"," BAS105"," BAS106"," BAS107"," BAS108"," BAS109"," BAS110"," BAS111"," BAS112"," BAS113"," BAS114"," BAS115"," BAS116"," BAS117"," BAS118"," BAS119"," BAS120"," BAS121"," BAS122"," BAS123"," BAS124"," BAS125"," BAS126"," BAS127"," BAS128"," BAS129"," BAS130"," BAS131"," BAS132"," BAS133"," BAS134"," BAS135"," BAS136"," BAS137"," BAS138"," BAS139"," BAS140"," BAS141"," BAS142"," BAS143"," BAS144"," BAS145"," BAS146"," BAS147"," BAS148"," BAS149"," BAS150"," BAS151"," BAS152"," BAS153"," BAS154"," BAS155"," BAS156"," BAS157"," BAS158"," BAS159"," BAS160"," BAS161"," BAS162"," BAS163"," BAS164"," BAS165"," BAS166"," BAS167"," BAS168"," BAS169"," BAS170"," BAS171"," BAS172"," BAS173"," BAS174"," BAS175"," BAS176"," BAS177"," BAS178"," BAS179"," BAS180"," BAS181"," BAS182"," BAS183"," BAS184"," BAS185"," BAS186"," BAS187"," BAS188"," BAS189"," BAS190"," BAS191"," BAS192"," BAS193"," BAS194"," BAS195"," BAS196"," BAS197"," BAS198"," BAS199"," BAS200"," BAS201"," BAS202"," BAS203"," BAS204"," BAS205"," BAS206"," BAS207"," BAS208"," BAS209"," BAS210"," BAS211"," BAS212"," BAS213"," BAS214"," BAS215"," BAS216"," BAS217"," BAS218"," BAS219"," BAS220"," BAS221"," BAS222"," BAS223"," BAS224"," BAS225"," BAS226"," BAS227"," BAS228"," BAS229"," BAS230"," BAS231"," BAS232"," BAS233"," BAS234"," BAS235"]
[null,{"$f":"IF(B1029=B1012,\"SI\",\"NO\")","v":"SI"},{"$f":"IF(C1029=C1012,\"SI\",\"NO\")","v":"SI"},"SI","SI","SI","SI","SI","SI","SI","SI","SI","SI","SI","SI","SI","SI","SI","SI","SI","SI","SI","SI","SI","SI","SI","SI","SI","SI","SI","SI","SI","SI","SI","SI","SI","SI","SI","SI","SI","SI","SI","SI","SI","SI","SI","SI","SI","SI","SI","SI","SI","SI","SI","SI","SI","SI","SI","SI","SI","SI","SI","SI","SI","SI","SI",{"$f":"IF(BO1029=BO1012,\"SI\",\"NO\")","v":"SI"},"SI","SI","SI","SI","SI","SI","SI","SI","SI","SI","SI","SI","SI","SI","SI","SI","SI","SI","SI","SI","SI","SI","SI","SI","SI","SI","SI","SI","SI","SI","SI","SI","SI","SI","SI","SI","SI","SI","SI","SI","SI","SI","SI","SI","SI","SI","SI","SI","SI","SI","SI","SI","SI","SI","SI","SI","SI","SI","SI","SI","SI","SI","SI",{"$f":"IF(EA1029=EA1012,\"SI\",\"NO\")","v":"SI"},"SI","SI","SI","SI","SI","SI","SI","SI","SI","SI","SI","SI","SI","SI","SI","SI","SI","SI","SI","SI","SI","SI","SI","SI","SI","SI","SI","SI","SI","SI","SI","SI","SI","SI","SI","SI","SI","SI","SI","SI","SI","SI","SI","SI","SI","SI","SI","SI","SI","SI","SI","SI","SI","SI","SI","SI","SI","SI","SI","SI","SI","SI","SI",{"$f":"IF(GM1029=GM1012,\"SI\",\"NO\")","v":"SI"},"SI","SI","SI","SI","SI","SI","SI","SI","SI","SI","SI","SI","SI","SI","SI","SI","SI","SI","SI","SI","SI","SI","SI","SI","SI","SI","SI","SI","SI","SI","SI","SI","SI","SI","SI","SI","SI","SI","SI","SI","SI"]

{"sheet":"LAB_ANALISIS_CLINICO","index":2,"n_rows":258,"n_cols":56,"rows_kept":258,"cut":false,"hidden":false,"merged":[[217,0,217,1],[217,3,217,17],[217,23,217,37],[218,0,219,1],[218,3,218,9],[218,10,218,16],[218,17,219,17],[218,23,218,29],[218,30,218,36],[218,37,219,37],[171,23,171,28],[171,29,171,34],[171,35,171,40],[171,41,172,41],[172,0,172,1],[173,0,173,2],[108,29,108,34],[108,35,108,40],[108,41,109,41],[109,0,109,1],[110,0,110,2],[171,0,171,1],[171,3,171,8],[171,9,171,14],[171,15,171,20],[171,21,172,21],[108,0,108,1],[108,3,108,8],[108,9,108,14],[108,15,108,20],[108,21,109,21],[108,23,108,28],[70,23,70,28],[70,29,70,34],[70,35,70,40],[70,41,71,41],[71,0,71,1],[72,0,72,2],[39,29,39,34],[39,35,39,40],[39,41,40,41],[40,0,40,1],[41,0,41,2],[70,0,70,1],[70,3,70,8],[70,9,70,14],[70,15,70,20],[70,21,71,21],[39,0,39,1],[39,3,39,8],[39,9,39,14],[39,15,39,20],[39,21,40,21],[39,23,39,28],[17,23,17,28],[17,29,17,34],[17,35,17,40],[17,41,18,41],[18,0,18,1],[19,0,19,2],[12,23,12,28],[12,29,12,34],[12,35,12,40],[12,41,13,41],[16,0,16,2],[17,0,17,1],[17,3,17,8],[17,9,17,14],[17,15,17,20],[17,21,18,21],[9,31,9,32],[9,33,9,35],[9,39,9,40],[11,0,13,2],[11,3,11,21],[11,23,11,41],[12,3,12,8],[12,9,12,14],[12,15,12,20],[12,21,13,21],[9,2,9,4],[9,5,9,10],[9,11,9,13],[9,14,9,22],[9,24,9,25],[9,26,9,28],[7,26,7,28],[7,31,7,32],[7,33,7,37],[7,39,7,40],[8,2,8,4],[8,11,8,13],[0,0,0,41],[1,0,1,41],[2,0,2,41],[3,0,3,41],[4,0,4,41],[7,2,7,4],[7,5,7,8],[7,11,7,13],[7,14,7,22],[7,24,7,25]]}
["DIRECCION REGIONAL DE SALUD CUSCO"]
["DIRECCION EJECUTIVA DE INTELIGENCIA SANITARIA"]
["DIRECCION DE ESTADISTICA, INFORMATICA Y TELECOMUNICACION"]
[]
["CONSOLIDADO MENSUAL - ANALISIS CLINICO"]
[]
[]
[null,null,"DIRESA",null,null,"CUSCO",null,null,null,null,null,"Micro Red de Salud",null,null,{"$f":"+TABLAS!O10","v":""},null,null,null,null,null,null,null,null,null,"Provincia",null,{"$f":"+TABLAS!O12","v":""},null,null,null,null,"Ejecutora",null,{"$f":"+TABLAS!O14","v":""},null,null,null,null,"Año",{"$f":"+TABLAS!D16","v":"2024"}]
[]
[null,null,"Red de Salud",null,null,{"$f":"+TABLAS!O9","v":"03 - LA CONVENCION"},null,null,null,null,null,"Establecimiento de Salud",null,null,{"$f":"+TABLAS!O11","v":""},null,null,null,null,null,null,null,null,null,"Distrito",null,{"$f":"+TABLAS!O13","v":""},null,null,null,null,"Ipress",null,null,null,null,null,null,"Mes",{"$f":"+TABLAS!N26","v":"ENE - NOV"}]
[]
["Tipo",null,null,"TOTAL REALIZADO",null,null,null,null,null,null,null,null,null,null,null,null,null,null,null,null,null,null,null,"SIS"]
[null,null,null,"CONSULTA EXTERNA",null,null,null,null,null,"HOSPITALIZACION",null,null,null,null,null,"EMERGENCIA",null,null,null,null,null,"Total",null,"CONSULTA EXTERNA",null,null,null,null,null,"HOSPITALIZACION",null,null,null,null,null,"EMERGENCIA",null,null,null,null,null,"Total",null,null,"=+IMPORTARDATOSDINAMICOS(\"",null,null,"BAS","\",TABLAS!$A$1011)"]
[null,null,null,"0 - 11a","12-17a","18-29 a","30-59 a","60- + a","Total","0 - 11a","12-17a","18-29 a","30-59 a","60- + a","Total","0 - 11a","12-17a","18-29 a","30-59 a","60- + a","Total",null,null,"0 - 11a","12-17a","18-29 a","30-59 a","60- + a","Total","0 - 11a","12-17a","18-29 a","30-59 a","60- + a","Total","0 - 11a","12-17a","18-29 a","30-59 a","60- + a","Total"]
["Total Pacientes (Se mostrara los pacientes que solicitan Analisis)",null,null,{"$f":"+GETPIVOTDATA(\"BAS001\",TABLAS!$A$199)","v":0},{"$f":"+GETPIVOTDATA(\"BAS002\",TABLAS!$A$199)","v":0},{"$f":"+GETPIVOTDATA(\"BAS003\",TABLAS!$A$199)","v":0},{"$f":"+GETPIVOTDATA(\"BAS004\",TABLAS!$A$199)","v":0},{"$f":"+GETPIVOTDATA(\"BAS005\",TABLAS!$A$199)","v":0},{"$f":"SUM(D15:H15)","v":0},{"$f":"+GETPIVOTDATA(\"BAS001\",TABLAS!$A$321)","v":0},{"$f":"+GETPIVOTDATA(\"BAS002\",TABLAS!$A$321)","v":0},{"$f":"+GETPIVOTDATA(\"BAS003\",TABLAS!$A$321)","v":0},{"$f":"+GETPIVOTDATA(\"BAS004\",TABLAS!$A$321)","v":0},{"$f":"+GETPIVOTDATA(\"BAS005\",TABLAS!$A$321)","v":0},{"$f":"SUM(J15:N15)","v":0},{"$f":"+GETPIVOTDATA(\"BAS001\",TABLAS!$A$471)","v":0},{"$f":"+GETPIVOTDATA(\"BAS002\",TABLAS!$A$471)","v":0},{"$f":"+GETPIVOTDATA(\"BAS003\",TABLAS!$A$471)","v":0},{"$f":"+GETPIVOTDATA(\"BAS004\",TABLAS!$A$471)","v":0},{"$f":"+GETPIVOTDATA(\"BAS005\",TABLAS!$A$471)","v":0},{"$f":"SUM(P15:T15)","v":0},{"$f":"+I15+O15+U15","v":0},null,{"$f":"+GETPIVOTDATA(\"BAS001\",TABLAS!$A$621)","v":0},{"$f":"+GETPIVOTDATA(\"BAS002\",TABLAS!$A$621)","v":0},{"$f":"+GETPIVOTDATA(\"BAS003\",TABLAS!$A$621)","v":0},{"$f":"+GETPIVOTDATA(\"BAS004\",TABLAS!$A$621)","v":0},{"$f":"+GETPIVOTDATA(\"BAS005\",TABLAS!$A$621)","v":0},{"$f":"SUM(X15:AB15)","v":0},{"$f":"+GETPIVOTDATA(\"BAS001\",TABLAS!$A$741)","v":0},{"$f":"+GETPIVOTDATA(\"BAS002\",TABLAS!$A$741)","v":0},{"$f":"+GETPIVOTDATA(\"BAS003\",TABLAS!$A$741)","v":0},{"$f":"+GETPIVOTDATA(\"BAS004\",TABLAS!$A$741)","v":0},{"$f":"+GETPIVOTDATA(\"BAS005\",TABLAS!$A$741)","v":0},{"$f":"SUM(AD15:AH15)","v":0},{"$f":"+GETPIVOTDATA(\"BAS001\",TABLAS!$A$891)","v":0},{"$f":"+GETPIVOTDATA(\"BAS002\",TABLAS!$A$891)","v":0},{"$f":"+GETPIVOTDATA(\"BAS003\",TABLAS!$A$891)","v":0},{"$f":"+GETPIVOTDATA(\"BAS004\",TABLAS!$A$891)","v":0},{"$f":"+GETPIVOTDATA(\"BAS005\",TABLAS!$A$891)","v":0},{"$f":"SUM(AJ15:AN15)","v":0},{"$f":"+AC15+AI15+AO15","v":0},null,null,1,{"$f":"+AS15+1","v":2},{"$f":"+AT15+1","v":3},4,5,null,{"$f":"IF(AS15<=9,CONCATENATE($AS$13,$AV$13,\"00\",AS15,$AW$13),IF(AND(AS15>=10,AS15<=99),CONCATENATE($AS$13,$AV$13,\"0\",AS15,$AW$13),CONCATENATE($AS$13,$AV$13,AS15,$AW$13)))","v":"=+IMPORTARDATOSDINAMICOS(\"BAS001\",TABLAS!$A$1011)"},{"$f":"IF(AT15<=9,CONCATENATE($AS$13,$AV$13,\"00\",AT15,$AW$13),IF(AND(AT15>=10,AT15<=99),CONCATENATE($AS$13,$AV$13,\"0\",AT15,$AW$13),CONCATENATE($AS$13,$AV$13,AT15,$AW$13)))","v":"=+IMPORTARDATOSDINAMICOS(\"BAS002\",TABLAS!$A$1011)"},"=+IMPORTARDATOSDINAMICOS(\"BAS003\",TABLAS!$A$1011)","=+IMPORTARDATOSDINAMICOS(\"BAS004\",TABLAS!$A$1011)","=+IMPORTARDATOSDINAMICOS(\"BAS005\",TABLAS!$A$1011)"]
["Total toma de muestra [U2142]",null,null,{"$f":"+GETPIVOTDATA(\"BAS006\",TABLAS!$A$199)","v":0},{"$f":"+GETPIVOTDATA(\"BAS007\",TABLAS!$A$199)","v":0},{"$f":"+GETPIVOTDATA(\"BAS008\",TABLAS!$A$199)","v":0},{"$f":"+GETPIVOTDATA(\"BAS009\",TABLAS!$A$199)","v":0},{"$f":"+GETPIVOTDATA(\"BAS010\",TABLAS!$A$199)","v":0},0,{"$f":"+GETPIVOTDATA(\"BAS006\",TABLAS!$A$321)","v":0},{"$f":"+GETPIVOTDATA(\"BAS007\",TABLAS!$A$321)","v":0},{"$f":"+GETPIVOTDATA(\"BAS008\",TABLAS!$A$321)","v":0},{"$f":"+GETPIVOTDATA(\"BAS009\",TABLAS!$A$321)","v":0},{"$f":"+GETPIVOTDATA(\"BAS010\",TABLAS!$A$321)","v":0},0,{"$f":"+GETPIVOTDATA(\"BAS006\",TABLAS!$A$471)","v":0},{"$f":"+GETPIVOTDATA(\"BAS007\",TABLAS!$A$471)","v":0},{"$f":"+GETPIVOTDATA(\"BAS008\",TABLAS!$A$471)","v":0},{"$f":"+GETPIVOTDATA(\"BAS009\",TABLAS!$A$471)","v":0},{"$f":"+GETPIVOTDATA(\"BAS010\",TABLAS!$A$471)","v":0},0,0,null,{"$f":"+GETPIVOTDATA(\"BAS006\",TABLAS!$A$621)","v":0},{"$f":"+GETPIVOTDATA(\"BAS007\",TABLAS!$A$621)","v":0},{"$f":"+GETPIVOTDATA(\"BAS008\",TABLAS!$A$621)","v":0},{"$f":"+GETPIVOTDATA(\"BAS009\",TABLAS!$A$621)","v":0},{"$f":"+GETPIVOTDATA(\"BAS010\",TABLAS!$A$621)","v":0},0,{"$f":"+GETPIVOTDATA(\"BAS006\",TABLAS!$A$741)","v":0},{"$f":"+GETPIVOTDATA(\"BAS007\",TABLAS!$A$741)","v":0},{"$f":"+GETPIVOTDATA(\"BAS008\",TABLAS!$A$741)","v":0},{"$f":"+GETPIVOTDATA(\"BAS009\",TABLAS!$A$741)","v":0},{"$f":"+GETPIVOTDATA(\"BAS010\",TABLAS!$A$741)","v":0},0,{"$f":"+GETPIVOTDATA(\"BAS006\",TABLAS!$A$891)","v":0},{"$f":"+GETPIVOTDATA(\"BAS007\",TABLAS!$A$891)","v":0},{"$f":"+GETPIVOTDATA(\"BAS008\",TABLAS!$A$891)","v":0},{"$f":"+GETPIVOTDATA(\"BAS009\",TABLAS!$A$891)","v":0},{"$f":"+GETPIVOTDATA(\"BAS010\",TABLAS!$A$891)","v":0},0,0,null,null,{"$f":"+AW15+1","v":6},{"$f":"+AS16+1","v":7},8,9,10,null,{"$f":"IF(AS16<=9,CONCATENATE($AS$13,$AV$13,\"00\",AS16,$AW$13),IF(AND(AS16>=10,AS16<=99),CONCATENATE($AS$13,$AV$13,\"0\",AS16,$AW$13),CONCATENATE($AS$13,$AV$13,AS16,$AW$13)))","v":"=+IMPORTARDATOSDINAMICOS(\"BAS006\",TABLAS!$A$1011)"},{"$f":"IF(AT16<=9,CONCATENATE($AS$13,$AV$13,\"00\",AT16,$AW$13),IF(AND(AT16>=10,AT16<=99),CONCATENATE($AS$13,$AV$13,\"0\",AT16,$AW$13),CONCATENATE($AS$13,$AV$13,AT16,$AW$13)))","v":"=+IMPORTARDATOSDINAMICOS(\"BAS007\",TABLAS!$A$1011)"},{"$f":"IF(AU16<=9,CONCATENATE($AS$13,$AV$13,\"00\",AU16,$AW$13),IF(AND(AU16>=10,AU16<=99),CONCATENATE($AS$13,$AV$13,\"0\",AU16,$AW$13),CONCATENATE($AS$13,$AV$13,AU16,$AW$13)))","v":"=+IMPORTARDATOSDINAMICOS(\"BAS008\",TABLAS!$A$1011)"},{"$f":"IF(AV16<=9,CONCATENATE($AS$13,$AV$13,\"00\",AV16,$AW$13),IF(AND(AV16>=10,AV16<=99),CONCATENATE($AS$13,$AV$13,\"0\",AV16,$AW$13),CONCATENATE($AS$13,$AV$13,AV16,$AW$13)))","v":"=+IMPORTARDATOSDINAMICOS(\"BAS009\",TABLAS!$A$1011)"},{"$f":"IF(AW16<=9,CONCATENATE($AS$13,$AV$13,\"00\",AW16,$AW$13),IF(AND(AW16>=10,AW16<=99),CONCATENATE($AS$13,$AV$13,\"0\",AW16,$AW$13),CONCATENATE($AS$13,$AV$13,AW16,$AW$13)))","v":"=+IMPORTARDATOSDINAMICOS(\"BAS010\",TABLAS!$A$1011)"}]
[]
[null,null,null,"CONSULTA EXTERNA",null,null,null,null,null,"HOSPITALIZACION",null,null,null,null,null,"EMERGENCIA",null,null,null,null,null,"Total",null,"CONSULTA EXTERNA",null,null,null,null,null,"HOSPITALIZACION",null,null,null,null,null,"EMERGENCIA",null,null,null,null,null,"Total"]
["HEMATOLOGIA",null,null,"0 - 11a","12-17a","18-29 a","30-59 a","60- + a","Total","0 - 11a","12-17a","18-29 a","30-59 a","60- + a","Total","0 - 11a","12-17a","18-29 a","30-59 a","60- + a","Total",null,null,"0 - 11a","12-17a","18-29 a","30-59 a","60- + a","Total","0 - 11a","12-17a","18-29 a","30-59 a","60- + a","Total","0 - 11a","12-17a","18-29 a","30-59 a","60- + a","Total"]
["TOTAL",null,null,{"$f":"SUM(D21:D38)","v":0},{"$f":"SUM(E21:E38)","v":0},0,0,0,0,0,0,0,0,0,0,0,0,0,0,0,0,0,null,{"$f":"SUM(X21:X38)","v":0},{"$f":"SUM(Y21:Y38)","v":0},0,0,0,0,0,0,0,0,0,0,0,0,0,0,0,0,0]
["HEMATOCRITO [85014]",null,null,{"$f":"+GETPIVOTDATA(\"BAS011\",TABLAS!$A$199)","v":0},{"$f":"+GETPIVOTDATA(\"BAS012\",TABLAS!$A$199)","v":0},{"$f":"+GETPIVOTDATA(\"BAS013\",TABLAS!$A$199)","v":0},{"$f":"+GETPIVOTDATA(\"BAS014\",TABLAS!$A$199)","v":0},{"$f":"+GETPIVOTDATA(\"BAS015\",TABLAS!$A$199)","v":0},{"$f":"SUM(D21:H21)","v":0},{"$f":"+GETPIVOTDATA(\"BAS011\",TABLAS!$A$321)","v":0},{"$f":"+GETPIVOTDATA(\"BAS012\",TABLAS!$A$321)","v":0},{"$f":"+GETPIVOTDATA(\"BAS013\",TABLAS!$A$321)","v":0},{"$f":"+GETPIVOTDATA(\"BAS014\",TABLAS!$A$321)","v":0},{"$f":"+GETPIVOTDATA(\"BAS015\",TABLAS!$A$321)","v":0},{"$f":"SUM(J21:N21)","v":0},{"$f":"+GETPIVOTDATA(\"BAS011\",TABLAS!$A$471)","v":0},{"$f":"+GETPIVOTDATA(\"BAS012\",TABLAS!$A$471)","v":0},{"$f":"+GETPIVOTDATA(\"BAS013\",TABLAS!$A$471)","v":0},{"$f":"+GETPIVOTDATA(\"BAS014\",TABLAS!$A$471)","v":0},{"$f":"+GETPIVOTDATA(\"BAS015\",TABLAS!$A$471)","v":0},{"$f":"SUM(P21:T21)","v":0},{"$f":"+I21+O21+U21","v":0},null,{"$f":"+GETPIVOTDATA(\"BAS011\",TABLAS!$A$621)","v":0},{"$f":"+GETPIVOTDATA(\"BAS012\",TABLAS!$A$621)","v":0},{"$f":"+GETPIVOTDATA(\"BAS013\",TABLAS!$A$621)","v":0},{"$f":"+GETPIVOTDATA(\"BAS014\",TABLAS!$A$621)","v":0},{"$f":"+GETPIVOTDATA(\"BAS015\",TABLAS!$A$621)","v":0},{"$f":"SUM(X21:AB21)","v":0},{"$f":"+GETPIVOTDATA(\"BAS011\",TABLAS!$A$741)","v":0},{"$f":"+GETPIVOTDATA(\"BAS012\",TABLAS!$A$741)","v":0},{"$f":"+GETPIVOTDATA(\"BAS013\",TABLAS!$A$741)","v":0},{"$f":"+GETPIVOTDATA(\"BAS014\",TABLAS!$A$741)","v":0},{"$f":"+GETPIVOTDATA(\"BAS015\",TABLAS!$A$741)","v":0},{"$f":"SUM(AD21:AH21)","v":0},{"$f":"+GETPIVOTDATA(\"BAS011\",TABLAS!$A$891)","v":0},{"$f":"+GETPIVOTDATA(\"BAS012\",TABLAS!$A$891)","v":0},{"$f":"+GETPIVOTDATA(\"BAS013\",TABLAS!$A$891)","v":0},{"$f":"+GETPIVOTDATA(\"BAS014\",TABLAS!$A$891)","v":0},{"$f":"+GETPIVOTDATA(\"BAS015\",TABLAS!$A$891)","v":0},{"$f":"SUM(AJ21:AN21)","v":0},{"$f":"+AC21+AI21+AO21","v":0},null,null,{"$f":"+AW16+1","v":11},{"$f":"+AS21+1","v":12},13,14,15,null,{"$f":"IF(AS21<=9,CONCATENATE($AS$13,$AV$13,\"00\",AS21,$AW$13),IF(AND(AS21>=10,AS21<=99),CONCATENATE($AS$13,$AV$13,\"0\",AS21,$AW$13),CONCATENATE($AS$13,$AV$13,AS21,$AW$13)))","v":"=+IMPORTARDATOSDINAMICOS(\"BAS011\",TABLAS!$A$1011)"},{"$f":"IF(AT21<=9,CONCATENATE($AS$13,$AV$13,\"00\",AT21,$AW$13),IF(AND(AT21>=10,AT21<=99),CONCATENATE($AS$13,$AV$13,\"0\",AT21,$AW$13),CONCATENATE($AS$13,$AV$13,AT21,$AW$13)))","v":"=+IMPORTARDATOSDINAMICOS(\"BAS012\",TABLAS!$A$1011)"},{"$f":"IF(AU21<=9,CONCATENATE($AS$13,$AV$13,\"00\",AU21,$AW$13),IF(AND(AU21>=10,AU21<=99),CONCATENATE($AS$13,$AV$13,\"0\",AU21,$AW$13),CONCATENATE($AS$13,$AV$13,AU21,$AW$13)))","v":"=+IMPORTARDATOSDINAMICOS(\"BAS013\",TABLAS!$A$1011)"},{"$f":"IF(AV21<=9,CONCATENATE($AS$13,$AV$13,\"00\",AV21,$AW$13),IF(AND(AV21>=10,AV21<=99),CONCATENATE($AS$13,$AV$13,\"0\",AV21,$AW$13),CONCATENATE($AS$13,$AV$13,AV21,$AW$13)))","v":"=+IMPORTARDATOSDINAMICOS(\"BAS014\",TABLAS!$A$1011)"},{"$f":"IF(AW21<=9,CONCATENATE($AS$13,$AV$13,\"00\",AW21,$AW$13),IF(AND(AW21>=10,AW21<=99),CONCATENATE($AS$13,$AV$13,\"0\",AW21,$AW$13),CONCATENATE($AS$13,$AV$13,AW21,$AW$13)))","v":"=+IMPORTARDATOSDINAMICOS(\"BAS015\",TABLAS!$A$1011)"}]
["HEMOGLOBINA [85018]",null,null,{"$f":"+GETPIVOTDATA(\"BAS016\",TABLAS!$A$199)","v":0},{"$f":"+GETPIVOTDATA(\"BAS017\",TABLAS!$A$199)","v":0},{"$f":"+GETPIVOTDATA(\"BAS018\",TABLAS!$A$199)","v":0},{"$f":"+GETPIVOTDATA(\"BAS019\",TABLAS!$A$199)","v":0},{"$f":"+GETPIVOTDATA(\"BAS020\",TABLAS!$A$199)","v":0},{"$f":"SUM(D22:H22)","v":0},{"$f":"+GETPIVOTDATA(\"BAS016\",TABLAS!$A$321)","v":0},{"$f":"+GETPIVOTDATA(\"BAS017\",TABLAS!$A$321)","v":0},{"$f":"+GETPIVOTDATA(\"BAS018\",TABLAS!$A$321)","v":0},{"$f":"+GETPIVOTDATA(\"BAS019\",TABLAS!$A$321)","v":0},{"$f":"+GETPIVOTDATA(\"BAS020\",TABLAS!$A$321)","v":0},{"$f":"SUM(J22:N22)","v":0},{"$f":"+GETPIVOTDATA(\"BAS016\",TABLAS!$A$471)","v":0},{"$f":"+GETPIVOTDATA(\"BAS017\",TABLAS!$A$471)","v":0},{"$f":"+GETPIVOTDATA(\"BAS018\",TABLAS!$A$471)","v":0},{"$f":"+GETPIVOTDATA(\"BAS019\",TABLAS!$A$471)","v":0},{"$f":"+GETPIVOTDATA(\"BAS020\",TABLAS!$A$471)","v":0},{"$f":"SUM(P22:T22)","v":0},{"$f":"+I22+O22+U22","v":0},null,{"$f":"+GETPIVOTDATA(\"BAS016\",TABLAS!$A$621)","v":0},{"$f":"+GETPIVOTDATA(\"BAS017\",TABLAS!$A$621)","v":0},{"$f":"+GETPIVOTDATA(\"BAS018\",TABLAS!$A$621)","v":0},{"$f":"+GETPIVOTDATA(\"BAS019\",TABLAS!$A$621)","v":0},{"$f":"+GETPIVOTDATA(\"BAS020\",TABLAS!$A$621)","v":0},{"$f":"SUM(X22:AB22)","v":0},{"$f":"+GETPIVOTDATA(\"BAS016\",TABLAS!$A$741)","v":0},{"$f":"+GETPIVOTDATA(\"BAS017\",TABLAS!$A$741)","v":0},{"$f":"+GETPIVOTDATA(\"BAS018\",TABLAS!$A$741)","v":0},{"$f":"+GETPIVOTDATA(\"BAS019\",TABLAS!$A$741)","v":0},{"$f":"+GETPIVOTDATA(\"BAS020\",TABLAS!$A$741)","v":0},{"$f":"SUM(AD22:AH22)","v":0},{"$f":"+GETPIVOTDATA(\"BAS016\",TABLAS!$A$891)","v":0},{"$f":"+GETPIVOTDATA(\"BAS017\",TABLAS!$A$891)","v":0},{"$f":"+GETPIVOTDATA(\"BAS018\",TABLAS!$A$891)","v":0},{"$f":"+GETPIVOTDATA(\"BAS019\",TABLAS!$A$891)","v":0},{"$f":"+GETPIVOTDATA(\"BAS020\",TABLAS!$A$891)","v":0},{"$f":"SUM(AJ22:AN22)","v":0},{"$f":"+AC22+AI22+AO22","v":0},null,null,{"$f":"+AW21+1","v":16},{"$f":"+AS22+1","v":17},18,19,20,null,{"$f":"IF(AS22<=9,CONCATENATE($AS$13,$AV$13,\"00\",AS22,$AW$13),IF(AND(AS22>=10,AS22<=99),CONCATENATE($AS$13,$AV$13,\"0\",AS22,$AW$13),CONCATENATE($AS$13,$AV$13,AS22,$AW$13)))","v":"=+IMPORTARDATOSDINAMICOS(\"BAS016\",TABLAS!$A$1011)"},{"$f":"IF(AT22<=9,CONCATENATE($AS$13,$AV$13,\"00\",AT22,$AW$13),IF(AND(AT22>=10,AT22<=99),CONCATENATE($AS$13,$AV$13,\"0\",AT22,$AW$13),CONCATENATE($AS$13,$AV$13,AT22,$AW$13)))","v":"=+IMPORTARDATOSDINAMICOS(\"BAS017\",TABLAS!$A$1011)"},{"$f":"IF(AU22<=9,CONCATENATE($AS$13,$AV$13,\"00\",AU22,$AW$13),IF(AND(AU22>=10,AU22<=99),CONCATENATE($AS$13,$AV$13,\"0\",AU22,$AW$13),CONCATENATE($AS$13,$AV$13,AU22,$AW$13)))","v":"=+IMPORTARDATOSDINAMICOS(\"BAS018\",TABLAS!$A$1011)"},{"$f":"IF(AV22<=9,CONCATENATE($AS$13,$AV$13,\"00\",AV22,$AW$13),IF(AND(AV22>=10,AV22<=99),CONCATENATE($AS$13,$AV$13,\"0\",AV22,$AW$13),CONCATENATE($AS$13,$AV$13,AV22,$AW$13)))","v":"=+IMPORTARDATOSDINAMICOS(\"BAS019\",TABLAS!$A$1011)"},{"$f":"IF(AW22<=9,CONCATENATE($AS$13,$AV$13,\"00\",AW22,$AW$13),IF(AND(AW22>=10,AW22<=99),CONCATENATE($AS$13,$AV$13,\"0\",AW22,$AW$13),CONCATENATE($AS$13,$AV$13,AW22,$AW$13)))","v":"=+IMPORTARDATOSDINAMICOS(\"BAS020\",TABLAS!$A$1011)"}]
["HEMOGRAMA COMPLETO  (MANUAL) [85032]",null,null,{"$f":"+GETPIVOTDATA(\"BAS021\",TABLAS!$A$199)","v":0},{"$f":"+GETPIVOTDATA(\"BAS022\",TABLAS!$A$199)","v":0},{"$f":"+GETPIVOTDATA(\"BAS023\",TABLAS!$A$199)","v":0},{"$f":"+GETPIVOTDATA(\"BAS024\",TABLAS!$A$199)","v":0},{"$f":"+GETPIVOTDATA(\"BAS025\",TABLAS!$A$199)","v":0},0,{"$f":"+GETPIVOTDATA(\"BAS021\",TABLAS!$A$321)","v":0},{"$f":"+GETPIVOTDATA(\"BAS022\",TABLAS!$A$321)","v":0},{"$f":"+GETPIVOTDATA(\"BAS023\",TABLAS!$A$321)","v":0},{"$f":"+GETPIVOTDATA(\"BAS024\",TABLAS!$A$321)","v":0},{"$f":"+GETPIVOTDATA(\"BAS025\",TABLAS!$A$321)","v":0},0,{"$f":"+GETPIVOTDATA(\"BAS021\",TABLAS!$A$471)","v":0},{"$f":"+GETPIVOTDATA(\"BAS022\",TABLAS!$A$471)","v":0},{"$f":"+GETPIVOTDATA(\"BAS023\",TABLAS!$A$471)","v":0},{"$f":"+GETPIVOTDATA(\"BAS024\",TABLAS!$A$471)","v":0},{"$f":"+GETPIVOTDATA(\"BAS025\",TABLAS!$A$471)","v":0},0,0,null,{"$f":"+GETPIVOTDATA(\"BAS021\",TABLAS!$A$621)","v":0},{"$f":"+GETPIVOTDATA(\"BAS022\",TABLAS!$A$621)","v":0},{"$f":"+GETPIVOTDATA(\"BAS023\",TABLAS!$A$621)","v":0},{"$f":"+GETPIVOTDATA(\"BAS024\",TABLAS!$A$621)","v":0},{"$f":"+GETPIVOTDATA(\"BAS025\",TABLAS!$A$621)","v":0},0,{"$f":"+GETPIVOTDATA(\"BAS021\",TABLAS!$A$741)","v":0},{"$f":"+GETPIVOTDATA(\"BAS022\",TABLAS!$A$741)","v":0},{"$f":"+GETPIVOTDATA(\"BAS023\",TABLAS!$A$741)","v":0},{"$f":"+GETPIVOTDATA(\"BAS024\",TABLAS!$A$741)","v":0},{"$f":"+GETPIVOTDATA(\"BAS025\",TABLAS!$A$741)","v":0},0,{"$f":"+GETPIVOTDATA(\"BAS021\",TABLAS!$A$891)","v":0},{"$f":"+GETPIVOTDATA(\"BAS022\",TABLAS!$A$891)","v":0},{"$f":"+GETPIVOTDATA(\"BAS023\",TABLAS!$A$891)","v":0},{"$f":"+GETPIVOTDATA(\"BAS024\",TABLAS!$A$891)","v":0},{"$f":"+GETPIVOTDATA(\"BAS025\",TABLAS!$A$891)","v":0},0,0,null,null,{"$f":"+AW22+1","v":21},{"$f":"+AS23+1","v":22},23,24,25,null,"=+IMPORTARDATOSDINAMICOS(\"BAS021\",TABLAS!$A$1011)","=+IMPORTARDATOSDINAMICOS(\"BAS022\",TABLAS!$A$1011)","=+IMPORTARDATOSDINAMICOS(\"BAS023\",TABLAS!$A$1011)","=+IMPORTARDATOSDINAMICOS(\"BAS024\",TABLAS!$A$1011)","=+IMPORTARDATOSDINAMICOS(\"BAS025\",TABLAS!$A$1011)"]
["HEMOGRAMA AUTOMATIZADO  [85025]",null,null,{"$f":"+GETPIVOTDATA(\"BAS026\",TABLAS!$A$199)","v":0},{"$f":"+GETPIVOTDATA(\"BAS027\",TABLAS!$A$199)","v":0},{"$f":"+GETPIVOTDATA(\"BAS028\",TABLAS!$A$199)","v":0},{"$f":"+GETPIVOTDATA(\"BAS029\",TABLAS!$A$199)","v":0},{"$f":"+GETPIVOTDATA(\"BAS030\",TABLAS!$A$199)","v":0},0,{"$f":"+GETPIVOTDATA(\"BAS026\",TABLAS!$A$321)","v":0},{"$f":"+GETPIVOTDATA(\"BAS027\",TABLAS!$A$321)","v":0},{"$f":"+GETPIVOTDATA(\"BAS028\",TABLAS!$A$321)","v":0},{"$f":"+GETPIVOTDATA(\"BAS029\",TABLAS!$A$321)","v":0},{"$f":"+GETPIVOTDATA(\"BAS030\",TABLAS!$A$321)","v":0},0,{"$f":"+GETPIVOTDATA(\"BAS026\",TABLAS!$A$471)","v":0},{"$f":"+GETPIVOTDATA(\"BAS027\",TABLAS!$A$471)","v":0},{"$f":"+GETPIVOTDATA(\"BAS028\",TABLAS!$A$471)","v":0},{"$f":"+GETPIVOTDATA(\"BAS029\",TABLAS!$A$471)","v":0},{"$f":"+GETPIVOTDATA(\"BAS030\",TABLAS!$A$471)","v":0},0,0,null,{"$f":"+GETPIVOTDATA(\"BAS026\",TABLAS!$A$621)","v":0},{"$f":"+GETPIVOTDATA(\"BAS027\",TABLAS!$A$621)","v":0},{"$f":"+GETPIVOTDATA(\"BAS028\",TABLAS!$A$621)","v":0},{"$f":"+GETPIVOTDATA(\"BAS029\",TABLAS!$A$621)","v":0},{"$f":"+GETPIVOTDATA(\"BAS030\",TABLAS!$A$621)","v":0},0,{"$f":"+GETPIVOTDATA(\"BAS026\",TABLAS!$A$741)","v":0},{"$f":"+GETPIVOTDATA(\"BAS027\",TABLAS!$A$741)","v":0},{"$f":"+GETPIVOTDATA(\"BAS028\",TABLAS!$A$741)","v":0},{"$f":"+GETPIVOTDATA(\"BAS029\",TABLAS!$A$741)","v":0},{"$f":"+GETPIVOTDATA(\"BAS030\",TABLAS!$A$741)","v":0},0,{"$f":"+GETPIVOTDATA(\"BAS026\",TABLAS!$A$891)","v":0},{"$f":"+GETPIVOTDATA(\"BAS027\",TABLAS!$A$891)","v":0},{"$f":"+GETPIVOTDATA(\"BAS028\",TABLAS!$A$891)","v":0},{"$f":"+GETPIVOTDATA(\"BAS029\",TABLAS!$A$891)","v":0},{"$f":"+GETPIVOTDATA(\"BAS030\",TABLAS!$A$891)","v":0},0,0,null,null,26,{"$f":"+AS24+1","v":27},28,29,30,null,"=+IMPORTARDATOSDINAMICOS(\"BAS026\",TABLAS!$A$1011)","=+IMPORTARDATOSDINAMICOS(\"BAS027\",TABLAS!$A$1011)","=+IMPORTARDATOSDINAMICOS(\"BAS028\",TABLAS!$A$1011)","=+IMPORTARDATOSDINAMICOS(\"BAS029\",TABLAS!$A$1011)","=+IMPORTARDATOSDINAMICOS(\"BAS030\",TABLAS!$A$1011)"]
["DETECCION DE CELULAS L.E [85599]",null,null,{"$f":"+GETPIVOTDATA(\"BAS031\",TABLAS!$A$199)","v":0},{"$f":"+GETPIVOTDATA(\"BAS032\",TABLAS!$A$199)","v":0},{"$f":"+GETPIVOTDATA(\"BAS033\",TABLAS!$A$199)","v":0},{"$f":"+GETPIVOTDATA(\"BAS034\",TABLAS!$A$199)","v":0},{"$f":"+GETPIVOTDATA(\"BAS035\",TABLAS!$A$199)","v":0},0,{"$f":"+GETPIVOTDATA(\"BAS031\",TABLAS!$A$321)","v":0},{"$f":"+GETPIVOTDATA(\"BAS032\",TABLAS!$A$321)","v":0},{"$f":"+GETPIVOTDATA(\"BAS033\",TABLAS!$A$321)","v":0},{"$f":"+GETPIVOTDATA(\"BAS034\",TABLAS!$A$321)","v":0},{"$f":"+GETPIVOTDATA(\"BAS035\",TABLAS!$A$321)","v":0},0,{"$f":"+GETPIVOTDATA(\"BAS031\",TABLAS!$A$471)","v":0},{"$f":"+GETPIVOTDATA(\"BAS032\",TABLAS!$A$471)","v":0},{"$f":"+GETPIVOTDATA(\"BAS033\",TABLAS!$A$471)","v":0},{"$f":"+GETPIVOTDATA(\"BAS034\",TABLAS!$A$471)","v":0},{"$f":"+GETPIVOTDATA(\"BAS035\",TABLAS!$A$471)","v":0},0,0,null,{"$f":"+GETPIVOTDATA(\"BAS031\",TABLAS!$A$621)","v":0},{"$f":"+GETPIVOTDATA(\"BAS032\",TABLAS!$A$621)","v":0},{"$f":"+GETPIVOTDATA(\"BAS033\",TABLAS!$A$621)","v":0},{"$f":"+GETPIVOTDATA(\"BAS034\",TABLAS!$A$621)","v":0},{"$f":"+GETPIVOTDATA(\"BAS035\",TABLAS!$A$621)","v":0},0,{"$f":"+GETPIVOTDATA(\"BAS031\",TABLAS!$A$741)","v":0},{"$f":"+GETPIVOTDATA(\"BAS032\",TABLAS!$A$741)","v":0},{"$f":"+GETPIVOTDATA(\"BAS033\",TABLAS!$A$741)","v":0},{"$f":"+GETPIVOTDATA(\"BAS034\",TABLAS!$A$741)","v":0},{"$f":"+GETPIVOTDATA(\"BAS035\",TABLAS!$A$741)","v":0},0,{"$f":"+GETPIVOTDATA(\"BAS031\",TABLAS!$A$891)","v":0},{"$f":"+GETPIVOTDATA(\"BAS032\",TABLAS!$A$891)","v":0},{"$f":"+GETPIVOTDATA(\"BAS033\",TABLAS!$A$891)","v":0},{"$f":"+GETPIVOTDATA(\"BAS034\",TABLAS!$A$891)","v":0},{"$f":"+GETPIVOTDATA(\"BAS035\",TABLAS!$A$891)","v":0},0,0,null,null,31,{"$f":"+AS25+1","v":32},33,34,35,null,"=+IMPORTARDATOSDINAMICOS(\"BAS031\",TABLAS!$A$1011)","=+IMPORTARDATOSDINAMICOS(\"BAS032\",TABLAS!$A$1011)","=+IMPORTARDATOSDINAMICOS(\"BAS033\",TABLAS!$A$1011)","=+IMPORTARDATOSDINAMICOS(\"BAS034\",TABLAS!$A$1011)","=+IMPORTARDATOSDINAMICOS(\"BAS035\",TABLAS!$A$1011)"]
["RECUENTO DE PLAQUETAS  [85590]",null,null,{"$f":"+GETPIVOTDATA(\"BAS036\",TABLAS!$A$199)","v":0},{"$f":"+GETPIVOTDATA(\"BAS037\",TABLAS!$A$199)","v":0},{"$f":"+GETPIVOTDATA(\"BAS038\",TABLAS!$A$199)","v":0},{"$f":"+GETPIVOTDATA(\"BAS039\",TABLAS!$A$199)","v":0},{"$f":"+GETPIVOTDATA(\"BAS040\",TABLAS!$A$199)","v":0},0,{"$f":"+GETPIVOTDATA(\"BAS036\",TABLAS!$A$321)","v":0},{"$f":"+GETPIVOTDATA(\"BAS037\",TABLAS!$A$321)","v":0},{"$f":"+GETPIVOTDATA(\"BAS038\",TABLAS!$A$321)","v":0},{"$f":"+GETPIVOTDATA(\"BAS039\",TABLAS!$A$321)","v":0},{"$f":"+GETPIVOTDATA(\"BAS040\",TABLAS!$A$321)","v":0},0,{"$f":"+GETPIVOTDATA(\"BAS036\",TABLAS!$A$471)","v":0},{"$f":"+GETPIVOTDATA(\"BAS037\",TABLAS!$A$471)","v":0},{"$f":"+GETPIVOTDATA(\"BAS038\",TABLAS!$A$471)","v":0},{"$f":"+GETPIVOTDATA(\"BAS039\",TABLAS!$A$471)","v":0},{"$f":"+GETPIVOTDATA(\"BAS040\",TABLAS!$A$471)","v":0},0,0,null,{"$f":"+GETPIVOTDATA(\"BAS036\",TABLAS!$A$621)","v":0},{"$f":"+GETPIVOTDATA(\"BAS037\",TABLAS!$A$621)","v":0},{"$f":"+GETPIVOTDATA(\"BAS038\",TABLAS!$A$621)","v":0},{"$f":"+GETPIVOTDATA(\"BAS039\",TABLAS!$A$621)","v":0},{"$f":"+GETPIVOTDATA(\"BAS040\",TABLAS!$A$621)","v":0},0,{"$f":"+GETPIVOTDATA(\"BAS036\",TABLAS!$A$741)","v":0},{"$f":"+GETPIVOTDATA(\"BAS037\",TABLAS!$A$741)","v":0},{"$f":"+GETPIVOTDATA(\"BAS038\",TABLAS!$A$741)","v":0},{"$f":"+GETPIVOTDATA(\"BAS039\",TABLAS!$A$741)","v":0},{"$f":"+GETPIVOTDATA(\"BAS040\",TABLAS!$A$741)","v":0},0,{"$f":"+GETPIVOTDATA(\"BAS036\",TABLAS!$A$891)","v":0},{"$f":"+GETPIVOTDATA(\"BAS037\",TABLAS!$A$891)","v":0},{"$f":"+GETPIVOTDATA(\"BAS038\",TABLAS!$A$891)","v":0},{"$f":"+GETPIVOTDATA(\"BAS039\",TABLAS!$A$891)","v":0},{"$f":"+GETPIVOTDATA(\"BAS040\",TABLAS!$A$891)","v":0},0,0,null,null,36,{"$f":"+AS26+1","v":37},38,39,40,null,"=+IMPORTARDATOSDINAMICOS(\"BAS036\",TABLAS!$A$1011)","=+IMPORTARDATOSDINAMICOS(\"BAS037\",TABLAS!$A$1011)","=+IMPORTARDATOSDINAMICOS(\"BAS038\",TABLAS!$A$1011)","=+IMPORTARDATOSDINAMICOS(\"BAS039\",TABLAS!$A$1011)","=+IMPORTARDATOSDINAMICOS(\"BAS040\",TABLAS!$A$1011)"]
["RECUENTO DE RETICULOCITOS  [85045]",null,null,{"$f":"+GETPIVOTDATA(\"BAS041\",TABLAS!$A$199)","v":0},{"$f":"+GETPIVOTDATA(\"BAS042\",TABLAS!$A$199)","v":0},{"$f":"+GETPIVOTDATA(\"BAS043\",TABLAS!$A$199)","v":0},{"$f":"+GETPIVOTDATA(\"BAS044\",TABLAS!$A$199)","v":0},{"$f":"+GETPIVOTDATA(\"BAS045\",TABLAS!$A$199)","v":0},0,{"$f":"+GETPIVOTDATA(\"BAS041\",TABLAS!$A$321)","v":0},{"$f":"+GETPIVOTDATA(\"BAS042\",TABLAS!$A$321)","v":0},{"$f":"+GETPIVOTDATA(\"BAS043\",TABLAS!$A$321)","v":0},{"$f":"+GETPIVOTDATA(\"BAS044\",TABLAS!$A$321)","v":0},{"$f":"+GETPIVOTDATA(\"BAS045\",TABLAS!$A$321)","v":0},0,{"$f":"+GETPIVOTDATA(\"BAS041\",TABLAS!$A$471)","v":0},{"$f":"+GETPIVOTDATA(\"BAS042\",TABLAS!$A$471)","v":0},{"$f":"+GETPIVOTDATA(\"BAS043\",TABLAS!$A$471)","v":0},{"$f":"+GETPIVOTDATA(\"BAS044\",TABLAS!$A$471)","v":0},{"$f":"+GETPIVOTDATA(\"BAS045\",TABLAS!$A$471)","v":0},0,0,null,{"$f":"+GETPIVOTDATA(\"BAS041\",TABLAS!$A$621)","v":0},{"$f":"+GETPIVOTDATA(\"BAS042\",TABLAS!$A$621)","v":0},{"$f":"+GETPIVOTDATA(\"BAS043\",TABLAS!$A$621)","v":0},{"$f":"+GETPIVOTDATA(\"BAS044\",TABLAS!$A$621)","v":0},{"$f":"+GETPIVOTDATA(\"BAS045\",TABLAS!$A$621)","v":0},0,{"$f":"+GETPIVOTDATA(\"BAS041\",TABLAS!$A$741)","v":0},{"$f":"+GETPIVOTDATA(\"BAS042\",TABLAS!$A$741)","v":0},{"$f":"+GETPIVOTDATA(\"BAS043\",TABLAS!$A$741)","v":0},{"$f":"+GETPIVOTDATA(\"BAS044\",TABLAS!$A$741)","v":0},{"$f":"+GETPIVOTDATA(\"BAS045\",TABLAS!$A$741)","v":0},0,{"$f":"+GETPIVOTDATA(\"BAS041\",TABLAS!$A$891)","v":0},{"$f":"+GETPIVOTDATA(\"BAS042\",TABLAS!$A$891)","v":0},{"$f":"+GETPIVOTDATA(\"BAS043\",TABLAS!$A$891)","v":0},{"$f":"+GETPIVOTDATA(\"BAS044\",TABLAS!$A$891)","v":0},{"$f":"+GETPIVOTDATA(\"BAS045\",TABLAS!$A$891)","v":0},0,0,null,null,41,{"$f":"+AS27+1","v":42},43,44,45,null,"=+IMPORTARDATOSDINAMICOS(\"BAS041\",TABLAS!$A$1011)","=+IMPORTARDATOSDINAMICOS(\"BAS042\",TABLAS!$A$1011)","=+IMPORTARDATOSDINAMICOS(\"BAS043\",TABLAS!$A$1011)","=+IMPORTARDATOSDINAMICOS(\"BAS044\",TABLAS!$A$1011)","=+IMPORTARDATOSDINAMICOS(\"BAS045\",TABLAS!$A$1011)"]
["TIEMPO DE COAGULACION  [85345]",null,null,{"$f":"+GETPIVOTDATA(\"BAS046\",TABLAS!$A$199)","v":0},{"$f":"+GETPIVOTDATA(\"BAS047\",TABLAS!$A$199)","v":0},{"$f":"+GETPIVOTDATA(\"BAS048\",TABLAS!$A$199)","v":0},{"$f":"+GETPIVOTDATA(\"BAS049\",TABLAS!$A$199)","v":0},{"$f":"+GETPIVOTDATA(\"BAS050\",TABLAS!$A$199)","v":0},0,{"$f":"+GETPIVOTDATA(\"BAS046\",TABLAS!$A$321)","v":0},{"$f":"+GETPIVOTDATA(\"BAS047\",TABLAS!$A$321)","v":0},{"$f":"+GETPIVOTDATA(\"BAS048\",TABLAS!$A$321)","v":0},{"$f":"+GETPIVOTDATA(\"BAS049\",TABLAS!$A$321)","v":0},{"$f":"+GETPIVOTDATA(\"BAS050\",TABLAS!$A$321)","v":0},0,{"$f":"+GETPIVOTDATA(\"BAS046\",TABLAS!$A$471)","v":0},{"$f":"+GETPIVOTDATA(\"BAS047\",TABLAS!$A$471)","v":0},{"$f":"+GETPIVOTDATA(\"BAS048\",TABLAS!$A$471)","v":0},{"$f":"+GETPIVOTDATA(\"BAS049\",TABLAS!$A$471)","v":0},{"$f":"+GETPIVOTDATA(\"BAS050\",TABLAS!$A$471)","v":0},0,0,null,{"$f":"+GETPIVOTDATA(\"BAS046\",TABLAS!$A$621)","v":0},{"$f":"+GETPIVOTDATA(\"BAS047\",TABLAS!$A$621)","v":0},{"$f":"+GETPIVOTDATA(\"BAS048\",TABLAS!$A$621)","v":0},{"$f":"+GETPIVOTDATA(\"BAS049\",TABLAS!$A$621)","v":0},{"$f":"+GETPIVOTDATA(\"BAS050\",TABLAS!$A$621)","v":0},0,{"$f":"+GETPIVOTDATA(\"BAS046\",TABLAS!$A$741)","v":0},{"$f":"+GETPIVOTDATA(\"BAS047\",TABLAS!$A$741)","v":0},{"$f":"+GETPIVOTDATA(\"BAS048\",TABLAS!$A$741)","v":0},{"$f":"+GETPIVOTDATA(\"BAS049\",TABLAS!$A$741)","v":0},{"$f":"+GETPIVOTDATA(\"BAS050\",TABLAS!$A$741)","v":0},0,{"$f":"+GETPIVOTDATA(\"BAS046\",TABLAS!$A$891)","v":0},{"$f":"+GETPIVOTDATA(\"BAS047\",TABLAS!$A$891)","v":0},{"$f":"+GETPIVOTDATA(\"BAS048\",TABLAS!$A$891)","v":0},{"$f":"+GETPIVOTDATA(\"BAS049\",TABLAS!$A$891)","v":0},{"$f":"+GETPIVOTDATA(\"BAS050\",TABLAS!$A$891)","v":0},0,0,null,null,46,{"$f":"+AS28+1","v":47},48,49,50,null,"=+IMPORTARDATOSDINAMICOS(\"BAS046\",TABLAS!$A$1011)","=+IMPORTARDATOSDINAMICOS(\"BAS047\",TABLAS!$A$1011)","=+IMPORTARDATOSDINAMICOS(\"BAS048\",TABLAS!$A$1011)","=+IMPORTARDATOSDINAMICOS(\"BAS049\",TABLAS!$A$1011)","=+IMPORTARDATOSDINAMICOS(\"BAS050\",TABLAS!$A$1011)"]
["TIEMPO DE SANGRIA  [85002]",null,null,{"$f":"+GETPIVOTDATA(\"BAS051\",TABLAS!$A$199)","v":0},{"$f":"+GETPIVOTDATA(\"BAS052\",TABLAS!$A$199)","v":0},{"$f":"+GETPIVOTDATA(\"BAS053\",TABLAS!$A$199)","v":0},{"$f":"+GETPIVOTDATA(\"BAS054\",TABLAS!$A$199)","v":0},{"$f":"+GETPIVOTDATA(\"BAS055\",TABLAS!$A$199)","v":0},0,{"$f":"+GETPIVOTDATA(\"BAS051\",TABLAS!$A$321)","v":0},{"$f":"+GETPIVOTDATA(\"BAS052\",TABLAS!$A$321)","v":0},{"$f":"+GETPIVOTDATA(\"BAS053\",TABLAS!$A$321)","v":0},{"$f":"+GETPIVOTDATA(\"BAS054\",TABLAS!$A$321)","v":0},{"$f":"+GETPIVOTDATA(\"BAS055\",TABLAS!$A$321)","v":0},0,{"$f":"+GETPIVOTDATA(\"BAS051\",TABLAS!$A$471)","v":0},{"$f":"+GETPIVOTDATA(\"BAS052\",TABLAS!$A$471)","v":0},{"$f":"+GETPIVOTDATA(\"BAS053\",TABLAS!$A$471)","v":0},{"$f":"+GETPIVOTDATA(\"BAS054\",TABLAS!$A$471)","v":0},{"$f":"+GETPIVOTDATA(\"BAS055\",TABLAS!$A$471)","v":0},0,0,null,{"$f":"+GETPIVOTDATA(\"BAS051\",TABLAS!$A$621)","v":0},{"$f":"+GETPIVOTDATA(\"BAS052\",TABLAS!$A$621)","v":0},{"$f":"+GETPIVOTDATA(\"BAS053\",TABLAS!$A$621)","v":0},{"$f":"+GETPIVOTDATA(\"BAS054\",TABLAS!$A$621)","v":0},{"$f":"+GETPIVOTDATA(\"BAS055\",TABLAS!$A$621)","v":0},0,{"$f":"+GETPIVOTDATA(\"BAS051\",TABLAS!$A$741)","v":0},{"$f":"+GETPIVOTDATA(\"BAS052\",TABLAS!$A$741)","v":0},{"$f":"+GETPIVOTDATA(\"BAS053\",TABLAS!$A$741)","v":0},{"$f":"+GETPIVOTDATA(\"BAS054\",TABLAS!$A$741)","v":0},{"$f":"+GETPIVOTDATA(\"BAS055\",TABLAS!$A$741)","v":0},0,{"$f":"+GETPIVOTDATA(\"BAS051\",TABLAS!$A$891)","v":0},{"$f":"+GETPIVOTDATA(\"BAS052\",TABLAS!$A$891)","v":0},{"$f":"+GETPIVOTDATA(\"BAS053\",TABLAS!$A$891)","v":0},{"$f":"+GETPIVOTDATA(\"BAS054\",TABLAS!$A$891)","v":0},{"$f":"+GETPIVOTDATA(\"BAS055\",TABLAS!$A$891)","v":0},0,0,null,null,51,{"$f":"+AS29+1","v":52},53,54,55,null,"=+IMPORTARDATOSDINAMICOS(\"BAS051\",TABLAS!$A$1011)","=+IMPORTARDATOSDINAMICOS(\"BAS052\",TABLAS!$A$1011)","=+IMPORTARDATOSDINAMICOS(\"BAS053\",TABLAS!$A$1011)","=+IMPORTARDATOSDINAMICOS(\"BAS054\",TABLAS!$A$1011)","=+IMPORTARDATOSDINAMICOS(\"BAS055\",TABLAS!$A$1011)"]
["TIEMPO DE PROTROMBINA  [85610]",null,null,{"$f":"+GETPIVOTDATA(\"BAS056\",TABLAS!$A$199)","v":0},{"$f":"+GETPIVOTDATA(\"BAS057\",TABLAS!$A$199)","v":0},{"$f":"+GETPIVOTDATA(\"BAS058\",TABLAS!$A$199)","v":0},{"$f":"+GETPIVOTDATA(\"BAS059\",TABLAS!$A$199)","v":0},{"$f":"+GETPIVOTDATA(\"BAS060\",TABLAS!$A$199)","v":0},0,{"$f":"+GETPIVOTDATA(\"BAS056\",TABLAS!$A$321)","v":0},{"$f":"+GETPIVOTDATA(\"BAS057\",TABLAS!$A$321)","v":0},{"$f":"+GETPIVOTDATA(\"BAS058\",TABLAS!$A$321)","v":0},{"$f":"+GETPIVOTDATA(\"BAS059\",TABLAS!$A$321)","v":0},{"$f":"+GETPIVOTDATA(\"BAS060\",TABLAS!$A$321)","v":0},0,{"$f":"+GETPIVOTDATA(\"BAS056\",TABLAS!$A$471)","v":0},{"$f":"+GETPIVOTDATA(\"BAS057\",TABLAS!$A$471)","v":0},{"$f":"+GETPIVOTDATA(\"BAS058\",TABLAS!$A$471)","v":0},{"$f":"+GETPIVOTDATA(\"BAS059\",TABLAS!$A$471)","v":0},{"$f":"+GETPIVOTDATA(\"BAS060\",TABLAS!$A$471)","v":0},0,0,null,{"$f":"+GETPIVOTDATA(\"BAS056\",TABLAS!$A$621)","v":0},{"$f":"+GETPIVOTDATA(\"BAS057\",TABLAS!$A$621)","v":0},{"$f":"+GETPIVOTDATA(\"BAS058\",TABLAS!$A$621)","v":0},{"$f":"+GETPIVOTDATA(\"BAS059\",TABLAS!$A$621)","v":0},{"$f":"+GETPIVOTDATA(\"BAS060\",TABLAS!$A$621)","v":0},0,{"$f":"+GETPIVOTDATA(\"BAS056\",TABLAS!$A$741)","v":0},{"$f":"+GETPIVOTDATA(\"BAS057\",TABLAS!$A$741)","v":0},{"$f":"+GETPIVOTDATA(\"BAS058\",TABLAS!$A$741)","v":0},{"$f":"+GETPIVOTDATA(\"BAS059\",TABLAS!$A$741)","v":0},{"$f":"+GETPIVOTDATA(\"BAS060\",TABLAS!$A$741)","v":0},0,{"$f":"+GETPIVOTDATA(\"BAS056\",TABLAS!$A$891)","v":0},{"$f":"+GETPIVOTDATA(\"BAS057\",TABLAS!$A$891)","v":0},{"$f":"+GETPIVOTDATA(\"BAS058\",TABLAS!$A$891)","v":0},{"$f":"+GETPIVOTDATA(\"BAS059\",TABLAS!$A$891)","v":0},{"$f":"+GETPIVOTDATA(\"BAS060\",TABLAS!$A$891)","v":0},0,0,null,null,56,{"$f":"+AS30+1","v":57},58,59,60,null,"=+IMPORTARDATOSDINAMICOS(\"BAS056\",TABLAS!$A$1011)","=+IMPORTARDATOSDINAMICOS(\"BAS057\",TABLAS!$A$1011)","=+IMPORTARDATOSDINAMICOS(\"BAS058\",TABLAS!$A$1011)","=+IMPORTARDATOSDINAMICOS(\"BAS059\",TABLAS!$A$1011)","=+IMPORTARDATOSDINAMICOS(\"BAS060\",TABLAS!$A$1011)"]
["TIEMPO DE TROMBOPLASTINA  [85730]",null,null,{"$f":"+GETPIVOTDATA(\"BAS061\",TABLAS!$A$199)","v":0},{"$f":"+GETPIVOTDATA(\"BAS062\",TABLAS!$A$199)","v":0},{"$f":"+GETPIVOTDATA(\"BAS063\",TABLAS!$A$199)","v":0},{"$f":"+GETPIVOTDATA(\"BAS064\",TABLAS!$A$199)","v":0},{"$f":"+GETPIVOTDATA(\"BAS065\",TABLAS!$A$199)","v":0},0,{"$f":"+GETPIVOTDATA(\"BAS061\",TABLAS!$A$321)","v":0},{"$f":"+GETPIVOTDATA(\"BAS062\",TABLAS!$A$321)","v":0},{"$f":"+GETPIVOTDATA(\"BAS063\",TABLAS!$A$321)","v":0},{"$f":"+GETPIVOTDATA(\"BAS064\",TABLAS!$A$321)","v":0},{"$f":"+GETPIVOTDATA(\"BAS065\",TABLAS!$A$321)","v":0},0,{"$f":"+GETPIVOTDATA(\"BAS061\",TABLAS!$A$471)","v":0},{"$f":"+GETPIVOTDATA(\"BAS062\",TABLAS!$A$471)","v":0},{"$f":"+GETPIVOTDATA(\"BAS063\",TABLAS!$A$471)","v":0},{"$f":"+GETPIVOTDATA(\"BAS064\",TABLAS!$A$471)","v":0},{"$f":"+GETPIVOTDATA(\"BAS065\",TABLAS!$A$471)","v":0},0,0,null,{"$f":"+GETPIVOTDATA(\"BAS061\",TABLAS!$A$621)","v":0},{"$f":"+GETPIVOTDATA(\"BAS062\",TABLAS!$A$621)","v":0},{"$f":"+GETPIVOTDATA(\"BAS063\",TABLAS!$A$621)","v":0},{"$f":"+GETPIVOTDATA(\"BAS064\",TABLAS!$A$621)","v":0},{"$f":"+GETPIVOTDATA(\"BAS065\",TABLAS!$A$621)","v":0},0,{"$f":"+GETPIVOTDATA(\"BAS061\",TABLAS!$A$741)","v":0},{"$f":"+GETPIVOTDATA(\"BAS062\",TABLAS!$A$741)","v":0},{"$f":"+GETPIVOTDATA(\"BAS063\",TABLAS!$A$741)","v":0},{"$f":"+GETPIVOTDATA(\"BAS064\",TABLAS!$A$741)","v":0},{"$f":"+GETPIVOTDATA(\"BAS065\",TABLAS!$A$741)","v":0},0,{"$f":"+GETPIVOTDATA(\"BAS061\",TABLAS!$A$891)","v":0},{"$f":"+GETPIVOTDATA(\"BAS062\",TABLAS!$A$891)","v":0},{"$f":"+GETPIVOTDATA(\"BAS063\",TABLAS!$A$891)","v":0},{"$f":"+GETPIVOTDATA(\"BAS064\",TABLAS!$A$891)","v":0},{"$f":"+GETPIVOTDATA(\"BAS065\",TABLAS!$A$891)","v":0},0,0,null,null,61,{"$f":"+AS31+1","v":62},63,64,65,null,"=+IMPORTARDATOSDINAMICOS(\"BAS061\",TABLAS!$A$1011)","=+IMPORTARDATOSDINAMICOS(\"BAS062\",TABLAS!$A$1011)","=+IMPORTARDATOSDINAMICOS(\"BAS063\",TABLAS!$A$1011)","=+IMPORTARDATOSDINAMICOS(\"BAS064\",TABLAS!$A$1011)","=+IMPORTARDATOSDINAMICOS(\"BAS065\",TABLAS!$A$1011)"]
["FIBRINOGENO  [85366]",null,null,{"$f":"+GETPIVOTDATA(\"BAS066\",TABLAS!$A$199)","v":0},{"$f":"+GETPIVOTDATA(\"BAS067\",TABLAS!$A$199)","v":0},{"$f":"+GETPIVOTDATA(\"BAS068\",TABLAS!$A$199)","v":0},{"$f":"+GETPIVOTDATA(\"BAS069\",TABLAS!$A$199)","v":0},{"$f":"+GETPIVOTDATA(\"BAS070\",TABLAS!$A$199)","v":0},0,{"$f":"+GETPIVOTDATA(\"BAS066\",TABLAS!$A$321)","v":0},{"$f":"+GETPIVOTDATA(\"BAS067\",TABLAS!$A$321)","v":0},{"$f":"+GETPIVOTDATA(\"BAS068\",TABLAS!$A$321)","v":0},{"$f":"+GETPIVOTDATA(\"BAS069\",TABLAS!$A$321)","v":0},{"$f":"+GETPIVOTDATA(\"BAS070\",TABLAS!$A$321)","v":0},0,{"$f":"+GETPIVOTDATA(\"BAS066\",TABLAS!$A$471)","v":0},{"$f":"+GETPIVOTDATA(\"BAS067\",TABLAS!$A$471)","v":0},{"$f":"+GETPIVOTDATA(\"BAS068\",TABLAS!$A$471)","v":0},{"$f":"+GETPIVOTDATA(\"BAS069\",TABLAS!$A$471)","v":0},{"$f":"+GETPIVOTDATA(\"BAS070\",TABLAS!$A$471)","v":0},0,0,null,{"$f":"+GETPIVOTDATA(\"BAS066\",TABLAS!$A$621)","v":0},{"$f":"+GETPIVOTDATA(\"BAS067\",TABLAS!$A$621)","v":0},{"$f":"+GETPIVOTDATA(\"BAS068\",TABLAS!$A$621)","v":0},{"$f":"+GETPIVOTDATA(\"BAS069\",TABLAS!$A$621)","v":0},{"$f":"+GETPIVOTDATA(\"BAS070\",TABLAS!$A$621)","v":0},0,{"$f":"+GETPIVOTDATA(\"BAS066\",TABLAS!$A$741)","v":0},{"$f":"+GETPIVOTDATA(\"BAS067\",TABLAS!$A$741)","v":0},{"$f":"+GETPIVOTDATA(\"BAS068\",TABLAS!$A$741)","v":0},{"$f":"+GETPIVOTDATA(\"BAS069\",TABLAS!$A$741)","v":0},{"$f":"+GETPIVOTDATA(\"BAS070\",TABLAS!$A$741)","v":0},0,{"$f":"+GETPIVOTDATA(\"BAS066\",TABLAS!$A$891)","v":0},{"$f":"+GETPIVOTDATA(\"BAS067\",TABLAS!$A$891)","v":0},{"$f":"+GETPIVOTDATA(\"BAS068\",TABLAS!$A$891)","v":0},{"$f":"+GETPIVOTDATA(\"BAS069\",TABLAS!$A$891)","v":0},{"$f":"+GETPIVOTDATA(\"BAS070\",TABLAS!$A$891)","v":0},0,0,null,null,66,{"$f":"+AS32+1","v":67},68,69,70,null,"=+IMPORTARDATOSDINAMICOS(\"BAS066\",TABLAS!$A$1011)","=+IMPORTARDATOSDINAMICOS(\"BAS067\",TABLAS!$A$1011)","=+IMPORTARDATOSDINAMICOS(\"BAS068\",TABLAS!$A$1011)","=+IMPORTARDATOSDINAMICOS(\"BAS069\",TABLAS!$A$1011)","=+IMPORTARDATOSDINAMICOS(\"BAS070\",TABLAS!$A$1011)"]
["VELOCIDAD DE SEDIMENTACION GLOBULAR (VSG)  [85651]",null,null,{"$f":"+GETPIVOTDATA(\"BAS071\",TABLAS!$A$199)","v":0},{"$f":"+GETPIVOTDATA(\"BAS072\",TABLAS!$A$199)","v":0},{"$f":"+GETPIVOTDATA(\"BAS073\",TABLAS!$A$199)","v":0},{"$f":"+GETPIVOTDATA(\"BAS074\",TABLAS!$A$199)","v":0},{"$f":"+GETPIVOTDATA(\"BAS075\",TABLAS!$A$199)","v":0},0,{"$f":"+GETPIVOTDATA(\"BAS071\",TABLAS!$A$321)","v":0},{"$f":"+GETPIVOTDATA(\"BAS072\",TABLAS!$A$321)","v":0},{"$f":"+GETPIVOTDATA(\"BAS073\",TABLAS!$A$321)","v":0},{"$f":"+GETPIVOTDATA(\"BAS074\",TABLAS!$A$321)","v":0},{"$f":"+GETPIVOTDATA(\"BAS075\",TABLAS!$A$321)","v":0},0,{"$f":"+GETPIVOTDATA(\"BAS071\",TABLAS!$A$471)","v":0},{"$f":"+GETPIVOTDATA(\"BAS072\",TABLAS!$A$471)","v":0},{"$f":"+GETPIVOTDATA(\"BAS073\",TABLAS!$A$471)","v":0},{"$f":"+GETPIVOTDATA(\"BAS074\",TABLAS!$A$471)","v":0},{"$f":"+GETPIVOTDATA(\"BAS075\",TABLAS!$A$471)","v":0},0,0,null,{"$f":"+GETPIVOTDATA(\"BAS071\",TABLAS!$A$621)","v":0},{"$f":"+GETPIVOTDATA(\"BAS072\",TABLAS!$A$621)","v":0},{"$f":"+GETPIVOTDATA(\"BAS073\",TABLAS!$A$621)","v":0},{"$f":"+GETPIVOTDATA(\"BAS074\",TABLAS!$A$621)","v":0},{"$f":"+GETPIVOTDATA(\"BAS075\",TABLAS!$A$621)","v":0},0,{"$f":"+GETPIVOTDATA(\"BAS071\",TABLAS!$A$741)","v":0},{"$f":"+GETPIVOTDATA(\"BAS072\",TABLAS!$A$741)","v":0},{"$f":"+GETPIVOTDATA(\"BAS073\",TABLAS!$A$741)","v":0},{"$f":"+GETPIVOTDATA(\"BAS074\",TABLAS!$A$741)","v":0},{"$f":"+GETPIVOTDATA(\"BAS075\",TABLAS!$A$741)","v":0},0,{"$f":"+GETPIVOTDATA(\"BAS071\",TABLAS!$A$891)","v":0},{"$f":"+GETPIVOTDATA(\"BAS072\",TABLAS!$A$891)","v":0},{"$f":"+GETPIVOTDATA(\"BAS073\",TABLAS!$A$891)","v":0},{"$f":"+GETPIVOTDATA(\"BAS074\",TABLAS!$A$891)","v":0},{"$f":"+GETPIVOTDATA(\"BAS075\",TABLAS!$A$891)","v":0},0,0,null,null,71,{"$f":"+AS33+1","v":72},73,74,75,null,"=+IMPORTARDATOSDINAMICOS(\"BAS071\",TABLAS!$A$1011)","=+IMPORTARDATOSDINAMICOS(\"BAS072\",TABLAS!$A$1011)","=+IMPORTARDATOSDINAMICOS(\"BAS073\",TABLAS!$A$1011)","=+IMPORTARDATOSDINAMICOS(\"BAS074\",TABLAS!$A$1011)","=+IMPORTARDATOSDINAMICOS(\"BAS075\",TABLAS!$A$1011)"]
["DIMERO D [85379]",null,null,{"$f":"+GETPIVOTDATA(\"BAS076\",TABLAS!$A$199)","v":0},{"$f":"+GETPIVOTDATA(\"BAS077\",TABLAS!$A$199)","v":0},{"$f":"+GETPIVOTDATA(\"BAS078\",TABLAS!$A$199)","v":0},{"$f":"+GETPIVOTDATA(\"BAS079\",TABLAS!$A$199)","v":0},{"$f":"+GETPIVOTDATA(\"BAS080\",TABLAS!$A$199)","v":0},0,{"$f":"+GETPIVOTDATA(\"BAS076\",TABLAS!$A$321)","v":0},{"$f":"+GETPIVOTDATA(\"BAS077\",TABLAS!$A$321)","v":0},{"$f":"+GETPIVOTDATA(\"BAS078\",TABLAS!$A$321)","v":0},{"$f":"+GETPIVOTDATA(\"BAS079\",TABLAS!$A$321)","v":0},{"$f":"+GETPIVOTDATA(\"BAS080\",TABLAS!$A$321)","v":0},0,{"$f":"+GETPIVOTDATA(\"BAS076\",TABLAS!$A$471)","v":0},{"$f":"+GETPIVOTDATA(\"BAS077\",TABLAS!$A$471)","v":0},{"$f":"+GETPIVOTDATA(\"BAS078\",TABLAS!$A$471)","v":0},{"$f":"+GETPIVOTDATA(\"BAS079\",TABLAS!$A$471)","v":0},{"$f":"+GETPIVOTDATA(\"BAS080\",TABLAS!$A$471)","v":0},0,0,null,{"$f":"+GETPIVOTDATA(\"BAS076\",TABLAS!$A$621)","v":0},{"$f":"+GETPIVOTDATA(\"BAS077\",TABLAS!$A$621)","v":0},{"$f":"+GETPIVOTDATA(\"BAS078\",TABLAS!$A$621)","v":0},{"$f":"+GETPIVOTDATA(\"BAS079\",TABLAS!$A$621)","v":0},{"$f":"+GETPIVOTDATA(\"BAS080\",TABLAS!$A$621)","v":0},0,{"$f":"+GETPIVOTDATA(\"BAS076\",TABLAS!$A$741)","v":0},{"$f":"+GETPIVOTDATA(\"BAS077\",TABLAS!$A$741)","v":0},{"$f":"+GETPIVOTDATA(\"BAS078\",TABLAS!$A$741)","v":0},{"$f":"+GETPIVOTDATA(\"BAS079\",TABLAS!$A$741)","v":0},{"$f":"+GETPIVOTDATA(\"BAS080\",TABLAS!$A$741)","v":0},0,{"$f":"+GETPIVOTDATA(\"BAS076\",TABLAS!$A$891)","v":0},{"$f":"+GETPIVOTDATA(\"BAS077\",TABLAS!$A$891)","v":0},{"$f":"+GETPIVOTDATA(\"BAS078\",TABLAS!$A$891)","v":0},{"$f":"+GETPIVOTDATA(\"BAS079\",TABLAS!$A$891)","v":0},{"$f":"+GETPIVOTDATA(\"BAS080\",TABLAS!$A$891)","v":0},0,0,null,null,76,{"$f":"+AS34+1","v":77},78,79,80,null,"=+IMPORTARDATOSDINAMICOS(\"BAS076\",TABLAS!$A$1011)","=+IMPORTARDATOSDINAMICOS(\"BAS077\",TABLAS!$A$1011)","=+IMPORTARDATOSDINAMICOS(\"BAS078\",TABLAS!$A$1011)","=+IMPORTARDATOSDINAMICOS(\"BAS079\",TABLAS!$A$1011)","=+IMPORTARDATOSDINAMICOS(\"BAS080\",TABLAS!$A$1011)"]
["GRUPO SANGUINEO [86900.02]",null,null,{"$f":"+GETPIVOTDATA(\"BAS081\",TABLAS!$A$199)","v":0},{"$f":"+GETPIVOTDATA(\"BAS082\",TABLAS!$A$199)","v":0},{"$f":"+GETPIVOTDATA(\"BAS083\",TABLAS!$A$199)","v":0},{"$f":"+GETPIVOTDATA(\"BAS084\",TABLAS!$A$199)","v":0},{"$f":"+GETPIVOTDATA(\"BAS085\",TABLAS!$A$199)","v":0},0,{"$f":"+GETPIVOTDATA(\"BAS081\",TABLAS!$A$321)","v":0},{"$f":"+GETPIVOTDATA(\"BAS082\",TABLAS!$A$321)","v":0},{"$f":"+GETPIVOTDATA(\"BAS083\",TABLAS!$A$321)","v":0},{"$f":"+GETPIVOTDATA(\"BAS084\",TABLAS!$A$321)","v":0},{"$f":"+GETPIVOTDATA(\"BAS085\",TABLAS!$A$321)","v":0},0,{"$f":"+GETPIVOTDATA(\"BAS081\",TABLAS!$A$471)","v":0},{"$f":"+GETPIVOTDATA(\"BAS082\",TABLAS!$A$471)","v":0},{"$f":"+GETPIVOTDATA(\"BAS083\",TABLAS!$A$471)","v":0},{"$f":"+GETPIVOTDATA(\"BAS084\",TABLAS!$A$471)","v":0},{"$f":"+GETPIVOTDATA(\"BAS085\",TABLAS!$A$471)","v":0},0,0,null,{"$f":"+GETPIVOTDATA(\"BAS081\",TABLAS!$A$621)","v":0},{"$f":"+GETPIVOTDATA(\"BAS082\",TABLAS!$A$621)","v":0},{"$f":"+GETPIVOTDATA(\"BAS083\",TABLAS!$A$621)","v":0},{"$f":"+GETPIVOTDATA(\"BAS084\",TABLAS!$A$621)","v":0},{"$f":"+GETPIVOTDATA(\"BAS085\",TABLAS!$A$621)","v":0},0,{"$f":"+GETPIVOTDATA(\"BAS081\",TABLAS!$A$741)","v":0},{"$f":"+GETPIVOTDATA(\"BAS082\",TABLAS!$A$741)","v":0},{"$f":"+GETPIVOTDATA(\"BAS083\",TABLAS!$A$741)","v":0},{"$f":"+GETPIVOTDATA(\"BAS084\",TABLAS!$A$741)","v":0},{"$f":"+GETPIVOTDATA(\"BAS085\",TABLAS!$A$741)","v":0},0,{"$f":"+GETPIVOTDATA(\"BAS081\",TABLAS!$A$891)","v":0},{"$f":"+GETPIVOTDATA(\"BAS082\",TABLAS!$A$891)","v":0},{"$f":"+GETPIVOTDATA(\"BAS083\",TABLAS!$A$891)","v":0},{"$f":"+GETPIVOTDATA(\"BAS084\",TABLAS!$A$891)","v":0},{"$f":"+GETPIVOTDATA(\"BAS085\",TABLAS!$A$891)","v":0},0,0,null,null,81,{"$f":"+AS35+1","v":82},83,84,85,null,"=+IMPORTARDATOSDINAMICOS(\"BAS081\",TABLAS!$A$1011)","=+IMPORTARDATOSDINAMICOS(\"BAS082\",TABLAS!$A$1011)","=+IMPORTARDATOSDINAMICOS(\"BAS083\",TABLAS!$A$1011)","=+IMPORTARDATOSDINAMICOS(\"BAS084\",TABLAS!$A$1011)","=+IMPORTARDATOSDINAMICOS(\"BAS085\",TABLAS!$A$1011)"]
["RECUENTO CELULAR DE LIQUIDOS CORPORAL (89050)",null,null,{"$f":"+GETPIVOTDATA(\"BAS086\",TABLAS!$A$199)","v":0},{"$f":"+GETPIVOTDATA(\"BAS087\",TABLAS!$A$199)","v":0},{"$f":"+GETPIVOTDATA(\"BAS088\",TABLAS!$A$199)","v":0},{"$f":"+GETPIVOTDATA(\"BAS089\",TABLAS!$A$199)","v":0},{"$f":"+GETPIVOTDATA(\"BAS090\",TABLAS!$A$199)","v":0},0,{"$f":"+GETPIVOTDATA(\"BAS086\",TABLAS!$A$321)","v":0},{"$f":"+GETPIVOTDATA(\"BAS087\",TABLAS!$A$321)","v":0},{"$f":"+GETPIVOTDATA(\"BAS088\",TABLAS!$A$321)","v":0},{"$f":"+GETPIVOTDATA(\"BAS089\",TABLAS!$A$321)","v":0},{"$f":"+GETPIVOTDATA(\"BAS090\",TABLAS!$A$321)","v":0},0,{"$f":"+GETPIVOTDATA(\"BAS086\",TABLAS!$A$471)","v":0},{"$f":"+GETPIVOTDATA(\"BAS087\",TABLAS!$A$471)","v":0},{"$f":"+GETPIVOTDATA(\"BAS088\",TABLAS!$A$471)","v":0},{"$f":"+GETPIVOTDATA(\"BAS089\",TABLAS!$A$471)","v":0},{"$f":"+GETPIVOTDATA(\"BAS090\",TABLAS!$A$471)","v":0},0,0,null,{"$f":"+GETPIVOTDATA(\"BAS086\",TABLAS!$A$621)","v":0},{"$f":"+GETPIVOTDATA(\"BAS087\",TABLAS!$A$621)","v":0},{"$f":"+GETPIVOTDATA(\"BAS088\",TABLAS!$A$621)","v":0},{"$f":"+GETPIVOTDATA(\"BAS089\",TABLAS!$A$621)","v":0},{"$f":"+GETPIVOTDATA(\"BAS090\",TABLAS!$A$621)","v":0},0,{"$f":"+GETPIVOTDATA(\"BAS086\",TABLAS!$A$741)","v":0},{"$f":"+GETPIVOTDATA(\"BAS087\",TABLAS!$A$741)","v":0},{"$f":"+GETPIVOTDATA(\"BAS088\",TABLAS!$A$741)","v":0},{"$f":"+GETPIVOTDATA(\"BAS089\",TABLAS!$A$741)","v":0},{"$f":"+GETPIVOTDATA(\"BAS090\",TABLAS!$A$741)","v":0},0,{"$f":"+GETPIVOTDATA(\"BAS086\",TABLAS!$A$891)","v":0},{"$f":"+GETPIVOTDATA(\"BAS087\",TABLAS!$A$891)","v":0},{"$f":"+GETPIVOTDATA(\"BAS088\",TABLAS!$A$891)","v":0},{"$f":"+GETPIVOTDATA(\"BAS089\",TABLAS!$A$891)","v":0},{"$f":"+GETPIVOTDATA(\"BAS090\",TABLAS!$A$891)","v":0},0,0,null,null,86,{"$f":"+AS36+1","v":87},88,89,90,null,"=+IMPORTARDATOSDINAMICOS(\"BAS086\",TABLAS!$A$1011)","=+IMPORTARDATOSDINAMICOS(\"BAS087\",TABLAS!$A$1011)","=+IMPORTARDATOSDINAMICOS(\"BAS088\",TABLAS!$A$1011)","=+IMPORTARDATOSDINAMICOS(\"BAS089\",TABLAS!$A$1011)","=+IMPORTARDATOSDINAMICOS(\"BAS090\",TABLAS!$A$1011)"]
["FROTIS / GOTA GRUESA (87207)",null,null,{"$f":"+GETPIVOTDATA(\"BAS091\",TABLAS!$A$199)","v":0},{"$f":"+GETPIVOTDATA(\"BAS092\",TABLAS!$A$199)","v":0},{"$f":"+GETPIVOTDATA(\"BAS093\",TABLAS!$A$199)","v":0},{"$f":"+GETPIVOTDATA(\"BAS094\",TABLAS!$A$199)","v":0},{"$f":"+GETPIVOTDATA(\"BAS095\",TABLAS!$A$199)","v":0},0,{"$f":"+GETPIVOTDATA(\"BAS091\",TABLAS!$A$321)","v":0},{"$f":"+GETPIVOTDATA(\"BAS092\",TABLAS!$A$321)","v":0},{"$f":"+GETPIVOTDATA(\"BAS093\",TABLAS!$A$321)","v":0},{"$f":"+GETPIVOTDATA(\"BAS094\",TABLAS!$A$321)","v":0},{"$f":"+GETPIVOTDATA(\"BAS095\",TABLAS!$A$321)","v":0},0,{"$f":"+GETPIVOTDATA(\"BAS091\",TABLAS!$A$471)","v":0},{"$f":"+GETPIVOTDATA(\"BAS092\",TABLAS!$A$471)","v":0},{"$f":"+GETPIVOTDATA(\"BAS093\",TABLAS!$A$471)","v":0},{"$f":"+GETPIVOTDATA(\"BAS094\",TABLAS!$A$471)","v":0},{"$f":"+GETPIVOTDATA(\"BAS095\",TABLAS!$A$471)","v":0},0,0,null,{"$f":"+GETPIVOTDATA(\"BAS091\",TABLAS!$A$621)","v":0},{"$f":"+GETPIVOTDATA(\"BAS092\",TABLAS!$A$621)","v":0},{"$f":"+GETPIVOTDATA(\"BAS093\",TABLAS!$A$621)","v":0},{"$f":"+GETPIVOTDATA(\"BAS094\",TABLAS!$A$621)","v":0},{"$f":"+GETPIVOTDATA(\"BAS095\",TABLAS!$A$621)","v":0},0,{"$f":"+GETPIVOTDATA(\"BAS091\",TABLAS!$A$741)","v":0},{"$f":"+GETPIVOTDATA(\"BAS092\",TABLAS!$A$741)","v":0},{"$f":"+GETPIVOTDATA(\"BAS093\",TABLAS!$A$741)","v":0},{"$f":"+GETPIVOTDATA(\"BAS094\",TABLAS!$A$741)","v":0},{"$f":"+GETPIVOTDATA(\"BAS095\",TABLAS!$A$741)","v":0},0,{"$f":"+GETPIVOTDATA(\"BAS091\",TABLAS!$A$891)","v":0},{"$f":"+GETPIVOTDATA(\"BAS092\",TABLAS!$A$891)","v":0},{"$f":"+GETPIVOTDATA(\"BAS093\",TABLAS!$A$891)","v":0},{"$f":"+GETPIVOTDATA(\"BAS094\",TABLAS!$A$891)","v":0},{"$f":"+GETPIVOTDATA(\"BAS095\",TABLAS!$A$891)","v":0},0,0,null,null,91,{"$f":"+AS37+1","v":92},93,94,95,null,"=+IMPORTARDATOSDINAMICOS(\"BAS091\",TABLAS!$A$1011)","=+IMPORTARDATOSDINAMICOS(\"BAS092\",TABLAS!$A$1011)","=+IMPORTARDATOSDINAMICOS(\"BAS093\",TABLAS!$A$1011)","=+IMPORTARDATOSDINAMICOS(\"BAS094\",TABLAS!$A$1011)","=+IMPORTARDATOSDINAMICOS(\"BAS095\",TABLAS!$A$1011)"]
["LAMINA PERIFERICA [85008]",null,null,{"$f":"+GETPIVOTDATA(\"BAS096\",TABLAS!$A$199)","v":0},{"$f":"+GETPIVOTDATA(\"BAS097\",TABLAS!$A$199)","v":0},{"$f":"+GETPIVOTDATA(\"BAS098\",TABLAS!$A$199)","v":0},{"$f":"+GETPIVOTDATA(\"BAS099\",TABLAS!$A$199)","v":0},{"$f":"+GETPIVOTDATA(\"BAS100\",TABLAS!$A$199)","v":0},0,{"$f":"+GETPIVOTDATA(\"BAS096\",TABLAS!$A$321)","v":0},{"$f":"+GETPIVOTDATA(\"BAS097\",TABLAS!$A$321)","v":0},{"$f":"+GETPIVOTDATA(\"BAS098\",TABLAS!$A$321)","v":0},{"$f":"+GETPIVOTDATA(\"BAS099\",TABLAS!$A$321)","v":0},{"$f":"+GETPIVOTDATA(\"BAS100\",TABLAS!$A$321)","v":0},0,{"$f":"+GETPIVOTDATA(\"BAS096\",TABLAS!$A$471)","v":0},{"$f":"+GETPIVOTDATA(\"BAS097\",TABLAS!$A$471)","v":0},{"$f":"+GETPIVOTDATA(\"BAS098\",TABLAS!$A$471)","v":0},{"$f":"+GETPIVOTDATA(\"BAS099\",TABLAS!$A$471)","v":0},{"$f":"+GETPIVOTDATA(\"BAS100\",TABLAS!$A$471)","v":0},0,0,null,{"$f":"+GETPIVOTDATA(\"BAS096\",TABLAS!$A$621)","v":0},{"$f":"+GETPIVOTDATA(\"BAS097\",TABLAS!$A$621)","v":0},{"$f":"+GETPIVOTDATA(\"BAS098\",TABLAS!$A$621)","v":0},{"$f":"+GETPIVOTDATA(\"BAS099\",TABLAS!$A$621)","v":0},{"$f":"+GETPIVOTDATA(\"BAS100\",TABLAS!$A$621)","v":0},0,{"$f":"+GETPIVOTDATA(\"BAS096\",TABLAS!$A$741)","v":0},{"$f":"+GETPIVOTDATA(\"BAS097\",TABLAS!$A$741)","v":0},{"$f":"+GETPIVOTDATA(\"BAS098\",TABLAS!$A$741)","v":0},{"$f":"+GETPIVOTDATA(\"BAS099\",TABLAS!$A$741)","v":0},{"$f":"+GETPIVOTDATA(\"BAS100\",TABLAS!$A$741)","v":0},0,{"$f":"+GETPIVOTDATA(\"BAS096\",TABLAS!$A$891)","v":0},{"$f":"+GETPIVOTDATA(\"BAS097\",TABLAS!$A$891)","v":0},{"$f":"+GETPIVOTDATA(\"BAS098\",TABLAS!$A$891)","v":0},{"$f":"+GETPIVOTDATA(\"BAS099\",TABLAS!$A$891)","v":0},{"$f":"+GETPIVOTDATA(\"BAS100\",TABLAS!$A$891)","v":0},0,0,null,null,96,{"$f":"+AS38+1","v":97},98,99,100,null,"=+IMPORTARDATOSDINAMICOS(\"BAS096\",TABLAS!$A$1011)","=+IMPORTARDATOSDINAMICOS(\"BAS097\",TABLAS!$A$1011)","=+IMPORTARDATOSDINAMICOS(\"BAS098\",TABLAS!$A$1011)","=+IMPORTARDATOSDINAMICOS(\"BAS099\",TABLAS!$A$1011)","=+IMPORTARDATOSDINAMICOS(\"BAS100\",TABLAS!$A$1011)"]
[]
[null,null,null,"CONSULTA EXTERNA",null,null,null,null,null,"HOSPITALIZACION",null,null,null,null,null,"EMERGENCIA",null,null,null,null,null,"Total",null,"CONSULTA EXTERNA",null,null,null,null,null,"HOSPITALIZACION",null,null,null,null,null,"EMERGENCIA",null,null,null,null,null,"Total"]
["MICROBIOLOGIA",null,null,"0 - 11a","12-17a","18-29 a","30-59 a","60- + a","Total","0 - 11a","12-17a","18-29 a","30-59 a","60- + a","Total","0 - 11a","12-17a","18-29 a","30-59 a","60- + a","Total",null,null,"0 - 11a","12-17a","18-29 a","30-59 a","60- + a","Total","0 - 11a","12-17a","18-29 a","30-59 a","60- + a","Total","0 - 11a","12-17a","18-29 a","30-59 a","60- + a","Total"]
["TOTAL",null,null,{"$f":"SUM(D43:D69)","v":0},{"$f":"SUM(E43:E69)","v":0},0,0,0,0,0,0,0,0,0,0,0,0,0,0,0,0,0,null,{"$f":"SUM(X43:X69)","v":0},{"$f":"SUM(Y43:Y69)","v":0},0,0,0,0,0,0,0,0,0,0,0,0,0,0,0,0,0]
["EXAMEN DIRECTO   [87210]",null,null,{"$f":"+GETPIVOTDATA(\"BAS101\",TABLAS!$A$199)","v":0},{"$f":"+GETPIVOTDATA(\"BAS102\",TABLAS!$A$199)","v":0},{"$f":"+GETPIVOTDATA(\"BAS103\",TABLAS!$A$199)","v":0},{"$f":"+GETPIVOTDATA(\"BAS104\",TABLAS!$A$199)","v":0},{"$f":"+GETPIVOTDATA(\"BAS105\",TABLAS!$A$199)","v":0},{"$f":"SUM(D43:H43)","v":0},{"$f":"+GETPIVOTDATA(\"BAS101\",TABLAS!$A$321)","v":0},{"$f":"+GETPIVOTDATA(\"BAS102\",TABLAS!$A$321)","v":0},{"$f":"+GETPIVOTDATA(\"BAS103\",TABLAS!$A$321)","v":0},{"$f":"+GETPIVOTDATA(\"BAS104\",TABLAS!$A$321)","v":0},{"$f":"+GETPIVOTDATA(\"BAS105\",TABLAS!$A$321)","v":0},{"$f":"SUM(J43:N43)","v":0},{"$f":"+GETPIVOTDATA(\"BAS101\",TABLAS!$A$471)","v":0},{"$f":"+GETPIVOTDATA(\"BAS102\",TABLAS!$A$471)","v":0},{"$f":"+GETPIVOTDATA(\"BAS103\",TABLAS!$A$471)","v":0},{"$f":"+GETPIVOTDATA(\"BAS104\",TABLAS!$A$471)","v":0},{"$f":"+GETPIVOTDATA(\"BAS105\",TABLAS!$A$471)","v":0},{"$f":"SUM(P43:T43)","v":0},{"$f":"+I43+O43+U43","v":0},null,{"$f":"+GETPIVOTDATA(\"BAS101\",TABLAS!$A$621)","v":0},{"$f":"+GETPIVOTDATA(\"BAS102\",TABLAS!$A$621)","v":0},{"$f":"+GETPIVOTDATA(\"BAS103\",TABLAS!$A$621)","v":0},{"$f":"+GETPIVOTDATA(\"BAS104\",TABLAS!$A$621)","v":0},{"$f":"+GETPIVOTDATA(\"BAS105\",TABLAS!$A$621)","v":0},{"$f":"SUM(X43:AB43)","v":0},{"$f":"+GETPIVOTDATA(\"BAS101\",TABLAS!$A$741)","v":0},{"$f":"+GETPIVOTDATA(\"BAS102\",TABLAS!$A$741)","v":0},{"$f":"+GETPIVOTDATA(\"BAS103\",TABLAS!$A$741)","v":0},{"$f":"+GETPIVOTDATA(\"BAS104\",TABLAS!$A$741)","v":0},{"$f":"+GETPIVOTDATA(\"BAS105\",TABLAS!$A$741)","v":0},{"$f":"SUM(AD43:AH43)","v":0},{"$f":"+GETPIVOTDATA(\"BAS101\",TABLAS!$A$891)","v":0},{"$f":"+GETPIVOTDATA(\"BAS102\",TABLAS!$A$891)","v":0},{"$f":"+GETPIVOTDATA(\"BAS103\",TABLAS!$A$891)","v":0},{"$f":"+GETPIVOTDATA(\"BAS104\",TABLAS!$A$891)","v":0},{"$f":"+GETPIVOTDATA(\"BAS105\",TABLAS!$A$891)","v":0},{"$f":"SUM(AJ43:AN43)","v":0},{"$f":"+AC43+AI43+AO43","v":0},null,null,{"$f":"+AW38+1","v":101},{"$f":"+AS43+1","v":102},103,104,105,null,{"$f":"IF(AS43<=9,CONCATENATE($AS$13,$AV$13,\"00\",AS43,$AW$13),IF(AND(AS43>=10,AS43<=99),CONCATENATE($AS$13,$AV$13,\"0\",AS43,$AW$13),CONCATENATE($AS$13,$AV$13,AS43,$AW$13)))","v":"=+IMPORTARDATOSDINAMICOS(\"BAS101\",TABLAS!$A$1011)"},{"$f":"IF(AT43<=9,CONCATENATE($AS$13,$AV$13,\"00\",AT43,$AW$13),IF(AND(AT43>=10,AT43<=99),CONCATENATE($AS$13,$AV$13,\"0\",AT43,$AW$13),CONCATENATE($AS$13,$AV$13,AT43,$AW$13)))","v":"=+IMPORTARDATOSDINAMICOS(\"BAS102\",TABLAS!$A$1011)"},{"$f":"IF(AU43<=9,CONCATENATE($AS$13,$AV$13,\"00\",AU43,$AW$13),IF(AND(AU43>=10,AU43<=99),CONCATENATE($AS$13,$AV$13,\"0\",AU43,$AW$13),CONCATENATE($AS$13,$AV$13,AU43,$AW$13)))","v":"=+IMPORTARDATOSDINAMICOS(\"BAS103\",TABLAS!$A$1011)"},{"$f":"IF(AV43<=9,CONCATENATE($AS$13,$AV$13,\"00\",AV43,$AW$13),IF(AND(AV43>=10,AV43<=99),CONCATENATE($AS$13,$AV$13,\"0\",AV43,$AW$13),CONCATENATE($AS$13,$AV$13,AV43,$AW$13)))","v":"=+IMPORTARDATOSDINAMICOS(\"BAS104\",TABLAS!$A$1011)"},{"$f":"IF(AW43<=9,CONCATENATE($AS$13,$AV$13,\"00\",AW43,$AW$13),IF(AND(AW43>=10,AW43<=99),CONCATENATE($AS$13,$AV$13,\"0\",AW43,$AW$13),CONCATENATE($AS$13,$AV$13,AW43,$AW$13)))","v":"=+IMPORTARDATOSDINAMICOS(\"BAS105\",TABLAS!$A$1011)"}]
["GRAM (TINCION)   [87205]",null,null,{"$f":"+GETPIVOTDATA(\"BAS106\",TABLAS!$A$199)","v":0},{"$f":"+GETPIVOTDATA(\"BAS107\",TABLAS!$A$199)","v":0},{"$f":"+GETPIVOTDATA(\"BAS108\",TABLAS!$A$199)","v":0},{"$f":"+GETPIVOTDATA(\"BAS109\",TABLAS!$A$199)","v":0},{"$f":"+GETPIVOTDATA(\"BAS110\",TABLAS!$A$199)","v":0},0,{"$f":"+GETPIVOTDATA(\"BAS106\",TABLAS!$A$321)","v":0},{"$f":"+GETPIVOTDATA(\"BAS107\",TABLAS!$A$321)","v":0},{"$f":"+GETPIVOTDATA(\"BAS108\",TABLAS!$A$321)","v":0},{"$f":"+GETPIVOTDATA(\"BAS109\",TABLAS!$A$321)","v":0},{"$f":"+GETPIVOTDATA(\"BAS110\",TABLAS!$A$321)","v":0},0,{"$f":"+GETPIVOTDATA(\"BAS106\",TABLAS!$A$471)","v":0},{"$f":"+GETPIVOTDATA(\"BAS107\",TABLAS!$A$471)","v":0},{"$f":"+GETPIVOTDATA(\"BAS108\",TABLAS!$A$471)","v":0},{"$f":"+GETPIVOTDATA(\"BAS109\",TABLAS!$A$471)","v":0},{"$f":"+GETPIVOTDATA(\"BAS110\",TABLAS!$A$471)","v":0},0,{"$f":"+I44+O44+U44","v":0},null,{"$f":"+GETPIVOTDATA(\"BAS106\",TABLAS!$A$621)","v":0},{"$f":"+GETPIVOTDATA(\"BAS107\",TABLAS!$A$621)","v":0},{"$f":"+GETPIVOTDATA(\"BAS108\",TABLAS!$A$621)","v":0},{"$f":"+GETPIVOTDATA(\"BAS109\",TABLAS!$A$621)","v":0},{"$f":"+GETPIVOTDATA(\"BAS110\",TABLAS!$A$621)","v":0},0,{"$f":"+GETPIVOTDATA(\"BAS106\",TABLAS!$A$741)","v":0},{"$f":"+GETPIVOTDATA(\"BAS107\",TABLAS!$A$741)","v":0},{"$f":"+GETPIVOTDATA(\"BAS108\",TABLAS!$A$741)","v":0},{"$f":"+GETPIVOTDATA(\"BAS109\",TABLAS!$A$741)","v":0},{"$f":"+GETPIVOTDATA(\"BAS110\",TABLAS!$A$741)","v":0},0,{"$f":"+GETPIVOTDATA(\"BAS106\",TABLAS!$A$891)","v":0},{"$f":"+GETPIVOTDATA(\"BAS107\",TABLAS!$A$891)","v":0},{"$f":"+GETPIVOTDATA(\"BAS108\",TABLAS!$A$891)","v":0},{"$f":"+GETPIVOTDATA(\"BAS109\",TABLAS!$A$891)","v":0},{"$f":"+GETPIVOTDATA(\"BAS110\",TABLAS!$A$891)","v":0},0,{"$f":"+AC44+AI44+AO44","v":0},null,null,{"$f":"+AW43+1","v":106},{"$f":"+AS44+1","v":107},108,109,110,null,{"$f":"IF(AS44<=9,CONCATENATE($AS$13,$AV$13,\"00\",AS44,$AW$13),IF(AND(AS44>=10,AS44<=99),CONCATENATE($AS$13,$AV$13,\"0\",AS44,$AW$13),CONCATENATE($AS$13,$AV$13,AS44,$AW$13)))","v":"=+IMPORTARDATOSDINAMICOS(\"BAS106\",TABLAS!$A$1011)"},{"$f":"IF(AT44<=9,CONCATENATE($AS$13,$AV$13,\"00\",AT44,$AW$13),IF(AND(AT44>=10,AT44<=99),CONCATENATE($AS$13,$AV$13,\"0\",AT44,$AW$13),CONCATENATE($AS$13,$AV$13,AT44,$AW$13)))","v":"=+IMPORTARDATOSDINAMICOS(\"BAS107\",TABLAS!$A$1011)"},{"$f":"IF(AU44<=9,CONCATENATE($AS$13,$AV$13,\"00\",AU44,$AW$13),IF(AND(AU44>=10,AU44<=99),CONCATENATE($AS$13,$AV$13,\"0\",AU44,$AW$13),CONCATENATE($AS$13,$AV$13,AU44,$AW$13)))","v":"=+IMPORTARDATOSDINAMICOS(\"BAS108\",TABLAS!$A$1011)"},{"$f":"IF(AV44<=9,CONCATENATE($AS$13,$AV$13,\"00\",AV44,$AW$13),IF(AND(AV44>=10,AV44<=99),CONCATENATE($AS$13,$AV$13,\"0\",AV44,$AW$13),CONCATENATE($AS$13,$AV$13,AV44,$AW$13)))","v":"=+IMPORTARDATOSDINAMICOS(\"BAS109\",TABLAS!$A$1011)"},{"$f":"IF(AW44<=9,CONCATENATE($AS$13,$AV$13,\"00\",AW44,$AW$13),IF(AND(AW44>=10,AW44<=99),CONCATENATE($AS$13,$AV$13,\"0\",AW44,$AW$13),CONCATENATE($AS$13,$AV$13,AW44,$AW$13)))","v":"=+IMPORTARDATOSDINAMICOS(\"BAS110\",TABLAS!$A$1011)"}]
["K OH DIRECTO [87220]",null,null,{"$f":"+GETPIVOTDATA(\"BAS111\",TABLAS!$A$199)","v":0},{"$f":"+GETPIVOTDATA(\"BAS112\",TABLAS!$A$199)","v":0},{"$f":"+GETPIVOTDATA(\"BAS113\",TABLAS!$A$199)","v":0},{"$f":"+GETPIVOTDATA(\"BAS114\",TABLAS!$A$199)","v":0},{"$f":"+GETPIVOTDATA(\"BAS115\",TABLAS!$A$199)","v":0},0,{"$f":"+GETPIVOTDATA(\"BAS111\",TABLAS!$A$321)","v":0},{"$f":"+GETPIVOTDATA(\"BAS112\",TABLAS!$A$321)","v":0},{"$f":"+GETPIVOTDATA(\"BAS113\",TABLAS!$A$321)","v":0},{"$f":"+GETPIVOTDATA(\"BAS114\",TABLAS!$A$321)","v":0},{"$f":"+GETPIVOTDATA(\"BAS115\",TABLAS!$A$321)","v":0},0,{"$f":"+GETPIVOTDATA(\"BAS111\",TABLAS!$A$471)","v":0},{"$f":"+GETPIVOTDATA(\"BAS112\",TABLAS!$A$471)","v":0},{"$f":"+GETPIVOTDATA(\"BAS113\",TABLAS!$A$471)","v":0},{"$f":"+GETPIVOTDATA(\"BAS114\",TABLAS!$A$471)","v":0},{"$f":"+GETPIVOTDATA(\"BAS115\",TABLAS!$A$471)","v":0},0,0,null,{"$f":"+GETPIVOTDATA(\"BAS111\",TABLAS!$A$621)","v":0},{"$f":"+GETPIVOTDATA(\"BAS112\",TABLAS!$A$621)","v":0},{"$f":"+GETPIVOTDATA(\"BAS113\",TABLAS!$A$621)","v":0},{"$f":"+GETPIVOTDATA(\"BAS114\",TABLAS!$A$621)","v":0},{"$f":"+GETPIVOTDATA(\"BAS115\",TABLAS!$A$621)","v":0},0,{"$f":"+GETPIVOTDATA(\"BAS111\",TABLAS!$A$741)","v":0},{"$f":"+GETPIVOTDATA(\"BAS112\",TABLAS!$A$741)","v":0},{"$f":"+GETPIVOTDATA(\"BAS113\",TABLAS!$A$741)","v":0},{"$f":"+GETPIVOTDATA(\"BAS114\",TABLAS!$A$741)","v":0},{"$f":"+GETPIVOTDATA(\"BAS115\",TABLAS!$A$741)","v":0},0,{"$f":"+GETPIVOTDATA(\"BAS111\",TABLAS!$A$891)","v":0},{"$f":"+GETPIVOTDATA(\"BAS112\",TABLAS!$A$891)","v":0},{"$f":"+GETPIVOTDATA(\"BAS113\",TABLAS!$A$891)","v":0},{"$f":"+GETPIVOTDATA(\"BAS114\",TABLAS!$A$891)","v":0},{"$f":"+GETPIVOTDATA(\"BAS115\",TABLAS!$A$891)","v":0},0,0,null,null,{"$f":"+AW44+1","v":111},{"$f":"+AS45+1","v":112},113,114,115,null,"=+IMPORTARDATOSDINAMICOS(\"BAS111\",TABLAS!$A$1011)","=+IMPORTARDATOSDINAMICOS(\"BAS112\",TABLAS!$A$1011)","=+IMPORTARDATOSDINAMICOS(\"BAS113\",TABLAS!$A$1011)","=+IMPORTARDATOSDINAMICOS(\"BAS114\",TABLAS!$A$1011)","=+IMPORTARDATOSDINAMICOS(\"BAS115\",TABLAS!$A$1011)"]
["K OH DIRECTO (NO ITS) [R0011]",null,null,{"$f":"+GETPIVOTDATA(\"BAS116\",TABLAS!$A$199)","v":0},{"$f":"+GETPIVOTDATA(\"BAS117\",TABLAS!$A$199)","v":0},{"$f":"+GETPIVOTDATA(\"BAS118\",TABLAS!$A$199)","v":0},{"$f":"+GETPIVOTDATA(\"BAS119\",TABLAS!$A$199)","v":0},{"$f":"+GETPIVOTDATA(\"BAS120\",TABLAS!$A$199)","v":0},0,{"$f":"+GETPIVOTDATA(\"BAS116\",TABLAS!$A$321)","v":0},{"$f":"+GETPIVOTDATA(\"BAS117\",TABLAS!$A$321)","v":0},{"$f":"+GETPIVOTDATA(\"BAS118\",TABLAS!$A$321)","v":0},{"$f":"+GETPIVOTDATA(\"BAS119\",TABLAS!$A$321)","v":0},{"$f":"+GETPIVOTDATA(\"BAS120\",TABLAS!$A$321)","v":0},0,{"$f":"+GETPIVOTDATA(\"BAS116\",TABLAS!$A$471)","v":0},{"$f":"+GETPIVOTDATA(\"BAS117\",TABLAS!$A$471)","v":0},{"$f":"+GETPIVOTDATA(\"BAS118\",TABLAS!$A$471)","v":0},{"$f":"+GETPIVOTDATA(\"BAS119\",TABLAS!$A$471)","v":0},{"$f":"+GETPIVOTDATA(\"BAS120\",TABLAS!$A$471)","v":0},0,0,null,{"$f":"+GETPIVOTDATA(\"BAS116\",TABLAS!$A$621)","v":0},{"$f":"+GETPIVOTDATA(\"BAS117\",TABLAS!$A$621)","v":0},{"$f":"+GETPIVOTDATA(\"BAS118\",TABLAS!$A$621)","v":0},{"$f":"+GETPIVOTDATA(\"BAS119\",TABLAS!$A$621)","v":0},{"$f":"+GETPIVOTDATA(\"BAS120\",TABLAS!$A$621)","v":0},0,{"$f":"+GETPIVOTDATA(\"BAS116\",TABLAS!$A$741)","v":0},{"$f":"+GETPIVOTDATA(\"BAS117\",TABLAS!$A$741)","v":0},{"$f":"+GETPIVOTDATA(\"BAS118\",TABLAS!$A$741)","v":0},{"$f":"+GETPIVOTDATA(\"BAS119\",TABLAS!$A$741)","v":0},{"$f":"+GETPIVOTDATA(\"BAS120\",TABLAS!$A$741)","v":0},0,{"$f":"+GETPIVOTDATA(\"BAS116\",TABLAS!$A$891)","v":0},{"$f":"+GETPIVOTDATA(\"BAS117\",TABLAS!$A$891)","v":0},{"$f":"+GETPIVOTDATA(\"BAS118\",TABLAS!$A$891)","v":0},{"$f":"+GETPIVOTDATA(\"BAS119\",TABLAS!$A$891)","v":0},{"$f":"+GETPIVOTDATA(\"BAS120\",TABLAS!$A$891)","v":0},0,0,null,null,116,{"$f":"+AS46+1","v":117},118,119,120,null,"=+IMPORTARDATOSDINAMICOS(\"BAS116\",TABLAS!$A$1011)","=+IMPORTARDATOSDINAMICOS(\"BAS117\",TABLAS!$A$1011)","=+IMPORTARDATOSDINAMICOS(\"BAS118\",TABLAS!$A$1011)","=+IMPORTARDATOSDINAMICOS(\"BAS119\",TABLAS!$A$1011)","=+IMPORTARDATOSDINAMICOS(\"BAS120\",TABLAS!$A$1011)"]
["CULTIVO HECES  [87045]",null,null,{"$f":"+GETPIVOTDATA(\"BAS121\",TABLAS!$A$199)","v":0},{"$f":"+GETPIVOTDATA(\"BAS122\",TABLAS!$A$199)","v":0},{"$f":"+GETPIVOTDATA(\"BAS123\",TABLAS!$A$199)","v":0},{"$f":"+GETPIVOTDATA(\"BAS124\",TABLAS!$A$199)","v":0},{"$f":"+GETPIVOTDATA(\"BAS125\",TABLAS!$A$199)","v":0},0,{"$f":"+GETPIVOTDATA(\"BAS121\",TABLAS!$A$321)","v":0},{"$f":"+GETPIVOTDATA(\"BAS122\",TABLAS!$A$321)","v":0},{"$f":"+GETPIVOTDATA(\"BAS123\",TABLAS!$A$321)","v":0},{"$f":"+GETPIVOTDATA(\"BAS124\",TABLAS!$A$321)","v":0},{"$f":"+GETPIVOTDATA(\"BAS125\",TABLAS!$A$321)","v":0},0,{"$f":"+GETPIVOTDATA(\"BAS121\",TABLAS!$A$471)","v":0},{"$f":"+GETPIVOTDATA(\"BAS122\",TABLAS!$A$471)","v":0},{"$f":"+GETPIVOTDATA(\"BAS123\",TABLAS!$A$471)","v":0},{"$f":"+GETPIVOTDATA(\"BAS124\",TABLAS!$A$471)","v":0},{"$f":"+GETPIVOTDATA(\"BAS125\",TABLAS!$A$471)","v":0},0,0,null,{"$f":"+GETPIVOTDATA(\"BAS121\",TABLAS!$A$621)","v":0},{"$f":"+GETPIVOTDATA(\"BAS122\",TABLAS!$A$621)","v":0},{"$f":"+GETPIVOTDATA(\"BAS123\",TABLAS!$A$621)","v":0},{"$f":"+GETPIVOTDATA(\"BAS124\",TABLAS!$A$621)","v":0},{"$f":"+GETPIVOTDATA(\"BAS125\",TABLAS!$A$621)","v":0},0,{"$f":"+GETPIVOTDATA(\"BAS121\",TABLAS!$A$741)","v":0},{"$f":"+GETPIVOTDATA(\"BAS122\",TABLAS!$A$741)","v":0},{"$f":"+GETPIVOTDATA(\"BAS123\",TABLAS!$A$741)","v":0},{"$f":"+GETPIVOTDATA(\"BAS124\",TABLAS!$A$741)","v":0},{"$f":"+GETPIVOTDATA(\"BAS125\",TABLAS!$A$741)","v":0},0,{"$f":"+GETPIVOTDATA(\"BAS121\",TABLAS!$A$891)","v":0},{"$f":"+GETPIVOTDATA(\"BAS122\",TABLAS!$A$891)","v":0},{"$f":"+GETPIVOTDATA(\"BAS123\",TABLAS!$A$891)","v":0},{"$f":"+GETPIVOTDATA(\"BAS124\",TABLAS!$A$891)","v":0},{"$f":"+GETPIVOTDATA(\"BAS125\",TABLAS!$A$891)","v":0},0,0,null,null,121,{"$f":"+AS47+1","v":122},123,124,125,null,"=+IMPORTARDATOSDINAMICOS(\"BAS121\",TABLAS!$A$1011)","=+IMPORTARDATOSDINAMICOS(\"BAS122\",TABLAS!$A$1011)","=+IMPORTARDATOSDINAMICOS(\"BAS123\",TABLAS!$A$1011)","=+IMPORTARDATOSDINAMICOS(\"BAS124\",TABLAS!$A$1011)","=+IMPORTARDATOSDINAMICOS(\"BAS125\",TABLAS!$A$1011)"]
["CULTIVO HONGOS  [87102]",null,null,{"$f":"+GETPIVOTDATA(\"BAS126\",TABLAS!$A$199)","v":0},{"$f":"+GETPIVOTDATA(\"BAS127\",TABLAS!$A$199)","v":0},{"$f":"+GETPIVOTDATA(\"BAS128\",TABLAS!$A$199)","v":0},{"$f":"+GETPIVOTDATA(\"BAS129\",TABLAS!$A$199)","v":0},{"$f":"+GETPIVOTDATA(\"BAS130\",TABLAS!$A$199)","v":0},0,{"$f":"+GETPIVOTDATA(\"BAS126\",TABLAS!$A$321)","v":0},{"$f":"+GETPIVOTDATA(\"BAS127\",TABLAS!$A$321)","v":0},{"$f":"+GETPIVOTDATA(\"BAS128\",TABLAS!$A$321)","v":0},{"$f":"+GETPIVOTDATA(\"BAS129\",TABLAS!$A$321)","v":0},{"$f":"+GETPIVOTDATA(\"BAS130\",TABLAS!$A$321)","v":0},0,{"$f":"+GETPIVOTDATA(\"BAS126\",TABLAS!$A$471)","v":0},{"$f":"+GETPIVOTDATA(\"BAS127\",TABLAS!$A$471)","v":0},{"$f":"+GETPIVOTDATA(\"BAS128\",TABLAS!$A$471)","v":0},{"$f":"+GETPIVOTDATA(\"BAS129\",TABLAS!$A$471)","v":0},{"$f":"+GETPIVOTDATA(\"BAS130\",TABLAS!$A$471)","v":0},0,0,null,{"$f":"+GETPIVOTDATA(\"BAS126\",TABLAS!$A$621)","v":0},{"$f":"+GETPIVOTDATA(\"BAS127\",TABLAS!$A$621)","v":0},{"$f":"+GETPIVOTDATA(\"BAS128\",TABLAS!$A$621)","v":0},{"$f":"+GETPIVOTDATA(\"BAS129\",TABLAS!$A$621)","v":0},{"$f":"+GETPIVOTDATA(\"BAS130\",TABLAS!$A$621)","v":0},0,{"$f":"+GETPIVOTDATA(\"BAS126\",TABLAS!$A$741)","v":0},{"$f":"+GETPIVOTDATA(\"BAS127\",TABLAS!$A$741)","v":0},{"$f":"+GETPIVOTDATA(\"BAS128\",TABLAS!$A$741)","v":0},{"$f":"+GETPIVOTDATA(\"BAS129\",TABLAS!$A$741)","v":0},{"$f":"+GETPIVOTDATA(\"BAS130\",TABLAS!$A$741)","v":0},0,{"$f":"+GETPIVOTDATA(\"BAS126\",TABLAS!$A$891)","v":0},{"$f":"+GETPIVOTDATA(\"BAS127\",TABLAS!$A$891)","v":0},{"$f":"+GETPIVOTDATA(\"BAS128\",TABLAS!$A$891)","v":0},{"$f":"+GETPIVOTDATA(\"BAS129\",TABLAS!$A$891)","v":0},{"$f":"+GETPIVOTDATA(\"BAS130\",TABLAS!$A$891)","v":0},0,0,null,null,126,{"$f":"+AS48+1","v":127},128,129,130,null,"=+IMPORTARDATOSDINAMICOS(\"BAS126\",TABLAS!$A$1011)","=+IMPORTARDATOSDINAMICOS(\"BAS127\",TABLAS!$A$1011)","=+IMPORTARDATOSDINAMICOS(\"BAS128\",TABLAS!$A$1011)","=+IMPORTARDATOSDINAMICOS(\"BAS129\",TABLAS!$A$1011)","=+IMPORTARDATOSDINAMICOS(\"BAS130\",TABLAS!$A$1011)"]
["CULTIVO DE ORINA  [87086]",null,null,{"$f":"+GETPIVOTDATA(\"BAS131\",TABLAS!$A$199)","v":0},{"$f":"+GETPIVOTDATA(\"BAS132\",TABLAS!$A$199)","v":0},{"$f":"+GETPIVOTDATA(\"BAS133\",TABLAS!$A$199)","v":0},{"$f":"+GETPIVOTDATA(\"BAS134\",TABLAS!$A$199)","v":0},{"$f":"+GETPIVOTDATA(\"BAS135\",TABLAS!$A$199)","v":0},0,{"$f":"+GETPIVOTDATA(\"BAS131\",TABLAS!$A$321)","v":0},{"$f":"+GETPIVOTDATA(\"BAS132\",TABLAS!$A$321)","v":0},{"$f":"+GETPIVOTDATA(\"BAS133\",TABLAS!$A$321)","v":0},{"$f":"+GETPIVOTDATA(\"BAS134\",TABLAS!$A$321)","v":0},{"$f":"+GETPIVOTDATA(\"BAS135\",TABLAS!$A$321)","v":0},0,{"$f":"+GETPIVOTDATA(\"BAS131\",TABLAS!$A$471)","v":0},{"$f":"+GETPIVOTDATA(\"BAS132\",TABLAS!$A$471)","v":0},{"$f":"+GETPIVOTDATA(\"BAS133\",TABLAS!$A$471)","v":0},{"$f":"+GETPIVOTDATA(\"BAS134\",TABLAS!$A$471)","v":0},{"$f":"+GETPIVOTDATA(\"BAS135\",TABLAS!$A$471)","v":0},0,0,null,{"$f":"+GETPIVOTDATA(\"BAS131\",TABLAS!$A$621)","v":0},{"$f":"+GETPIVOTDATA(\"BAS132\",TABLAS!$A$621)","v":0},{"$f":"+GETPIVOTDATA(\"BAS133\",TABLAS!$A$621)","v":0},{"$f":"+GETPIVOTDATA(\"BAS134\",TABLAS!$A$621)","v":0},{"$f":"+GETPIVOTDATA(\"BAS135\",TABLAS!$A$621)","v":0},0,{"$f":"+GETPIVOTDATA(\"BAS131\",TABLAS!$A$741)","v":0},{"$f":"+GETPIVOTDATA(\"BAS132\",TABLAS!$A$741)","v":0},{"$f":"+GETPIVOTDATA(\"BAS133\",TABLAS!$A$741)","v":0},{"$f":"+GETPIVOTDATA(\"BAS134\",TABLAS!$A$741)","v":0},{"$f":"+GETPIVOTDATA(\"BAS135\",TABLAS!$A$741)","v":0},0,{"$f":"+GETPIVOTDATA(\"BAS131\",TABLAS!$A$891)","v":0},{"$f":"+GETPIVOTDATA(\"BAS132\",TABLAS!$A$891)","v":0},{"$f":"+GETPIVOTDATA(\"BAS133\",TABLAS!$A$891)","v":0},{"$f":"+GETPIVOTDATA(\"BAS134\",TABLAS!$A$891)","v":0},{"$f":"+GETPIVOTDATA(\"BAS135\",TABLAS!$A$891)","v":0},0,0,null,null,131,{"$f":"+AS49+1","v":132},133,134,135,null,"=+IMPORTARDATOSDINAMICOS(\"BAS131\",TABLAS!$A$1011)","=+IMPORTARDATOSDINAMICOS(\"BAS132\",TABLAS!$A$1011)","=+IMPORTARDATOSDINAMICOS(\"BAS133\",TABLAS!$A$1011)","=+IMPORTARDATOSDINAMICOS(\"BAS134\",TABLAS!$A$1011)","=+IMPORTARDATOSDINAMICOS(\"BAS135\",TABLAS!$A$1011)"]
["HEMOCULTIVO (CULTIVO SANGRE CON REMOVEDOR)  [87042]",null,null,{"$f":"+GETPIVOTDATA(\"BAS136\",TABLAS!$A$199)","v":0},{"$f":"+GETPIVOTDATA(\"BAS137\",TABLAS!$A$199)","v":0},{"$f":"+GETPIVOTDATA(\"BAS138\",TABLAS!$A$199)","v":0},{"$f":"+GETPIVOTDATA(\"BAS139\",TABLAS!$A$199)","v":0},{"$f":"+GETPIVOTDATA(\"BAS140\",TABLAS!$A$199)","v":0},0,{"$f":"+GETPIVOTDATA(\"BAS136\",TABLAS!$A$321)","v":0},{"$f":"+GETPIVOTDATA(\"BAS137\",TABLAS!$A$321)","v":0},{"$f":"+GETPIVOTDATA(\"BAS138\",TABLAS!$A$321)","v":0},{"$f":"+GETPIVOTDATA(\"BAS139\",TABLAS!$A$321)","v":0},{"$f":"+GETPIVOTDATA(\"BAS140\",TABLAS!$A$321)","v":0},0,{"$f":"+GETPIVOTDATA(\"BAS136\",TABLAS!$A$471)","v":0},{"$f":"+GETPIVOTDATA(\"BAS137\",TABLAS!$A$471)","v":0},{"$f":"+GETPIVOTDATA(\"BAS138\",TABLAS!$A$471)","v":0},{"$f":"+GETPIVOTDATA(\"BAS139\",TABLAS!$A$471)","v":0},{"$f":"+GETPIVOTDATA(\"BAS140\",TABLAS!$A$471)","v":0},0,0,null,{"$f":"+GETPIVOTDATA(\"BAS136\",TABLAS!$A$621)","v":0},{"$f":"+GETPIVOTDATA(\"BAS137\",TABLAS!$A$621)","v":0},{"$f":"+GETPIVOTDATA(\"BAS138\",TABLAS!$A$621)","v":0},{"$f":"+GETPIVOTDATA(\"BAS139\",TABLAS!$A$621)","v":0},{"$f":"+GETPIVOTDATA(\"BAS140\",TABLAS!$A$621)","v":0},0,{"$f":"+GETPIVOTDATA(\"BAS136\",TABLAS!$A$741)","v":0},{"$f":"+GETPIVOTDATA(\"BAS137\",TABLAS!$A$741)","v":0},{"$f":"+GETPIVOTDATA(\"BAS138\",TABLAS!$A$741)","v":0},{"$f":"+GETPIVOTDATA(\"BAS139\",TABLAS!$A$741)","v":0},{"$f":"+GETPIVOTDATA(\"BAS140\",TABLAS!$A$741)","v":0},0,{"$f":"+GETPIVOTDATA(\"BAS136\",TABLAS!$A$891)","v":0},{"$f":"+GETPIVOTDATA(\"BAS137\",TABLAS!$A$891)","v":0},{"$f":"+GETPIVOTDATA(\"BAS138\",TABLAS!$A$891)","v":0},{"$f":"+GETPIVOTDATA(\"BAS139\",TABLAS!$A$891)","v":0},{"$f":"+GETPIVOTDATA(\"BAS140\",TABLAS!$A$891)","v":0},0,0,null,null,136,{"$f":"+AS50+1","v":137},138,139,140,null,"=+IMPORTARDATOSDINAMICOS(\"BAS136\",TABLAS!$A$1011)","=+IMPORTARDATOSDINAMICOS(\"BAS137\",TABLAS!$A$1011)","=+IMPORTARDATOSDINAMICOS(\"BAS138\",TABLAS!$A$1011)","=+IMPORTARDATOSDINAMICOS(\"BAS139\",TABLAS!$A$1011)","=+IMPORTARDATOSDINAMICOS(\"BAS140\",TABLAS!$A$1011)"]
["HEMOCULTIVO (CULTIVO SANGRE)  [87040]",null,null,{"$f":"+GETPIVOTDATA(\"BAS141\",TABLAS!$A$199)","v":0},{"$f":"+GETPIVOTDATA(\"BAS142\",TABLAS!$A$199)","v":0},{"$f":"+GETPIVOTDATA(\"BAS143\",TABLAS!$A$199)","v":0},{"$f":"+GETPIVOTDATA(\"BAS144\",TABLAS!$A$199)","v":0},{"$f":"+GETPIVOTDATA(\"BAS145\",TABLAS!$A$199)","v":0},0,{"$f":"+GETPIVOTDATA(\"BAS141\",TABLAS!$A$321)","v":0},{"$f":"+GETPIVOTDATA(\"BAS142\",TABLAS!$A$321)","v":0},{"$f":"+GETPIVOTDATA(\"BAS143\",TABLAS!$A$321)","v":0},{"$f":"+GETPIVOTDATA(\"BAS144\",TABLAS!$A$321)","v":0},{"$f":"+GETPIVOTDATA(\"BAS145\",TABLAS!$A$321)","v":0},0,{"$f":"+GETPIVOTDATA(\"BAS141\",TABLAS!$A$471)","v":0},{"$f":"+GETPIVOTDATA(\"BAS142\",TABLAS!$A$471)","v":0},{"$f":"+GETPIVOTDATA(\"BAS143\",TABLAS!$A$471)","v":0},{"$f":"+GETPIVOTDATA(\"BAS144\",TABLAS!$A$471)","v":0},{"$f":"+GETPIVOTDATA(\"BAS145\",TABLAS!$A$471)","v":0},0,0,null,{"$f":"+GETPIVOTDATA(\"BAS141\",TABLAS!$A$621)","v":0},{"$f":"+GETPIVOTDATA(\"BAS142\",TABLAS!$A$621)","v":0},{"$f":"+GETPIVOTDATA(\"BAS143\",TABLAS!$A$621)","v":0},{"$f":"+GETPIVOTDATA(\"BAS144\",TABLAS!$A$621)","v":0},{"$f":"+GETPIVOTDATA(\"BAS145\",TABLAS!$A$621)","v":0},0,{"$f":"+GETPIVOTDATA(\"BAS141\",TABLAS!$A$741)","v":0},{"$f":"+GETPIVOTDATA(\"BAS142\",TABLAS!$A$741)","v":0},{"$f":"+GETPIVOTDATA(\"BAS143\",TABLAS!$A$741)","v":0},{"$f":"+GETPIVOTDATA(\"BAS144\",TABLAS!$A$741)","v":0},{"$f":"+GETPIVOTDATA(\"BAS145\",TABLAS!$A$741)","v":0},0,{"$f":"+GETPIVOTDATA(\"BAS141\",TABLAS!$A$891)","v":0},{"$f":"+GETPIVOTDATA(\"BAS142\",TABLAS!$A$891)","v":0},{"$f":"+GETPIVOTDATA(\"BAS143\",TABLAS!$A$891)","v":0},{"$f":"+GETPIVOTDATA(\"BAS144\",TABLAS!$A$891)","v":0},{"$f":"+GETPIVOTDATA(\"BAS145\",TABLAS!$A$891)","v":0},0,0,null,null,141,{"$f":"+AS51+1","v":142},143,144,145,null,"=+IMPORTARDATOSDINAMICOS(\"BAS141\",TABLAS!$A$1011)","=+IMPORTARDATOSDINAMICOS(\"BAS142\",TABLAS!$A$1011)","=+IMPORTARDATOSDINAMICOS(\"BAS143\",TABLAS!$A$1011)","=+IMPORTARDATOSDINAMICOS(\"BAS144\",TABLAS!$A$1011)","=+IMPORTARDATOSDINAMICOS(\"BAS145\",TABLAS!$A$1011)"]
["CULTIVO SECRECIONES  [87162]",null,null,{"$f":"+GETPIVOTDATA(\"BAS146\",TABLAS!$A$199)","v":0},{"$f":"+GETPIVOTDATA(\"BAS147\",TABLAS!$A$199)","v":0},{"$f":"+GETPIVOTDATA(\"BAS148\",TABLAS!$A$199)","v":0},{"$f":"+GETPIVOTDATA(\"BAS149\",TABLAS!$A$199)","v":0},{"$f":"+GETPIVOTDATA(\"BAS150\",TABLAS!$A$199)","v":0},0,{"$f":"+GETPIVOTDATA(\"BAS146\",TABLAS!$A$321)","v":0},{"$f":"+GETPIVOTDATA(\"BAS147\",TABLAS!$A$321)","v":0},{"$f":"+GETPIVOTDATA(\"BAS148\",TABLAS!$A$321)","v":0},{"$f":"+GETPIVOTDATA(\"BAS149\",TABLAS!$A$321)","v":0},{"$f":"+GETPIVOTDATA(\"BAS150\",TABLAS!$A$321)","v":0},0,{"$f":"+GETPIVOTDATA(\"BAS146\",TABLAS!$A$471)","v":0},{"$f":"+GETPIVOTDATA(\"BAS147\",TABLAS!$A$471)","v":0},{"$f":"+GETPIVOTDATA(\"BAS148\",TABLAS!$A$471)","v":0},{"$f":"+GETPIVOTDATA(\"BAS149\",TABLAS!$A$471)","v":0},{"$f":"+GETPIVOTDATA(\"BAS150\",TABLAS!$A$471)","v":0},0,0,null,{"$f":"+GETPIVOTDATA(\"BAS146\",TABLAS!$A$621)","v":0},{"$f":"+GETPIVOTDATA(\"BAS147\",TABLAS!$A$621)","v":0},{"$f":"+GETPIVOTDATA(\"BAS148\",TABLAS!$A$621)","v":0},{"$f":"+GETPIVOTDATA(\"BAS149\",TABLAS!$A$621)","v":0},{"$f":"+GETPIVOTDATA(\"BAS150\",TABLAS!$A$621)","v":0},0,{"$f":"+GETPIVOTDATA(\"BAS146\",TABLAS!$A$741)","v":0},{"$f":"+GETPIVOTDATA(\"BAS147\",TABLAS!$A$741)","v":0},{"$f":"+GETPIVOTDATA(\"BAS148\",TABLAS!$A$741)","v":0},{"$f":"+GETPIVOTDATA(\"BAS149\",TABLAS!$A$741)","v":0},{"$f":"+GETPIVOTDATA(\"BAS150\",TABLAS!$A$741)","v":0},0,{"$f":"+GETPIVOTDATA(\"BAS146\",TABLAS!$A$891)","v":0},{"$f":"+GETPIVOTDATA(\"BAS147\",TABLAS!$A$891)","v":0},{"$f":"+GETPIVOTDATA(\"BAS148\",TABLAS!$A$891)","v":0},{"$f":"+GETPIVOTDATA(\"BAS149\",TABLAS!$A$891)","v":0},{"$f":"+GETPIVOTDATA(\"BAS150\",TABLAS!$A$891)","v":0},0,0,null,null,146,{"$f":"+AS52+1","v":147},148,149,150,null,"=+IMPORTARDATOSDINAMICOS(\"BAS146\",TABLAS!$A$1011)","=+IMPORTARDATOSDINAMICOS(\"BAS147\",TABLAS!$A$1011)","=+IMPORTARDATOSDINAMICOS(\"BAS148\",TABLAS!$A$1011)","=+IMPORTARDATOSDINAMICOS(\"BAS149\",TABLAS!$A$1011)","=+IMPORTARDATOSDINAMICOS(\"BAS150\",TABLAS!$A$1011)"]
["CULTIVO DE LIQUIDOS  [87163]",null,null,{"$f":"+GETPIVOTDATA(\"BAS151\",TABLAS!$A$199)","v":0},{"$f":"+GETPIVOTDATA(\"BAS152\",TABLAS!$A$199)","v":0},{"$f":"+GETPIVOTDATA(\"BAS153\",TABLAS!$A$199)","v":0},{"$f":"+GETPIVOTDATA(\"BAS154\",TABLAS!$A$199)","v":0},{"$f":"+GETPIVOTDATA(\"BAS155\",TABLAS!$A$199)","v":0},0,{"$f":"+GETPIVOTDATA(\"BAS151\",TABLAS!$A$321)","v":0},{"$f":"+GETPIVOTDATA(\"BAS152\",TABLAS!$A$321)","v":0},{"$f":"+GETPIVOTDATA(\"BAS153\",TABLAS!$A$321)","v":0},{"$f":"+GETPIVOTDATA(\"BAS154\",TABLAS!$A$321)","v":0},{"$f":"+GETPIVOTDATA(\"BAS155\",TABLAS!$A$321)","v":0},0,{"$f":"+GETPIVOTDATA(\"BAS151\",TABLAS!$A$471)","v":0},{"$f":"+GETPIVOTDATA(\"BAS152\",TABLAS!$A$471)","v":0},{"$f":"+GETPIVOTDATA(\"BAS153\",TABLAS!$A$471)","v":0},{"$f":"+GETPIVOTDATA(\"BAS154\",TABLAS!$A$471)","v":0},{"$f":"+GETPIVOTDATA(\"BAS155\",TABLAS!$A$471)","v":0},0,0,null,{"$f":"+GETPIVOTDATA(\"BAS151\",TABLAS!$A$621)","v":0},{"$f":"+GETPIVOTDATA(\"BAS152\",TABLAS!$A$621)","v":0},{"$f":"+GETPIVOTDATA(\"BAS153\",TABLAS!$A$621)","v":0},{"$f":"+GETPIVOTDATA(\"BAS154\",TABLAS!$A$621)","v":0},{"$f":"+GETPIVOTDATA(\"BAS155\",TABLAS!$A$621)","v":0},0,{"$f":"+GETPIVOTDATA(\"BAS151\",TABLAS!$A$741)","v":0},{"$f":"+GETPIVOTDATA(\"BAS152\",TABLAS!$A$741)","v":0},{"$f":"+GETPIVOTDATA(\"BAS153\",TABLAS!$A$741)","v":0},{"$f":"+GETPIVOTDATA(\"BAS154\",TABLAS!$A$741)","v":0},{"$f":"+GETPIVOTDATA(\"BAS155\",TABLAS!$A$741)","v":0},0,{"$f":"+GETPIVOTDATA(\"BAS151\",TABLAS!$A$891)","v":0},{"$f":"+GETPIVOTDATA(\"BAS152\",TABLAS!$A$891)","v":0},{"$f":"+GETPIVOTDATA(\"BAS153\",TABLAS!$A$891)","v":0},{"$f":"+GETPIVOTDATA(\"BAS154\",TABLAS!$A$891)","v":0},{"$f":"+GETPIVOTDATA(\"BAS155\",TABLAS!$A$891)","v":0},0,0,null,null,151,{"$f":"+AS53+1","v":152},153,154,155,null,"=+IMPORTARDATOSDINAMICOS(\"BAS151\",TABLAS!$A$1011)","=+IMPORTARDATOSDINAMICOS(\"BAS152\",TABLAS!$A$1011)","=+IMPORTARDATOSDINAMICOS(\"BAS153\",TABLAS!$A$1011)","=+IMPORTARDATOSDINAMICOS(\"BAS154\",TABLAS!$A$1011)","=+IMPORTARDATOSDINAMICOS(\"BAS155\",TABLAS!$A$1011)"]
["CULTIVOS BK  [87116]",null,null,{"$f":"+GETPIVOTDATA(\"BAS156\",TABLAS!$A$199)","v":0},{"$f":"+GETPIVOTDATA(\"BAS157\",TABLAS!$A$199)","v":0},{"$f":"+GETPIVOTDATA(\"BAS158\",TABLAS!$A$199)","v":0},{"$f":"+GETPIVOTDATA(\"BAS159\",TABLAS!$A$199)","v":0},{"$f":"+GETPIVOTDATA(\"BAS160\",TABLAS!$A$199)","v":0},0,{"$f":"+GETPIVOTDATA(\"BAS156\",TABLAS!$A$321)","v":0},{"$f":"+GETPIVOTDATA(\"BAS157\",TABLAS!$A$321)","v":0},{"$f":"+GETPIVOTDATA(\"BAS158\",TABLAS!$A$321)","v":0},{"$f":"+GETPIVOTDATA(\"BAS159\",TABLAS!$A$321)","v":0},{"$f":"+GETPIVOTDATA(\"BAS160\",TABLAS!$A$321)","v":0},0,{"$f":"+GETPIVOTDATA(\"BAS156\",TABLAS!$A$471)","v":0},{"$f":"+GETPIVOTDATA(\"BAS157\",TABLAS!$A$471)","v":0},{"$f":"+GETPIVOTDATA(\"BAS158\",TABLAS!$A$471)","v":0},{"$f":"+GETPIVOTDATA(\"BAS159\",TABLAS!$A$471)","v":0},{"$f":"+GETPIVOTDATA(\"BAS160\",TABLAS!$A$471)","v":0},0,0,null,{"$f":"+GETPIVOTDATA(\"BAS156\",TABLAS!$A$621)","v":0},{"$f":"+GETPIVOTDATA(\"BAS157\",TABLAS!$A$621)","v":0},{"$f":"+GETPIVOTDATA(\"BAS158\",TABLAS!$A$621)","v":0},{"$f":"+GETPIVOTDATA(\"BAS159\",TABLAS!$A$621)","v":0},{"$f":"+GETPIVOTDATA(\"BAS160\",TABLAS!$A$621)","v":0},0,{"$f":"+GETPIVOTDATA(\"BAS156\",TABLAS!$A$741)","v":0},{"$f":"+GETPIVOTDATA(\"BAS157\",TABLAS!$A$741)","v":0},{"$f":"+GETPIVOTDATA(\"BAS158\",TABLAS!$A$741)","v":0},{"$f":"+GETPIVOTDATA(\"BAS159\",TABLAS!$A$741)","v":0},{"$f":"+GETPIVOTDATA(\"BAS160\",TABLAS!$A$741)","v":0},0,{"$f":"+GETPIVOTDATA(\"BAS156\",TABLAS!$A$891)","v":0},{"$f":"+GETPIVOTDATA(\"BAS157\",TABLAS!$A$891)","v":0},{"$f":"+GETPIVOTDATA(\"BAS158\",TABLAS!$A$891)","v":0},{"$f":"+GETPIVOTDATA(\"BAS159\",TABLAS!$A$891)","v":0},{"$f":"+GETPIVOTDATA(\"BAS160\",TABLAS!$A$891)","v":0},0,0,null,null,156,{"$f":"+AS54+1","v":157},158,159,160,null,"=+IMPORTARDATOSDINAMICOS(\"BAS156\",TABLAS!$A$1011)","=+IMPORTARDATOSDINAMICOS(\"BAS157\",TABLAS!$A$1011)","=+IMPORTARDATOSDINAMICOS(\"BAS158\",TABLAS!$A$1011)","=+IMPORTARDATOSDINAMICOS(\"BAS159\",TABLAS!$A$1011)","=+IMPORTARDATOSDINAMICOS(\"BAS160\",TABLAS!$A$1011)"]
["BACILOSCOPIA DE BK [87115]",null,null,{"$f":"+GETPIVOTDATA(\"BAS161\",TABLAS!$A$199)","v":0},{"$f":"+GETPIVOTDATA(\"BAS162\",TABLAS!$A$199)","v":0},{"$f":"+GETPIVOTDATA(\"BAS163\",TABLAS!$A$199)","v":0},{"$f":"+GETPIVOTDATA(\"BAS164\",TABLAS!$A$199)","v":0},{"$f":"+GETPIVOTDATA(\"BAS165\",TABLAS!$A$199)","v":0},0,{"$f":"+GETPIVOTDATA(\"BAS161\",TABLAS!$A$321)","v":0},{"$f":"+GETPIVOTDATA(\"BAS162\",TABLAS!$A$321)","v":0},{"$f":"+GETPIVOTDATA(\"BAS163\",TABLAS!$A$321)","v":0},{"$f":"+GETPIVOTDATA(\"BAS164\",TABLAS!$A$321)","v":0},{"$f":"+GETPIVOTDATA(\"BAS165\",TABLAS!$A$321)","v":0},0,{"$f":"+GETPIVOTDATA(\"BAS161\",TABLAS!$A$471)","v":0},{"$f":"+GETPIVOTDATA(\"BAS162\",TABLAS!$A$471)","v":0},{"$f":"+GETPIVOTDATA(\"BAS163\",TABLAS!$A$471)","v":0},{"$f":"+GETPIVOTDATA(\"BAS164\",TABLAS!$A$471)","v":0},{"$f":"+GETPIVOTDATA(\"BAS165\",TABLAS!$A$471)","v":0},0,0,null,{"$f":"+GETPIVOTDATA(\"BAS161\",TABLAS!$A$621)","v":0},{"$f":"+GETPIVOTDATA(\"BAS162\",TABLAS!$A$621)","v":0},{"$f":"+GETPIVOTDATA(\"BAS163\",TABLAS!$A$621)","v":0},{"$f":"+GETPIVOTDATA(\"BAS164\",TABLAS!$A$621)","v":0},{"$f":"+GETPIVOTDATA(\"BAS165\",TABLAS!$A$621)","v":0},0,{"$f":"+GETPIVOTDATA(\"BAS161\",TABLAS!$A$741)","v":0},{"$f":"+GETPIVOTDATA(\"BAS162\",TABLAS!$A$741)","v":0},{"$f":"+GETPIVOTDATA(\"BAS163\",TABLAS!$A$741)","v":0},{"$f":"+GETPIVOTDATA(\"BAS164\",TABLAS!$A$741)","v":0},{"$f":"+GETPIVOTDATA(\"BAS165\",TABLAS!$A$741)","v":0},0,{"$f":"+GETPIVOTDATA(\"BAS161\",TABLAS!$A$891)","v":0},{"$f":"+GETPIVOTDATA(\"BAS162\",TABLAS!$A$891)","v":0},{"$f":"+GETPIVOTDATA(\"BAS163\",TABLAS!$A$891)","v":0},{"$f":"+GETPIVOTDATA(\"BAS164\",TABLAS!$A$891)","v":0},{"$f":"+GETPIVOTDATA(\"BAS165\",TABLAS!$A$891)","v":0},0,0,null,null,161,{"$f":"+AS55+1","v":162},163,164,165,null,"=+IMPORTARDATOSDINAMICOS(\"BAS161\",TABLAS!$A$1011)","=+IMPORTARDATOSDINAMICOS(\"BAS162\",TABLAS!$A$1011)","=+IMPORTARDATOSDINAMICOS(\"BAS163\",TABLAS!$A$1011)","=+IMPORTARDATOSDINAMICOS(\"BAS164\",TABLAS!$A$1011)","=+IMPORTARDATOSDINAMICOS(\"BAS165\",TABLAS!$A$1011)"]
["OTROS CULTIVOS  [87070] AMBIENTE INTRAHOS",null,null,{"$f":"+GETPIVOTDATA(\"BAS166\",TABLAS!$A$199)","v":0},{"$f":"+GETPIVOTDATA(\"BAS167\",TABLAS!$A$199)","v":0},{"$f":"+GETPIVOTDATA(\"BAS168\",TABLAS!$A$199)","v":0},{"$f":"+GETPIVOTDATA(\"BAS169\",TABLAS!$A$199)","v":0},{"$f":"+GETPIVOTDATA(\"BAS170\",TABLAS!$A$199)","v":0},0,{"$f":"+GETPIVOTDATA(\"BAS166\",TABLAS!$A$321)","v":0},{"$f":"+GETPIVOTDATA(\"BAS167\",TABLAS!$A$321)","v":0},{"$f":"+GETPIVOTDATA(\"BAS168\",TABLAS!$A$321)","v":0},{"$f":"+GETPIVOTDATA(\"BAS169\",TABLAS!$A$321)","v":0},{"$f":"+GETPIVOTDATA(\"BAS170\",TABLAS!$A$321)","v":0},0,{"$f":"+GETPIVOTDATA(\"BAS166\",TABLAS!$A$471)","v":0},{"$f":"+GETPIVOTDATA(\"BAS167\",TABLAS!$A$471)","v":0},{"$f":"+GETPIVOTDATA(\"BAS168\",TABLAS!$A$471)","v":0},{"$f":"+GETPIVOTDATA(\"BAS169\",TABLAS!$A$471)","v":0},{"$f":"+GETPIVOTDATA(\"BAS170\",TABLAS!$A$471)","v":0},0,0,null,{"$f":"+GETPIVOTDATA(\"BAS166\",TABLAS!$A$621)","v":0},{"$f":"+GETPIVOTDATA(\"BAS167\",TABLAS!$A$621)","v":0},{"$f":"+GETPIVOTDATA(\"BAS168\",TABLAS!$A$621)","v":0},{"$f":"+GETPIVOTDATA(\"BAS169\",TABLAS!$A$621)","v":0},{"$f":"+GETPIVOTDATA(\"BAS170\",TABLAS!$A$621)","v":0},0,{"$f":"+GETPIVOTDATA(\"BAS166\",TABLAS!$A$741)","v":0},{"$f":"+GETPIVOTDATA(\"BAS167\",TABLAS!$A$741)","v":0},{"$f":"+GETPIVOTDATA(\"BAS168\",TABLAS!$A$741)","v":0},{"$f":"+GETPIVOTDATA(\"BAS169\",TABLAS!$A$741)","v":0},{"$f":"+GETPIVOTDATA(\"BAS170\",TABLAS!$A$741)","v":0},0,{"$f":"+GETPIVOTDATA(\"BAS166\",TABLAS!$A$891)","v":0},{"$f":"+GETPIVOTDATA(\"BAS167\",TABLAS!$A$891)","v":0},{"$f":"+GETPIVOTDATA(\"BAS168\",TABLAS!$A$891)","v":0},{"$f":"+GETPIVOTDATA(\"BAS169\",TABLAS!$A$891)","v":0},{"$f":"+GETPIVOTDATA(\"BAS170\",TABLAS!$A$891)","v":0},0,0,null,null,166,{"$f":"+AS56+1","v":167},168,169,170,null,"=+IMPORTARDATOSDINAMICOS(\"BAS166\",TABLAS!$A$1011)","=+IMPORTARDATOSDINAMICOS(\"BAS167\",TABLAS!$A$1011)","=+IMPORTARDATOSDINAMICOS(\"BAS168\",TABLAS!$A$1011)","=+IMPORTARDATOSDINAMICOS(\"BAS169\",TABLAS!$A$1011)","=+IMPORTARDATOSDINAMICOS(\"BAS170\",TABLAS!$A$1011)"]
["EXAMEN COMPLETO DE ORINA  [81000]",null,null,{"$f":"+GETPIVOTDATA(\"BAS171\",TABLAS!$A$199)","v":0},{"$f":"+GETPIVOTDATA(\"BAS172\",TABLAS!$A$199)","v":0},{"$f":"+GETPIVOTDATA(\"BAS173\",TABLAS!$A$199)","v":0},{"$f":"+GETPIVOTDATA(\"BAS174\",TABLAS!$A$199)","v":0},{"$f":"+GETPIVOTDATA(\"BAS175\",TABLAS!$A$199)","v":0},0,{"$f":"+GETPIVOTDATA(\"BAS171\",TABLAS!$A$321)","v":0},{"$f":"+GETPIVOTDATA(\"BAS172\",TABLAS!$A$321)","v":0},{"$f":"+GETPIVOTDATA(\"BAS173\",TABLAS!$A$321)","v":0},{"$f":"+GETPIVOTDATA(\"BAS174\",TABLAS!$A$321)","v":0},{"$f":"+GETPIVOTDATA(\"BAS175\",TABLAS!$A$321)","v":0},0,{"$f":"+GETPIVOTDATA(\"BAS171\",TABLAS!$A$471)","v":0},{"$f":"+GETPIVOTDATA(\"BAS172\",TABLAS!$A$471)","v":0},{"$f":"+GETPIVOTDATA(\"BAS173\",TABLAS!$A$471)","v":0},{"$f":"+GETPIVOTDATA(\"BAS174\",TABLAS!$A$471)","v":0},{"$f":"+GETPIVOTDATA(\"BAS175\",TABLAS!$A$471)","v":0},0,0,null,{"$f":"+GETPIVOTDATA(\"BAS171\",TABLAS!$A$621)","v":0},{"$f":"+GETPIVOTDATA(\"BAS172\",TABLAS!$A$621)","v":0},{"$f":"+GETPIVOTDATA(\"BAS173\",TABLAS!$A$621)","v":0},{"$f":"+GETPIVOTDATA(\"BAS174\",TABLAS!$A$621)","v":0},{"$f":"+GETPIVOTDATA(\"BAS175\",TABLAS!$A$621)","v":0},0,{"$f":"+GETPIVOTDATA(\"BAS171\",TABLAS!$A$741)","v":0},{"$f":"+GETPIVOTDATA(\"BAS172\",TABLAS!$A$741)","v":0},{"$f":"+GETPIVOTDATA(\"BAS173\",TABLAS!$A$741)","v":0},{"$f":"+GETPIVOTDATA(\"BAS174\",TABLAS!$A$741)","v":0},{"$f":"+GETPIVOTDATA(\"BAS175\",TABLAS!$A$741)","v":0},0,{"$f":"+GETPIVOTDATA(\"BAS171\",TABLAS!$A$891)","v":0},{"$f":"+GETPIVOTDATA(\"BAS172\",TABLAS!$A$891)","v":0},{"$f":"+GETPIVOTDATA(\"BAS173\",TABLAS!$A$891)","v":0},{"$f":"+GETPIVOTDATA(\"BAS174\",TABLAS!$A$891)","v":0},{"$f":"+GETPIVOTDATA(\"BAS175\",TABLAS!$A$891)","v":0},0,0,null,null,171,{"$f":"+AS57+1","v":172},173,174,175,null,"=+IMPORTARDATOSDINAMICOS(\"BAS171\",TABLAS!$A$1011)","=+IMPORTARDATOSDINAMICOS(\"BAS172\",TABLAS!$A$1011)","=+IMPORTARDATOSDINAMICOS(\"BAS173\",TABLAS!$A$1011)","=+IMPORTARDATOSDINAMICOS(\"BAS174\",TABLAS!$A$1011)","=+IMPORTARDATOSDINAMICOS(\"BAS175\",TABLAS!$A$1011)"]
["SEDIMENTO URINARIO  [81015]",null,null,{"$f":"+GETPIVOTDATA(\"BAS176\",TABLAS!$A$199)","v":0},{"$f":"+GETPIVOTDATA(\"BAS177\",TABLAS!$A$199)","v":0},{"$f":"+GETPIVOTDATA(\"BAS178\",TABLAS!$A$199)","v":0},{"$f":"+GETPIVOTDATA(\"BAS179\",TABLAS!$A$199)","v":0},{"$f":"+GETPIVOTDATA(\"BAS180\",TABLAS!$A$199)","v":0},0,{"$f":"+GETPIVOTDATA(\"BAS176\",TABLAS!$A$321)","v":0},{"$f":"+GETPIVOTDATA(\"BAS177\",TABLAS!$A$321)","v":0},{"$f":"+GETPIVOTDATA(\"BAS178\",TABLAS!$A$321)","v":0},{"$f":"+GETPIVOTDATA(\"BAS179\",TABLAS!$A$321)","v":0},{"$f":"+GETPIVOTDATA(\"BAS180\",TABLAS!$A$321)","v":0},0,{"$f":"+GETPIVOTDATA(\"BAS176\",TABLAS!$A$471)","v":0},{"$f":"+GETPIVOTDATA(\"BAS177\",TABLAS!$A$471)","v":0},{"$f":"+GETPIVOTDATA(\"BAS178\",TABLAS!$A$471)","v":0},{"$f":"+GETPIVOTDATA(\"BAS179\",TABLAS!$A$471)","v":0},{"$f":"+GETPIVOTDATA(\"BAS180\",TABLAS!$A$471)","v":0},0,0,null,{"$f":"+GETPIVOTDATA(\"BAS176\",TABLAS!$A$621)","v":0},{"$f":"+GETPIVOTDATA(\"BAS177\",TABLAS!$A$621)","v":0},{"$f":"+GETPIVOTDATA(\"BAS178\",TABLAS!$A$621)","v":0},{"$f":"+GETPIVOTDATA(\"BAS179\",TABLAS!$A$621)","v":0},{"$f":"+GETPIVOTDATA(\"BAS180\",TABLAS!$A$621)","v":0},0,{"$f":"+GETPIVOTDATA(\"BAS176\",TABLAS!$A$741)","v":0},{"$f":"+GETPIVOTDATA(\"BAS177\",TABLAS!$A$741)","v":0},{"$f":"+GETPIVOTDATA(\"BAS178\",TABLAS!$A$741)","v":0},{"$f":"+GETPIVOTDATA(\"BAS179\",TABLAS!$A$741)","v":0},{"$f":"+GETPIVOTDATA(\"BAS180\",TABLAS!$A$741)","v":0},0,{"$f":"+GETPIVOTDATA(\"BAS176\",TABLAS!$A$891)","v":0},{"$f":"+GETPIVOTDATA(\"BAS177\",TABLAS!$A$891)","v":0},{"$f":"+GETPIVOTDATA(\"BAS178\",TABLAS!$A$891)","v":0},{"$f":"+GETPIVOTDATA(\"BAS179\",TABLAS!$A$891)","v":0},{"$f":"+GETPIVOTDATA(\"BAS180\",TABLAS!$A$891)","v":0},0,0,null,null,176,{"$f":"+AS58+1","v":177},178,179,180,null,"=+IMPORTARDATOSDINAMICOS(\"BAS176\",TABLAS!$A$1011)","=+IMPORTARDATOSDINAMICOS(\"BAS177\",TABLAS!$A$1011)","=+IMPORTARDATOSDINAMICOS(\"BAS178\",TABLAS!$A$1011)","=+IMPORTARDATOSDINAMICOS(\"BAS179\",TABLAS!$A$1011)","=+IMPORTARDATOSDINAMICOS(\"BAS180\",TABLAS!$A$1011)"]
["ESPERMATOGRAMA  [89320]",null,null,{"$f":"+GETPIVOTDATA(\"BAS181\",TABLAS!$A$199)","v":0},{"$f":"+GETPIVOTDATA(\"BAS182\",TABLAS!$A$199)","v":0},{"$f":"+GETPIVOTDATA(\"BAS183\",TABLAS!$A$199)","v":0},{"$f":"+GETPIVOTDATA(\"BAS184\",TABLAS!$A$199)","v":0},{"$f":"+GETPIVOTDATA(\"BAS185\",TABLAS!$A$199)","v":0},0,{"$f":"+GETPIVOTDATA(\"BAS181\",TABLAS!$A$321)","v":0},{"$f":"+GETPIVOTDATA(\"BAS182\",TABLAS!$A$321)","v":0},{"$f":"+GETPIVOTDATA(\"BAS183\",TABLAS!$A$321)","v":0},{"$f":"+GETPIVOTDATA(\"BAS184\",TABLAS!$A$321)","v":0},{"$f":"+GETPIVOTDATA(\"BAS185\",TABLAS!$A$321)","v":0},0,{"$f":"+GETPIVOTDATA(\"BAS181\",TABLAS!$A$471)","v":0},{"$f":"+GETPIVOTDATA(\"BAS182\",TABLAS!$A$471)","v":0},{"$f":"+GETPIVOTDATA(\"BAS183\",TABLAS!$A$471)","v":0},{"$f":"+GETPIVOTDATA(\"BAS184\",TABLAS!$A$471)","v":0},{"$f":"+GETPIVOTDATA(\"BAS185\",TABLAS!$A$471)","v":0},0,0,null,{"$f":"+GETPIVOTDATA(\"BAS181\",TABLAS!$A$621)","v":0},{"$f":"+GETPIVOTDATA(\"BAS182\",TABLAS!$A$621)","v":0},{"$f":"+GETPIVOTDATA(\"BAS183\",TABLAS!$A$621)","v":0},{"$f":"+GETPIVOTDATA(\"BAS184\",TABLAS!$A$621)","v":0},{"$f":"+GETPIVOTDATA(\"BAS185\",TABLAS!$A$621)","v":0},0,{"$f":"+GETPIVOTDATA(\"BAS181\",TABLAS!$A$741)","v":0},{"$f":"+GETPIVOTDATA(\"BAS182\",TABLAS!$A$741)","v":0},{"$f":"+GETPIVOTDATA(\"BAS183\",TABLAS!$A$741)","v":0},{"$f":"+GETPIVOTDATA(\"BAS184\",TABLAS!$A$741)","v":0},{"$f":"+GETPIVOTDATA(\"BAS185\",TABLAS!$A$741)","v":0},0,{"$f":"+GETPIVOTDATA(\"BAS181\",TABLAS!$A$891)","v":0},{"$f":"+GETPIVOTDATA(\"BAS182\",TABLAS!$A$891)","v":0},{"$f":"+GETPIVOTDATA(\"BAS183\",TABLAS!$A$891)","v":0},{"$f":"+GETPIVOTDATA(\"BAS184\",TABLAS!$A$891)","v":0},{"$f":"+GETPIVOTDATA(\"BAS185\",TABLAS!$A$891)","v":0},0,0,null,null,181,{"$f":"+AS59+1","v":182},183,184,185,null,"=+IMPORTARDATOSDINAMICOS(\"BAS181\",TABLAS!$A$1011)","=+IMPORTARDATOSDINAMICOS(\"BAS182\",TABLAS!$A$1011)","=+IMPORTARDATOSDINAMICOS(\"BAS183\",TABLAS!$A$1011)","=+IMPORTARDATOSDINAMICOS(\"BAS184\",TABLAS!$A$1011)","=+IMPORTARDATOSDINAMICOS(\"BAS185\",TABLAS!$A$1011)"]
["TEST DE ZANK (86694)",null,null,{"$f":"+GETPIVOTDATA(\"BAS186\",TABLAS!$A$199)","v":0},{"$f":"+GETPIVOTDATA(\"BAS187\",TABLAS!$A$199)","v":0},{"$f":"+GETPIVOTDATA(\"BAS188\",TABLAS!$A$199)","v":0},{"$f":"+GETPIVOTDATA(\"BAS189\",TABLAS!$A$199)","v":0},{"$f":"+GETPIVOTDATA(\"BAS190\",TABLAS!$A$199)","v":0},0,{"$f":"+GETPIVOTDATA(\"BAS186\",TABLAS!$A$321)","v":0},{"$f":"+GETPIVOTDATA(\"BAS187\",TABLAS!$A$321)","v":0},{"$f":"+GETPIVOTDATA(\"BAS188\",TABLAS!$A$321)","v":0},{"$f":"+GETPIVOTDATA(\"BAS189\",TABLAS!$A$321)","v":0},{"$f":"+GETPIVOTDATA(\"BAS190\",TABLAS!$A$321)","v":0},0,{"$f":"+GETPIVOTDATA(\"BAS186\",TABLAS!$A$471)","v":0},{"$f":"+GETPIVOTDATA(\"BAS187\",TABLAS!$A$471)","v":0},{"$f":"+GETPIVOTDATA(\"BAS188\",TABLAS!$A$471)","v":0},{"$f":"+GETPIVOTDATA(\"BAS189\",TABLAS!$A$471)","v":0},{"$f":"+GETPIVOTDATA(\"BAS190\",TABLAS!$A$471)","v":0},0,0,null,{"$f":"+GETPIVOTDATA(\"BAS186\",TABLAS!$A$621)","v":0},{"$f":"+GETPIVOTDATA(\"BAS187\",TABLAS!$A$621)","v":0},{"$f":"+GETPIVOTDATA(\"BAS188\",TABLAS!$A$621)","v":0},{"$f":"+GETPIVOTDATA(\"BAS189\",TABLAS!$A$621)","v":0},{"$f":"+GETPIVOTDATA(\"BAS190\",TABLAS!$A$621)","v":0},0,{"$f":"+GETPIVOTDATA(\"BAS186\",TABLAS!$A$741)","v":0},{"$f":"+GETPIVOTDATA(\"BAS187\",TABLAS!$A$741)","v":0},{"$f":"+GETPIVOTDATA(\"BAS188\",TABLAS!$A$741)","v":0},{"$f":"+GETPIVOTDATA(\"BAS189\",TABLAS!$A$741)","v":0},{"$f":"+GETPIVOTDATA(\"BAS190\",TABLAS!$A$741)","v":0},0,{"$f":"+GETPIVOTDATA(\"BAS186\",TABLAS!$A$891)","v":0},{"$f":"+GETPIVOTDATA(\"BAS187\",TABLAS!$A$891)","v":0},{"$f":"+GETPIVOTDATA(\"BAS188\",TABLAS!$A$891)","v":0},{"$f":"+GETPIVOTDATA(\"BAS189\",TABLAS!$A$891)","v":0},{"$f":"+GETPIVOTDATA(\"BAS190\",TABLAS!$A$891)","v":0},0,0,null,null,186,{"$f":"+AS60+1","v":187},188,189,190,null,"=+IMPORTARDATOSDINAMICOS(\"BAS186\",TABLAS!$A$1011)","=+IMPORTARDATOSDINAMICOS(\"BAS187\",TABLAS!$A$1011)","=+IMPORTARDATOSDINAMICOS(\"BAS188\",TABLAS!$A$1011)","=+IMPORTARDATOSDINAMICOS(\"BAS189\",TABLAS!$A$1011)","=+IMPORTARDATOSDINAMICOS(\"BAS190\",TABLAS!$A$1011)"]
["PARASITOLOGICO EN HECES  [87177]",null,null,{"$f":"+GETPIVOTDATA(\"BAS191\",TABLAS!$A$199)","v":0},{"$f":"+GETPIVOTDATA(\"BAS192\",TABLAS!$A$199)","v":0},{"$f":"+GETPIVOTDATA(\"BAS193\",TABLAS!$A$199)","v":0},{"$f":"+GETPIVOTDATA(\"BAS194\",TABLAS!$A$199)","v":0},{"$f":"+GETPIVOTDATA(\"BAS195\",TABLAS!$A$199)","v":0},0,{"$f":"+GETPIVOTDATA(\"BAS191\",TABLAS!$A$321)","v":0},{"$f":"+GETPIVOTDATA(\"BAS192\",TABLAS!$A$321)","v":0},{"$f":"+GETPIVOTDATA(\"BAS193\",TABLAS!$A$321)","v":0},{"$f":"+GETPIVOTDATA(\"BAS194\",TABLAS!$A$321)","v":0},{"$f":"+GETPIVOTDATA(\"BAS195\",TABLAS!$A$321)","v":0},0,{"$f":"+GETPIVOTDATA(\"BAS191\",TABLAS!$A$471)","v":0},{"$f":"+GETPIVOTDATA(\"BAS192\",TABLAS!$A$471)","v":0},{"$f":"+GETPIVOTDATA(\"BAS193\",TABLAS!$A$471)","v":0},{"$f":"+GETPIVOTDATA(\"BAS194\",TABLAS!$A$471)","v":0},{"$f":"+GETPIVOTDATA(\"BAS195\",TABLAS!$A$471)","v":0},0,0,null,{"$f":"+GETPIVOTDATA(\"BAS191\",TABLAS!$A$621)","v":0},{"$f":"+GETPIVOTDATA(\"BAS192\",TABLAS!$A$621)","v":0},{"$f":"+GETPIVOTDATA(\"BAS193\",TABLAS!$A$621)","v":0},{"$f":"+GETPIVOTDATA(\"BAS194\",TABLAS!$A$621)","v":0},{"$f":"+GETPIVOTDATA(\"BAS195\",TABLAS!$A$621)","v":0},0,{"$f":"+GETPIVOTDATA(\"BAS191\",TABLAS!$A$741)","v":0},{"$f":"+GETPIVOTDATA(\"BAS192\",TABLAS!$A$741)","v":0},{"$f":"+GETPIVOTDATA(\"BAS193\",TABLAS!$A$741)","v":0},{"$f":"+GETPIVOTDATA(\"BAS194\",TABLAS!$A$741)","v":0},{"$f":"+GETPIVOTDATA(\"BAS195\",TABLAS!$A$741)","v":0},0,{"$f":"+GETPIVOTDATA(\"BAS191\",TABLAS!$A$891)","v":0},{"$f":"+GETPIVOTDATA(\"BAS192\",TABLAS!$A$891)","v":0},{"$f":"+GETPIVOTDATA(\"BAS193\",TABLAS!$A$891)","v":0},{"$f":"+GETPIVOTDATA(\"BAS194\",TABLAS!$A$891)","v":0},{"$f":"+GETPIVOTDATA(\"BAS195\",TABLAS!$A$891)","v":0},0,0,null,null,191,{"$f":"+AS61+1","v":192},193,194,195,null,"=+IMPORTARDATOSDINAMICOS(\"BAS191\",TABLAS!$A$1011)","=+IMPORTARDATOSDINAMICOS(\"BAS192\",TABLAS!$A$1011)","=+IMPORTARDATOSDINAMICOS(\"BAS193\",TABLAS!$A$1011)","=+IMPORTARDATOSDINAMICOS(\"BAS194\",TABLAS!$A$1011)","=+IMPORTARDATOSDINAMICOS(\"BAS195\",TABLAS!$A$1011)"]
["TEST DE GRAHAM  [87178]",null,null,{"$f":"+GETPIVOTDATA(\"BAS196\",TABLAS!$A$199)","v":0},{"$f":"+GETPIVOTDATA(\"BAS197\",TABLAS!$A$199)","v":0},{"$f":"+GETPIVOTDATA(\"BAS198\",TABLAS!$A$199)","v":0},{"$f":"+GETPIVOTDATA(\"BAS199\",TABLAS!$A$199)","v":0},{"$f":"+GETPIVOTDATA(\"BAS200\",TABLAS!$A$199)","v":0},0,{"$f":"+GETPIVOTDATA(\"BAS196\",TABLAS!$A$321)","v":0},{"$f":"+GETPIVOTDATA(\"BAS197\",TABLAS!$A$321)","v":0},{"$f":"+GETPIVOTDATA(\"BAS198\",TABLAS!$A$321)","v":0},{"$f":"+GETPIVOTDATA(\"BAS199\",TABLAS!$A$321)","v":0},{"$f":"+GETPIVOTDATA(\"BAS200\",TABLAS!$A$321)","v":0},0,{"$f":"+GETPIVOTDATA(\"BAS196\",TABLAS!$A$471)","v":0},{"$f":"+GETPIVOTDATA(\"BAS197\",TABLAS!$A$471)","v":0},{"$f":"+GETPIVOTDATA(\"BAS198\",TABLAS!$A$471)","v":0},{"$f":"+GETPIVOTDATA(\"BAS199\",TABLAS!$A$471)","v":0},{"$f":"+GETPIVOTDATA(\"BAS200\",TABLAS!$A$471)","v":0},0,0,null,{"$f":"+GETPIVOTDATA(\"BAS196\",TABLAS!$A$621)","v":0},{"$f":"+GETPIVOTDATA(\"BAS197\",TABLAS!$A$621)","v":0},{"$f":"+GETPIVOTDATA(\"BAS198\",TABLAS!$A$621)","v":0},{"$f":"+GETPIVOTDATA(\"BAS199\",TABLAS!$A$621)","v":0},{"$f":"+GETPIVOTDATA(\"BAS200\",TABLAS!$A$621)","v":0},0,{"$f":"+GETPIVOTDATA(\"BAS196\",TABLAS!$A$741)","v":0},{"$f":"+GETPIVOTDATA(\"BAS197\",TABLAS!$A$741)","v":0},{"$f":"+GETPIVOTDATA(\"BAS198\",TABLAS!$A$741)","v":0},{"$f":"+GETPIVOTDATA(\"BAS199\",TABLAS!$A$741)","v":0},{"$f":"+GETPIVOTDATA(\"BAS200\",TABLAS!$A$741)","v":0},0,{"$f":"+GETPIVOTDATA(\"BAS196\",TABLAS!$A$891)","v":0},{"$f":"+GETPIVOTDATA(\"BAS197\",TABLAS!$A$891)","v":0},{"$f":"+GETPIVOTDATA(\"BAS198\",TABLAS!$A$891)","v":0},{"$f":"+GETPIVOTDATA(\"BAS199\",TABLAS!$A$891)","v":0},{"$f":"+GETPIVOTDATA(\"BAS200\",TABLAS!$A$891)","v":0},0,0,null,null,196,{"$f":"+AS62+1","v":197},198,199,200,null,"=+IMPORTARDATOSDINAMICOS(\"BAS196\",TABLAS!$A$1011)","=+IMPORTARDATOSDINAMICOS(\"BAS197\",TABLAS!$A$1011)","=+IMPORTARDATOSDINAMICOS(\"BAS198\",TABLAS!$A$1011)","=+IMPORTARDATOSDINAMICOS(\"BAS199\",TABLAS!$A$1011)","=+IMPORTARDATOSDINAMICOS(\"BAS200\",TABLAS!$A$1011)"]
["CONCENTRACION POR SEDIMENTACION  [87211]",null,null,{"$f":"+GETPIVOTDATA(\"BAS201\",TABLAS!$A$199)","v":0},{"$f":"+GETPIVOTDATA(\"BAS202\",TABLAS!$A$199)","v":0},{"$f":"+GETPIVOTDATA(\"BAS203\",TABLAS!$A$199)","v":0},{"$f":"+GETPIVOTDATA(\"BAS204\",TABLAS!$A$199)","v":0},{"$f":"+GETPIVOTDATA(\"BAS205\",TABLAS!$A$199)","v":0},0,{"$f":"+GETPIVOTDATA(\"BAS201\",TABLAS!$A$321)","v":0},{"$f":"+GETPIVOTDATA(\"BAS202\",TABLAS!$A$321)","v":0},{"$f":"+GETPIVOTDATA(\"BAS203\",TABLAS!$A$321)","v":0},{"$f":"+GETPIVOTDATA(\"BAS204\",TABLAS!$A$321)","v":0},{"$f":"+GETPIVOTDATA(\"BAS205\",TABLAS!$A$321)","v":0},0,{"$f":"+GETPIVOTDATA(\"BAS201\",TABLAS!$A$471)","v":0},{"$f":"+GETPIVOTDATA(\"BAS202\",TABLAS!$A$471)","v":0},{"$f":"+GETPIVOTDATA(\"BAS203\",TABLAS!$A$471)","v":0},{"$f":"+GETPIVOTDATA(\"BAS204\",TABLAS!$A$471)","v":0},{"$f":"+GETPIVOTDATA(\"BAS205\",TABLAS!$A$471)","v":0},0,0,null,{"$f":"+GETPIVOTDATA(\"BAS201\",TABLAS!$A$621)","v":0},{"$f":"+GETPIVOTDATA(\"BAS202\",TABLAS!$A$621)","v":0},{"$f":"+GETPIVOTDATA(\"BAS203\",TABLAS!$A$621)","v":0},{"$f":"+GETPIVOTDATA(\"BAS204\",TABLAS!$A$621)","v":0},{"$f":"+GETPIVOTDATA(\"BAS205\",TABLAS!$A$621)","v":0},0,{"$f":"+GETPIVOTDATA(\"BAS201\",TABLAS!$A$741)","v":0},{"$f":"+GETPIVOTDATA(\"BAS202\",TABLAS!$A$741)","v":0},{"$f":"+GETPIVOTDATA(\"BAS203\",TABLAS!$A$741)","v":0},{"$f":"+GETPIVOTDATA(\"BAS204\",TABLAS!$A$741)","v":0},{"$f":"+GETPIVOTDATA(\"BAS205\",TABLAS!$A$741)","v":0},0,{"$f":"+GETPIVOTDATA(\"BAS201\",TABLAS!$A$891)","v":0},{"$f":"+GETPIVOTDATA(\"BAS202\",TABLAS!$A$891)","v":0},{"$f":"+GETPIVOTDATA(\"BAS203\",TABLAS!$A$891)","v":0},{"$f":"+GETPIVOTDATA(\"BAS204\",TABLAS!$A$891)","v":0},{"$f":"+GETPIVOTDATA(\"BAS205\",TABLAS!$A$891)","v":0},0,0,null,null,201,{"$f":"+AS63+1","v":202},203,204,205,null,"=+IMPORTARDATOSDINAMICOS(\"BAS201\",TABLAS!$A$1011)","=+IMPORTARDATOSDINAMICOS(\"BAS202\",TABLAS!$A$1011)","=+IMPORTARDATOSDINAMICOS(\"BAS203\",TABLAS!$A$1011)","=+IMPORTARDATOSDINAMICOS(\"BAS204\",TABLAS!$A$1011)","=+IMPORTARDATOSDINAMICOS(\"BAS205\",TABLAS!$A$1011)"]
["BENEDICT (SUST. REDUCTORAS)  [84376]",null,null,{"$f":"+GETPIVOTDATA(\"BAS206\",TABLAS!$A$199)","v":0},{"$f":"+GETPIVOTDATA(\"BAS207\",TABLAS!$A$199)","v":0},{"$f":"+GETPIVOTDATA(\"BAS208\",TABLAS!$A$199)","v":0},{"$f":"+GETPIVOTDATA(\"BAS209\",TABLAS!$A$199)","v":0},{"$f":"+GETPIVOTDATA(\"BAS210\",TABLAS!$A$199)","v":0},0,{"$f":"+GETPIVOTDATA(\"BAS206\",TABLAS!$A$321)","v":0},{"$f":"+GETPIVOTDATA(\"BAS207\",TABLAS!$A$321)","v":0},{"$f":"+GETPIVOTDATA(\"BAS208\",TABLAS!$A$321)","v":0},{"$f":"+GETPIVOTDATA(\"BAS209\",TABLAS!$A$321)","v":0},{"$f":"+GETPIVOTDATA(\"BAS210\",TABLAS!$A$321)","v":0},0,{"$f":"+GETPIVOTDATA(\"BAS206\",TABLAS!$A$471)","v":0},{"$f":"+GETPIVOTDATA(\"BAS207\",TABLAS!$A$471)","v":0},{"$f":"+GETPIVOTDATA(\"BAS208\",TABLAS!$A$471)","v":0},{"$f":"+GETPIVOTDATA(\"BAS209\",TABLAS!$A$471)","v":0},{"$f":"+GETPIVOTDATA(\"BAS210\",TABLAS!$A$471)","v":0},0,0,null,{"$f":"+GETPIVOTDATA(\"BAS206\",TABLAS!$A$621)","v":0},{"$f":"+GETPIVOTDATA(\"BAS207\",TABLAS!$A$621)","v":0},{"$f":"+GETPIVOTDATA(\"BAS208\",TABLAS!$A$621)","v":0},{"$f":"+GETPIVOTDATA(\"BAS209\",TABLAS!$A$621)","v":0},{"$f":"+GETPIVOTDATA(\"BAS210\",TABLAS!$A$621)","v":0},0,{"$f":"+GETPIVOTDATA(\"BAS206\",TABLAS!$A$741)","v":0},{"$f":"+GETPIVOTDATA(\"BAS207\",TABLAS!$A$741)","v":0},{"$f":"+GETPIVOTDATA(\"BAS208\",TABLAS!$A$741)","v":0},{"$f":"+GETPIVOTDATA(\"BAS209\",TABLAS!$A$741)","v":0},{"$f":"+GETPIVOTDATA(\"BAS210\",TABLAS!$A$741)","v":0},0,{"$f":"+GETPIVOTDATA(\"BAS206\",TABLAS!$A$891)","v":0},{"$f":"+GETPIVOTDATA(\"BAS207\",TABLAS!$A$891)","v":0},{"$f":"+GETPIVOTDATA(\"BAS208\",TABLAS!$A$891)","v":0},{"$f":"+GETPIVOTDATA(\"BAS209\",TABLAS!$A$891)","v":0},{"$f":"+GETPIVOTDATA(\"BAS210\",TABLAS!$A$891)","v":0},0,0,null,null,206,{"$f":"+AS64+1","v":207},208,209,210,null,"=+IMPORTARDATOSDINAMICOS(\"BAS206\",TABLAS!$A$1011)","=+IMPORTARDATOSDINAMICOS(\"BAS207\",TABLAS!$A$1011)","=+IMPORTARDATOSDINAMICOS(\"BAS208\",TABLAS!$A$1011)","=+IMPORTARDATOSDINAMICOS(\"BAS209\",TABLAS!$A$1011)","=+IMPORTARDATOSDINAMICOS(\"BAS210\",TABLAS!$A$1011)"]
["REACCION INFLAMATORIA  [89055]",null,null,{"$f":"+GETPIVOTDATA(\"BAS211\",TABLAS!$A$199)","v":0},{"$f":"+GETPIVOTDATA(\"BAS212\",TABLAS!$A$199)","v":0},{"$f":"+GETPIVOTDATA(\"BAS213\",TABLAS!$A$199)","v":0},{"$f":"+GETPIVOTDATA(\"BAS214\",TABLAS!$A$199)","v":0},{"$f":"+GETPIVOTDATA(\"BAS215\",TABLAS!$A$199)","v":0},0,{"$f":"+GETPIVOTDATA(\"BAS211\",TABLAS!$A$321)","v":0},{"$f":"+GETPIVOTDATA(\"BAS212\",TABLAS!$A$321)","v":0},{"$f":"+GETPIVOTDATA(\"BAS213\",TABLAS!$A$321)","v":0},{"$f":"+GETPIVOTDATA(\"BAS214\",TABLAS!$A$321)","v":0},{"$f":"+GETPIVOTDATA(\"BAS215\",TABLAS!$A$321)","v":0},0,{"$f":"+GETPIVOTDATA(\"BAS211\",TABLAS!$A$471)","v":0},{"$f":"+GETPIVOTDATA(\"BAS212\",TABLAS!$A$471)","v":0},{"$f":"+GETPIVOTDATA(\"BAS213\",TABLAS!$A$471)","v":0},{"$f":"+GETPIVOTDATA(\"BAS214\",TABLAS!$A$471)","v":0},{"$f":"+GETPIVOTDATA(\"BAS215\",TABLAS!$A$471)","v":0},0,0,null,{"$f":"+GETPIVOTDATA(\"BAS211\",TABLAS!$A$621)","v":0},{"$f":"+GETPIVOTDATA(\"BAS212\",TABLAS!$A$621)","v":0},{"$f":"+GETPIVOTDATA(\"BAS213\",TABLAS!$A$621)","v":0},{"$f":"+GETPIVOTDATA(\"BAS214\",TABLAS!$A$621)","v":0},{"$f":"+GETPIVOTDATA(\"BAS215\",TABLAS!$A$621)","v":0},0,{"$f":"+GETPIVOTDATA(\"BAS211\",TABLAS!$A$741)","v":0},{"$f":"+GETPIVOTDATA(\"BAS212\",TABLAS!$A$741)","v":0},{"$f":"+GETPIVOTDATA(\"BAS213\",TABLAS!$A$741)","v":0},{"$f":"+GETPIVOTDATA(\"BAS214\",TABLAS!$A$741)","v":0},{"$f":"+GETPIVOTDATA(\"BAS215\",TABLAS!$A$741)","v":0},0,{"$f":"+GETPIVOTDATA(\"BAS211\",TABLAS!$A$891)","v":0},{"$f":"+GETPIVOTDATA(\"BAS212\",TABLAS!$A$891)","v":0},{"$f":"+GETPIVOTDATA(\"BAS213\",TABLAS!$A$891)","v":0},{"$f":"+GETPIVOTDATA(\"BAS214\",TABLAS!$A$891)","v":0},{"$f":"+GETPIVOTDATA(\"BAS215\",TABLAS!$A$891)","v":0},0,0,null,null,211,{"$f":"+AS65+1","v":212},213,214,215,null,"=+IMPORTARDATOSDINAMICOS(\"BAS211\",TABLAS!$A$1011)","=+IMPORTARDATOSDINAMICOS(\"BAS212\",TABLAS!$A$1011)","=+IMPORTARDATOSDINAMICOS(\"BAS213\",TABLAS!$A$1011)","=+IMPORTARDATOSDINAMICOS(\"BAS214\",TABLAS!$A$1011)","=+IMPORTARDATOSDINAMICOS(\"BAS215\",TABLAS!$A$1011)"]
["PH HECES  [R0001]",null,null,{"$f":"+GETPIVOTDATA(\"BAS216\",TABLAS!$A$199)","v":0},{"$f":"+GETPIVOTDATA(\"BAS217\",TABLAS!$A$199)","v":0},{"$f":"+GETPIVOTDATA(\"BAS218\",TABLAS!$A$199)","v":0},{"$f":"+GETPIVOTDATA(\"BAS219\",TABLAS!$A$199)","v":0},{"$f":"+GETPIVOTDATA(\"BAS220\",TABLAS!$A$199)","v":0},0,{"$f":"+GETPIVOTDATA(\"BAS216\",TABLAS!$A$321)","v":0},{"$f":"+GETPIVOTDATA(\"BAS217\",TABLAS!$A$321)","v":0},{"$f":"+GETPIVOTDATA(\"BAS218\",TABLAS!$A$321)","v":0},{"$f":"+GETPIVOTDATA(\"BAS219\",TABLAS!$A$321)","v":0},{"$f":"+GETPIVOTDATA(\"BAS220\",TABLAS!$A$321)","v":0},0,{"$f":"+GETPIVOTDATA(\"BAS216\",TABLAS!$A$471)","v":0},{"$f":"+GETPIVOTDATA(\"BAS217\",TABLAS!$A$471)","v":0},{"$f":"+GETPIVOTDATA(\"BAS218\",TABLAS!$A$471)","v":0},{"$f":"+GETPIVOTDATA(\"BAS219\",TABLAS!$A$471)","v":0},{"$f":"+GETPIVOTDATA(\"BAS220\",TABLAS!$A$471)","v":0},0,0,null,{"$f":"+GETPIVOTDATA(\"BAS216\",TABLAS!$A$621)","v":0},{"$f":"+GETPIVOTDATA(\"BAS217\",TABLAS!$A$621)","v":0},{"$f":"+GETPIVOTDATA(\"BAS218\",TABLAS!$A$621)","v":0},{"$f":"+GETPIVOTDATA(\"BAS219\",TABLAS!$A$621)","v":0},{"$f":"+GETPIVOTDATA(\"BAS220\",TABLAS!$A$621)","v":0},0,{"$f":"+GETPIVOTDATA(\"BAS216\",TABLAS!$A$741)","v":0},{"$f":"+GETPIVOTDATA(\"BAS217\",TABLAS!$A$741)","v":0},{"$f":"+GETPIVOTDATA(\"BAS218\",TABLAS!$A$741)","v":0},{"$f":"+GETPIVOTDATA(\"BAS219\",TABLAS!$A$741)","v":0},{"$f":"+GETPIVOTDATA(\"BAS220\",TABLAS!$A$741)","v":0},0,{"$f":"+GETPIVOTDATA(\"BAS216\",TABLAS!$A$891)","v":0},{"$f":"+GETPIVOTDATA(\"BAS217\",TABLAS!$A$891)","v":0},{"$f":"+GETPIVOTDATA(\"BAS218\",TABLAS!$A$891)","v":0},{"$f":"+GETPIVOTDATA(\"BAS219\",TABLAS!$A$891)","v":0},{"$f":"+GETPIVOTDATA(\"BAS220\",TABLAS!$A$891)","v":0},0,0,null,null,216,{"$f":"+AS66+1","v":217},218,219,220,null,"=+IMPORTARDATOSDINAMICOS(\"BAS216\",TABLAS!$A$1011)","=+IMPORTARDATOSDINAMICOS(\"BAS217\",TABLAS!$A$1011)","=+IMPORTARDATOSDINAMICOS(\"BAS218\",TABLAS!$A$1011)","=+IMPORTARDATOSDINAMICOS(\"BAS219\",TABLAS!$A$1011)","=+IMPORTARDATOSDINAMICOS(\"BAS220\",TABLAS!$A$1011)"]
["SUDAM III  [82705]",null,null,{"$f":"+GETPIVOTDATA(\"BAS221\",TABLAS!$A$199)","v":0},{"$f":"+GETPIVOTDATA(\"BAS222\",TABLAS!$A$199)","v":0},{"$f":"+GETPIVOTDATA(\"BAS223\",TABLAS!$A$199)","v":0},{"$f":"+GETPIVOTDATA(\"BAS224\",TABLAS!$A$199)","v":0},{"$f":"+GETPIVOTDATA(\"BAS225\",TABLAS!$A$199)","v":0},0,{"$f":"+GETPIVOTDATA(\"BAS221\",TABLAS!$A$321)","v":0},{"$f":"+GETPIVOTDATA(\"BAS222\",TABLAS!$A$321)","v":0},{"$f":"+GETPIVOTDATA(\"BAS223\",TABLAS!$A$321)","v":0},{"$f":"+GETPIVOTDATA(\"BAS224\",TABLAS!$A$321)","v":0},{"$f":"+GETPIVOTDATA(\"BAS225\",TABLAS!$A$321)","v":0},0,{"$f":"+GETPIVOTDATA(\"BAS221\",TABLAS!$A$471)","v":0},{"$f":"+GETPIVOTDATA(\"BAS222\",TABLAS!$A$471)","v":0},{"$f":"+GETPIVOTDATA(\"BAS223\",TABLAS!$A$471)","v":0},{"$f":"+GETPIVOTDATA(\"BAS224\",TABLAS!$A$471)","v":0},{"$f":"+GETPIVOTDATA(\"BAS225\",TABLAS!$A$471)","v":0},0,0,null,{"$f":"+GETPIVOTDATA(\"BAS221\",TABLAS!$A$621)","v":0},{"$f":"+GETPIVOTDATA(\"BAS222\",TABLAS!$A$621)","v":0},{"$f":"+GETPIVOTDATA(\"BAS223\",TABLAS!$A$621)","v":0},{"$f":"+GETPIVOTDATA(\"BAS224\",TABLAS!$A$621)","v":0},{"$f":"+GETPIVOTDATA(\"BAS225\",TABLAS!$A$621)","v":0},0,{"$f":"+GETPIVOTDATA(\"BAS221\",TABLAS!$A$741)","v":0},{"$f":"+GETPIVOTDATA(\"BAS222\",TABLAS!$A$741)","v":0},{"$f":"+GETPIVOTDATA(\"BAS223\",TABLAS!$A$741)","v":0},{"$f":"+GETPIVOTDATA(\"BAS224\",TABLAS!$A$741)","v":0},{"$f":"+GETPIVOTDATA(\"BAS225\",TABLAS!$A$741)","v":0},0,{"$f":"+GETPIVOTDATA(\"BAS221\",TABLAS!$A$891)","v":0},{"$f":"+GETPIVOTDATA(\"BAS222\",TABLAS!$A$891)","v":0},{"$f":"+GETPIVOTDATA(\"BAS223\",TABLAS!$A$891)","v":0},{"$f":"+GETPIVOTDATA(\"BAS224\",TABLAS!$A$891)","v":0},{"$f":"+GETPIVOTDATA(\"BAS225\",TABLAS!$A$891)","v":0},0,0,null,null,221,{"$f":"+AS67+1","v":222},223,224,225,null,"=+IMPORTARDATOSDINAMICOS(\"BAS221\",TABLAS!$A$1011)","=+IMPORTARDATOSDINAMICOS(\"BAS222\",TABLAS!$A$1011)","=+IMPORTARDATOSDINAMICOS(\"BAS223\",TABLAS!$A$1011)","=+IMPORTARDATOSDINAMICOS(\"BAS224\",TABLAS!$A$1011)","=+IMPORTARDATOSDINAMICOS(\"BAS225\",TABLAS!$A$1011)"]
["THEVENON  [82270]",null,null,{"$f":"+GETPIVOTDATA(\"BAS226\",TABLAS!$A$199)","v":0},{"$f":"+GETPIVOTDATA(\"BAS227\",TABLAS!$A$199)","v":0},{"$f":"+GETPIVOTDATA(\"BAS228\",TABLAS!$A$199)","v":0},{"$f":"+GETPIVOTDATA(\"BAS229\",TABLAS!$A$199)","v":0},{"$f":"+GETPIVOTDATA(\"BAS230\",TABLAS!$A$199)","v":0},0,{"$f":"+GETPIVOTDATA(\"BAS226\",TABLAS!$A$321)","v":0},{"$f":"+GETPIVOTDATA(\"BAS227\",TABLAS!$A$321)","v":0},{"$f":"+GETPIVOTDATA(\"BAS228\",TABLAS!$A$321)","v":0},{"$f":"+GETPIVOTDATA(\"BAS229\",TABLAS!$A$321)","v":0},{"$f":"+GETPIVOTDATA(\"BAS230\",TABLAS!$A$321)","v":0},0,{"$f":"+GETPIVOTDATA(\"BAS226\",TABLAS!$A$471)","v":0},{"$f":"+GETPIVOTDATA(\"BAS227\",TABLAS!$A$471)","v":0},{"$f":"+GETPIVOTDATA(\"BAS228\",TABLAS!$A$471)","v":0},{"$f":"+GETPIVOTDATA(\"BAS229\",TABLAS!$A$471)","v":0},{"$f":"+GETPIVOTDATA(\"BAS230\",TABLAS!$A$471)","v":0},0,0,null,{"$f":"+GETPIVOTDATA(\"BAS226\",TABLAS!$A$621)","v":0},{"$f":"+GETPIVOTDATA(\"BAS227\",TABLAS!$A$621)","v":0},{"$f":"+GETPIVOTDATA(\"BAS228\",TABLAS!$A$621)","v":0},{"$f":"+GETPIVOTDATA(\"BAS229\",TABLAS!$A$621)","v":0},{"$f":"+GETPIVOTDATA(\"BAS230\",TABLAS!$A$621)","v":0},0,{"$f":"+GETPIVOTDATA(\"BAS226\",TABLAS!$A$741)","v":0},{"$f":"+GETPIVOTDATA(\"BAS227\",TABLAS!$A$741)","v":0},{"$f":"+GETPIVOTDATA(\"BAS228\",TABLAS!$A$741)","v":0},{"$f":"+GETPIVOTDATA(\"BAS229\",TABLAS!$A$741)","v":0},{"$f":"+GETPIVOTDATA(\"BAS230\",TABLAS!$A$741)","v":0},0,{"$f":"+GETPIVOTDATA(\"BAS226\",TABLAS!$A$891)","v":0},{"$f":"+GETPIVOTDATA(\"BAS227\",TABLAS!$A$891)","v":0},{"$f":"+GETPIVOTDATA(\"BAS228\",TABLAS!$A$891)","v":0},{"$f":"+GETPIVOTDATA(\"BAS229\",TABLAS!$A$891)","v":0},{"$f":"+GETPIVOTDATA(\"BAS230\",TABLAS!$A$891)","v":0},0,0,null,null,226,{"$f":"+AS68+1","v":227},228,229,230,null,"=+IMPORTARDATOSDINAMICOS(\"BAS226\",TABLAS!$A$1011)","=+IMPORTARDATOSDINAMICOS(\"BAS227\",TABLAS!$A$1011)","=+IMPORTARDATOSDINAMICOS(\"BAS228\",TABLAS!$A$1011)","=+IMPORTARDATOSDINAMICOS(\"BAS229\",TABLAS!$A$1011)","=+IMPORTARDATOSDINAMICOS(\"BAS230\",TABLAS!$A$1011)"]
["TEST DE HELECHOS  [R0002]",null,null,{"$f":"+GETPIVOTDATA(\"BAS231\",TABLAS!$A$199)","v":0},{"$f":"+GETPIVOTDATA(\"BAS232\",TABLAS!$A$199)","v":0},{"$f":"+GETPIVOTDATA(\"BAS233\",TABLAS!$A$199)","v":0},{"$f":"+GETPIVOTDATA(\"BAS234\",TABLAS!$A$199)","v":0},{"$f":"+GETPIVOTDATA(\"BAS235\",TABLAS!$A$199)","v":0},0,{"$f":"+GETPIVOTDATA(\"BAS231\",TABLAS!$A$321)","v":0},{"$f":"+GETPIVOTDATA(\"BAS232\",TABLAS!$A$321)","v":0},{"$f":"+GETPIVOTDATA(\"BAS233\",TABLAS!$A$321)","v":0},{"$f":"+GETPIVOTDATA(\"BAS234\",TABLAS!$A$321)","v":0},{"$f":"+GETPIVOTDATA(\"BAS235\",TABLAS!$A$321)","v":0},0,{"$f":"+GETPIVOTDATA(\"BAS231\",TABLAS!$A$471)","v":0},{"$f":"+GETPIVOTDATA(\"BAS232\",TABLAS!$A$471)","v":0},{"$f":"+GETPIVOTDATA(\"BAS233\",TABLAS!$A$471)","v":0},{"$f":"+GETPIVOTDATA(\"BAS234\",TABLAS!$A$471)","v":0},{"$f":"+GETPIVOTDATA(\"BAS235\",TABLAS!$A$471)","v":0},0,0,null,{"$f":"+GETPIVOTDATA(\"BAS231\",TABLAS!$A$621)","v":0},{"$f":"+GETPIVOTDATA(\"BAS232\",TABLAS!$A$621)","v":0},{"$f":"+GETPIVOTDATA(\"BAS233\",TABLAS!$A$621)","v":0},{"$f":"+GETPIVOTDATA(\"BAS234\",TABLAS!$A$621)","v":0},{"$f":"+GETPIVOTDATA(\"BAS235\",TABLAS!$A$621)","v":0},0,{"$f":"+GETPIVOTDATA(\"BAS231\",TABLAS!$A$741)","v":0},{"$f":"+GETPIVOTDATA(\"BAS232\",TABLAS!$A$741)","v":0},{"$f":"+GETPIVOTDATA(\"BAS233\",TABLAS!$A$741)","v":0},{"$f":"+GETPIVOTDATA(\"BAS234\",TABLAS!$A$741)","v":0},{"$f":"+GETPIVOTDATA(\"BAS235\",TABLAS!$A$741)","v":0},0,{"$f":"+GETPIVOTDATA(\"BAS231\",TABLAS!$A$891)","v":0},{"$f":"+GETPIVOTDATA(\"BAS232\",TABLAS!$A$891)","v":0},{"$f":"+GETPIVOTDATA(\"BAS233\",TABLAS!$A$891)","v":0},{"$f":"+GETPIVOTDATA(\"BAS234\",TABLAS!$A$891)","v":0},{"$f":"+GETPIVOTDATA(\"BAS235\",TABLAS!$A$891)","v":0},0,0,null,null,231,{"$f":"+AS69+1","v":232},233,234,235,null,"=+IMPORTARDATOSDINAMICOS(\"BAS231\",TABLAS!$A$1011)","=+IMPORTARDATOSDINAMICOS(\"BAS232\",TABLAS!$A$1011)","=+IMPORTARDATOSDINAMICOS(\"BAS233\",TABLAS!$A$1011)","=+IMPORTARDATOSDINAMICOS(\"BAS234\",TABLAS!$A$1011)","=+IMPORTARDATOSDINAMICOS(\"BAS235\",TABLAS!$A$1011)"]
[]
[null,null,null,"CONSULTA EXTERNA",null,null,null,null,null,"HOSPITALIZACION",null,null,null,null,null,"EMERGENCIA",null,null,null,null,null,"Total",null,"CONSULTA EXTERNA",null,null,null,null,null,"HOSPITALIZACION",null,null,null,null,null,"EMERGENCIA",null,null,null,null,null,"Total"]
["BIOQUIMICA",null,null,"0 - 11a","12-17a","18-29 a","30-59 a","60- + a","Total","0 - 11a","12-17a","18-29 a","30-59 a","60- + a","Total","0 - 11a","12-17a","18-29 a","30-59 a","60- + a","Total",null,null,"0 - 11a","12-17a","18-29 a","30-59 a","60- + a","Total","0 - 11a","12-17a","18-29 a","30-59 a","60- + a","Total","0 - 11a","12-17a","18-29 a","30-59 a","60- + a","Total"]
["TOTAL",null,null,{"$f":"SUM(D74:D107)","v":0},{"$f":"SUM(E74:E107)","v":0},0,0,0,0,0,0,0,0,0,0,0,0,0,0,0,0,{"$f":"SUM(V74:V107)","v":0},null,{"$f":"SUM(X74:X107)","v":0},{"$f":"SUM(Y74:Y107)","v":0},0,0,0,0,0,0,0,0,0,0,0,0,0,0,0,0,{"$f":"SUM(AP74:AP107)","v":0}]
["ACIDO URICO  [84550]",null,null,{"$f":"+GETPIVOTDATA(\"BAS001\",TABLAS!$A$230)","v":0},{"$f":"+GETPIVOTDATA(\"BAS002\",TABLAS!$A$230)","v":0},{"$f":"+GETPIVOTDATA(\"BAS003\",TABLAS!$A$230)","v":0},{"$f":"+GETPIVOTDATA(\"BAS004\",TABLAS!$A$230)","v":0},{"$f":"+GETPIVOTDATA(\"BAS005\",TABLAS!$A$230)","v":0},{"$f":"SUM(D74:H74)","v":0},{"$f":"+GETPIVOTDATA(\"BAS001\",TABLAS!$A$351)","v":0},{"$f":"+GETPIVOTDATA(\"BAS002\",TABLAS!$A$351)","v":0},{"$f":"+GETPIVOTDATA(\"BAS003\",TABLAS!$A$351)","v":0},{"$f":"+GETPIVOTDATA(\"BAS004\",TABLAS!$A$351)","v":0},{"$f":"+GETPIVOTDATA(\"BAS005\",TABLAS!$A$351)","v":0},{"$f":"SUM(J74:N74)","v":0},{"$f":"+GETPIVOTDATA(\"BAS001\",TABLAS!$A$501)","v":0},{"$f":"+GETPIVOTDATA(\"BAS002\",TABLAS!$A$501)","v":0},{"$f":"+GETPIVOTDATA(\"BAS003\",TABLAS!$A$501)","v":0},{"$f":"+GETPIVOTDATA(\"BAS004\",TABLAS!$A$501)","v":0},{"$f":"+GETPIVOTDATA(\"BAS005\",TABLAS!$A$501)","v":0},{"$f":"SUM(P74:T74)","v":0},{"$f":"+I74+O74+U74","v":0},null,{"$f":"+GETPIVOTDATA(\"BAS001\",TABLAS!$A$651)","v":0},{"$f":"+GETPIVOTDATA(\"BAS002\",TABLAS!$A$651)","v":0},{"$f":"+GETPIVOTDATA(\"BAS003\",TABLAS!$A$651)","v":0},{"$f":"+GETPIVOTDATA(\"BAS004\",TABLAS!$A$651)","v":0},{"$f":"+GETPIVOTDATA(\"BAS005\",TABLAS!$A$651)","v":0},{"$f":"SUM(X74:AB74)","v":0},{"$f":"+GETPIVOTDATA(\"BAS001\",TABLAS!$A$771)","v":0},{"$f":"+GETPIVOTDATA(\"BAS002\",TABLAS!$A$771)","v":0},{"$f":"+GETPIVOTDATA(\"BAS003\",TABLAS!$A$771)","v":0},{"$f":"+GETPIVOTDATA(\"BAS004\",TABLAS!$A$771)","v":0},{"$f":"+GETPIVOTDATA(\"BAS005\",TABLAS!$A$771)","v":0},{"$f":"SUM(AD74:AH74)","v":0},{"$f":"+GETPIVOTDATA(\"BAS001\",TABLAS!$A$921)","v":0},{"$f":"+GETPIVOTDATA(\"BAS002\",TABLAS!$A$921)","v":0},{"$f":"+GETPIVOTDATA(\"BAS003\",TABLAS!$A$921)","v":0},{"$f":"+GETPIVOTDATA(\"BAS004\",TABLAS!$A$921)","v":0},{"$f":"+GETPIVOTDATA(\"BAS005\",TABLAS!$A$921)","v":0},{"$f":"SUM(AJ74:AN74)","v":0},{"$f":"+AC74+AI74+AO74","v":0},null,null,1,{"$f":"+AS74+1","v":2},3,4,5,null,{"$f":"IF(AS74<=9,CONCATENATE($AS$13,$AV$13,\"00\",AS74,$AW$13),IF(AND(AS74>=10,AS74<=99),CONCATENATE($AS$13,$AV$13,\"0\",AS74,$AW$13),CONCATENATE($AS$13,$AV$13,AS74,$AW$13)))","v":"=+IMPORTARDATOSDINAMICOS(\"BAS001\",TABLAS!$A$1011)"},{"$f":"IF(AT74<=9,CONCATENATE($AS$13,$AV$13,\"00\",AT74,$AW$13),IF(AND(AT74>=10,AT74<=99),CONCATENATE($AS$13,$AV$13,\"0\",AT74,$AW$13),CONCATENATE($AS$13,$AV$13,AT74,$AW$13)))","v":"=+IMPORTARDATOSDINAMICOS(\"BAS002\",TABLAS!$A$1011)"},{"$f":"IF(AU74<=9,CONCATENATE($AS$13,$AV$13,\"00\",AU74,$AW$13),IF(AND(AU74>=10,AU74<=99),CONCATENATE($AS$13,$AV$13,\"0\",AU74,$AW$13),CONCATENATE($AS$13,$AV$13,AU74,$AW$13)))","v":"=+IMPORTARDATOSDINAMICOS(\"BAS003\",TABLAS!$A$1011)"},{"$f":"IF(AV74<=9,CONCATENATE($AS$13,$AV$13,\"00\",AV74,$AW$13),IF(AND(AV74>=10,AV74<=99),CONCATENATE($AS$13,$AV$13,\"0\",AV74,$AW$13),CONCATENATE($AS$13,$AV$13,AV74,$AW$13)))","v":"=+IMPORTARDATOSDINAMICOS(\"BAS004\",TABLAS!$A$1011)"},{"$f":"IF(AW74<=9,CONCATENATE($AS$13,$AV$13,\"00\",AW74,$AW$13),IF(AND(AW74>=10,AW74<=99),CONCATENATE($AS$13,$AV$13,\"0\",AW74,$AW$13),CONCATENATE($AS$13,$AV$13,AW74,$AW$13)))","v":"=+IMPORTARDATOSDINAMICOS(\"BAS005\",TABLAS!$A$1011)"}]
["AGA GASES ARTERIALES  [82803]",null,null,{"$f":"+GETPIVOTDATA(\"BAS006\",TABLAS!$A$230)","v":0},{"$f":"+GETPIVOTDATA(\"BAS007\",TABLAS!$A$230)","v":0},{"$f":"+GETPIVOTDATA(\"BAS008\",TABLAS!$A$230)","v":0},{"$f":"+GETPIVOTDATA(\"BAS009\",TABLAS!$A$230)","v":0},{"$f":"+GETPIVOTDATA(\"BAS010\",TABLAS!$A$230)","v":0},0,{"$f":"+GETPIVOTDATA(\"BAS006\",TABLAS!$A$351)","v":0},{"$f":"+GETPIVOTDATA(\"BAS007\",TABLAS!$A$351)","v":0},{"$f":"+GETPIVOTDATA(\"BAS008\",TABLAS!$A$351)","v":0},{"$f":"+GETPIVOTDATA(\"BAS009\",TABLAS!$A$351)","v":0},{"$f":"+GETPIVOTDATA(\"BAS010\",TABLAS!$A$351)","v":0},0,{"$f":"+GETPIVOTDATA(\"BAS006\",TABLAS!$A$501)","v":0},{"$f":"+GETPIVOTDATA(\"BAS007\",TABLAS!$A$501)","v":0},{"$f":"+GETPIVOTDATA(\"BAS008\",TABLAS!$A$501)","v":0},{"$f":"+GETPIVOTDATA(\"BAS009\",TABLAS!$A$501)","v":0},{"$f":"+GETPIVOTDATA(\"BAS010\",TABLAS!$A$501)","v":0},0,0,null,{"$f":"+GETPIVOTDATA(\"BAS006\",TABLAS!$A$651)","v":0},{"$f":"+GETPIVOTDATA(\"BAS007\",TABLAS!$A$651)","v":0},{"$f":"+GETPIVOTDATA(\"BAS008\",TABLAS!$A$651)","v":0},{"$f":"+GETPIVOTDATA(\"BAS009\",TABLAS!$A$651)","v":0},{"$f":"+GETPIVOTDATA(\"BAS010\",TABLAS!$A$651)","v":0},0,{"$f":"+GETPIVOTDATA(\"BAS006\",TABLAS!$A$771)","v":0},{"$f":"+GETPIVOTDATA(\"BAS007\",TABLAS!$A$771)","v":0},{"$f":"+GETPIVOTDATA(\"BAS008\",TABLAS!$A$771)","v":0},{"$f":"+GETPIVOTDATA(\"BAS009\",TABLAS!$A$771)","v":0},{"$f":"+GETPIVOTDATA(\"BAS010\",TABLAS!$A$771)","v":0},0,{"$f":"+GETPIVOTDATA(\"BAS006\",TABLAS!$A$921)","v":0},{"$f":"+GETPIVOTDATA(\"BAS007\",TABLAS!$A$921)","v":0},{"$f":"+GETPIVOTDATA(\"BAS008\",TABLAS!$A$921)","v":0},{"$f":"+GETPIVOTDATA(\"BAS009\",TABLAS!$A$921)","v":0},{"$f":"+GETPIVOTDATA(\"BAS010\",TABLAS!$A$921)","v":0},0,0,null,null,{"$f":"+AW74+1","v":6},{"$f":"+AS75+1","v":7},8,9,10,null,{"$f":"IF(AS75<=9,CONCATENATE($AS$13,$AV$13,\"00\",AS75,$AW$13),IF(AND(AS75>=10,AS75<=99),CONCATENATE($AS$13,$AV$13,\"0\",AS75,$AW$13),CONCATENATE($AS$13,$AV$13,AS75,$AW$13)))","v":"=+IMPORTARDATOSDINAMICOS(\"BAS006\",TABLAS!$A$1011)"},{"$f":"IF(AT75<=9,CONCATENATE($AS$13,$AV$13,\"00\",AT75,$AW$13),IF(AND(AT75>=10,AT75<=99),CONCATENATE($AS$13,$AV$13,\"0\",AT75,$AW$13),CONCATENATE($AS$13,$AV$13,AT75,$AW$13)))","v":"=+IMPORTARDATOSDINAMICOS(\"BAS007\",TABLAS!$A$1011)"},{"$f":"IF(AU75<=9,CONCATENATE($AS$13,$AV$13,\"00\",AU75,$AW$13),IF(AND(AU75>=10,AU75<=99),CONCATENATE($AS$13,$AV$13,\"0\",AU75,$AW$13),CONCATENATE($AS$13,$AV$13,AU75,$AW$13)))","v":"=+IMPORTARDATOSDINAMICOS(\"BAS008\",TABLAS!$A$1011)"},{"$f":"IF(AV75<=9,CONCATENATE($AS$13,$AV$13,\"00\",AV75,$AW$13),IF(AND(AV75>=10,AV75<=99),CONCATENATE($AS$13,$AV$13,\"0\",AV75,$AW$13),CONCATENATE($AS$13,$AV$13,AV75,$AW$13)))","v":"=+IMPORTARDATOSDINAMICOS(\"BAS009\",TABLAS!$A$1011)"},{"$f":"IF(AW75<=9,CONCATENATE($AS$13,$AV$13,\"00\",AW75,$AW$13),IF(AND(AW75>=10,AW75<=99),CONCATENATE($AS$13,$AV$13,\"0\",AW75,$AW$13),CONCATENATE($AS$13,$AV$13,AW75,$AW$13)))","v":"=+IMPORTARDATOSDINAMICOS(\"BAS010\",TABLAS!$A$1011)"}]
["ALBUMINA  [82040]",null,null,{"$f":"+GETPIVOTDATA(\"BAS011\",TABLAS!$A$230)","v":0},{"$f":"+GETPIVOTDATA(\"BAS012\",TABLAS!$A$230)","v":0},{"$f":"+GETPIVOTDATA(\"BAS013\",TABLAS!$A$230)","v":0},{"$f":"+GETPIVOTDATA(\"BAS014\",TABLAS!$A$230)","v":0},{"$f":"+GETPIVOTDATA(\"BAS015\",TABLAS!$A$230)","v":0},0,{"$f":"+GETPIVOTDATA(\"BAS011\",TABLAS!$A$351)","v":0},{"$f":"+GETPIVOTDATA(\"BAS012\",TABLAS!$A$351)","v":0},{"$f":"+GETPIVOTDATA(\"BAS013\",TABLAS!$A$351)","v":0},{"$f":"+GETPIVOTDATA(\"BAS014\",TABLAS!$A$351)","v":0},{"$f":"+GETPIVOTDATA(\"BAS015\",TABLAS!$A$351)","v":0},0,{"$f":"+GETPIVOTDATA(\"BAS011\",TABLAS!$A$501)","v":0},{"$f":"+GETPIVOTDATA(\"BAS012\",TABLAS!$A$501)","v":0},{"$f":"+GETPIVOTDATA(\"BAS013\",TABLAS!$A$501)","v":0},{"$f":"+GETPIVOTDATA(\"BAS014\",TABLAS!$A$501)","v":0},{"$f":"+GETPIVOTDATA(\"BAS015\",TABLAS!$A$501)","v":0},0,0,null,{"$f":"+GETPIVOTDATA(\"BAS011\",TABLAS!$A$651)","v":0},{"$f":"+GETPIVOTDATA(\"BAS012\",TABLAS!$A$651)","v":0},{"$f":"+GETPIVOTDATA(\"BAS013\",TABLAS!$A$651)","v":0},{"$f":"+GETPIVOTDATA(\"BAS014\",TABLAS!$A$651)","v":0},{"$f":"+GETPIVOTDATA(\"BAS015\",TABLAS!$A$651)","v":0},0,{"$f":"+GETPIVOTDATA(\"BAS011\",TABLAS!$A$771)","v":0},{"$f":"+GETPIVOTDATA(\"BAS012\",TABLAS!$A$771)","v":0},{"$f":"+GETPIVOTDATA(\"BAS013\",TABLAS!$A$771)","v":0},{"$f":"+GETPIVOTDATA(\"BAS014\",TABLAS!$A$771)","v":0},{"$f":"+GETPIVOTDATA(\"BAS015\",TABLAS!$A$771)","v":0},0,{"$f":"+GETPIVOTDATA(\"BAS011\",TABLAS!$A$921)","v":0},{"$f":"+GETPIVOTDATA(\"BAS012\",TABLAS!$A$921)","v":0},{"$f":"+GETPIVOTDATA(\"BAS013\",TABLAS!$A$921)","v":0},{"$f":"+GETPIVOTDATA(\"BAS014\",TABLAS!$A$921)","v":0},{"$f":"+GETPIVOTDATA(\"BAS015\",TABLAS!$A$921)","v":0},0,0,null,null,{"$f":"+AW75+1","v":11},{"$f":"+AS76+1","v":12},13,14,15,null,"=+IMPORTARDATOSDINAMICOS(\"BAS011\",TABLAS!$A$1011)","=+IMPORTARDATOSDINAMICOS(\"BAS012\",TABLAS!$A$1011)","=+IMPORTARDATOSDINAMICOS(\"BAS013\",TABLAS!$A$1011)","=+IMPORTARDATOSDINAMICOS(\"BAS014\",TABLAS!$A$1011)","=+IMPORTARDATOSDINAMICOS(\"BAS015\",TABLAS!$A$1011)"]
["AMILASA  [82150]",null,null,{"$f":"+GETPIVOTDATA(\"BAS016\",TABLAS!$A$230)","v":0},{"$f":"+GETPIVOTDATA(\"BAS017\",TABLAS!$A$230)","v":0},{"$f":"+GETPIVOTDATA(\"BAS018\",TABLAS!$A$230)","v":0},{"$f":"+GETPIVOTDATA(\"BAS019\",TABLAS!$A$230)","v":0},{"$f":"+GETPIVOTDATA(\"BAS020\",TABLAS!$A$230)","v":0},0,{"$f":"+GETPIVOTDATA(\"BAS016\",TABLAS!$A$351)","v":0},{"$f":"+GETPIVOTDATA(\"BAS017\",TABLAS!$A$351)","v":0},{"$f":"+GETPIVOTDATA(\"BAS018\",TABLAS!$A$351)","v":0},{"$f":"+GETPIVOTDATA(\"BAS019\",TABLAS!$A$351)","v":0},{"$f":"+GETPIVOTDATA(\"BAS020\",TABLAS!$A$351)","v":0},0,{"$f":"+GETPIVOTDATA(\"BAS016\",TABLAS!$A$501)","v":0},{"$f":"+GETPIVOTDATA(\"BAS017\",TABLAS!$A$501)","v":0},{"$f":"+GETPIVOTDATA(\"BAS018\",TABLAS!$A$501)","v":0},{"$f":"+GETPIVOTDATA(\"BAS019\",TABLAS!$A$501)","v":0},{"$f":"+GETPIVOTDATA(\"BAS020\",TABLAS!$A$501)","v":0},0,0,null,{"$f":"+GETPIVOTDATA(\"BAS016\",TABLAS!$A$651)","v":0},{"$f":"+GETPIVOTDATA(\"BAS017\",TABLAS!$A$651)","v":0},{"$f":"+GETPIVOTDATA(\"BAS018\",TABLAS!$A$651)","v":0},{"$f":"+GETPIVOTDATA(\"BAS019\",TABLAS!$A$651)","v":0},{"$f":"+GETPIVOTDATA(\"BAS020\",TABLAS!$A$651)","v":0},0,{"$f":"+GETPIVOTDATA(\"BAS016\",TABLAS!$A$771)","v":0},{"$f":"+GETPIVOTDATA(\"BAS017\",TABLAS!$A$771)","v":0},{"$f":"+GETPIVOTDATA(\"BAS018\",TABLAS!$A$771)","v":0},{"$f":"+GETPIVOTDATA(\"BAS019\",TABLAS!$A$771)","v":0},{"$f":"+GETPIVOTDATA(\"BAS020\",TABLAS!$A$771)","v":0},0,{"$f":"+GETPIVOTDATA(\"BAS016\",TABLAS!$A$921)","v":0},{"$f":"+GETPIVOTDATA(\"BAS017\",TABLAS!$A$921)","v":0},{"$f":"+GETPIVOTDATA(\"BAS018\",TABLAS!$A$921)","v":0},{"$f":"+GETPIVOTDATA(\"BAS019\",TABLAS!$A$921)","v":0},{"$f":"+GETPIVOTDATA(\"BAS020\",TABLAS!$A$921)","v":0},0,0,null,null,16,{"$f":"+AS77+1","v":17},18,19,20,null,"=+IMPORTARDATOSDINAMICOS(\"BAS016\",TABLAS!$A$1011)","=+IMPORTARDATOSDINAMICOS(\"BAS017\",TABLAS!$A$1011)","=+IMPORTARDATOSDINAMICOS(\"BAS018\",TABLAS!$A$1011)","=+IMPORTARDATOSDINAMICOS(\"BAS019\",TABLAS!$A$1011)","=+IMPORTARDATOSDINAMICOS(\"BAS020\",TABLAS!$A$1011)"]
["BILIRRUBINA DIRECTA  [82248] FRACCIONADO",null,null,{"$f":"+GETPIVOTDATA(\"BAS021\",TABLAS!$A$230)","v":0},{"$f":"+GETPIVOTDATA(\"BAS022\",TABLAS!$A$230)","v":0},{"$f":"+GETPIVOTDATA(\"BAS023\",TABLAS!$A$230)","v":0},{"$f":"+GETPIVOTDATA(\"BAS024\",TABLAS!$A$230)","v":0},{"$f":"+GETPIVOTDATA(\"BAS025\",TABLAS!$A$230)","v":0},0,{"$f":"+GETPIVOTDATA(\"BAS021\",TABLAS!$A$351)","v":0},{"$f":"+GETPIVOTDATA(\"BAS022\",TABLAS!$A$351)","v":0},{"$f":"+GETPIVOTDATA(\"BAS023\",TABLAS!$A$351)","v":0},{"$f":"+GETPIVOTDATA(\"BAS024\",TABLAS!$A$351)","v":0},{"$f":"+GETPIVOTDATA(\"BAS025\",TABLAS!$A$351)","v":0},0,{"$f":"+GETPIVOTDATA(\"BAS021\",TABLAS!$A$501)","v":0},{"$f":"+GETPIVOTDATA(\"BAS022\",TABLAS!$A$501)","v":0},{"$f":"+GETPIVOTDATA(\"BAS023\",TABLAS!$A$501)","v":0},{"$f":"+GETPIVOTDATA(\"BAS024\",TABLAS!$A$501)","v":0},{"$f":"+GETPIVOTDATA(\"BAS025\",TABLAS!$A$501)","v":0},0,0,null,{"$f":"+GETPIVOTDATA(\"BAS021\",TABLAS!$A$651)","v":0},{"$f":"+GETPIVOTDATA(\"BAS022\",TABLAS!$A$651)","v":0},{"$f":"+GETPIVOTDATA(\"BAS023\",TABLAS!$A$651)","v":0},{"$f":"+GETPIVOTDATA(\"BAS024\",TABLAS!$A$651)","v":0},{"$f":"+GETPIVOTDATA(\"BAS025\",TABLAS!$A$651)","v":0},0,{"$f":"+GETPIVOTDATA(\"BAS021\",TABLAS!$A$771)","v":0},{"$f":"+GETPIVOTDATA(\"BAS022\",TABLAS!$A$771)","v":0},{"$f":"+GETPIVOTDATA(\"BAS023\",TABLAS!$A$771)","v":0},{"$f":"+GETPIVOTDATA(\"BAS024\",TABLAS!$A$771)","v":0},{"$f":"+GETPIVOTDATA(\"BAS025\",TABLAS!$A$771)","v":0},0,{"$f":"+GETPIVOTDATA(\"BAS021\",TABLAS!$A$921)","v":0},{"$f":"+GETPIVOTDATA(\"BAS022\",TABLAS!$A$921)","v":0},{"$f":"+GETPIVOTDATA(\"BAS023\",TABLAS!$A$921)","v":0},{"$f":"+GETPIVOTDATA(\"BAS024\",TABLAS!$A$921)","v":0},{"$f":"+GETPIVOTDATA(\"BAS025\",TABLAS!$A$921)","v":0},0,0,null,null,21,{"$f":"+AS78+1","v":22},23,24,25,null,"=+IMPORTARDATOSDINAMICOS(\"BAS021\",TABLAS!$A$1011)","=+IMPORTARDATOSDINAMICOS(\"BAS022\",TABLAS!$A$1011)","=+IMPORTARDATOSDINAMICOS(\"BAS023\",TABLAS!$A$1011)","=+IMPORTARDATOSDINAMICOS(\"BAS024\",TABLAS!$A$1011)","=+IMPORTARDATOSDINAMICOS(\"BAS025\",TABLAS!$A$1011)"]
["BILIRRUBINA TOTAL  [82247]",null,null,{"$f":"+GETPIVOTDATA(\"BAS026\",TABLAS!$A$230)","v":0},{"$f":"+GETPIVOTDATA(\"BAS027\",TABLAS!$A$230)","v":0},{"$f":"+GETPIVOTDATA(\"BAS028\",TABLAS!$A$230)","v":0},{"$f":"+GETPIVOTDATA(\"BAS029\",TABLAS!$A$230)","v":0},{"$f":"+GETPIVOTDATA(\"BAS030\",TABLAS!$A$230)","v":0},0,{"$f":"+GETPIVOTDATA(\"BAS026\",TABLAS!$A$351)","v":0},{"$f":"+GETPIVOTDATA(\"BAS027\",TABLAS!$A$351)","v":0},{"$f":"+GETPIVOTDATA(\"BAS028\",TABLAS!$A$351)","v":0},{"$f":"+GETPIVOTDATA(\"BAS029\",TABLAS!$A$351)","v":0},{"$f":"+GETPIVOTDATA(\"BAS030\",TABLAS!$A$351)","v":0},0,{"$f":"+GETPIVOTDATA(\"BAS026\",TABLAS!$A$501)","v":0},{"$f":"+GETPIVOTDATA(\"BAS027\",TABLAS!$A$501)","v":0},{"$f":"+GETPIVOTDATA(\"BAS028\",TABLAS!$A$501)","v":0},{"$f":"+GETPIVOTDATA(\"BAS029\",TABLAS!$A$501)","v":0},{"$f":"+GETPIVOTDATA(\"BAS030\",TABLAS!$A$501)","v":0},0,0,null,{"$f":"+GETPIVOTDATA(\"BAS026\",TABLAS!$A$651)","v":0},{"$f":"+GETPIVOTDATA(\"BAS027\",TABLAS!$A$651)","v":0},{"$f":"+GETPIVOTDATA(\"BAS028\",TABLAS!$A$651)","v":0},{"$f":"+GETPIVOTDATA(\"BAS029\",TABLAS!$A$651)","v":0},{"$f":"+GETPIVOTDATA(\"BAS030\",TABLAS!$A$651)","v":0},0,{"$f":"+GETPIVOTDATA(\"BAS026\",TABLAS!$A$771)","v":0},{"$f":"+GETPIVOTDATA(\"BAS027\",TABLAS!$A$771)","v":0},{"$f":"+GETPIVOTDATA(\"BAS028\",TABLAS!$A$771)","v":0},{"$f":"+GETPIVOTDATA(\"BAS029\",TABLAS!$A$771)","v":0},{"$f":"+GETPIVOTDATA(\"BAS030\",TABLAS!$A$771)","v":0},0,{"$f":"+GETPIVOTDATA(\"BAS026\",TABLAS!$A$921)","v":0},{"$f":"+GETPIVOTDATA(\"BAS027\",TABLAS!$A$921)","v":0},{"$f":"+GETPIVOTDATA(\"BAS028\",TABLAS!$A$921)","v":0},{"$f":"+GETPIVOTDATA(\"BAS029\",TABLAS!$A$921)","v":0},{"$f":"+GETPIVOTDATA(\"BAS030\",TABLAS!$A$921)","v":0},0,0,null,null,26,{"$f":"+AS79+1","v":27},28,29,30,null,"=+IMPORTARDATOSDINAMICOS(\"BAS026\",TABLAS!$A$1011)","=+IMPORTARDATOSDINAMICOS(\"BAS027\",TABLAS!$A$1011)","=+IMPORTARDATOSDINAMICOS(\"BAS028\",TABLAS!$A$1011)","=+IMPORTARDATOSDINAMICOS(\"BAS029\",TABLAS!$A$1011)","=+IMPORTARDATOSDINAMICOS(\"BAS030\",TABLAS!$A$1011)"]
["CALCIO  [82310]",null,null,{"$f":"+GETPIVOTDATA(\"BAS031\",TABLAS!$A$230)","v":0},{"$f":"+GETPIVOTDATA(\"BAS032\",TABLAS!$A$230)","v":0},{"$f":"+GETPIVOTDATA(\"BAS033\",TABLAS!$A$230)","v":0},{"$f":"+GETPIVOTDATA(\"BAS034\",TABLAS!$A$230)","v":0},{"$f":"+GETPIVOTDATA(\"BAS035\",TABLAS!$A$230)","v":0},0,{"$f":"+GETPIVOTDATA(\"BAS031\",TABLAS!$A$351)","v":0},{"$f":"+GETPIVOTDATA(\"BAS032\",TABLAS!$A$351)","v":0},{"$f":"+GETPIVOTDATA(\"BAS033\",TABLAS!$A$351)","v":0},{"$f":"+GETPIVOTDATA(\"BAS034\",TABLAS!$A$351)","v":0},{"$f":"+GETPIVOTDATA(\"BAS035\",TABLAS!$A$351)","v":0},0,{"$f":"+GETPIVOTDATA(\"BAS031\",TABLAS!$A$501)","v":0},{"$f":"+GETPIVOTDATA(\"BAS032\",TABLAS!$A$501)","v":0},{"$f":"+GETPIVOTDATA(\"BAS033\",TABLAS!$A$501)","v":0},{"$f":"+GETPIVOTDATA(\"BAS034\",TABLAS!$A$501)","v":0},{"$f":"+GETPIVOTDATA(\"BAS035\",TABLAS!$A$501)","v":0},0,0,null,{"$f":"+GETPIVOTDATA(\"BAS031\",TABLAS!$A$651)","v":0},{"$f":"+GETPIVOTDATA(\"BAS032\",TABLAS!$A$651)","v":0},{"$f":"+GETPIVOTDATA(\"BAS033\",TABLAS!$A$651)","v":0},{"$f":"+GETPIVOTDATA(\"BAS034\",TABLAS!$A$651)","v":0},{"$f":"+GETPIVOTDATA(\"BAS035\",TABLAS!$A$651)","v":0},0,{"$f":"+GETPIVOTDATA(\"BAS031\",TABLAS!$A$771)","v":0},{"$f":"+GETPIVOTDATA(\"BAS032\",TABLAS!$A$771)","v":0},{"$f":"+GETPIVOTDATA(\"BAS033\",TABLAS!$A$771)","v":0},{"$f":"+GETPIVOTDATA(\"BAS034\",TABLAS!$A$771)","v":0},{"$f":"+GETPIVOTDATA(\"BAS035\",TABLAS!$A$771)","v":0},0,{"$f":"+GETPIVOTDATA(\"BAS031\",TABLAS!$A$921)","v":0},{"$f":"+GETPIVOTDATA(\"BAS032\",TABLAS!$A$921)","v":0},{"$f":"+GETPIVOTDATA(\"BAS033\",TABLAS!$A$921)","v":0},{"$f":"+GETPIVOTDATA(\"BAS034\",TABLAS!$A$921)","v":0},{"$f":"+GETPIVOTDATA(\"BAS035\",TABLAS!$A$921)","v":0},0,0,null,null,31,{"$f":"+AS80+1","v":32},33,34,35,null,"=+IMPORTARDATOSDINAMICOS(\"BAS031\",TABLAS!$A$1011)","=+IMPORTARDATOSDINAMICOS(\"BAS032\",TABLAS!$A$1011)","=+IMPORTARDATOSDINAMICOS(\"BAS033\",TABLAS!$A$1011)","=+IMPORTARDATOSDINAMICOS(\"BAS034\",TABLAS!$A$1011)","=+IMPORTARDATOSDINAMICOS(\"BAS035\",TABLAS!$A$1011)"]
["COLESTEROL HDL [83718]",null,null,{"$f":"+GETPIVOTDATA(\"BAS036\",TABLAS!$A$230)","v":0},{"$f":"+GETPIVOTDATA(\"BAS037\",TABLAS!$A$230)","v":0},{"$f":"+GETPIVOTDATA(\"BAS038\",TABLAS!$A$230)","v":0},{"$f":"+GETPIVOTDATA(\"BAS039\",TABLAS!$A$230)","v":0},{"$f":"+GETPIVOTDATA(\"BAS040\",TABLAS!$A$230)","v":0},0,{"$f":"+GETPIVOTDATA(\"BAS036\",TABLAS!$A$351)","v":0},{"$f":"+GETPIVOTDATA(\"BAS037\",TABLAS!$A$351)","v":0},{"$f":"+GETPIVOTDATA(\"BAS038\",TABLAS!$A$351)","v":0},{"$f":"+GETPIVOTDATA(\"BAS039\",TABLAS!$A$351)","v":0},{"$f":"+GETPIVOTDATA(\"BAS040\",TABLAS!$A$351)","v":0},0,{"$f":"+GETPIVOTDATA(\"BAS036\",TABLAS!$A$501)","v":0},{"$f":"+GETPIVOTDATA(\"BAS037\",TABLAS!$A$501)","v":0},{"$f":"+GETPIVOTDATA(\"BAS038\",TABLAS!$A$501)","v":0},{"$f":"+GETPIVOTDATA(\"BAS039\",TABLAS!$A$501)","v":0},{"$f":"+GETPIVOTDATA(\"BAS040\",TABLAS!$A$501)","v":0},0,0,null,{"$f":"+GETPIVOTDATA(\"BAS036\",TABLAS!$A$651)","v":0},{"$f":"+GETPIVOTDATA(\"BAS037\",TABLAS!$A$651)","v":0},{"$f":"+GETPIVOTDATA(\"BAS038\",TABLAS!$A$651)","v":0},{"$f":"+GETPIVOTDATA(\"BAS039\",TABLAS!$A$651)","v":0},{"$f":"+GETPIVOTDATA(\"BAS040\",TABLAS!$A$651)","v":0},0,{"$f":"+GETPIVOTDATA(\"BAS036\",TABLAS!$A$771)","v":0},{"$f":"+GETPIVOTDATA(\"BAS037\",TABLAS!$A$771)","v":0},{"$f":"+GETPIVOTDATA(\"BAS038\",TABLAS!$A$771)","v":0},{"$f":"+GETPIVOTDATA(\"BAS039\",TABLAS!$A$771)","v":0},{"$f":"+GETPIVOTDATA(\"BAS040\",TABLAS!$A$771)","v":0},0,{"$f":"+GETPIVOTDATA(\"BAS036\",TABLAS!$A$921)","v":0},{"$f":"+GETPIVOTDATA(\"BAS037\",TABLAS!$A$921)","v":0},{"$f":"+GETPIVOTDATA(\"BAS038\",TABLAS!$A$921)","v":0},{"$f":"+GETPIVOTDATA(\"BAS039\",TABLAS!$A$921)","v":0},{"$f":"+GETPIVOTDATA(\"BAS040\",TABLAS!$A$921)","v":0},0,0,null,null,36,{"$f":"+AS81+1","v":37},38,39,40,null,"=+IMPORTARDATOSDINAMICOS(\"BAS036\",TABLAS!$A$1011)","=+IMPORTARDATOSDINAMICOS(\"BAS037\",TABLAS!$A$1011)","=+IMPORTARDATOSDINAMICOS(\"BAS038\",TABLAS!$A$1011)","=+IMPORTARDATOSDINAMICOS(\"BAS039\",TABLAS!$A$1011)","=+IMPORTARDATOSDINAMICOS(\"BAS040\",TABLAS!$A$1011)"]
["COLESTEROL LDL  [83721]",null,null,{"$f":"+GETPIVOTDATA(\"BAS041\",TABLAS!$A$230)","v":0},{"$f":"+GETPIVOTDATA(\"BAS042\",TABLAS!$A$230)","v":0},{"$f":"+GETPIVOTDATA(\"BAS043\",TABLAS!$A$230)","v":0},{"$f":"+GETPIVOTDATA(\"BAS044\",TABLAS!$A$230)","v":0},{"$f":"+GETPIVOTDATA(\"BAS045\",TABLAS!$A$230)","v":0},0,{"$f":"+GETPIVOTDATA(\"BAS041\",TABLAS!$A$351)","v":0},{"$f":"+GETPIVOTDATA(\"BAS042\",TABLAS!$A$351)","v":0},{"$f":"+GETPIVOTDATA(\"BAS043\",TABLAS!$A$351)","v":0},{"$f":"+GETPIVOTDATA(\"BAS044\",TABLAS!$A$351)","v":0},{"$f":"+GETPIVOTDATA(\"BAS045\",TABLAS!$A$351)","v":0},0,{"$f":"+GETPIVOTDATA(\"BAS041\",TABLAS!$A$501)","v":0},{"$f":"+GETPIVOTDATA(\"BAS042\",TABLAS!$A$501)","v":0},{"$f":"+GETPIVOTDATA(\"BAS043\",TABLAS!$A$501)","v":0},{"$f":"+GETPIVOTDATA(\"BAS044\",TABLAS!$A$501)","v":0},{"$f":"+GETPIVOTDATA(\"BAS045\",TABLAS!$A$501)","v":0},0,0,null,{"$f":"+GETPIVOTDATA(\"BAS041\",TABLAS!$A$651)","v":0},{"$f":"+GETPIVOTDATA(\"BAS042\",TABLAS!$A$651)","v":0},{"$f":"+GETPIVOTDATA(\"BAS043\",TABLAS!$A$651)","v":0},{"$f":"+GETPIVOTDATA(\"BAS044\",TABLAS!$A$651)","v":0},{"$f":"+GETPIVOTDATA(\"BAS045\",TABLAS!$A$651)","v":0},0,{"$f":"+GETPIVOTDATA(\"BAS041\",TABLAS!$A$771)","v":0},{"$f":"+GETPIVOTDATA(\"BAS042\",TABLAS!$A$771)","v":0},{"$f":"+GETPIVOTDATA(\"BAS043\",TABLAS!$A$771)","v":0},{"$f":"+GETPIVOTDATA(\"BAS044\",TABLAS!$A$771)","v":0},{"$f":"+GETPIVOTDATA(\"BAS045\",TABLAS!$A$771)","v":0},0,{"$f":"+GETPIVOTDATA(\"BAS041\",TABLAS!$A$921)","v":0},{"$f":"+GETPIVOTDATA(\"BAS042\",TABLAS!$A$921)","v":0},{"$f":"+GETPIVOTDATA(\"BAS043\",TABLAS!$A$921)","v":0},{"$f":"+GETPIVOTDATA(\"BAS044\",TABLAS!$A$921)","v":0},{"$f":"+GETPIVOTDATA(\"BAS045\",TABLAS!$A$921)","v":0},0,0,null,null,41,{"$f":"+AS82+1","v":42},43,44,45,null,"=+IMPORTARDATOSDINAMICOS(\"BAS041\",TABLAS!$A$1011)","=+IMPORTARDATOSDINAMICOS(\"BAS042\",TABLAS!$A$1011)","=+IMPORTARDATOSDINAMICOS(\"BAS043\",TABLAS!$A$1011)","=+IMPORTARDATOSDINAMICOS(\"BAS044\",TABLAS!$A$1011)","=+IMPORTARDATOSDINAMICOS(\"BAS045\",TABLAS!$A$1011)"]
["COLESTEROL TOTAL  [82465]",null,null,{"$f":"+GETPIVOTDATA(\"BAS046\",TABLAS!$A$230)","v":0},{"$f":"+GETPIVOTDATA(\"BAS047\",TABLAS!$A$230)","v":0},{"$f":"+GETPIVOTDATA(\"BAS048\",TABLAS!$A$230)","v":0},{"$f":"+GETPIVOTDATA(\"BAS049\",TABLAS!$A$230)","v":0},{"$f":"+GETPIVOTDATA(\"BAS050\",TABLAS!$A$230)","v":0},0,{"$f":"+GETPIVOTDATA(\"BAS046\",TABLAS!$A$351)","v":0},{"$f":"+GETPIVOTDATA(\"BAS047\",TABLAS!$A$351)","v":0},{"$f":"+GETPIVOTDATA(\"BAS048\",TABLAS!$A$351)","v":0},{"$f":"+GETPIVOTDATA(\"BAS049\",TABLAS!$A$351)","v":0},{"$f":"+GETPIVOTDATA(\"BAS050\",TABLAS!$A$351)","v":0},0,{"$f":"+GETPIVOTDATA(\"BAS046\",TABLAS!$A$501)","v":0},{"$f":"+GETPIVOTDATA(\"BAS047\",TABLAS!$A$501)","v":0},{"$f":"+GETPIVOTDATA(\"BAS048\",TABLAS!$A$501)","v":0},{"$f":"+GETPIVOTDATA(\"BAS049\",TABLAS!$A$501)","v":0},{"$f":"+GETPIVOTDATA(\"BAS050\",TABLAS!$A$501)","v":0},0,0,null,{"$f":"+GETPIVOTDATA(\"BAS046\",TABLAS!$A$651)","v":0},{"$f":"+GETPIVOTDATA(\"BAS047\",TABLAS!$A$651)","v":0},{"$f":"+GETPIVOTDATA(\"BAS048\",TABLAS!$A$651)","v":0},{"$f":"+GETPIVOTDATA(\"BAS049\",TABLAS!$A$651)","v":0},{"$f":"+GETPIVOTDATA(\"BAS050\",TABLAS!$A$651)","v":0},0,{"$f":"+GETPIVOTDATA(\"BAS046\",TABLAS!$A$771)","v":0},{"$f":"+GETPIVOTDATA(\"BAS047\",TABLAS!$A$771)","v":0},{"$f":"+GETPIVOTDATA(\"BAS048\",TABLAS!$A$771)","v":0},{"$f":"+GETPIVOTDATA(\"BAS049\",TABLAS!$A$771)","v":0},{"$f":"+GETPIVOTDATA(\"BAS050\",TABLAS!$A$771)","v":0},0,{"$f":"+GETPIVOTDATA(\"BAS046\",TABLAS!$A$921)","v":0},{"$f":"+GETPIVOTDATA(\"BAS047\",TABLAS!$A$921)","v":0},{"$f":"+GETPIVOTDATA(\"BAS048\",TABLAS!$A$921)","v":0},{"$f":"+GETPIVOTDATA(\"BAS049\",TABLAS!$A$921)","v":0},{"$f":"+GETPIVOTDATA(\"BAS050\",TABLAS!$A$921)","v":0},0,0,null,null,46,{"$f":"+AS83+1","v":47},48,49,50,null,"=+IMPORTARDATOSDINAMICOS(\"BAS046\",TABLAS!$A$1011)","=+IMPORTARDATOSDINAMICOS(\"BAS047\",TABLAS!$A$1011)","=+IMPORTARDATOSDINAMICOS(\"BAS048\",TABLAS!$A$1011)","=+IMPORTARDATOSDINAMICOS(\"BAS049\",TABLAS!$A$1011)","=+IMPORTARDATOSDINAMICOS(\"BAS050\",TABLAS!$A$1011)"]
["CPK MB  [82553]",null,null,{"$f":"+GETPIVOTDATA(\"BAS051\",TABLAS!$A$230)","v":0},{"$f":"+GETPIVOTDATA(\"BAS052\",TABLAS!$A$230)","v":0},{"$f":"+GETPIVOTDATA(\"BAS053\",TABLAS!$A$230)","v":0},{"$f":"+GETPIVOTDATA(\"BAS054\",TABLAS!$A$230)","v":0},{"$f":"+GETPIVOTDATA(\"BAS055\",TABLAS!$A$230)","v":0},0,{"$f":"+GETPIVOTDATA(\"BAS051\",TABLAS!$A$351)","v":0},{"$f":"+GETPIVOTDATA(\"BAS052\",TABLAS!$A$351)","v":0},{"$f":"+GETPIVOTDATA(\"BAS053\",TABLAS!$A$351)","v":0},{"$f":"+GETPIVOTDATA(\"BAS054\",TABLAS!$A$351)","v":0},{"$f":"+GETPIVOTDATA(\"BAS055\",TABLAS!$A$351)","v":0},0,{"$f":"+GETPIVOTDATA(\"BAS051\",TABLAS!$A$501)","v":0},{"$f":"+GETPIVOTDATA(\"BAS052\",TABLAS!$A$501)","v":0},{"$f":"+GETPIVOTDATA(\"BAS053\",TABLAS!$A$501)","v":0},{"$f":"+GETPIVOTDATA(\"BAS054\",TABLAS!$A$501)","v":0},{"$f":"+GETPIVOTDATA(\"BAS055\",TABLAS!$A$501)","v":0},0,0,null,{"$f":"+GETPIVOTDATA(\"BAS051\",TABLAS!$A$651)","v":0},{"$f":"+GETPIVOTDATA(\"BAS052\",TABLAS!$A$651)","v":0},{"$f":"+GETPIVOTDATA(\"BAS053\",TABLAS!$A$651)","v":0},{"$f":"+GETPIVOTDATA(\"BAS054\",TABLAS!$A$651)","v":0},{"$f":"+GETPIVOTDATA(\"BAS055\",TABLAS!$A$651)","v":0},0,{"$f":"+GETPIVOTDATA(\"BAS051\",TABLAS!$A$771)","v":0},{"$f":"+GETPIVOTDATA(\"BAS052\",TABLAS!$A$771)","v":0},{"$f":"+GETPIVOTDATA(\"BAS053\",TABLAS!$A$771)","v":0},{"$f":"+GETPIVOTDATA(\"BAS054\",TABLAS!$A$771)","v":0},{"$f":"+GETPIVOTDATA(\"BAS055\",TABLAS!$A$771)","v":0},0,{"$f":"+GETPIVOTDATA(\"BAS051\",TABLAS!$A$921)","v":0},{"$f":"+GETPIVOTDATA(\"BAS052\",TABLAS!$A$921)","v":0},{"$f":"+GETPIVOTDATA(\"BAS053\",TABLAS!$A$921)","v":0},{"$f":"+GETPIVOTDATA(\"BAS054\",TABLAS!$A$921)","v":0},{"$f":"+GETPIVOTDATA(\"BAS055\",TABLAS!$A$921)","v":0},0,0,null,null,51,{"$f":"+AS84+1","v":52},53,54,55,null,"=+IMPORTARDATOSDINAMICOS(\"BAS051\",TABLAS!$A$1011)","=+IMPORTARDATOSDINAMICOS(\"BAS052\",TABLAS!$A$1011)","=+IMPORTARDATOSDINAMICOS(\"BAS053\",TABLAS!$A$1011)","=+IMPORTARDATOSDINAMICOS(\"BAS054\",TABLAS!$A$1011)","=+IMPORTARDATOSDINAMICOS(\"BAS055\",TABLAS!$A$1011)"]
["CREATINFOSFOKINASA TOTAL [82550]",null,null,{"$f":"+GETPIVOTDATA(\"BAS056\",TABLAS!$A$230)","v":0},{"$f":"+GETPIVOTDATA(\"BAS057\",TABLAS!$A$230)","v":0},{"$f":"+GETPIVOTDATA(\"BAS058\",TABLAS!$A$230)","v":0},{"$f":"+GETPIVOTDATA(\"BAS059\",TABLAS!$A$230)","v":0},{"$f":"+GETPIVOTDATA(\"BAS060\",TABLAS!$A$230)","v":0},0,{"$f":"+GETPIVOTDATA(\"BAS056\",TABLAS!$A$351)","v":0},{"$f":"+GETPIVOTDATA(\"BAS057\",TABLAS!$A$351)","v":0},{"$f":"+GETPIVOTDATA(\"BAS058\",TABLAS!$A$351)","v":0},{"$f":"+GETPIVOTDATA(\"BAS059\",TABLAS!$A$351)","v":0},{"$f":"+GETPIVOTDATA(\"BAS060\",TABLAS!$A$351)","v":0},0,{"$f":"+GETPIVOTDATA(\"BAS056\",TABLAS!$A$501)","v":0},{"$f":"+GETPIVOTDATA(\"BAS057\",TABLAS!$A$501)","v":0},{"$f":"+GETPIVOTDATA(\"BAS058\",TABLAS!$A$501)","v":0},{"$f":"+GETPIVOTDATA(\"BAS059\",TABLAS!$A$501)","v":0},{"$f":"+GETPIVOTDATA(\"BAS060\",TABLAS!$A$501)","v":0},0,0,null,{"$f":"+GETPIVOTDATA(\"BAS056\",TABLAS!$A$651)","v":0},{"$f":"+GETPIVOTDATA(\"BAS057\",TABLAS!$A$651)","v":0},{"$f":"+GETPIVOTDATA(\"BAS058\",TABLAS!$A$651)","v":0},{"$f":"+GETPIVOTDATA(\"BAS059\",TABLAS!$A$651)","v":0},{"$f":"+GETPIVOTDATA(\"BAS060\",TABLAS!$A$651)","v":0},0,{"$f":"+GETPIVOTDATA(\"BAS056\",TABLAS!$A$771)","v":0},{"$f":"+GETPIVOTDATA(\"BAS057\",TABLAS!$A$771)","v":0},{"$f":"+GETPIVOTDATA(\"BAS058\",TABLAS!$A$771)","v":0},{"$f":"+GETPIVOTDATA(\"BAS059\",TABLAS!$A$771)","v":0},{"$f":"+GETPIVOTDATA(\"BAS060\",TABLAS!$A$771)","v":0},0,{"$f":"+GETPIVOTDATA(\"BAS056\",TABLAS!$A$921)","v":0},{"$f":"+GETPIVOTDATA(\"BAS057\",TABLAS!$A$921)","v":0},{"$f":"+GETPIVOTDATA(\"BAS058\",TABLAS!$A$921)","v":0},{"$f":"+GETPIVOTDATA(\"BAS059\",TABLAS!$A$921)","v":0},{"$f":"+GETPIVOTDATA(\"BAS060\",TABLAS!$A$921)","v":0},0,0,null,null,56,{"$f":"+AS85+1","v":57},58,59,60,null,"=+IMPORTARDATOSDINAMICOS(\"BAS056\",TABLAS!$A$1011)","=+IMPORTARDATOSDINAMICOS(\"BAS057\",TABLAS!$A$1011)","=+IMPORTARDATOSDINAMICOS(\"BAS058\",TABLAS!$A$1011)","=+IMPORTARDATOSDINAMICOS(\"BAS059\",TABLAS!$A$1011)","=+IMPORTARDATOSDINAMICOS(\"BAS060\",TABLAS!$A$1011)"]
["CREATININA  [82565]",null,null,{"$f":"+GETPIVOTDATA(\"BAS061\",TABLAS!$A$230)","v":0},{"$f":"+GETPIVOTDATA(\"BAS062\",TABLAS!$A$230)","v":0},{"$f":"+GETPIVOTDATA(\"BAS063\",TABLAS!$A$230)","v":0},{"$f":"+GETPIVOTDATA(\"BAS064\",TABLAS!$A$230)","v":0},{"$f":"+GETPIVOTDATA(\"BAS065\",TABLAS!$A$230)","v":0},0,{"$f":"+GETPIVOTDATA(\"BAS061\",TABLAS!$A$351)","v":0},{"$f":"+GETPIVOTDATA(\"BAS062\",TABLAS!$A$351)","v":0},{"$f":"+GETPIVOTDATA(\"BAS063\",TABLAS!$A$351)","v":0},{"$f":"+GETPIVOTDATA(\"BAS064\",TABLAS!$A$351)","v":0},{"$f":"+GETPIVOTDATA(\"BAS065\",TABLAS!$A$351)","v":0},0,{"$f":"+GETPIVOTDATA(\"BAS061\",TABLAS!$A$501)","v":0},{"$f":"+GETPIVOTDATA(\"BAS062\",TABLAS!$A$501)","v":0},{"$f":"+GETPIVOTDATA(\"BAS063\",TABLAS!$A$501)","v":0},{"$f":"+GETPIVOTDATA(\"BAS064\",TABLAS!$A$501)","v":0},{"$f":"+GETPIVOTDATA(\"BAS065\",TABLAS!$A$501)","v":0},0,0,null,{"$f":"+GETPIVOTDATA(\"BAS061\",TABLAS!$A$651)","v":0},{"$f":"+GETPIVOTDATA(\"BAS062\",TABLAS!$A$651)","v":0},{"$f":"+GETPIVOTDATA(\"BAS063\",TABLAS!$A$651)","v":0},{"$f":"+GETPIVOTDATA(\"BAS064\",TABLAS!$A$651)","v":0},{"$f":"+GETPIVOTDATA(\"BAS065\",TABLAS!$A$651)","v":0},0,{"$f":"+GETPIVOTDATA(\"BAS061\",TABLAS!$A$771)","v":0},{"$f":"+GETPIVOTDATA(\"BAS062\",TABLAS!$A$771)","v":0},{"$f":"+GETPIVOTDATA(\"BAS063\",TABLAS!$A$771)","v":0},{"$f":"+GETPIVOTDATA(\"BAS064\",TABLAS!$A$771)","v":0},{"$f":"+GETPIVOTDATA(\"BAS065\",TABLAS!$A$771)","v":0},0,{"$f":"+GETPIVOTDATA(\"BAS061\",TABLAS!$A$921)","v":0},{"$f":"+GETPIVOTDATA(\"BAS062\",TABLAS!$A$921)","v":0},{"$f":"+GETPIVOTDATA(\"BAS063\",TABLAS!$A$921)","v":0},{"$f":"+GETPIVOTDATA(\"BAS064\",TABLAS!$A$921)","v":0},{"$f":"+GETPIVOTDATA(\"BAS065\",TABLAS!$A$921)","v":0},0,0,null,null,61,{"$f":"+AS86+1","v":62},63,64,65,null,"=+IMPORTARDATOSDINAMICOS(\"BAS061\",TABLAS!$A$1011)","=+IMPORTARDATOSDINAMICOS(\"BAS062\",TABLAS!$A$1011)","=+IMPORTARDATOSDINAMICOS(\"BAS063\",TABLAS!$A$1011)","=+IMPORTARDATOSDINAMICOS(\"BAS064\",TABLAS!$A$1011)","=+IMPORTARDATOSDINAMICOS(\"BAS065\",TABLAS!$A$1011)"]
["DEPURACION DE CREATININA  [82575]",null,null,{"$f":"+GETPIVOTDATA(\"BAS066\",TABLAS!$A$230)","v":0},{"$f":"+GETPIVOTDATA(\"BAS067\",TABLAS!$A$230)","v":0},{"$f":"+GETPIVOTDATA(\"BAS068\",TABLAS!$A$230)","v":0},{"$f":"+GETPIVOTDATA(\"BAS069\",TABLAS!$A$230)","v":0},{"$f":"+GETPIVOTDATA(\"BAS070\",TABLAS!$A$230)","v":0},0,{"$f":"+GETPIVOTDATA(\"BAS066\",TABLAS!$A$351)","v":0},{"$f":"+GETPIVOTDATA(\"BAS067\",TABLAS!$A$351)","v":0},{"$f":"+GETPIVOTDATA(\"BAS068\",TABLAS!$A$351)","v":0},{"$f":"+GETPIVOTDATA(\"BAS069\",TABLAS!$A$351)","v":0},{"$f":"+GETPIVOTDATA(\"BAS070\",TABLAS!$A$351)","v":0},0,{"$f":"+GETPIVOTDATA(\"BAS066\",TABLAS!$A$501)","v":0},{"$f":"+GETPIVOTDATA(\"BAS067\",TABLAS!$A$501)","v":0},{"$f":"+GETPIVOTDATA(\"BAS068\",TABLAS!$A$501)","v":0},{"$f":"+GETPIVOTDATA(\"BAS069\",TABLAS!$A$501)","v":0},{"$f":"+GETPIVOTDATA(\"BAS070\",TABLAS!$A$501)","v":0},0,0,null,{"$f":"+GETPIVOTDATA(\"BAS066\",TABLAS!$A$651)","v":0},{"$f":"+GETPIVOTDATA(\"BAS067\",TABLAS!$A$651)","v":0},{"$f":"+GETPIVOTDATA(\"BAS068\",TABLAS!$A$651)","v":0},{"$f":"+GETPIVOTDATA(\"BAS069\",TABLAS!$A$651)","v":0},{"$f":"+GETPIVOTDATA(\"BAS070\",TABLAS!$A$651)","v":0},0,{"$f":"+GETPIVOTDATA(\"BAS066\",TABLAS!$A$771)","v":0},{"$f":"+GETPIVOTDATA(\"BAS067\",TABLAS!$A$771)","v":0},{"$f":"+GETPIVOTDATA(\"BAS068\",TABLAS!$A$771)","v":0},{"$f":"+GETPIVOTDATA(\"BAS069\",TABLAS!$A$771)","v":0},{"$f":"+GETPIVOTDATA(\"BAS070\",TABLAS!$A$771)","v":0},0,{"$f":"+GETPIVOTDATA(\"BAS066\",TABLAS!$A$921)","v":0},{"$f":"+GETPIVOTDATA(\"BAS067\",TABLAS!$A$921)","v":0},{"$f":"+GETPIVOTDATA(\"BAS068\",TABLAS!$A$921)","v":0},{"$f":"+GETPIVOTDATA(\"BAS069\",TABLAS!$A$921)","v":0},{"$f":"+GETPIVOTDATA(\"BAS070\",TABLAS!$A$921)","v":0},0,0,null,null,66,{"$f":"+AS87+1","v":67},68,69,70,null,"=+IMPORTARDATOSDINAMICOS(\"BAS066\",TABLAS!$A$1011)","=+IMPORTARDATOSDINAMICOS(\"BAS067\",TABLAS!$A$1011)","=+IMPORTARDATOSDINAMICOS(\"BAS068\",TABLAS!$A$1011)","=+IMPORTARDATOSDINAMICOS(\"BAS069\",TABLAS!$A$1011)","=+IMPORTARDATOSDINAMICOS(\"BAS070\",TABLAS!$A$1011)"]
["DESHIDROGENASA LACTICA  [83615]",null,null,{"$f":"+GETPIVOTDATA(\"BAS071\",TABLAS!$A$230)","v":0},{"$f":"+GETPIVOTDATA(\"BAS072\",TABLAS!$A$230)","v":0},{"$f":"+GETPIVOTDATA(\"BAS073\",TABLAS!$A$230)","v":0},{"$f":"+GETPIVOTDATA(\"BAS074\",TABLAS!$A$230)","v":0},{"$f":"+GETPIVOTDATA(\"BAS075\",TABLAS!$A$230)","v":0},0,{"$f":"+GETPIVOTDATA(\"BAS071\",TABLAS!$A$351)","v":0},{"$f":"+GETPIVOTDATA(\"BAS072\",TABLAS!$A$351)","v":0},{"$f":"+GETPIVOTDATA(\"BAS073\",TABLAS!$A$351)","v":0},{"$f":"+GETPIVOTDATA(\"BAS074\",TABLAS!$A$351)","v":0},{"$f":"+GETPIVOTDATA(\"BAS075\",TABLAS!$A$351)","v":0},0,{"$f":"+GETPIVOTDATA(\"BAS071\",TABLAS!$A$501)","v":0},{"$f":"+GETPIVOTDATA(\"BAS072\",TABLAS!$A$501)","v":0},{"$f":"+GETPIVOTDATA(\"BAS073\",TABLAS!$A$501)","v":0},{"$f":"+GETPIVOTDATA(\"BAS074\",TABLAS!$A$501)","v":0},{"$f":"+GETPIVOTDATA(\"BAS075\",TABLAS!$A$501)","v":0},0,0,null,{"$f":"+GETPIVOTDATA(\"BAS071\",TABLAS!$A$651)","v":0},{"$f":"+GETPIVOTDATA(\"BAS072\",TABLAS!$A$651)","v":0},{"$f":"+GETPIVOTDATA(\"BAS073\",TABLAS!$A$651)","v":0},{"$f":"+GETPIVOTDATA(\"BAS074\",TABLAS!$A$651)","v":0},{"$f":"+GETPIVOTDATA(\"BAS075\",TABLAS!$A$651)","v":0},0,{"$f":"+GETPIVOTDATA(\"BAS071\",TABLAS!$A$771)","v":0},{"$f":"+GETPIVOTDATA(\"BAS072\",TABLAS!$A$771)","v":0},{"$f":"+GETPIVOTDATA(\"BAS073\",TABLAS!$A$771)","v":0},{"$f":"+GETPIVOTDATA(\"BAS074\",TABLAS!$A$771)","v":0},{"$f":"+GETPIVOTDATA(\"BAS075\",TABLAS!$A$771)","v":0},0,{"$f":"+GETPIVOTDATA(\"BAS071\",TABLAS!$A$921)","v":0},{"$f":"+GETPIVOTDATA(\"BAS072\",TABLAS!$A$921)","v":0},{"$f":"+GETPIVOTDATA(\"BAS073\",TABLAS!$A$921)","v":0},{"$f":"+GETPIVOTDATA(\"BAS074\",TABLAS!$A$921)","v":0},{"$f":"+GETPIVOTDATA(\"BAS075\",TABLAS!$A$921)","v":0},0,0,null,null,71,{"$f":"+AS88+1","v":72},73,74,75,null,"=+IMPORTARDATOSDINAMICOS(\"BAS071\",TABLAS!$A$1011)","=+IMPORTARDATOSDINAMICOS(\"BAS072\",TABLAS!$A$1011)","=+IMPORTARDATOSDINAMICOS(\"BAS073\",TABLAS!$A$1011)","=+IMPORTARDATOSDINAMICOS(\"BAS074\",TABLAS!$A$1011)","=+IMPORTARDATOSDINAMICOS(\"BAS075\",TABLAS!$A$1011)"]
["DOSAJE DE ACIDO LACTICO (83605)",null,null,{"$f":"+GETPIVOTDATA(\"BAS076\",TABLAS!$A$230)","v":0},{"$f":"+GETPIVOTDATA(\"BAS077\",TABLAS!$A$230)","v":0},{"$f":"+GETPIVOTDATA(\"BAS078\",TABLAS!$A$230)","v":0},{"$f":"+GETPIVOTDATA(\"BAS079\",TABLAS!$A$230)","v":0},{"$f":"+GETPIVOTDATA(\"BAS080\",TABLAS!$A$230)","v":0},0,{"$f":"+GETPIVOTDATA(\"BAS076\",TABLAS!$A$351)","v":0},{"$f":"+GETPIVOTDATA(\"BAS077\",TABLAS!$A$351)","v":0},{"$f":"+GETPIVOTDATA(\"BAS078\",TABLAS!$A$351)","v":0},{"$f":"+GETPIVOTDATA(\"BAS079\",TABLAS!$A$351)","v":0},{"$f":"+GETPIVOTDATA(\"BAS080\",TABLAS!$A$351)","v":0},0,{"$f":"+GETPIVOTDATA(\"BAS076\",TABLAS!$A$501)","v":0},{"$f":"+GETPIVOTDATA(\"BAS077\",TABLAS!$A$501)","v":0},{"$f":"+GETPIVOTDATA(\"BAS078\",TABLAS!$A$501)","v":0},{"$f":"+GETPIVOTDATA(\"BAS079\",TABLAS!$A$501)","v":0},{"$f":"+GETPIVOTDATA(\"BAS080\",TABLAS!$A$501)","v":0},0,0,null,{"$f":"+GETPIVOTDATA(\"BAS076\",TABLAS!$A$651)","v":0},{"$f":"+GETPIVOTDATA(\"BAS077\",TABLAS!$A$651)","v":0},{"$f":"+GETPIVOTDATA(\"BAS078\",TABLAS!$A$651)","v":0},{"$f":"+GETPIVOTDATA(\"BAS079\",TABLAS!$A$651)","v":0},{"$f":"+GETPIVOTDATA(\"BAS080\",TABLAS!$A$651)","v":0},0,{"$f":"+GETPIVOTDATA(\"BAS076\",TABLAS!$A$771)","v":0},{"$f":"+GETPIVOTDATA(\"BAS077\",TABLAS!$A$771)","v":0},{"$f":"+GETPIVOTDATA(\"BAS078\",TABLAS!$A$771)","v":0},{"$f":"+GETPIVOTDATA(\"BAS079\",TABLAS!$A$771)","v":0},{"$f":"+GETPIVOTDATA(\"BAS080\",TABLAS!$A$771)","v":0},0,{"$f":"+GETPIVOTDATA(\"BAS076\",TABLAS!$A$921)","v":0},{"$f":"+GETPIVOTDATA(\"BAS077\",TABLAS!$A$921)","v":0},{"$f":"+GETPIVOTDATA(\"BAS078\",TABLAS!$A$921)","v":0},{"$f":"+GETPIVOTDATA(\"BAS079\",TABLAS!$A$921)","v":0},{"$f":"+GETPIVOTDATA(\"BAS080\",TABLAS!$A$921)","v":0},0,0,null,null,76,{"$f":"+AS89+1","v":77},78,79,80,null,"=+IMPORTARDATOSDINAMICOS(\"BAS076\",TABLAS!$A$1011)","=+IMPORTARDATOSDINAMICOS(\"BAS077\",TABLAS!$A$1011)","=+IMPORTARDATOSDINAMICOS(\"BAS078\",TABLAS!$A$1011)","=+IMPORTARDATOSDINAMICOS(\"BAS079\",TABLAS!$A$1011)","=+IMPORTARDATOSDINAMICOS(\"BAS080\",TABLAS!$A$1011)"]
["ELECTROLITOS  [80051]",null,null,{"$f":"+GETPIVOTDATA(\"BAS081\",TABLAS!$A$230)","v":0},{"$f":"+GETPIVOTDATA(\"BAS082\",TABLAS!$A$230)","v":0},{"$f":"+GETPIVOTDATA(\"BAS083\",TABLAS!$A$230)","v":0},{"$f":"+GETPIVOTDATA(\"BAS084\",TABLAS!$A$230)","v":0},{"$f":"+GETPIVOTDATA(\"BAS085\",TABLAS!$A$230)","v":0},0,{"$f":"+GETPIVOTDATA(\"BAS081\",TABLAS!$A$351)","v":0},{"$f":"+GETPIVOTDATA(\"BAS082\",TABLAS!$A$351)","v":0},{"$f":"+GETPIVOTDATA(\"BAS083\",TABLAS!$A$351)","v":0},{"$f":"+GETPIVOTDATA(\"BAS084\",TABLAS!$A$351)","v":0},{"$f":"+GETPIVOTDATA(\"BAS085\",TABLAS!$A$351)","v":0},0,{"$f":"+GETPIVOTDATA(\"BAS081\",TABLAS!$A$501)","v":0},{"$f":"+GETPIVOTDATA(\"BAS082\",TABLAS!$A$501)","v":0},{"$f":"+GETPIVOTDATA(\"BAS083\",TABLAS!$A$501)","v":0},{"$f":"+GETPIVOTDATA(\"BAS084\",TABLAS!$A$501)","v":0},{"$f":"+GETPIVOTDATA(\"BAS085\",TABLAS!$A$501)","v":0},0,0,null,{"$f":"+GETPIVOTDATA(\"BAS081\",TABLAS!$A$651)","v":0},{"$f":"+GETPIVOTDATA(\"BAS082\",TABLAS!$A$651)","v":0},{"$f":"+GETPIVOTDATA(\"BAS083\",TABLAS!$A$651)","v":0},{"$f":"+GETPIVOTDATA(\"BAS084\",TABLAS!$A$651)","v":0},{"$f":"+GETPIVOTDATA(\"BAS085\",TABLAS!$A$651)","v":0},0,{"$f":"+GETPIVOTDATA(\"BAS081\",TABLAS!$A$771)","v":0},{"$f":"+GETPIVOTDATA(\"BAS082\",TABLAS!$A$771)","v":0},{"$f":"+GETPIVOTDATA(\"BAS083\",TABLAS!$A$771)","v":0},{"$f":"+GETPIVOTDATA(\"BAS084\",TABLAS!$A$771)","v":0},{"$f":"+GETPIVOTDATA(\"BAS085\",TABLAS!$A$771)","v":0},0,{"$f":"+GETPIVOTDATA(\"BAS081\",TABLAS!$A$921)","v":0},{"$f":"+GETPIVOTDATA(\"BAS082\",TABLAS!$A$921)","v":0},{"$f":"+GETPIVOTDATA(\"BAS083\",TABLAS!$A$921)","v":0},{"$f":"+GETPIVOTDATA(\"BAS084\",TABLAS!$A$921)","v":0},{"$f":"+GETPIVOTDATA(\"BAS085\",TABLAS!$A$921)","v":0},0,0,null,null,81,{"$f":"+AS90+1","v":82},83,84,85,null,"=+IMPORTARDATOSDINAMICOS(\"BAS081\",TABLAS!$A$1011)","=+IMPORTARDATOSDINAMICOS(\"BAS082\",TABLAS!$A$1011)","=+IMPORTARDATOSDINAMICOS(\"BAS083\",TABLAS!$A$1011)","=+IMPORTARDATOSDINAMICOS(\"BAS084\",TABLAS!$A$1011)","=+IMPORTARDATOSDINAMICOS(\"BAS085\",TABLAS!$A$1011)"]
["FOSFATA ALCALINA  [84075]",null,null,{"$f":"+GETPIVOTDATA(\"BAS086\",TABLAS!$A$230)","v":0},{"$f":"+GETPIVOTDATA(\"BAS087\",TABLAS!$A$230)","v":0},{"$f":"+GETPIVOTDATA(\"BAS088\",TABLAS!$A$230)","v":0},{"$f":"+GETPIVOTDATA(\"BAS089\",TABLAS!$A$230)","v":0},{"$f":"+GETPIVOTDATA(\"BAS090\",TABLAS!$A$230)","v":0},0,{"$f":"+GETPIVOTDATA(\"BAS086\",TABLAS!$A$351)","v":0},{"$f":"+GETPIVOTDATA(\"BAS087\",TABLAS!$A$351)","v":0},{"$f":"+GETPIVOTDATA(\"BAS088\",TABLAS!$A$351)","v":0},{"$f":"+GETPIVOTDATA(\"BAS089\",TABLAS!$A$351)","v":0},{"$f":"+GETPIVOTDATA(\"BAS090\",TABLAS!$A$351)","v":0},0,{"$f":"+GETPIVOTDATA(\"BAS086\",TABLAS!$A$501)","v":0},{"$f":"+GETPIVOTDATA(\"BAS087\",TABLAS!$A$501)","v":0},{"$f":"+GETPIVOTDATA(\"BAS088\",TABLAS!$A$501)","v":0},{"$f":"+GETPIVOTDATA(\"BAS089\",TABLAS!$A$501)","v":0},{"$f":"+GETPIVOTDATA(\"BAS090\",TABLAS!$A$501)","v":0},0,0,null,{"$f":"+GETPIVOTDATA(\"BAS086\",TABLAS!$A$651)","v":0},{"$f":"+GETPIVOTDATA(\"BAS087\",TABLAS!$A$651)","v":0},{"$f":"+GETPIVOTDATA(\"BAS088\",TABLAS!$A$651)","v":0},{"$f":"+GETPIVOTDATA(\"BAS089\",TABLAS!$A$651)","v":0},{"$f":"+GETPIVOTDATA(\"BAS090\",TABLAS!$A$651)","v":0},0,{"$f":"+GETPIVOTDATA(\"BAS086\",TABLAS!$A$771)","v":0},{"$f":"+GETPIVOTDATA(\"BAS087\",TABLAS!$A$771)","v":0},{"$f":"+GETPIVOTDATA(\"BAS088\",TABLAS!$A$771)","v":0},{"$f":"+GETPIVOTDATA(\"BAS089\",TABLAS!$A$771)","v":0},{"$f":"+GETPIVOTDATA(\"BAS090\",TABLAS!$A$771)","v":0},0,{"$f":"+GETPIVOTDATA(\"BAS086\",TABLAS!$A$921)","v":0},{"$f":"+GETPIVOTDATA(\"BAS087\",TABLAS!$A$921)","v":0},{"$f":"+GETPIVOTDATA(\"BAS088\",TABLAS!$A$921)","v":0},{"$f":"+GETPIVOTDATA(\"BAS089\",TABLAS!$A$921)","v":0},{"$f":"+GETPIVOTDATA(\"BAS090\",TABLAS!$A$921)","v":0},0,0,null,null,86,{"$f":"+AS91+1","v":87},88,89,90,null,"=+IMPORTARDATOSDINAMICOS(\"BAS086\",TABLAS!$A$1011)","=+IMPORTARDATOSDINAMICOS(\"BAS087\",TABLAS!$A$1011)","=+IMPORTARDATOSDINAMICOS(\"BAS088\",TABLAS!$A$1011)","=+IMPORTARDATOSDINAMICOS(\"BAS089\",TABLAS!$A$1011)","=+IMPORTARDATOSDINAMICOS(\"BAS090\",TABLAS!$A$1011)"]
["FOSFORO  [84100]",null,null,{"$f":"+GETPIVOTDATA(\"BAS091\",TABLAS!$A$230)","v":0},{"$f":"+GETPIVOTDATA(\"BAS092\",TABLAS!$A$230)","v":0},{"$f":"+GETPIVOTDATA(\"BAS093\",TABLAS!$A$230)","v":0},{"$f":"+GETPIVOTDATA(\"BAS094\",TABLAS!$A$230)","v":0},{"$f":"+GETPIVOTDATA(\"BAS095\",TABLAS!$A$230)","v":0},0,{"$f":"+GETPIVOTDATA(\"BAS091\",TABLAS!$A$351)","v":0},{"$f":"+GETPIVOTDATA(\"BAS092\",TABLAS!$A$351)","v":0},{"$f":"+GETPIVOTDATA(\"BAS093\",TABLAS!$A$351)","v":0},{"$f":"+GETPIVOTDATA(\"BAS094\",TABLAS!$A$351)","v":0},{"$f":"+GETPIVOTDATA(\"BAS095\",TABLAS!$A$351)","v":0},0,{"$f":"+GETPIVOTDATA(\"BAS091\",TABLAS!$A$501)","v":0},{"$f":"+GETPIVOTDATA(\"BAS092\",TABLAS!$A$501)","v":0},{"$f":"+GETPIVOTDATA(\"BAS093\",TABLAS!$A$501)","v":0},{"$f":"+GETPIVOTDATA(\"BAS094\",TABLAS!$A$501)","v":0},{"$f":"+GETPIVOTDATA(\"BAS095\",TABLAS!$A$501)","v":0},0,0,null,{"$f":"+GETPIVOTDATA(\"BAS091\",TABLAS!$A$651)","v":0},{"$f":"+GETPIVOTDATA(\"BAS092\",TABLAS!$A$651)","v":0},{"$f":"+GETPIVOTDATA(\"BAS093\",TABLAS!$A$651)","v":0},{"$f":"+GETPIVOTDATA(\"BAS094\",TABLAS!$A$651)","v":0},{"$f":"+GETPIVOTDATA(\"BAS095\",TABLAS!$A$651)","v":0},0,{"$f":"+GETPIVOTDATA(\"BAS091\",TABLAS!$A$771)","v":0},{"$f":"+GETPIVOTDATA(\"BAS092\",TABLAS!$A$771)","v":0},{"$f":"+GETPIVOTDATA(\"BAS093\",TABLAS!$A$771)","v":0},{"$f":"+GETPIVOTDATA(\"BAS094\",TABLAS!$A$771)","v":0},{"$f":"+GETPIVOTDATA(\"BAS095\",TABLAS!$A$771)","v":0},0,{"$f":"+GETPIVOTDATA(\"BAS091\",TABLAS!$A$921)","v":0},{"$f":"+GETPIVOTDATA(\"BAS092\",TABLAS!$A$921)","v":0},{"$f":"+GETPIVOTDATA(\"BAS093\",TABLAS!$A$921)","v":0},{"$f":"+GETPIVOTDATA(\"BAS094\",TABLAS!$A$921)","v":0},{"$f":"+GETPIVOTDATA(\"BAS095\",TABLAS!$A$921)","v":0},0,0,null,null,91,{"$f":"+AS92+1","v":92},93,94,95,null,"=+IMPORTARDATOSDINAMICOS(\"BAS091\",TABLAS!$A$1011)","=+IMPORTARDATOSDINAMICOS(\"BAS092\",TABLAS!$A$1011)","=+IMPORTARDATOSDINAMICOS(\"BAS093\",TABLAS!$A$1011)","=+IMPORTARDATOSDINAMICOS(\"BAS094\",TABLAS!$A$1011)","=+IMPORTARDATOSDINAMICOS(\"BAS095\",TABLAS!$A$1011)"]
["GAMMA GLUTAMILTRANSFERASA  [82977]",null,null,{"$f":"+GETPIVOTDATA(\"BAS096\",TABLAS!$A$230)","v":0},{"$f":"+GETPIVOTDATA(\"BAS097\",TABLAS!$A$230)","v":0},{"$f":"+GETPIVOTDATA(\"BAS098\",TABLAS!$A$230)","v":0},{"$f":"+GETPIVOTDATA(\"BAS099\",TABLAS!$A$230)","v":0},{"$f":"+GETPIVOTDATA(\"BAS100\",TABLAS!$A$230)","v":0},0,{"$f":"+GETPIVOTDATA(\"BAS096\",TABLAS!$A$351)","v":0},{"$f":"+GETPIVOTDATA(\"BAS097\",TABLAS!$A$351)","v":0},{"$f":"+GETPIVOTDATA(\"BAS098\",TABLAS!$A$351)","v":0},{"$f":"+GETPIVOTDATA(\"BAS099\",TABLAS!$A$351)","v":0},{"$f":"+GETPIVOTDATA(\"BAS100\",TABLAS!$A$351)","v":0},0,{"$f":"+GETPIVOTDATA(\"BAS096\",TABLAS!$A$501)","v":0},{"$f":"+GETPIVOTDATA(\"BAS097\",TABLAS!$A$501)","v":0},{"$f":"+GETPIVOTDATA(\"BAS098\",TABLAS!$A$501)","v":0},{"$f":"+GETPIVOTDATA(\"BAS099\",TABLAS!$A$501)","v":0},{"$f":"+GETPIVOTDATA(\"BAS100\",TABLAS!$A$501)","v":0},0,0,null,{"$f":"+GETPIVOTDATA(\"BAS096\",TABLAS!$A$651)","v":0},{"$f":"+GETPIVOTDATA(\"BAS097\",TABLAS!$A$651)","v":0},{"$f":"+GETPIVOTDATA(\"BAS098\",TABLAS!$A$651)","v":0},{"$f":"+GETPIVOTDATA(\"BAS099\",TABLAS!$A$651)","v":0},{"$f":"+GETPIVOTDATA(\"BAS100\",TABLAS!$A$651)","v":0},0,{"$f":"+GETPIVOTDATA(\"BAS096\",TABLAS!$A$771)","v":0},{"$f":"+GETPIVOTDATA(\"BAS097\",TABLAS!$A$771)","v":0},{"$f":"+GETPIVOTDATA(\"BAS098\",TABLAS!$A$771)","v":0},{"$f":"+GETPIVOTDATA(\"BAS099\",TABLAS!$A$771)","v":0},{"$f":"+GETPIVOTDATA(\"BAS100\",TABLAS!$A$771)","v":0},0,{"$f":"+GETPIVOTDATA(\"BAS096\",TABLAS!$A$921)","v":0},{"$f":"+GETPIVOTDATA(\"BAS097\",TABLAS!$A$921)","v":0},{"$f":"+GETPIVOTDATA(\"BAS098\",TABLAS!$A$921)","v":0},{"$f":"+GETPIVOTDATA(\"BAS099\",TABLAS!$A$921)","v":0},{"$f":"+GETPIVOTDATA(\"BAS100\",TABLAS!$A$921)","v":0},0,0,null,null,96,{"$f":"+AS93+1","v":97},98,99,100,null,"=+IMPORTARDATOSDINAMICOS(\"BAS096\",TABLAS!$A$1011)","=+IMPORTARDATOSDINAMICOS(\"BAS097\",TABLAS!$A$1011)","=+IMPORTARDATOSDINAMICOS(\"BAS098\",TABLAS!$A$1011)","=+IMPORTARDATOSDINAMICOS(\"BAS099\",TABLAS!$A$1011)","=+IMPORTARDATOSDINAMICOS(\"BAS100\",TABLAS!$A$1011)"]
["GLUCOSA  [82947]",null,null,{"$f":"+GETPIVOTDATA(\"BAS101\",TABLAS!$A$230)","v":0},{"$f":"+GETPIVOTDATA(\"BAS102\",TABLAS!$A$230)","v":0},{"$f":"+GETPIVOTDATA(\"BAS103\",TABLAS!$A$230)","v":0},{"$f":"+GETPIVOTDATA(\"BAS104\",TABLAS!$A$230)","v":0},{"$f":"+GETPIVOTDATA(\"BAS105\",TABLAS!$A$230)","v":0},0,{"$f":"+GETPIVOTDATA(\"BAS101\",TABLAS!$A$351)","v":0},{"$f":"+GETPIVOTDATA(\"BAS102\",TABLAS!$A$351)","v":0},{"$f":"+GETPIVOTDATA(\"BAS103\",TABLAS!$A$351)","v":0},{"$f":"+GETPIVOTDATA(\"BAS104\",TABLAS!$A$351)","v":0},{"$f":"+GETPIVOTDATA(\"BAS105\",TABLAS!$A$351)","v":0},0,{"$f":"+GETPIVOTDATA(\"BAS101\",TABLAS!$A$501)","v":0},{"$f":"+GETPIVOTDATA(\"BAS102\",TABLAS!$A$501)","v":0},{"$f":"+GETPIVOTDATA(\"BAS103\",TABLAS!$A$501)","v":0},{"$f":"+GETPIVOTDATA(\"BAS104\",TABLAS!$A$501)","v":0},{"$f":"+GETPIVOTDATA(\"BAS105\",TABLAS!$A$501)","v":0},0,0,null,{"$f":"+GETPIVOTDATA(\"BAS101\",TABLAS!$A$651)","v":0},{"$f":"+GETPIVOTDATA(\"BAS102\",TABLAS!$A$651)","v":0},{"$f":"+GETPIVOTDATA(\"BAS103\",TABLAS!$A$651)","v":0},{"$f":"+GETPIVOTDATA(\"BAS104\",TABLAS!$A$651)","v":0},{"$f":"+GETPIVOTDATA(\"BAS105\",TABLAS!$A$651)","v":0},0,{"$f":"+GETPIVOTDATA(\"BAS101\",TABLAS!$A$771)","v":0},{"$f":"+GETPIVOTDATA(\"BAS102\",TABLAS!$A$771)","v":0},{"$f":"+GETPIVOTDATA(\"BAS103\",TABLAS!$A$771)","v":0},{"$f":"+GETPIVOTDATA(\"BAS104\",TABLAS!$A$771)","v":0},{"$f":"+GETPIVOTDATA(\"BAS105\",TABLAS!$A$771)","v":0},0,{"$f":"+GETPIVOTDATA(\"BAS101\",TABLAS!$A$921)","v":0},{"$f":"+GETPIVOTDATA(\"BAS102\",TABLAS!$A$921)","v":0},{"$f":"+GETPIVOTDATA(\"BAS103\",TABLAS!$A$921)","v":0},{"$f":"+GETPIVOTDATA(\"BAS104\",TABLAS!$A$921)","v":0},{"$f":"+GETPIVOTDATA(\"BAS105\",TABLAS!$A$921)","v":0},0,0,null,null,101,{"$f":"+AS94+1","v":102},103,104,105,null,"=+IMPORTARDATOSDINAMICOS(\"BAS101\",TABLAS!$A$1011)","=+IMPORTARDATOSDINAMICOS(\"BAS102\",TABLAS!$A$1011)","=+IMPORTARDATOSDINAMICOS(\"BAS103\",TABLAS!$A$1011)","=+IMPORTARDATOSDINAMICOS(\"BAS104\",TABLAS!$A$1011)","=+IMPORTARDATOSDINAMICOS(\"BAS105\",TABLAS!$A$1011)"]
["GLUCOSA EN CINTA/GLUCOMETRO  [82948]",null,null,{"$f":"+GETPIVOTDATA(\"BAS106\",TABLAS!$A$230)","v":0},{"$f":"+GETPIVOTDATA(\"BAS107\",TABLAS!$A$230)","v":0},{"$f":"+GETPIVOTDATA(\"BAS108\",TABLAS!$A$230)","v":0},{"$f":"+GETPIVOTDATA(\"BAS109\",TABLAS!$A$230)","v":0},{"$f":"+GETPIVOTDATA(\"BAS110\",TABLAS!$A$230)","v":0},0,{"$f":"+GETPIVOTDATA(\"BAS106\",TABLAS!$A$351)","v":0},{"$f":"+GETPIVOTDATA(\"BAS107\",TABLAS!$A$351)","v":0},{"$f":"+GETPIVOTDATA(\"BAS108\",TABLAS!$A$351)","v":0},{"$f":"+GETPIVOTDATA(\"BAS109\",TABLAS!$A$351)","v":0},{"$f":"+GETPIVOTDATA(\"BAS110\",TABLAS!$A$351)","v":0},0,{"$f":"+GETPIVOTDATA(\"BAS106\",TABLAS!$A$501)","v":0},{"$f":"+GETPIVOTDATA(\"BAS107\",TABLAS!$A$501)","v":0},{"$f":"+GETPIVOTDATA(\"BAS108\",TABLAS!$A$501)","v":0},{"$f":"+GETPIVOTDATA(\"BAS109\",TABLAS!$A$501)","v":0},{"$f":"+GETPIVOTDATA(\"BAS110\",TABLAS!$A$501)","v":0},0,0,null,{"$f":"+GETPIVOTDATA(\"BAS106\",TABLAS!$A$651)","v":0},{"$f":"+GETPIVOTDATA(\"BAS107\",TABLAS!$A$651)","v":0},{"$f":"+GETPIVOTDATA(\"BAS108\",TABLAS!$A$651)","v":0},{"$f":"+GETPIVOTDATA(\"BAS109\",TABLAS!$A$651)","v":0},{"$f":"+GETPIVOTDATA(\"BAS110\",TABLAS!$A$651)","v":0},0,{"$f":"+GETPIVOTDATA(\"BAS106\",TABLAS!$A$771)","v":0},{"$f":"+GETPIVOTDATA(\"BAS107\",TABLAS!$A$771)","v":0},{"$f":"+GETPIVOTDATA(\"BAS108\",TABLAS!$A$771)","v":0},{"$f":"+GETPIVOTDATA(\"BAS109\",TABLAS!$A$771)","v":0},{"$f":"+GETPIVOTDATA(\"BAS110\",TABLAS!$A$771)","v":0},0,{"$f":"+GETPIVOTDATA(\"BAS106\",TABLAS!$A$921)","v":0},{"$f":"+GETPIVOTDATA(\"BAS107\",TABLAS!$A$921)","v":0},{"$f":"+GETPIVOTDATA(\"BAS108\",TABLAS!$A$921)","v":0},{"$f":"+GETPIVOTDATA(\"BAS109\",TABLAS!$A$921)","v":0},{"$f":"+GETPIVOTDATA(\"BAS110\",TABLAS!$A$921)","v":0},0,0,null,null,106,{"$f":"+AS95+1","v":107},108,109,110,null,"=+IMPORTARDATOSDINAMICOS(\"BAS106\",TABLAS!$A$1011)","=+IMPORTARDATOSDINAMICOS(\"BAS107\",TABLAS!$A$1011)","=+IMPORTARDATOSDINAMICOS(\"BAS108\",TABLAS!$A$1011)","=+IMPORTARDATOSDINAMICOS(\"BAS109\",TABLAS!$A$1011)","=+IMPORTARDATOSDINAMICOS(\"BAS110\",TABLAS!$A$1011)"]
["GLUCOSA TEST DE TOLERANCIA  [82951]",null,null,{"$f":"+GETPIVOTDATA(\"BAS111\",TABLAS!$A$230)","v":0},{"$f":"+GETPIVOTDATA(\"BAS112\",TABLAS!$A$230)","v":0},{"$f":"+GETPIVOTDATA(\"BAS113\",TABLAS!$A$230)","v":0},{"$f":"+GETPIVOTDATA(\"BAS114\",TABLAS!$A$230)","v":0},{"$f":"+GETPIVOTDATA(\"BAS115\",TABLAS!$A$230)","v":0},0,{"$f":"+GETPIVOTDATA(\"BAS111\",TABLAS!$A$351)","v":0},{"$f":"+GETPIVOTDATA(\"BAS112\",TABLAS!$A$351)","v":0},{"$f":"+GETPIVOTDATA(\"BAS113\",TABLAS!$A$351)","v":0},{"$f":"+GETPIVOTDATA(\"BAS114\",TABLAS!$A$351)","v":0},{"$f":"+GETPIVOTDATA(\"BAS115\",TABLAS!$A$351)","v":0},0,{"$f":"+GETPIVOTDATA(\"BAS111\",TABLAS!$A$501)","v":0},{"$f":"+GETPIVOTDATA(\"BAS112\",TABLAS!$A$501)","v":0},{"$f":"+GETPIVOTDATA(\"BAS113\",TABLAS!$A$501)","v":0},{"$f":"+GETPIVOTDATA(\"BAS114\",TABLAS!$A$501)","v":0},{"$f":"+GETPIVOTDATA(\"BAS115\",TABLAS!$A$501)","v":0},0,0,null,{"$f":"+GETPIVOTDATA(\"BAS111\",TABLAS!$A$651)","v":0},{"$f":"+GETPIVOTDATA(\"BAS112\",TABLAS!$A$651)","v":0},{"$f":"+GETPIVOTDATA(\"BAS113\",TABLAS!$A$651)","v":0},{"$f":"+GETPIVOTDATA(\"BAS114\",TABLAS!$A$651)","v":0},{"$f":"+GETPIVOTDATA(\"BAS115\",TABLAS!$A$651)","v":0},0,{"$f":"+GETPIVOTDATA(\"BAS111\",TABLAS!$A$771)","v":0},{"$f":"+GETPIVOTDATA(\"BAS112\",TABLAS!$A$771)","v":0},{"$f":"+GETPIVOTDATA(\"BAS113\",TABLAS!$A$771)","v":0},{"$f":"+GETPIVOTDATA(\"BAS114\",TABLAS!$A$771)","v":0},{"$f":"+GETPIVOTDATA(\"BAS115\",TABLAS!$A$771)","v":0},0,{"$f":"+GETPIVOTDATA(\"BAS111\",TABLAS!$A$921)","v":0},{"$f":"+GETPIVOTDATA(\"BAS112\",TABLAS!$A$921)","v":0},{"$f":"+GETPIVOTDATA(\"BAS113\",TABLAS!$A$921)","v":0},{"$f":"+GETPIVOTDATA(\"BAS114\",TABLAS!$A$921)","v":0},{"$f":"+GETPIVOTDATA(\"BAS115\",TABLAS!$A$921)","v":0},0,0,null,null,111,{"$f":"+AS96+1","v":112},113,114,115,null,"=+IMPORTARDATOSDINAMICOS(\"BAS111\",TABLAS!$A$1011)","=+IMPORTARDATOSDINAMICOS(\"BAS112\",TABLAS!$A$1011)","=+IMPORTARDATOSDINAMICOS(\"BAS113\",TABLAS!$A$1011)","=+IMPORTARDATOSDINAMICOS(\"BAS114\",TABLAS!$A$1011)","=+IMPORTARDATOSDINAMICOS(\"BAS115\",TABLAS!$A$1011)"]
["HEMOGLOBINA GLICOSILADA  [83036]",null,null,{"$f":"+GETPIVOTDATA(\"BAS116\",TABLAS!$A$230)","v":0},{"$f":"+GETPIVOTDATA(\"BAS117\",TABLAS!$A$230)","v":0},{"$f":"+GETPIVOTDATA(\"BAS118\",TABLAS!$A$230)","v":0},{"$f":"+GETPIVOTDATA(\"BAS119\",TABLAS!$A$230)","v":0},{"$f":"+GETPIVOTDATA(\"BAS120\",TABLAS!$A$230)","v":0},0,{"$f":"+GETPIVOTDATA(\"BAS116\",TABLAS!$A$351)","v":0},{"$f":"+GETPIVOTDATA(\"BAS117\",TABLAS!$A$351)","v":0},{"$f":"+GETPIVOTDATA(\"BAS118\",TABLAS!$A$351)","v":0},{"$f":"+GETPIVOTDATA(\"BAS119\",TABLAS!$A$351)","v":0},{"$f":"+GETPIVOTDATA(\"BAS120\",TABLAS!$A$351)","v":0},0,{"$f":"+GETPIVOTDATA(\"BAS116\",TABLAS!$A$501)","v":0},{"$f":"+GETPIVOTDATA(\"BAS117\",TABLAS!$A$501)","v":0},{"$f":"+GETPIVOTDATA(\"BAS118\",TABLAS!$A$501)","v":0},{"$f":"+GETPIVOTDATA(\"BAS119\",TABLAS!$A$501)","v":0},{"$f":"+GETPIVOTDATA(\"BAS120\",TABLAS!$A$501)","v":0},0,0,null,{"$f":"+GETPIVOTDATA(\"BAS116\",TABLAS!$A$651)","v":0},{"$f":"+GETPIVOTDATA(\"BAS117\",TABLAS!$A$651)","v":0},{"$f":"+GETPIVOTDATA(\"BAS118\",TABLAS!$A$651)","v":0},{"$f":"+GETPIVOTDATA(\"BAS119\",TABLAS!$A$651)","v":0},{"$f":"+GETPIVOTDATA(\"BAS120\",TABLAS!$A$651)","v":0},0,{"$f":"+GETPIVOTDATA(\"BAS116\",TABLAS!$A$771)","v":0},{"$f":"+GETPIVOTDATA(\"BAS117\",TABLAS!$A$771)","v":0},{"$f":"+GETPIVOTDATA(\"BAS118\",TABLAS!$A$771)","v":0},{"$f":"+GETPIVOTDATA(\"BAS119\",TABLAS!$A$771)","v":0},{"$f":"+GETPIVOTDATA(\"BAS120\",TABLAS!$A$771)","v":0},0,{"$f":"+GETPIVOTDATA(\"BAS116\",TABLAS!$A$921)","v":0},{"$f":"+GETPIVOTDATA(\"BAS117\",TABLAS!$A$921)","v":0},{"$f":"+GETPIVOTDATA(\"BAS118\",TABLAS!$A$921)","v":0},{"$f":"+GETPIVOTDATA(\"BAS119\",TABLAS!$A$921)","v":0},{"$f":"+GETPIVOTDATA(\"BAS120\",TABLAS!$A$921)","v":0},0,0,null,null,116,{"$f":"+AS97+1","v":117},118,119,120,null,"=+IMPORTARDATOSDINAMICOS(\"BAS116\",TABLAS!$A$1011)","=+IMPORTARDATOSDINAMICOS(\"BAS117\",TABLAS!$A$1011)","=+IMPORTARDATOSDINAMICOS(\"BAS118\",TABLAS!$A$1011)","=+IMPORTARDATOSDINAMICOS(\"BAS119\",TABLAS!$A$1011)","=+IMPORTARDATOSDINAMICOS(\"BAS120\",TABLAS!$A$1011)"]
["LIPASA  [83690]",null,null,{"$f":"+GETPIVOTDATA(\"BAS121\",TABLAS!$A$230)","v":0},{"$f":"+GETPIVOTDATA(\"BAS122\",TABLAS!$A$230)","v":0},{"$f":"+GETPIVOTDATA(\"BAS123\",TABLAS!$A$230)","v":0},{"$f":"+GETPIVOTDATA(\"BAS124\",TABLAS!$A$230)","v":0},{"$f":"+GETPIVOTDATA(\"BAS125\",TABLAS!$A$230)","v":0},0,{"$f":"+GETPIVOTDATA(\"BAS121\",TABLAS!$A$351)","v":0},{"$f":"+GETPIVOTDATA(\"BAS122\",TABLAS!$A$351)","v":0},{"$f":"+GETPIVOTDATA(\"BAS123\",TABLAS!$A$351)","v":0},{"$f":"+GETPIVOTDATA(\"BAS124\",TABLAS!$A$351)","v":0},{"$f":"+GETPIVOTDATA(\"BAS125\",TABLAS!$A$351)","v":0},0,{"$f":"+GETPIVOTDATA(\"BAS121\",TABLAS!$A$501)","v":0},{"$f":"+GETPIVOTDATA(\"BAS122\",TABLAS!$A$501)","v":0},{"$f":"+GETPIVOTDATA(\"BAS123\",TABLAS!$A$501)","v":0},{"$f":"+GETPIVOTDATA(\"BAS124\",TABLAS!$A$501)","v":0},{"$f":"+GETPIVOTDATA(\"BAS125\",TABLAS!$A$501)","v":0},0,0,null,{"$f":"+GETPIVOTDATA(\"BAS121\",TABLAS!$A$651)","v":0},{"$f":"+GETPIVOTDATA(\"BAS122\",TABLAS!$A$651)","v":0},{"$f":"+GETPIVOTDATA(\"BAS123\",TABLAS!$A$651)","v":0},{"$f":"+GETPIVOTDATA(\"BAS124\",TABLAS!$A$651)","v":0},{"$f":"+GETPIVOTDATA(\"BAS125\",TABLAS!$A$651)","v":0},0,{"$f":"+GETPIVOTDATA(\"BAS121\",TABLAS!$A$771)","v":0},{"$f":"+GETPIVOTDATA(\"BAS122\",TABLAS!$A$771)","v":0},{"$f":"+GETPIVOTDATA(\"BAS123\",TABLAS!$A$771)","v":0},{"$f":"+GETPIVOTDATA(\"BAS124\",TABLAS!$A$771)","v":0},{"$f":"+GETPIVOTDATA(\"BAS125\",TABLAS!$A$771)","v":0},0,{"$f":"+GETPIVOTDATA(\"BAS121\",TABLAS!$A$921)","v":0},{"$f":"+GETPIVOTDATA(\"BAS122\",TABLAS!$A$921)","v":0},{"$f":"+GETPIVOTDATA(\"BAS123\",TABLAS!$A$921)","v":0},{"$f":"+GETPIVOTDATA(\"BAS124\",TABLAS!$A$921)","v":0},{"$f":"+GETPIVOTDATA(\"BAS125\",TABLAS!$A$921)","v":0},0,0,null,null,121,{"$f":"+AS98+1","v":122},123,124,125,null,"=+IMPORTARDATOSDINAMICOS(\"BAS121\",TABLAS!$A$1011)","=+IMPORTARDATOSDINAMICOS(\"BAS122\",TABLAS!$A$1011)","=+IMPORTARDATOSDINAMICOS(\"BAS123\",TABLAS!$A$1011)","=+IMPORTARDATOSDINAMICOS(\"BAS124\",TABLAS!$A$1011)","=+IMPORTARDATOSDINAMICOS(\"BAS125\",TABLAS!$A$1011)"]
["LIQUIDOS  [R0003]",null,null,{"$f":"+GETPIVOTDATA(\"BAS126\",TABLAS!$A$230)","v":0},{"$f":"+GETPIVOTDATA(\"BAS127\",TABLAS!$A$230)","v":0},{"$f":"+GETPIVOTDATA(\"BAS128\",TABLAS!$A$230)","v":0},{"$f":"+GETPIVOTDATA(\"BAS129\",TABLAS!$A$230)","v":0},{"$f":"+GETPIVOTDATA(\"BAS130\",TABLAS!$A$230)","v":0},0,{"$f":"+GETPIVOTDATA(\"BAS126\",TABLAS!$A$351)","v":0},{"$f":"+GETPIVOTDATA(\"BAS127\",TABLAS!$A$351)","v":0},{"$f":"+GETPIVOTDATA(\"BAS128\",TABLAS!$A$351)","v":0},{"$f":"+GETPIVOTDATA(\"BAS129\",TABLAS!$A$351)","v":0},{"$f":"+GETPIVOTDATA(\"BAS130\",TABLAS!$A$351)","v":0},0,{"$f":"+GETPIVOTDATA(\"BAS126\",TABLAS!$A$501)","v":0},{"$f":"+GETPIVOTDATA(\"BAS127\",TABLAS!$A$501)","v":0},{"$f":"+GETPIVOTDATA(\"BAS128\",TABLAS!$A$501)","v":0},{"$f":"+GETPIVOTDATA(\"BAS129\",TABLAS!$A$501)","v":0},{"$f":"+GETPIVOTDATA(\"BAS130\",TABLAS!$A$501)","v":0},0,0,null,{"$f":"+GETPIVOTDATA(\"BAS126\",TABLAS!$A$651)","v":0},{"$f":"+GETPIVOTDATA(\"BAS127\",TABLAS!$A$651)","v":0},{"$f":"+GETPIVOTDATA(\"BAS128\",TABLAS!$A$651)","v":0},{"$f":"+GETPIVOTDATA(\"BAS129\",TABLAS!$A$651)","v":0},{"$f":"+GETPIVOTDATA(\"BAS130\",TABLAS!$A$651)","v":0},0,{"$f":"+GETPIVOTDATA(\"BAS126\",TABLAS!$A$771)","v":0},{"$f":"+GETPIVOTDATA(\"BAS127\",TABLAS!$A$771)","v":0},{"$f":"+GETPIVOTDATA(\"BAS128\",TABLAS!$A$771)","v":0},{"$f":"+GETPIVOTDATA(\"BAS129\",TABLAS!$A$771)","v":0},{"$f":"+GETPIVOTDATA(\"BAS130\",TABLAS!$A$771)","v":0},0,{"$f":"+GETPIVOTDATA(\"BAS126\",TABLAS!$A$921)","v":0},{"$f":"+GETPIVOTDATA(\"BAS127\",TABLAS!$A$921)","v":0},{"$f":"+GETPIVOTDATA(\"BAS128\",TABLAS!$A$921)","v":0},{"$f":"+GETPIVOTDATA(\"BAS129\",TABLAS!$A$921)","v":0},{"$f":"+GETPIVOTDATA(\"BAS130\",TABLAS!$A$921)","v":0},0,0,null,null,126,{"$f":"+AS99+1","v":127},128,129,130,null,"=+IMPORTARDATOSDINAMICOS(\"BAS126\",TABLAS!$A$1011)","=+IMPORTARDATOSDINAMICOS(\"BAS127\",TABLAS!$A$1011)","=+IMPORTARDATOSDINAMICOS(\"BAS128\",TABLAS!$A$1011)","=+IMPORTARDATOSDINAMICOS(\"BAS129\",TABLAS!$A$1011)","=+IMPORTARDATOSDINAMICOS(\"BAS130\",TABLAS!$A$1011)"]
["PROTEINAS TOTALES  [84155]",null,null,{"$f":"+GETPIVOTDATA(\"BAS131\",TABLAS!$A$230)","v":0},{"$f":"+GETPIVOTDATA(\"BAS132\",TABLAS!$A$230)","v":0},{"$f":"+GETPIVOTDATA(\"BAS133\",TABLAS!$A$230)","v":0},{"$f":"+GETPIVOTDATA(\"BAS134\",TABLAS!$A$230)","v":0},{"$f":"+GETPIVOTDATA(\"BAS135\",TABLAS!$A$230)","v":0},0,{"$f":"+GETPIVOTDATA(\"BAS131\",TABLAS!$A$351)","v":0},{"$f":"+GETPIVOTDATA(\"BAS132\",TABLAS!$A$351)","v":0},{"$f":"+GETPIVOTDATA(\"BAS133\",TABLAS!$A$351)","v":0},{"$f":"+GETPIVOTDATA(\"BAS134\",TABLAS!$A$351)","v":0},{"$f":"+GETPIVOTDATA(\"BAS135\",TABLAS!$A$351)","v":0},0,{"$f":"+GETPIVOTDATA(\"BAS131\",TABLAS!$A$501)","v":0},{"$f":"+GETPIVOTDATA(\"BAS132\",TABLAS!$A$501)","v":0},{"$f":"+GETPIVOTDATA(\"BAS133\",TABLAS!$A$501)","v":0},{"$f":"+GETPIVOTDATA(\"BAS134\",TABLAS!$A$501)","v":0},{"$f":"+GETPIVOTDATA(\"BAS135\",TABLAS!$A$501)","v":0},0,0,null,{"$f":"+GETPIVOTDATA(\"BAS131\",TABLAS!$A$651)","v":0},{"$f":"+GETPIVOTDATA(\"BAS132\",TABLAS!$A$651)","v":0},{"$f":"+GETPIVOTDATA(\"BAS133\",TABLAS!$A$651)","v":0},{"$f":"+GETPIVOTDATA(\"BAS134\",TABLAS!$A$651)","v":0},{"$f":"+GETPIVOTDATA(\"BAS135\",TABLAS!$A$651)","v":0},0,{"$f":"+GETPIVOTDATA(\"BAS131\",TABLAS!$A$771)","v":0},{"$f":"+GETPIVOTDATA(\"BAS132\",TABLAS!$A$771)","v":0},{"$f":"+GETPIVOTDATA(\"BAS133\",TABLAS!$A$771)","v":0},{"$f":"+GETPIVOTDATA(\"BAS134\",TABLAS!$A$771)","v":0},{"$f":"+GETPIVOTDATA(\"BAS135\",TABLAS!$A$771)","v":0},0,{"$f":"+GETPIVOTDATA(\"BAS131\",TABLAS!$A$921)","v":0},{"$f":"+GETPIVOTDATA(\"BAS132\",TABLAS!$A$921)","v":0},{"$f":"+GETPIVOTDATA(\"BAS133\",TABLAS!$A$921)","v":0},{"$f":"+GETPIVOTDATA(\"BAS134\",TABLAS!$A$921)","v":0},{"$f":"+GETPIVOTDATA(\"BAS135\",TABLAS!$A$921)","v":0},0,0,null,null,131,{"$f":"+AS100+1","v":132},133,134,135,null,"=+IMPORTARDATOSDINAMICOS(\"BAS131\",TABLAS!$A$1011)","=+IMPORTARDATOSDINAMICOS(\"BAS132\",TABLAS!$A$1011)","=+IMPORTARDATOSDINAMICOS(\"BAS133\",TABLAS!$A$1011)","=+IMPORTARDATOSDINAMICOS(\"BAS134\",TABLAS!$A$1011)","=+IMPORTARDATOSDINAMICOS(\"BAS135\",TABLAS!$A$1011)"]
["PROTEINURIA CUALITATIVA  [R0004]",null,null,{"$f":"+GETPIVOTDATA(\"BAS136\",TABLAS!$A$230)","v":0},{"$f":"+GETPIVOTDATA(\"BAS137\",TABLAS!$A$230)","v":0},{"$f":"+GETPIVOTDATA(\"BAS138\",TABLAS!$A$230)","v":0},{"$f":"+GETPIVOTDATA(\"BAS139\",TABLAS!$A$230)","v":0},{"$f":"+GETPIVOTDATA(\"BAS140\",TABLAS!$A$230)","v":0},0,{"$f":"+GETPIVOTDATA(\"BAS136\",TABLAS!$A$351)","v":0},{"$f":"+GETPIVOTDATA(\"BAS137\",TABLAS!$A$351)","v":0},{"$f":"+GETPIVOTDATA(\"BAS138\",TABLAS!$A$351)","v":0},{"$f":"+GETPIVOTDATA(\"BAS139\",TABLAS!$A$351)","v":0},{"$f":"+GETPIVOTDATA(\"BAS140\",TABLAS!$A$351)","v":0},0,{"$f":"+GETPIVOTDATA(\"BAS136\",TABLAS!$A$501)","v":0},{"$f":"+GETPIVOTDATA(\"BAS137\",TABLAS!$A$501)","v":0},{"$f":"+GETPIVOTDATA(\"BAS138\",TABLAS!$A$501)","v":0},{"$f":"+GETPIVOTDATA(\"BAS139\",TABLAS!$A$501)","v":0},{"$f":"+GETPIVOTDATA(\"BAS140\",TABLAS!$A$501)","v":0},0,0,null,{"$f":"+GETPIVOTDATA(\"BAS136\",TABLAS!$A$651)","v":0},{"$f":"+GETPIVOTDATA(\"BAS137\",TABLAS!$A$651)","v":0},{"$f":"+GETPIVOTDATA(\"BAS138\",TABLAS!$A$651)","v":0},{"$f":"+GETPIVOTDATA(\"BAS139\",TABLAS!$A$651)","v":0},{"$f":"+GETPIVOTDATA(\"BAS140\",TABLAS!$A$651)","v":0},0,{"$f":"+GETPIVOTDATA(\"BAS136\",TABLAS!$A$771)","v":0},{"$f":"+GETPIVOTDATA(\"BAS137\",TABLAS!$A$771)","v":0},{"$f":"+GETPIVOTDATA(\"BAS138\",TABLAS!$A$771)","v":0},{"$f":"+GETPIVOTDATA(\"BAS139\",TABLAS!$A$771)","v":0},{"$f":"+GETPIVOTDATA(\"BAS140\",TABLAS!$A$771)","v":0},0,{"$f":"+GETPIVOTDATA(\"BAS136\",TABLAS!$A$921)","v":0},{"$f":"+GETPIVOTDATA(\"BAS137\",TABLAS!$A$921)","v":0},{"$f":"+GETPIVOTDATA(\"BAS138\",TABLAS!$A$921)","v":0},{"$f":"+GETPIVOTDATA(\"BAS139\",TABLAS!$A$921)","v":0},{"$f":"+GETPIVOTDATA(\"BAS140\",TABLAS!$A$921)","v":0},0,0,null,null,136,{"$f":"+AS101+1","v":137},138,139,140,null,"=+IMPORTARDATOSDINAMICOS(\"BAS136\",TABLAS!$A$1011)","=+IMPORTARDATOSDINAMICOS(\"BAS137\",TABLAS!$A$1011)","=+IMPORTARDATOSDINAMICOS(\"BAS138\",TABLAS!$A$1011)","=+IMPORTARDATOSDINAMICOS(\"BAS139\",TABLAS!$A$1011)","=+IMPORTARDATOSDINAMICOS(\"BAS140\",TABLAS!$A$1011)"]
["PROTEINURIA DE 24 HORAS  [84180]",null,null,{"$f":"+GETPIVOTDATA(\"BAS141\",TABLAS!$A$230)","v":0},{"$f":"+GETPIVOTDATA(\"BAS142\",TABLAS!$A$230)","v":0},{"$f":"+GETPIVOTDATA(\"BAS143\",TABLAS!$A$230)","v":0},{"$f":"+GETPIVOTDATA(\"BAS144\",TABLAS!$A$230)","v":0},{"$f":"+GETPIVOTDATA(\"BAS145\",TABLAS!$A$230)","v":0},0,{"$f":"+GETPIVOTDATA(\"BAS141\",TABLAS!$A$351)","v":0},{"$f":"+GETPIVOTDATA(\"BAS142\",TABLAS!$A$351)","v":0},{"$f":"+GETPIVOTDATA(\"BAS143\",TABLAS!$A$351)","v":0},{"$f":"+GETPIVOTDATA(\"BAS144\",TABLAS!$A$351)","v":0},{"$f":"+GETPIVOTDATA(\"BAS145\",TABLAS!$A$351)","v":0},0,{"$f":"+GETPIVOTDATA(\"BAS141\",TABLAS!$A$501)","v":0},{"$f":"+GETPIVOTDATA(\"BAS142\",TABLAS!$A$501)","v":0},{"$f":"+GETPIVOTDATA(\"BAS143\",TABLAS!$A$501)","v":0},{"$f":"+GETPIVOTDATA(\"BAS144\",TABLAS!$A$501)","v":0},{"$f":"+GETPIVOTDATA(\"BAS145\",TABLAS!$A$501)","v":0},0,0,null,{"$f":"+GETPIVOTDATA(\"BAS141\",TABLAS!$A$651)","v":0},{"$f":"+GETPIVOTDATA(\"BAS142\",TABLAS!$A$651)","v":0},{"$f":"+GETPIVOTDATA(\"BAS143\",TABLAS!$A$651)","v":0},{"$f":"+GETPIVOTDATA(\"BAS144\",TABLAS!$A$651)","v":0},{"$f":"+GETPIVOTDATA(\"BAS145\",TABLAS!$A$651)","v":0},0,{"$f":"+GETPIVOTDATA(\"BAS141\",TABLAS!$A$771)","v":0},{"$f":"+GETPIVOTDATA(\"BAS142\",TABLAS!$A$771)","v":0},{"$f":"+GETPIVOTDATA(\"BAS143\",TABLAS!$A$771)","v":0},{"$f":"+GETPIVOTDATA(\"BAS144\",TABLAS!$A$771)","v":0},{"$f":"+GETPIVOTDATA(\"BAS145\",TABLAS!$A$771)","v":0},0,{"$f":"+GETPIVOTDATA(\"BAS141\",TABLAS!$A$921)","v":0},{"$f":"+GETPIVOTDATA(\"BAS142\",TABLAS!$A$921)","v":0},{"$f":"+GETPIVOTDATA(\"BAS143\",TABLAS!$A$921)","v":0},{"$f":"+GETPIVOTDATA(\"BAS144\",TABLAS!$A$921)","v":0},{"$f":"+GETPIVOTDATA(\"BAS145\",TABLAS!$A$921)","v":0},0,0,null,null,141,{"$f":"+AS102+1","v":142},143,144,145,null,"=+IMPORTARDATOSDINAMICOS(\"BAS141\",TABLAS!$A$1011)","=+IMPORTARDATOSDINAMICOS(\"BAS142\",TABLAS!$A$1011)","=+IMPORTARDATOSDINAMICOS(\"BAS143\",TABLAS!$A$1011)","=+IMPORTARDATOSDINAMICOS(\"BAS144\",TABLAS!$A$1011)","=+IMPORTARDATOSDINAMICOS(\"BAS145\",TABLAS!$A$1011)"]
["TEST DE ADA  [82020]",null,null,{"$f":"+GETPIVOTDATA(\"BAS146\",TABLAS!$A$230)","v":0},{"$f":"+GETPIVOTDATA(\"BAS147\",TABLAS!$A$230)","v":0},{"$f":"+GETPIVOTDATA(\"BAS148\",TABLAS!$A$230)","v":0},{"$f":"+GETPIVOTDATA(\"BAS149\",TABLAS!$A$230)","v":0},{"$f":"+GETPIVOTDATA(\"BAS150\",TABLAS!$A$230)","v":0},0,{"$f":"+GETPIVOTDATA(\"BAS146\",TABLAS!$A$351)","v":0},{"$f":"+GETPIVOTDATA(\"BAS147\",TABLAS!$A$351)","v":0},{"$f":"+GETPIVOTDATA(\"BAS148\",TABLAS!$A$351)","v":0},{"$f":"+GETPIVOTDATA(\"BAS149\",TABLAS!$A$351)","v":0},{"$f":"+GETPIVOTDATA(\"BAS150\",TABLAS!$A$351)","v":0},0,{"$f":"+GETPIVOTDATA(\"BAS146\",TABLAS!$A$501)","v":0},{"$f":"+GETPIVOTDATA(\"BAS147\",TABLAS!$A$501)","v":0},{"$f":"+GETPIVOTDATA(\"BAS148\",TABLAS!$A$501)","v":0},{"$f":"+GETPIVOTDATA(\"BAS149\",TABLAS!$A$501)","v":0},{"$f":"+GETPIVOTDATA(\"BAS150\",TABLAS!$A$501)","v":0},0,0,null,{"$f":"+GETPIVOTDATA(\"BAS146\",TABLAS!$A$651)","v":0},{"$f":"+GETPIVOTDATA(\"BAS147\",TABLAS!$A$651)","v":0},{"$f":"+GETPIVOTDATA(\"BAS148\",TABLAS!$A$651)","v":0},{"$f":"+GETPIVOTDATA(\"BAS149\",TABLAS!$A$651)","v":0},{"$f":"+GETPIVOTDATA(\"BAS150\",TABLAS!$A$651)","v":0},0,{"$f":"+GETPIVOTDATA(\"BAS146\",TABLAS!$A$771)","v":0},{"$f":"+GETPIVOTDATA(\"BAS147\",TABLAS!$A$771)","v":0},{"$f":"+GETPIVOTDATA(\"BAS148\",TABLAS!$A$771)","v":0},{"$f":"+GETPIVOTDATA(\"BAS149\",TABLAS!$A$771)","v":0},{"$f":"+GETPIVOTDATA(\"BAS150\",TABLAS!$A$771)","v":0},0,{"$f":"+GETPIVOTDATA(\"BAS146\",TABLAS!$A$921)","v":0},{"$f":"+GETPIVOTDATA(\"BAS147\",TABLAS!$A$921)","v":0},{"$f":"+GETPIVOTDATA(\"BAS148\",TABLAS!$A$921)","v":0},{"$f":"+GETPIVOTDATA(\"BAS149\",TABLAS!$A$921)","v":0},{"$f":"+GETPIVOTDATA(\"BAS150\",TABLAS!$A$921)","v":0},0,0,null,null,146,{"$f":"+AS103+1","v":147},148,149,150,null,"=+IMPORTARDATOSDINAMICOS(\"BAS146\",TABLAS!$A$1011)","=+IMPORTARDATOSDINAMICOS(\"BAS147\",TABLAS!$A$1011)","=+IMPORTARDATOSDINAMICOS(\"BAS148\",TABLAS!$A$1011)","=+IMPORTARDATOSDINAMICOS(\"BAS149\",TABLAS!$A$1011)","=+IMPORTARDATOSDINAMICOS(\"BAS150\",TABLAS!$A$1011)"]
["TRANSAMINASA OXALACETICA TGO  [84450]",null,null,{"$f":"+GETPIVOTDATA(\"BAS151\",TABLAS!$A$230)","v":0},{"$f":"+GETPIVOTDATA(\"BAS152\",TABLAS!$A$230)","v":0},{"$f":"+GETPIVOTDATA(\"BAS153\",TABLAS!$A$230)","v":0},{"$f":"+GETPIVOTDATA(\"BAS154\",TABLAS!$A$230)","v":0},{"$f":"+GETPIVOTDATA(\"BAS155\",TABLAS!$A$230)","v":0},0,{"$f":"+GETPIVOTDATA(\"BAS151\",TABLAS!$A$351)","v":0},{"$f":"+GETPIVOTDATA(\"BAS152\",TABLAS!$A$351)","v":0},{"$f":"+GETPIVOTDATA(\"BAS153\",TABLAS!$A$351)","v":0},{"$f":"+GETPIVOTDATA(\"BAS154\",TABLAS!$A$351)","v":0},{"$f":"+GETPIVOTDATA(\"BAS155\",TABLAS!$A$351)","v":0},0,{"$f":"+GETPIVOTDATA(\"BAS151\",TABLAS!$A$501)","v":0},{"$f":"+GETPIVOTDATA(\"BAS152\",TABLAS!$A$501)","v":0},{"$f":"+GETPIVOTDATA(\"BAS153\",TABLAS!$A$501)","v":0},{"$f":"+GETPIVOTDATA(\"BAS154\",TABLAS!$A$501)","v":0},{"$f":"+GETPIVOTDATA(\"BAS155\",TABLAS!$A$501)","v":0},0,0,null,{"$f":"+GETPIVOTDATA(\"BAS151\",TABLAS!$A$651)","v":0},{"$f":"+GETPIVOTDATA(\"BAS152\",TABLAS!$A$651)","v":0},{"$f":"+GETPIVOTDATA(\"BAS153\",TABLAS!$A$651)","v":0},{"$f":"+GETPIVOTDATA(\"BAS154\",TABLAS!$A$651)","v":0},{"$f":"+GETPIVOTDATA(\"BAS155\",TABLAS!$A$651)","v":0},0,{"$f":"+GETPIVOTDATA(\"BAS151\",TABLAS!$A$771)","v":0},{"$f":"+GETPIVOTDATA(\"BAS152\",TABLAS!$A$771)","v":0},{"$f":"+GETPIVOTDATA(\"BAS153\",TABLAS!$A$771)","v":0},{"$f":"+GETPIVOTDATA(\"BAS154\",TABLAS!$A$771)","v":0},{"$f":"+GETPIVOTDATA(\"BAS155\",TABLAS!$A$771)","v":0},0,{"$f":"+GETPIVOTDATA(\"BAS151\",TABLAS!$A$921)","v":0},{"$f":"+GETPIVOTDATA(\"BAS152\",TABLAS!$A$921)","v":0},{"$f":"+GETPIVOTDATA(\"BAS153\",TABLAS!$A$921)","v":0},{"$f":"+GETPIVOTDATA(\"BAS154\",TABLAS!$A$921)","v":0},{"$f":"+GETPIVOTDATA(\"BAS155\",TABLAS!$A$921)","v":0},0,0,null,null,151,{"$f":"+AS104+1","v":152},153,154,155,null,"=+IMPORTARDATOSDINAMICOS(\"BAS151\",TABLAS!$A$1011)","=+IMPORTARDATOSDINAMICOS(\"BAS152\",TABLAS!$A$1011)","=+IMPORTARDATOSDINAMICOS(\"BAS153\",TABLAS!$A$1011)","=+IMPORTARDATOSDINAMICOS(\"BAS154\",TABLAS!$A$1011)","=+IMPORTARDATOSDINAMICOS(\"BAS155\",TABLAS!$A$1011)"]
["TRANSAMINASAS PIRUVICA TGP  [84460]",null,null,{"$f":"+GETPIVOTDATA(\"BAS156\",TABLAS!$A$230)","v":0},{"$f":"+GETPIVOTDATA(\"BAS157\",TABLAS!$A$230)","v":0},{"$f":"+GETPIVOTDATA(\"BAS158\",TABLAS!$A$230)","v":0},{"$f":"+GETPIVOTDATA(\"BAS159\",TABLAS!$A$230)","v":0},{"$f":"+GETPIVOTDATA(\"BAS160\",TABLAS!$A$230)","v":0},0,{"$f":"+GETPIVOTDATA(\"BAS156\",TABLAS!$A$351)","v":0},{"$f":"+GETPIVOTDATA(\"BAS157\",TABLAS!$A$351)","v":0},{"$f":"+GETPIVOTDATA(\"BAS158\",TABLAS!$A$351)","v":0},{"$f":"+GETPIVOTDATA(\"BAS159\",TABLAS!$A$351)","v":0},{"$f":"+GETPIVOTDATA(\"BAS160\",TABLAS!$A$351)","v":0},0,{"$f":"+GETPIVOTDATA(\"BAS156\",TABLAS!$A$501)","v":0},{"$f":"+GETPIVOTDATA(\"BAS157\",TABLAS!$A$501)","v":0},{"$f":"+GETPIVOTDATA(\"BAS158\",TABLAS!$A$501)","v":0},{"$f":"+GETPIVOTDATA(\"BAS159\",TABLAS!$A$501)","v":0},{"$f":"+GETPIVOTDATA(\"BAS160\",TABLAS!$A$501)","v":0},0,0,null,{"$f":"+GETPIVOTDATA(\"BAS156\",TABLAS!$A$651)","v":0},{"$f":"+GETPIVOTDATA(\"BAS157\",TABLAS!$A$651)","v":0},{"$f":"+GETPIVOTDATA(\"BAS158\",TABLAS!$A$651)","v":0},{"$f":"+GETPIVOTDATA(\"BAS159\",TABLAS!$A$651)","v":0},{"$f":"+GETPIVOTDATA(\"BAS160\",TABLAS!$A$651)","v":0},0,{"$f":"+GETPIVOTDATA(\"BAS156\",TABLAS!$A$771)","v":0},{"$f":"+GETPIVOTDATA(\"BAS157\",TABLAS!$A$771)","v":0},{"$f":"+GETPIVOTDATA(\"BAS158\",TABLAS!$A$771)","v":0},{"$f":"+GETPIVOTDATA(\"BAS159\",TABLAS!$A$771)","v":0},{"$f":"+GETPIVOTDATA(\"BAS160\",TABLAS!$A$771)","v":0},0,{"$f":"+GETPIVOTDATA(\"BAS156\",TABLAS!$A$921)","v":0},{"$f":"+GETPIVOTDATA(\"BAS157\",TABLAS!$A$921)","v":0},{"$f":"+GETPIVOTDATA(\"BAS158\",TABLAS!$A$921)","v":0},{"$f":"+GETPIVOTDATA(\"BAS159\",TABLAS!$A$921)","v":0},{"$f":"+GETPIVOTDATA(\"BAS160\",TABLAS!$A$921)","v":0},0,0,null,null,156,{"$f":"+AS105+1","v":157},158,159,160,null,"=+IMPORTARDATOSDINAMICOS(\"BAS156\",TABLAS!$A$1011)","=+IMPORTARDATOSDINAMICOS(\"BAS157\",TABLAS!$A$1011)","=+IMPORTARDATOSDINAMICOS(\"BAS158\",TABLAS!$A$1011)","=+IMPORTARDATOSDINAMICOS(\"BAS159\",TABLAS!$A$1011)","=+IMPORTARDATOSDINAMICOS(\"BAS160\",TABLAS!$A$1011)"]
["TRIGLICERIDOS  [84478]",null,null,{"$f":"+GETPIVOTDATA(\"BAS161\",TABLAS!$A$230)","v":0},{"$f":"+GETPIVOTDATA(\"BAS162\",TABLAS!$A$230)","v":0},{"$f":"+GETPIVOTDATA(\"BAS163\",TABLAS!$A$230)","v":0},{"$f":"+GETPIVOTDATA(\"BAS164\",TABLAS!$A$230)","v":0},{"$f":"+GETPIVOTDATA(\"BAS165\",TABLAS!$A$230)","v":0},0,{"$f":"+GETPIVOTDATA(\"BAS161\",TABLAS!$A$351)","v":0},{"$f":"+GETPIVOTDATA(\"BAS162\",TABLAS!$A$351)","v":0},{"$f":"+GETPIVOTDATA(\"BAS163\",TABLAS!$A$351)","v":0},{"$f":"+GETPIVOTDATA(\"BAS164\",TABLAS!$A$351)","v":0},{"$f":"+GETPIVOTDATA(\"BAS165\",TABLAS!$A$351)","v":0},0,{"$f":"+GETPIVOTDATA(\"BAS161\",TABLAS!$A$501)","v":0},{"$f":"+GETPIVOTDATA(\"BAS162\",TABLAS!$A$501)","v":0},{"$f":"+GETPIVOTDATA(\"BAS163\",TABLAS!$A$501)","v":0},{"$f":"+GETPIVOTDATA(\"BAS164\",TABLAS!$A$501)","v":0},{"$f":"+GETPIVOTDATA(\"BAS165\",TABLAS!$A$501)","v":0},0,0,null,{"$f":"+GETPIVOTDATA(\"BAS161\",TABLAS!$A$651)","v":0},{"$f":"+GETPIVOTDATA(\"BAS162\",TABLAS!$A$651)","v":0},{"$f":"+GETPIVOTDATA(\"BAS163\",TABLAS!$A$651)","v":0},{"$f":"+GETPIVOTDATA(\"BAS164\",TABLAS!$A$651)","v":0},{"$f":"+GETPIVOTDATA(\"BAS165\",TABLAS!$A$651)","v":0},0,{"$f":"+GETPIVOTDATA(\"BAS161\",TABLAS!$A$771)","v":0},{"$f":"+GETPIVOTDATA(\"BAS162\",TABLAS!$A$771)","v":0},{"$f":"+GETPIVOTDATA(\"BAS163\",TABLAS!$A$771)","v":0},{"$f":"+GETPIVOTDATA(\"BAS164\",TABLAS!$A$771)","v":0},{"$f":"+GETPIVOTDATA(\"BAS165\",TABLAS!$A$771)","v":0},0,{"$f":"+GETPIVOTDATA(\"BAS161\",TABLAS!$A$921)","v":0},{"$f":"+GETPIVOTDATA(\"BAS162\",TABLAS!$A$921)","v":0},{"$f":"+GETPIVOTDATA(\"BAS163\",TABLAS!$A$921)","v":0},{"$f":"+GETPIVOTDATA(\"BAS164\",TABLAS!$A$921)","v":0},{"$f":"+GETPIVOTDATA(\"BAS165\",TABLAS!$A$921)","v":0},0,0,null,null,161,{"$f":"+AS106+1","v":162},163,164,165,null,"=+IMPORTARDATOSDINAMICOS(\"BAS161\",TABLAS!$A$1011)","=+IMPORTARDATOSDINAMICOS(\"BAS162\",TABLAS!$A$1011)","=+IMPORTARDATOSDINAMICOS(\"BAS163\",TABLAS!$A$1011)","=+IMPORTARDATOSDINAMICOS(\"BAS164\",TABLAS!$A$1011)","=+IMPORTARDATOSDINAMICOS(\"BAS165\",TABLAS!$A$1011)"]
["UREA  [84520]",null,null,{"$f":"+GETPIVOTDATA(\"BAS166\",TABLAS!$A$230)","v":0},{"$f":"+GETPIVOTDATA(\"BAS167\",TABLAS!$A$230)","v":0},{"$f":"+GETPIVOTDATA(\"BAS168\",TABLAS!$A$230)","v":0},{"$f":"+GETPIVOTDATA(\"BAS169\",TABLAS!$A$230)","v":0},{"$f":"+GETPIVOTDATA(\"BAS170\",TABLAS!$A$230)","v":0},0,{"$f":"+GETPIVOTDATA(\"BAS166\",TABLAS!$A$351)","v":0},{"$f":"+GETPIVOTDATA(\"BAS167\",TABLAS!$A$351)","v":0},{"$f":"+GETPIVOTDATA(\"BAS168\",TABLAS!$A$351)","v":0},{"$f":"+GETPIVOTDATA(\"BAS169\",TABLAS!$A$351)","v":0},{"$f":"+GETPIVOTDATA(\"BAS170\",TABLAS!$A$351)","v":0},0,{"$f":"+GETPIVOTDATA(\"BAS166\",TABLAS!$A$501)","v":0},{"$f":"+GETPIVOTDATA(\"BAS167\",TABLAS!$A$501)","v":0},{"$f":"+GETPIVOTDATA(\"BAS168\",TABLAS!$A$501)","v":0},{"$f":"+GETPIVOTDATA(\"BAS169\",TABLAS!$A$501)","v":0},{"$f":"+GETPIVOTDATA(\"BAS170\",TABLAS!$A$501)","v":0},0,0,null,{"$f":"+GETPIVOTDATA(\"BAS166\",TABLAS!$A$651)","v":0},{"$f":"+GETPIVOTDATA(\"BAS167\",TABLAS!$A$651)","v":0},{"$f":"+GETPIVOTDATA(\"BAS168\",TABLAS!$A$651)","v":0},{"$f":"+GETPIVOTDATA(\"BAS169\",TABLAS!$A$651)","v":0},{"$f":"+GETPIVOTDATA(\"BAS170\",TABLAS!$A$651)","v":0},0,{"$f":"+GETPIVOTDATA(\"BAS166\",TABLAS!$A$771)","v":0},{"$f":"+GETPIVOTDATA(\"BAS167\",TABLAS!$A$771)","v":0},{"$f":"+GETPIVOTDATA(\"BAS168\",TABLAS!$A$771)","v":0},{"$f":"+GETPIVOTDATA(\"BAS169\",TABLAS!$A$771)","v":0},{"$f":"+GETPIVOTDATA(\"BAS170\",TABLAS!$A$771)","v":0},0,{"$f":"+GETPIVOTDATA(\"BAS166\",TABLAS!$A$921)","v":0},{"$f":"+GETPIVOTDATA(\"BAS167\",TABLAS!$A$921)","v":0},{"$f":"+GETPIVOTDATA(\"BAS168\",TABLAS!$A$921)","v":0},{"$f":"+GETPIVOTDATA(\"BAS169\",TABLAS!$A$921)","v":0},{"$f":"+GETPIVOTDATA(\"BAS170\",TABLAS!$A$921)","v":0},0,0,null,null,166,{"$f":"+AS107+1","v":167},168,169,170,null,"=+IMPORTARDATOSDINAMICOS(\"BAS166\",TABLAS!$A$1011)","=+IMPORTARDATOSDINAMICOS(\"BAS167\",TABLAS!$A$1011)","=+IMPORTARDATOSDINAMICOS(\"BAS168\",TABLAS!$A$1011)","=+IMPORTARDATOSDINAMICOS(\"BAS169\",TABLAS!$A$1011)","=+IMPORTARDATOSDINAMICOS(\"BAS170\",TABLAS!$A$1011)"]
[]
[null,null,null,"CONSULTA EXTERNA",null,null,null,null,null,"HOSPITALIZACION",null,null,null,null,null,"EMERGENCIA",null,null,null,null,null,"Total",null,"CONSULTA EXTERNA",null,null,null,null,null,"HOSPITALIZACION",null,null,null,null,null,"EMERGENCIA",null,null,null,null,null,"Total"]
["INMUNOLOGIA",null,null,"0 - 11a","12-17a","18-29 a","30-59 a","60- + a","Total","0 - 11a","12-17a","18-29 a","30-59 a","60- + a","Total","0 - 11a","12-17a","18-29 a","30-59 a","60- + a","Total",null,null,"0 - 11a","12-17a","18-29 a","30-59 a","60- + a","Total","0 - 11a","12-17a","18-29 a","30-59 a","60- + a","Total","0 - 11a","12-17a","18-29 a","30-59 a","60- + a","Total"]
["TOTAL",null,null,{"$f":"SUM(D112:D170)","v":0},{"$f":"SUM(E112:E170)","v":0},0,0,0,0,0,0,0,0,0,0,0,0,0,0,0,0,0,null,{"$f":"SUM(X112:X170)","v":0},{"$f":"SUM(Y112:Y170)","v":0},0,0,0,0,0,0,0,0,0,0,{"$error":"#REF!"},{"$error":"#REF!"},{"$error":"#REF!"},{"$error":"#REF!"},{"$error":"#REF!"},{"$error":"#REF!"},{"$error":"#REF!"}]
["AFP ALFA FETO PROTEINA (82105)",null,null,{"$f":"+GETPIVOTDATA(\"BAS171\",TABLAS!$A$230)","v":0},{"$f":"+GETPIVOTDATA(\"BAS172\",TABLAS!$A$230)","v":0},{"$f":"+GETPIVOTDATA(\"BAS173\",TABLAS!$A$230)","v":0},{"$f":"+GETPIVOTDATA(\"BAS174\",TABLAS!$A$230)","v":0},{"$f":"+GETPIVOTDATA(\"BAS175\",TABLAS!$A$230)","v":0},{"$f":"SUM(D112:H112)","v":0},{"$f":"+GETPIVOTDATA(\"BAS171\",TABLAS!$A$351)","v":0},{"$f":"+GETPIVOTDATA(\"BAS172\",TABLAS!$A$351)","v":0},{"$f":"+GETPIVOTDATA(\"BAS173\",TABLAS!$A$351)","v":0},{"$f":"+GETPIVOTDATA(\"BAS174\",TABLAS!$A$351)","v":0},{"$f":"+GETPIVOTDATA(\"BAS175\",TABLAS!$A$351)","v":0},{"$f":"SUM(J112:N112)","v":0},{"$f":"+GETPIVOTDATA(\"BAS171\",TABLAS!$A$501)","v":0},{"$f":"+GETPIVOTDATA(\"BAS172\",TABLAS!$A$501)","v":0},{"$f":"+GETPIVOTDATA(\"BAS173\",TABLAS!$A$501)","v":0},{"$f":"+GETPIVOTDATA(\"BAS174\",TABLAS!$A$501)","v":0},{"$f":"+GETPIVOTDATA(\"BAS175\",TABLAS!$A$501)","v":0},{"$f":"SUM(P112:T112)","v":0},{"$f":"+I112+O112+U112","v":0},null,{"$f":"+GETPIVOTDATA(\"BAS171\",TABLAS!$A$651)","v":0},{"$f":"+GETPIVOTDATA(\"BAS172\",TABLAS!$A$651)","v":0},{"$f":"+GETPIVOTDATA(\"BAS173\",TABLAS!$A$651)","v":0},{"$f":"+GETPIVOTDATA(\"BAS174\",TABLAS!$A$651)","v":0},{"$f":"+GETPIVOTDATA(\"BAS175\",TABLAS!$A$651)","v":0},{"$f":"SUM(X112:AB112)","v":0},{"$f":"+GETPIVOTDATA(\"BAS171\",TABLAS!$A$771)","v":0},{"$f":"+GETPIVOTDATA(\"BAS172\",TABLAS!$A$771)","v":0},{"$f":"+GETPIVOTDATA(\"BAS173\",TABLAS!$A$771)","v":0},{"$f":"+GETPIVOTDATA(\"BAS174\",TABLAS!$A$771)","v":0},{"$f":"+GETPIVOTDATA(\"BAS175\",TABLAS!$A$771)","v":0},{"$f":"SUM(AD112:AH112)","v":0},{"$f":"+GETPIVOTDATA(\"BAS171\",TABLAS!$A$921)","v":0},{"$f":"+GETPIVOTDATA(\"BAS172\",TABLAS!$A$921)","v":0},{"$f":"+GETPIVOTDATA(\"BAS173\",TABLAS!$A$921)","v":0},{"$f":"+GETPIVOTDATA(\"BAS174\",TABLAS!$A$921)","v":0},{"$f":"+GETPIVOTDATA(\"BAS175\",TABLAS!$A$921)","v":0},{"$f":"SUM(AJ112:AN112)","v":0},{"$f":"+AC112+AI112+AO112","v":0},null,null,{"$f":"+AW107+1","v":171},{"$f":"+AS112+1","v":172},173,174,175,null,{"$f":"IF(AS112<=9,CONCATENATE($AS$13,$AV$13,\"00\",AS112,$AW$13),IF(AND(AS112>=10,AS112<=99),CONCATENATE($AS$13,$AV$13,\"0\",AS112,$AW$13),CONCATENATE($AS$13,$AV$13,AS112,$AW$13)))","v":"=+IMPORTARDATOSDINAMICOS(\"BAS171\",TABLAS!$A$1011)"},{"$f":"IF(AT112<=9,CONCATENATE($AS$13,$AV$13,\"00\",AT112,$AW$13),IF(AND(AT112>=10,AT112<=99),CONCATENATE($AS$13,$AV$13,\"0\",AT112,$AW$13),CONCATENATE($AS$13,$AV$13,AT112,$AW$13)))","v":"=+IMPORTARDATOSDINAMICOS(\"BAS172\",TABLAS!$A$1011)"},{"$f":"IF(AU112<=9,CONCATENATE($AS$13,$AV$13,\"00\",AU112,$AW$13),IF(AND(AU112>=10,AU112<=99),CONCATENATE($AS$13,$AV$13,\"0\",AU112,$AW$13),CONCATENATE($AS$13,$AV$13,AU112,$AW$13)))","v":"=+IMPORTARDATOSDINAMICOS(\"BAS173\",TABLAS!$A$1011)"},{"$f":"IF(AV112<=9,CONCATENATE($AS$13,$AV$13,\"00\",AV112,$AW$13),IF(AND(AV112>=10,AV112<=99),CONCATENATE($AS$13,$AV$13,\"0\",AV112,$AW$13),CONCATENATE($AS$13,$AV$13,AV112,$AW$13)))","v":"=+IMPORTARDATOSDINAMICOS(\"BAS174\",TABLAS!$A$1011)"},{"$f":"IF(AW112<=9,CONCATENATE($AS$13,$AV$13,\"00\",AW112,$AW$13),IF(AND(AW112>=10,AW112<=99),CONCATENATE($AS$13,$AV$13,\"0\",AW112,$AW$13),CONCATENATE($AS$13,$AV$13,AW112,$AW$13)))","v":"=+IMPORTARDATOSDINAMICOS(\"BAS175\",TABLAS!$A$1011)"}]
["AGLUTINACIONES WIDAL  [86000]",null,null,{"$f":"+GETPIVOTDATA(\"BAS176\",TABLAS!$A$230)","v":0},{"$f":"+GETPIVOTDATA(\"BAS177\",TABLAS!$A$230)","v":0},{"$f":"+GETPIVOTDATA(\"BAS178\",TABLAS!$A$230)","v":0},{"$f":"+GETPIVOTDATA(\"BAS179\",TABLAS!$A$230)","v":0},{"$f":"+GETPIVOTDATA(\"BAS180\",TABLAS!$A$230)","v":0},0,{"$f":"+GETPIVOTDATA(\"BAS176\",TABLAS!$A$351)","v":0},{"$f":"+GETPIVOTDATA(\"BAS177\",TABLAS!$A$351)","v":0},{"$f":"+GETPIVOTDATA(\"BAS178\",TABLAS!$A$351)","v":0},{"$f":"+GETPIVOTDATA(\"BAS179\",TABLAS!$A$351)","v":0},{"$f":"+GETPIVOTDATA(\"BAS180\",TABLAS!$A$351)","v":0},0,{"$f":"+GETPIVOTDATA(\"BAS176\",TABLAS!$A$501)","v":0},{"$f":"+GETPIVOTDATA(\"BAS177\",TABLAS!$A$501)","v":0},{"$f":"+GETPIVOTDATA(\"BAS178\",TABLAS!$A$501)","v":0},{"$f":"+GETPIVOTDATA(\"BAS179\",TABLAS!$A$501)","v":0},{"$f":"+GETPIVOTDATA(\"BAS180\",TABLAS!$A$501)","v":0},0,0,null,{"$f":"+GETPIVOTDATA(\"BAS176\",TABLAS!$A$651)","v":0},{"$f":"+GETPIVOTDATA(\"BAS177\",TABLAS!$A$651)","v":0},{"$f":"+GETPIVOTDATA(\"BAS178\",TABLAS!$A$651)","v":0},{"$f":"+GETPIVOTDATA(\"BAS179\",TABLAS!$A$651)","v":0},{"$f":"+GETPIVOTDATA(\"BAS180\",TABLAS!$A$651)","v":0},0,{"$f":"+GETPIVOTDATA(\"BAS176\",TABLAS!$A$771)","v":0},{"$f":"+GETPIVOTDATA(\"BAS177\",TABLAS!$A$771)","v":0},{"$f":"+GETPIVOTDATA(\"BAS178\",TABLAS!$A$771)","v":0},{"$f":"+GETPIVOTDATA(\"BAS179\",TABLAS!$A$771)","v":0},{"$f":"+GETPIVOTDATA(\"BAS180\",TABLAS!$A$771)","v":0},0,{"$f":"+GETPIVOTDATA(\"BAS176\",TABLAS!$A$921)","v":0},{"$f":"+GETPIVOTDATA(\"BAS177\",TABLAS!$A$921)","v":0},{"$f":"+GETPIVOTDATA(\"BAS178\",TABLAS!$A$921)","v":0},{"$f":"+GETPIVOTDATA(\"BAS179\",TABLAS!$A$921)","v":0},{"$f":"+GETPIVOTDATA(\"BAS180\",TABLAS!$A$921)","v":0},0,0,null,null,{"$f":"+AW112+1","v":176},{"$f":"+AS113+1","v":177},178,179,180,null,{"$f":"IF(AS113<=9,CONCATENATE($AS$13,$AV$13,\"00\",AS113,$AW$13),IF(AND(AS113>=10,AS113<=99),CONCATENATE($AS$13,$AV$13,\"0\",AS113,$AW$13),CONCATENATE($AS$13,$AV$13,AS113,$AW$13)))","v":"=+IMPORTARDATOSDINAMICOS(\"BAS176\",TABLAS!$A$1011)"},{"$f":"IF(AT113<=9,CONCATENATE($AS$13,$AV$13,\"00\",AT113,$AW$13),IF(AND(AT113>=10,AT113<=99),CONCATENATE($AS$13,$AV$13,\"0\",AT113,$AW$13),CONCATENATE($AS$13,$AV$13,AT113,$AW$13)))","v":"=+IMPORTARDATOSDINAMICOS(\"BAS177\",TABLAS!$A$1011)"},{"$f":"IF(AU113<=9,CONCATENATE($AS$13,$AV$13,\"00\",AU113,$AW$13),IF(AND(AU113>=10,AU113<=99),CONCATENATE($AS$13,$AV$13,\"0\",AU113,$AW$13),CONCATENATE($AS$13,$AV$13,AU113,$AW$13)))","v":"=+IMPORTARDATOSDINAMICOS(\"BAS178\",TABLAS!$A$1011)"},{"$f":"IF(AV113<=9,CONCATENATE($AS$13,$AV$13,\"00\",AV113,$AW$13),IF(AND(AV113>=10,AV113<=99),CONCATENATE($AS$13,$AV$13,\"0\",AV113,$AW$13),CONCATENATE($AS$13,$AV$13,AV113,$AW$13)))","v":"=+IMPORTARDATOSDINAMICOS(\"BAS179\",TABLAS!$A$1011)"},{"$f":"IF(AW113<=9,CONCATENATE($AS$13,$AV$13,\"00\",AW113,$AW$13),IF(AND(AW113>=10,AW113<=99),CONCATENATE($AS$13,$AV$13,\"0\",AW113,$AW$13),CONCATENATE($AS$13,$AV$13,AW113,$AW$13)))","v":"=+IMPORTARDATOSDINAMICOS(\"BAS180\",TABLAS!$A$1011)"}]
["ANTICUERPO ANTITIROIDEO (86800)",null,null,{"$f":"+GETPIVOTDATA(\"BAS181\",TABLAS!$A$230)","v":0},{"$f":"+GETPIVOTDATA(\"BAS182\",TABLAS!$A$230)","v":0},{"$f":"+GETPIVOTDATA(\"BAS183\",TABLAS!$A$230)","v":0},{"$f":"+GETPIVOTDATA(\"BAS184\",TABLAS!$A$230)","v":0},{"$f":"+GETPIVOTDATA(\"BAS185\",TABLAS!$A$230)","v":0},0,{"$f":"+GETPIVOTDATA(\"BAS181\",TABLAS!$A$351)","v":0},{"$f":"+GETPIVOTDATA(\"BAS182\",TABLAS!$A$351)","v":0},{"$f":"+GETPIVOTDATA(\"BAS183\",TABLAS!$A$351)","v":0},{"$f":"+GETPIVOTDATA(\"BAS184\",TABLAS!$A$351)","v":0},{"$f":"+GETPIVOTDATA(\"BAS185\",TABLAS!$A$351)","v":0},0,{"$f":"+GETPIVOTDATA(\"BAS181\",TABLAS!$A$501)","v":0},{"$f":"+GETPIVOTDATA(\"BAS182\",TABLAS!$A$501)","v":0},{"$f":"+GETPIVOTDATA(\"BAS183\",TABLAS!$A$501)","v":0},{"$f":"+GETPIVOTDATA(\"BAS184\",TABLAS!$A$501)","v":0},{"$f":"+GETPIVOTDATA(\"BAS185\",TABLAS!$A$501)","v":0},0,0,null,{"$f":"+GETPIVOTDATA(\"BAS181\",TABLAS!$A$651)","v":0},{"$f":"+GETPIVOTDATA(\"BAS182\",TABLAS!$A$651)","v":0},{"$f":"+GETPIVOTDATA(\"BAS183\",TABLAS!$A$651)","v":0},{"$f":"+GETPIVOTDATA(\"BAS184\",TABLAS!$A$651)","v":0},{"$f":"+GETPIVOTDATA(\"BAS185\",TABLAS!$A$651)","v":0},0,{"$f":"+GETPIVOTDATA(\"BAS181\",TABLAS!$A$771)","v":0},{"$f":"+GETPIVOTDATA(\"BAS182\",TABLAS!$A$771)","v":0},{"$f":"+GETPIVOTDATA(\"BAS183\",TABLAS!$A$771)","v":0},{"$f":"+GETPIVOTDATA(\"BAS184\",TABLAS!$A$771)","v":0},{"$f":"+GETPIVOTDATA(\"BAS185\",TABLAS!$A$771)","v":0},0,{"$f":"+GETPIVOTDATA(\"BAS181\",TABLAS!$A$921)","v":0},{"$f":"+GETPIVOTDATA(\"BAS182\",TABLAS!$A$921)","v":0},{"$f":"+GETPIVOTDATA(\"BAS183\",TABLAS!$A$921)","v":0},{"$f":"+GETPIVOTDATA(\"BAS184\",TABLAS!$A$921)","v":0},{"$f":"+GETPIVOTDATA(\"BAS185\",TABLAS!$A$921)","v":0},0,0,null,null,{"$f":"+AW113+1","v":181},{"$f":"+AS114+1","v":182},183,184,185,null,"=+IMPORTARDATOSDINAMICOS(\"BAS181\",TABLAS!$A$1011)","=+IMPORTARDATOSDINAMICOS(\"BAS182\",TABLAS!$A$1011)","=+IMPORTARDATOSDINAMICOS(\"BAS183\",TABLAS!$A$1011)","=+IMPORTARDATOSDINAMICOS(\"BAS184\",TABLAS!$A$1011)","=+IMPORTARDATOSDINAMICOS(\"BAS185\",TABLAS!$A$1011)"]
["PRUEBA RAPIDA DE HEPATITIS B [R0005]",null,null,{"$f":"+GETPIVOTDATA(\"BAS186\",TABLAS!$A$230)","v":0},{"$f":"+GETPIVOTDATA(\"BAS187\",TABLAS!$A$230)","v":0},{"$f":"+GETPIVOTDATA(\"BAS188\",TABLAS!$A$230)","v":0},{"$f":"+GETPIVOTDATA(\"BAS189\",TABLAS!$A$230)","v":0},{"$f":"+GETPIVOTDATA(\"BAS190\",TABLAS!$A$230)","v":0},0,{"$f":"+GETPIVOTDATA(\"BAS186\",TABLAS!$A$351)","v":0},{"$f":"+GETPIVOTDATA(\"BAS187\",TABLAS!$A$351)","v":0},{"$f":"+GETPIVOTDATA(\"BAS188\",TABLAS!$A$351)","v":0},{"$f":"+GETPIVOTDATA(\"BAS189\",TABLAS!$A$351)","v":0},{"$f":"+GETPIVOTDATA(\"BAS190\",TABLAS!$A$351)","v":0},0,{"$f":"+GETPIVOTDATA(\"BAS186\",TABLAS!$A$501)","v":0},{"$f":"+GETPIVOTDATA(\"BAS187\",TABLAS!$A$501)","v":0},{"$f":"+GETPIVOTDATA(\"BAS188\",TABLAS!$A$501)","v":0},{"$f":"+GETPIVOTDATA(\"BAS189\",TABLAS!$A$501)","v":0},{"$f":"+GETPIVOTDATA(\"BAS190\",TABLAS!$A$501)","v":0},0,0,null,{"$f":"+GETPIVOTDATA(\"BAS186\",TABLAS!$A$651)","v":0},{"$f":"+GETPIVOTDATA(\"BAS187\",TABLAS!$A$651)","v":0},{"$f":"+GETPIVOTDATA(\"BAS188\",TABLAS!$A$651)","v":0},{"$f":"+GETPIVOTDATA(\"BAS189\",TABLAS!$A$651)","v":0},{"$f":"+GETPIVOTDATA(\"BAS190\",TABLAS!$A$651)","v":0},0,{"$f":"+GETPIVOTDATA(\"BAS186\",TABLAS!$A$771)","v":0},{"$f":"+GETPIVOTDATA(\"BAS187\",TABLAS!$A$771)","v":0},{"$f":"+GETPIVOTDATA(\"BAS188\",TABLAS!$A$771)","v":0},{"$f":"+GETPIVOTDATA(\"BAS189\",TABLAS!$A$771)","v":0},{"$f":"+GETPIVOTDATA(\"BAS190\",TABLAS!$A$771)","v":0},0,{"$f":"+GETPIVOTDATA(\"BAS186\",TABLAS!$A$921)","v":0},{"$f":"+GETPIVOTDATA(\"BAS187\",TABLAS!$A$921)","v":0},{"$f":"+GETPIVOTDATA(\"BAS188\",TABLAS!$A$921)","v":0},{"$f":"+GETPIVOTDATA(\"BAS189\",TABLAS!$A$921)","v":0},{"$f":"+GETPIVOTDATA(\"BAS190\",TABLAS!$A$921)","v":0},0,0,null,null,186,{"$f":"+AS115+1","v":187},188,189,190,null,"=+IMPORTARDATOSDINAMICOS(\"BAS186\",TABLAS!$A$1011)","=+IMPORTARDATOSDINAMICOS(\"BAS187\",TABLAS!$A$1011)","=+IMPORTARDATOSDINAMICOS(\"BAS188\",TABLAS!$A$1011)","=+IMPORTARDATOSDINAMICOS(\"BAS189\",TABLAS!$A$1011)","=+IMPORTARDATOSDINAMICOS(\"BAS190\",TABLAS!$A$1011)"]
["ANTICUERPO CONTRA EL ANTIGENO DE SUPERFICIE DE HEPATITIS B (86706)",null,null,{"$f":"+GETPIVOTDATA(\"BAS191\",TABLAS!$A$230)","v":0},{"$f":"+GETPIVOTDATA(\"BAS192\",TABLAS!$A$230)","v":0},{"$f":"+GETPIVOTDATA(\"BAS193\",TABLAS!$A$230)","v":0},{"$f":"+GETPIVOTDATA(\"BAS194\",TABLAS!$A$230)","v":0},{"$f":"+GETPIVOTDATA(\"BAS195\",TABLAS!$A$230)","v":0},0,{"$f":"+GETPIVOTDATA(\"BAS191\",TABLAS!$A$351)","v":0},{"$f":"+GETPIVOTDATA(\"BAS192\",TABLAS!$A$351)","v":0},{"$f":"+GETPIVOTDATA(\"BAS193\",TABLAS!$A$351)","v":0},{"$f":"+GETPIVOTDATA(\"BAS194\",TABLAS!$A$351)","v":0},{"$f":"+GETPIVOTDATA(\"BAS195\",TABLAS!$A$351)","v":0},0,{"$f":"+GETPIVOTDATA(\"BAS191\",TABLAS!$A$501)","v":0},{"$f":"+GETPIVOTDATA(\"BAS192\",TABLAS!$A$501)","v":0},{"$f":"+GETPIVOTDATA(\"BAS193\",TABLAS!$A$501)","v":0},{"$f":"+GETPIVOTDATA(\"BAS194\",TABLAS!$A$501)","v":0},{"$f":"+GETPIVOTDATA(\"BAS195\",TABLAS!$A$501)","v":0},0,0,null,{"$f":"+GETPIVOTDATA(\"BAS191\",TABLAS!$A$651)","v":0},{"$f":"+GETPIVOTDATA(\"BAS192\",TABLAS!$A$651)","v":0},{"$f":"+GETPIVOTDATA(\"BAS193\",TABLAS!$A$651)","v":0},{"$f":"+GETPIVOTDATA(\"BAS194\",TABLAS!$A$651)","v":0},{"$f":"+GETPIVOTDATA(\"BAS195\",TABLAS!$A$651)","v":0},0,{"$f":"+GETPIVOTDATA(\"BAS191\",TABLAS!$A$771)","v":0},{"$f":"+GETPIVOTDATA(\"BAS192\",TABLAS!$A$771)","v":0},{"$f":"+GETPIVOTDATA(\"BAS193\",TABLAS!$A$771)","v":0},{"$f":"+GETPIVOTDATA(\"BAS194\",TABLAS!$A$771)","v":0},{"$f":"+GETPIVOTDATA(\"BAS195\",TABLAS!$A$771)","v":0},0,{"$f":"+GETPIVOTDATA(\"BAS191\",TABLAS!$A$921)","v":0},{"$f":"+GETPIVOTDATA(\"BAS192\",TABLAS!$A$921)","v":0},{"$f":"+GETPIVOTDATA(\"BAS193\",TABLAS!$A$921)","v":0},{"$f":"+GETPIVOTDATA(\"BAS194\",TABLAS!$A$921)","v":0},{"$f":"+GETPIVOTDATA(\"BAS195\",TABLAS!$A$921)","v":0},0,0,null,null,191,{"$f":"+AS116+1","v":192},193,194,195,null,"=+IMPORTARDATOSDINAMICOS(\"BAS191\",TABLAS!$A$1011)","=+IMPORTARDATOSDINAMICOS(\"BAS192\",TABLAS!$A$1011)","=+IMPORTARDATOSDINAMICOS(\"BAS193\",TABLAS!$A$1011)","=+IMPORTARDATOSDINAMICOS(\"BAS194\",TABLAS!$A$1011)","=+IMPORTARDATOSDINAMICOS(\"BAS195\",TABLAS!$A$1011)"]
["ANTICUERPO CONTRA HEPATITIS - C [86803]",null,null,{"$f":"+GETPIVOTDATA(\"BAS196\",TABLAS!$A$230)","v":0},{"$f":"+GETPIVOTDATA(\"BAS197\",TABLAS!$A$230)","v":0},{"$f":"+GETPIVOTDATA(\"BAS198\",TABLAS!$A$230)","v":0},{"$f":"+GETPIVOTDATA(\"BAS199\",TABLAS!$A$230)","v":0},{"$f":"+GETPIVOTDATA(\"BAS200\",TABLAS!$A$230)","v":0},0,{"$f":"+GETPIVOTDATA(\"BAS196\",TABLAS!$A$351)","v":0},{"$f":"+GETPIVOTDATA(\"BAS197\",TABLAS!$A$351)","v":0},{"$f":"+GETPIVOTDATA(\"BAS198\",TABLAS!$A$351)","v":0},{"$f":"+GETPIVOTDATA(\"BAS199\",TABLAS!$A$351)","v":0},{"$f":"+GETPIVOTDATA(\"BAS200\",TABLAS!$A$351)","v":0},0,{"$f":"+GETPIVOTDATA(\"BAS196\",TABLAS!$A$501)","v":0},{"$f":"+GETPIVOTDATA(\"BAS197\",TABLAS!$A$501)","v":0},{"$f":"+GETPIVOTDATA(\"BAS198\",TABLAS!$A$501)","v":0},{"$f":"+GETPIVOTDATA(\"BAS199\",TABLAS!$A$501)","v":0},{"$f":"+GETPIVOTDATA(\"BAS200\",TABLAS!$A$501)","v":0},0,0,null,{"$f":"+GETPIVOTDATA(\"BAS196\",TABLAS!$A$651)","v":0},{"$f":"+GETPIVOTDATA(\"BAS197\",TABLAS!$A$651)","v":0},{"$f":"+GETPIVOTDATA(\"BAS198\",TABLAS!$A$651)","v":0},{"$f":"+GETPIVOTDATA(\"BAS199\",TABLAS!$A$651)","v":0},{"$f":"+GETPIVOTDATA(\"BAS200\",TABLAS!$A$651)","v":0},0,{"$f":"+GETPIVOTDATA(\"BAS196\",TABLAS!$A$771)","v":0},{"$f":"+GETPIVOTDATA(\"BAS197\",TABLAS!$A$771)","v":0},{"$f":"+GETPIVOTDATA(\"BAS198\",TABLAS!$A$771)","v":0},{"$f":"+GETPIVOTDATA(\"BAS199\",TABLAS!$A$771)","v":0},{"$f":"+GETPIVOTDATA(\"BAS200\",TABLAS!$A$771)","v":0},0,{"$f":"+GETPIVOTDATA(\"BAS196\",TABLAS!$A$921)","v":0},{"$f":"+GETPIVOTDATA(\"BAS197\",TABLAS!$A$921)","v":0},{"$f":"+GETPIVOTDATA(\"BAS198\",TABLAS!$A$921)","v":0},{"$f":"+GETPIVOTDATA(\"BAS199\",TABLAS!$A$921)","v":0},{"$f":"+GETPIVOTDATA(\"BAS200\",TABLAS!$A$921)","v":0},0,0,null,null,196,{"$f":"+AS117+1","v":197},198,199,200,null,"=+IMPORTARDATOSDINAMICOS(\"BAS196\",TABLAS!$A$1011)","=+IMPORTARDATOSDINAMICOS(\"BAS197\",TABLAS!$A$1011)","=+IMPORTARDATOSDINAMICOS(\"BAS198\",TABLAS!$A$1011)","=+IMPORTARDATOSDINAMICOS(\"BAS199\",TABLAS!$A$1011)","=+IMPORTARDATOSDINAMICOS(\"BAS200\",TABLAS!$A$1011)"]
["ANTICUERPO CONTRA LA MALARIA (86750)",null,null,{"$f":"+GETPIVOTDATA(\"BAS201\",TABLAS!$A$230)","v":0},{"$f":"+GETPIVOTDATA(\"BAS202\",TABLAS!$A$230)","v":0},{"$f":"+GETPIVOTDATA(\"BAS203\",TABLAS!$A$230)","v":0},{"$f":"+GETPIVOTDATA(\"BAS204\",TABLAS!$A$230)","v":0},{"$f":"+GETPIVOTDATA(\"BAS205\",TABLAS!$A$230)","v":0},0,{"$f":"+GETPIVOTDATA(\"BAS201\",TABLAS!$A$351)","v":0},{"$f":"+GETPIVOTDATA(\"BAS202\",TABLAS!$A$351)","v":0},{"$f":"+GETPIVOTDATA(\"BAS203\",TABLAS!$A$351)","v":0},{"$f":"+GETPIVOTDATA(\"BAS204\",TABLAS!$A$351)","v":0},{"$f":"+GETPIVOTDATA(\"BAS205\",TABLAS!$A$351)","v":0},0,{"$f":"+GETPIVOTDATA(\"BAS201\",TABLAS!$A$501)","v":0},{"$f":"+GETPIVOTDATA(\"BAS202\",TABLAS!$A$501)","v":0},{"$f":"+GETPIVOTDATA(\"BAS203\",TABLAS!$A$501)","v":0},{"$f":"+GETPIVOTDATA(\"BAS204\",TABLAS!$A$501)","v":0},{"$f":"+GETPIVOTDATA(\"BAS205\",TABLAS!$A$501)","v":0},0,0,null,{"$f":"+GETPIVOTDATA(\"BAS201\",TABLAS!$A$651)","v":0},{"$f":"+GETPIVOTDATA(\"BAS202\",TABLAS!$A$651)","v":0},{"$f":"+GETPIVOTDATA(\"BAS203\",TABLAS!$A$651)","v":0},{"$f":"+GETPIVOTDATA(\"BAS204\",TABLAS!$A$651)","v":0},{"$f":"+GETPIVOTDATA(\"BAS205\",TABLAS!$A$651)","v":0},0,{"$f":"+GETPIVOTDATA(\"BAS201\",TABLAS!$A$771)","v":0},{"$f":"+GETPIVOTDATA(\"BAS202\",TABLAS!$A$771)","v":0},{"$f":"+GETPIVOTDATA(\"BAS203\",TABLAS!$A$771)","v":0},{"$f":"+GETPIVOTDATA(\"BAS204\",TABLAS!$A$771)","v":0},{"$f":"+GETPIVOTDATA(\"BAS205\",TABLAS!$A$771)","v":0},0,{"$f":"+GETPIVOTDATA(\"BAS201\",TABLAS!$A$921)","v":0},{"$f":"+GETPIVOTDATA(\"BAS202\",TABLAS!$A$921)","v":0},{"$f":"+GETPIVOTDATA(\"BAS203\",TABLAS!$A$921)","v":0},{"$f":"+GETPIVOTDATA(\"BAS204\",TABLAS!$A$921)","v":0},{"$f":"+GETPIVOTDATA(\"BAS205\",TABLAS!$A$921)","v":0},0,0,null,null,201,{"$f":"+AS118+1","v":202},203,204,205,null,"=+IMPORTARDATOSDINAMICOS(\"BAS201\",TABLAS!$A$1011)","=+IMPORTARDATOSDINAMICOS(\"BAS202\",TABLAS!$A$1011)","=+IMPORTARDATOSDINAMICOS(\"BAS203\",TABLAS!$A$1011)","=+IMPORTARDATOSDINAMICOS(\"BAS204\",TABLAS!$A$1011)","=+IMPORTARDATOSDINAMICOS(\"BAS205\",TABLAS!$A$1011)"]
["ANTICUERPO CONTRA VIRUS NO ESPECIFICO (86790)",null,null,{"$f":"+GETPIVOTDATA(\"BAS206\",TABLAS!$A$230)","v":0},{"$f":"+GETPIVOTDATA(\"BAS207\",TABLAS!$A$230)","v":0},{"$f":"+GETPIVOTDATA(\"BAS208\",TABLAS!$A$230)","v":0},{"$f":"+GETPIVOTDATA(\"BAS209\",TABLAS!$A$230)","v":0},{"$f":"+GETPIVOTDATA(\"BAS210\",TABLAS!$A$230)","v":0},0,{"$f":"+GETPIVOTDATA(\"BAS206\",TABLAS!$A$351)","v":0},{"$f":"+GETPIVOTDATA(\"BAS207\",TABLAS!$A$351)","v":0},{"$f":"+GETPIVOTDATA(\"BAS208\",TABLAS!$A$351)","v":0},{"$f":"+GETPIVOTDATA(\"BAS209\",TABLAS!$A$351)","v":0},{"$f":"+GETPIVOTDATA(\"BAS210\",TABLAS!$A$351)","v":0},0,{"$f":"+GETPIVOTDATA(\"BAS206\",TABLAS!$A$501)","v":0},{"$f":"+GETPIVOTDATA(\"BAS207\",TABLAS!$A$501)","v":0},{"$f":"+GETPIVOTDATA(\"BAS208\",TABLAS!$A$501)","v":0},{"$f":"+GETPIVOTDATA(\"BAS209\",TABLAS!$A$501)","v":0},{"$f":"+GETPIVOTDATA(\"BAS210\",TABLAS!$A$501)","v":0},0,0,null,{"$f":"+GETPIVOTDATA(\"BAS206\",TABLAS!$A$651)","v":0},{"$f":"+GETPIVOTDATA(\"BAS207\",TABLAS!$A$651)","v":0},{"$f":"+GETPIVOTDATA(\"BAS208\",TABLAS!$A$651)","v":0},{"$f":"+GETPIVOTDATA(\"BAS209\",TABLAS!$A$651)","v":0},{"$f":"+GETPIVOTDATA(\"BAS210\",TABLAS!$A$651)","v":0},0,{"$f":"+GETPIVOTDATA(\"BAS206\",TABLAS!$A$771)","v":0},{"$f":"+GETPIVOTDATA(\"BAS207\",TABLAS!$A$771)","v":0},{"$f":"+GETPIVOTDATA(\"BAS208\",TABLAS!$A$771)","v":0},{"$f":"+GETPIVOTDATA(\"BAS209\",TABLAS!$A$771)","v":0},{"$f":"+GETPIVOTDATA(\"BAS210\",TABLAS!$A$771)","v":0},0,{"$f":"+GETPIVOTDATA(\"BAS206\",TABLAS!$A$921)","v":0},{"$f":"+GETPIVOTDATA(\"BAS207\",TABLAS!$A$921)","v":0},{"$f":"+GETPIVOTDATA(\"BAS208\",TABLAS!$A$921)","v":0},{"$f":"+GETPIVOTDATA(\"BAS209\",TABLAS!$A$921)","v":0},{"$f":"+GETPIVOTDATA(\"BAS210\",TABLAS!$A$921)","v":0},0,0,null,null,206,{"$f":"+AS119+1","v":207},208,209,210,null,"=+IMPORTARDATOSDINAMICOS(\"BAS206\",TABLAS!$A$1011)","=+IMPORTARDATOSDINAMICOS(\"BAS207\",TABLAS!$A$1011)","=+IMPORTARDATOSDINAMICOS(\"BAS208\",TABLAS!$A$1011)","=+IMPORTARDATOSDINAMICOS(\"BAS209\",TABLAS!$A$1011)","=+IMPORTARDATOSDINAMICOS(\"BAS210\",TABLAS!$A$1011)"]
["ANTICUERPO PARA CLAMYDEA (87810)",null,null,{"$f":"+GETPIVOTDATA(\"BAS211\",TABLAS!$A$230)","v":0},{"$f":"+GETPIVOTDATA(\"BAS212\",TABLAS!$A$230)","v":0},{"$f":"+GETPIVOTDATA(\"BAS213\",TABLAS!$A$230)","v":0},{"$f":"+GETPIVOTDATA(\"BAS214\",TABLAS!$A$230)","v":0},{"$f":"+GETPIVOTDATA(\"BAS215\",TABLAS!$A$230)","v":0},0,{"$f":"+GETPIVOTDATA(\"BAS211\",TABLAS!$A$351)","v":0},{"$f":"+GETPIVOTDATA(\"BAS212\",TABLAS!$A$351)","v":0},{"$f":"+GETPIVOTDATA(\"BAS213\",TABLAS!$A$351)","v":0},{"$f":"+GETPIVOTDATA(\"BAS214\",TABLAS!$A$351)","v":0},{"$f":"+GETPIVOTDATA(\"BAS215\",TABLAS!$A$351)","v":0},0,{"$f":"+GETPIVOTDATA(\"BAS211\",TABLAS!$A$501)","v":0},{"$f":"+GETPIVOTDATA(\"BAS212\",TABLAS!$A$501)","v":0},{"$f":"+GETPIVOTDATA(\"BAS213\",TABLAS!$A$501)","v":0},{"$f":"+GETPIVOTDATA(\"BAS214\",TABLAS!$A$501)","v":0},{"$f":"+GETPIVOTDATA(\"BAS215\",TABLAS!$A$501)","v":0},0,0,null,{"$f":"+GETPIVOTDATA(\"BAS211\",TABLAS!$A$651)","v":0},{"$f":"+GETPIVOTDATA(\"BAS212\",TABLAS!$A$651)","v":0},{"$f":"+GETPIVOTDATA(\"BAS213\",TABLAS!$A$651)","v":0},{"$f":"+GETPIVOTDATA(\"BAS214\",TABLAS!$A$651)","v":0},{"$f":"+GETPIVOTDATA(\"BAS215\",TABLAS!$A$651)","v":0},0,{"$f":"+GETPIVOTDATA(\"BAS211\",TABLAS!$A$771)","v":0},{"$f":"+GETPIVOTDATA(\"BAS212\",TABLAS!$A$771)","v":0},{"$f":"+GETPIVOTDATA(\"BAS213\",TABLAS!$A$771)","v":0},{"$f":"+GETPIVOTDATA(\"BAS214\",TABLAS!$A$771)","v":0},{"$f":"+GETPIVOTDATA(\"BAS215\",TABLAS!$A$771)","v":0},0,{"$f":"+GETPIVOTDATA(\"BAS211\",TABLAS!$A$921)","v":0},{"$f":"+GETPIVOTDATA(\"BAS212\",TABLAS!$A$921)","v":0},{"$f":"+GETPIVOTDATA(\"BAS213\",TABLAS!$A$921)","v":0},{"$f":"+GETPIVOTDATA(\"BAS214\",TABLAS!$A$921)","v":0},{"$f":"+GETPIVOTDATA(\"BAS215\",TABLAS!$A$921)","v":0},0,0,null,null,211,{"$f":"+AS120+1","v":212},213,214,215,null,"=+IMPORTARDATOSDINAMICOS(\"BAS211\",TABLAS!$A$1011)","=+IMPORTARDATOSDINAMICOS(\"BAS212\",TABLAS!$A$1011)","=+IMPORTARDATOSDINAMICOS(\"BAS213\",TABLAS!$A$1011)","=+IMPORTARDATOSDINAMICOS(\"BAS214\",TABLAS!$A$1011)","=+IMPORTARDATOSDINAMICOS(\"BAS215\",TABLAS!$A$1011)"]
["PRUEBA RAPIDA PARA SIFILIS [R0006]",null,null,{"$f":"+GETPIVOTDATA(\"BAS216\",TABLAS!$A$230)","v":0},{"$f":"+GETPIVOTDATA(\"BAS217\",TABLAS!$A$230)","v":0},{"$f":"+GETPIVOTDATA(\"BAS218\",TABLAS!$A$230)","v":0},{"$f":"+GETPIVOTDATA(\"BAS219\",TABLAS!$A$230)","v":0},{"$f":"+GETPIVOTDATA(\"BAS220\",TABLAS!$A$230)","v":0},0,{"$f":"+GETPIVOTDATA(\"BAS216\",TABLAS!$A$351)","v":0},{"$f":"+GETPIVOTDATA(\"BAS217\",TABLAS!$A$351)","v":0},{"$f":"+GETPIVOTDATA(\"BAS218\",TABLAS!$A$351)","v":0},{"$f":"+GETPIVOTDATA(\"BAS219\",TABLAS!$A$351)","v":0},{"$f":"+GETPIVOTDATA(\"BAS220\",TABLAS!$A$351)","v":0},0,{"$f":"+GETPIVOTDATA(\"BAS216\",TABLAS!$A$501)","v":0},{"$f":"+GETPIVOTDATA(\"BAS217\",TABLAS!$A$501)","v":0},{"$f":"+GETPIVOTDATA(\"BAS218\",TABLAS!$A$501)","v":0},{"$f":"+GETPIVOTDATA(\"BAS219\",TABLAS!$A$501)","v":0},{"$f":"+GETPIVOTDATA(\"BAS220\",TABLAS!$A$501)","v":0},0,0,null,{"$f":"+GETPIVOTDATA(\"BAS216\",TABLAS!$A$651)","v":0},{"$f":"+GETPIVOTDATA(\"BAS217\",TABLAS!$A$651)","v":0},{"$f":"+GETPIVOTDATA(\"BAS218\",TABLAS!$A$651)","v":0},{"$f":"+GETPIVOTDATA(\"BAS219\",TABLAS!$A$651)","v":0},{"$f":"+GETPIVOTDATA(\"BAS220\",TABLAS!$A$651)","v":0},0,{"$f":"+GETPIVOTDATA(\"BAS216\",TABLAS!$A$771)","v":0},{"$f":"+GETPIVOTDATA(\"BAS217\",TABLAS!$A$771)","v":0},{"$f":"+GETPIVOTDATA(\"BAS218\",TABLAS!$A$771)","v":0},{"$f":"+GETPIVOTDATA(\"BAS219\",TABLAS!$A$771)","v":0},{"$f":"+GETPIVOTDATA(\"BAS220\",TABLAS!$A$771)","v":0},0,{"$f":"+GETPIVOTDATA(\"BAS216\",TABLAS!$A$921)","v":0},{"$f":"+GETPIVOTDATA(\"BAS217\",TABLAS!$A$921)","v":0},{"$f":"+GETPIVOTDATA(\"BAS218\",TABLAS!$A$921)","v":0},{"$f":"+GETPIVOTDATA(\"BAS219\",TABLAS!$A$921)","v":0},{"$f":"+GETPIVOTDATA(\"BAS220\",TABLAS!$A$921)","v":0},0,0,null,null,216,{"$f":"+AS121+1","v":217},218,219,220,null,"=+IMPORTARDATOSDINAMICOS(\"BAS216\",TABLAS!$A$1011)","=+IMPORTARDATOSDINAMICOS(\"BAS217\",TABLAS!$A$1011)","=+IMPORTARDATOSDINAMICOS(\"BAS218\",TABLAS!$A$1011)","=+IMPORTARDATOSDINAMICOS(\"BAS219\",TABLAS!$A$1011)","=+IMPORTARDATOSDINAMICOS(\"BAS220\",TABLAS!$A$1011)"]
["PRUEBA RAPIDA DE VIH [R0007]",null,null,{"$f":"+GETPIVOTDATA(\"BAS221\",TABLAS!$A$230)","v":0},{"$f":"+GETPIVOTDATA(\"BAS222\",TABLAS!$A$230)","v":0},{"$f":"+GETPIVOTDATA(\"BAS223\",TABLAS!$A$230)","v":0},{"$f":"+GETPIVOTDATA(\"BAS224\",TABLAS!$A$230)","v":0},{"$f":"+GETPIVOTDATA(\"BAS225\",TABLAS!$A$230)","v":0},0,{"$f":"+GETPIVOTDATA(\"BAS221\",TABLAS!$A$351)","v":0},{"$f":"+GETPIVOTDATA(\"BAS222\",TABLAS!$A$351)","v":0},{"$f":"+GETPIVOTDATA(\"BAS223\",TABLAS!$A$351)","v":0},{"$f":"+GETPIVOTDATA(\"BAS224\",TABLAS!$A$351)","v":0},{"$f":"+GETPIVOTDATA(\"BAS225\",TABLAS!$A$351)","v":0},0,{"$f":"+GETPIVOTDATA(\"BAS221\",TABLAS!$A$501)","v":0},{"$f":"+GETPIVOTDATA(\"BAS222\",TABLAS!$A$501)","v":0},{"$f":"+GETPIVOTDATA(\"BAS223\",TABLAS!$A$501)","v":0},{"$f":"+GETPIVOTDATA(\"BAS224\",TABLAS!$A$501)","v":0},{"$f":"+GETPIVOTDATA(\"BAS225\",TABLAS!$A$501)","v":0},0,0,null,{"$f":"+GETPIVOTDATA(\"BAS221\",TABLAS!$A$651)","v":0},{"$f":"+GETPIVOTDATA(\"BAS222\",TABLAS!$A$651)","v":0},{"$f":"+GETPIVOTDATA(\"BAS223\",TABLAS!$A$651)","v":0},{"$f":"+GETPIVOTDATA(\"BAS224\",TABLAS!$A$651)","v":0},{"$f":"+GETPIVOTDATA(\"BAS225\",TABLAS!$A$651)","v":0},0,{"$f":"+GETPIVOTDATA(\"BAS221\",TABLAS!$A$771)","v":0},{"$f":"+GETPIVOTDATA(\"BAS222\",TABLAS!$A$771)","v":0},{"$f":"+GETPIVOTDATA(\"BAS223\",TABLAS!$A$771)","v":0},{"$f":"+GETPIVOTDATA(\"BAS224\",TABLAS!$A$771)","v":0},{"$f":"+GETPIVOTDATA(\"BAS225\",TABLAS!$A$771)","v":0},0,{"$f":"+GETPIVOTDATA(\"BAS221\",TABLAS!$A$921)","v":0},{"$f":"+GETPIVOTDATA(\"BAS222\",TABLAS!$A$921)","v":0},{"$f":"+GETPIVOTDATA(\"BAS223\",TABLAS!$A$921)","v":0},{"$f":"+GETPIVOTDATA(\"BAS224\",TABLAS!$A$921)","v":0},{"$f":"+GETPIVOTDATA(\"BAS225\",TABLAS!$A$921)","v":0},0,0,null,null,221,{"$f":"+AS122+1","v":222},223,224,225,null,"=+IMPORTARDATOSDINAMICOS(\"BAS221\",TABLAS!$A$1011)","=+IMPORTARDATOSDINAMICOS(\"BAS222\",TABLAS!$A$1011)","=+IMPORTARDATOSDINAMICOS(\"BAS223\",TABLAS!$A$1011)","=+IMPORTARDATOSDINAMICOS(\"BAS224\",TABLAS!$A$1011)","=+IMPORTARDATOSDINAMICOS(\"BAS225\",TABLAS!$A$1011)"]
["PRUEBA RAPIDA DE VIH/SIFILIS DUALES [R0008]",null,null,{"$f":"+GETPIVOTDATA(\"BAS226\",TABLAS!$A$230)","v":0},{"$f":"+GETPIVOTDATA(\"BAS227\",TABLAS!$A$230)","v":0},{"$f":"+GETPIVOTDATA(\"BAS228\",TABLAS!$A$230)","v":0},{"$f":"+GETPIVOTDATA(\"BAS229\",TABLAS!$A$230)","v":0},{"$f":"+GETPIVOTDATA(\"BAS230\",TABLAS!$A$230)","v":0},0,{"$f":"+GETPIVOTDATA(\"BAS226\",TABLAS!$A$351)","v":0},{"$f":"+GETPIVOTDATA(\"BAS227\",TABLAS!$A$351)","v":0},{"$f":"+GETPIVOTDATA(\"BAS228\",TABLAS!$A$351)","v":0},{"$f":"+GETPIVOTDATA(\"BAS229\",TABLAS!$A$351)","v":0},{"$f":"+GETPIVOTDATA(\"BAS230\",TABLAS!$A$351)","v":0},0,{"$f":"+GETPIVOTDATA(\"BAS226\",TABLAS!$A$501)","v":0},{"$f":"+GETPIVOTDATA(\"BAS227\",TABLAS!$A$501)","v":0},{"$f":"+GETPIVOTDATA(\"BAS228\",TABLAS!$A$501)","v":0},{"$f":"+GETPIVOTDATA(\"BAS229\",TABLAS!$A$501)","v":0},{"$f":"+GETPIVOTDATA(\"BAS230\",TABLAS!$A$501)","v":0},0,0,null,{"$f":"+GETPIVOTDATA(\"BAS226\",TABLAS!$A$651)","v":0},{"$f":"+GETPIVOTDATA(\"BAS227\",TABLAS!$A$651)","v":0},{"$f":"+GETPIVOTDATA(\"BAS228\",TABLAS!$A$651)","v":0},{"$f":"+GETPIVOTDATA(\"BAS229\",TABLAS!$A$651)","v":0},{"$f":"+GETPIVOTDATA(\"BAS230\",TABLAS!$A$651)","v":0},0,{"$f":"+GETPIVOTDATA(\"BAS226\",TABLAS!$A$771)","v":0},{"$f":"+GETPIVOTDATA(\"BAS227\",TABLAS!$A$771)","v":0},{"$f":"+GETPIVOTDATA(\"BAS228\",TABLAS!$A$771)","v":0},{"$f":"+GETPIVOTDATA(\"BAS229\",TABLAS!$A$771)","v":0},{"$f":"+GETPIVOTDATA(\"BAS230\",TABLAS!$A$771)","v":0},0,{"$f":"+GETPIVOTDATA(\"BAS226\",TABLAS!$A$921)","v":0},{"$f":"+GETPIVOTDATA(\"BAS227\",TABLAS!$A$921)","v":0},{"$f":"+GETPIVOTDATA(\"BAS228\",TABLAS!$A$921)","v":0},{"$f":"+GETPIVOTDATA(\"BAS229\",TABLAS!$A$921)","v":0},{"$f":"+GETPIVOTDATA(\"BAS230\",TABLAS!$A$921)","v":0},0,0,null,null,226,{"$f":"+AS123+1","v":227},228,229,230,null,"=+IMPORTARDATOSDINAMICOS(\"BAS226\",TABLAS!$A$1011)","=+IMPORTARDATOSDINAMICOS(\"BAS227\",TABLAS!$A$1011)","=+IMPORTARDATOSDINAMICOS(\"BAS228\",TABLAS!$A$1011)","=+IMPORTARDATOSDINAMICOS(\"BAS229\",TABLAS!$A$1011)","=+IMPORTARDATOSDINAMICOS(\"BAS230\",TABLAS!$A$1011)"]
["PRUEBA RAPIDA DE HIDATIDOSIS [R0009]",null,null,{"$f":"+GETPIVOTDATA(\"BAS231\",TABLAS!$A$230)","v":0},{"$f":"+GETPIVOTDATA(\"BAS232\",TABLAS!$A$230)","v":0},{"$f":"+GETPIVOTDATA(\"BAS233\",TABLAS!$A$230)","v":0},{"$f":"+GETPIVOTDATA(\"BAS234\",TABLAS!$A$230)","v":0},{"$f":"+GETPIVOTDATA(\"BAS235\",TABLAS!$A$230)","v":0},0,{"$f":"+GETPIVOTDATA(\"BAS231\",TABLAS!$A$351)","v":0},{"$f":"+GETPIVOTDATA(\"BAS232\",TABLAS!$A$351)","v":0},{"$f":"+GETPIVOTDATA(\"BAS233\",TABLAS!$A$351)","v":0},{"$f":"+GETPIVOTDATA(\"BAS234\",TABLAS!$A$351)","v":0},{"$f":"+GETPIVOTDATA(\"BAS235\",TABLAS!$A$351)","v":0},0,{"$f":"+GETPIVOTDATA(\"BAS231\",TABLAS!$A$501)","v":0},{"$f":"+GETPIVOTDATA(\"BAS232\",TABLAS!$A$501)","v":0},{"$f":"+GETPIVOTDATA(\"BAS233\",TABLAS!$A$501)","v":0},{"$f":"+GETPIVOTDATA(\"BAS234\",TABLAS!$A$501)","v":0},{"$f":"+GETPIVOTDATA(\"BAS235\",TABLAS!$A$501)","v":0},0,0,null,{"$f":"+GETPIVOTDATA(\"BAS231\",TABLAS!$A$651)","v":0},{"$f":"+GETPIVOTDATA(\"BAS232\",TABLAS!$A$651)","v":0},{"$f":"+GETPIVOTDATA(\"BAS233\",TABLAS!$A$651)","v":0},{"$f":"+GETPIVOTDATA(\"BAS234\",TABLAS!$A$651)","v":0},{"$f":"+GETPIVOTDATA(\"BAS235\",TABLAS!$A$651)","v":0},0,{"$f":"+GETPIVOTDATA(\"BAS231\",TABLAS!$A$771)","v":0},{"$f":"+GETPIVOTDATA(\"BAS232\",TABLAS!$A$771)","v":0},{"$f":"+GETPIVOTDATA(\"BAS233\",TABLAS!$A$771)","v":0},{"$f":"+GETPIVOTDATA(\"BAS234\",TABLAS!$A$771)","v":0},{"$f":"+GETPIVOTDATA(\"BAS235\",TABLAS!$A$771)","v":0},0,{"$f":"+GETPIVOTDATA(\"BAS231\",TABLAS!$A$921)","v":0},{"$f":"+GETPIVOTDATA(\"BAS232\",TABLAS!$A$921)","v":0},{"$f":"+GETPIVOTDATA(\"BAS233\",TABLAS!$A$921)","v":0},{"$f":"+GETPIVOTDATA(\"BAS234\",TABLAS!$A$921)","v":0},{"$f":"+GETPIVOTDATA(\"BAS235\",TABLAS!$A$921)","v":0},0,0,null,null,231,{"$f":"+AS124+1","v":232},233,234,235,null,"=+IMPORTARDATOSDINAMICOS(\"BAS231\",TABLAS!$A$1011)","=+IMPORTARDATOSDINAMICOS(\"BAS232\",TABLAS!$A$1011)","=+IMPORTARDATOSDINAMICOS(\"BAS233\",TABLAS!$A$1011)","=+IMPORTARDATOSDINAMICOS(\"BAS234\",TABLAS!$A$1011)","=+IMPORTARDATOSDINAMICOS(\"BAS235\",TABLAS!$A$1011)"]
["ANTICUERPO PARA SIFILIS  [86780]",null,null,{"$f":"+GETPIVOTDATA(\"BAS001\",TABLAS!$A$260)","v":0},{"$f":"+GETPIVOTDATA(\"BAS002\",TABLAS!$A$260)","v":0},{"$f":"+GETPIVOTDATA(\"BAS003\",TABLAS!$A$260)","v":0},{"$f":"+GETPIVOTDATA(\"BAS004\",TABLAS!$A$260)","v":0},{"$f":"+GETPIVOTDATA(\"BAS005\",TABLAS!$A$260)","v":0},0,{"$f":"+GETPIVOTDATA(\"BAS001\",TABLAS!$A$381)","v":0},{"$f":"+GETPIVOTDATA(\"BAS002\",TABLAS!$A$381)","v":0},{"$f":"+GETPIVOTDATA(\"BAS003\",TABLAS!$A$381)","v":0},{"$f":"+GETPIVOTDATA(\"BAS004\",TABLAS!$A$381)","v":0},{"$f":"+GETPIVOTDATA(\"BAS005\",TABLAS!$A$381)","v":0},0,{"$f":"+GETPIVOTDATA(\"BAS001\",TABLAS!$A$531)","v":0},{"$f":"+GETPIVOTDATA(\"BAS002\",TABLAS!$A$531)","v":0},{"$f":"+GETPIVOTDATA(\"BAS003\",TABLAS!$A$531)","v":0},{"$f":"+GETPIVOTDATA(\"BAS004\",TABLAS!$A$531)","v":0},{"$f":"+GETPIVOTDATA(\"BAS005\",TABLAS!$A$531)","v":0},0,0,null,{"$f":"+GETPIVOTDATA(\"BAS001\",TABLAS!$A$681)","v":0},{"$f":"+GETPIVOTDATA(\"BAS002\",TABLAS!$A$681)","v":0},{"$f":"+GETPIVOTDATA(\"BAS003\",TABLAS!$A$681)","v":0},{"$f":"+GETPIVOTDATA(\"BAS004\",TABLAS!$A$681)","v":0},{"$f":"+GETPIVOTDATA(\"BAS005\",TABLAS!$A$681)","v":0},0,{"$f":"+GETPIVOTDATA(\"BAS001\",TABLAS!$A$801)","v":0},{"$f":"+GETPIVOTDATA(\"BAS002\",TABLAS!$A$801)","v":0},{"$f":"+GETPIVOTDATA(\"BAS003\",TABLAS!$A$801)","v":0},{"$f":"+GETPIVOTDATA(\"BAS004\",TABLAS!$A$801)","v":0},{"$f":"+GETPIVOTDATA(\"BAS005\",TABLAS!$A$801)","v":0},0,{"$f":"+GETPIVOTDATA(\"BAS001\",TABLAS!$A$951)","v":{"$error":"#REF!"}},{"$f":"+GETPIVOTDATA(\"BAS002\",TABLAS!$A$951)","v":{"$error":"#REF!"}},{"$f":"+GETPIVOTDATA(\"BAS003\",TABLAS!$A$951)","v":{"$error":"#REF!"}},{"$f":"+GETPIVOTDATA(\"BAS004\",TABLAS!$A$951)","v":{"$error":"#REF!"}},{"$f":"+GETPIVOTDATA(\"BAS005\",TABLAS!$A$951)","v":{"$error":"#REF!"}},{"$error":"#REF!"},{"$error":"#REF!"},null,null,1,{"$f":"+AS125+1","v":2},3,4,5,null,"=+IMPORTARDATOSDINAMICOS(\"BAS001\",TABLAS!$A$1011)","=+IMPORTARDATOSDINAMICOS(\"BAS002\",TABLAS!$A$1011)","=+IMPORTARDATOSDINAMICOS(\"BAS003\",TABLAS!$A$1011)","=+IMPORTARDATOSDINAMICOS(\"BAS004\",TABLAS!$A$1011)","=+IMPORTARDATOSDINAMICOS(\"BAS005\",TABLAS!$A$1011)"]
["ANTICUERPO, HELICOBACTER PYLORI  [86677]",null,null,{"$f":"+GETPIVOTDATA(\"BAS006\",TABLAS!$A$260)","v":0},{"$f":"+GETPIVOTDATA(\"BAS007\",TABLAS!$A$260)","v":0},{"$f":"+GETPIVOTDATA(\"BAS008\",TABLAS!$A$260)","v":0},{"$f":"+GETPIVOTDATA(\"BAS009\",TABLAS!$A$260)","v":0},{"$f":"+GETPIVOTDATA(\"BAS010\",TABLAS!$A$260)","v":0},0,{"$f":"+GETPIVOTDATA(\"BAS006\",TABLAS!$A$381)","v":0},{"$f":"+GETPIVOTDATA(\"BAS007\",TABLAS!$A$381)","v":0},{"$f":"+GETPIVOTDATA(\"BAS008\",TABLAS!$A$381)","v":0},{"$f":"+GETPIVOTDATA(\"BAS009\",TABLAS!$A$381)","v":0},{"$f":"+GETPIVOTDATA(\"BAS010\",TABLAS!$A$381)","v":0},0,{"$f":"+GETPIVOTDATA(\"BAS006\",TABLAS!$A$531)","v":0},{"$f":"+GETPIVOTDATA(\"BAS007\",TABLAS!$A$531)","v":0},{"$f":"+GETPIVOTDATA(\"BAS008\",TABLAS!$A$531)","v":0},{"$f":"+GETPIVOTDATA(\"BAS009\",TABLAS!$A$531)","v":0},{"$f":"+GETPIVOTDATA(\"BAS010\",TABLAS!$A$531)","v":0},0,0,null,{"$f":"+GETPIVOTDATA(\"BAS006\",TABLAS!$A$681)","v":0},{"$f":"+GETPIVOTDATA(\"BAS007\",TABLAS!$A$681)","v":0},{"$f":"+GETPIVOTDATA(\"BAS008\",TABLAS!$A$681)","v":0},{"$f":"+GETPIVOTDATA(\"BAS009\",TABLAS!$A$681)","v":0},{"$f":"+GETPIVOTDATA(\"BAS010\",TABLAS!$A$681)","v":0},0,{"$f":"+GETPIVOTDATA(\"BAS006\",TABLAS!$A$801)","v":0},{"$f":"+GETPIVOTDATA(\"BAS007\",TABLAS!$A$801)","v":0},{"$f":"+GETPIVOTDATA(\"BAS008\",TABLAS!$A$801)","v":0},{"$f":"+GETPIVOTDATA(\"BAS009\",TABLAS!$A$801)","v":0},{"$f":"+GETPIVOTDATA(\"BAS010\",TABLAS!$A$801)","v":0},0,{"$f":"+GETPIVOTDATA(\"BAS006\",TABLAS!$A$951)","v":{"$error":"#REF!"}},{"$f":"+GETPIVOTDATA(\"BAS007\",TABLAS!$A$951)","v":{"$error":"#REF!"}},{"$f":"+GETPIVOTDATA(\"BAS008\",TABLAS!$A$951)","v":{"$error":"#REF!"}},{"$f":"+GETPIVOTDATA(\"BAS009\",TABLAS!$A$951)","v":{"$error":"#REF!"}},{"$f":"+GETPIVOTDATA(\"BAS010\",TABLAS!$A$951)","v":{"$error":"#REF!"}},{"$error":"#REF!"},{"$error":"#REF!"},null,null,6,{"$f":"+AS126+1","v":7},8,9,10,null,"=+IMPORTARDATOSDINAMICOS(\"BAS006\",TABLAS!$A$1011)","=+IMPORTARDATOSDINAMICOS(\"BAS007\",TABLAS!$A$1011)","=+IMPORTARDATOSDINAMICOS(\"BAS008\",TABLAS!$A$1011)","=+IMPORTARDATOSDINAMICOS(\"BAS009\",TABLAS!$A$1011)","=+IMPORTARDATOSDINAMICOS(\"BAS010\",TABLAS!$A$1011)"]
["ANTICUERPO, HIV-1 Y HIV-2  [86703]",null,null,{"$f":"+GETPIVOTDATA(\"BAS011\",TABLAS!$A$260)","v":0},{"$f":"+GETPIVOTDATA(\"BAS012\",TABLAS!$A$260)","v":0},{"$f":"+GETPIVOTDATA(\"BAS013\",TABLAS!$A$260)","v":0},{"$f":"+GETPIVOTDATA(\"BAS014\",TABLAS!$A$260)","v":0},{"$f":"+GETPIVOTDATA(\"BAS015\",TABLAS!$A$260)","v":0},0,{"$f":"+GETPIVOTDATA(\"BAS011\",TABLAS!$A$381)","v":0},{"$f":"+GETPIVOTDATA(\"BAS012\",TABLAS!$A$381)","v":0},{"$f":"+GETPIVOTDATA(\"BAS013\",TABLAS!$A$381)","v":0},{"$f":"+GETPIVOTDATA(\"BAS014\",TABLAS!$A$381)","v":0},{"$f":"+GETPIVOTDATA(\"BAS015\",TABLAS!$A$381)","v":0},0,{"$f":"+GETPIVOTDATA(\"BAS011\",TABLAS!$A$531)","v":0},{"$f":"+GETPIVOTDATA(\"BAS012\",TABLAS!$A$531)","v":0},{"$f":"+GETPIVOTDATA(\"BAS013\",TABLAS!$A$531)","v":0},{"$f":"+GETPIVOTDATA(\"BAS014\",TABLAS!$A$531)","v":0},{"$f":"+GETPIVOTDATA(\"BAS015\",TABLAS!$A$531)","v":0},0,0,null,{"$f":"+GETPIVOTDATA(\"BAS011\",TABLAS!$A$681)","v":0},{"$f":"+GETPIVOTDATA(\"BAS012\",TABLAS!$A$681)","v":0},{"$f":"+GETPIVOTDATA(\"BAS013\",TABLAS!$A$681)","v":0},{"$f":"+GETPIVOTDATA(\"BAS014\",TABLAS!$A$681)","v":0},{"$f":"+GETPIVOTDATA(\"BAS015\",TABLAS!$A$681)","v":0},0,{"$f":"+GETPIVOTDATA(\"BAS011\",TABLAS!$A$801)","v":0},{"$f":"+GETPIVOTDATA(\"BAS012\",TABLAS!$A$801)","v":0},{"$f":"+GETPIVOTDATA(\"BAS013\",TABLAS!$A$801)","v":0},{"$f":"+GETPIVOTDATA(\"BAS014\",TABLAS!$A$801)","v":0},{"$f":"+GETPIVOTDATA(\"BAS015\",TABLAS!$A$801)","v":0},0,{"$f":"+GETPIVOTDATA(\"BAS011\",TABLAS!$A$951)","v":{"$error":"#REF!"}},{"$f":"+GETPIVOTDATA(\"BAS012\",TABLAS!$A$951)","v":{"$error":"#REF!"}},{"$f":"+GETPIVOTDATA(\"BAS013\",TABLAS!$A$951)","v":{"$error":"#REF!"}},{"$f":"+GETPIVOTDATA(\"BAS014\",TABLAS!$A$951)","v":{"$error":"#REF!"}},{"$f":"+GETPIVOTDATA(\"BAS015\",TABLAS!$A$951)","v":{"$error":"#REF!"}},{"$error":"#REF!"},{"$error":"#REF!"},null,null,11,{"$f":"+AS127+1","v":12},13,14,15,null,"=+IMPORTARDATOSDINAMICOS(\"BAS011\",TABLAS!$A$1011)","=+IMPORTARDATOSDINAMICOS(\"BAS012\",TABLAS!$A$1011)","=+IMPORTARDATOSDINAMICOS(\"BAS013\",TABLAS!$A$1011)","=+IMPORTARDATOSDINAMICOS(\"BAS014\",TABLAS!$A$1011)","=+IMPORTARDATOSDINAMICOS(\"BAS015\",TABLAS!$A$1011)"]
["ANTIESTREPTOLISINA O  [86060]",null,null,{"$f":"+GETPIVOTDATA(\"BAS016\",TABLAS!$A$260)","v":0},{"$f":"+GETPIVOTDATA(\"BAS017\",TABLAS!$A$260)","v":0},{"$f":"+GETPIVOTDATA(\"BAS018\",TABLAS!$A$260)","v":0},{"$f":"+GETPIVOTDATA(\"BAS019\",TABLAS!$A$260)","v":0},{"$f":"+GETPIVOTDATA(\"BAS020\",TABLAS!$A$260)","v":0},0,{"$f":"+GETPIVOTDATA(\"BAS016\",TABLAS!$A$381)","v":0},{"$f":"+GETPIVOTDATA(\"BAS017\",TABLAS!$A$381)","v":0},{"$f":"+GETPIVOTDATA(\"BAS018\",TABLAS!$A$381)","v":0},{"$f":"+GETPIVOTDATA(\"BAS019\",TABLAS!$A$381)","v":0},{"$f":"+GETPIVOTDATA(\"BAS020\",TABLAS!$A$381)","v":0},0,{"$f":"+GETPIVOTDATA(\"BAS016\",TABLAS!$A$531)","v":0},{"$f":"+GETPIVOTDATA(\"BAS017\",TABLAS!$A$531)","v":0},{"$f":"+GETPIVOTDATA(\"BAS018\",TABLAS!$A$531)","v":0},{"$f":"+GETPIVOTDATA(\"BAS019\",TABLAS!$A$531)","v":0},{"$f":"+GETPIVOTDATA(\"BAS020\",TABLAS!$A$531)","v":0},0,0,null,{"$f":"+GETPIVOTDATA(\"BAS016\",TABLAS!$A$681)","v":0},{"$f":"+GETPIVOTDATA(\"BAS017\",TABLAS!$A$681)","v":0},{"$f":"+GETPIVOTDATA(\"BAS018\",TABLAS!$A$681)","v":0},{"$f":"+GETPIVOTDATA(\"BAS019\",TABLAS!$A$681)","v":0},{"$f":"+GETPIVOTDATA(\"BAS020\",TABLAS!$A$681)","v":0},0,{"$f":"+GETPIVOTDATA(\"BAS016\",TABLAS!$A$801)","v":0},{"$f":"+GETPIVOTDATA(\"BAS017\",TABLAS!$A$801)","v":0},{"$f":"+GETPIVOTDATA(\"BAS018\",TABLAS!$A$801)","v":0},{"$f":"+GETPIVOTDATA(\"BAS019\",TABLAS!$A$801)","v":0},{"$f":"+GETPIVOTDATA(\"BAS020\",TABLAS!$A$801)","v":0},0,{"$f":"+GETPIVOTDATA(\"BAS016\",TABLAS!$A$951)","v":{"$error":"#REF!"}},{"$f":"+GETPIVOTDATA(\"BAS017\",TABLAS!$A$951)","v":{"$error":"#REF!"}},{"$f":"+GETPIVOTDATA(\"BAS018\",TABLAS!$A$951)","v":{"$error":"#REF!"}},{"$f":"+GETPIVOTDATA(\"BAS019\",TABLAS!$A$951)","v":{"$error":"#REF!"}},{"$f":"+GETPIVOTDATA(\"BAS020\",TABLAS!$A$951)","v":{"$error":"#REF!"}},{"$error":"#REF!"},{"$error":"#REF!"},null,null,16,{"$f":"+AS128+1","v":17},18,19,20,null,"=+IMPORTARDATOSDINAMICOS(\"BAS016\",TABLAS!$A$1011)","=+IMPORTARDATOSDINAMICOS(\"BAS017\",TABLAS!$A$1011)","=+IMPORTARDATOSDINAMICOS(\"BAS018\",TABLAS!$A$1011)","=+IMPORTARDATOSDINAMICOS(\"BAS019\",TABLAS!$A$1011)","=+IMPORTARDATOSDINAMICOS(\"BAS020\",TABLAS!$A$1011)"]
["B2 MICROGLOBULINA  [82232]",null,null,{"$f":"+GETPIVOTDATA(\"BAS021\",TABLAS!$A$260)","v":0},{"$f":"+GETPIVOTDATA(\"BAS022\",TABLAS!$A$260)","v":0},{"$f":"+GETPIVOTDATA(\"BAS023\",TABLAS!$A$260)","v":0},{"$f":"+GETPIVOTDATA(\"BAS024\",TABLAS!$A$260)","v":0},{"$f":"+GETPIVOTDATA(\"BAS025\",TABLAS!$A$260)","v":0},0,{"$f":"+GETPIVOTDATA(\"BAS021\",TABLAS!$A$381)","v":0},{"$f":"+GETPIVOTDATA(\"BAS022\",TABLAS!$A$381)","v":0},{"$f":"+GETPIVOTDATA(\"BAS023\",TABLAS!$A$381)","v":0},{"$f":"+GETPIVOTDATA(\"BAS024\",TABLAS!$A$381)","v":0},{"$f":"+GETPIVOTDATA(\"BAS025\",TABLAS!$A$381)","v":0},0,{"$f":"+GETPIVOTDATA(\"BAS021\",TABLAS!$A$531)","v":0},{"$f":"+GETPIVOTDATA(\"BAS022\",TABLAS!$A$531)","v":0},{"$f":"+GETPIVOTDATA(\"BAS023\",TABLAS!$A$531)","v":0},{"$f":"+GETPIVOTDATA(\"BAS024\",TABLAS!$A$531)","v":0},{"$f":"+GETPIVOTDATA(\"BAS025\",TABLAS!$A$531)","v":0},0,0,null,{"$f":"+GETPIVOTDATA(\"BAS021\",TABLAS!$A$681)","v":0},{"$f":"+GETPIVOTDATA(\"BAS022\",TABLAS!$A$681)","v":0},{"$f":"+GETPIVOTDATA(\"BAS023\",TABLAS!$A$681)","v":0},{"$f":"+GETPIVOTDATA(\"BAS024\",TABLAS!$A$681)","v":0},{"$f":"+GETPIVOTDATA(\"BAS025\",TABLAS!$A$681)","v":0},0,{"$f":"+GETPIVOTDATA(\"BAS021\",TABLAS!$A$801)","v":0},{"$f":"+GETPIVOTDATA(\"BAS022\",TABLAS!$A$801)","v":0},{"$f":"+GETPIVOTDATA(\"BAS023\",TABLAS!$A$801)","v":0},{"$f":"+GETPIVOTDATA(\"BAS024\",TABLAS!$A$801)","v":0},{"$f":"+GETPIVOTDATA(\"BAS025\",TABLAS!$A$801)","v":0},0,{"$f":"+GETPIVOTDATA(\"BAS021\",TABLAS!$A$951)","v":{"$error":"#REF!"}},{"$f":"+GETPIVOTDATA(\"BAS022\",TABLAS!$A$951)","v":{"$error":"#REF!"}},{"$f":"+GETPIVOTDATA(\"BAS023\",TABLAS!$A$951)","v":{"$error":"#REF!"}},{"$f":"+GETPIVOTDATA(\"BAS024\",TABLAS!$A$951)","v":{"$error":"#REF!"}},{"$f":"+GETPIVOTDATA(\"BAS025\",TABLAS!$A$951)","v":{"$error":"#REF!"}},{"$error":"#REF!"},{"$error":"#REF!"},null,null,21,{"$f":"+AS129+1","v":22},23,24,25,null,"=+IMPORTARDATOSDINAMICOS(\"BAS021\",TABLAS!$A$1011)","=+IMPORTARDATOSDINAMICOS(\"BAS022\",TABLAS!$A$1011)","=+IMPORTARDATOSDINAMICOS(\"BAS023\",TABLAS!$A$1011)","=+IMPORTARDATOSDINAMICOS(\"BAS024\",TABLAS!$A$1011)","=+IMPORTARDATOSDINAMICOS(\"BAS025\",TABLAS!$A$1011)"]
["BHCG CUALITATIVO  [84703]",null,null,{"$f":"+GETPIVOTDATA(\"BAS026\",TABLAS!$A$260)","v":0},{"$f":"+GETPIVOTDATA(\"BAS027\",TABLAS!$A$260)","v":0},{"$f":"+GETPIVOTDATA(\"BAS028\",TABLAS!$A$260)","v":0},{"$f":"+GETPIVOTDATA(\"BAS029\",TABLAS!$A$260)","v":0},{"$f":"+GETPIVOTDATA(\"BAS030\",TABLAS!$A$260)","v":0},0,{"$f":"+GETPIVOTDATA(\"BAS026\",TABLAS!$A$381)","v":0},{"$f":"+GETPIVOTDATA(\"BAS027\",TABLAS!$A$381)","v":0},{"$f":"+GETPIVOTDATA(\"BAS028\",TABLAS!$A$381)","v":0},{"$f":"+GETPIVOTDATA(\"BAS029\",TABLAS!$A$381)","v":0},{"$f":"+GETPIVOTDATA(\"BAS030\",TABLAS!$A$381)","v":0},0,{"$f":"+GETPIVOTDATA(\"BAS026\",TABLAS!$A$531)","v":0},{"$f":"+GETPIVOTDATA(\"BAS027\",TABLAS!$A$531)","v":0},{"$f":"+GETPIVOTDATA(\"BAS028\",TABLAS!$A$531)","v":0},{"$f":"+GETPIVOTDATA(\"BAS029\",TABLAS!$A$531)","v":0},{"$f":"+GETPIVOTDATA(\"BAS030\",TABLAS!$A$531)","v":0},0,0,null,{"$f":"+GETPIVOTDATA(\"BAS026\",TABLAS!$A$681)","v":0},{"$f":"+GETPIVOTDATA(\"BAS027\",TABLAS!$A$681)","v":0},{"$f":"+GETPIVOTDATA(\"BAS028\",TABLAS!$A$681)","v":0},{"$f":"+GETPIVOTDATA(\"BAS029\",TABLAS!$A$681)","v":0},{"$f":"+GETPIVOTDATA(\"BAS030\",TABLAS!$A$681)","v":0},0,{"$f":"+GETPIVOTDATA(\"BAS026\",TABLAS!$A$801)","v":0},{"$f":"+GETPIVOTDATA(\"BAS027\",TABLAS!$A$801)","v":0},{"$f":"+GETPIVOTDATA(\"BAS028\",TABLAS!$A$801)","v":0},{"$f":"+GETPIVOTDATA(\"BAS029\",TABLAS!$A$801)","v":0},{"$f":"+GETPIVOTDATA(\"BAS030\",TABLAS!$A$801)","v":0},0,{"$f":"+GETPIVOTDATA(\"BAS026\",TABLAS!$A$951)","v":{"$error":"#REF!"}},{"$f":"+GETPIVOTDATA(\"BAS027\",TABLAS!$A$951)","v":{"$error":"#REF!"}},{"$f":"+GETPIVOTDATA(\"BAS028\",TABLAS!$A$951)","v":{"$error":"#REF!"}},{"$f":"+GETPIVOTDATA(\"BAS029\",TABLAS!$A$951)","v":{"$error":"#REF!"}},{"$f":"+GETPIVOTDATA(\"BAS030\",TABLAS!$A$951)","v":{"$error":"#REF!"}},{"$error":"#REF!"},{"$error":"#REF!"},null,null,26,{"$f":"+AS130+1","v":27},28,29,30,null,"=+IMPORTARDATOSDINAMICOS(\"BAS026\",TABLAS!$A$1011)","=+IMPORTARDATOSDINAMICOS(\"BAS027\",TABLAS!$A$1011)","=+IMPORTARDATOSDINAMICOS(\"BAS028\",TABLAS!$A$1011)","=+IMPORTARDATOSDINAMICOS(\"BAS029\",TABLAS!$A$1011)","=+IMPORTARDATOSDINAMICOS(\"BAS030\",TABLAS!$A$1011)"]
["BHCG CUANTITATIVO  [84702]",null,null,{"$f":"+GETPIVOTDATA(\"BAS031\",TABLAS!$A$260)","v":0},{"$f":"+GETPIVOTDATA(\"BAS032\",TABLAS!$A$260)","v":0},{"$f":"+GETPIVOTDATA(\"BAS033\",TABLAS!$A$260)","v":0},{"$f":"+GETPIVOTDATA(\"BAS034\",TABLAS!$A$260)","v":0},{"$f":"+GETPIVOTDATA(\"BAS035\",TABLAS!$A$260)","v":0},0,{"$f":"+GETPIVOTDATA(\"BAS031\",TABLAS!$A$381)","v":0},{"$f":"+GETPIVOTDATA(\"BAS032\",TABLAS!$A$381)","v":0},{"$f":"+GETPIVOTDATA(\"BAS033\",TABLAS!$A$381)","v":0},{"$f":"+GETPIVOTDATA(\"BAS034\",TABLAS!$A$381)","v":0},{"$f":"+GETPIVOTDATA(\"BAS035\",TABLAS!$A$381)","v":0},0,{"$f":"+GETPIVOTDATA(\"BAS031\",TABLAS!$A$531)","v":0},{"$f":"+GETPIVOTDATA(\"BAS032\",TABLAS!$A$531)","v":0},{"$f":"+GETPIVOTDATA(\"BAS033\",TABLAS!$A$531)","v":0},{"$f":"+GETPIVOTDATA(\"BAS034\",TABLAS!$A$531)","v":0},{"$f":"+GETPIVOTDATA(\"BAS035\",TABLAS!$A$531)","v":0},0,0,null,{"$f":"+GETPIVOTDATA(\"BAS031\",TABLAS!$A$681)","v":0},{"$f":"+GETPIVOTDATA(\"BAS032\",TABLAS!$A$681)","v":0},{"$f":"+GETPIVOTDATA(\"BAS033\",TABLAS!$A$681)","v":0},{"$f":"+GETPIVOTDATA(\"BAS034\",TABLAS!$A$681)","v":0},{"$f":"+GETPIVOTDATA(\"BAS035\",TABLAS!$A$681)","v":0},0,{"$f":"+GETPIVOTDATA(\"BAS031\",TABLAS!$A$801)","v":0},{"$f":"+GETPIVOTDATA(\"BAS032\",TABLAS!$A$801)","v":0},{"$f":"+GETPIVOTDATA(\"BAS033\",TABLAS!$A$801)","v":0},{"$f":"+GETPIVOTDATA(\"BAS034\",TABLAS!$A$801)","v":0},{"$f":"+GETPIVOTDATA(\"BAS035\",TABLAS!$A$801)","v":0},0,{"$f":"+GETPIVOTDATA(\"BAS031\",TABLAS!$A$951)","v":{"$error":"#REF!"}},{"$f":"+GETPIVOTDATA(\"BAS032\",TABLAS!$A$951)","v":{"$error":"#REF!"}},{"$f":"+GETPIVOTDATA(\"BAS033\",TABLAS!$A$951)","v":{"$error":"#REF!"}},{"$f":"+GETPIVOTDATA(\"BAS034\",TABLAS!$A$951)","v":{"$error":"#REF!"}},{"$f":"+GETPIVOTDATA(\"BAS035\",TABLAS!$A$951)","v":{"$error":"#REF!"}},{"$error":"#REF!"},{"$error":"#REF!"},null,null,31,{"$f":"+AS131+1","v":32},33,34,35,null,"=+IMPORTARDATOSDINAMICOS(\"BAS031\",TABLAS!$A$1011)","=+IMPORTARDATOSDINAMICOS(\"BAS032\",TABLAS!$A$1011)","=+IMPORTARDATOSDINAMICOS(\"BAS033\",TABLAS!$A$1011)","=+IMPORTARDATOSDINAMICOS(\"BAS034\",TABLAS!$A$1011)","=+IMPORTARDATOSDINAMICOS(\"BAS035\",TABLAS!$A$1011)"]
["BRUCELLA ROSA DE BENGALA  [86009]",null,null,{"$f":"+GETPIVOTDATA(\"BAS036\",TABLAS!$A$260)","v":0},{"$f":"+GETPIVOTDATA(\"BAS037\",TABLAS!$A$260)","v":0},{"$f":"+GETPIVOTDATA(\"BAS038\",TABLAS!$A$260)","v":0},{"$f":"+GETPIVOTDATA(\"BAS039\",TABLAS!$A$260)","v":0},{"$f":"+GETPIVOTDATA(\"BAS040\",TABLAS!$A$260)","v":0},0,{"$f":"+GETPIVOTDATA(\"BAS036\",TABLAS!$A$381)","v":0},{"$f":"+GETPIVOTDATA(\"BAS037\",TABLAS!$A$381)","v":0},{"$f":"+GETPIVOTDATA(\"BAS038\",TABLAS!$A$381)","v":0},{"$f":"+GETPIVOTDATA(\"BAS039\",TABLAS!$A$381)","v":0},{"$f":"+GETPIVOTDATA(\"BAS040\",TABLAS!$A$381)","v":0},0,{"$f":"+GETPIVOTDATA(\"BAS036\",TABLAS!$A$531)","v":0},{"$f":"+GETPIVOTDATA(\"BAS037\",TABLAS!$A$531)","v":0},{"$f":"+GETPIVOTDATA(\"BAS038\",TABLAS!$A$531)","v":0},{"$f":"+GETPIVOTDATA(\"BAS039\",TABLAS!$A$531)","v":0},{"$f":"+GETPIVOTDATA(\"BAS040\",TABLAS!$A$531)","v":0},0,0,null,{"$f":"+GETPIVOTDATA(\"BAS036\",TABLAS!$A$681)","v":0},{"$f":"+GETPIVOTDATA(\"BAS037\",TABLAS!$A$681)","v":0},{"$f":"+GETPIVOTDATA(\"BAS038\",TABLAS!$A$681)","v":0},{"$f":"+GETPIVOTDATA(\"BAS039\",TABLAS!$A$681)","v":0},{"$f":"+GETPIVOTDATA(\"BAS040\",TABLAS!$A$681)","v":0},0,{"$f":"+GETPIVOTDATA(\"BAS036\",TABLAS!$A$801)","v":0},{"$f":"+GETPIVOTDATA(\"BAS037\",TABLAS!$A$801)","v":0},{"$f":"+GETPIVOTDATA(\"BAS038\",TABLAS!$A$801)","v":0},{"$f":"+GETPIVOTDATA(\"BAS039\",TABLAS!$A$801)","v":0},{"$f":"+GETPIVOTDATA(\"BAS040\",TABLAS!$A$801)","v":0},0,{"$f":"+GETPIVOTDATA(\"BAS036\",TABLAS!$A$951)","v":{"$error":"#REF!"}},{"$f":"+GETPIVOTDATA(\"BAS037\",TABLAS!$A$951)","v":{"$error":"#REF!"}},{"$f":"+GETPIVOTDATA(\"BAS038\",TABLAS!$A$951)","v":{"$error":"#REF!"}},{"$f":"+GETPIVOTDATA(\"BAS039\",TABLAS!$A$951)","v":{"$error":"#REF!"}},{"$f":"+GETPIVOTDATA(\"BAS040\",TABLAS!$A$951)","v":{"$error":"#REF!"}},{"$error":"#REF!"},{"$error":"#REF!"},null,null,36,{"$f":"+AS132+1","v":37},38,39,40,null,"=+IMPORTARDATOSDINAMICOS(\"BAS036\",TABLAS!$A$1011)","=+IMPORTARDATOSDINAMICOS(\"BAS037\",TABLAS!$A$1011)","=+IMPORTARDATOSDINAMICOS(\"BAS038\",TABLAS!$A$1011)","=+IMPORTARDATOSDINAMICOS(\"BAS039\",TABLAS!$A$1011)","=+IMPORTARDATOSDINAMICOS(\"BAS040\",TABLAS!$A$1011)"]
["CA 125  [86304]",null,null,{"$f":"+GETPIVOTDATA(\"BAS041\",TABLAS!$A$260)","v":0},{"$f":"+GETPIVOTDATA(\"BAS042\",TABLAS!$A$260)","v":0},{"$f":"+GETPIVOTDATA(\"BAS043\",TABLAS!$A$260)","v":0},{"$f":"+GETPIVOTDATA(\"BAS044\",TABLAS!$A$260)","v":0},{"$f":"+GETPIVOTDATA(\"BAS045\",TABLAS!$A$260)","v":0},0,{"$f":"+GETPIVOTDATA(\"BAS041\",TABLAS!$A$381)","v":0},{"$f":"+GETPIVOTDATA(\"BAS042\",TABLAS!$A$381)","v":0},{"$f":"+GETPIVOTDATA(\"BAS043\",TABLAS!$A$381)","v":0},{"$f":"+GETPIVOTDATA(\"BAS044\",TABLAS!$A$381)","v":0},{"$f":"+GETPIVOTDATA(\"BAS045\",TABLAS!$A$381)","v":0},0,{"$f":"+GETPIVOTDATA(\"BAS041\",TABLAS!$A$531)","v":0},{"$f":"+GETPIVOTDATA(\"BAS042\",TABLAS!$A$531)","v":0},{"$f":"+GETPIVOTDATA(\"BAS043\",TABLAS!$A$531)","v":0},{"$f":"+GETPIVOTDATA(\"BAS044\",TABLAS!$A$531)","v":0},{"$f":"+GETPIVOTDATA(\"BAS045\",TABLAS!$A$531)","v":0},0,0,null,{"$f":"+GETPIVOTDATA(\"BAS041\",TABLAS!$A$681)","v":0},{"$f":"+GETPIVOTDATA(\"BAS042\",TABLAS!$A$681)","v":0},{"$f":"+GETPIVOTDATA(\"BAS043\",TABLAS!$A$681)","v":0},{"$f":"+GETPIVOTDATA(\"BAS044\",TABLAS!$A$681)","v":0},{"$f":"+GETPIVOTDATA(\"BAS045\",TABLAS!$A$681)","v":0},0,{"$f":"+GETPIVOTDATA(\"BAS041\",TABLAS!$A$801)","v":0},{"$f":"+GETPIVOTDATA(\"BAS042\",TABLAS!$A$801)","v":0},{"$f":"+GETPIVOTDATA(\"BAS043\",TABLAS!$A$801)","v":0},{"$f":"+GETPIVOTDATA(\"BAS044\",TABLAS!$A$801)","v":0},{"$f":"+GETPIVOTDATA(\"BAS045\",TABLAS!$A$801)","v":0},0,{"$f":"+GETPIVOTDATA(\"BAS041\",TABLAS!$A$951)","v":{"$error":"#REF!"}},{"$f":"+GETPIVOTDATA(\"BAS042\",TABLAS!$A$951)","v":{"$error":"#REF!"}},{"$f":"+GETPIVOTDATA(\"BAS043\",TABLAS!$A$951)","v":{"$error":"#REF!"}},{"$f":"+GETPIVOTDATA(\"BAS044\",TABLAS!$A$951)","v":{"$error":"#REF!"}},{"$f":"+GETPIVOTDATA(\"BAS045\",TABLAS!$A$951)","v":{"$error":"#REF!"}},{"$error":"#REF!"},{"$error":"#REF!"},null,null,41,{"$f":"+AS133+1","v":42},43,44,45,null,"=+IMPORTARDATOSDINAMICOS(\"BAS041\",TABLAS!$A$1011)","=+IMPORTARDATOSDINAMICOS(\"BAS042\",TABLAS!$A$1011)","=+IMPORTARDATOSDINAMICOS(\"BAS043\",TABLAS!$A$1011)","=+IMPORTARDATOSDINAMICOS(\"BAS044\",TABLAS!$A$1011)","=+IMPORTARDATOSDINAMICOS(\"BAS045\",TABLAS!$A$1011)"]
["CA 15.3  [86300]",null,null,{"$f":"+GETPIVOTDATA(\"BAS046\",TABLAS!$A$260)","v":0},{"$f":"+GETPIVOTDATA(\"BAS047\",TABLAS!$A$260)","v":0},{"$f":"+GETPIVOTDATA(\"BAS048\",TABLAS!$A$260)","v":0},{"$f":"+GETPIVOTDATA(\"BAS049\",TABLAS!$A$260)","v":0},{"$f":"+GETPIVOTDATA(\"BAS050\",TABLAS!$A$260)","v":0},0,{"$f":"+GETPIVOTDATA(\"BAS046\",TABLAS!$A$381)","v":0},{"$f":"+GETPIVOTDATA(\"BAS047\",TABLAS!$A$381)","v":0},{"$f":"+GETPIVOTDATA(\"BAS048\",TABLAS!$A$381)","v":0},{"$f":"+GETPIVOTDATA(\"BAS049\",TABLAS!$A$381)","v":0},{"$f":"+GETPIVOTDATA(\"BAS050\",TABLAS!$A$381)","v":0},0,{"$f":"+GETPIVOTDATA(\"BAS046\",TABLAS!$A$531)","v":0},{"$f":"+GETPIVOTDATA(\"BAS047\",TABLAS!$A$531)","v":0},{"$f":"+GETPIVOTDATA(\"BAS048\",TABLAS!$A$531)","v":0},{"$f":"+GETPIVOTDATA(\"BAS049\",TABLAS!$A$531)","v":0},{"$f":"+GETPIVOTDATA(\"BAS050\",TABLAS!$A$531)","v":0},0,0,null,{"$f":"+GETPIVOTDATA(\"BAS046\",TABLAS!$A$681)","v":0},{"$f":"+GETPIVOTDATA(\"BAS047\",TABLAS!$A$681)","v":0},{"$f":"+GETPIVOTDATA(\"BAS048\",TABLAS!$A$681)","v":0},{"$f":"+GETPIVOTDATA(\"BAS049\",TABLAS!$A$681)","v":0},{"$f":"+GETPIVOTDATA(\"BAS050\",TABLAS!$A$681)","v":0},0,{"$f":"+GETPIVOTDATA(\"BAS046\",TABLAS!$A$801)","v":0},{"$f":"+GETPIVOTDATA(\"BAS047\",TABLAS!$A$801)","v":0},{"$f":"+GETPIVOTDATA(\"BAS048\",TABLAS!$A$801)","v":0},{"$f":"+GETPIVOTDATA(\"BAS049\",TABLAS!$A$801)","v":0},{"$f":"+GETPIVOTDATA(\"BAS050\",TABLAS!$A$801)","v":0},0,{"$f":"+GETPIVOTDATA(\"BAS046\",TABLAS!$A$951)","v":{"$error":"#REF!"}},{"$f":"+GETPIVOTDATA(\"BAS047\",TABLAS!$A$951)","v":{"$error":"#REF!"}},{"$f":"+GETPIVOTDATA(\"BAS048\",TABLAS!$A$951)","v":{"$error":"#REF!"}},{"$f":"+GETPIVOTDATA(\"BAS049\",TABLAS!$A$951)","v":{"$error":"#REF!"}},{"$f":"+GETPIVOTDATA(\"BAS050\",TABLAS!$A$951)","v":{"$error":"#REF!"}},{"$error":"#REF!"},{"$error":"#REF!"},null,null,46,{"$f":"+AS134+1","v":47},48,49,50,null,"=+IMPORTARDATOSDINAMICOS(\"BAS046\",TABLAS!$A$1011)","=+IMPORTARDATOSDINAMICOS(\"BAS047\",TABLAS!$A$1011)","=+IMPORTARDATOSDINAMICOS(\"BAS048\",TABLAS!$A$1011)","=+IMPORTARDATOSDINAMICOS(\"BAS049\",TABLAS!$A$1011)","=+IMPORTARDATOSDINAMICOS(\"BAS050\",TABLAS!$A$1011)"]
["CA 19.9  [86301]",null,null,{"$f":"+GETPIVOTDATA(\"BAS051\",TABLAS!$A$260)","v":0},{"$f":"+GETPIVOTDATA(\"BAS052\",TABLAS!$A$260)","v":0},{"$f":"+GETPIVOTDATA(\"BAS053\",TABLAS!$A$260)","v":0},{"$f":"+GETPIVOTDATA(\"BAS054\",TABLAS!$A$260)","v":0},{"$f":"+GETPIVOTDATA(\"BAS055\",TABLAS!$A$260)","v":0},0,{"$f":"+GETPIVOTDATA(\"BAS051\",TABLAS!$A$381)","v":0},{"$f":"+GETPIVOTDATA(\"BAS052\",TABLAS!$A$381)","v":0},{"$f":"+GETPIVOTDATA(\"BAS053\",TABLAS!$A$381)","v":0},{"$f":"+GETPIVOTDATA(\"BAS054\",TABLAS!$A$381)","v":0},{"$f":"+GETPIVOTDATA(\"BAS055\",TABLAS!$A$381)","v":0},0,{"$f":"+GETPIVOTDATA(\"BAS051\",TABLAS!$A$531)","v":0},{"$f":"+GETPIVOTDATA(\"BAS052\",TABLAS!$A$531)","v":0},{"$f":"+GETPIVOTDATA(\"BAS053\",TABLAS!$A$531)","v":0},{"$f":"+GETPIVOTDATA(\"BAS054\",TABLAS!$A$531)","v":0},{"$f":"+GETPIVOTDATA(\"BAS055\",TABLAS!$A$531)","v":0},0,0,null,{"$f":"+GETPIVOTDATA(\"BAS051\",TABLAS!$A$681)","v":0},{"$f":"+GETPIVOTDATA(\"BAS052\",TABLAS!$A$681)","v":0},{"$f":"+GETPIVOTDATA(\"BAS053\",TABLAS!$A$681)","v":0},{"$f":"+GETPIVOTDATA(\"BAS054\",TABLAS!$A$681)","v":0},{"$f":"+GETPIVOTDATA(\"BAS055\",TABLAS!$A$681)","v":0},0,{"$f":"+GETPIVOTDATA(\"BAS051\",TABLAS!$A$801)","v":0},{"$f":"+GETPIVOTDATA(\"BAS052\",TABLAS!$A$801)","v":0},{"$f":"+GETPIVOTDATA(\"BAS053\",TABLAS!$A$801)","v":0},{"$f":"+GETPIVOTDATA(\"BAS054\",TABLAS!$A$801)","v":0},{"$f":"+GETPIVOTDATA(\"BAS055\",TABLAS!$A$801)","v":0},0,{"$f":"+GETPIVOTDATA(\"BAS051\",TABLAS!$A$951)","v":{"$error":"#REF!"}},{"$f":"+GETPIVOTDATA(\"BAS052\",TABLAS!$A$951)","v":{"$error":"#REF!"}},{"$f":"+GETPIVOTDATA(\"BAS053\",TABLAS!$A$951)","v":{"$error":"#REF!"}},{"$f":"+GETPIVOTDATA(\"BAS054\",TABLAS!$A$951)","v":{"$error":"#REF!"}},{"$f":"+GETPIVOTDATA(\"BAS055\",TABLAS!$A$951)","v":{"$error":"#REF!"}},{"$error":"#REF!"},{"$error":"#REF!"},null,null,51,{"$f":"+AS135+1","v":52},53,54,55,null,"=+IMPORTARDATOSDINAMICOS(\"BAS051\",TABLAS!$A$1011)","=+IMPORTARDATOSDINAMICOS(\"BAS052\",TABLAS!$A$1011)","=+IMPORTARDATOSDINAMICOS(\"BAS053\",TABLAS!$A$1011)","=+IMPORTARDATOSDINAMICOS(\"BAS054\",TABLAS!$A$1011)","=+IMPORTARDATOSDINAMICOS(\"BAS055\",TABLAS!$A$1011)"]
["CEA  [82378]",null,null,{"$f":"+GETPIVOTDATA(\"BAS056\",TABLAS!$A$260)","v":0},{"$f":"+GETPIVOTDATA(\"BAS057\",TABLAS!$A$260)","v":0},{"$f":"+GETPIVOTDATA(\"BAS058\",TABLAS!$A$260)","v":0},{"$f":"+GETPIVOTDATA(\"BAS059\",TABLAS!$A$260)","v":0},{"$f":"+GETPIVOTDATA(\"BAS060\",TABLAS!$A$260)","v":0},0,{"$f":"+GETPIVOTDATA(\"BAS056\",TABLAS!$A$381)","v":0},{"$f":"+GETPIVOTDATA(\"BAS057\",TABLAS!$A$381)","v":0},{"$f":"+GETPIVOTDATA(\"BAS058\",TABLAS!$A$381)","v":0},{"$f":"+GETPIVOTDATA(\"BAS059\",TABLAS!$A$381)","v":0},{"$f":"+GETPIVOTDATA(\"BAS060\",TABLAS!$A$381)","v":0},0,{"$f":"+GETPIVOTDATA(\"BAS056\",TABLAS!$A$531)","v":0},{"$f":"+GETPIVOTDATA(\"BAS057\",TABLAS!$A$531)","v":0},{"$f":"+GETPIVOTDATA(\"BAS058\",TABLAS!$A$531)","v":0},{"$f":"+GETPIVOTDATA(\"BAS059\",TABLAS!$A$531)","v":0},{"$f":"+GETPIVOTDATA(\"BAS060\",TABLAS!$A$531)","v":0},0,0,null,{"$f":"+GETPIVOTDATA(\"BAS056\",TABLAS!$A$681)","v":0},{"$f":"+GETPIVOTDATA(\"BAS057\",TABLAS!$A$681)","v":0},{"$f":"+GETPIVOTDATA(\"BAS058\",TABLAS!$A$681)","v":0},{"$f":"+GETPIVOTDATA(\"BAS059\",TABLAS!$A$681)","v":0},{"$f":"+GETPIVOTDATA(\"BAS060\",TABLAS!$A$681)","v":0},0,{"$f":"+GETPIVOTDATA(\"BAS056\",TABLAS!$A$801)","v":0},{"$f":"+GETPIVOTDATA(\"BAS057\",TABLAS!$A$801)","v":0},{"$f":"+GETPIVOTDATA(\"BAS058\",TABLAS!$A$801)","v":0},{"$f":"+GETPIVOTDATA(\"BAS059\",TABLAS!$A$801)","v":0},{"$f":"+GETPIVOTDATA(\"BAS060\",TABLAS!$A$801)","v":0},0,{"$f":"+GETPIVOTDATA(\"BAS056\",TABLAS!$A$951)","v":{"$error":"#REF!"}},{"$f":"+GETPIVOTDATA(\"BAS057\",TABLAS!$A$951)","v":{"$error":"#REF!"}},{"$f":"+GETPIVOTDATA(\"BAS058\",TABLAS!$A$951)","v":{"$error":"#REF!"}},{"$f":"+GETPIVOTDATA(\"BAS059\",TABLAS!$A$951)","v":{"$error":"#REF!"}},{"$f":"+GETPIVOTDATA(\"BAS060\",TABLAS!$A$951)","v":{"$error":"#REF!"}},{"$error":"#REF!"},{"$error":"#REF!"},null,null,56,{"$f":"+AS136+1","v":57},58,59,60,null,"=+IMPORTARDATOSDINAMICOS(\"BAS056\",TABLAS!$A$1011)","=+IMPORTARDATOSDINAMICOS(\"BAS057\",TABLAS!$A$1011)","=+IMPORTARDATOSDINAMICOS(\"BAS058\",TABLAS!$A$1011)","=+IMPORTARDATOSDINAMICOS(\"BAS059\",TABLAS!$A$1011)","=+IMPORTARDATOSDINAMICOS(\"BAS060\",TABLAS!$A$1011)"]
["CORTISOL S  [82533]",null,null,{"$f":"+GETPIVOTDATA(\"BAS061\",TABLAS!$A$260)","v":0},{"$f":"+GETPIVOTDATA(\"BAS062\",TABLAS!$A$260)","v":0},{"$f":"+GETPIVOTDATA(\"BAS063\",TABLAS!$A$260)","v":0},{"$f":"+GETPIVOTDATA(\"BAS064\",TABLAS!$A$260)","v":0},{"$f":"+GETPIVOTDATA(\"BAS065\",TABLAS!$A$260)","v":0},0,{"$f":"+GETPIVOTDATA(\"BAS061\",TABLAS!$A$381)","v":0},{"$f":"+GETPIVOTDATA(\"BAS062\",TABLAS!$A$381)","v":0},{"$f":"+GETPIVOTDATA(\"BAS063\",TABLAS!$A$381)","v":0},{"$f":"+GETPIVOTDATA(\"BAS064\",TABLAS!$A$381)","v":0},{"$f":"+GETPIVOTDATA(\"BAS065\",TABLAS!$A$381)","v":0},0,{"$f":"+GETPIVOTDATA(\"BAS061\",TABLAS!$A$531)","v":0},{"$f":"+GETPIVOTDATA(\"BAS062\",TABLAS!$A$531)","v":0},{"$f":"+GETPIVOTDATA(\"BAS063\",TABLAS!$A$531)","v":0},{"$f":"+GETPIVOTDATA(\"BAS064\",TABLAS!$A$531)","v":0},{"$f":"+GETPIVOTDATA(\"BAS065\",TABLAS!$A$531)","v":0},0,0,null,{"$f":"+GETPIVOTDATA(\"BAS061\",TABLAS!$A$681)","v":0},{"$f":"+GETPIVOTDATA(\"BAS062\",TABLAS!$A$681)","v":0},{"$f":"+GETPIVOTDATA(\"BAS063\",TABLAS!$A$681)","v":0},{"$f":"+GETPIVOTDATA(\"BAS064\",TABLAS!$A$681)","v":0},{"$f":"+GETPIVOTDATA(\"BAS065\",TABLAS!$A$681)","v":0},0,{"$f":"+GETPIVOTDATA(\"BAS061\",TABLAS!$A$801)","v":0},{"$f":"+GETPIVOTDATA(\"BAS062\",TABLAS!$A$801)","v":0},{"$f":"+GETPIVOTDATA(\"BAS063\",TABLAS!$A$801)","v":0},{"$f":"+GETPIVOTDATA(\"BAS064\",TABLAS!$A$801)","v":0},{"$f":"+GETPIVOTDATA(\"BAS065\",TABLAS!$A$801)","v":0},0,{"$f":"+GETPIVOTDATA(\"BAS061\",TABLAS!$A$951)","v":{"$error":"#REF!"}},{"$f":"+GETPIVOTDATA(\"BAS062\",TABLAS!$A$951)","v":{"$error":"#REF!"}},{"$f":"+GETPIVOTDATA(\"BAS063\",TABLAS!$A$951)","v":{"$error":"#REF!"}},{"$f":"+GETPIVOTDATA(\"BAS064\",TABLAS!$A$951)","v":{"$error":"#REF!"}},{"$f":"+GETPIVOTDATA(\"BAS065\",TABLAS!$A$951)","v":{"$error":"#REF!"}},{"$error":"#REF!"},{"$error":"#REF!"},null,null,61,{"$f":"+AS137+1","v":62},63,64,65,null,"=+IMPORTARDATOSDINAMICOS(\"BAS061\",TABLAS!$A$1011)","=+IMPORTARDATOSDINAMICOS(\"BAS062\",TABLAS!$A$1011)","=+IMPORTARDATOSDINAMICOS(\"BAS063\",TABLAS!$A$1011)","=+IMPORTARDATOSDINAMICOS(\"BAS064\",TABLAS!$A$1011)","=+IMPORTARDATOSDINAMICOS(\"BAS065\",TABLAS!$A$1011)"]
["PRUEBA RAPIDA DE HEPATITIS A [R0010]",null,null,{"$f":"+GETPIVOTDATA(\"BAS066\",TABLAS!$A$260)","v":0},{"$f":"+GETPIVOTDATA(\"BAS067\",TABLAS!$A$260)","v":0},{"$f":"+GETPIVOTDATA(\"BAS068\",TABLAS!$A$260)","v":0},{"$f":"+GETPIVOTDATA(\"BAS069\",TABLAS!$A$260)","v":0},{"$f":"+GETPIVOTDATA(\"BAS070\",TABLAS!$A$260)","v":0},0,{"$f":"+GETPIVOTDATA(\"BAS066\",TABLAS!$A$381)","v":0},{"$f":"+GETPIVOTDATA(\"BAS067\",TABLAS!$A$381)","v":0},{"$f":"+GETPIVOTDATA(\"BAS068\",TABLAS!$A$381)","v":0},{"$f":"+GETPIVOTDATA(\"BAS069\",TABLAS!$A$381)","v":0},{"$f":"+GETPIVOTDATA(\"BAS070\",TABLAS!$A$381)","v":0},0,{"$f":"+GETPIVOTDATA(\"BAS066\",TABLAS!$A$531)","v":0},{"$f":"+GETPIVOTDATA(\"BAS067\",TABLAS!$A$531)","v":0},{"$f":"+GETPIVOTDATA(\"BAS068\",TABLAS!$A$531)","v":0},{"$f":"+GETPIVOTDATA(\"BAS069\",TABLAS!$A$531)","v":0},{"$f":"+GETPIVOTDATA(\"BAS070\",TABLAS!$A$531)","v":0},0,0,null,{"$f":"+GETPIVOTDATA(\"BAS066\",TABLAS!$A$681)","v":0},{"$f":"+GETPIVOTDATA(\"BAS067\",TABLAS!$A$681)","v":0},{"$f":"+GETPIVOTDATA(\"BAS068\",TABLAS!$A$681)","v":0},{"$f":"+GETPIVOTDATA(\"BAS069\",TABLAS!$A$681)","v":0},{"$f":"+GETPIVOTDATA(\"BAS070\",TABLAS!$A$681)","v":0},0,{"$f":"+GETPIVOTDATA(\"BAS066\",TABLAS!$A$801)","v":0},{"$f":"+GETPIVOTDATA(\"BAS067\",TABLAS!$A$801)","v":0},{"$f":"+GETPIVOTDATA(\"BAS068\",TABLAS!$A$801)","v":0},{"$f":"+GETPIVOTDATA(\"BAS069\",TABLAS!$A$801)","v":0},{"$f":"+GETPIVOTDATA(\"BAS070\",TABLAS!$A$801)","v":0},0,{"$f":"+GETPIVOTDATA(\"BAS066\",TABLAS!$A$951)","v":{"$error":"#REF!"}},{"$f":"+GETPIVOTDATA(\"BAS067\",TABLAS!$A$951)","v":{"$error":"#REF!"}},{"$f":"+GETPIVOTDATA(\"BAS068\",TABLAS!$A$951)","v":{"$error":"#REF!"}},{"$f":"+GETPIVOTDATA(\"BAS069\",TABLAS!$A$951)","v":{"$error":"#REF!"}},{"$f":"+GETPIVOTDATA(\"BAS070\",TABLAS!$A$951)","v":{"$error":"#REF!"}},{"$error":"#REF!"},{"$error":"#REF!"},null,null,66,{"$f":"+AS138+1","v":67},68,69,70,null,"=+IMPORTARDATOSDINAMICOS(\"BAS066\",TABLAS!$A$1011)","=+IMPORTARDATOSDINAMICOS(\"BAS067\",TABLAS!$A$1011)","=+IMPORTARDATOSDINAMICOS(\"BAS068\",TABLAS!$A$1011)","=+IMPORTARDATOSDINAMICOS(\"BAS069\",TABLAS!$A$1011)","=+IMPORTARDATOSDINAMICOS(\"BAS070\",TABLAS!$A$1011)"]
["DETECCION DE ANTICUERPO CONTRA HEPATITIS - A [86709]",null,null,{"$f":"+GETPIVOTDATA(\"BAS071\",TABLAS!$A$260)","v":0},{"$f":"+GETPIVOTDATA(\"BAS072\",TABLAS!$A$260)","v":0},{"$f":"+GETPIVOTDATA(\"BAS073\",TABLAS!$A$260)","v":0},{"$f":"+GETPIVOTDATA(\"BAS074\",TABLAS!$A$260)","v":0},{"$f":"+GETPIVOTDATA(\"BAS075\",TABLAS!$A$260)","v":0},0,{"$f":"+GETPIVOTDATA(\"BAS071\",TABLAS!$A$381)","v":0},{"$f":"+GETPIVOTDATA(\"BAS072\",TABLAS!$A$381)","v":0},{"$f":"+GETPIVOTDATA(\"BAS073\",TABLAS!$A$381)","v":0},{"$f":"+GETPIVOTDATA(\"BAS074\",TABLAS!$A$381)","v":0},{"$f":"+GETPIVOTDATA(\"BAS075\",TABLAS!$A$381)","v":0},0,{"$f":"+GETPIVOTDATA(\"BAS071\",TABLAS!$A$531)","v":0},{"$f":"+GETPIVOTDATA(\"BAS072\",TABLAS!$A$531)","v":0},{"$f":"+GETPIVOTDATA(\"BAS073\",TABLAS!$A$531)","v":0},{"$f":"+GETPIVOTDATA(\"BAS074\",TABLAS!$A$531)","v":0},{"$f":"+GETPIVOTDATA(\"BAS075\",TABLAS!$A$531)","v":0},0,0,null,{"$f":"+GETPIVOTDATA(\"BAS071\",TABLAS!$A$681)","v":0},{"$f":"+GETPIVOTDATA(\"BAS072\",TABLAS!$A$681)","v":0},{"$f":"+GETPIVOTDATA(\"BAS073\",TABLAS!$A$681)","v":0},{"$f":"+GETPIVOTDATA(\"BAS074\",TABLAS!$A$681)","v":0},{"$f":"+GETPIVOTDATA(\"BAS075\",TABLAS!$A$681)","v":0},0,{"$f":"+GETPIVOTDATA(\"BAS071\",TABLAS!$A$801)","v":0},{"$f":"+GETPIVOTDATA(\"BAS072\",TABLAS!$A$801)","v":0},{"$f":"+GETPIVOTDATA(\"BAS073\",TABLAS!$A$801)","v":0},{"$f":"+GETPIVOTDATA(\"BAS074\",TABLAS!$A$801)","v":0},{"$f":"+GETPIVOTDATA(\"BAS075\",TABLAS!$A$801)","v":0},0,{"$f":"+GETPIVOTDATA(\"BAS071\",TABLAS!$A$951)","v":{"$error":"#REF!"}},{"$f":"+GETPIVOTDATA(\"BAS072\",TABLAS!$A$951)","v":{"$error":"#REF!"}},{"$f":"+GETPIVOTDATA(\"BAS073\",TABLAS!$A$951)","v":{"$error":"#REF!"}},{"$f":"+GETPIVOTDATA(\"BAS074\",TABLAS!$A$951)","v":{"$error":"#REF!"}},{"$f":"+GETPIVOTDATA(\"BAS075\",TABLAS!$A$951)","v":{"$error":"#REF!"}},{"$error":"#REF!"},{"$error":"#REF!"},null,null,71,{"$f":"+AS139+1","v":72},73,74,75,null,"=+IMPORTARDATOSDINAMICOS(\"BAS071\",TABLAS!$A$1011)","=+IMPORTARDATOSDINAMICOS(\"BAS072\",TABLAS!$A$1011)","=+IMPORTARDATOSDINAMICOS(\"BAS073\",TABLAS!$A$1011)","=+IMPORTARDATOSDINAMICOS(\"BAS074\",TABLAS!$A$1011)","=+IMPORTARDATOSDINAMICOS(\"BAS075\",TABLAS!$A$1011)"]
["DETECCION DE ANTIGENO DE SUPERFICIE HEPATITIS - B [87340]",null,null,{"$f":"+GETPIVOTDATA(\"BAS076\",TABLAS!$A$260)","v":0},{"$f":"+GETPIVOTDATA(\"BAS077\",TABLAS!$A$260)","v":0},{"$f":"+GETPIVOTDATA(\"BAS078\",TABLAS!$A$260)","v":0},{"$f":"+GETPIVOTDATA(\"BAS079\",TABLAS!$A$260)","v":0},{"$f":"+GETPIVOTDATA(\"BAS080\",TABLAS!$A$260)","v":0},0,{"$f":"+GETPIVOTDATA(\"BAS076\",TABLAS!$A$381)","v":0},{"$f":"+GETPIVOTDATA(\"BAS077\",TABLAS!$A$381)","v":0},{"$f":"+GETPIVOTDATA(\"BAS078\",TABLAS!$A$381)","v":0},{"$f":"+GETPIVOTDATA(\"BAS079\",TABLAS!$A$381)","v":0},{"$f":"+GETPIVOTDATA(\"BAS080\",TABLAS!$A$381)","v":0},0,{"$f":"+GETPIVOTDATA(\"BAS076\",TABLAS!$A$531)","v":0},{"$f":"+GETPIVOTDATA(\"BAS077\",TABLAS!$A$531)","v":0},{"$f":"+GETPIVOTDATA(\"BAS078\",TABLAS!$A$531)","v":0},{"$f":"+GETPIVOTDATA(\"BAS079\",TABLAS!$A$531)","v":0},{"$f":"+GETPIVOTDATA(\"BAS080\",TABLAS!$A$531)","v":0},0,0,null,{"$f":"+GETPIVOTDATA(\"BAS076\",TABLAS!$A$681)","v":0},{"$f":"+GETPIVOTDATA(\"BAS077\",TABLAS!$A$681)","v":0},{"$f":"+GETPIVOTDATA(\"BAS078\",TABLAS!$A$681)","v":0},{"$f":"+GETPIVOTDATA(\"BAS079\",TABLAS!$A$681)","v":0},{"$f":"+GETPIVOTDATA(\"BAS080\",TABLAS!$A$681)","v":0},0,{"$f":"+GETPIVOTDATA(\"BAS076\",TABLAS!$A$801)","v":0},{"$f":"+GETPIVOTDATA(\"BAS077\",TABLAS!$A$801)","v":0},{"$f":"+GETPIVOTDATA(\"BAS078\",TABLAS!$A$801)","v":0},{"$f":"+GETPIVOTDATA(\"BAS079\",TABLAS!$A$801)","v":0},{"$f":"+GETPIVOTDATA(\"BAS080\",TABLAS!$A$801)","v":0},0,{"$f":"+GETPIVOTDATA(\"BAS076\",TABLAS!$A$951)","v":{"$error":"#REF!"}},{"$f":"+GETPIVOTDATA(\"BAS077\",TABLAS!$A$951)","v":{"$error":"#REF!"}},{"$f":"+GETPIVOTDATA(\"BAS078\",TABLAS!$A$951)","v":{"$error":"#REF!"}},{"$f":"+GETPIVOTDATA(\"BAS079\",TABLAS!$A$951)","v":{"$error":"#REF!"}},{"$f":"+GETPIVOTDATA(\"BAS080\",TABLAS!$A$951)","v":{"$error":"#REF!"}},{"$error":"#REF!"},{"$error":"#REF!"},null,null,76,{"$f":"+AS140+1","v":77},78,79,80,null,"=+IMPORTARDATOSDINAMICOS(\"BAS076\",TABLAS!$A$1011)","=+IMPORTARDATOSDINAMICOS(\"BAS077\",TABLAS!$A$1011)","=+IMPORTARDATOSDINAMICOS(\"BAS078\",TABLAS!$A$1011)","=+IMPORTARDATOSDINAMICOS(\"BAS079\",TABLAS!$A$1011)","=+IMPORTARDATOSDINAMICOS(\"BAS080\",TABLAS!$A$1011)"]
["DHEA-S (82627)",null,null,{"$f":"+GETPIVOTDATA(\"BAS081\",TABLAS!$A$260)","v":0},{"$f":"+GETPIVOTDATA(\"BAS082\",TABLAS!$A$260)","v":0},{"$f":"+GETPIVOTDATA(\"BAS083\",TABLAS!$A$260)","v":0},{"$f":"+GETPIVOTDATA(\"BAS084\",TABLAS!$A$260)","v":0},{"$f":"+GETPIVOTDATA(\"BAS085\",TABLAS!$A$260)","v":0},0,{"$f":"+GETPIVOTDATA(\"BAS081\",TABLAS!$A$381)","v":0},{"$f":"+GETPIVOTDATA(\"BAS082\",TABLAS!$A$381)","v":0},{"$f":"+GETPIVOTDATA(\"BAS083\",TABLAS!$A$381)","v":0},{"$f":"+GETPIVOTDATA(\"BAS084\",TABLAS!$A$381)","v":0},{"$f":"+GETPIVOTDATA(\"BAS085\",TABLAS!$A$381)","v":0},0,{"$f":"+GETPIVOTDATA(\"BAS081\",TABLAS!$A$531)","v":0},{"$f":"+GETPIVOTDATA(\"BAS082\",TABLAS!$A$531)","v":0},{"$f":"+GETPIVOTDATA(\"BAS083\",TABLAS!$A$531)","v":0},{"$f":"+GETPIVOTDATA(\"BAS084\",TABLAS!$A$531)","v":0},{"$f":"+GETPIVOTDATA(\"BAS085\",TABLAS!$A$531)","v":0},0,0,null,{"$f":"+GETPIVOTDATA(\"BAS081\",TABLAS!$A$681)","v":0},{"$f":"+GETPIVOTDATA(\"BAS082\",TABLAS!$A$681)","v":0},{"$f":"+GETPIVOTDATA(\"BAS083\",TABLAS!$A$681)","v":0},{"$f":"+GETPIVOTDATA(\"BAS084\",TABLAS!$A$681)","v":0},{"$f":"+GETPIVOTDATA(\"BAS085\",TABLAS!$A$681)","v":0},0,{"$f":"+GETPIVOTDATA(\"BAS081\",TABLAS!$A$801)","v":0},{"$f":"+GETPIVOTDATA(\"BAS082\",TABLAS!$A$801)","v":0},{"$f":"+GETPIVOTDATA(\"BAS083\",TABLAS!$A$801)","v":0},{"$f":"+GETPIVOTDATA(\"BAS084\",TABLAS!$A$801)","v":0},{"$f":"+GETPIVOTDATA(\"BAS085\",TABLAS!$A$801)","v":0},0,{"$f":"+GETPIVOTDATA(\"BAS081\",TABLAS!$A$951)","v":{"$error":"#REF!"}},{"$f":"+GETPIVOTDATA(\"BAS082\",TABLAS!$A$951)","v":{"$error":"#REF!"}},{"$f":"+GETPIVOTDATA(\"BAS083\",TABLAS!$A$951)","v":{"$error":"#REF!"}},{"$f":"+GETPIVOTDATA(\"BAS084\",TABLAS!$A$951)","v":{"$error":"#REF!"}},{"$f":"+GETPIVOTDATA(\"BAS085\",TABLAS!$A$951)","v":{"$error":"#REF!"}},{"$error":"#REF!"},{"$error":"#REF!"},null,null,81,{"$f":"+AS141+1","v":82},83,84,85,null,"=+IMPORTARDATOSDINAMICOS(\"BAS081\",TABLAS!$A$1011)","=+IMPORTARDATOSDINAMICOS(\"BAS082\",TABLAS!$A$1011)","=+IMPORTARDATOSDINAMICOS(\"BAS083\",TABLAS!$A$1011)","=+IMPORTARDATOSDINAMICOS(\"BAS084\",TABLAS!$A$1011)","=+IMPORTARDATOSDINAMICOS(\"BAS085\",TABLAS!$A$1011)"]
["ELISA HEPATITIS B ANTICORE (INMUNOLOGIA)  [86704]",null,null,{"$f":"+GETPIVOTDATA(\"BAS086\",TABLAS!$A$260)","v":0},{"$f":"+GETPIVOTDATA(\"BAS087\",TABLAS!$A$260)","v":0},{"$f":"+GETPIVOTDATA(\"BAS088\",TABLAS!$A$260)","v":0},{"$f":"+GETPIVOTDATA(\"BAS089\",TABLAS!$A$260)","v":0},{"$f":"+GETPIVOTDATA(\"BAS090\",TABLAS!$A$260)","v":0},0,{"$f":"+GETPIVOTDATA(\"BAS086\",TABLAS!$A$381)","v":0},{"$f":"+GETPIVOTDATA(\"BAS087\",TABLAS!$A$381)","v":0},{"$f":"+GETPIVOTDATA(\"BAS088\",TABLAS!$A$381)","v":0},{"$f":"+GETPIVOTDATA(\"BAS089\",TABLAS!$A$381)","v":0},{"$f":"+GETPIVOTDATA(\"BAS090\",TABLAS!$A$381)","v":0},0,{"$f":"+GETPIVOTDATA(\"BAS086\",TABLAS!$A$531)","v":0},{"$f":"+GETPIVOTDATA(\"BAS087\",TABLAS!$A$531)","v":0},{"$f":"+GETPIVOTDATA(\"BAS088\",TABLAS!$A$531)","v":0},{"$f":"+GETPIVOTDATA(\"BAS089\",TABLAS!$A$531)","v":0},{"$f":"+GETPIVOTDATA(\"BAS090\",TABLAS!$A$531)","v":0},0,0,null,{"$f":"+GETPIVOTDATA(\"BAS086\",TABLAS!$A$681)","v":0},{"$f":"+GETPIVOTDATA(\"BAS087\",TABLAS!$A$681)","v":0},{"$f":"+GETPIVOTDATA(\"BAS088\",TABLAS!$A$681)","v":0},{"$f":"+GETPIVOTDATA(\"BAS089\",TABLAS!$A$681)","v":0},{"$f":"+GETPIVOTDATA(\"BAS090\",TABLAS!$A$681)","v":0},0,{"$f":"+GETPIVOTDATA(\"BAS086\",TABLAS!$A$801)","v":0},{"$f":"+GETPIVOTDATA(\"BAS087\",TABLAS!$A$801)","v":0},{"$f":"+GETPIVOTDATA(\"BAS088\",TABLAS!$A$801)","v":0},{"$f":"+GETPIVOTDATA(\"BAS089\",TABLAS!$A$801)","v":0},{"$f":"+GETPIVOTDATA(\"BAS090\",TABLAS!$A$801)","v":0},0,{"$f":"+GETPIVOTDATA(\"BAS086\",TABLAS!$A$951)","v":{"$error":"#REF!"}},{"$f":"+GETPIVOTDATA(\"BAS087\",TABLAS!$A$951)","v":{"$error":"#REF!"}},{"$f":"+GETPIVOTDATA(\"BAS088\",TABLAS!$A$951)","v":{"$error":"#REF!"}},{"$f":"+GETPIVOTDATA(\"BAS089\",TABLAS!$A$951)","v":{"$error":"#REF!"}},{"$f":"+GETPIVOTDATA(\"BAS090\",TABLAS!$A$951)","v":{"$error":"#REF!"}},{"$error":"#REF!"},{"$error":"#REF!"},null,null,86,{"$f":"+AS142+1","v":87},88,89,90,null,"=+IMPORTARDATOSDINAMICOS(\"BAS086\",TABLAS!$A$1011)","=+IMPORTARDATOSDINAMICOS(\"BAS087\",TABLAS!$A$1011)","=+IMPORTARDATOSDINAMICOS(\"BAS088\",TABLAS!$A$1011)","=+IMPORTARDATOSDINAMICOS(\"BAS089\",TABLAS!$A$1011)","=+IMPORTARDATOSDINAMICOS(\"BAS090\",TABLAS!$A$1011)"]
["ESTRADIOL  [82670]",null,null,{"$f":"+GETPIVOTDATA(\"BAS091\",TABLAS!$A$260)","v":0},{"$f":"+GETPIVOTDATA(\"BAS092\",TABLAS!$A$260)","v":0},{"$f":"+GETPIVOTDATA(\"BAS093\",TABLAS!$A$260)","v":0},{"$f":"+GETPIVOTDATA(\"BAS094\",TABLAS!$A$260)","v":0},{"$f":"+GETPIVOTDATA(\"BAS095\",TABLAS!$A$260)","v":0},0,{"$f":"+GETPIVOTDATA(\"BAS091\",TABLAS!$A$381)","v":0},{"$f":"+GETPIVOTDATA(\"BAS092\",TABLAS!$A$381)","v":0},{"$f":"+GETPIVOTDATA(\"BAS093\",TABLAS!$A$381)","v":0},{"$f":"+GETPIVOTDATA(\"BAS094\",TABLAS!$A$381)","v":0},{"$f":"+GETPIVOTDATA(\"BAS095\",TABLAS!$A$381)","v":0},0,{"$f":"+GETPIVOTDATA(\"BAS091\",TABLAS!$A$531)","v":0},{"$f":"+GETPIVOTDATA(\"BAS092\",TABLAS!$A$531)","v":0},{"$f":"+GETPIVOTDATA(\"BAS093\",TABLAS!$A$531)","v":0},{"$f":"+GETPIVOTDATA(\"BAS094\",TABLAS!$A$531)","v":0},{"$f":"+GETPIVOTDATA(\"BAS095\",TABLAS!$A$531)","v":0},0,0,null,{"$f":"+GETPIVOTDATA(\"BAS091\",TABLAS!$A$681)","v":0},{"$f":"+GETPIVOTDATA(\"BAS092\",TABLAS!$A$681)","v":0},{"$f":"+GETPIVOTDATA(\"BAS093\",TABLAS!$A$681)","v":0},{"$f":"+GETPIVOTDATA(\"BAS094\",TABLAS!$A$681)","v":0},{"$f":"+GETPIVOTDATA(\"BAS095\",TABLAS!$A$681)","v":0},0,{"$f":"+GETPIVOTDATA(\"BAS091\",TABLAS!$A$801)","v":0},{"$f":"+GETPIVOTDATA(\"BAS092\",TABLAS!$A$801)","v":0},{"$f":"+GETPIVOTDATA(\"BAS093\",TABLAS!$A$801)","v":0},{"$f":"+GETPIVOTDATA(\"BAS094\",TABLAS!$A$801)","v":0},{"$f":"+GETPIVOTDATA(\"BAS095\",TABLAS!$A$801)","v":0},0,{"$f":"+GETPIVOTDATA(\"BAS091\",TABLAS!$A$951)","v":{"$error":"#REF!"}},{"$f":"+GETPIVOTDATA(\"BAS092\",TABLAS!$A$951)","v":{"$error":"#REF!"}},{"$f":"+GETPIVOTDATA(\"BAS093\",TABLAS!$A$951)","v":{"$error":"#REF!"}},{"$f":"+GETPIVOTDATA(\"BAS094\",TABLAS!$A$951)","v":{"$error":"#REF!"}},{"$f":"+GETPIVOTDATA(\"BAS095\",TABLAS!$A$951)","v":{"$error":"#REF!"}},{"$error":"#REF!"},{"$error":"#REF!"},null,null,91,{"$f":"+AS143+1","v":92},93,94,95,null,"=+IMPORTARDATOSDINAMICOS(\"BAS091\",TABLAS!$A$1011)","=+IMPORTARDATOSDINAMICOS(\"BAS092\",TABLAS!$A$1011)","=+IMPORTARDATOSDINAMICOS(\"BAS093\",TABLAS!$A$1011)","=+IMPORTARDATOSDINAMICOS(\"BAS094\",TABLAS!$A$1011)","=+IMPORTARDATOSDINAMICOS(\"BAS095\",TABLAS!$A$1011)"]
["FACTOR REUMATOIDEO CUALITATIVO [86431]",null,null,{"$f":"+GETPIVOTDATA(\"BAS096\",TABLAS!$A$260)","v":0},{"$f":"+GETPIVOTDATA(\"BAS097\",TABLAS!$A$260)","v":0},{"$f":"+GETPIVOTDATA(\"BAS098\",TABLAS!$A$260)","v":0},{"$f":"+GETPIVOTDATA(\"BAS099\",TABLAS!$A$260)","v":0},{"$f":"+GETPIVOTDATA(\"BAS100\",TABLAS!$A$260)","v":0},0,{"$f":"+GETPIVOTDATA(\"BAS096\",TABLAS!$A$381)","v":0},{"$f":"+GETPIVOTDATA(\"BAS097\",TABLAS!$A$381)","v":0},{"$f":"+GETPIVOTDATA(\"BAS098\",TABLAS!$A$381)","v":0},{"$f":"+GETPIVOTDATA(\"BAS099\",TABLAS!$A$381)","v":0},{"$f":"+GETPIVOTDATA(\"BAS100\",TABLAS!$A$381)","v":0},0,{"$f":"+GETPIVOTDATA(\"BAS096\",TABLAS!$A$531)","v":0},{"$f":"+GETPIVOTDATA(\"BAS097\",TABLAS!$A$531)","v":0},{"$f":"+GETPIVOTDATA(\"BAS098\",TABLAS!$A$531)","v":0},{"$f":"+GETPIVOTDATA(\"BAS099\",TABLAS!$A$531)","v":0},{"$f":"+GETPIVOTDATA(\"BAS100\",TABLAS!$A$531)","v":0},0,0,null,{"$f":"+GETPIVOTDATA(\"BAS096\",TABLAS!$A$681)","v":0},{"$f":"+GETPIVOTDATA(\"BAS097\",TABLAS!$A$681)","v":0},{"$f":"+GETPIVOTDATA(\"BAS098\",TABLAS!$A$681)","v":0},{"$f":"+GETPIVOTDATA(\"BAS099\",TABLAS!$A$681)","v":0},{"$f":"+GETPIVOTDATA(\"BAS100\",TABLAS!$A$681)","v":0},0,{"$f":"+GETPIVOTDATA(\"BAS096\",TABLAS!$A$801)","v":0},{"$f":"+GETPIVOTDATA(\"BAS097\",TABLAS!$A$801)","v":0},{"$f":"+GETPIVOTDATA(\"BAS098\",TABLAS!$A$801)","v":0},{"$f":"+GETPIVOTDATA(\"BAS099\",TABLAS!$A$801)","v":0},{"$f":"+GETPIVOTDATA(\"BAS100\",TABLAS!$A$801)","v":0},0,{"$f":"+GETPIVOTDATA(\"BAS096\",TABLAS!$A$951)","v":{"$error":"#REF!"}},{"$f":"+GETPIVOTDATA(\"BAS097\",TABLAS!$A$951)","v":{"$error":"#REF!"}},{"$f":"+GETPIVOTDATA(\"BAS098\",TABLAS!$A$951)","v":{"$error":"#REF!"}},{"$f":"+GETPIVOTDATA(\"BAS099\",TABLAS!$A$951)","v":{"$error":"#REF!"}},{"$f":"+GETPIVOTDATA(\"BAS100\",TABLAS!$A$951)","v":{"$error":"#REF!"}},{"$error":"#REF!"},{"$error":"#REF!"},null,null,96,{"$f":"+AS144+1","v":97},98,99,100,null,"=+IMPORTARDATOSDINAMICOS(\"BAS096\",TABLAS!$A$1011)","=+IMPORTARDATOSDINAMICOS(\"BAS097\",TABLAS!$A$1011)","=+IMPORTARDATOSDINAMICOS(\"BAS098\",TABLAS!$A$1011)","=+IMPORTARDATOSDINAMICOS(\"BAS099\",TABLAS!$A$1011)","=+IMPORTARDATOSDINAMICOS(\"BAS100\",TABLAS!$A$1011)"]
["FACTOR REUMATOIDEO CUANTITATIVO  [86430]",null,null,{"$f":"+GETPIVOTDATA(\"BAS101\",TABLAS!$A$260)","v":0},{"$f":"+GETPIVOTDATA(\"BAS102\",TABLAS!$A$260)","v":0},{"$f":"+GETPIVOTDATA(\"BAS103\",TABLAS!$A$260)","v":0},{"$f":"+GETPIVOTDATA(\"BAS104\",TABLAS!$A$260)","v":0},{"$f":"+GETPIVOTDATA(\"BAS105\",TABLAS!$A$260)","v":0},0,{"$f":"+GETPIVOTDATA(\"BAS101\",TABLAS!$A$381)","v":0},{"$f":"+GETPIVOTDATA(\"BAS102\",TABLAS!$A$381)","v":0},{"$f":"+GETPIVOTDATA(\"BAS103\",TABLAS!$A$381)","v":0},{"$f":"+GETPIVOTDATA(\"BAS104\",TABLAS!$A$381)","v":0},{"$f":"+GETPIVOTDATA(\"BAS105\",TABLAS!$A$381)","v":0},0,{"$f":"+GETPIVOTDATA(\"BAS101\",TABLAS!$A$531)","v":0},{"$f":"+GETPIVOTDATA(\"BAS102\",TABLAS!$A$531)","v":0},{"$f":"+GETPIVOTDATA(\"BAS103\",TABLAS!$A$531)","v":0},{"$f":"+GETPIVOTDATA(\"BAS104\",TABLAS!$A$531)","v":0},{"$f":"+GETPIVOTDATA(\"BAS105\",TABLAS!$A$531)","v":0},0,0,null,{"$f":"+GETPIVOTDATA(\"BAS101\",TABLAS!$A$681)","v":0},{"$f":"+GETPIVOTDATA(\"BAS102\",TABLAS!$A$681)","v":0},{"$f":"+GETPIVOTDATA(\"BAS103\",TABLAS!$A$681)","v":0},{"$f":"+GETPIVOTDATA(\"BAS104\",TABLAS!$A$681)","v":0},{"$f":"+GETPIVOTDATA(\"BAS105\",TABLAS!$A$681)","v":0},0,{"$f":"+GETPIVOTDATA(\"BAS101\",TABLAS!$A$801)","v":0},{"$f":"+GETPIVOTDATA(\"BAS102\",TABLAS!$A$801)","v":0},{"$f":"+GETPIVOTDATA(\"BAS103\",TABLAS!$A$801)","v":0},{"$f":"+GETPIVOTDATA(\"BAS104\",TABLAS!$A$801)","v":0},{"$f":"+GETPIVOTDATA(\"BAS105\",TABLAS!$A$801)","v":0},0,{"$f":"+GETPIVOTDATA(\"BAS101\",TABLAS!$A$951)","v":{"$error":"#REF!"}},{"$f":"+GETPIVOTDATA(\"BAS102\",TABLAS!$A$951)","v":{"$error":"#REF!"}},{"$f":"+GETPIVOTDATA(\"BAS103\",TABLAS!$A$951)","v":{"$error":"#REF!"}},{"$f":"+GETPIVOTDATA(\"BAS104\",TABLAS!$A$951)","v":{"$error":"#REF!"}},{"$f":"+GETPIVOTDATA(\"BAS105\",TABLAS!$A$951)","v":{"$error":"#REF!"}},{"$error":"#REF!"},{"$error":"#REF!"},null,null,101,{"$f":"+AS145+1","v":102},103,104,105,null,"=+IMPORTARDATOSDINAMICOS(\"BAS101\",TABLAS!$A$1011)","=+IMPORTARDATOSDINAMICOS(\"BAS102\",TABLAS!$A$1011)","=+IMPORTARDATOSDINAMICOS(\"BAS103\",TABLAS!$A$1011)","=+IMPORTARDATOSDINAMICOS(\"BAS104\",TABLAS!$A$1011)","=+IMPORTARDATOSDINAMICOS(\"BAS105\",TABLAS!$A$1011)"]
["FERRITINA  [82728]",null,null,{"$f":"+GETPIVOTDATA(\"BAS106\",TABLAS!$A$260)","v":0},{"$f":"+GETPIVOTDATA(\"BAS107\",TABLAS!$A$260)","v":0},{"$f":"+GETPIVOTDATA(\"BAS108\",TABLAS!$A$260)","v":0},{"$f":"+GETPIVOTDATA(\"BAS109\",TABLAS!$A$260)","v":0},{"$f":"+GETPIVOTDATA(\"BAS110\",TABLAS!$A$260)","v":0},0,{"$f":"+GETPIVOTDATA(\"BAS106\",TABLAS!$A$381)","v":0},{"$f":"+GETPIVOTDATA(\"BAS107\",TABLAS!$A$381)","v":0},{"$f":"+GETPIVOTDATA(\"BAS108\",TABLAS!$A$381)","v":0},{"$f":"+GETPIVOTDATA(\"BAS109\",TABLAS!$A$381)","v":0},{"$f":"+GETPIVOTDATA(\"BAS110\",TABLAS!$A$381)","v":0},0,{"$f":"+GETPIVOTDATA(\"BAS106\",TABLAS!$A$531)","v":0},{"$f":"+GETPIVOTDATA(\"BAS107\",TABLAS!$A$531)","v":0},{"$f":"+GETPIVOTDATA(\"BAS108\",TABLAS!$A$531)","v":0},{"$f":"+GETPIVOTDATA(\"BAS109\",TABLAS!$A$531)","v":0},{"$f":"+GETPIVOTDATA(\"BAS110\",TABLAS!$A$531)","v":0},0,0,null,{"$f":"+GETPIVOTDATA(\"BAS106\",TABLAS!$A$681)","v":0},{"$f":"+GETPIVOTDATA(\"BAS107\",TABLAS!$A$681)","v":0},{"$f":"+GETPIVOTDATA(\"BAS108\",TABLAS!$A$681)","v":0},{"$f":"+GETPIVOTDATA(\"BAS109\",TABLAS!$A$681)","v":0},{"$f":"+GETPIVOTDATA(\"BAS110\",TABLAS!$A$681)","v":0},0,{"$f":"+GETPIVOTDATA(\"BAS106\",TABLAS!$A$801)","v":0},{"$f":"+GETPIVOTDATA(\"BAS107\",TABLAS!$A$801)","v":0},{"$f":"+GETPIVOTDATA(\"BAS108\",TABLAS!$A$801)","v":0},{"$f":"+GETPIVOTDATA(\"BAS109\",TABLAS!$A$801)","v":0},{"$f":"+GETPIVOTDATA(\"BAS110\",TABLAS!$A$801)","v":0},0,{"$f":"+GETPIVOTDATA(\"BAS106\",TABLAS!$A$951)","v":{"$error":"#REF!"}},{"$f":"+GETPIVOTDATA(\"BAS107\",TABLAS!$A$951)","v":{"$error":"#REF!"}},{"$f":"+GETPIVOTDATA(\"BAS108\",TABLAS!$A$951)","v":{"$error":"#REF!"}},{"$f":"+GETPIVOTDATA(\"BAS109\",TABLAS!$A$951)","v":{"$error":"#REF!"}},{"$f":"+GETPIVOTDATA(\"BAS110\",TABLAS!$A$951)","v":{"$error":"#REF!"}},{"$error":"#REF!"},{"$error":"#REF!"},null,null,106,{"$f":"+AS146+1","v":107},108,109,110,null,"=+IMPORTARDATOSDINAMICOS(\"BAS106\",TABLAS!$A$1011)","=+IMPORTARDATOSDINAMICOS(\"BAS107\",TABLAS!$A$1011)","=+IMPORTARDATOSDINAMICOS(\"BAS108\",TABLAS!$A$1011)","=+IMPORTARDATOSDINAMICOS(\"BAS109\",TABLAS!$A$1011)","=+IMPORTARDATOSDINAMICOS(\"BAS110\",TABLAS!$A$1011)"]
["FSH  [83001]",null,null,{"$f":"+GETPIVOTDATA(\"BAS111\",TABLAS!$A$260)","v":0},{"$f":"+GETPIVOTDATA(\"BAS112\",TABLAS!$A$260)","v":0},{"$f":"+GETPIVOTDATA(\"BAS113\",TABLAS!$A$260)","v":0},{"$f":"+GETPIVOTDATA(\"BAS114\",TABLAS!$A$260)","v":0},{"$f":"+GETPIVOTDATA(\"BAS115\",TABLAS!$A$260)","v":0},0,{"$f":"+GETPIVOTDATA(\"BAS111\",TABLAS!$A$381)","v":0},{"$f":"+GETPIVOTDATA(\"BAS112\",TABLAS!$A$381)","v":0},{"$f":"+GETPIVOTDATA(\"BAS113\",TABLAS!$A$381)","v":0},{"$f":"+GETPIVOTDATA(\"BAS114\",TABLAS!$A$381)","v":0},{"$f":"+GETPIVOTDATA(\"BAS115\",TABLAS!$A$381)","v":0},0,{"$f":"+GETPIVOTDATA(\"BAS111\",TABLAS!$A$531)","v":0},{"$f":"+GETPIVOTDATA(\"BAS112\",TABLAS!$A$531)","v":0},{"$f":"+GETPIVOTDATA(\"BAS113\",TABLAS!$A$531)","v":0},{"$f":"+GETPIVOTDATA(\"BAS114\",TABLAS!$A$531)","v":0},{"$f":"+GETPIVOTDATA(\"BAS115\",TABLAS!$A$531)","v":0},0,0,null,{"$f":"+GETPIVOTDATA(\"BAS111\",TABLAS!$A$681)","v":0},{"$f":"+GETPIVOTDATA(\"BAS112\",TABLAS!$A$681)","v":0},{"$f":"+GETPIVOTDATA(\"BAS113\",TABLAS!$A$681)","v":0},{"$f":"+GETPIVOTDATA(\"BAS114\",TABLAS!$A$681)","v":0},{"$f":"+GETPIVOTDATA(\"BAS115\",TABLAS!$A$681)","v":0},0,{"$f":"+GETPIVOTDATA(\"BAS111\",TABLAS!$A$801)","v":0},{"$f":"+GETPIVOTDATA(\"BAS112\",TABLAS!$A$801)","v":0},{"$f":"+GETPIVOTDATA(\"BAS113\",TABLAS!$A$801)","v":0},{"$f":"+GETPIVOTDATA(\"BAS114\",TABLAS!$A$801)","v":0},{"$f":"+GETPIVOTDATA(\"BAS115\",TABLAS!$A$801)","v":0},0,{"$f":"+GETPIVOTDATA(\"BAS111\",TABLAS!$A$951)","v":{"$error":"#REF!"}},{"$f":"+GETPIVOTDATA(\"BAS112\",TABLAS!$A$951)","v":{"$error":"#REF!"}},{"$f":"+GETPIVOTDATA(\"BAS113\",TABLAS!$A$951)","v":{"$error":"#REF!"}},{"$f":"+GETPIVOTDATA(\"BAS114\",TABLAS!$A$951)","v":{"$error":"#REF!"}},{"$f":"+GETPIVOTDATA(\"BAS115\",TABLAS!$A$951)","v":{"$error":"#REF!"}},{"$error":"#REF!"},{"$error":"#REF!"},null,null,111,{"$f":"+AS147+1","v":112},113,114,115,null,"=+IMPORTARDATOSDINAMICOS(\"BAS111\",TABLAS!$A$1011)","=+IMPORTARDATOSDINAMICOS(\"BAS112\",TABLAS!$A$1011)","=+IMPORTARDATOSDINAMICOS(\"BAS113\",TABLAS!$A$1011)","=+IMPORTARDATOSDINAMICOS(\"BAS114\",TABLAS!$A$1011)","=+IMPORTARDATOSDINAMICOS(\"BAS115\",TABLAS!$A$1011)"]
["INSULINA (83525)",null,null,{"$f":"+GETPIVOTDATA(\"BAS116\",TABLAS!$A$260)","v":0},{"$f":"+GETPIVOTDATA(\"BAS117\",TABLAS!$A$260)","v":0},{"$f":"+GETPIVOTDATA(\"BAS118\",TABLAS!$A$260)","v":0},{"$f":"+GETPIVOTDATA(\"BAS119\",TABLAS!$A$260)","v":0},{"$f":"+GETPIVOTDATA(\"BAS120\",TABLAS!$A$260)","v":0},0,{"$f":"+GETPIVOTDATA(\"BAS116\",TABLAS!$A$381)","v":0},{"$f":"+GETPIVOTDATA(\"BAS117\",TABLAS!$A$381)","v":0},{"$f":"+GETPIVOTDATA(\"BAS118\",TABLAS!$A$381)","v":0},{"$f":"+GETPIVOTDATA(\"BAS119\",TABLAS!$A$381)","v":0},{"$f":"+GETPIVOTDATA(\"BAS120\",TABLAS!$A$381)","v":0},0,{"$f":"+GETPIVOTDATA(\"BAS116\",TABLAS!$A$531)","v":0},{"$f":"+GETPIVOTDATA(\"BAS117\",TABLAS!$A$531)","v":0},{"$f":"+GETPIVOTDATA(\"BAS118\",TABLAS!$A$531)","v":0},{"$f":"+GETPIVOTDATA(\"BAS119\",TABLAS!$A$531)","v":0},{"$f":"+GETPIVOTDATA(\"BAS120\",TABLAS!$A$531)","v":0},0,0,null,{"$f":"+GETPIVOTDATA(\"BAS116\",TABLAS!$A$681)","v":0},{"$f":"+GETPIVOTDATA(\"BAS117\",TABLAS!$A$681)","v":0},{"$f":"+GETPIVOTDATA(\"BAS118\",TABLAS!$A$681)","v":0},{"$f":"+GETPIVOTDATA(\"BAS119\",TABLAS!$A$681)","v":0},{"$f":"+GETPIVOTDATA(\"BAS120\",TABLAS!$A$681)","v":0},0,{"$f":"+GETPIVOTDATA(\"BAS116\",TABLAS!$A$801)","v":0},{"$f":"+GETPIVOTDATA(\"BAS117\",TABLAS!$A$801)","v":0},{"$f":"+GETPIVOTDATA(\"BAS118\",TABLAS!$A$801)","v":0},{"$f":"+GETPIVOTDATA(\"BAS119\",TABLAS!$A$801)","v":0},{"$f":"+GETPIVOTDATA(\"BAS120\",TABLAS!$A$801)","v":0},0,{"$f":"+GETPIVOTDATA(\"BAS116\",TABLAS!$A$951)","v":{"$error":"#REF!"}},{"$f":"+GETPIVOTDATA(\"BAS117\",TABLAS!$A$951)","v":{"$error":"#REF!"}},{"$f":"+GETPIVOTDATA(\"BAS118\",TABLAS!$A$951)","v":{"$error":"#REF!"}},{"$f":"+GETPIVOTDATA(\"BAS119\",TABLAS!$A$951)","v":{"$error":"#REF!"}},{"$f":"+GETPIVOTDATA(\"BAS120\",TABLAS!$A$951)","v":{"$error":"#REF!"}},{"$error":"#REF!"},{"$error":"#REF!"},null,null,116,{"$f":"+AS148+1","v":117},118,119,120,null,"=+IMPORTARDATOSDINAMICOS(\"BAS116\",TABLAS!$A$1011)","=+IMPORTARDATOSDINAMICOS(\"BAS117\",TABLAS!$A$1011)","=+IMPORTARDATOSDINAMICOS(\"BAS118\",TABLAS!$A$1011)","=+IMPORTARDATOSDINAMICOS(\"BAS119\",TABLAS!$A$1011)","=+IMPORTARDATOSDINAMICOS(\"BAS120\",TABLAS!$A$1011)"]
["LH  [83002]",null,null,{"$f":"+GETPIVOTDATA(\"BAS121\",TABLAS!$A$260)","v":0},{"$f":"+GETPIVOTDATA(\"BAS122\",TABLAS!$A$260)","v":0},{"$f":"+GETPIVOTDATA(\"BAS123\",TABLAS!$A$260)","v":0},{"$f":"+GETPIVOTDATA(\"BAS124\",TABLAS!$A$260)","v":0},{"$f":"+GETPIVOTDATA(\"BAS125\",TABLAS!$A$260)","v":0},0,{"$f":"+GETPIVOTDATA(\"BAS121\",TABLAS!$A$381)","v":0},{"$f":"+GETPIVOTDATA(\"BAS122\",TABLAS!$A$381)","v":0},{"$f":"+GETPIVOTDATA(\"BAS123\",TABLAS!$A$381)","v":0},{"$f":"+GETPIVOTDATA(\"BAS124\",TABLAS!$A$381)","v":0},{"$f":"+GETPIVOTDATA(\"BAS125\",TABLAS!$A$381)","v":0},0,{"$f":"+GETPIVOTDATA(\"BAS121\",TABLAS!$A$531)","v":0},{"$f":"+GETPIVOTDATA(\"BAS122\",TABLAS!$A$531)","v":0},{"$f":"+GETPIVOTDATA(\"BAS123\",TABLAS!$A$531)","v":0},{"$f":"+GETPIVOTDATA(\"BAS124\",TABLAS!$A$531)","v":0},{"$f":"+GETPIVOTDATA(\"BAS125\",TABLAS!$A$531)","v":0},0,0,null,{"$f":"+GETPIVOTDATA(\"BAS121\",TABLAS!$A$681)","v":0},{"$f":"+GETPIVOTDATA(\"BAS122\",TABLAS!$A$681)","v":0},{"$f":"+GETPIVOTDATA(\"BAS123\",TABLAS!$A$681)","v":0},{"$f":"+GETPIVOTDATA(\"BAS124\",TABLAS!$A$681)","v":0},{"$f":"+GETPIVOTDATA(\"BAS125\",TABLAS!$A$681)","v":0},0,{"$f":"+GETPIVOTDATA(\"BAS121\",TABLAS!$A$801)","v":0},{"$f":"+GETPIVOTDATA(\"BAS122\",TABLAS!$A$801)","v":0},{"$f":"+GETPIVOTDATA(\"BAS123\",TABLAS!$A$801)","v":0},{"$f":"+GETPIVOTDATA(\"BAS124\",TABLAS!$A$801)","v":0},{"$f":"+GETPIVOTDATA(\"BAS125\",TABLAS!$A$801)","v":0},0,{"$f":"+GETPIVOTDATA(\"BAS121\",TABLAS!$A$951)","v":{"$error":"#REF!"}},{"$f":"+GETPIVOTDATA(\"BAS122\",TABLAS!$A$951)","v":{"$error":"#REF!"}},{"$f":"+GETPIVOTDATA(\"BAS123\",TABLAS!$A$951)","v":{"$error":"#REF!"}},{"$f":"+GETPIVOTDATA(\"BAS124\",TABLAS!$A$951)","v":{"$error":"#REF!"}},{"$f":"+GETPIVOTDATA(\"BAS125\",TABLAS!$A$951)","v":{"$error":"#REF!"}},{"$error":"#REF!"},{"$error":"#REF!"},null,null,121,{"$f":"+AS149+1","v":122},123,124,125,null,"=+IMPORTARDATOSDINAMICOS(\"BAS121\",TABLAS!$A$1011)","=+IMPORTARDATOSDINAMICOS(\"BAS122\",TABLAS!$A$1011)","=+IMPORTARDATOSDINAMICOS(\"BAS123\",TABLAS!$A$1011)","=+IMPORTARDATOSDINAMICOS(\"BAS124\",TABLAS!$A$1011)","=+IMPORTARDATOSDINAMICOS(\"BAS125\",TABLAS!$A$1011)"]
["OTROS MARCADORES TUMORALES (86316) ",null,null,{"$f":"+GETPIVOTDATA(\"BAS126\",TABLAS!$A$260)","v":0},{"$f":"+GETPIVOTDATA(\"BAS127\",TABLAS!$A$260)","v":0},{"$f":"+GETPIVOTDATA(\"BAS128\",TABLAS!$A$260)","v":0},{"$f":"+GETPIVOTDATA(\"BAS129\",TABLAS!$A$260)","v":0},{"$f":"+GETPIVOTDATA(\"BAS130\",TABLAS!$A$260)","v":0},0,{"$f":"+GETPIVOTDATA(\"BAS126\",TABLAS!$A$381)","v":0},{"$f":"+GETPIVOTDATA(\"BAS127\",TABLAS!$A$381)","v":0},{"$f":"+GETPIVOTDATA(\"BAS128\",TABLAS!$A$381)","v":0},{"$f":"+GETPIVOTDATA(\"BAS129\",TABLAS!$A$381)","v":0},{"$f":"+GETPIVOTDATA(\"BAS130\",TABLAS!$A$381)","v":0},0,{"$f":"+GETPIVOTDATA(\"BAS126\",TABLAS!$A$531)","v":0},{"$f":"+GETPIVOTDATA(\"BAS127\",TABLAS!$A$531)","v":0},{"$f":"+GETPIVOTDATA(\"BAS128\",TABLAS!$A$531)","v":0},{"$f":"+GETPIVOTDATA(\"BAS129\",TABLAS!$A$531)","v":0},{"$f":"+GETPIVOTDATA(\"BAS130\",TABLAS!$A$531)","v":0},0,0,null,{"$f":"+GETPIVOTDATA(\"BAS126\",TABLAS!$A$681)","v":0},{"$f":"+GETPIVOTDATA(\"BAS127\",TABLAS!$A$681)","v":0},{"$f":"+GETPIVOTDATA(\"BAS128\",TABLAS!$A$681)","v":0},{"$f":"+GETPIVOTDATA(\"BAS129\",TABLAS!$A$681)","v":0},{"$f":"+GETPIVOTDATA(\"BAS130\",TABLAS!$A$681)","v":0},0,{"$f":"+GETPIVOTDATA(\"BAS126\",TABLAS!$A$801)","v":0},{"$f":"+GETPIVOTDATA(\"BAS127\",TABLAS!$A$801)","v":0},{"$f":"+GETPIVOTDATA(\"BAS128\",TABLAS!$A$801)","v":0},{"$f":"+GETPIVOTDATA(\"BAS129\",TABLAS!$A$801)","v":0},{"$f":"+GETPIVOTDATA(\"BAS130\",TABLAS!$A$801)","v":0},0,{"$f":"+GETPIVOTDATA(\"BAS126\",TABLAS!$A$951)","v":{"$error":"#REF!"}},{"$f":"+GETPIVOTDATA(\"BAS127\",TABLAS!$A$951)","v":{"$error":"#REF!"}},{"$f":"+GETPIVOTDATA(\"BAS128\",TABLAS!$A$951)","v":{"$error":"#REF!"}},{"$f":"+GETPIVOTDATA(\"BAS129\",TABLAS!$A$951)","v":{"$error":"#REF!"}},{"$f":"+GETPIVOTDATA(\"BAS130\",TABLAS!$A$951)","v":{"$error":"#REF!"}},{"$error":"#REF!"},{"$error":"#REF!"},null,null,126,{"$f":"+AS150+1","v":127},128,129,130,null,"=+IMPORTARDATOSDINAMICOS(\"BAS126\",TABLAS!$A$1011)","=+IMPORTARDATOSDINAMICOS(\"BAS127\",TABLAS!$A$1011)","=+IMPORTARDATOSDINAMICOS(\"BAS128\",TABLAS!$A$1011)","=+IMPORTARDATOSDINAMICOS(\"BAS129\",TABLAS!$A$1011)","=+IMPORTARDATOSDINAMICOS(\"BAS130\",TABLAS!$A$1011)"]
["PARATOHORMONA (83970)",null,null,{"$f":"+GETPIVOTDATA(\"BAS131\",TABLAS!$A$260)","v":0},{"$f":"+GETPIVOTDATA(\"BAS132\",TABLAS!$A$260)","v":0},{"$f":"+GETPIVOTDATA(\"BAS133\",TABLAS!$A$260)","v":0},{"$f":"+GETPIVOTDATA(\"BAS134\",TABLAS!$A$260)","v":0},{"$f":"+GETPIVOTDATA(\"BAS135\",TABLAS!$A$260)","v":0},0,{"$f":"+GETPIVOTDATA(\"BAS131\",TABLAS!$A$381)","v":0},{"$f":"+GETPIVOTDATA(\"BAS132\",TABLAS!$A$381)","v":0},{"$f":"+GETPIVOTDATA(\"BAS133\",TABLAS!$A$381)","v":0},{"$f":"+GETPIVOTDATA(\"BAS134\",TABLAS!$A$381)","v":0},{"$f":"+GETPIVOTDATA(\"BAS135\",TABLAS!$A$381)","v":0},0,{"$f":"+GETPIVOTDATA(\"BAS131\",TABLAS!$A$531)","v":0},{"$f":"+GETPIVOTDATA(\"BAS132\",TABLAS!$A$531)","v":0},{"$f":"+GETPIVOTDATA(\"BAS133\",TABLAS!$A$531)","v":0},{"$f":"+GETPIVOTDATA(\"BAS134\",TABLAS!$A$531)","v":0},{"$f":"+GETPIVOTDATA(\"BAS135\",TABLAS!$A$531)","v":0},0,0,null,{"$f":"+GETPIVOTDATA(\"BAS131\",TABLAS!$A$681)","v":0},{"$f":"+GETPIVOTDATA(\"BAS132\",TABLAS!$A$681)","v":0},{"$f":"+GETPIVOTDATA(\"BAS133\",TABLAS!$A$681)","v":0},{"$f":"+GETPIVOTDATA(\"BAS134\",TABLAS!$A$681)","v":0},{"$f":"+GETPIVOTDATA(\"BAS135\",TABLAS!$A$681)","v":0},0,{"$f":"+GETPIVOTDATA(\"BAS131\",TABLAS!$A$801)","v":0},{"$f":"+GETPIVOTDATA(\"BAS132\",TABLAS!$A$801)","v":0},{"$f":"+GETPIVOTDATA(\"BAS133\",TABLAS!$A$801)","v":0},{"$f":"+GETPIVOTDATA(\"BAS134\",TABLAS!$A$801)","v":0},{"$f":"+GETPIVOTDATA(\"BAS135\",TABLAS!$A$801)","v":0},0,{"$f":"+GETPIVOTDATA(\"BAS131\",TABLAS!$A$951)","v":{"$error":"#REF!"}},{"$f":"+GETPIVOTDATA(\"BAS132\",TABLAS!$A$951)","v":{"$error":"#REF!"}},{"$f":"+GETPIVOTDATA(\"BAS133\",TABLAS!$A$951)","v":{"$error":"#REF!"}},{"$f":"+GETPIVOTDATA(\"BAS134\",TABLAS!$A$951)","v":{"$error":"#REF!"}},{"$f":"+GETPIVOTDATA(\"BAS135\",TABLAS!$A$951)","v":{"$error":"#REF!"}},{"$error":"#REF!"},{"$error":"#REF!"},null,null,131,{"$f":"+AS151+1","v":132},133,134,135,null,"=+IMPORTARDATOSDINAMICOS(\"BAS131\",TABLAS!$A$1011)","=+IMPORTARDATOSDINAMICOS(\"BAS132\",TABLAS!$A$1011)","=+IMPORTARDATOSDINAMICOS(\"BAS133\",TABLAS!$A$1011)","=+IMPORTARDATOSDINAMICOS(\"BAS134\",TABLAS!$A$1011)","=+IMPORTARDATOSDINAMICOS(\"BAS135\",TABLAS!$A$1011)"]
["PROGESTERONA  [84144]",null,null,{"$f":"+GETPIVOTDATA(\"BAS136\",TABLAS!$A$260)","v":0},{"$f":"+GETPIVOTDATA(\"BAS137\",TABLAS!$A$260)","v":0},{"$f":"+GETPIVOTDATA(\"BAS138\",TABLAS!$A$260)","v":0},{"$f":"+GETPIVOTDATA(\"BAS139\",TABLAS!$A$260)","v":0},{"$f":"+GETPIVOTDATA(\"BAS140\",TABLAS!$A$260)","v":0},0,{"$f":"+GETPIVOTDATA(\"BAS136\",TABLAS!$A$381)","v":0},{"$f":"+GETPIVOTDATA(\"BAS137\",TABLAS!$A$381)","v":0},{"$f":"+GETPIVOTDATA(\"BAS138\",TABLAS!$A$381)","v":0},{"$f":"+GETPIVOTDATA(\"BAS139\",TABLAS!$A$381)","v":0},{"$f":"+GETPIVOTDATA(\"BAS140\",TABLAS!$A$381)","v":0},0,{"$f":"+GETPIVOTDATA(\"BAS136\",TABLAS!$A$531)","v":0},{"$f":"+GETPIVOTDATA(\"BAS137\",TABLAS!$A$531)","v":0},{"$f":"+GETPIVOTDATA(\"BAS138\",TABLAS!$A$531)","v":0},{"$f":"+GETPIVOTDATA(\"BAS139\",TABLAS!$A$531)","v":0},{"$f":"+GETPIVOTDATA(\"BAS140\",TABLAS!$A$531)","v":0},0,0,null,{"$f":"+GETPIVOTDATA(\"BAS136\",TABLAS!$A$681)","v":0},{"$f":"+GETPIVOTDATA(\"BAS137\",TABLAS!$A$681)","v":0},{"$f":"+GETPIVOTDATA(\"BAS138\",TABLAS!$A$681)","v":0},{"$f":"+GETPIVOTDATA(\"BAS139\",TABLAS!$A$681)","v":0},{"$f":"+GETPIVOTDATA(\"BAS140\",TABLAS!$A$681)","v":0},0,{"$f":"+GETPIVOTDATA(\"BAS136\",TABLAS!$A$801)","v":0},{"$f":"+GETPIVOTDATA(\"BAS137\",TABLAS!$A$801)","v":0},{"$f":"+GETPIVOTDATA(\"BAS138\",TABLAS!$A$801)","v":0},{"$f":"+GETPIVOTDATA(\"BAS139\",TABLAS!$A$801)","v":0},{"$f":"+GETPIVOTDATA(\"BAS140\",TABLAS!$A$801)","v":0},0,{"$f":"+GETPIVOTDATA(\"BAS136\",TABLAS!$A$951)","v":{"$error":"#REF!"}},{"$f":"+GETPIVOTDATA(\"BAS137\",TABLAS!$A$951)","v":{"$error":"#REF!"}},{"$f":"+GETPIVOTDATA(\"BAS138\",TABLAS!$A$951)","v":{"$error":"#REF!"}},{"$f":"+GETPIVOTDATA(\"BAS139\",TABLAS!$A$951)","v":{"$error":"#REF!"}},{"$f":"+GETPIVOTDATA(\"BAS140\",TABLAS!$A$951)","v":{"$error":"#REF!"}},{"$error":"#REF!"},{"$error":"#REF!"},null,null,136,{"$f":"+AS152+1","v":137},138,139,140,null,"=+IMPORTARDATOSDINAMICOS(\"BAS136\",TABLAS!$A$1011)","=+IMPORTARDATOSDINAMICOS(\"BAS137\",TABLAS!$A$1011)","=+IMPORTARDATOSDINAMICOS(\"BAS138\",TABLAS!$A$1011)","=+IMPORTARDATOSDINAMICOS(\"BAS139\",TABLAS!$A$1011)","=+IMPORTARDATOSDINAMICOS(\"BAS140\",TABLAS!$A$1011)"]
["PROLACTINA  [84146]",null,null,{"$f":"+GETPIVOTDATA(\"BAS141\",TABLAS!$A$260)","v":0},{"$f":"+GETPIVOTDATA(\"BAS142\",TABLAS!$A$260)","v":0},{"$f":"+GETPIVOTDATA(\"BAS143\",TABLAS!$A$260)","v":0},{"$f":"+GETPIVOTDATA(\"BAS144\",TABLAS!$A$260)","v":0},{"$f":"+GETPIVOTDATA(\"BAS145\",TABLAS!$A$260)","v":0},0,{"$f":"+GETPIVOTDATA(\"BAS141\",TABLAS!$A$381)","v":0},{"$f":"+GETPIVOTDATA(\"BAS142\",TABLAS!$A$381)","v":0},{"$f":"+GETPIVOTDATA(\"BAS143\",TABLAS!$A$381)","v":0},{"$f":"+GETPIVOTDATA(\"BAS144\",TABLAS!$A$381)","v":0},{"$f":"+GETPIVOTDATA(\"BAS145\",TABLAS!$A$381)","v":0},0,{"$f":"+GETPIVOTDATA(\"BAS141\",TABLAS!$A$531)","v":0},{"$f":"+GETPIVOTDATA(\"BAS142\",TABLAS!$A$531)","v":0},{"$f":"+GETPIVOTDATA(\"BAS143\",TABLAS!$A$531)","v":0},{"$f":"+GETPIVOTDATA(\"BAS144\",TABLAS!$A$531)","v":0},{"$f":"+GETPIVOTDATA(\"BAS145\",TABLAS!$A$531)","v":0},0,0,null,{"$f":"+GETPIVOTDATA(\"BAS141\",TABLAS!$A$681)","v":0},{"$f":"+GETPIVOTDATA(\"BAS142\",TABLAS!$A$681)","v":0},{"$f":"+GETPIVOTDATA(\"BAS143\",TABLAS!$A$681)","v":0},{"$f":"+GETPIVOTDATA(\"BAS144\",TABLAS!$A$681)","v":0},{"$f":"+GETPIVOTDATA(\"BAS145\",TABLAS!$A$681)","v":0},0,{"$f":"+GETPIVOTDATA(\"BAS141\",TABLAS!$A$801)","v":0},{"$f":"+GETPIVOTDATA(\"BAS142\",TABLAS!$A$801)","v":0},{"$f":"+GETPIVOTDATA(\"BAS143\",TABLAS!$A$801)","v":0},{"$f":"+GETPIVOTDATA(\"BAS144\",TABLAS!$A$801)","v":0},{"$f":"+GETPIVOTDATA(\"BAS145\",TABLAS!$A$801)","v":0},0,{"$f":"+GETPIVOTDATA(\"BAS141\",TABLAS!$A$951)","v":{"$error":"#REF!"}},{"$f":"+GETPIVOTDATA(\"BAS142\",TABLAS!$A$951)","v":{"$error":"#REF!"}},{"$f":"+GETPIVOTDATA(\"BAS143\",TABLAS!$A$951)","v":{"$error":"#REF!"}},{"$f":"+GETPIVOTDATA(\"BAS144\",TABLAS!$A$951)","v":{"$error":"#REF!"}},{"$f":"+GETPIVOTDATA(\"BAS145\",TABLAS!$A$951)","v":{"$error":"#REF!"}},{"$error":"#REF!"},{"$error":"#REF!"},null,null,141,{"$f":"+AS153+1","v":142},143,144,145,null,"=+IMPORTARDATOSDINAMICOS(\"BAS141\",TABLAS!$A$1011)","=+IMPORTARDATOSDINAMICOS(\"BAS142\",TABLAS!$A$1011)","=+IMPORTARDATOSDINAMICOS(\"BAS143\",TABLAS!$A$1011)","=+IMPORTARDATOSDINAMICOS(\"BAS144\",TABLAS!$A$1011)","=+IMPORTARDATOSDINAMICOS(\"BAS145\",TABLAS!$A$1011)"]
["PROLCALCITONINA  [84145]",null,null,{"$f":"+GETPIVOTDATA(\"BAS146\",TABLAS!$A$260)","v":0},{"$f":"+GETPIVOTDATA(\"BAS147\",TABLAS!$A$260)","v":0},{"$f":"+GETPIVOTDATA(\"BAS148\",TABLAS!$A$260)","v":0},{"$f":"+GETPIVOTDATA(\"BAS149\",TABLAS!$A$260)","v":0},{"$f":"+GETPIVOTDATA(\"BAS150\",TABLAS!$A$260)","v":0},0,{"$f":"+GETPIVOTDATA(\"BAS146\",TABLAS!$A$381)","v":0},{"$f":"+GETPIVOTDATA(\"BAS147\",TABLAS!$A$381)","v":0},{"$f":"+GETPIVOTDATA(\"BAS148\",TABLAS!$A$381)","v":0},{"$f":"+GETPIVOTDATA(\"BAS149\",TABLAS!$A$381)","v":0},{"$f":"+GETPIVOTDATA(\"BAS150\",TABLAS!$A$381)","v":0},0,{"$f":"+GETPIVOTDATA(\"BAS146\",TABLAS!$A$531)","v":0},{"$f":"+GETPIVOTDATA(\"BAS147\",TABLAS!$A$531)","v":0},{"$f":"+GETPIVOTDATA(\"BAS148\",TABLAS!$A$531)","v":0},{"$f":"+GETPIVOTDATA(\"BAS149\",TABLAS!$A$531)","v":0},{"$f":"+GETPIVOTDATA(\"BAS150\",TABLAS!$A$531)","v":0},0,0,null,{"$f":"+GETPIVOTDATA(\"BAS146\",TABLAS!$A$681)","v":0},{"$f":"+GETPIVOTDATA(\"BAS147\",TABLAS!$A$681)","v":0},{"$f":"+GETPIVOTDATA(\"BAS148\",TABLAS!$A$681)","v":0},{"$f":"+GETPIVOTDATA(\"BAS149\",TABLAS!$A$681)","v":0},{"$f":"+GETPIVOTDATA(\"BAS150\",TABLAS!$A$681)","v":0},0,{"$f":"+GETPIVOTDATA(\"BAS146\",TABLAS!$A$801)","v":0},{"$f":"+GETPIVOTDATA(\"BAS147\",TABLAS!$A$801)","v":0},{"$f":"+GETPIVOTDATA(\"BAS148\",TABLAS!$A$801)","v":0},{"$f":"+GETPIVOTDATA(\"BAS149\",TABLAS!$A$801)","v":0},{"$f":"+GETPIVOTDATA(\"BAS150\",TABLAS!$A$801)","v":0},0,{"$f":"+GETPIVOTDATA(\"BAS146\",TABLAS!$A$951)","v":{"$error":"#REF!"}},{"$f":"+GETPIVOTDATA(\"BAS147\",TABLAS!$A$951)","v":{"$error":"#REF!"}},{"$f":"+GETPIVOTDATA(\"BAS148\",TABLAS!$A$951)","v":{"$error":"#REF!"}},{"$f":"+GETPIVOTDATA(\"BAS149\",TABLAS!$A$951)","v":{"$error":"#REF!"}},{"$f":"+GETPIVOTDATA(\"BAS150\",TABLAS!$A$951)","v":{"$error":"#REF!"}},{"$error":"#REF!"},{"$error":"#REF!"},null,null,146,{"$f":"+AS154+1","v":147},148,149,150,null,"=+IMPORTARDATOSDINAMICOS(\"BAS146\",TABLAS!$A$1011)","=+IMPORTARDATOSDINAMICOS(\"BAS147\",TABLAS!$A$1011)","=+IMPORTARDATOSDINAMICOS(\"BAS148\",TABLAS!$A$1011)","=+IMPORTARDATOSDINAMICOS(\"BAS149\",TABLAS!$A$1011)","=+IMPORTARDATOSDINAMICOS(\"BAS150\",TABLAS!$A$1011)"]
["PROTEINA C REACTIVA CUALITATIVO  [86140]",null,null,{"$f":"+GETPIVOTDATA(\"BAS151\",TABLAS!$A$260)","v":0},{"$f":"+GETPIVOTDATA(\"BAS152\",TABLAS!$A$260)","v":0},{"$f":"+GETPIVOTDATA(\"BAS153\",TABLAS!$A$260)","v":0},{"$f":"+GETPIVOTDATA(\"BAS154\",TABLAS!$A$260)","v":0},{"$f":"+GETPIVOTDATA(\"BAS155\",TABLAS!$A$260)","v":0},0,{"$f":"+GETPIVOTDATA(\"BAS151\",TABLAS!$A$381)","v":0},{"$f":"+GETPIVOTDATA(\"BAS152\",TABLAS!$A$381)","v":0},{"$f":"+GETPIVOTDATA(\"BAS153\",TABLAS!$A$381)","v":0},{"$f":"+GETPIVOTDATA(\"BAS154\",TABLAS!$A$381)","v":0},{"$f":"+GETPIVOTDATA(\"BAS155\",TABLAS!$A$381)","v":0},0,{"$f":"+GETPIVOTDATA(\"BAS151\",TABLAS!$A$531)","v":0},{"$f":"+GETPIVOTDATA(\"BAS152\",TABLAS!$A$531)","v":0},{"$f":"+GETPIVOTDATA(\"BAS153\",TABLAS!$A$531)","v":0},{"$f":"+GETPIVOTDATA(\"BAS154\",TABLAS!$A$531)","v":0},{"$f":"+GETPIVOTDATA(\"BAS155\",TABLAS!$A$531)","v":0},0,0,null,{"$f":"+GETPIVOTDATA(\"BAS151\",TABLAS!$A$681)","v":0},{"$f":"+GETPIVOTDATA(\"BAS152\",TABLAS!$A$681)","v":0},{"$f":"+GETPIVOTDATA(\"BAS153\",TABLAS!$A$681)","v":0},{"$f":"+GETPIVOTDATA(\"BAS154\",TABLAS!$A$681)","v":0},{"$f":"+GETPIVOTDATA(\"BAS155\",TABLAS!$A$681)","v":0},0,{"$f":"+GETPIVOTDATA(\"BAS151\",TABLAS!$A$801)","v":0},{"$f":"+GETPIVOTDATA(\"BAS152\",TABLAS!$A$801)","v":0},{"$f":"+GETPIVOTDATA(\"BAS153\",TABLAS!$A$801)","v":0},{"$f":"+GETPIVOTDATA(\"BAS154\",TABLAS!$A$801)","v":0},{"$f":"+GETPIVOTDATA(\"BAS155\",TABLAS!$A$801)","v":0},0,{"$f":"+GETPIVOTDATA(\"BAS151\",TABLAS!$A$951)","v":{"$error":"#REF!"}},{"$f":"+GETPIVOTDATA(\"BAS152\",TABLAS!$A$951)","v":{"$error":"#REF!"}},{"$f":"+GETPIVOTDATA(\"BAS153\",TABLAS!$A$951)","v":{"$error":"#REF!"}},{"$f":"+GETPIVOTDATA(\"BAS154\",TABLAS!$A$951)","v":{"$error":"#REF!"}},{"$f":"+GETPIVOTDATA(\"BAS155\",TABLAS!$A$951)","v":{"$error":"#REF!"}},{"$error":"#REF!"},{"$error":"#REF!"},null,null,151,{"$f":"+AS155+1","v":152},153,154,155,null,"=+IMPORTARDATOSDINAMICOS(\"BAS151\",TABLAS!$A$1011)","=+IMPORTARDATOSDINAMICOS(\"BAS152\",TABLAS!$A$1011)","=+IMPORTARDATOSDINAMICOS(\"BAS153\",TABLAS!$A$1011)","=+IMPORTARDATOSDINAMICOS(\"BAS154\",TABLAS!$A$1011)","=+IMPORTARDATOSDINAMICOS(\"BAS155\",TABLAS!$A$1011)"]
["PROTEINA C REACTIVA CUANTITATIVA (86141)",null,null,{"$f":"+GETPIVOTDATA(\"BAS156\",TABLAS!$A$260)","v":0},{"$f":"+GETPIVOTDATA(\"BAS157\",TABLAS!$A$260)","v":0},{"$f":"+GETPIVOTDATA(\"BAS158\",TABLAS!$A$260)","v":0},{"$f":"+GETPIVOTDATA(\"BAS159\",TABLAS!$A$260)","v":0},{"$f":"+GETPIVOTDATA(\"BAS160\",TABLAS!$A$260)","v":0},0,{"$f":"+GETPIVOTDATA(\"BAS156\",TABLAS!$A$381)","v":0},{"$f":"+GETPIVOTDATA(\"BAS157\",TABLAS!$A$381)","v":0},{"$f":"+GETPIVOTDATA(\"BAS158\",TABLAS!$A$381)","v":0},{"$f":"+GETPIVOTDATA(\"BAS159\",TABLAS!$A$381)","v":0},{"$f":"+GETPIVOTDATA(\"BAS160\",TABLAS!$A$381)","v":0},0,{"$f":"+GETPIVOTDATA(\"BAS156\",TABLAS!$A$531)","v":0},{"$f":"+GETPIVOTDATA(\"BAS157\",TABLAS!$A$531)","v":0},{"$f":"+GETPIVOTDATA(\"BAS158\",TABLAS!$A$531)","v":0},{"$f":"+GETPIVOTDATA(\"BAS159\",TABLAS!$A$531)","v":0},{"$f":"+GETPIVOTDATA(\"BAS160\",TABLAS!$A$531)","v":0},0,0,null,{"$f":"+GETPIVOTDATA(\"BAS156\",TABLAS!$A$681)","v":0},{"$f":"+GETPIVOTDATA(\"BAS157\",TABLAS!$A$681)","v":0},{"$f":"+GETPIVOTDATA(\"BAS158\",TABLAS!$A$681)","v":0},{"$f":"+GETPIVOTDATA(\"BAS159\",TABLAS!$A$681)","v":0},{"$f":"+GETPIVOTDATA(\"BAS160\",TABLAS!$A$681)","v":0},0,{"$f":"+GETPIVOTDATA(\"BAS156\",TABLAS!$A$801)","v":0},{"$f":"+GETPIVOTDATA(\"BAS157\",TABLAS!$A$801)","v":0},{"$f":"+GETPIVOTDATA(\"BAS158\",TABLAS!$A$801)","v":0},{"$f":"+GETPIVOTDATA(\"BAS159\",TABLAS!$A$801)","v":0},{"$f":"+GETPIVOTDATA(\"BAS160\",TABLAS!$A$801)","v":0},0,{"$f":"+GETPIVOTDATA(\"BAS156\",TABLAS!$A$951)","v":{"$error":"#REF!"}},{"$f":"+GETPIVOTDATA(\"BAS157\",TABLAS!$A$951)","v":{"$error":"#REF!"}},{"$f":"+GETPIVOTDATA(\"BAS158\",TABLAS!$A$951)","v":{"$error":"#REF!"}},{"$f":"+GETPIVOTDATA(\"BAS159\",TABLAS!$A$951)","v":{"$error":"#REF!"}},{"$f":"+GETPIVOTDATA(\"BAS160\",TABLAS!$A$951)","v":{"$error":"#REF!"}},{"$error":"#REF!"},{"$error":"#REF!"},null,null,156,{"$f":"+AS156+1","v":157},158,159,160,null,"=+IMPORTARDATOSDINAMICOS(\"BAS156\",TABLAS!$A$1011)","=+IMPORTARDATOSDINAMICOS(\"BAS157\",TABLAS!$A$1011)","=+IMPORTARDATOSDINAMICOS(\"BAS158\",TABLAS!$A$1011)","=+IMPORTARDATOSDINAMICOS(\"BAS159\",TABLAS!$A$1011)","=+IMPORTARDATOSDINAMICOS(\"BAS160\",TABLAS!$A$1011)"]
["PSA LIBRE  (PRUEBA RAPIDA) [84154]",null,null,{"$f":"+GETPIVOTDATA(\"BAS161\",TABLAS!$A$260)","v":0},{"$f":"+GETPIVOTDATA(\"BAS162\",TABLAS!$A$260)","v":0},{"$f":"+GETPIVOTDATA(\"BAS163\",TABLAS!$A$260)","v":0},{"$f":"+GETPIVOTDATA(\"BAS164\",TABLAS!$A$260)","v":0},{"$f":"+GETPIVOTDATA(\"BAS165\",TABLAS!$A$260)","v":0},0,{"$f":"+GETPIVOTDATA(\"BAS161\",TABLAS!$A$381)","v":0},{"$f":"+GETPIVOTDATA(\"BAS162\",TABLAS!$A$381)","v":0},{"$f":"+GETPIVOTDATA(\"BAS163\",TABLAS!$A$381)","v":0},{"$f":"+GETPIVOTDATA(\"BAS164\",TABLAS!$A$381)","v":0},{"$f":"+GETPIVOTDATA(\"BAS165\",TABLAS!$A$381)","v":0},0,{"$f":"+GETPIVOTDATA(\"BAS161\",TABLAS!$A$531)","v":0},{"$f":"+GETPIVOTDATA(\"BAS162\",TABLAS!$A$531)","v":0},{"$f":"+GETPIVOTDATA(\"BAS163\",TABLAS!$A$531)","v":0},{"$f":"+GETPIVOTDATA(\"BAS164\",TABLAS!$A$531)","v":0},{"$f":"+GETPIVOTDATA(\"BAS165\",TABLAS!$A$531)","v":0},0,0,null,{"$f":"+GETPIVOTDATA(\"BAS161\",TABLAS!$A$681)","v":0},{"$f":"+GETPIVOTDATA(\"BAS162\",TABLAS!$A$681)","v":0},{"$f":"+GETPIVOTDATA(\"BAS163\",TABLAS!$A$681)","v":0},{"$f":"+GETPIVOTDATA(\"BAS164\",TABLAS!$A$681)","v":0},{"$f":"+GETPIVOTDATA(\"BAS165\",TABLAS!$A$681)","v":0},0,{"$f":"+GETPIVOTDATA(\"BAS161\",TABLAS!$A$801)","v":0},{"$f":"+GETPIVOTDATA(\"BAS162\",TABLAS!$A$801)","v":0},{"$f":"+GETPIVOTDATA(\"BAS163\",TABLAS!$A$801)","v":0},{"$f":"+GETPIVOTDATA(\"BAS164\",TABLAS!$A$801)","v":0},{"$f":"+GETPIVOTDATA(\"BAS165\",TABLAS!$A$801)","v":0},0,{"$f":"+GETPIVOTDATA(\"BAS161\",TABLAS!$A$951)","v":{"$error":"#REF!"}},{"$f":"+GETPIVOTDATA(\"BAS162\",TABLAS!$A$951)","v":{"$error":"#REF!"}},{"$f":"+GETPIVOTDATA(\"BAS163\",TABLAS!$A$951)","v":{"$error":"#REF!"}},{"$f":"+GETPIVOTDATA(\"BAS164\",TABLAS!$A$951)","v":{"$error":"#REF!"}},{"$f":"+GETPIVOTDATA(\"BAS165\",TABLAS!$A$951)","v":{"$error":"#REF!"}},{"$error":"#REF!"},{"$error":"#REF!"},null,null,161,{"$f":"+AS157+1","v":162},163,164,165,null,"=+IMPORTARDATOSDINAMICOS(\"BAS161\",TABLAS!$A$1011)","=+IMPORTARDATOSDINAMICOS(\"BAS162\",TABLAS!$A$1011)","=+IMPORTARDATOSDINAMICOS(\"BAS163\",TABLAS!$A$1011)","=+IMPORTARDATOSDINAMICOS(\"BAS164\",TABLAS!$A$1011)","=+IMPORTARDATOSDINAMICOS(\"BAS165\",TABLAS!$A$1011)"]
["PSA TOTAL (PRUEBA RAPIDA) [84153]",null,null,{"$f":"+GETPIVOTDATA(\"BAS166\",TABLAS!$A$260)","v":0},{"$f":"+GETPIVOTDATA(\"BAS167\",TABLAS!$A$260)","v":0},{"$f":"+GETPIVOTDATA(\"BAS168\",TABLAS!$A$260)","v":0},{"$f":"+GETPIVOTDATA(\"BAS169\",TABLAS!$A$260)","v":0},{"$f":"+GETPIVOTDATA(\"BAS170\",TABLAS!$A$260)","v":0},0,{"$f":"+GETPIVOTDATA(\"BAS166\",TABLAS!$A$381)","v":0},{"$f":"+GETPIVOTDATA(\"BAS167\",TABLAS!$A$381)","v":0},{"$f":"+GETPIVOTDATA(\"BAS168\",TABLAS!$A$381)","v":0},{"$f":"+GETPIVOTDATA(\"BAS169\",TABLAS!$A$381)","v":0},{"$f":"+GETPIVOTDATA(\"BAS170\",TABLAS!$A$381)","v":0},0,{"$f":"+GETPIVOTDATA(\"BAS166\",TABLAS!$A$531)","v":0},{"$f":"+GETPIVOTDATA(\"BAS167\",TABLAS!$A$531)","v":0},{"$f":"+GETPIVOTDATA(\"BAS168\",TABLAS!$A$531)","v":0},{"$f":"+GETPIVOTDATA(\"BAS169\",TABLAS!$A$531)","v":0},{"$f":"+GETPIVOTDATA(\"BAS170\",TABLAS!$A$531)","v":0},0,0,null,{"$f":"+GETPIVOTDATA(\"BAS166\",TABLAS!$A$681)","v":0},{"$f":"+GETPIVOTDATA(\"BAS167\",TABLAS!$A$681)","v":0},{"$f":"+GETPIVOTDATA(\"BAS168\",TABLAS!$A$681)","v":0},{"$f":"+GETPIVOTDATA(\"BAS169\",TABLAS!$A$681)","v":0},{"$f":"+GETPIVOTDATA(\"BAS170\",TABLAS!$A$681)","v":0},0,{"$f":"+GETPIVOTDATA(\"BAS166\",TABLAS!$A$801)","v":0},{"$f":"+GETPIVOTDATA(\"BAS167\",TABLAS!$A$801)","v":0},{"$f":"+GETPIVOTDATA(\"BAS168\",TABLAS!$A$801)","v":0},{"$f":"+GETPIVOTDATA(\"BAS169\",TABLAS!$A$801)","v":0},{"$f":"+GETPIVOTDATA(\"BAS170\",TABLAS!$A$801)","v":0},0,{"$f":"+GETPIVOTDATA(\"BAS166\",TABLAS!$A$951)","v":{"$error":"#REF!"}},{"$f":"+GETPIVOTDATA(\"BAS167\",TABLAS!$A$951)","v":{"$error":"#REF!"}},{"$f":"+GETPIVOTDATA(\"BAS168\",TABLAS!$A$951)","v":{"$error":"#REF!"}},{"$f":"+GETPIVOTDATA(\"BAS169\",TABLAS!$A$951)","v":{"$error":"#REF!"}},{"$f":"+GETPIVOTDATA(\"BAS170\",TABLAS!$A$951)","v":{"$error":"#REF!"}},{"$error":"#REF!"},{"$error":"#REF!"},null,null,166,{"$f":"+AS158+1","v":167},168,169,170,null,"=+IMPORTARDATOSDINAMICOS(\"BAS166\",TABLAS!$A$1011)","=+IMPORTARDATOSDINAMICOS(\"BAS167\",TABLAS!$A$1011)","=+IMPORTARDATOSDINAMICOS(\"BAS168\",TABLAS!$A$1011)","=+IMPORTARDATOSDINAMICOS(\"BAS169\",TABLAS!$A$1011)","=+IMPORTARDATOSDINAMICOS(\"BAS170\",TABLAS!$A$1011)"]
["PSA LIBRE (ELISA) [R0012]",null,null,{"$f":"+GETPIVOTDATA(\"BAS171\",TABLAS!$A$260)","v":0},{"$f":"+GETPIVOTDATA(\"BAS172\",TABLAS!$A$260)","v":0},{"$f":"+GETPIVOTDATA(\"BAS173\",TABLAS!$A$260)","v":0},{"$f":"+GETPIVOTDATA(\"BAS174\",TABLAS!$A$260)","v":0},{"$f":"+GETPIVOTDATA(\"BAS175\",TABLAS!$A$260)","v":0},0,{"$f":"+GETPIVOTDATA(\"BAS171\",TABLAS!$A$381)","v":0},{"$f":"+GETPIVOTDATA(\"BAS172\",TABLAS!$A$381)","v":0},{"$f":"+GETPIVOTDATA(\"BAS173\",TABLAS!$A$381)","v":0},{"$f":"+GETPIVOTDATA(\"BAS174\",TABLAS!$A$381)","v":0},{"$f":"+GETPIVOTDATA(\"BAS175\",TABLAS!$A$381)","v":0},0,{"$f":"+GETPIVOTDATA(\"BAS171\",TABLAS!$A$531)","v":0},{"$f":"+GETPIVOTDATA(\"BAS172\",TABLAS!$A$531)","v":0},{"$f":"+GETPIVOTDATA(\"BAS173\",TABLAS!$A$531)","v":0},{"$f":"+GETPIVOTDATA(\"BAS174\",TABLAS!$A$531)","v":0},{"$f":"+GETPIVOTDATA(\"BAS175\",TABLAS!$A$531)","v":0},0,0,null,{"$f":"+GETPIVOTDATA(\"BAS171\",TABLAS!$A$681)","v":0},{"$f":"+GETPIVOTDATA(\"BAS172\",TABLAS!$A$681)","v":0},{"$f":"+GETPIVOTDATA(\"BAS173\",TABLAS!$A$681)","v":0},{"$f":"+GETPIVOTDATA(\"BAS174\",TABLAS!$A$681)","v":0},{"$f":"+GETPIVOTDATA(\"BAS175\",TABLAS!$A$681)","v":0},0,{"$f":"+GETPIVOTDATA(\"BAS171\",TABLAS!$A$801)","v":0},{"$f":"+GETPIVOTDATA(\"BAS172\",TABLAS!$A$801)","v":0},{"$f":"+GETPIVOTDATA(\"BAS173\",TABLAS!$A$801)","v":0},{"$f":"+GETPIVOTDATA(\"BAS174\",TABLAS!$A$801)","v":0},{"$f":"+GETPIVOTDATA(\"BAS175\",TABLAS!$A$801)","v":0},0,{"$f":"+GETPIVOTDATA(\"BAS171\",TABLAS!$A$951)","v":{"$error":"#REF!"}},{"$f":"+GETPIVOTDATA(\"BAS172\",TABLAS!$A$951)","v":{"$error":"#REF!"}},{"$f":"+GETPIVOTDATA(\"BAS173\",TABLAS!$A$951)","v":{"$error":"#REF!"}},{"$f":"+GETPIVOTDATA(\"BAS174\",TABLAS!$A$951)","v":{"$error":"#REF!"}},{"$f":"+GETPIVOTDATA(\"BAS175\",TABLAS!$A$951)","v":{"$error":"#REF!"}},{"$error":"#REF!"},{"$error":"#REF!"},null,null,171,{"$f":"+AS159+1","v":172},173,174,175,null,"=+IMPORTARDATOSDINAMICOS(\"BAS171\",TABLAS!$A$1011)","=+IMPORTARDATOSDINAMICOS(\"BAS172\",TABLAS!$A$1011)","=+IMPORTARDATOSDINAMICOS(\"BAS173\",TABLAS!$A$1011)","=+IMPORTARDATOSDINAMICOS(\"BAS174\",TABLAS!$A$1011)","=+IMPORTARDATOSDINAMICOS(\"BAS175\",TABLAS!$A$1011)"]
["PSA TOTAL (ELISA) [R0013]",null,null,{"$f":"+GETPIVOTDATA(\"BAS176\",TABLAS!$A$260)","v":0},{"$f":"+GETPIVOTDATA(\"BAS177\",TABLAS!$A$260)","v":0},{"$f":"+GETPIVOTDATA(\"BAS178\",TABLAS!$A$260)","v":0},{"$f":"+GETPIVOTDATA(\"BAS179\",TABLAS!$A$260)","v":0},{"$f":"+GETPIVOTDATA(\"BAS180\",TABLAS!$A$260)","v":0},0,{"$f":"+GETPIVOTDATA(\"BAS176\",TABLAS!$A$381)","v":0},{"$f":"+GETPIVOTDATA(\"BAS177\",TABLAS!$A$381)","v":0},{"$f":"+GETPIVOTDATA(\"BAS178\",TABLAS!$A$381)","v":0},{"$f":"+GETPIVOTDATA(\"BAS179\",TABLAS!$A$381)","v":0},{"$f":"+GETPIVOTDATA(\"BAS180\",TABLAS!$A$381)","v":0},0,{"$f":"+GETPIVOTDATA(\"BAS176\",TABLAS!$A$531)","v":0},{"$f":"+GETPIVOTDATA(\"BAS177\",TABLAS!$A$531)","v":0},{"$f":"+GETPIVOTDATA(\"BAS178\",TABLAS!$A$531)","v":0},{"$f":"+GETPIVOTDATA(\"BAS179\",TABLAS!$A$531)","v":0},{"$f":"+GETPIVOTDATA(\"BAS180\",TABLAS!$A$531)","v":0},0,0,null,{"$f":"+GETPIVOTDATA(\"BAS176\",TABLAS!$A$681)","v":0},{"$f":"+GETPIVOTDATA(\"BAS177\",TABLAS!$A$681)","v":0},{"$f":"+GETPIVOTDATA(\"BAS178\",TABLAS!$A$681)","v":0},{"$f":"+GETPIVOTDATA(\"BAS179\",TABLAS!$A$681)","v":0},{"$f":"+GETPIVOTDATA(\"BAS180\",TABLAS!$A$681)","v":0},0,{"$f":"+GETPIVOTDATA(\"BAS176\",TABLAS!$A$801)","v":0},{"$f":"+GETPIVOTDATA(\"BAS177\",TABLAS!$A$801)","v":0},{"$f":"+GETPIVOTDATA(\"BAS178\",TABLAS!$A$801)","v":0},{"$f":"+GETPIVOTDATA(\"BAS179\",TABLAS!$A$801)","v":0},{"$f":"+GETPIVOTDATA(\"BAS180\",TABLAS!$A$801)","v":0},0,{"$f":"+GETPIVOTDATA(\"BAS176\",TABLAS!$A$951)","v":{"$error":"#REF!"}},{"$f":"+GETPIVOTDATA(\"BAS177\",TABLAS!$A$951)","v":{"$error":"#REF!"}},{"$f":"+GETPIVOTDATA(\"BAS178\",TABLAS!$A$951)","v":{"$error":"#REF!"}},{"$f":"+GETPIVOTDATA(\"BAS179\",TABLAS!$A$951)","v":{"$error":"#REF!"}},{"$f":"+GETPIVOTDATA(\"BAS180\",TABLAS!$A$951)","v":{"$error":"#REF!"}},{"$error":"#REF!"},{"$error":"#REF!"},null,null,176,{"$f":"+AS160+1","v":177},178,179,180,null,"=+IMPORTARDATOSDINAMICOS(\"BAS176\",TABLAS!$A$1011)","=+IMPORTARDATOSDINAMICOS(\"BAS177\",TABLAS!$A$1011)","=+IMPORTARDATOSDINAMICOS(\"BAS178\",TABLAS!$A$1011)","=+IMPORTARDATOSDINAMICOS(\"BAS179\",TABLAS!$A$1011)","=+IMPORTARDATOSDINAMICOS(\"BAS180\",TABLAS!$A$1011)"]
["RPR [86592]",null,null,{"$f":"+GETPIVOTDATA(\"BAS181\",TABLAS!$A$260)","v":0},{"$f":"+GETPIVOTDATA(\"BAS182\",TABLAS!$A$260)","v":0},{"$f":"+GETPIVOTDATA(\"BAS183\",TABLAS!$A$260)","v":0},{"$f":"+GETPIVOTDATA(\"BAS184\",TABLAS!$A$260)","v":0},{"$f":"+GETPIVOTDATA(\"BAS185\",TABLAS!$A$260)","v":0},0,{"$f":"+GETPIVOTDATA(\"BAS181\",TABLAS!$A$381)","v":0},{"$f":"+GETPIVOTDATA(\"BAS182\",TABLAS!$A$381)","v":0},{"$f":"+GETPIVOTDATA(\"BAS183\",TABLAS!$A$381)","v":0},{"$f":"+GETPIVOTDATA(\"BAS184\",TABLAS!$A$381)","v":0},{"$f":"+GETPIVOTDATA(\"BAS185\",TABLAS!$A$381)","v":0},0,{"$f":"+GETPIVOTDATA(\"BAS181\",TABLAS!$A$531)","v":0},{"$f":"+GETPIVOTDATA(\"BAS182\",TABLAS!$A$531)","v":0},{"$f":"+GETPIVOTDATA(\"BAS183\",TABLAS!$A$531)","v":0},{"$f":"+GETPIVOTDATA(\"BAS184\",TABLAS!$A$531)","v":0},{"$f":"+GETPIVOTDATA(\"BAS185\",TABLAS!$A$531)","v":0},0,0,null,{"$f":"+GETPIVOTDATA(\"BAS181\",TABLAS!$A$681)","v":0},{"$f":"+GETPIVOTDATA(\"BAS182\",TABLAS!$A$681)","v":0},{"$f":"+GETPIVOTDATA(\"BAS183\",TABLAS!$A$681)","v":0},{"$f":"+GETPIVOTDATA(\"BAS184\",TABLAS!$A$681)","v":0},{"$f":"+GETPIVOTDATA(\"BAS185\",TABLAS!$A$681)","v":0},0,{"$f":"+GETPIVOTDATA(\"BAS181\",TABLAS!$A$801)","v":0},{"$f":"+GETPIVOTDATA(\"BAS182\",TABLAS!$A$801)","v":0},{"$f":"+GETPIVOTDATA(\"BAS183\",TABLAS!$A$801)","v":0},{"$f":"+GETPIVOTDATA(\"BAS184\",TABLAS!$A$801)","v":0},{"$f":"+GETPIVOTDATA(\"BAS185\",TABLAS!$A$801)","v":0},0,{"$f":"+GETPIVOTDATA(\"BAS181\",TABLAS!$A$951)","v":{"$error":"#REF!"}},{"$f":"+GETPIVOTDATA(\"BAS182\",TABLAS!$A$951)","v":{"$error":"#REF!"}},{"$f":"+GETPIVOTDATA(\"BAS183\",TABLAS!$A$951)","v":{"$error":"#REF!"}},{"$f":"+GETPIVOTDATA(\"BAS184\",TABLAS!$A$951)","v":{"$error":"#REF!"}},{"$f":"+GETPIVOTDATA(\"BAS185\",TABLAS!$A$951)","v":{"$error":"#REF!"}},{"$error":"#REF!"},{"$error":"#REF!"},null,null,181,{"$f":"+AS161+1","v":182},183,184,185,null,"=+IMPORTARDATOSDINAMICOS(\"BAS181\",TABLAS!$A$1011)","=+IMPORTARDATOSDINAMICOS(\"BAS182\",TABLAS!$A$1011)","=+IMPORTARDATOSDINAMICOS(\"BAS183\",TABLAS!$A$1011)","=+IMPORTARDATOSDINAMICOS(\"BAS184\",TABLAS!$A$1011)","=+IMPORTARDATOSDINAMICOS(\"BAS185\",TABLAS!$A$1011)"]
["VDRL  [R0014]",null,null,{"$f":"+GETPIVOTDATA(\"BAS186\",TABLAS!$A$260)","v":0},{"$f":"+GETPIVOTDATA(\"BAS187\",TABLAS!$A$260)","v":0},{"$f":"+GETPIVOTDATA(\"BAS188\",TABLAS!$A$260)","v":0},{"$f":"+GETPIVOTDATA(\"BAS189\",TABLAS!$A$260)","v":0},{"$f":"+GETPIVOTDATA(\"BAS190\",TABLAS!$A$260)","v":0},0,{"$f":"+GETPIVOTDATA(\"BAS186\",TABLAS!$A$381)","v":0},{"$f":"+GETPIVOTDATA(\"BAS187\",TABLAS!$A$381)","v":0},{"$f":"+GETPIVOTDATA(\"BAS188\",TABLAS!$A$381)","v":0},{"$f":"+GETPIVOTDATA(\"BAS189\",TABLAS!$A$381)","v":0},{"$f":"+GETPIVOTDATA(\"BAS190\",TABLAS!$A$381)","v":0},0,{"$f":"+GETPIVOTDATA(\"BAS186\",TABLAS!$A$531)","v":0},{"$f":"+GETPIVOTDATA(\"BAS187\",TABLAS!$A$531)","v":0},{"$f":"+GETPIVOTDATA(\"BAS188\",TABLAS!$A$531)","v":0},{"$f":"+GETPIVOTDATA(\"BAS189\",TABLAS!$A$531)","v":0},{"$f":"+GETPIVOTDATA(\"BAS190\",TABLAS!$A$531)","v":0},0,0,null,{"$f":"+GETPIVOTDATA(\"BAS186\",TABLAS!$A$681)","v":0},{"$f":"+GETPIVOTDATA(\"BAS187\",TABLAS!$A$681)","v":0},{"$f":"+GETPIVOTDATA(\"BAS188\",TABLAS!$A$681)","v":0},{"$f":"+GETPIVOTDATA(\"BAS189\",TABLAS!$A$681)","v":0},{"$f":"+GETPIVOTDATA(\"BAS190\",TABLAS!$A$681)","v":0},0,{"$f":"+GETPIVOTDATA(\"BAS186\",TABLAS!$A$801)","v":0},{"$f":"+GETPIVOTDATA(\"BAS187\",TABLAS!$A$801)","v":0},{"$f":"+GETPIVOTDATA(\"BAS188\",TABLAS!$A$801)","v":0},{"$f":"+GETPIVOTDATA(\"BAS189\",TABLAS!$A$801)","v":0},{"$f":"+GETPIVOTDATA(\"BAS190\",TABLAS!$A$801)","v":0},0,{"$f":"+GETPIVOTDATA(\"BAS186\",TABLAS!$A$951)","v":{"$error":"#REF!"}},{"$f":"+GETPIVOTDATA(\"BAS187\",TABLAS!$A$951)","v":{"$error":"#REF!"}},{"$f":"+GETPIVOTDATA(\"BAS188\",TABLAS!$A$951)","v":{"$error":"#REF!"}},{"$f":"+GETPIVOTDATA(\"BAS189\",TABLAS!$A$951)","v":{"$error":"#REF!"}},{"$f":"+GETPIVOTDATA(\"BAS190\",TABLAS!$A$951)","v":{"$error":"#REF!"}},{"$error":"#REF!"},{"$error":"#REF!"},null,null,186,{"$f":"+AS162+1","v":187},188,189,190,null,"=+IMPORTARDATOSDINAMICOS(\"BAS186\",TABLAS!$A$1011)","=+IMPORTARDATOSDINAMICOS(\"BAS187\",TABLAS!$A$1011)","=+IMPORTARDATOSDINAMICOS(\"BAS188\",TABLAS!$A$1011)","=+IMPORTARDATOSDINAMICOS(\"BAS189\",TABLAS!$A$1011)","=+IMPORTARDATOSDINAMICOS(\"BAS190\",TABLAS!$A$1011)"]
["T3 LIBRE [84481]",null,null,{"$f":"+GETPIVOTDATA(\"BAS191\",TABLAS!$A$260)","v":0},{"$f":"+GETPIVOTDATA(\"BAS192\",TABLAS!$A$260)","v":0},{"$f":"+GETPIVOTDATA(\"BAS193\",TABLAS!$A$260)","v":0},{"$f":"+GETPIVOTDATA(\"BAS194\",TABLAS!$A$260)","v":0},{"$f":"+GETPIVOTDATA(\"BAS195\",TABLAS!$A$260)","v":0},0,{"$f":"+GETPIVOTDATA(\"BAS191\",TABLAS!$A$381)","v":0},{"$f":"+GETPIVOTDATA(\"BAS192\",TABLAS!$A$381)","v":0},{"$f":"+GETPIVOTDATA(\"BAS193\",TABLAS!$A$381)","v":0},{"$f":"+GETPIVOTDATA(\"BAS194\",TABLAS!$A$381)","v":0},{"$f":"+GETPIVOTDATA(\"BAS195\",TABLAS!$A$381)","v":0},0,{"$f":"+GETPIVOTDATA(\"BAS191\",TABLAS!$A$531)","v":0},{"$f":"+GETPIVOTDATA(\"BAS192\",TABLAS!$A$531)","v":0},{"$f":"+GETPIVOTDATA(\"BAS193\",TABLAS!$A$531)","v":0},{"$f":"+GETPIVOTDATA(\"BAS194\",TABLAS!$A$531)","v":0},{"$f":"+GETPIVOTDATA(\"BAS195\",TABLAS!$A$531)","v":0},0,0,null,{"$f":"+GETPIVOTDATA(\"BAS191\",TABLAS!$A$681)","v":0},{"$f":"+GETPIVOTDATA(\"BAS192\",TABLAS!$A$681)","v":0},{"$f":"+GETPIVOTDATA(\"BAS193\",TABLAS!$A$681)","v":0},{"$f":"+GETPIVOTDATA(\"BAS194\",TABLAS!$A$681)","v":0},{"$f":"+GETPIVOTDATA(\"BAS195\",TABLAS!$A$681)","v":0},0,{"$f":"+GETPIVOTDATA(\"BAS191\",TABLAS!$A$801)","v":0},{"$f":"+GETPIVOTDATA(\"BAS192\",TABLAS!$A$801)","v":0},{"$f":"+GETPIVOTDATA(\"BAS193\",TABLAS!$A$801)","v":0},{"$f":"+GETPIVOTDATA(\"BAS194\",TABLAS!$A$801)","v":0},{"$f":"+GETPIVOTDATA(\"BAS195\",TABLAS!$A$801)","v":0},0,{"$f":"+GETPIVOTDATA(\"BAS191\",TABLAS!$A$951)","v":{"$error":"#REF!"}},{"$f":"+GETPIVOTDATA(\"BAS192\",TABLAS!$A$951)","v":{"$error":"#REF!"}},{"$f":"+GETPIVOTDATA(\"BAS193\",TABLAS!$A$951)","v":{"$error":"#REF!"}},{"$f":"+GETPIVOTDATA(\"BAS194\",TABLAS!$A$951)","v":{"$error":"#REF!"}},{"$f":"+GETPIVOTDATA(\"BAS195\",TABLAS!$A$951)","v":{"$error":"#REF!"}},{"$error":"#REF!"},{"$error":"#REF!"},null,null,191,{"$f":"+AS163+1","v":192},193,194,195,null,"=+IMPORTARDATOSDINAMICOS(\"BAS191\",TABLAS!$A$1011)","=+IMPORTARDATOSDINAMICOS(\"BAS192\",TABLAS!$A$1011)","=+IMPORTARDATOSDINAMICOS(\"BAS193\",TABLAS!$A$1011)","=+IMPORTARDATOSDINAMICOS(\"BAS194\",TABLAS!$A$1011)","=+IMPORTARDATOSDINAMICOS(\"BAS195\",TABLAS!$A$1011)"]
["T3 TOTAL [84480]",null,null,{"$f":"+GETPIVOTDATA(\"BAS196\",TABLAS!$A$260)","v":0},{"$f":"+GETPIVOTDATA(\"BAS197\",TABLAS!$A$260)","v":0},{"$f":"+GETPIVOTDATA(\"BAS198\",TABLAS!$A$260)","v":0},{"$f":"+GETPIVOTDATA(\"BAS199\",TABLAS!$A$260)","v":0},{"$f":"+GETPIVOTDATA(\"BAS200\",TABLAS!$A$260)","v":0},0,{"$f":"+GETPIVOTDATA(\"BAS196\",TABLAS!$A$381)","v":0},{"$f":"+GETPIVOTDATA(\"BAS197\",TABLAS!$A$381)","v":0},{"$f":"+GETPIVOTDATA(\"BAS198\",TABLAS!$A$381)","v":0},{"$f":"+GETPIVOTDATA(\"BAS199\",TABLAS!$A$381)","v":0},{"$f":"+GETPIVOTDATA(\"BAS200\",TABLAS!$A$381)","v":0},0,{"$f":"+GETPIVOTDATA(\"BAS196\",TABLAS!$A$531)","v":0},{"$f":"+GETPIVOTDATA(\"BAS197\",TABLAS!$A$531)","v":0},{"$f":"+GETPIVOTDATA(\"BAS198\",TABLAS!$A$531)","v":0},{"$f":"+GETPIVOTDATA(\"BAS199\",TABLAS!$A$531)","v":0},{"$f":"+GETPIVOTDATA(\"BAS200\",TABLAS!$A$531)","v":0},0,0,null,{"$f":"+GETPIVOTDATA(\"BAS196\",TABLAS!$A$681)","v":0},{"$f":"+GETPIVOTDATA(\"BAS197\",TABLAS!$A$681)","v":0},{"$f":"+GETPIVOTDATA(\"BAS198\",TABLAS!$A$681)","v":0},{"$f":"+GETPIVOTDATA(\"BAS199\",TABLAS!$A$681)","v":0},{"$f":"+GETPIVOTDATA(\"BAS200\",TABLAS!$A$681)","v":0},0,{"$f":"+GETPIVOTDATA(\"BAS196\",TABLAS!$A$801)","v":0},{"$f":"+GETPIVOTDATA(\"BAS197\",TABLAS!$A$801)","v":0},{"$f":"+GETPIVOTDATA(\"BAS198\",TABLAS!$A$801)","v":0},{"$f":"+GETPIVOTDATA(\"BAS199\",TABLAS!$A$801)","v":0},{"$f":"+GETPIVOTDATA(\"BAS200\",TABLAS!$A$801)","v":0},0,{"$f":"+GETPIVOTDATA(\"BAS196\",TABLAS!$A$951)","v":{"$error":"#REF!"}},{"$f":"+GETPIVOTDATA(\"BAS197\",TABLAS!$A$951)","v":{"$error":"#REF!"}},{"$f":"+GETPIVOTDATA(\"BAS198\",TABLAS!$A$951)","v":{"$error":"#REF!"}},{"$f":"+GETPIVOTDATA(\"BAS199\",TABLAS!$A$951)","v":{"$error":"#REF!"}},{"$f":"+GETPIVOTDATA(\"BAS200\",TABLAS!$A$951)","v":{"$error":"#REF!"}},{"$error":"#REF!"},{"$error":"#REF!"},null,null,196,{"$f":"+AS164+1","v":197},198,199,200,null,"=+IMPORTARDATOSDINAMICOS(\"BAS196\",TABLAS!$A$1011)","=+IMPORTARDATOSDINAMICOS(\"BAS197\",TABLAS!$A$1011)","=+IMPORTARDATOSDINAMICOS(\"BAS198\",TABLAS!$A$1011)","=+IMPORTARDATOSDINAMICOS(\"BAS199\",TABLAS!$A$1011)","=+IMPORTARDATOSDINAMICOS(\"BAS200\",TABLAS!$A$1011)"]
["T4 LIBRE  [84439]",null,null,{"$f":"+GETPIVOTDATA(\"BAS201\",TABLAS!$A$260)","v":0},{"$f":"+GETPIVOTDATA(\"BAS202\",TABLAS!$A$260)","v":0},{"$f":"+GETPIVOTDATA(\"BAS203\",TABLAS!$A$260)","v":0},{"$f":"+GETPIVOTDATA(\"BAS204\",TABLAS!$A$260)","v":0},{"$f":"+GETPIVOTDATA(\"BAS205\",TABLAS!$A$260)","v":0},0,{"$f":"+GETPIVOTDATA(\"BAS201\",TABLAS!$A$381)","v":0},{"$f":"+GETPIVOTDATA(\"BAS202\",TABLAS!$A$381)","v":0},{"$f":"+GETPIVOTDATA(\"BAS203\",TABLAS!$A$381)","v":0},{"$f":"+GETPIVOTDATA(\"BAS204\",TABLAS!$A$381)","v":0},{"$f":"+GETPIVOTDATA(\"BAS205\",TABLAS!$A$381)","v":0},0,{"$f":"+GETPIVOTDATA(\"BAS201\",TABLAS!$A$531)","v":0},{"$f":"+GETPIVOTDATA(\"BAS202\",TABLAS!$A$531)","v":0},{"$f":"+GETPIVOTDATA(\"BAS203\",TABLAS!$A$531)","v":0},{"$f":"+GETPIVOTDATA(\"BAS204\",TABLAS!$A$531)","v":0},{"$f":"+GETPIVOTDATA(\"BAS205\",TABLAS!$A$531)","v":0},0,0,null,{"$f":"+GETPIVOTDATA(\"BAS201\",TABLAS!$A$681)","v":0},{"$f":"+GETPIVOTDATA(\"BAS202\",TABLAS!$A$681)","v":0},{"$f":"+GETPIVOTDATA(\"BAS203\",TABLAS!$A$681)","v":0},{"$f":"+GETPIVOTDATA(\"BAS204\",TABLAS!$A$681)","v":0},{"$f":"+GETPIVOTDATA(\"BAS205\",TABLAS!$A$681)","v":0},0,{"$f":"+GETPIVOTDATA(\"BAS201\",TABLAS!$A$801)","v":0},{"$f":"+GETPIVOTDATA(\"BAS202\",TABLAS!$A$801)","v":0},{"$f":"+GETPIVOTDATA(\"BAS203\",TABLAS!$A$801)","v":0},{"$f":"+GETPIVOTDATA(\"BAS204\",TABLAS!$A$801)","v":0},{"$f":"+GETPIVOTDATA(\"BAS205\",TABLAS!$A$801)","v":0},0,{"$f":"+GETPIVOTDATA(\"BAS201\",TABLAS!$A$951)","v":{"$error":"#REF!"}},{"$f":"+GETPIVOTDATA(\"BAS202\",TABLAS!$A$951)","v":{"$error":"#REF!"}},{"$f":"+GETPIVOTDATA(\"BAS203\",TABLAS!$A$951)","v":{"$error":"#REF!"}},{"$f":"+GETPIVOTDATA(\"BAS204\",TABLAS!$A$951)","v":{"$error":"#REF!"}},{"$f":"+GETPIVOTDATA(\"BAS205\",TABLAS!$A$951)","v":{"$error":"#REF!"}},{"$error":"#REF!"},{"$error":"#REF!"},null,null,201,{"$f":"+AS165+1","v":202},203,204,205,null,"=+IMPORTARDATOSDINAMICOS(\"BAS201\",TABLAS!$A$1011)","=+IMPORTARDATOSDINAMICOS(\"BAS202\",TABLAS!$A$1011)","=+IMPORTARDATOSDINAMICOS(\"BAS203\",TABLAS!$A$1011)","=+IMPORTARDATOSDINAMICOS(\"BAS204\",TABLAS!$A$1011)","=+IMPORTARDATOSDINAMICOS(\"BAS205\",TABLAS!$A$1011)"]
["T4 TOTAL  [84436]",null,null,{"$f":"+GETPIVOTDATA(\"BAS206\",TABLAS!$A$260)","v":0},{"$f":"+GETPIVOTDATA(\"BAS207\",TABLAS!$A$260)","v":0},{"$f":"+GETPIVOTDATA(\"BAS208\",TABLAS!$A$260)","v":0},{"$f":"+GETPIVOTDATA(\"BAS209\",TABLAS!$A$260)","v":0},{"$f":"+GETPIVOTDATA(\"BAS210\",TABLAS!$A$260)","v":0},0,{"$f":"+GETPIVOTDATA(\"BAS206\",TABLAS!$A$381)","v":0},{"$f":"+GETPIVOTDATA(\"BAS207\",TABLAS!$A$381)","v":0},{"$f":"+GETPIVOTDATA(\"BAS208\",TABLAS!$A$381)","v":0},{"$f":"+GETPIVOTDATA(\"BAS209\",TABLAS!$A$381)","v":0},{"$f":"+GETPIVOTDATA(\"BAS210\",TABLAS!$A$381)","v":0},0,{"$f":"+GETPIVOTDATA(\"BAS206\",TABLAS!$A$531)","v":0},{"$f":"+GETPIVOTDATA(\"BAS207\",TABLAS!$A$531)","v":0},{"$f":"+GETPIVOTDATA(\"BAS208\",TABLAS!$A$531)","v":0},{"$f":"+GETPIVOTDATA(\"BAS209\",TABLAS!$A$531)","v":0},{"$f":"+GETPIVOTDATA(\"BAS210\",TABLAS!$A$531)","v":0},0,0,null,{"$f":"+GETPIVOTDATA(\"BAS206\",TABLAS!$A$681)","v":0},{"$f":"+GETPIVOTDATA(\"BAS207\",TABLAS!$A$681)","v":0},{"$f":"+GETPIVOTDATA(\"BAS208\",TABLAS!$A$681)","v":0},{"$f":"+GETPIVOTDATA(\"BAS209\",TABLAS!$A$681)","v":0},{"$f":"+GETPIVOTDATA(\"BAS210\",TABLAS!$A$681)","v":0},0,{"$f":"+GETPIVOTDATA(\"BAS206\",TABLAS!$A$801)","v":0},{"$f":"+GETPIVOTDATA(\"BAS207\",TABLAS!$A$801)","v":0},{"$f":"+GETPIVOTDATA(\"BAS208\",TABLAS!$A$801)","v":0},{"$f":"+GETPIVOTDATA(\"BAS209\",TABLAS!$A$801)","v":0},{"$f":"+GETPIVOTDATA(\"BAS210\",TABLAS!$A$801)","v":0},0,{"$f":"+GETPIVOTDATA(\"BAS206\",TABLAS!$A$951)","v":{"$error":"#REF!"}},{"$f":"+GETPIVOTDATA(\"BAS207\",TABLAS!$A$951)","v":{"$error":"#REF!"}},{"$f":"+GETPIVOTDATA(\"BAS208\",TABLAS!$A$951)","v":{"$error":"#REF!"}},{"$f":"+GETPIVOTDATA(\"BAS209\",TABLAS!$A$951)","v":{"$error":"#REF!"}},{"$f":"+GETPIVOTDATA(\"BAS210\",TABLAS!$A$951)","v":{"$error":"#REF!"}},{"$error":"#REF!"},{"$error":"#REF!"},null,null,206,{"$f":"+AS166+1","v":207},208,209,210,null,"=+IMPORTARDATOSDINAMICOS(\"BAS206\",TABLAS!$A$1011)","=+IMPORTARDATOSDINAMICOS(\"BAS207\",TABLAS!$A$1011)","=+IMPORTARDATOSDINAMICOS(\"BAS208\",TABLAS!$A$1011)","=+IMPORTARDATOSDINAMICOS(\"BAS209\",TABLAS!$A$1011)","=+IMPORTARDATOSDINAMICOS(\"BAS210\",TABLAS!$A$1011)"]
["TESTOSTERONA TOTAL  [84403]",null,null,{"$f":"+GETPIVOTDATA(\"BAS211\",TABLAS!$A$260)","v":0},{"$f":"+GETPIVOTDATA(\"BAS212\",TABLAS!$A$260)","v":0},{"$f":"+GETPIVOTDATA(\"BAS213\",TABLAS!$A$260)","v":0},{"$f":"+GETPIVOTDATA(\"BAS214\",TABLAS!$A$260)","v":0},{"$f":"+GETPIVOTDATA(\"BAS215\",TABLAS!$A$260)","v":0},0,{"$f":"+GETPIVOTDATA(\"BAS211\",TABLAS!$A$381)","v":0},{"$f":"+GETPIVOTDATA(\"BAS212\",TABLAS!$A$381)","v":0},{"$f":"+GETPIVOTDATA(\"BAS213\",TABLAS!$A$381)","v":0},{"$f":"+GETPIVOTDATA(\"BAS214\",TABLAS!$A$381)","v":0},{"$f":"+GETPIVOTDATA(\"BAS215\",TABLAS!$A$381)","v":0},0,{"$f":"+GETPIVOTDATA(\"BAS211\",TABLAS!$A$531)","v":0},{"$f":"+GETPIVOTDATA(\"BAS212\",TABLAS!$A$531)","v":0},{"$f":"+GETPIVOTDATA(\"BAS213\",TABLAS!$A$531)","v":0},{"$f":"+GETPIVOTDATA(\"BAS214\",TABLAS!$A$531)","v":0},{"$f":"+GETPIVOTDATA(\"BAS215\",TABLAS!$A$531)","v":0},0,0,null,{"$f":"+GETPIVOTDATA(\"BAS211\",TABLAS!$A$681)","v":0},{"$f":"+GETPIVOTDATA(\"BAS212\",TABLAS!$A$681)","v":0},{"$f":"+GETPIVOTDATA(\"BAS213\",TABLAS!$A$681)","v":0},{"$f":"+GETPIVOTDATA(\"BAS214\",TABLAS!$A$681)","v":0},{"$f":"+GETPIVOTDATA(\"BAS215\",TABLAS!$A$681)","v":0},0,{"$f":"+GETPIVOTDATA(\"BAS211\",TABLAS!$A$801)","v":0},{"$f":"+GETPIVOTDATA(\"BAS212\",TABLAS!$A$801)","v":0},{"$f":"+GETPIVOTDATA(\"BAS213\",TABLAS!$A$801)","v":0},{"$f":"+GETPIVOTDATA(\"BAS214\",TABLAS!$A$801)","v":0},{"$f":"+GETPIVOTDATA(\"BAS215\",TABLAS!$A$801)","v":0},0,{"$f":"+GETPIVOTDATA(\"BAS211\",TABLAS!$A$951)","v":{"$error":"#REF!"}},{"$f":"+GETPIVOTDATA(\"BAS212\",TABLAS!$A$951)","v":{"$error":"#REF!"}},{"$f":"+GETPIVOTDATA(\"BAS213\",TABLAS!$A$951)","v":{"$error":"#REF!"}},{"$f":"+GETPIVOTDATA(\"BAS214\",TABLAS!$A$951)","v":{"$error":"#REF!"}},{"$f":"+GETPIVOTDATA(\"BAS215\",TABLAS!$A$951)","v":{"$error":"#REF!"}},{"$error":"#REF!"},{"$error":"#REF!"},null,null,211,{"$f":"+AS167+1","v":212},213,214,215,null,"=+IMPORTARDATOSDINAMICOS(\"BAS211\",TABLAS!$A$1011)","=+IMPORTARDATOSDINAMICOS(\"BAS212\",TABLAS!$A$1011)","=+IMPORTARDATOSDINAMICOS(\"BAS213\",TABLAS!$A$1011)","=+IMPORTARDATOSDINAMICOS(\"BAS214\",TABLAS!$A$1011)","=+IMPORTARDATOSDINAMICOS(\"BAS215\",TABLAS!$A$1011)"]
["TIROGLOBULINA (84432)",null,null,{"$f":"+GETPIVOTDATA(\"BAS216\",TABLAS!$A$260)","v":0},{"$f":"+GETPIVOTDATA(\"BAS217\",TABLAS!$A$260)","v":0},{"$f":"+GETPIVOTDATA(\"BAS218\",TABLAS!$A$260)","v":0},{"$f":"+GETPIVOTDATA(\"BAS219\",TABLAS!$A$260)","v":0},{"$f":"+GETPIVOTDATA(\"BAS220\",TABLAS!$A$260)","v":0},0,{"$f":"+GETPIVOTDATA(\"BAS216\",TABLAS!$A$381)","v":0},{"$f":"+GETPIVOTDATA(\"BAS217\",TABLAS!$A$381)","v":0},{"$f":"+GETPIVOTDATA(\"BAS218\",TABLAS!$A$381)","v":0},{"$f":"+GETPIVOTDATA(\"BAS219\",TABLAS!$A$381)","v":0},{"$f":"+GETPIVOTDATA(\"BAS220\",TABLAS!$A$381)","v":0},0,{"$f":"+GETPIVOTDATA(\"BAS216\",TABLAS!$A$531)","v":0},{"$f":"+GETPIVOTDATA(\"BAS217\",TABLAS!$A$531)","v":0},{"$f":"+GETPIVOTDATA(\"BAS218\",TABLAS!$A$531)","v":0},{"$f":"+GETPIVOTDATA(\"BAS219\",TABLAS!$A$531)","v":0},{"$f":"+GETPIVOTDATA(\"BAS220\",TABLAS!$A$531)","v":0},0,0,null,{"$f":"+GETPIVOTDATA(\"BAS216\",TABLAS!$A$681)","v":0},{"$f":"+GETPIVOTDATA(\"BAS217\",TABLAS!$A$681)","v":0},{"$f":"+GETPIVOTDATA(\"BAS218\",TABLAS!$A$681)","v":0},{"$f":"+GETPIVOTDATA(\"BAS219\",TABLAS!$A$681)","v":0},{"$f":"+GETPIVOTDATA(\"BAS220\",TABLAS!$A$681)","v":0},0,{"$f":"+GETPIVOTDATA(\"BAS216\",TABLAS!$A$801)","v":0},{"$f":"+GETPIVOTDATA(\"BAS217\",TABLAS!$A$801)","v":0},{"$f":"+GETPIVOTDATA(\"BAS218\",TABLAS!$A$801)","v":0},{"$f":"+GETPIVOTDATA(\"BAS219\",TABLAS!$A$801)","v":0},{"$f":"+GETPIVOTDATA(\"BAS220\",TABLAS!$A$801)","v":0},0,{"$f":"+GETPIVOTDATA(\"BAS216\",TABLAS!$A$951)","v":{"$error":"#REF!"}},{"$f":"+GETPIVOTDATA(\"BAS217\",TABLAS!$A$951)","v":{"$error":"#REF!"}},{"$f":"+GETPIVOTDATA(\"BAS218\",TABLAS!$A$951)","v":{"$error":"#REF!"}},{"$f":"+GETPIVOTDATA(\"BAS219\",TABLAS!$A$951)","v":{"$error":"#REF!"}},{"$f":"+GETPIVOTDATA(\"BAS220\",TABLAS!$A$951)","v":{"$error":"#REF!"}},{"$error":"#REF!"},{"$error":"#REF!"},null,null,216,{"$f":"+AS168+1","v":217},218,219,220,null,"=+IMPORTARDATOSDINAMICOS(\"BAS216\",TABLAS!$A$1011)","=+IMPORTARDATOSDINAMICOS(\"BAS217\",TABLAS!$A$1011)","=+IMPORTARDATOSDINAMICOS(\"BAS218\",TABLAS!$A$1011)","=+IMPORTARDATOSDINAMICOS(\"BAS219\",TABLAS!$A$1011)","=+IMPORTARDATOSDINAMICOS(\"BAS220\",TABLAS!$A$1011)"]
["TROPONINA  [84512]",null,null,{"$f":"+GETPIVOTDATA(\"BAS221\",TABLAS!$A$260)","v":0},{"$f":"+GETPIVOTDATA(\"BAS222\",TABLAS!$A$260)","v":0},{"$f":"+GETPIVOTDATA(\"BAS223\",TABLAS!$A$260)","v":0},{"$f":"+GETPIVOTDATA(\"BAS224\",TABLAS!$A$260)","v":0},{"$f":"+GETPIVOTDATA(\"BAS225\",TABLAS!$A$260)","v":0},0,{"$f":"+GETPIVOTDATA(\"BAS221\",TABLAS!$A$381)","v":0},{"$f":"+GETPIVOTDATA(\"BAS222\",TABLAS!$A$381)","v":0},{"$f":"+GETPIVOTDATA(\"BAS223\",TABLAS!$A$381)","v":0},{"$f":"+GETPIVOTDATA(\"BAS224\",TABLAS!$A$381)","v":0},{"$f":"+GETPIVOTDATA(\"BAS225\",TABLAS!$A$381)","v":0},0,{"$f":"+GETPIVOTDATA(\"BAS221\",TABLAS!$A$531)","v":0},{"$f":"+GETPIVOTDATA(\"BAS222\",TABLAS!$A$531)","v":0},{"$f":"+GETPIVOTDATA(\"BAS223\",TABLAS!$A$531)","v":0},{"$f":"+GETPIVOTDATA(\"BAS224\",TABLAS!$A$531)","v":0},{"$f":"+GETPIVOTDATA(\"BAS225\",TABLAS!$A$531)","v":0},0,0,null,{"$f":"+GETPIVOTDATA(\"BAS221\",TABLAS!$A$681)","v":0},{"$f":"+GETPIVOTDATA(\"BAS222\",TABLAS!$A$681)","v":0},{"$f":"+GETPIVOTDATA(\"BAS223\",TABLAS!$A$681)","v":0},{"$f":"+GETPIVOTDATA(\"BAS224\",TABLAS!$A$681)","v":0},{"$f":"+GETPIVOTDATA(\"BAS225\",TABLAS!$A$681)","v":0},0,{"$f":"+GETPIVOTDATA(\"BAS221\",TABLAS!$A$801)","v":0},{"$f":"+GETPIVOTDATA(\"BAS222\",TABLAS!$A$801)","v":0},{"$f":"+GETPIVOTDATA(\"BAS223\",TABLAS!$A$801)","v":0},{"$f":"+GETPIVOTDATA(\"BAS224\",TABLAS!$A$801)","v":0},{"$f":"+GETPIVOTDATA(\"BAS225\",TABLAS!$A$801)","v":0},0,{"$f":"+GETPIVOTDATA(\"BAS221\",TABLAS!$A$951)","v":{"$error":"#REF!"}},{"$f":"+GETPIVOTDATA(\"BAS222\",TABLAS!$A$951)","v":{"$error":"#REF!"}},{"$f":"+GETPIVOTDATA(\"BAS223\",TABLAS!$A$951)","v":{"$error":"#REF!"}},{"$f":"+GETPIVOTDATA(\"BAS224\",TABLAS!$A$951)","v":{"$error":"#REF!"}},{"$f":"+GETPIVOTDATA(\"BAS225\",TABLAS!$A$951)","v":{"$error":"#REF!"}},{"$error":"#REF!"},{"$error":"#REF!"},null,null,221,{"$f":"+AS169+1","v":222},223,224,225,null,"=+IMPORTARDATOSDINAMICOS(\"BAS221\",TABLAS!$A$1011)","=+IMPORTARDATOSDINAMICOS(\"BAS222\",TABLAS!$A$1011)","=+IMPORTARDATOSDINAMICOS(\"BAS223\",TABLAS!$A$1011)","=+IMPORTARDATOSDINAMICOS(\"BAS224\",TABLAS!$A$1011)","=+IMPORTARDATOSDINAMICOS(\"BAS225\",TABLAS!$A$1011)"]
["TSH  [84443]",null,null,{"$f":"+GETPIVOTDATA(\"BAS226\",TABLAS!$A$260)","v":0},{"$f":"+GETPIVOTDATA(\"BAS227\",TABLAS!$A$260)","v":0},{"$f":"+GETPIVOTDATA(\"BAS228\",TABLAS!$A$260)","v":0},{"$f":"+GETPIVOTDATA(\"BAS229\",TABLAS!$A$260)","v":0},{"$f":"+GETPIVOTDATA(\"BAS230\",TABLAS!$A$260)","v":0},0,{"$f":"+GETPIVOTDATA(\"BAS226\",TABLAS!$A$381)","v":0},{"$f":"+GETPIVOTDATA(\"BAS227\",TABLAS!$A$381)","v":0},{"$f":"+GETPIVOTDATA(\"BAS228\",TABLAS!$A$381)","v":0},{"$f":"+GETPIVOTDATA(\"BAS229\",TABLAS!$A$381)","v":0},{"$f":"+GETPIVOTDATA(\"BAS230\",TABLAS!$A$381)","v":0},0,{"$f":"+GETPIVOTDATA(\"BAS226\",TABLAS!$A$531)","v":0},{"$f":"+GETPIVOTDATA(\"BAS227\",TABLAS!$A$531)","v":0},{"$f":"+GETPIVOTDATA(\"BAS228\",TABLAS!$A$531)","v":0},{"$f":"+GETPIVOTDATA(\"BAS229\",TABLAS!$A$531)","v":0},{"$f":"+GETPIVOTDATA(\"BAS230\",TABLAS!$A$531)","v":0},0,0,null,{"$f":"+GETPIVOTDATA(\"BAS226\",TABLAS!$A$681)","v":0},{"$f":"+GETPIVOTDATA(\"BAS227\",TABLAS!$A$681)","v":0},{"$f":"+GETPIVOTDATA(\"BAS228\",TABLAS!$A$681)","v":0},{"$f":"+GETPIVOTDATA(\"BAS229\",TABLAS!$A$681)","v":0},{"$f":"+GETPIVOTDATA(\"BAS230\",TABLAS!$A$681)","v":0},0,{"$f":"+GETPIVOTDATA(\"BAS226\",TABLAS!$A$801)","v":0},{"$f":"+GETPIVOTDATA(\"BAS227\",TABLAS!$A$801)","v":0},{"$f":"+GETPIVOTDATA(\"BAS228\",TABLAS!$A$801)","v":0},{"$f":"+GETPIVOTDATA(\"BAS229\",TABLAS!$A$801)","v":0},{"$f":"+GETPIVOTDATA(\"BAS230\",TABLAS!$A$801)","v":0},0,{"$f":"+GETPIVOTDATA(\"BAS226\",TABLAS!$A$951)","v":{"$error":"#REF!"}},{"$f":"+GETPIVOTDATA(\"BAS227\",TABLAS!$A$951)","v":{"$error":"#REF!"}},{"$f":"+GETPIVOTDATA(\"BAS228\",TABLAS!$A$951)","v":{"$error":"#REF!"}},{"$f":"+GETPIVOTDATA(\"BAS229\",TABLAS!$A$951)","v":{"$error":"#REF!"}},{"$f":"+GETPIVOTDATA(\"BAS230\",TABLAS!$A$951)","v":{"$error":"#REF!"}},{"$error":"#REF!"},{"$error":"#REF!"},null,null,226,{"$f":"+AS170+1","v":227},228,229,230,null,"=+IMPORTARDATOSDINAMICOS(\"BAS226\",TABLAS!$A$1011)","=+IMPORTARDATOSDINAMICOS(\"BAS227\",TABLAS!$A$1011)","=+IMPORTARDATOSDINAMICOS(\"BAS228\",TABLAS!$A$1011)","=+IMPORTARDATOSDINAMICOS(\"BAS229\",TABLAS!$A$1011)","=+IMPORTARDATOSDINAMICOS(\"BAS230\",TABLAS!$A$1011)"]
[]
[null,null,null,"CONSULTA EXTERNA",null,null,null,null,null,"HOSPITALIZACION",null,null,null,null,null,"EMERGENCIA",null,null,null,null,null,"Total",null,"CONSULTA EXTERNA",null,null,null,null,null,"HOSPITALIZACION",null,null,null,null,null,"EMERGENCIA",null,null,null,null,null,"Total"]
["ANATOMIA PATOLOGICA",null,null,"0 - 11a","12-17a","18-29 a","30-59 a","60- + a","Total","0 - 11a","12-17a","18-29 a","30-59 a","60- + a","Total","0 - 11a","12-17a","18-29 a","30-59 a","60- + a","Total",null,null,"0 - 11a","12-17a","18-29 a","30-59 a","60- + a","Total","0 - 11a","12-17a","18-29 a","30-59 a","60- + a","Total","0 - 11a","12-17a","18-29 a","30-59 a","60- + a","Total"]
["QUIRURGICA"]
["BIOPSIAS QUIRURGICAS",null,null,{"$f":"SUM(D176:D177)","v":0},{"$f":"SUM(E176:E177)","v":0},{"$f":"SUM(F176:F177)","v":0},{"$f":"SUM(G176:G177)","v":0},0,{"$f":"SUM(D175:H175)","v":0},{"$f":"SUM(J176:J177)","v":0},{"$f":"SUM(K176:K177)","v":0},0,0,0,{"$f":"SUM(J175:N175)","v":0},{"$f":"SUM(P176:P177)","v":0},{"$f":"SUM(Q176:Q177)","v":0},0,0,0,{"$f":"SUM(P175:T175)","v":0},{"$f":"+I175+O175+U175","v":0},null,{"$f":"SUM(X176:X177)","v":0},{"$f":"SUM(Y176:Y177)","v":0},0,0,0,{"$f":"SUM(X175:AB175)","v":0},{"$f":"SUM(AD176:AD177)","v":0},{"$f":"SUM(AE176:AE177)","v":0},0,0,0,{"$f":"SUM(AD175:AH175)","v":0},{"$f":"SUM(AJ176:AJ177)","v":0},{"$f":"SUM(AK176:AK177)","v":0},0,0,0,{"$f":"SUM(AJ175:AN175)","v":0},{"$f":"+AC175+AI175+AO175","v":0}]
["ESTUDIO MACRO Y MICROSCOPICO  NIVEL IV   [88305]",null,null,{"$f":"+GETPIVOTDATA(\"BAS001\",TABLAS!$A$291)","v":0},{"$f":"+GETPIVOTDATA(\"BAS002\",TABLAS!$A$291)","v":0},{"$f":"+GETPIVOTDATA(\"BAS003\",TABLAS!$A$291)","v":0},{"$f":"+GETPIVOTDATA(\"BAS004\",TABLAS!$A$291)","v":0},{"$f":"+GETPIVOTDATA(\"BAS005\",TABLAS!$A$291)","v":0},0,{"$f":"+GETPIVOTDATA(\"BAS001\",TABLAS!$A$411)","v":0},{"$f":"+GETPIVOTDATA(\"BAS002\",TABLAS!$A$411)","v":0},{"$f":"+GETPIVOTDATA(\"BAS003\",TABLAS!$A$411)","v":0},{"$f":"+GETPIVOTDATA(\"BAS004\",TABLAS!$A$411)","v":0},{"$f":"+GETPIVOTDATA(\"BAS005\",TABLAS!$A$411)","v":0},0,{"$f":"+GETPIVOTDATA(\"BAS001\",TABLAS!$A$561)","v":0},{"$f":"+GETPIVOTDATA(\"BAS002\",TABLAS!$A$561)","v":0},{"$f":"+GETPIVOTDATA(\"BAS003\",TABLAS!$A$561)","v":0},{"$f":"+GETPIVOTDATA(\"BAS004\",TABLAS!$A$561)","v":0},{"$f":"+GETPIVOTDATA(\"BAS005\",TABLAS!$A$561)","v":0},0,0,null,{"$f":"+GETPIVOTDATA(\"BAS001\",TABLAS!$A$711)","v":0},{"$f":"+GETPIVOTDATA(\"BAS002\",TABLAS!$A$711)","v":0},{"$f":"+GETPIVOTDATA(\"BAS003\",TABLAS!$A$711)","v":0},{"$f":"+GETPIVOTDATA(\"BAS004\",TABLAS!$A$711)","v":0},{"$f":"+GETPIVOTDATA(\"BAS005\",TABLAS!$A$711)","v":0},0,{"$f":"+GETPIVOTDATA(\"BAS001\",TABLAS!$A$831)","v":0},{"$f":"+GETPIVOTDATA(\"BAS002\",TABLAS!$A$831)","v":0},{"$f":"+GETPIVOTDATA(\"BAS003\",TABLAS!$A$831)","v":0},{"$f":"+GETPIVOTDATA(\"BAS004\",TABLAS!$A$831)","v":0},{"$f":"+GETPIVOTDATA(\"BAS005\",TABLAS!$A$831)","v":0},0,{"$f":"+GETPIVOTDATA(\"BAS001\",TABLAS!$A$981)","v":0},{"$f":"+GETPIVOTDATA(\"BAS002\",TABLAS!$A$981)","v":0},{"$f":"+GETPIVOTDATA(\"BAS003\",TABLAS!$A$981)","v":0},{"$f":"+GETPIVOTDATA(\"BAS004\",TABLAS!$A$981)","v":0},{"$f":"+GETPIVOTDATA(\"BAS005\",TABLAS!$A$981)","v":0},0,0,null,null,{"$f":"+AW175+1","v":1},{"$f":"+AS176+1","v":2},3,4,5,null,{"$f":"IF(AS176<=9,CONCATENATE($AS$13,$AV$13,\"00\",AS176,$AW$13),IF(AND(AS176>=10,AS176<=99),CONCATENATE($AS$13,$AV$13,\"0\",AS176,$AW$13),CONCATENATE($AS$13,$AV$13,AS176,$AW$13)))","v":"=+IMPORTARDATOSDINAMICOS(\"BAS001\",TABLAS!$A$1011)"},{"$f":"IF(AT176<=9,CONCATENATE($AS$13,$AV$13,\"00\",AT176,$AW$13),IF(AND(AT176>=10,AT176<=99),CONCATENATE($AS$13,$AV$13,\"0\",AT176,$AW$13),CONCATENATE($AS$13,$AV$13,AT176,$AW$13)))","v":"=+IMPORTARDATOSDINAMICOS(\"BAS002\",TABLAS!$A$1011)"},{"$f":"IF(AU176<=9,CONCATENATE($AS$13,$AV$13,\"00\",AU176,$AW$13),IF(AND(AU176>=10,AU176<=99),CONCATENATE($AS$13,$AV$13,\"0\",AU176,$AW$13),CONCATENATE($AS$13,$AV$13,AU176,$AW$13)))","v":"=+IMPORTARDATOSDINAMICOS(\"BAS003\",TABLAS!$A$1011)"},{"$f":"IF(AV176<=9,CONCATENATE($AS$13,$AV$13,\"00\",AV176,$AW$13),IF(AND(AV176>=10,AV176<=99),CONCATENATE($AS$13,$AV$13,\"0\",AV176,$AW$13),CONCATENATE($AS$13,$AV$13,AV176,$AW$13)))","v":"=+IMPORTARDATOSDINAMICOS(\"BAS004\",TABLAS!$A$1011)"},{"$f":"IF(AW176<=9,CONCATENATE($AS$13,$AV$13,\"00\",AW176,$AW$13),IF(AND(AW176>=10,AW176<=99),CONCATENATE($AS$13,$AV$13,\"0\",AW176,$AW$13),CONCATENATE($AS$13,$AV$13,AW176,$AW$13)))","v":"=+IMPORTARDATOSDINAMICOS(\"BAS005\",TABLAS!$A$1011)"}]
["ESTUDIO MACRO Y MICROSCOPICO  NIVEL III   [88304]",null,null,{"$f":"+GETPIVOTDATA(\"BAS006\",TABLAS!$A$291)","v":0},{"$f":"+GETPIVOTDATA(\"BAS007\",TABLAS!$A$291)","v":0},{"$f":"+GETPIVOTDATA(\"BAS008\",TABLAS!$A$291)","v":0},{"$f":"+GETPIVOTDATA(\"BAS009\",TABLAS!$A$291)","v":0},{"$f":"+GETPIVOTDATA(\"BAS010\",TABLAS!$A$291)","v":0},0,{"$f":"+GETPIVOTDATA(\"BAS006\",TABLAS!$A$411)","v":0},{"$f":"+GETPIVOTDATA(\"BAS007\",TABLAS!$A$411)","v":0},{"$f":"+GETPIVOTDATA(\"BAS008\",TABLAS!$A$411)","v":0},{"$f":"+GETPIVOTDATA(\"BAS009\",TABLAS!$A$411)","v":0},{"$f":"+GETPIVOTDATA(\"BAS010\",TABLAS!$A$411)","v":0},0,{"$f":"+GETPIVOTDATA(\"BAS006\",TABLAS!$A$561)","v":0},{"$f":"+GETPIVOTDATA(\"BAS007\",TABLAS!$A$561)","v":0},{"$f":"+GETPIVOTDATA(\"BAS008\",TABLAS!$A$561)","v":0},{"$f":"+GETPIVOTDATA(\"BAS009\",TABLAS!$A$561)","v":0},{"$f":"+GETPIVOTDATA(\"BAS010\",TABLAS!$A$561)","v":0},0,0,null,{"$f":"+GETPIVOTDATA(\"BAS006\",TABLAS!$A$711)","v":0},{"$f":"+GETPIVOTDATA(\"BAS007\",TABLAS!$A$711)","v":0},{"$f":"+GETPIVOTDATA(\"BAS008\",TABLAS!$A$711)","v":0},{"$f":"+GETPIVOTDATA(\"BAS009\",TABLAS!$A$711)","v":0},{"$f":"+GETPIVOTDATA(\"BAS010\",TABLAS!$A$711)","v":0},0,{"$f":"+GETPIVOTDATA(\"BAS006\",TABLAS!$A$831)","v":0},{"$f":"+GETPIVOTDATA(\"BAS007\",TABLAS!$A$831)","v":0},{"$f":"+GETPIVOTDATA(\"BAS008\",TABLAS!$A$831)","v":0},{"$f":"+GETPIVOTDATA(\"BAS009\",TABLAS!$A$831)","v":0},{"$f":"+GETPIVOTDATA(\"BAS010\",TABLAS!$A$831)","v":0},0,{"$f":"+GETPIVOTDATA(\"BAS006\",TABLAS!$A$981)","v":0},{"$f":"+GETPIVOTDATA(\"BAS007\",TABLAS!$A$981)","v":0},{"$f":"+GETPIVOTDATA(\"BAS008\",TABLAS!$A$981)","v":0},{"$f":"+GETPIVOTDATA(\"BAS009\",TABLAS!$A$981)","v":0},{"$f":"+GETPIVOTDATA(\"BAS010\",TABLAS!$A$981)","v":0},0,0,null,null,6,{"$f":"+AS177+1","v":7},8,9,10,null,"=+IMPORTARDATOSDINAMICOS(\"BAS006\",TABLAS!$A$1011)","=+IMPORTARDATOSDINAMICOS(\"BAS007\",TABLAS!$A$1011)","=+IMPORTARDATOSDINAMICOS(\"BAS008\",TABLAS!$A$1011)","=+IMPORTARDATOSDINAMICOS(\"BAS009\",TABLAS!$A$1011)","=+IMPORTARDATOSDINAMICOS(\"BAS010\",TABLAS!$A$1011)"]
["PIEZAS QUIRURGICAS",null,null,{"$f":"SUM(D179:D183)","v":0},{"$f":"SUM(E179:E183)","v":0},{"$f":"SUM(F179:F183)","v":0},{"$f":"SUM(G179:G183)","v":0},{"$f":"SUM(H179:H183)","v":0},0,{"$f":"SUM(J179:J183)","v":0},{"$f":"SUM(K179:K183)","v":0},{"$f":"SUM(L179:L183)","v":0},{"$f":"SUM(M179:M183)","v":0},{"$f":"SUM(N179:N183)","v":0},0,{"$f":"SUM(P179:P183)","v":0},{"$f":"SUM(Q179:Q183)","v":0},{"$f":"SUM(R179:R183)","v":0},{"$f":"SUM(S179:S183)","v":0},{"$f":"SUM(T179:T183)","v":0},0,0,null,{"$f":"SUM(X179:X183)","v":0},{"$f":"SUM(Y179:Y183)","v":0},{"$f":"SUM(Z179:Z183)","v":0},{"$f":"SUM(AA179:AA183)","v":0},{"$f":"SUM(AB179:AB183)","v":0},0,{"$f":"SUM(AD179:AD183)","v":0},{"$f":"SUM(AE179:AE183)","v":0},{"$f":"SUM(AF179:AF183)","v":0},{"$f":"SUM(AG179:AG183)","v":0},{"$f":"SUM(AH179:AH183)","v":0},0,{"$f":"SUM(AJ179:AJ183)","v":0},{"$f":"SUM(AK179:AK183)","v":0},{"$f":"SUM(AL179:AL183)","v":0},{"$f":"SUM(AM179:AM183)","v":0},{"$f":"SUM(AN179:AN183)","v":0},0,0]
["ESTUDIO MACRO Y MICROSCOPICO   NIVEL IV   [88305]",null,null,{"$f":"+GETPIVOTDATA(\"BAS011\",TABLAS!$A$291)","v":0},{"$f":"+GETPIVOTDATA(\"BAS012\",TABLAS!$A$291)","v":0},{"$f":"+GETPIVOTDATA(\"BAS013\",TABLAS!$A$291)","v":0},{"$f":"+GETPIVOTDATA(\"BAS014\",TABLAS!$A$291)","v":0},{"$f":"+GETPIVOTDATA(\"BAS015\",TABLAS!$A$291)","v":0},0,{"$f":"+GETPIVOTDATA(\"BAS011\",TABLAS!$A$411)","v":0},{"$f":"+GETPIVOTDATA(\"BAS012\",TABLAS!$A$411)","v":0},{"$f":"+GETPIVOTDATA(\"BAS013\",TABLAS!$A$411)","v":0},{"$f":"+GETPIVOTDATA(\"BAS014\",TABLAS!$A$411)","v":0},{"$f":"+GETPIVOTDATA(\"BAS015\",TABLAS!$A$411)","v":0},0,{"$f":"+GETPIVOTDATA(\"BAS011\",TABLAS!$A$561)","v":0},{"$f":"+GETPIVOTDATA(\"BAS012\",TABLAS!$A$561)","v":0},{"$f":"+GETPIVOTDATA(\"BAS013\",TABLAS!$A$561)","v":0},{"$f":"+GETPIVOTDATA(\"BAS014\",TABLAS!$A$561)","v":0},{"$f":"+GETPIVOTDATA(\"BAS015\",TABLAS!$A$561)","v":0},0,0,null,{"$f":"+GETPIVOTDATA(\"BAS011\",TABLAS!$A$711)","v":0},{"$f":"+GETPIVOTDATA(\"BAS012\",TABLAS!$A$711)","v":0},{"$f":"+GETPIVOTDATA(\"BAS013\",TABLAS!$A$711)","v":0},{"$f":"+GETPIVOTDATA(\"BAS014\",TABLAS!$A$711)","v":0},{"$f":"+GETPIVOTDATA(\"BAS015\",TABLAS!$A$711)","v":0},0,{"$f":"+GETPIVOTDATA(\"BAS011\",TABLAS!$A$831)","v":0},{"$f":"+GETPIVOTDATA(\"BAS012\",TABLAS!$A$831)","v":0},{"$f":"+GETPIVOTDATA(\"BAS013\",TABLAS!$A$831)","v":0},{"$f":"+GETPIVOTDATA(\"BAS014\",TABLAS!$A$831)","v":0},{"$f":"+GETPIVOTDATA(\"BAS015\",TABLAS!$A$831)","v":0},0,{"$f":"+GETPIVOTDATA(\"BAS011\",TABLAS!$A$981)","v":0},{"$f":"+GETPIVOTDATA(\"BAS012\",TABLAS!$A$981)","v":0},{"$f":"+GETPIVOTDATA(\"BAS013\",TABLAS!$A$981)","v":0},{"$f":"+GETPIVOTDATA(\"BAS014\",TABLAS!$A$981)","v":0},{"$f":"+GETPIVOTDATA(\"BAS015\",TABLAS!$A$981)","v":0},0,0,null,null,{"$f":"+AW177+1","v":11},{"$f":"+AS179+1","v":12},13,14,15,null,{"$f":"IF(AS179<=9,CONCATENATE($AS$13,$AV$13,\"00\",AS179,$AW$13),IF(AND(AS179>=10,AS179<=99),CONCATENATE($AS$13,$AV$13,\"0\",AS179,$AW$13),CONCATENATE($AS$13,$AV$13,AS179,$AW$13)))","v":"=+IMPORTARDATOSDINAMICOS(\"BAS011\",TABLAS!$A$1011)"},{"$f":"IF(AT179<=9,CONCATENATE($AS$13,$AV$13,\"00\",AT179,$AW$13),IF(AND(AT179>=10,AT179<=99),CONCATENATE($AS$13,$AV$13,\"0\",AT179,$AW$13),CONCATENATE($AS$13,$AV$13,AT179,$AW$13)))","v":"=+IMPORTARDATOSDINAMICOS(\"BAS012\",TABLAS!$A$1011)"},{"$f":"IF(AU179<=9,CONCATENATE($AS$13,$AV$13,\"00\",AU179,$AW$13),IF(AND(AU179>=10,AU179<=99),CONCATENATE($AS$13,$AV$13,\"0\",AU179,$AW$13),CONCATENATE($AS$13,$AV$13,AU179,$AW$13)))","v":"=+IMPORTARDATOSDINAMICOS(\"BAS013\",TABLAS!$A$1011)"},{"$f":"IF(AV179<=9,CONCATENATE($AS$13,$AV$13,\"00\",AV179,$AW$13),IF(AND(AV179>=10,AV179<=99),CONCATENATE($AS$13,$AV$13,\"0\",AV179,$AW$13),CONCATENATE($AS$13,$AV$13,AV179,$AW$13)))","v":"=+IMPORTARDATOSDINAMICOS(\"BAS014\",TABLAS!$A$1011)"},{"$f":"IF(AW179<=9,CONCATENATE($AS$13,$AV$13,\"00\",AW179,$AW$13),IF(AND(AW179>=10,AW179<=99),CONCATENATE($AS$13,$AV$13,\"0\",AW179,$AW$13),CONCATENATE($AS$13,$AV$13,AW179,$AW$13)))","v":"=+IMPORTARDATOSDINAMICOS(\"BAS015\",TABLAS!$A$1011)"}]
["ESTUDIO MACRO Y MICROSCOPICO    NIVEL II   [88302]",null,null,{"$f":"+GETPIVOTDATA(\"BAS016\",TABLAS!$A$291)","v":0},{"$f":"+GETPIVOTDATA(\"BAS017\",TABLAS!$A$291)","v":0},{"$f":"+GETPIVOTDATA(\"BAS018\",TABLAS!$A$291)","v":0},{"$f":"+GETPIVOTDATA(\"BAS019\",TABLAS!$A$291)","v":0},{"$f":"+GETPIVOTDATA(\"BAS020\",TABLAS!$A$291)","v":0},0,{"$f":"+GETPIVOTDATA(\"BAS016\",TABLAS!$A$411)","v":0},{"$f":"+GETPIVOTDATA(\"BAS017\",TABLAS!$A$411)","v":0},{"$f":"+GETPIVOTDATA(\"BAS018\",TABLAS!$A$411)","v":0},{"$f":"+GETPIVOTDATA(\"BAS019\",TABLAS!$A$411)","v":0},{"$f":"+GETPIVOTDATA(\"BAS020\",TABLAS!$A$411)","v":0},0,{"$f":"+GETPIVOTDATA(\"BAS016\",TABLAS!$A$561)","v":0},{"$f":"+GETPIVOTDATA(\"BAS017\",TABLAS!$A$561)","v":0},{"$f":"+GETPIVOTDATA(\"BAS018\",TABLAS!$A$561)","v":0},{"$f":"+GETPIVOTDATA(\"BAS019\",TABLAS!$A$561)","v":0},{"$f":"+GETPIVOTDATA(\"BAS020\",TABLAS!$A$561)","v":0},0,0,null,{"$f":"+GETPIVOTDATA(\"BAS016\",TABLAS!$A$711)","v":0},{"$f":"+GETPIVOTDATA(\"BAS017\",TABLAS!$A$711)","v":0},{"$f":"+GETPIVOTDATA(\"BAS018\",TABLAS!$A$711)","v":0},{"$f":"+GETPIVOTDATA(\"BAS019\",TABLAS!$A$711)","v":0},{"$f":"+GETPIVOTDATA(\"BAS020\",TABLAS!$A$711)","v":0},0,{"$f":"+GETPIVOTDATA(\"BAS016\",TABLAS!$A$831)","v":0},{"$f":"+GETPIVOTDATA(\"BAS017\",TABLAS!$A$831)","v":0},{"$f":"+GETPIVOTDATA(\"BAS018\",TABLAS!$A$831)","v":0},{"$f":"+GETPIVOTDATA(\"BAS019\",TABLAS!$A$831)","v":0},{"$f":"+GETPIVOTDATA(\"BAS020\",TABLAS!$A$831)","v":0},0,{"$f":"+GETPIVOTDATA(\"BAS016\",TABLAS!$A$981)","v":0},{"$f":"+GETPIVOTDATA(\"BAS017\",TABLAS!$A$981)","v":0},{"$f":"+GETPIVOTDATA(\"BAS018\",TABLAS!$A$981)","v":0},{"$f":"+GETPIVOTDATA(\"BAS019\",TABLAS!$A$981)","v":0},{"$f":"+GETPIVOTDATA(\"BAS020\",TABLAS!$A$981)","v":0},0,0,null,null,{"$f":"+AW179+1","v":16},{"$f":"+AS180+1","v":17},18,19,20,null,"=+IMPORTARDATOSDINAMICOS(\"BAS016\",TABLAS!$A$1011)","=+IMPORTARDATOSDINAMICOS(\"BAS017\",TABLAS!$A$1011)","=+IMPORTARDATOSDINAMICOS(\"BAS018\",TABLAS!$A$1011)","=+IMPORTARDATOSDINAMICOS(\"BAS019\",TABLAS!$A$1011)","=+IMPORTARDATOSDINAMICOS(\"BAS020\",TABLAS!$A$1011)"]
["ESTUDIO MACRO Y MICROSCOPICO   NIVEL III   [88304]",null,null,{"$f":"+GETPIVOTDATA(\"BAS021\",TABLAS!$A$291)","v":0},{"$f":"+GETPIVOTDATA(\"BAS022\",TABLAS!$A$291)","v":0},{"$f":"+GETPIVOTDATA(\"BAS023\",TABLAS!$A$291)","v":0},{"$f":"+GETPIVOTDATA(\"BAS024\",TABLAS!$A$291)","v":0},{"$f":"+GETPIVOTDATA(\"BAS025\",TABLAS!$A$291)","v":0},0,{"$f":"+GETPIVOTDATA(\"BAS021\",TABLAS!$A$411)","v":0},{"$f":"+GETPIVOTDATA(\"BAS022\",TABLAS!$A$411)","v":0},{"$f":"+GETPIVOTDATA(\"BAS023\",TABLAS!$A$411)","v":0},{"$f":"+GETPIVOTDATA(\"BAS024\",TABLAS!$A$411)","v":0},{"$f":"+GETPIVOTDATA(\"BAS025\",TABLAS!$A$411)","v":0},0,{"$f":"+GETPIVOTDATA(\"BAS021\",TABLAS!$A$561)","v":0},{"$f":"+GETPIVOTDATA(\"BAS022\",TABLAS!$A$561)","v":0},{"$f":"+GETPIVOTDATA(\"BAS023\",TABLAS!$A$561)","v":0},{"$f":"+GETPIVOTDATA(\"BAS024\",TABLAS!$A$561)","v":0},{"$f":"+GETPIVOTDATA(\"BAS025\",TABLAS!$A$561)","v":0},0,0,null,{"$f":"+GETPIVOTDATA(\"BAS021\",TABLAS!$A$711)","v":0},{"$f":"+GETPIVOTDATA(\"BAS022\",TABLAS!$A$711)","v":0},{"$f":"+GETPIVOTDATA(\"BAS023\",TABLAS!$A$711)","v":0},{"$f":"+GETPIVOTDATA(\"BAS024\",TABLAS!$A$711)","v":0},{"$f":"+GETPIVOTDATA(\"BAS025\",TABLAS!$A$711)","v":0},0,{"$f":"+GETPIVOTDATA(\"BAS021\",TABLAS!$A$831)","v":0},{"$f":"+GETPIVOTDATA(\"BAS022\",TABLAS!$A$831)","v":0},{"$f":"+GETPIVOTDATA(\"BAS023\",TABLAS!$A$831)","v":0},{"$f":"+GETPIVOTDATA(\"BAS024\",TABLAS!$A$831)","v":0},{"$f":"+GETPIVOTDATA(\"BAS025\",TABLAS!$A$831)","v":0},0,{"$f":"+GETPIVOTDATA(\"BAS021\",TABLAS!$A$981)","v":0},{"$f":"+GETPIVOTDATA(\"BAS022\",TABLAS!$A$981)","v":0},{"$f":"+GETPIVOTDATA(\"BAS023\",TABLAS!$A$981)","v":0},{"$f":"+GETPIVOTDATA(\"BAS024\",TABLAS!$A$981)","v":0},{"$f":"+GETPIVOTDATA(\"BAS025\",TABLAS!$A$981)","v":0},0,0,null,null,{"$f":"+AW180+1","v":21},{"$f":"+AS181+1","v":22},23,24,25,null,"=+IMPORTARDATOSDINAMICOS(\"BAS021\",TABLAS!$A$1011)","=+IMPORTARDATOSDINAMICOS(\"BAS022\",TABLAS!$A$1011)","=+IMPORTARDATOSDINAMICOS(\"BAS023\",TABLAS!$A$1011)","=+IMPORTARDATOSDINAMICOS(\"BAS024\",TABLAS!$A$1011)","=+IMPORTARDATOSDINAMICOS(\"BAS025\",TABLAS!$A$1011)"]
["ESTUDIO MACRO Y MICROSCOPICO  NIVEL V   [88307]",null,null,{"$f":"+GETPIVOTDATA(\"BAS026\",TABLAS!$A$291)","v":0},{"$f":"+GETPIVOTDATA(\"BAS027\",TABLAS!$A$291)","v":0},{"$f":"+GETPIVOTDATA(\"BAS028\",TABLAS!$A$291)","v":0},{"$f":"+GETPIVOTDATA(\"BAS029\",TABLAS!$A$291)","v":0},{"$f":"+GETPIVOTDATA(\"BAS030\",TABLAS!$A$291)","v":0},0,{"$f":"+GETPIVOTDATA(\"BAS026\",TABLAS!$A$411)","v":0},{"$f":"+GETPIVOTDATA(\"BAS027\",TABLAS!$A$411)","v":0},{"$f":"+GETPIVOTDATA(\"BAS028\",TABLAS!$A$411)","v":0},{"$f":"+GETPIVOTDATA(\"BAS029\",TABLAS!$A$411)","v":0},{"$f":"+GETPIVOTDATA(\"BAS030\",TABLAS!$A$411)","v":0},0,{"$f":"+GETPIVOTDATA(\"BAS026\",TABLAS!$A$561)","v":0},{"$f":"+GETPIVOTDATA(\"BAS027\",TABLAS!$A$561)","v":0},{"$f":"+GETPIVOTDATA(\"BAS028\",TABLAS!$A$561)","v":0},{"$f":"+GETPIVOTDATA(\"BAS029\",TABLAS!$A$561)","v":0},{"$f":"+GETPIVOTDATA(\"BAS030\",TABLAS!$A$561)","v":0},0,0,null,{"$f":"+GETPIVOTDATA(\"BAS026\",TABLAS!$A$711)","v":0},{"$f":"+GETPIVOTDATA(\"BAS027\",TABLAS!$A$711)","v":0},{"$f":"+GETPIVOTDATA(\"BAS028\",TABLAS!$A$711)","v":0},{"$f":"+GETPIVOTDATA(\"BAS029\",TABLAS!$A$711)","v":0},{"$f":"+GETPIVOTDATA(\"BAS030\",TABLAS!$A$711)","v":0},0,{"$f":"+GETPIVOTDATA(\"BAS026\",TABLAS!$A$831)","v":0},{"$f":"+GETPIVOTDATA(\"BAS027\",TABLAS!$A$831)","v":0},{"$f":"+GETPIVOTDATA(\"BAS028\",TABLAS!$A$831)","v":0},{"$f":"+GETPIVOTDATA(\"BAS029\",TABLAS!$A$831)","v":0},{"$f":"+GETPIVOTDATA(\"BAS030\",TABLAS!$A$831)","v":0},0,{"$f":"+GETPIVOTDATA(\"BAS026\",TABLAS!$A$981)","v":0},{"$f":"+GETPIVOTDATA(\"BAS027\",TABLAS!$A$981)","v":0},{"$f":"+GETPIVOTDATA(\"BAS028\",TABLAS!$A$981)","v":0},{"$f":"+GETPIVOTDATA(\"BAS029\",TABLAS!$A$981)","v":0},{"$f":"+GETPIVOTDATA(\"BAS030\",TABLAS!$A$981)","v":0},0,0,null,null,26,{"$f":"+AS182+1","v":27},28,29,30,null,"=+IMPORTARDATOSDINAMICOS(\"BAS026\",TABLAS!$A$1011)","=+IMPORTARDATOSDINAMICOS(\"BAS027\",TABLAS!$A$1011)","=+IMPORTARDATOSDINAMICOS(\"BAS028\",TABLAS!$A$1011)","=+IMPORTARDATOSDINAMICOS(\"BAS029\",TABLAS!$A$1011)","=+IMPORTARDATOSDINAMICOS(\"BAS030\",TABLAS!$A$1011)"]
["ESTUDIO MACRO Y MICROSCOPICO  NIVEL VI   [88309]",null,null,{"$f":"+GETPIVOTDATA(\"BAS031\",TABLAS!$A$291)","v":0},{"$f":"+GETPIVOTDATA(\"BAS032\",TABLAS!$A$291)","v":0},{"$f":"+GETPIVOTDATA(\"BAS033\",TABLAS!$A$291)","v":0},{"$f":"+GETPIVOTDATA(\"BAS034\",TABLAS!$A$291)","v":0},{"$f":"+GETPIVOTDATA(\"BAS035\",TABLAS!$A$291)","v":0},0,{"$f":"+GETPIVOTDATA(\"BAS031\",TABLAS!$A$411)","v":0},{"$f":"+GETPIVOTDATA(\"BAS032\",TABLAS!$A$411)","v":0},{"$f":"+GETPIVOTDATA(\"BAS033\",TABLAS!$A$411)","v":0},{"$f":"+GETPIVOTDATA(\"BAS034\",TABLAS!$A$411)","v":0},{"$f":"+GETPIVOTDATA(\"BAS035\",TABLAS!$A$411)","v":0},0,{"$f":"+GETPIVOTDATA(\"BAS031\",TABLAS!$A$561)","v":0},{"$f":"+GETPIVOTDATA(\"BAS032\",TABLAS!$A$561)","v":0},{"$f":"+GETPIVOTDATA(\"BAS033\",TABLAS!$A$561)","v":0},{"$f":"+GETPIVOTDATA(\"BAS034\",TABLAS!$A$561)","v":0},{"$f":"+GETPIVOTDATA(\"BAS035\",TABLAS!$A$561)","v":0},0,0,null,{"$f":"+GETPIVOTDATA(\"BAS031\",TABLAS!$A$711)","v":0},{"$f":"+GETPIVOTDATA(\"BAS032\",TABLAS!$A$711)","v":0},{"$f":"+GETPIVOTDATA(\"BAS033\",TABLAS!$A$711)","v":0},{"$f":"+GETPIVOTDATA(\"BAS034\",TABLAS!$A$711)","v":0},{"$f":"+GETPIVOTDATA(\"BAS035\",TABLAS!$A$711)","v":0},0,{"$f":"+GETPIVOTDATA(\"BAS031\",TABLAS!$A$831)","v":0},{"$f":"+GETPIVOTDATA(\"BAS032\",TABLAS!$A$831)","v":0},{"$f":"+GETPIVOTDATA(\"BAS033\",TABLAS!$A$831)","v":0},{"$f":"+GETPIVOTDATA(\"BAS034\",TABLAS!$A$831)","v":0},{"$f":"+GETPIVOTDATA(\"BAS035\",TABLAS!$A$831)","v":0},0,{"$f":"+GETPIVOTDATA(\"BAS031\",TABLAS!$A$981)","v":0},{"$f":"+GETPIVOTDATA(\"BAS032\",TABLAS!$A$981)","v":0},{"$f":"+GETPIVOTDATA(\"BAS033\",TABLAS!$A$981)","v":0},{"$f":"+GETPIVOTDATA(\"BAS034\",TABLAS!$A$981)","v":0},{"$f":"+GETPIVOTDATA(\"BAS035\",TABLAS!$A$981)","v":0},0,0,null,null,31,{"$f":"+AS183+1","v":32},33,34,35,null,"=+IMPORTARDATOSDINAMICOS(\"BAS031\",TABLAS!$A$1011)","=+IMPORTARDATOSDINAMICOS(\"BAS032\",TABLAS!$A$1011)","=+IMPORTARDATOSDINAMICOS(\"BAS033\",TABLAS!$A$1011)","=+IMPORTARDATOSDINAMICOS(\"BAS034\",TABLAS!$A$1011)","=+IMPORTARDATOSDINAMICOS(\"BAS035\",TABLAS!$A$1011)"]
["ESTUDIO DE BLOCK CELL   [88370]",null,null,{"$f":"D185","v":0},{"$f":"E185","v":0},{"$f":"F185","v":0},{"$f":"G185","v":0},{"$f":"H185","v":0},0,{"$f":"J185","v":0},{"$f":"K185","v":0},{"$f":"L185","v":0},{"$f":"M185","v":0},{"$f":"N185","v":0},0,{"$f":"P185","v":0},{"$f":"Q185","v":0},{"$f":"R185","v":0},{"$f":"S185","v":0},{"$f":"T185","v":0},0,0,null,{"$f":"X185","v":0},{"$f":"Y185","v":0},{"$f":"Z185","v":0},{"$f":"AA185","v":0},{"$f":"AB185","v":0},0,{"$f":"AD185","v":0},{"$f":"AE185","v":0},{"$f":"AF185","v":0},{"$f":"AG185","v":0},{"$f":"AH185","v":0},0,{"$f":"AJ185","v":0},{"$f":"AK185","v":0},{"$f":"AL185","v":0},{"$f":"AM185","v":0},{"$f":"AN185","v":0},0,0]
["PROCEDIMIENTO DE DESCALCIFICACION   [88311]",null,null,{"$f":"+GETPIVOTDATA(\"BAS036\",TABLAS!$A$291)","v":0},{"$f":"+GETPIVOTDATA(\"BAS037\",TABLAS!$A$291)","v":0},{"$f":"+GETPIVOTDATA(\"BAS038\",TABLAS!$A$291)","v":0},{"$f":"+GETPIVOTDATA(\"BAS039\",TABLAS!$A$291)","v":0},{"$f":"+GETPIVOTDATA(\"BAS040\",TABLAS!$A$291)","v":0},0,{"$f":"+GETPIVOTDATA(\"BAS036\",TABLAS!$A$411)","v":0},{"$f":"+GETPIVOTDATA(\"BAS037\",TABLAS!$A$411)","v":0},{"$f":"+GETPIVOTDATA(\"BAS038\",TABLAS!$A$411)","v":0},{"$f":"+GETPIVOTDATA(\"BAS039\",TABLAS!$A$411)","v":0},{"$f":"+GETPIVOTDATA(\"BAS040\",TABLAS!$A$411)","v":0},0,{"$f":"+GETPIVOTDATA(\"BAS036\",TABLAS!$A$561)","v":0},{"$f":"+GETPIVOTDATA(\"BAS037\",TABLAS!$A$561)","v":0},{"$f":"+GETPIVOTDATA(\"BAS038\",TABLAS!$A$561)","v":0},{"$f":"+GETPIVOTDATA(\"BAS039\",TABLAS!$A$561)","v":0},{"$f":"+GETPIVOTDATA(\"BAS040\",TABLAS!$A$561)","v":0},0,0,null,{"$f":"+GETPIVOTDATA(\"BAS036\",TABLAS!$A$711)","v":0},{"$f":"+GETPIVOTDATA(\"BAS037\",TABLAS!$A$711)","v":0},{"$f":"+GETPIVOTDATA(\"BAS038\",TABLAS!$A$711)","v":0},{"$f":"+GETPIVOTDATA(\"BAS039\",TABLAS!$A$711)","v":0},{"$f":"+GETPIVOTDATA(\"BAS040\",TABLAS!$A$711)","v":0},0,{"$f":"+GETPIVOTDATA(\"BAS036\",TABLAS!$A$831)","v":0},{"$f":"+GETPIVOTDATA(\"BAS037\",TABLAS!$A$831)","v":0},{"$f":"+GETPIVOTDATA(\"BAS038\",TABLAS!$A$831)","v":0},{"$f":"+GETPIVOTDATA(\"BAS039\",TABLAS!$A$831)","v":0},{"$f":"+GETPIVOTDATA(\"BAS040\",TABLAS!$A$831)","v":0},0,{"$f":"+GETPIVOTDATA(\"BAS036\",TABLAS!$A$981)","v":0},{"$f":"+GETPIVOTDATA(\"BAS037\",TABLAS!$A$981)","v":0},{"$f":"+GETPIVOTDATA(\"BAS038\",TABLAS!$A$981)","v":0},{"$f":"+GETPIVOTDATA(\"BAS039\",TABLAS!$A$981)","v":0},{"$f":"+GETPIVOTDATA(\"BAS040\",TABLAS!$A$981)","v":0},0,0,null,null,{"$f":"+AW183+1","v":36},{"$f":"+AS185+1","v":37},38,39,40,null,{"$f":"IF(AS185<=9,CONCATENATE($AS$13,$AV$13,\"00\",AS185,$AW$13),IF(AND(AS185>=10,AS185<=99),CONCATENATE($AS$13,$AV$13,\"0\",AS185,$AW$13),CONCATENATE($AS$13,$AV$13,AS185,$AW$13)))","v":"=+IMPORTARDATOSDINAMICOS(\"BAS036\",TABLAS!$A$1011)"},{"$f":"IF(AT185<=9,CONCATENATE($AS$13,$AV$13,\"00\",AT185,$AW$13),IF(AND(AT185>=10,AT185<=99),CONCATENATE($AS$13,$AV$13,\"0\",AT185,$AW$13),CONCATENATE($AS$13,$AV$13,AT185,$AW$13)))","v":"=+IMPORTARDATOSDINAMICOS(\"BAS037\",TABLAS!$A$1011)"},{"$f":"IF(AU185<=9,CONCATENATE($AS$13,$AV$13,\"00\",AU185,$AW$13),IF(AND(AU185>=10,AU185<=99),CONCATENATE($AS$13,$AV$13,\"0\",AU185,$AW$13),CONCATENATE($AS$13,$AV$13,AU185,$AW$13)))","v":"=+IMPORTARDATOSDINAMICOS(\"BAS038\",TABLAS!$A$1011)"},{"$f":"IF(AV185<=9,CONCATENATE($AS$13,$AV$13,\"00\",AV185,$AW$13),IF(AND(AV185>=10,AV185<=99),CONCATENATE($AS$13,$AV$13,\"0\",AV185,$AW$13),CONCATENATE($AS$13,$AV$13,AV185,$AW$13)))","v":"=+IMPORTARDATOSDINAMICOS(\"BAS039\",TABLAS!$A$1011)"},{"$f":"IF(AW185<=9,CONCATENATE($AS$13,$AV$13,\"00\",AW185,$AW$13),IF(AND(AW185>=10,AW185<=99),CONCATENATE($AS$13,$AV$13,\"0\",AW185,$AW$13),CONCATENATE($AS$13,$AV$13,AW185,$AW$13)))","v":"=+IMPORTARDATOSDINAMICOS(\"BAS040\",TABLAS!$A$1011)"}]
["CORTES POR CONGELACION",null,null,{"$f":"SUM(D187:D188)","v":0},{"$f":"SUM(E187:E188)","v":0},{"$f":"SUM(F187:F188)","v":0},{"$f":"SUM(G187:G188)","v":0},{"$f":"SUM(H187:H188)","v":0},0,{"$f":"SUM(J187:J188)","v":0},{"$f":"SUM(K187:K188)","v":0},{"$f":"SUM(L187:L188)","v":0},{"$f":"SUM(M187:M188)","v":0},{"$f":"SUM(N187:N188)","v":0},0,{"$f":"SUM(P187:P188)","v":0},{"$f":"SUM(Q187:Q188)","v":0},{"$f":"SUM(R187:R188)","v":0},{"$f":"SUM(S187:S188)","v":0},{"$f":"SUM(T187:T188)","v":0},0,0,null,{"$f":"SUM(X187:X188)","v":0},{"$f":"SUM(Y187:Y188)","v":0},{"$f":"SUM(Z187:Z188)","v":0},{"$f":"SUM(AA187:AA188)","v":0},{"$f":"SUM(AB187:AB188)","v":0},0,{"$f":"SUM(AD187:AD188)","v":0},{"$f":"SUM(AE187:AE188)","v":0},{"$f":"SUM(AF187:AF188)","v":0},{"$f":"SUM(AG187:AG188)","v":0},{"$f":"SUM(AH187:AH188)","v":0},0,{"$f":"SUM(AJ187:AJ188)","v":0},{"$f":"SUM(AK187:AK188)","v":0},{"$f":"SUM(AL187:AL188)","v":0},{"$f":"SUM(AM187:AM188)","v":0},{"$f":"SUM(AN187:AN188)","v":0},0,0]
["CONSULTA DURANTE CIRUGIA MUESTRA UNICA   [88331]",null,null,{"$f":"+GETPIVOTDATA(\"BAS041\",TABLAS!$A$291)","v":0},{"$f":"+GETPIVOTDATA(\"BAS042\",TABLAS!$A$291)","v":0},{"$f":"+GETPIVOTDATA(\"BAS043\",TABLAS!$A$291)","v":0},{"$f":"+GETPIVOTDATA(\"BAS044\",TABLAS!$A$291)","v":0},{"$f":"+GETPIVOTDATA(\"BAS045\",TABLAS!$A$291)","v":0},0,{"$f":"+GETPIVOTDATA(\"BAS041\",TABLAS!$A$411)","v":0},{"$f":"+GETPIVOTDATA(\"BAS042\",TABLAS!$A$411)","v":0},{"$f":"+GETPIVOTDATA(\"BAS043\",TABLAS!$A$411)","v":0},{"$f":"+GETPIVOTDATA(\"BAS044\",TABLAS!$A$411)","v":0},{"$f":"+GETPIVOTDATA(\"BAS045\",TABLAS!$A$411)","v":0},0,{"$f":"+GETPIVOTDATA(\"BAS041\",TABLAS!$A$561)","v":0},{"$f":"+GETPIVOTDATA(\"BAS042\",TABLAS!$A$561)","v":0},{"$f":"+GETPIVOTDATA(\"BAS043\",TABLAS!$A$561)","v":0},{"$f":"+GETPIVOTDATA(\"BAS044\",TABLAS!$A$561)","v":0},{"$f":"+GETPIVOTDATA(\"BAS045\",TABLAS!$A$561)","v":0},0,0,null,{"$f":"+GETPIVOTDATA(\"BAS041\",TABLAS!$A$711)","v":0},{"$f":"+GETPIVOTDATA(\"BAS042\",TABLAS!$A$711)","v":0},{"$f":"+GETPIVOTDATA(\"BAS043\",TABLAS!$A$711)","v":0},{"$f":"+GETPIVOTDATA(\"BAS044\",TABLAS!$A$711)","v":0},{"$f":"+GETPIVOTDATA(\"BAS045\",TABLAS!$A$711)","v":0},0,{"$f":"+GETPIVOTDATA(\"BAS041\",TABLAS!$A$831)","v":0},{"$f":"+GETPIVOTDATA(\"BAS042\",TABLAS!$A$831)","v":0},{"$f":"+GETPIVOTDATA(\"BAS043\",TABLAS!$A$831)","v":0},{"$f":"+GETPIVOTDATA(\"BAS044\",TABLAS!$A$831)","v":0},{"$f":"+GETPIVOTDATA(\"BAS045\",TABLAS!$A$831)","v":0},0,{"$f":"+GETPIVOTDATA(\"BAS041\",TABLAS!$A$981)","v":0},{"$f":"+GETPIVOTDATA(\"BAS042\",TABLAS!$A$981)","v":0},{"$f":"+GETPIVOTDATA(\"BAS043\",TABLAS!$A$981)","v":0},{"$f":"+GETPIVOTDATA(\"BAS044\",TABLAS!$A$981)","v":0},{"$f":"+GETPIVOTDATA(\"BAS045\",TABLAS!$A$981)","v":0},0,0,null,null,{"$f":"+AW185+1","v":41},{"$f":"+AS187+1","v":42},43,44,45,null,{"$f":"IF(AS187<=9,CONCATENATE($AS$13,$AV$13,\"00\",AS187,$AW$13),IF(AND(AS187>=10,AS187<=99),CONCATENATE($AS$13,$AV$13,\"0\",AS187,$AW$13),CONCATENATE($AS$13,$AV$13,AS187,$AW$13)))","v":"=+IMPORTARDATOSDINAMICOS(\"BAS041\",TABLAS!$A$1011)"},{"$f":"IF(AT187<=9,CONCATENATE($AS$13,$AV$13,\"00\",AT187,$AW$13),IF(AND(AT187>=10,AT187<=99),CONCATENATE($AS$13,$AV$13,\"0\",AT187,$AW$13),CONCATENATE($AS$13,$AV$13,AT187,$AW$13)))","v":"=+IMPORTARDATOSDINAMICOS(\"BAS042\",TABLAS!$A$1011)"},{"$f":"IF(AU187<=9,CONCATENATE($AS$13,$AV$13,\"00\",AU187,$AW$13),IF(AND(AU187>=10,AU187<=99),CONCATENATE($AS$13,$AV$13,\"0\",AU187,$AW$13),CONCATENATE($AS$13,$AV$13,AU187,$AW$13)))","v":"=+IMPORTARDATOSDINAMICOS(\"BAS043\",TABLAS!$A$1011)"},{"$f":"IF(AV187<=9,CONCATENATE($AS$13,$AV$13,\"00\",AV187,$AW$13),IF(AND(AV187>=10,AV187<=99),CONCATENATE($AS$13,$AV$13,\"0\",AV187,$AW$13),CONCATENATE($AS$13,$AV$13,AV187,$AW$13)))","v":"=+IMPORTARDATOSDINAMICOS(\"BAS044\",TABLAS!$A$1011)"},{"$f":"IF(AW187<=9,CONCATENATE($AS$13,$AV$13,\"00\",AW187,$AW$13),IF(AND(AW187>=10,AW187<=99),CONCATENATE($AS$13,$AV$13,\"0\",AW187,$AW$13),CONCATENATE($AS$13,$AV$13,AW187,$AW$13)))","v":"=+IMPORTARDATOSDINAMICOS(\"BAS045\",TABLAS!$A$1011)"}]
["CONSULTA DURANTE CIRUGIA MAS DE UNO   [88332]",null,null,{"$f":"+GETPIVOTDATA(\"BAS046\",TABLAS!$A$291)","v":0},{"$f":"+GETPIVOTDATA(\"BAS047\",TABLAS!$A$291)","v":0},{"$f":"+GETPIVOTDATA(\"BAS048\",TABLAS!$A$291)","v":0},{"$f":"+GETPIVOTDATA(\"BAS049\",TABLAS!$A$291)","v":0},{"$f":"+GETPIVOTDATA(\"BAS050\",TABLAS!$A$291)","v":0},0,{"$f":"+GETPIVOTDATA(\"BAS046\",TABLAS!$A$411)","v":0},{"$f":"+GETPIVOTDATA(\"BAS047\",TABLAS!$A$411)","v":0},{"$f":"+GETPIVOTDATA(\"BAS048\",TABLAS!$A$411)","v":0},{"$f":"+GETPIVOTDATA(\"BAS049\",TABLAS!$A$411)","v":0},{"$f":"+GETPIVOTDATA(\"BAS050\",TABLAS!$A$411)","v":0},0,{"$f":"+GETPIVOTDATA(\"BAS046\",TABLAS!$A$561)","v":0},{"$f":"+GETPIVOTDATA(\"BAS047\",TABLAS!$A$561)","v":0},{"$f":"+GETPIVOTDATA(\"BAS048\",TABLAS!$A$561)","v":0},{"$f":"+GETPIVOTDATA(\"BAS049\",TABLAS!$A$561)","v":0},{"$f":"+GETPIVOTDATA(\"BAS050\",TABLAS!$A$561)","v":0},0,0,null,{"$f":"+GETPIVOTDATA(\"BAS046\",TABLAS!$A$711)","v":0},{"$f":"+GETPIVOTDATA(\"BAS047\",TABLAS!$A$711)","v":0},{"$f":"+GETPIVOTDATA(\"BAS048\",TABLAS!$A$711)","v":0},{"$f":"+GETPIVOTDATA(\"BAS049\",TABLAS!$A$711)","v":0},{"$f":"+GETPIVOTDATA(\"BAS050\",TABLAS!$A$711)","v":0},0,{"$f":"+GETPIVOTDATA(\"BAS046\",TABLAS!$A$831)","v":0},{"$f":"+GETPIVOTDATA(\"BAS047\",TABLAS!$A$831)","v":0},{"$f":"+GETPIVOTDATA(\"BAS048\",TABLAS!$A$831)","v":0},{"$f":"+GETPIVOTDATA(\"BAS049\",TABLAS!$A$831)","v":0},{"$f":"+GETPIVOTDATA(\"BAS050\",TABLAS!$A$831)","v":0},0,{"$f":"+GETPIVOTDATA(\"BAS046\",TABLAS!$A$981)","v":0},{"$f":"+GETPIVOTDATA(\"BAS047\",TABLAS!$A$981)","v":0},{"$f":"+GETPIVOTDATA(\"BAS048\",TABLAS!$A$981)","v":0},{"$f":"+GETPIVOTDATA(\"BAS049\",TABLAS!$A$981)","v":0},{"$f":"+GETPIVOTDATA(\"BAS050\",TABLAS!$A$981)","v":0},0,0,null,null,{"$f":"+AW187+1","v":46},{"$f":"+AS188+1","v":47},48,49,50,null,"=+IMPORTARDATOSDINAMICOS(\"BAS046\",TABLAS!$A$1011)","=+IMPORTARDATOSDINAMICOS(\"BAS047\",TABLAS!$A$1011)","=+IMPORTARDATOSDINAMICOS(\"BAS048\",TABLAS!$A$1011)","=+IMPORTARDATOSDINAMICOS(\"BAS049\",TABLAS!$A$1011)","=+IMPORTARDATOSDINAMICOS(\"BAS050\",TABLAS!$A$1011)"]
["REVISION DE LAMINAS PREPARADAS",null,null,{"$f":"SUM(D190:D191)","v":0},{"$f":"SUM(E190:E191)","v":0},{"$f":"SUM(F190:F191)","v":0},{"$f":"SUM(G190:G191)","v":0},{"$f":"SUM(H190:H191)","v":0},0,{"$f":"SUM(J190:J191)","v":0},{"$f":"SUM(K190:K191)","v":0},{"$f":"SUM(L190:L191)","v":0},{"$f":"SUM(M190:M191)","v":0},{"$f":"SUM(N190:N191)","v":0},0,{"$f":"SUM(P190:P191)","v":0},{"$f":"SUM(Q190:Q191)","v":0},{"$f":"SUM(R190:R191)","v":0},{"$f":"SUM(S190:S191)","v":0},{"$f":"SUM(T190:T191)","v":0},0,0,null,{"$f":"SUM(X190:X191)","v":0},{"$f":"SUM(Y190:Y191)","v":0},{"$f":"SUM(Z190:Z191)","v":0},{"$f":"SUM(AA190:AA191)","v":0},{"$f":"SUM(AB190:AB191)","v":0},0,{"$f":"SUM(AD190:AD191)","v":0},{"$f":"SUM(AE190:AE191)","v":0},{"$f":"SUM(AF190:AF191)","v":0},{"$f":"SUM(AG190:AG191)","v":0},{"$f":"SUM(AH190:AH191)","v":0},0,{"$f":"SUM(AJ190:AJ191)","v":0},{"$f":"SUM(AK190:AK191)","v":0},{"$f":"SUM(AL190:AL191)","v":0},{"$f":"SUM(AM190:AM191)","v":0},{"$f":"SUM(AN190:AN191)","v":0},0,0]
["PREPARADOS EN OTRO LUGAR   [88321]",null,null,{"$f":"+GETPIVOTDATA(\"BAS051\",TABLAS!$A$291)","v":0},{"$f":"+GETPIVOTDATA(\"BAS052\",TABLAS!$A$291)","v":0},{"$f":"+GETPIVOTDATA(\"BAS053\",TABLAS!$A$291)","v":0},{"$f":"+GETPIVOTDATA(\"BAS054\",TABLAS!$A$291)","v":0},{"$f":"+GETPIVOTDATA(\"BAS055\",TABLAS!$A$291)","v":0},0,{"$f":"+GETPIVOTDATA(\"BAS051\",TABLAS!$A$411)","v":0},{"$f":"+GETPIVOTDATA(\"BAS052\",TABLAS!$A$411)","v":0},{"$f":"+GETPIVOTDATA(\"BAS053\",TABLAS!$A$411)","v":0},{"$f":"+GETPIVOTDATA(\"BAS054\",TABLAS!$A$411)","v":0},{"$f":"+GETPIVOTDATA(\"BAS055\",TABLAS!$A$411)","v":0},0,{"$f":"+GETPIVOTDATA(\"BAS051\",TABLAS!$A$561)","v":0},{"$f":"+GETPIVOTDATA(\"BAS052\",TABLAS!$A$561)","v":0},{"$f":"+GETPIVOTDATA(\"BAS053\",TABLAS!$A$561)","v":0},{"$f":"+GETPIVOTDATA(\"BAS054\",TABLAS!$A$561)","v":0},{"$f":"+GETPIVOTDATA(\"BAS055\",TABLAS!$A$561)","v":0},0,0,null,{"$f":"+GETPIVOTDATA(\"BAS051\",TABLAS!$A$711)","v":0},{"$f":"+GETPIVOTDATA(\"BAS052\",TABLAS!$A$711)","v":0},{"$f":"+GETPIVOTDATA(\"BAS053\",TABLAS!$A$711)","v":0},{"$f":"+GETPIVOTDATA(\"BAS054\",TABLAS!$A$711)","v":0},{"$f":"+GETPIVOTDATA(\"BAS055\",TABLAS!$A$711)","v":0},0,{"$f":"+GETPIVOTDATA(\"BAS051\",TABLAS!$A$831)","v":0},{"$f":"+GETPIVOTDATA(\"BAS052\",TABLAS!$A$831)","v":0},{"$f":"+GETPIVOTDATA(\"BAS053\",TABLAS!$A$831)","v":0},{"$f":"+GETPIVOTDATA(\"BAS054\",TABLAS!$A$831)","v":0},{"$f":"+GETPIVOTDATA(\"BAS055\",TABLAS!$A$831)","v":0},0,{"$f":"+GETPIVOTDATA(\"BAS051\",TABLAS!$A$981)","v":0},{"$f":"+GETPIVOTDATA(\"BAS052\",TABLAS!$A$981)","v":0},{"$f":"+GETPIVOTDATA(\"BAS053\",TABLAS!$A$981)","v":0},{"$f":"+GETPIVOTDATA(\"BAS054\",TABLAS!$A$981)","v":0},{"$f":"+GETPIVOTDATA(\"BAS055\",TABLAS!$A$981)","v":0},0,0,null,null,{"$f":"+AW188+1","v":51},{"$f":"+AS190+1","v":52},53,54,55,null,{"$f":"IF(AS190<=9,CONCATENATE($AS$13,$AV$13,\"00\",AS190,$AW$13),IF(AND(AS190>=10,AS190<=99),CONCATENATE($AS$13,$AV$13,\"0\",AS190,$AW$13),CONCATENATE($AS$13,$AV$13,AS190,$AW$13)))","v":"=+IMPORTARDATOSDINAMICOS(\"BAS051\",TABLAS!$A$1011)"},{"$f":"IF(AT190<=9,CONCATENATE($AS$13,$AV$13,\"00\",AT190,$AW$13),IF(AND(AT190>=10,AT190<=99),CONCATENATE($AS$13,$AV$13,\"0\",AT190,$AW$13),CONCATENATE($AS$13,$AV$13,AT190,$AW$13)))","v":"=+IMPORTARDATOSDINAMICOS(\"BAS052\",TABLAS!$A$1011)"},{"$f":"IF(AU190<=9,CONCATENATE($AS$13,$AV$13,\"00\",AU190,$AW$13),IF(AND(AU190>=10,AU190<=99),CONCATENATE($AS$13,$AV$13,\"0\",AU190,$AW$13),CONCATENATE($AS$13,$AV$13,AU190,$AW$13)))","v":"=+IMPORTARDATOSDINAMICOS(\"BAS053\",TABLAS!$A$1011)"},{"$f":"IF(AV190<=9,CONCATENATE($AS$13,$AV$13,\"00\",AV190,$AW$13),IF(AND(AV190>=10,AV190<=99),CONCATENATE($AS$13,$AV$13,\"0\",AV190,$AW$13),CONCATENATE($AS$13,$AV$13,AV190,$AW$13)))","v":"=+IMPORTARDATOSDINAMICOS(\"BAS054\",TABLAS!$A$1011)"},{"$f":"IF(AW190<=9,CONCATENATE($AS$13,$AV$13,\"00\",AW190,$AW$13),IF(AND(AW190>=10,AW190<=99),CONCATENATE($AS$13,$AV$13,\"0\",AW190,$AW$13),CONCATENATE($AS$13,$AV$13,AW190,$AW$13)))","v":"=+IMPORTARDATOSDINAMICOS(\"BAS055\",TABLAS!$A$1011)"}]
["PREPARADOS CEN LA MISMA INSTITUCION   [88325]",null,null,{"$f":"+GETPIVOTDATA(\"BAS056\",TABLAS!$A$291)","v":0},{"$f":"+GETPIVOTDATA(\"BAS057\",TABLAS!$A$291)","v":0},{"$f":"+GETPIVOTDATA(\"BAS058\",TABLAS!$A$291)","v":0},{"$f":"+GETPIVOTDATA(\"BAS059\",TABLAS!$A$291)","v":0},{"$f":"+GETPIVOTDATA(\"BAS060\",TABLAS!$A$291)","v":0},0,{"$f":"+GETPIVOTDATA(\"BAS056\",TABLAS!$A$411)","v":0},{"$f":"+GETPIVOTDATA(\"BAS057\",TABLAS!$A$411)","v":0},{"$f":"+GETPIVOTDATA(\"BAS058\",TABLAS!$A$411)","v":0},{"$f":"+GETPIVOTDATA(\"BAS059\",TABLAS!$A$411)","v":0},{"$f":"+GETPIVOTDATA(\"BAS060\",TABLAS!$A$411)","v":0},0,{"$f":"+GETPIVOTDATA(\"BAS056\",TABLAS!$A$561)","v":0},{"$f":"+GETPIVOTDATA(\"BAS057\",TABLAS!$A$561)","v":0},{"$f":"+GETPIVOTDATA(\"BAS058\",TABLAS!$A$561)","v":0},{"$f":"+GETPIVOTDATA(\"BAS059\",TABLAS!$A$561)","v":0},{"$f":"+GETPIVOTDATA(\"BAS060\",TABLAS!$A$561)","v":0},0,0,null,{"$f":"+GETPIVOTDATA(\"BAS056\",TABLAS!$A$711)","v":0},{"$f":"+GETPIVOTDATA(\"BAS057\",TABLAS!$A$711)","v":0},{"$f":"+GETPIVOTDATA(\"BAS058\",TABLAS!$A$711)","v":0},{"$f":"+GETPIVOTDATA(\"BAS059\",TABLAS!$A$711)","v":0},{"$f":"+GETPIVOTDATA(\"BAS060\",TABLAS!$A$711)","v":0},0,{"$f":"+GETPIVOTDATA(\"BAS056\",TABLAS!$A$831)","v":0},{"$f":"+GETPIVOTDATA(\"BAS057\",TABLAS!$A$831)","v":0},{"$f":"+GETPIVOTDATA(\"BAS058\",TABLAS!$A$831)","v":0},{"$f":"+GETPIVOTDATA(\"BAS059\",TABLAS!$A$831)","v":0},{"$f":"+GETPIVOTDATA(\"BAS060\",TABLAS!$A$831)","v":0},0,{"$f":"+GETPIVOTDATA(\"BAS056\",TABLAS!$A$981)","v":0},{"$f":"+GETPIVOTDATA(\"BAS057\",TABLAS!$A$981)","v":0},{"$f":"+GETPIVOTDATA(\"BAS058\",TABLAS!$A$981)","v":0},{"$f":"+GETPIVOTDATA(\"BAS059\",TABLAS!$A$981)","v":0},{"$f":"+GETPIVOTDATA(\"BAS060\",TABLAS!$A$981)","v":0},0,0,null,null,{"$f":"+AW190+1","v":56},{"$f":"+AS191+1","v":57},58,59,60,null,"=+IMPORTARDATOSDINAMICOS(\"BAS056\",TABLAS!$A$1011)","=+IMPORTARDATOSDINAMICOS(\"BAS057\",TABLAS!$A$1011)","=+IMPORTARDATOSDINAMICOS(\"BAS058\",TABLAS!$A$1011)","=+IMPORTARDATOSDINAMICOS(\"BAS059\",TABLAS!$A$1011)","=+IMPORTARDATOSDINAMICOS(\"BAS060\",TABLAS!$A$1011)"]
["TINCIONES ESPECIALES",null,null,{"$f":"SUM(D193:D194)","v":0},{"$f":"SUM(E193:E194)","v":0},{"$f":"SUM(F193:F194)","v":0},{"$f":"SUM(G193:G194)","v":0},{"$f":"SUM(H193:H194)","v":0},0,{"$f":"SUM(J193:J194)","v":0},{"$f":"SUM(K193:K194)","v":0},{"$f":"SUM(L193:L194)","v":0},{"$f":"SUM(M193:M194)","v":0},{"$f":"SUM(N193:N194)","v":0},0,{"$f":"SUM(P193:P194)","v":0},{"$f":"SUM(Q193:Q194)","v":0},{"$f":"SUM(R193:R194)","v":0},{"$f":"SUM(S193:S194)","v":0},{"$f":"SUM(T193:T194)","v":0},0,0,null,{"$f":"SUM(X193:X194)","v":0},{"$f":"SUM(Y193:Y194)","v":0},{"$f":"SUM(Z193:Z194)","v":0},{"$f":"SUM(AA193:AA194)","v":0},{"$f":"SUM(AB193:AB194)","v":0},0,{"$f":"SUM(AD193:AD194)","v":0},{"$f":"SUM(AE193:AE194)","v":0},{"$f":"SUM(AF193:AF194)","v":0},{"$f":"SUM(AG193:AG194)","v":0},{"$f":"SUM(AH193:AH194)","v":0},0,{"$f":"SUM(AJ193:AJ194)","v":0},{"$f":"SUM(AK193:AK194)","v":0},{"$f":"SUM(AL193:AL194)","v":0},{"$f":"SUM(AM193:AM194)","v":0},{"$f":"SUM(AN193:AN194)","v":0},0,0]
["INTERPRETACION Y REPORTE PARA MICROORGANISMOS   [88312]",null,null,{"$f":"+GETPIVOTDATA(\"BAS061\",TABLAS!$A$291)","v":0},{"$f":"+GETPIVOTDATA(\"BAS062\",TABLAS!$A$291)","v":0},{"$f":"+GETPIVOTDATA(\"BAS063\",TABLAS!$A$291)","v":0},{"$f":"+GETPIVOTDATA(\"BAS064\",TABLAS!$A$291)","v":0},{"$f":"+GETPIVOTDATA(\"BAS065\",TABLAS!$A$291)","v":0},0,{"$f":"+GETPIVOTDATA(\"BAS061\",TABLAS!$A$411)","v":0},{"$f":"+GETPIVOTDATA(\"BAS062\",TABLAS!$A$411)","v":0},{"$f":"+GETPIVOTDATA(\"BAS063\",TABLAS!$A$411)","v":0},{"$f":"+GETPIVOTDATA(\"BAS064\",TABLAS!$A$411)","v":0},{"$f":"+GETPIVOTDATA(\"BAS065\",TABLAS!$A$411)","v":0},0,{"$f":"+GETPIVOTDATA(\"BAS061\",TABLAS!$A$561)","v":0},{"$f":"+GETPIVOTDATA(\"BAS062\",TABLAS!$A$561)","v":0},{"$f":"+GETPIVOTDATA(\"BAS063\",TABLAS!$A$561)","v":0},{"$f":"+GETPIVOTDATA(\"BAS064\",TABLAS!$A$561)","v":0},{"$f":"+GETPIVOTDATA(\"BAS065\",TABLAS!$A$561)","v":0},0,0,null,{"$f":"+GETPIVOTDATA(\"BAS061\",TABLAS!$A$711)","v":0},{"$f":"+GETPIVOTDATA(\"BAS062\",TABLAS!$A$711)","v":0},{"$f":"+GETPIVOTDATA(\"BAS063\",TABLAS!$A$711)","v":0},{"$f":"+GETPIVOTDATA(\"BAS064\",TABLAS!$A$711)","v":0},{"$f":"+GETPIVOTDATA(\"BAS065\",TABLAS!$A$711)","v":0},0,{"$f":"+GETPIVOTDATA(\"BAS061\",TABLAS!$A$831)","v":0},{"$f":"+GETPIVOTDATA(\"BAS062\",TABLAS!$A$831)","v":0},{"$f":"+GETPIVOTDATA(\"BAS063\",TABLAS!$A$831)","v":0},{"$f":"+GETPIVOTDATA(\"BAS064\",TABLAS!$A$831)","v":0},{"$f":"+GETPIVOTDATA(\"BAS065\",TABLAS!$A$831)","v":0},0,{"$f":"+GETPIVOTDATA(\"BAS061\",TABLAS!$A$981)","v":0},{"$f":"+GETPIVOTDATA(\"BAS062\",TABLAS!$A$981)","v":0},{"$f":"+GETPIVOTDATA(\"BAS063\",TABLAS!$A$981)","v":0},{"$f":"+GETPIVOTDATA(\"BAS064\",TABLAS!$A$981)","v":0},{"$f":"+GETPIVOTDATA(\"BAS065\",TABLAS!$A$981)","v":0},0,0,null,null,{"$f":"+AW191+1","v":61},{"$f":"+AS193+1","v":62},63,64,65,null,{"$f":"IF(AS193<=9,CONCATENATE($AS$13,$AV$13,\"00\",AS193,$AW$13),IF(AND(AS193>=10,AS193<=99),CONCATENATE($AS$13,$AV$13,\"0\",AS193,$AW$13),CONCATENATE($AS$13,$AV$13,AS193,$AW$13)))","v":"=+IMPORTARDATOSDINAMICOS(\"BAS061\",TABLAS!$A$1011)"},{"$f":"IF(AT193<=9,CONCATENATE($AS$13,$AV$13,\"00\",AT193,$AW$13),IF(AND(AT193>=10,AT193<=99),CONCATENATE($AS$13,$AV$13,\"0\",AT193,$AW$13),CONCATENATE($AS$13,$AV$13,AT193,$AW$13)))","v":"=+IMPORTARDATOSDINAMICOS(\"BAS062\",TABLAS!$A$1011)"},{"$f":"IF(AU193<=9,CONCATENATE($AS$13,$AV$13,\"00\",AU193,$AW$13),IF(AND(AU193>=10,AU193<=99),CONCATENATE($AS$13,$AV$13,\"0\",AU193,$AW$13),CONCATENATE($AS$13,$AV$13,AU193,$AW$13)))","v":"=+IMPORTARDATOSDINAMICOS(\"BAS063\",TABLAS!$A$1011)"},{"$f":"IF(AV193<=9,CONCATENATE($AS$13,$AV$13,\"00\",AV193,$AW$13),IF(AND(AV193>=10,AV193<=99),CONCATENATE($AS$13,$AV$13,\"0\",AV193,$AW$13),CONCATENATE($AS$13,$AV$13,AV193,$AW$13)))","v":"=+IMPORTARDATOSDINAMICOS(\"BAS064\",TABLAS!$A$1011)"},{"$f":"IF(AW193<=9,CONCATENATE($AS$13,$AV$13,\"00\",AW193,$AW$13),IF(AND(AW193>=10,AW193<=99),CONCATENATE($AS$13,$AV$13,\"0\",AW193,$AW$13),CONCATENATE($AS$13,$AV$13,AW193,$AW$13)))","v":"=+IMPORTARDATOSDINAMICOS(\"BAS065\",TABLAS!$A$1011)"}]
["INTERPRETACION Y REPORTE EXCEPTO PARA MICROORGANISMOS   [88313]",null,null,{"$f":"+GETPIVOTDATA(\"BAS066\",TABLAS!$A$291)","v":0},{"$f":"+GETPIVOTDATA(\"BAS067\",TABLAS!$A$291)","v":0},{"$f":"+GETPIVOTDATA(\"BAS068\",TABLAS!$A$291)","v":0},{"$f":"+GETPIVOTDATA(\"BAS069\",TABLAS!$A$291)","v":0},{"$f":"+GETPIVOTDATA(\"BAS070\",TABLAS!$A$291)","v":0},0,{"$f":"+GETPIVOTDATA(\"BAS066\",TABLAS!$A$411)","v":0},{"$f":"+GETPIVOTDATA(\"BAS067\",TABLAS!$A$411)","v":0},{"$f":"+GETPIVOTDATA(\"BAS068\",TABLAS!$A$411)","v":0},{"$f":"+GETPIVOTDATA(\"BAS069\",TABLAS!$A$411)","v":0},{"$f":"+GETPIVOTDATA(\"BAS070\",TABLAS!$A$411)","v":0},0,{"$f":"+GETPIVOTDATA(\"BAS066\",TABLAS!$A$561)","v":0},{"$f":"+GETPIVOTDATA(\"BAS067\",TABLAS!$A$561)","v":0},{"$f":"+GETPIVOTDATA(\"BAS068\",TABLAS!$A$561)","v":0},{"$f":"+GETPIVOTDATA(\"BAS069\",TABLAS!$A$561)","v":0},{"$f":"+GETPIVOTDATA(\"BAS070\",TABLAS!$A$561)","v":0},0,0,null,{"$f":"+GETPIVOTDATA(\"BAS066\",TABLAS!$A$711)","v":0},{"$f":"+GETPIVOTDATA(\"BAS067\",TABLAS!$A$711)","v":0},{"$f":"+GETPIVOTDATA(\"BAS068\",TABLAS!$A$711)","v":0},{"$f":"+GETPIVOTDATA(\"BAS069\",TABLAS!$A$711)","v":0},{"$f":"+GETPIVOTDATA(\"BAS070\",TABLAS!$A$711)","v":0},0,{"$f":"+GETPIVOTDATA(\"BAS066\",TABLAS!$A$831)","v":0},{"$f":"+GETPIVOTDATA(\"BAS067\",TABLAS!$A$831)","v":0},{"$f":"+GETPIVOTDATA(\"BAS068\",TABLAS!$A$831)","v":0},{"$f":"+GETPIVOTDATA(\"BAS069\",TABLAS!$A$831)","v":0},{"$f":"+GETPIVOTDATA(\"BAS070\",TABLAS!$A$831)","v":0},0,{"$f":"+GETPIVOTDATA(\"BAS066\",TABLAS!$A$981)","v":0},{"$f":"+GETPIVOTDATA(\"BAS067\",TABLAS!$A$981)","v":0},{"$f":"+GETPIVOTDATA(\"BAS068\",TABLAS!$A$981)","v":0},{"$f":"+GETPIVOTDATA(\"BAS069\",TABLAS!$A$981)","v":0},{"$f":"+GETPIVOTDATA(\"BAS070\",TABLAS!$A$981)","v":0},0,0,null,null,{"$f":"+AW193+1","v":66},{"$f":"+AS194+1","v":67},68,69,70,null,"=+IMPORTARDATOSDINAMICOS(\"BAS066\",TABLAS!$A$1011)","=+IMPORTARDATOSDINAMICOS(\"BAS067\",TABLAS!$A$1011)","=+IMPORTARDATOSDINAMICOS(\"BAS068\",TABLAS!$A$1011)","=+IMPORTARDATOSDINAMICOS(\"BAS069\",TABLAS!$A$1011)","=+IMPORTARDATOSDINAMICOS(\"BAS070\",TABLAS!$A$1011)"]
["INMUNOHISTOQUIMICA",null,null,{"$f":"D196","v":0},{"$f":"E196","v":0},{"$f":"F196","v":0},{"$f":"G196","v":0},{"$f":"H196","v":0},0,{"$f":"J196","v":0},{"$f":"K196","v":0},{"$f":"L196","v":0},{"$f":"M196","v":0},{"$f":"N196","v":0},0,{"$f":"P196","v":0},{"$f":"Q196","v":0},{"$f":"R196","v":0},{"$f":"S196","v":0},{"$f":"T196","v":0},0,0,null,{"$f":"X196","v":0},{"$f":"Y196","v":0},{"$f":"Z196","v":0},{"$f":"AA196","v":0},{"$f":"AB196","v":0},0,{"$f":"AD196","v":0},{"$f":"AE196","v":0},{"$f":"AF196","v":0},{"$f":"AG196","v":0},{"$f":"AH196","v":0},0,{"$f":"AJ196","v":0},{"$f":"AK196","v":0},{"$f":"AL196","v":0},{"$f":"AM196","v":0},{"$f":"AN196","v":0},0,0]
["CADA ANTICUERPO IDENTIFICABLE POR SEPARADO   [88342]",null,null,{"$f":"+GETPIVOTDATA(\"BAS071\",TABLAS!$A$291)","v":0},{"$f":"+GETPIVOTDATA(\"BAS072\",TABLAS!$A$291)","v":0},{"$f":"+GETPIVOTDATA(\"BAS073\",TABLAS!$A$291)","v":0},{"$f":"+GETPIVOTDATA(\"BAS074\",TABLAS!$A$291)","v":0},{"$f":"+GETPIVOTDATA(\"BAS075\",TABLAS!$A$291)","v":0},0,{"$f":"+GETPIVOTDATA(\"BAS071\",TABLAS!$A$411)","v":0},{"$f":"+GETPIVOTDATA(\"BAS072\",TABLAS!$A$411)","v":0},{"$f":"+GETPIVOTDATA(\"BAS073\",TABLAS!$A$411)","v":0},{"$f":"+GETPIVOTDATA(\"BAS074\",TABLAS!$A$411)","v":0},{"$f":"+GETPIVOTDATA(\"BAS075\",TABLAS!$A$411)","v":0},0,{"$f":"+GETPIVOTDATA(\"BAS071\",TABLAS!$A$561)","v":0},{"$f":"+GETPIVOTDATA(\"BAS072\",TABLAS!$A$561)","v":0},{"$f":"+GETPIVOTDATA(\"BAS073\",TABLAS!$A$561)","v":0},{"$f":"+GETPIVOTDATA(\"BAS074\",TABLAS!$A$561)","v":0},{"$f":"+GETPIVOTDATA(\"BAS075\",TABLAS!$A$561)","v":0},0,0,null,{"$f":"+GETPIVOTDATA(\"BAS071\",TABLAS!$A$711)","v":0},{"$f":"+GETPIVOTDATA(\"BAS072\",TABLAS!$A$711)","v":0},{"$f":"+GETPIVOTDATA(\"BAS073\",TABLAS!$A$711)","v":0},{"$f":"+GETPIVOTDATA(\"BAS074\",TABLAS!$A$711)","v":0},{"$f":"+GETPIVOTDATA(\"BAS075\",TABLAS!$A$711)","v":0},0,{"$f":"+GETPIVOTDATA(\"BAS071\",TABLAS!$A$831)","v":0},{"$f":"+GETPIVOTDATA(\"BAS072\",TABLAS!$A$831)","v":0},{"$f":"+GETPIVOTDATA(\"BAS073\",TABLAS!$A$831)","v":0},{"$f":"+GETPIVOTDATA(\"BAS074\",TABLAS!$A$831)","v":0},{"$f":"+GETPIVOTDATA(\"BAS075\",TABLAS!$A$831)","v":0},0,{"$f":"+GETPIVOTDATA(\"BAS071\",TABLAS!$A$981)","v":0},{"$f":"+GETPIVOTDATA(\"BAS072\",TABLAS!$A$981)","v":0},{"$f":"+GETPIVOTDATA(\"BAS073\",TABLAS!$A$981)","v":0},{"$f":"+GETPIVOTDATA(\"BAS074\",TABLAS!$A$981)","v":0},{"$f":"+GETPIVOTDATA(\"BAS075\",TABLAS!$A$981)","v":0},0,0,null,null,{"$f":"+AW194+1","v":71},{"$f":"+AS196+1","v":72},73,74,75,null,{"$f":"IF(AS196<=9,CONCATENATE($AS$13,$AV$13,\"00\",AS196,$AW$13),IF(AND(AS196>=10,AS196<=99),CONCATENATE($AS$13,$AV$13,\"0\",AS196,$AW$13),CONCATENATE($AS$13,$AV$13,AS196,$AW$13)))","v":"=+IMPORTARDATOSDINAMICOS(\"BAS071\",TABLAS!$A$1011)"},{"$f":"IF(AT196<=9,CONCATENATE($AS$13,$AV$13,\"00\",AT196,$AW$13),IF(AND(AT196>=10,AT196<=99),CONCATENATE($AS$13,$AV$13,\"0\",AT196,$AW$13),CONCATENATE($AS$13,$AV$13,AT196,$AW$13)))","v":"=+IMPORTARDATOSDINAMICOS(\"BAS072\",TABLAS!$A$1011)"},{"$f":"IF(AU196<=9,CONCATENATE($AS$13,$AV$13,\"00\",AU196,$AW$13),IF(AND(AU196>=10,AU196<=99),CONCATENATE($AS$13,$AV$13,\"0\",AU196,$AW$13),CONCATENATE($AS$13,$AV$13,AU196,$AW$13)))","v":"=+IMPORTARDATOSDINAMICOS(\"BAS073\",TABLAS!$A$1011)"},{"$f":"IF(AV196<=9,CONCATENATE($AS$13,$AV$13,\"00\",AV196,$AW$13),IF(AND(AV196>=10,AV196<=99),CONCATENATE($AS$13,$AV$13,\"0\",AV196,$AW$13),CONCATENATE($AS$13,$AV$13,AV196,$AW$13)))","v":"=+IMPORTARDATOSDINAMICOS(\"BAS074\",TABLAS!$A$1011)"},{"$f":"IF(AW196<=9,CONCATENATE($AS$13,$AV$13,\"00\",AW196,$AW$13),IF(AND(AW196>=10,AW196<=99),CONCATENATE($AS$13,$AV$13,\"0\",AW196,$AW$13),CONCATENATE($AS$13,$AV$13,AW196,$AW$13)))","v":"=+IMPORTARDATOSDINAMICOS(\"BAS075\",TABLAS!$A$1011)"}]
["IMPRONTA",null,null,{"$f":"SUM(D198:D199)","v":0},{"$f":"SUM(E198:E199)","v":0},{"$f":"SUM(F198:F199)","v":0},{"$f":"SUM(G198:G199)","v":0},{"$f":"SUM(H198:H199)","v":0},0,{"$f":"SUM(J198:J199)","v":0},{"$f":"SUM(K198:K199)","v":0},{"$f":"SUM(L198:L199)","v":0},{"$f":"SUM(M198:M199)","v":0},{"$f":"SUM(N198:N199)","v":0},0,{"$f":"SUM(P198:P199)","v":0},{"$f":"SUM(Q198:Q199)","v":0},{"$f":"SUM(R198:R199)","v":0},{"$f":"SUM(S198:S199)","v":0},{"$f":"SUM(T198:T199)","v":0},0,0,null,{"$f":"SUM(X198:X199)","v":0},{"$f":"SUM(Y198:Y199)","v":0},{"$f":"SUM(Z198:Z199)","v":0},{"$f":"SUM(AA198:AA199)","v":0},{"$f":"SUM(AB198:AB199)","v":0},0,{"$f":"SUM(AD198:AD199)","v":0},{"$f":"SUM(AE198:AE199)","v":0},{"$f":"SUM(AF198:AF199)","v":0},{"$f":"SUM(AG198:AG199)","v":0},{"$f":"SUM(AH198:AH199)","v":0},0,{"$f":"SUM(AJ198:AJ199)","v":0},{"$f":"SUM(AK198:AK199)","v":0},{"$f":"SUM(AL198:AL199)","v":0},{"$f":"SUM(AM198:AM199)","v":0},{"$f":"SUM(AN198:AN199)","v":0},0,0]
["IMPRONTA DE CONTACTO   [88333]",null,null,{"$f":"+GETPIVOTDATA(\"BAS076\",TABLAS!$A$291)","v":0},{"$f":"+GETPIVOTDATA(\"BAS077\",TABLAS!$A$291)","v":0},{"$f":"+GETPIVOTDATA(\"BAS078\",TABLAS!$A$291)","v":0},{"$f":"+GETPIVOTDATA(\"BAS079\",TABLAS!$A$291)","v":0},{"$f":"+GETPIVOTDATA(\"BAS080\",TABLAS!$A$291)","v":0},0,{"$f":"+GETPIVOTDATA(\"BAS076\",TABLAS!$A$411)","v":0},{"$f":"+GETPIVOTDATA(\"BAS077\",TABLAS!$A$411)","v":0},{"$f":"+GETPIVOTDATA(\"BAS078\",TABLAS!$A$411)","v":0},{"$f":"+GETPIVOTDATA(\"BAS079\",TABLAS!$A$411)","v":0},{"$f":"+GETPIVOTDATA(\"BAS080\",TABLAS!$A$411)","v":0},0,{"$f":"+GETPIVOTDATA(\"BAS076\",TABLAS!$A$561)","v":0},{"$f":"+GETPIVOTDATA(\"BAS077\",TABLAS!$A$561)","v":0},{"$f":"+GETPIVOTDATA(\"BAS078\",TABLAS!$A$561)","v":0},{"$f":"+GETPIVOTDATA(\"BAS079\",TABLAS!$A$561)","v":0},{"$f":"+GETPIVOTDATA(\"BAS080\",TABLAS!$A$561)","v":0},0,0,null,{"$f":"+GETPIVOTDATA(\"BAS076\",TABLAS!$A$711)","v":0},{"$f":"+GETPIVOTDATA(\"BAS077\",TABLAS!$A$711)","v":0},{"$f":"+GETPIVOTDATA(\"BAS078\",TABLAS!$A$711)","v":0},{"$f":"+GETPIVOTDATA(\"BAS079\",TABLAS!$A$711)","v":0},{"$f":"+GETPIVOTDATA(\"BAS080\",TABLAS!$A$711)","v":0},0,{"$f":"+GETPIVOTDATA(\"BAS076\",TABLAS!$A$831)","v":0},{"$f":"+GETPIVOTDATA(\"BAS077\",TABLAS!$A$831)","v":0},{"$f":"+GETPIVOTDATA(\"BAS078\",TABLAS!$A$831)","v":0},{"$f":"+GETPIVOTDATA(\"BAS079\",TABLAS!$A$831)","v":0},{"$f":"+GETPIVOTDATA(\"BAS080\",TABLAS!$A$831)","v":0},0,{"$f":"+GETPIVOTDATA(\"BAS076\",TABLAS!$A$981)","v":0},{"$f":"+GETPIVOTDATA(\"BAS077\",TABLAS!$A$981)","v":0},{"$f":"+GETPIVOTDATA(\"BAS078\",TABLAS!$A$981)","v":0},{"$f":"+GETPIVOTDATA(\"BAS079\",TABLAS!$A$981)","v":0},{"$f":"+GETPIVOTDATA(\"BAS080\",TABLAS!$A$981)","v":0},0,0,null,null,{"$f":"+AW196+1","v":76},{"$f":"+AS198+1","v":77},78,79,80,null,{"$f":"IF(AS198<=9,CONCATENATE($AS$13,$AV$13,\"00\",AS198,$AW$13),IF(AND(AS198>=10,AS198<=99),CONCATENATE($AS$13,$AV$13,\"0\",AS198,$AW$13),CONCATENATE($AS$13,$AV$13,AS198,$AW$13)))","v":"=+IMPORTARDATOSDINAMICOS(\"BAS076\",TABLAS!$A$1011)"},{"$f":"IF(AT198<=9,CONCATENATE($AS$13,$AV$13,\"00\",AT198,$AW$13),IF(AND(AT198>=10,AT198<=99),CONCATENATE($AS$13,$AV$13,\"0\",AT198,$AW$13),CONCATENATE($AS$13,$AV$13,AT198,$AW$13)))","v":"=+IMPORTARDATOSDINAMICOS(\"BAS077\",TABLAS!$A$1011)"},{"$f":"IF(AU198<=9,CONCATENATE($AS$13,$AV$13,\"00\",AU198,$AW$13),IF(AND(AU198>=10,AU198<=99),CONCATENATE($AS$13,$AV$13,\"0\",AU198,$AW$13),CONCATENATE($AS$13,$AV$13,AU198,$AW$13)))","v":"=+IMPORTARDATOSDINAMICOS(\"BAS078\",TABLAS!$A$1011)"},{"$f":"IF(AV198<=9,CONCATENATE($AS$13,$AV$13,\"00\",AV198,$AW$13),IF(AND(AV198>=10,AV198<=99),CONCATENATE($AS$13,$AV$13,\"0\",AV198,$AW$13),CONCATENATE($AS$13,$AV$13,AV198,$AW$13)))","v":"=+IMPORTARDATOSDINAMICOS(\"BAS079\",TABLAS!$A$1011)"},{"$f":"IF(AW198<=9,CONCATENATE($AS$13,$AV$13,\"00\",AW198,$AW$13),IF(AND(AW198>=10,AW198<=99),CONCATENATE($AS$13,$AV$13,\"0\",AW198,$AW$13),CONCATENATE($AS$13,$AV$13,AW198,$AW$13)))","v":"=+IMPORTARDATOSDINAMICOS(\"BAS080\",TABLAS!$A$1011)"}]
["PROCEDIMIENTO DE PATOLOGIA QUIRURGICA QUE NO APARECE EN LISTA   [88399]",null,null,{"$f":"+GETPIVOTDATA(\"BAS081\",TABLAS!$A$291)","v":0},{"$f":"+GETPIVOTDATA(\"BAS082\",TABLAS!$A$291)","v":0},{"$f":"+GETPIVOTDATA(\"BAS083\",TABLAS!$A$291)","v":0},{"$f":"+GETPIVOTDATA(\"BAS084\",TABLAS!$A$291)","v":0},{"$f":"+GETPIVOTDATA(\"BAS085\",TABLAS!$A$291)","v":0},0,{"$f":"+GETPIVOTDATA(\"BAS081\",TABLAS!$A$411)","v":0},{"$f":"+GETPIVOTDATA(\"BAS082\",TABLAS!$A$411)","v":0},{"$f":"+GETPIVOTDATA(\"BAS083\",TABLAS!$A$411)","v":0},{"$f":"+GETPIVOTDATA(\"BAS084\",TABLAS!$A$411)","v":0},{"$f":"+GETPIVOTDATA(\"BAS085\",TABLAS!$A$411)","v":0},0,{"$f":"+GETPIVOTDATA(\"BAS081\",TABLAS!$A$561)","v":0},{"$f":"+GETPIVOTDATA(\"BAS082\",TABLAS!$A$561)","v":0},{"$f":"+GETPIVOTDATA(\"BAS083\",TABLAS!$A$561)","v":0},{"$f":"+GETPIVOTDATA(\"BAS084\",TABLAS!$A$561)","v":0},{"$f":"+GETPIVOTDATA(\"BAS085\",TABLAS!$A$561)","v":0},0,0,null,{"$f":"+GETPIVOTDATA(\"BAS081\",TABLAS!$A$711)","v":0},{"$f":"+GETPIVOTDATA(\"BAS082\",TABLAS!$A$711)","v":0},{"$f":"+GETPIVOTDATA(\"BAS083\",TABLAS!$A$711)","v":0},{"$f":"+GETPIVOTDATA(\"BAS084\",TABLAS!$A$711)","v":0},{"$f":"+GETPIVOTDATA(\"BAS085\",TABLAS!$A$711)","v":0},0,{"$f":"+GETPIVOTDATA(\"BAS081\",TABLAS!$A$831)","v":0},{"$f":"+GETPIVOTDATA(\"BAS082\",TABLAS!$A$831)","v":0},{"$f":"+GETPIVOTDATA(\"BAS083\",TABLAS!$A$831)","v":0},{"$f":"+GETPIVOTDATA(\"BAS084\",TABLAS!$A$831)","v":0},{"$f":"+GETPIVOTDATA(\"BAS085\",TABLAS!$A$831)","v":0},0,{"$f":"+GETPIVOTDATA(\"BAS081\",TABLAS!$A$981)","v":0},{"$f":"+GETPIVOTDATA(\"BAS082\",TABLAS!$A$981)","v":0},{"$f":"+GETPIVOTDATA(\"BAS083\",TABLAS!$A$981)","v":0},{"$f":"+GETPIVOTDATA(\"BAS084\",TABLAS!$A$981)","v":0},{"$f":"+GETPIVOTDATA(\"BAS085\",TABLAS!$A$981)","v":0},0,0,null,null,{"$f":"+AW198+1","v":81},{"$f":"+AS199+1","v":82},83,84,85,null,"=+IMPORTARDATOSDINAMICOS(\"BAS081\",TABLAS!$A$1011)","=+IMPORTARDATOSDINAMICOS(\"BAS082\",TABLAS!$A$1011)","=+IMPORTARDATOSDINAMICOS(\"BAS083\",TABLAS!$A$1011)","=+IMPORTARDATOSDINAMICOS(\"BAS084\",TABLAS!$A$1011)","=+IMPORTARDATOSDINAMICOS(\"BAS085\",TABLAS!$A$1011)"]
["CITOPATOLOGIA",null,null,null,null,null,null,null,0,null,null,null,null,null,0,null,null,null,null,null,0,0,null,null,null,null,null,null,0,null,null,null,null,null,0,null,null,null,null,null,0,0]
["CITOLOGIA CERVICAL O VAGINAL SISTEMA BETHESDA",null,null,{"$f":"SUM(D202:D204)","v":0},{"$f":"SUM(E202:E204)","v":0},{"$f":"SUM(F202:F204)","v":0},{"$f":"SUM(G202:G204)","v":0},{"$f":"SUM(H202:H204)","v":0},0,{"$f":"SUM(J202:J204)","v":0},{"$f":"SUM(K202:K204)","v":0},{"$f":"SUM(L202:L204)","v":0},{"$f":"SUM(M202:M204)","v":0},{"$f":"SUM(N202:N204)","v":0},0,{"$f":"SUM(P202:P204)","v":0},{"$f":"SUM(Q202:Q204)","v":0},{"$f":"SUM(R202:R204)","v":0},{"$f":"SUM(S202:S204)","v":0},{"$f":"SUM(T202:T204)","v":0},0,0,null,{"$f":"SUM(X202:X204)","v":0},{"$f":"SUM(Y202:Y204)","v":0},{"$f":"SUM(Z202:Z204)","v":0},{"$f":"SUM(AA202:AA204)","v":0},{"$f":"SUM(AB202:AB204)","v":0},0,{"$f":"SUM(AD202:AD204)","v":0},{"$f":"SUM(AE202:AE204)","v":0},{"$f":"SUM(AF202:AF204)","v":0},{"$f":"SUM(AG202:AG204)","v":0},{"$f":"SUM(AH202:AH204)","v":0},0,{"$f":"SUM(AJ202:AJ204)","v":0},{"$f":"SUM(AK202:AK204)","v":0},{"$f":"SUM(AL202:AL204)","v":0},{"$f":"SUM(AM202:AM204)","v":0},{"$f":"SUM(AN202:AN204)","v":0},0,0]
["TAMISAJE MANUAL SUPERVISADO POR EL MEDICO   [88164]",null,null,{"$f":"+GETPIVOTDATA(\"BAS086\",TABLAS!$A$291)","v":0},{"$f":"+GETPIVOTDATA(\"BAS087\",TABLAS!$A$291)","v":0},{"$f":"+GETPIVOTDATA(\"BAS088\",TABLAS!$A$291)","v":0},{"$f":"+GETPIVOTDATA(\"BAS089\",TABLAS!$A$291)","v":0},{"$f":"+GETPIVOTDATA(\"BAS090\",TABLAS!$A$291)","v":0},0,{"$f":"+GETPIVOTDATA(\"BAS086\",TABLAS!$A$411)","v":0},{"$f":"+GETPIVOTDATA(\"BAS087\",TABLAS!$A$411)","v":0},{"$f":"+GETPIVOTDATA(\"BAS088\",TABLAS!$A$411)","v":0},{"$f":"+GETPIVOTDATA(\"BAS089\",TABLAS!$A$411)","v":0},{"$f":"+GETPIVOTDATA(\"BAS090\",TABLAS!$A$411)","v":0},0,{"$f":"+GETPIVOTDATA(\"BAS086\",TABLAS!$A$561)","v":0},{"$f":"+GETPIVOTDATA(\"BAS087\",TABLAS!$A$561)","v":0},{"$f":"+GETPIVOTDATA(\"BAS088\",TABLAS!$A$561)","v":0},{"$f":"+GETPIVOTDATA(\"BAS089\",TABLAS!$A$561)","v":0},{"$f":"+GETPIVOTDATA(\"BAS090\",TABLAS!$A$561)","v":0},0,0,null,{"$f":"+GETPIVOTDATA(\"BAS086\",TABLAS!$A$711)","v":0},{"$f":"+GETPIVOTDATA(\"BAS087\",TABLAS!$A$711)","v":0},{"$f":"+GETPIVOTDATA(\"BAS088\",TABLAS!$A$711)","v":0},{"$f":"+GETPIVOTDATA(\"BAS089\",TABLAS!$A$711)","v":0},{"$f":"+GETPIVOTDATA(\"BAS090\",TABLAS!$A$711)","v":0},0,{"$f":"+GETPIVOTDATA(\"BAS086\",TABLAS!$A$831)","v":0},{"$f":"+GETPIVOTDATA(\"BAS087\",TABLAS!$A$831)","v":0},{"$f":"+GETPIVOTDATA(\"BAS088\",TABLAS!$A$831)","v":0},{"$f":"+GETPIVOTDATA(\"BAS089\",TABLAS!$A$831)","v":0},{"$f":"+GETPIVOTDATA(\"BAS090\",TABLAS!$A$831)","v":0},0,{"$f":"+GETPIVOTDATA(\"BAS086\",TABLAS!$A$981)","v":0},{"$f":"+GETPIVOTDATA(\"BAS087\",TABLAS!$A$981)","v":0},{"$f":"+GETPIVOTDATA(\"BAS088\",TABLAS!$A$981)","v":0},{"$f":"+GETPIVOTDATA(\"BAS089\",TABLAS!$A$981)","v":0},{"$f":"+GETPIVOTDATA(\"BAS090\",TABLAS!$A$981)","v":0},0,0,null,null,{"$f":"+AW199+1","v":86},{"$f":"+AS202+1","v":87},88,89,90,null,{"$f":"IF(AS202<=9,CONCATENATE($AS$13,$AV$13,\"00\",AS202,$AW$13),IF(AND(AS202>=10,AS202<=99),CONCATENATE($AS$13,$AV$13,\"0\",AS202,$AW$13),CONCATENATE($AS$13,$AV$13,AS202,$AW$13)))","v":"=+IMPORTARDATOSDINAMICOS(\"BAS086\",TABLAS!$A$1011)"},{"$f":"IF(AT202<=9,CONCATENATE($AS$13,$AV$13,\"00\",AT202,$AW$13),IF(AND(AT202>=10,AT202<=99),CONCATENATE($AS$13,$AV$13,\"0\",AT202,$AW$13),CONCATENATE($AS$13,$AV$13,AT202,$AW$13)))","v":"=+IMPORTARDATOSDINAMICOS(\"BAS087\",TABLAS!$A$1011)"},{"$f":"IF(AU202<=9,CONCATENATE($AS$13,$AV$13,\"00\",AU202,$AW$13),IF(AND(AU202>=10,AU202<=99),CONCATENATE($AS$13,$AV$13,\"0\",AU202,$AW$13),CONCATENATE($AS$13,$AV$13,AU202,$AW$13)))","v":"=+IMPORTARDATOSDINAMICOS(\"BAS088\",TABLAS!$A$1011)"},{"$f":"IF(AV202<=9,CONCATENATE($AS$13,$AV$13,\"00\",AV202,$AW$13),IF(AND(AV202>=10,AV202<=99),CONCATENATE($AS$13,$AV$13,\"0\",AV202,$AW$13),CONCATENATE($AS$13,$AV$13,AV202,$AW$13)))","v":"=+IMPORTARDATOSDINAMICOS(\"BAS089\",TABLAS!$A$1011)"},{"$f":"IF(AW202<=9,CONCATENATE($AS$13,$AV$13,\"00\",AW202,$AW$13),IF(AND(AW202>=10,AW202<=99),CONCATENATE($AS$13,$AV$13,\"0\",AW202,$AW$13),CONCATENATE($AS$13,$AV$13,AW202,$AW$13)))","v":"=+IMPORTARDATOSDINAMICOS(\"BAS090\",TABLAS!$A$1011)"}]
["TAMIZAJE MANUAL Y RETAMIZAJE SUPERVISADO  X MEDICO   [88165]",null,null,{"$f":"+GETPIVOTDATA(\"BAS091\",TABLAS!$A$291)","v":0},{"$f":"+GETPIVOTDATA(\"BAS092\",TABLAS!$A$291)","v":0},{"$f":"+GETPIVOTDATA(\"BAS093\",TABLAS!$A$291)","v":0},{"$f":"+GETPIVOTDATA(\"BAS094\",TABLAS!$A$291)","v":0},{"$f":"+GETPIVOTDATA(\"BAS095\",TABLAS!$A$291)","v":0},0,{"$f":"+GETPIVOTDATA(\"BAS091\",TABLAS!$A$411)","v":0},{"$f":"+GETPIVOTDATA(\"BAS092\",TABLAS!$A$411)","v":0},{"$f":"+GETPIVOTDATA(\"BAS093\",TABLAS!$A$411)","v":0},{"$f":"+GETPIVOTDATA(\"BAS094\",TABLAS!$A$411)","v":0},{"$f":"+GETPIVOTDATA(\"BAS095\",TABLAS!$A$411)","v":0},0,{"$f":"+GETPIVOTDATA(\"BAS091\",TABLAS!$A$561)","v":0},{"$f":"+GETPIVOTDATA(\"BAS092\",TABLAS!$A$561)","v":0},{"$f":"+GETPIVOTDATA(\"BAS093\",TABLAS!$A$561)","v":0},{"$f":"+GETPIVOTDATA(\"BAS094\",TABLAS!$A$561)","v":0},{"$f":"+GETPIVOTDATA(\"BAS095\",TABLAS!$A$561)","v":0},0,0,null,{"$f":"+GETPIVOTDATA(\"BAS091\",TABLAS!$A$711)","v":0},{"$f":"+GETPIVOTDATA(\"BAS092\",TABLAS!$A$711)","v":0},{"$f":"+GETPIVOTDATA(\"BAS093\",TABLAS!$A$711)","v":0},{"$f":"+GETPIVOTDATA(\"BAS094\",TABLAS!$A$711)","v":0},{"$f":"+GETPIVOTDATA(\"BAS095\",TABLAS!$A$711)","v":0},0,{"$f":"+GETPIVOTDATA(\"BAS091\",TABLAS!$A$831)","v":0},{"$f":"+GETPIVOTDATA(\"BAS092\",TABLAS!$A$831)","v":0},{"$f":"+GETPIVOTDATA(\"BAS093\",TABLAS!$A$831)","v":0},{"$f":"+GETPIVOTDATA(\"BAS094\",TABLAS!$A$831)","v":0},{"$f":"+GETPIVOTDATA(\"BAS095\",TABLAS!$A$831)","v":0},0,{"$f":"+GETPIVOTDATA(\"BAS091\",TABLAS!$A$981)","v":0},{"$f":"+GETPIVOTDATA(\"BAS092\",TABLAS!$A$981)","v":0},{"$f":"+GETPIVOTDATA(\"BAS093\",TABLAS!$A$981)","v":0},{"$f":"+GETPIVOTDATA(\"BAS094\",TABLAS!$A$981)","v":0},{"$f":"+GETPIVOTDATA(\"BAS095\",TABLAS!$A$981)","v":0},0,0,null,null,{"$f":"+AW202+1","v":91},{"$f":"+AS203+1","v":92},93,94,95,null,"=+IMPORTARDATOSDINAMICOS(\"BAS091\",TABLAS!$A$1011)","=+IMPORTARDATOSDINAMICOS(\"BAS092\",TABLAS!$A$1011)","=+IMPORTARDATOSDINAMICOS(\"BAS093\",TABLAS!$A$1011)","=+IMPORTARDATOSDINAMICOS(\"BAS094\",TABLAS!$A$1011)","=+IMPORTARDATOSDINAMICOS(\"BAS095\",TABLAS!$A$1011)"]
["INTERPRETACION POR UN MEDICO (CUALQUIER SISTEMA DE INFORMACION   [88141]",null,null,{"$f":"+GETPIVOTDATA(\"BAS096\",TABLAS!$A$291)","v":0},{"$f":"+GETPIVOTDATA(\"BAS097\",TABLAS!$A$291)","v":0},{"$f":"+GETPIVOTDATA(\"BAS098\",TABLAS!$A$291)","v":0},{"$f":"+GETPIVOTDATA(\"BAS099\",TABLAS!$A$291)","v":0},{"$f":"+GETPIVOTDATA(\"BAS100\",TABLAS!$A$291)","v":0},0,{"$f":"+GETPIVOTDATA(\"BAS096\",TABLAS!$A$411)","v":0},{"$f":"+GETPIVOTDATA(\"BAS097\",TABLAS!$A$411)","v":0},{"$f":"+GETPIVOTDATA(\"BAS098\",TABLAS!$A$411)","v":0},{"$f":"+GETPIVOTDATA(\"BAS099\",TABLAS!$A$411)","v":0},{"$f":"+GETPIVOTDATA(\"BAS100\",TABLAS!$A$411)","v":0},0,{"$f":"+GETPIVOTDATA(\"BAS096\",TABLAS!$A$561)","v":0},{"$f":"+GETPIVOTDATA(\"BAS097\",TABLAS!$A$561)","v":0},{"$f":"+GETPIVOTDATA(\"BAS098\",TABLAS!$A$561)","v":0},{"$f":"+GETPIVOTDATA(\"BAS099\",TABLAS!$A$561)","v":0},{"$f":"+GETPIVOTDATA(\"BAS100\",TABLAS!$A$561)","v":0},0,0,null,{"$f":"+GETPIVOTDATA(\"BAS096\",TABLAS!$A$711)","v":0},{"$f":"+GETPIVOTDATA(\"BAS097\",TABLAS!$A$711)","v":0},{"$f":"+GETPIVOTDATA(\"BAS098\",TABLAS!$A$711)","v":0},{"$f":"+GETPIVOTDATA(\"BAS099\",TABLAS!$A$711)","v":0},{"$f":"+GETPIVOTDATA(\"BAS100\",TABLAS!$A$711)","v":0},0,{"$f":"+GETPIVOTDATA(\"BAS096\",TABLAS!$A$831)","v":0},{"$f":"+GETPIVOTDATA(\"BAS097\",TABLAS!$A$831)","v":0},{"$f":"+GETPIVOTDATA(\"BAS098\",TABLAS!$A$831)","v":0},{"$f":"+GETPIVOTDATA(\"BAS099\",TABLAS!$A$831)","v":0},{"$f":"+GETPIVOTDATA(\"BAS100\",TABLAS!$A$831)","v":0},0,{"$f":"+GETPIVOTDATA(\"BAS096\",TABLAS!$A$981)","v":0},{"$f":"+GETPIVOTDATA(\"BAS097\",TABLAS!$A$981)","v":0},{"$f":"+GETPIVOTDATA(\"BAS098\",TABLAS!$A$981)","v":0},{"$f":"+GETPIVOTDATA(\"BAS099\",TABLAS!$A$981)","v":0},{"$f":"+GETPIVOTDATA(\"BAS100\",TABLAS!$A$981)","v":0},0,0,null,null,{"$f":"+AW203+1","v":96},97,98,99,100,null,"=+IMPORTARDATOSDINAMICOS(\"BAS096\",TABLAS!$A$1011)","=+IMPORTARDATOSDINAMICOS(\"BAS097\",TABLAS!$A$1011)","=+IMPORTARDATOSDINAMICOS(\"BAS098\",TABLAS!$A$1011)","=+IMPORTARDATOSDINAMICOS(\"BAS099\",TABLAS!$A$1011)","=+IMPORTARDATOSDINAMICOS(\"BAS100\",TABLAS!$A$1011)"]
["CITOLOGIA DE  LIQUIDOS, LAVADOS O CEPILLADOS",null,null,{"$f":"SUM(D206:D208)","v":0},{"$f":"SUM(E206:E208)","v":0},{"$f":"SUM(F206:F208)","v":0},{"$f":"SUM(G206:G208)","v":0},{"$f":"SUM(H206:H208)","v":0},0,{"$f":"SUM(J206:J208)","v":0},{"$f":"SUM(K206:K208)","v":0},{"$f":"SUM(L206:L208)","v":0},{"$f":"SUM(M206:M208)","v":0},{"$f":"SUM(N206:N208)","v":0},0,{"$f":"SUM(P206:P208)","v":0},{"$f":"SUM(Q206:Q208)","v":0},{"$f":"SUM(R206:R208)","v":0},{"$f":"SUM(S206:S208)","v":0},{"$f":"SUM(T206:T208)","v":0},0,0,null,{"$f":"SUM(X206:X208)","v":0},{"$f":"SUM(Y206:Y208)","v":0},{"$f":"SUM(Z206:Z208)","v":0},{"$f":"SUM(AA206:AA208)","v":0},{"$f":"SUM(AB206:AB208)","v":0},0,{"$f":"SUM(AD206:AD208)","v":0},{"$f":"SUM(AE206:AE208)","v":0},{"$f":"SUM(AF206:AF208)","v":0},{"$f":"SUM(AG206:AG208)","v":0},{"$f":"SUM(AH206:AH208)","v":0},0,{"$f":"SUM(AJ206:AJ208)","v":0},{"$f":"SUM(AK206:AK208)","v":0},{"$f":"SUM(AL206:AL208)","v":0},{"$f":"SUM(AM206:AM208)","v":0},{"$f":"SUM(AN206:AN208)","v":0},0,0]
["EXTENDIDOS CON INTERPRETACION (LAMINAS)   [88104]",null,null,{"$f":"+GETPIVOTDATA(\"BAS101\",TABLAS!$A$291)","v":0},{"$f":"+GETPIVOTDATA(\"BAS102\",TABLAS!$A$291)","v":0},{"$f":"+GETPIVOTDATA(\"BAS103\",TABLAS!$A$291)","v":0},{"$f":"+GETPIVOTDATA(\"BAS104\",TABLAS!$A$291)","v":0},{"$f":"+GETPIVOTDATA(\"BAS105\",TABLAS!$A$291)","v":0},0,{"$f":"+GETPIVOTDATA(\"BAS101\",TABLAS!$A$411)","v":0},{"$f":"+GETPIVOTDATA(\"BAS102\",TABLAS!$A$411)","v":0},{"$f":"+GETPIVOTDATA(\"BAS103\",TABLAS!$A$411)","v":0},{"$f":"+GETPIVOTDATA(\"BAS104\",TABLAS!$A$411)","v":0},{"$f":"+GETPIVOTDATA(\"BAS105\",TABLAS!$A$411)","v":0},0,{"$f":"+GETPIVOTDATA(\"BAS101\",TABLAS!$A$561)","v":0},{"$f":"+GETPIVOTDATA(\"BAS102\",TABLAS!$A$561)","v":0},{"$f":"+GETPIVOTDATA(\"BAS103\",TABLAS!$A$561)","v":0},{"$f":"+GETPIVOTDATA(\"BAS104\",TABLAS!$A$561)","v":0},{"$f":"+GETPIVOTDATA(\"BAS105\",TABLAS!$A$561)","v":0},0,0,null,{"$f":"+GETPIVOTDATA(\"BAS101\",TABLAS!$A$711)","v":0},{"$f":"+GETPIVOTDATA(\"BAS102\",TABLAS!$A$711)","v":0},{"$f":"+GETPIVOTDATA(\"BAS103\",TABLAS!$A$711)","v":0},{"$f":"+GETPIVOTDATA(\"BAS104\",TABLAS!$A$711)","v":0},{"$f":"+GETPIVOTDATA(\"BAS105\",TABLAS!$A$711)","v":0},0,{"$f":"+GETPIVOTDATA(\"BAS101\",TABLAS!$A$831)","v":0},{"$f":"+GETPIVOTDATA(\"BAS102\",TABLAS!$A$831)","v":0},{"$f":"+GETPIVOTDATA(\"BAS103\",TABLAS!$A$831)","v":0},{"$f":"+GETPIVOTDATA(\"BAS104\",TABLAS!$A$831)","v":0},{"$f":"+GETPIVOTDATA(\"BAS105\",TABLAS!$A$831)","v":0},0,{"$f":"+GETPIVOTDATA(\"BAS101\",TABLAS!$A$981)","v":0},{"$f":"+GETPIVOTDATA(\"BAS102\",TABLAS!$A$981)","v":0},{"$f":"+GETPIVOTDATA(\"BAS103\",TABLAS!$A$981)","v":0},{"$f":"+GETPIVOTDATA(\"BAS104\",TABLAS!$A$981)","v":0},{"$f":"+GETPIVOTDATA(\"BAS105\",TABLAS!$A$981)","v":0},0,0,null,null,{"$f":"+AW204+1","v":101},{"$f":"+AS206+1","v":102},103,104,105,null,{"$f":"IF(AS206<=9,CONCATENATE($AS$13,$AV$13,\"00\",AS206,$AW$13),IF(AND(AS206>=10,AS206<=99),CONCATENATE($AS$13,$AV$13,\"0\",AS206,$AW$13),CONCATENATE($AS$13,$AV$13,AS206,$AW$13)))","v":"=+IMPORTARDATOSDINAMICOS(\"BAS101\",TABLAS!$A$1011)"},{"$f":"IF(AT206<=9,CONCATENATE($AS$13,$AV$13,\"00\",AT206,$AW$13),IF(AND(AT206>=10,AT206<=99),CONCATENATE($AS$13,$AV$13,\"0\",AT206,$AW$13),CONCATENATE($AS$13,$AV$13,AT206,$AW$13)))","v":"=+IMPORTARDATOSDINAMICOS(\"BAS102\",TABLAS!$A$1011)"},{"$f":"IF(AU206<=9,CONCATENATE($AS$13,$AV$13,\"00\",AU206,$AW$13),IF(AND(AU206>=10,AU206<=99),CONCATENATE($AS$13,$AV$13,\"0\",AU206,$AW$13),CONCATENATE($AS$13,$AV$13,AU206,$AW$13)))","v":"=+IMPORTARDATOSDINAMICOS(\"BAS103\",TABLAS!$A$1011)"},{"$f":"IF(AV206<=9,CONCATENATE($AS$13,$AV$13,\"00\",AV206,$AW$13),IF(AND(AV206>=10,AV206<=99),CONCATENATE($AS$13,$AV$13,\"0\",AV206,$AW$13),CONCATENATE($AS$13,$AV$13,AV206,$AW$13)))","v":"=+IMPORTARDATOSDINAMICOS(\"BAS104\",TABLAS!$A$1011)"},{"$f":"IF(AW206<=9,CONCATENATE($AS$13,$AV$13,\"00\",AW206,$AW$13),IF(AND(AW206>=10,AW206<=99),CONCATENATE($AS$13,$AV$13,\"0\",AW206,$AW$13),CONCATENATE($AS$13,$AV$13,AW206,$AW$13)))","v":"=+IMPORTARDATOSDINAMICOS(\"BAS105\",TABLAS!$A$1011)"}]
["EXTENDIDOS PREPARACION, TAMIZAJE E INTERPRETACION   [88161]",null,null,{"$f":"+GETPIVOTDATA(\"BAS106\",TABLAS!$A$291)","v":0},{"$f":"+GETPIVOTDATA(\"BAS107\",TABLAS!$A$291)","v":0},{"$f":"+GETPIVOTDATA(\"BAS108\",TABLAS!$A$291)","v":0},{"$f":"+GETPIVOTDATA(\"BAS109\",TABLAS!$A$291)","v":0},{"$f":"+GETPIVOTDATA(\"BAS110\",TABLAS!$A$291)","v":0},0,{"$f":"+GETPIVOTDATA(\"BAS106\",TABLAS!$A$411)","v":0},{"$f":"+GETPIVOTDATA(\"BAS107\",TABLAS!$A$411)","v":0},{"$f":"+GETPIVOTDATA(\"BAS108\",TABLAS!$A$411)","v":0},{"$f":"+GETPIVOTDATA(\"BAS109\",TABLAS!$A$411)","v":0},{"$f":"+GETPIVOTDATA(\"BAS110\",TABLAS!$A$411)","v":0},0,{"$f":"+GETPIVOTDATA(\"BAS106\",TABLAS!$A$561)","v":0},{"$f":"+GETPIVOTDATA(\"BAS107\",TABLAS!$A$561)","v":0},{"$f":"+GETPIVOTDATA(\"BAS108\",TABLAS!$A$561)","v":0},{"$f":"+GETPIVOTDATA(\"BAS109\",TABLAS!$A$561)","v":0},{"$f":"+GETPIVOTDATA(\"BAS110\",TABLAS!$A$561)","v":0},0,0,null,{"$f":"+GETPIVOTDATA(\"BAS106\",TABLAS!$A$711)","v":0},{"$f":"+GETPIVOTDATA(\"BAS107\",TABLAS!$A$711)","v":0},{"$f":"+GETPIVOTDATA(\"BAS108\",TABLAS!$A$711)","v":0},{"$f":"+GETPIVOTDATA(\"BAS109\",TABLAS!$A$711)","v":0},{"$f":"+GETPIVOTDATA(\"BAS110\",TABLAS!$A$711)","v":0},0,{"$f":"+GETPIVOTDATA(\"BAS106\",TABLAS!$A$831)","v":0},{"$f":"+GETPIVOTDATA(\"BAS107\",TABLAS!$A$831)","v":0},{"$f":"+GETPIVOTDATA(\"BAS108\",TABLAS!$A$831)","v":0},{"$f":"+GETPIVOTDATA(\"BAS109\",TABLAS!$A$831)","v":0},{"$f":"+GETPIVOTDATA(\"BAS110\",TABLAS!$A$831)","v":0},0,{"$f":"+GETPIVOTDATA(\"BAS106\",TABLAS!$A$981)","v":0},{"$f":"+GETPIVOTDATA(\"BAS107\",TABLAS!$A$981)","v":0},{"$f":"+GETPIVOTDATA(\"BAS108\",TABLAS!$A$981)","v":0},{"$f":"+GETPIVOTDATA(\"BAS109\",TABLAS!$A$981)","v":0},{"$f":"+GETPIVOTDATA(\"BAS110\",TABLAS!$A$981)","v":0},0,0,null,null,{"$f":"+AW206+1","v":106},{"$f":"+AS207+1","v":107},108,109,110,null,"=+IMPORTARDATOSDINAMICOS(\"BAS106\",TABLAS!$A$1011)","=+IMPORTARDATOSDINAMICOS(\"BAS107\",TABLAS!$A$1011)","=+IMPORTARDATOSDINAMICOS(\"BAS108\",TABLAS!$A$1011)","=+IMPORTARDATOSDINAMICOS(\"BAS109\",TABLAS!$A$1011)","=+IMPORTARDATOSDINAMICOS(\"BAS110\",TABLAS!$A$1011)"]
["MAS DE 5 EXTENCIONES Y/O TINCIONES   [88162]",null,null,{"$f":"+GETPIVOTDATA(\"BAS111\",TABLAS!$A$291)","v":0},{"$f":"+GETPIVOTDATA(\"BAS112\",TABLAS!$A$291)","v":0},{"$f":"+GETPIVOTDATA(\"BAS113\",TABLAS!$A$291)","v":0},{"$f":"+GETPIVOTDATA(\"BAS114\",TABLAS!$A$291)","v":0},{"$f":"+GETPIVOTDATA(\"BAS115\",TABLAS!$A$291)","v":0},0,{"$f":"+GETPIVOTDATA(\"BAS111\",TABLAS!$A$411)","v":0},{"$f":"+GETPIVOTDATA(\"BAS112\",TABLAS!$A$411)","v":0},{"$f":"+GETPIVOTDATA(\"BAS113\",TABLAS!$A$411)","v":0},{"$f":"+GETPIVOTDATA(\"BAS114\",TABLAS!$A$411)","v":0},{"$f":"+GETPIVOTDATA(\"BAS115\",TABLAS!$A$411)","v":0},0,{"$f":"+GETPIVOTDATA(\"BAS111\",TABLAS!$A$561)","v":0},{"$f":"+GETPIVOTDATA(\"BAS112\",TABLAS!$A$561)","v":0},{"$f":"+GETPIVOTDATA(\"BAS113\",TABLAS!$A$561)","v":0},{"$f":"+GETPIVOTDATA(\"BAS114\",TABLAS!$A$561)","v":0},{"$f":"+GETPIVOTDATA(\"BAS115\",TABLAS!$A$561)","v":0},0,0,null,{"$f":"+GETPIVOTDATA(\"BAS111\",TABLAS!$A$711)","v":0},{"$f":"+GETPIVOTDATA(\"BAS112\",TABLAS!$A$711)","v":0},{"$f":"+GETPIVOTDATA(\"BAS113\",TABLAS!$A$711)","v":0},{"$f":"+GETPIVOTDATA(\"BAS114\",TABLAS!$A$711)","v":0},{"$f":"+GETPIVOTDATA(\"BAS115\",TABLAS!$A$711)","v":0},0,{"$f":"+GETPIVOTDATA(\"BAS111\",TABLAS!$A$831)","v":0},{"$f":"+GETPIVOTDATA(\"BAS112\",TABLAS!$A$831)","v":0},{"$f":"+GETPIVOTDATA(\"BAS113\",TABLAS!$A$831)","v":0},{"$f":"+GETPIVOTDATA(\"BAS114\",TABLAS!$A$831)","v":0},{"$f":"+GETPIVOTDATA(\"BAS115\",TABLAS!$A$831)","v":0},0,{"$f":"+GETPIVOTDATA(\"BAS111\",TABLAS!$A$981)","v":0},{"$f":"+GETPIVOTDATA(\"BAS112\",TABLAS!$A$981)","v":0},{"$f":"+GETPIVOTDATA(\"BAS113\",TABLAS!$A$981)","v":0},{"$f":"+GETPIVOTDATA(\"BAS114\",TABLAS!$A$981)","v":0},{"$f":"+GETPIVOTDATA(\"BAS115\",TABLAS!$A$981)","v":0},0,0,null,null,111,{"$f":"+AS208+1","v":112},113,114,115,null,"=+IMPORTARDATOSDINAMICOS(\"BAS111\",TABLAS!$A$1011)","=+IMPORTARDATOSDINAMICOS(\"BAS112\",TABLAS!$A$1011)","=+IMPORTARDATOSDINAMICOS(\"BAS113\",TABLAS!$A$1011)","=+IMPORTARDATOSDINAMICOS(\"BAS114\",TABLAS!$A$1011)","=+IMPORTARDATOSDINAMICOS(\"BAS115\",TABLAS!$A$1011)"]
["BAAF",null,null,{"$f":"SUM(D210:D212)","v":0},{"$f":"SUM(E210:E212)","v":0},{"$f":"SUM(F210:F212)","v":0},{"$f":"SUM(G210:G212)","v":0},{"$f":"SUM(H210:H212)","v":0},0,{"$f":"SUM(J210:J212)","v":0},{"$f":"SUM(K210:K212)","v":0},{"$f":"SUM(L210:L212)","v":0},{"$f":"SUM(M210:M212)","v":0},{"$f":"SUM(N210:N212)","v":0},0,{"$f":"SUM(P210:P212)","v":0},{"$f":"SUM(Q210:Q212)","v":0},{"$f":"SUM(R210:R212)","v":0},{"$f":"SUM(S210:S212)","v":0},{"$f":"SUM(T210:T212)","v":0},0,0,null,{"$f":"SUM(X210:X212)","v":0},{"$f":"SUM(Y210:Y212)","v":0},{"$f":"SUM(Z210:Z212)","v":0},{"$f":"SUM(AA210:AA212)","v":0},{"$f":"SUM(AB210:AB212)","v":0},0,{"$f":"SUM(AD210:AD212)","v":0},{"$f":"SUM(AE210:AE212)","v":0},{"$f":"SUM(AF210:AF212)","v":0},{"$f":"SUM(AG210:AG212)","v":0},{"$f":"SUM(AH210:AH212)","v":0},0,{"$f":"SUM(AJ210:AJ212)","v":0},{"$f":"SUM(AK210:AK212)","v":0},{"$f":"SUM(AL210:AL212)","v":0},{"$f":"SUM(AM210:AM212)","v":0},{"$f":"SUM(AN210:AN212)","v":0},0,0]
["ESTUDIO CITOHISTOLOGICO DE AAF PARA DETERMINAR ADECUACION DE LAS MUESTRAS PARA REALIZAR DIAGNOSTICO, PRIMERA EVALUACION, CADA SITIO   [88172]",null,null,{"$f":"+GETPIVOTDATA(\"BAS116\",TABLAS!$A$291)","v":0},{"$f":"+GETPIVOTDATA(\"BAS117\",TABLAS!$A$291)","v":0},{"$f":"+GETPIVOTDATA(\"BAS118\",TABLAS!$A$291)","v":0},{"$f":"+GETPIVOTDATA(\"BAS119\",TABLAS!$A$291)","v":0},{"$f":"+GETPIVOTDATA(\"BAS120\",TABLAS!$A$291)","v":0},0,{"$f":"+GETPIVOTDATA(\"BAS116\",TABLAS!$A$411)","v":0},{"$f":"+GETPIVOTDATA(\"BAS117\",TABLAS!$A$411)","v":0},{"$f":"+GETPIVOTDATA(\"BAS118\",TABLAS!$A$411)","v":0},{"$f":"+GETPIVOTDATA(\"BAS119\",TABLAS!$A$411)","v":0},{"$f":"+GETPIVOTDATA(\"BAS120\",TABLAS!$A$411)","v":0},0,{"$f":"+GETPIVOTDATA(\"BAS116\",TABLAS!$A$561)","v":0},{"$f":"+GETPIVOTDATA(\"BAS117\",TABLAS!$A$561)","v":0},{"$f":"+GETPIVOTDATA(\"BAS118\",TABLAS!$A$561)","v":0},{"$f":"+GETPIVOTDATA(\"BAS119\",TABLAS!$A$561)","v":0},{"$f":"+GETPIVOTDATA(\"BAS120\",TABLAS!$A$561)","v":0},0,0,null,{"$f":"+GETPIVOTDATA(\"BAS116\",TABLAS!$A$711)","v":0},{"$f":"+GETPIVOTDATA(\"BAS117\",TABLAS!$A$711)","v":0},{"$f":"+GETPIVOTDATA(\"BAS118\",TABLAS!$A$711)","v":0},{"$f":"+GETPIVOTDATA(\"BAS119\",TABLAS!$A$711)","v":0},{"$f":"+GETPIVOTDATA(\"BAS120\",TABLAS!$A$711)","v":0},0,{"$f":"+GETPIVOTDATA(\"BAS116\",TABLAS!$A$831)","v":0},{"$f":"+GETPIVOTDATA(\"BAS117\",TABLAS!$A$831)","v":0},{"$f":"+GETPIVOTDATA(\"BAS118\",TABLAS!$A$831)","v":0},{"$f":"+GETPIVOTDATA(\"BAS119\",TABLAS!$A$831)","v":0},{"$f":"+GETPIVOTDATA(\"BAS120\",TABLAS!$A$831)","v":0},0,{"$f":"+GETPIVOTDATA(\"BAS116\",TABLAS!$A$981)","v":0},{"$f":"+GETPIVOTDATA(\"BAS117\",TABLAS!$A$981)","v":0},{"$f":"+GETPIVOTDATA(\"BAS118\",TABLAS!$A$981)","v":0},{"$f":"+GETPIVOTDATA(\"BAS119\",TABLAS!$A$981)","v":0},{"$f":"+GETPIVOTDATA(\"BAS120\",TABLAS!$A$981)","v":0},0,0,null,null,{"$f":"+AW208+1","v":116},{"$f":"+AS210+1","v":117},118,119,120,null,{"$f":"IF(AS210<=9,CONCATENATE($AS$13,$AV$13,\"00\",AS210,$AW$13),IF(AND(AS210>=10,AS210<=99),CONCATENATE($AS$13,$AV$13,\"0\",AS210,$AW$13),CONCATENATE($AS$13,$AV$13,AS210,$AW$13)))","v":"=+IMPORTARDATOSDINAMICOS(\"BAS116\",TABLAS!$A$1011)"},{"$f":"IF(AT210<=9,CONCATENATE($AS$13,$AV$13,\"00\",AT210,$AW$13),IF(AND(AT210>=10,AT210<=99),CONCATENATE($AS$13,$AV$13,\"0\",AT210,$AW$13),CONCATENATE($AS$13,$AV$13,AT210,$AW$13)))","v":"=+IMPORTARDATOSDINAMICOS(\"BAS117\",TABLAS!$A$1011)"},{"$f":"IF(AU210<=9,CONCATENATE($AS$13,$AV$13,\"00\",AU210,$AW$13),IF(AND(AU210>=10,AU210<=99),CONCATENATE($AS$13,$AV$13,\"0\",AU210,$AW$13),CONCATENATE($AS$13,$AV$13,AU210,$AW$13)))","v":"=+IMPORTARDATOSDINAMICOS(\"BAS118\",TABLAS!$A$1011)"},{"$f":"IF(AV210<=9,CONCATENATE($AS$13,$AV$13,\"00\",AV210,$AW$13),IF(AND(AV210>=10,AV210<=99),CONCATENATE($AS$13,$AV$13,\"0\",AV210,$AW$13),CONCATENATE($AS$13,$AV$13,AV210,$AW$13)))","v":"=+IMPORTARDATOSDINAMICOS(\"BAS119\",TABLAS!$A$1011)"},{"$f":"IF(AW210<=9,CONCATENATE($AS$13,$AV$13,\"00\",AW210,$AW$13),IF(AND(AW210>=10,AW210<=99),CONCATENATE($AS$13,$AV$13,\"0\",AW210,$AW$13),CONCATENATE($AS$13,$AV$13,AW210,$AW$13)))","v":"=+IMPORTARDATOSDINAMICOS(\"BAS120\",TABLAS!$A$1011)"}]
["INTERPRETACION Y REPORTE  DE CITOPATOLOGO   [88173]",null,null,{"$f":"+GETPIVOTDATA(\"BAS121\",TABLAS!$A$291)","v":0},{"$f":"+GETPIVOTDATA(\"BAS122\",TABLAS!$A$291)","v":0},{"$f":"+GETPIVOTDATA(\"BAS123\",TABLAS!$A$291)","v":0},{"$f":"+GETPIVOTDATA(\"BAS124\",TABLAS!$A$291)","v":0},{"$f":"+GETPIVOTDATA(\"BAS125\",TABLAS!$A$291)","v":0},0,{"$f":"+GETPIVOTDATA(\"BAS121\",TABLAS!$A$411)","v":0},{"$f":"+GETPIVOTDATA(\"BAS122\",TABLAS!$A$411)","v":0},{"$f":"+GETPIVOTDATA(\"BAS123\",TABLAS!$A$411)","v":0},{"$f":"+GETPIVOTDATA(\"BAS124\",TABLAS!$A$411)","v":0},{"$f":"+GETPIVOTDATA(\"BAS125\",TABLAS!$A$411)","v":0},0,{"$f":"+GETPIVOTDATA(\"BAS121\",TABLAS!$A$561)","v":0},{"$f":"+GETPIVOTDATA(\"BAS122\",TABLAS!$A$561)","v":0},{"$f":"+GETPIVOTDATA(\"BAS123\",TABLAS!$A$561)","v":0},{"$f":"+GETPIVOTDATA(\"BAS124\",TABLAS!$A$561)","v":0},{"$f":"+GETPIVOTDATA(\"BAS125\",TABLAS!$A$561)","v":0},0,0,null,{"$f":"+GETPIVOTDATA(\"BAS121\",TABLAS!$A$711)","v":0},{"$f":"+GETPIVOTDATA(\"BAS122\",TABLAS!$A$711)","v":0},{"$f":"+GETPIVOTDATA(\"BAS123\",TABLAS!$A$711)","v":0},{"$f":"+GETPIVOTDATA(\"BAS124\",TABLAS!$A$711)","v":0},{"$f":"+GETPIVOTDATA(\"BAS125\",TABLAS!$A$711)","v":0},0,{"$f":"+GETPIVOTDATA(\"BAS121\",TABLAS!$A$831)","v":0},{"$f":"+GETPIVOTDATA(\"BAS122\",TABLAS!$A$831)","v":0},{"$f":"+GETPIVOTDATA(\"BAS123\",TABLAS!$A$831)","v":0},{"$f":"+GETPIVOTDATA(\"BAS124\",TABLAS!$A$831)","v":0},{"$f":"+GETPIVOTDATA(\"BAS125\",TABLAS!$A$831)","v":0},0,{"$f":"+GETPIVOTDATA(\"BAS121\",TABLAS!$A$981)","v":0},{"$f":"+GETPIVOTDATA(\"BAS122\",TABLAS!$A$981)","v":0},{"$f":"+GETPIVOTDATA(\"BAS123\",TABLAS!$A$981)","v":0},{"$f":"+GETPIVOTDATA(\"BAS124\",TABLAS!$A$981)","v":0},{"$f":"+GETPIVOTDATA(\"BAS125\",TABLAS!$A$981)","v":0},0,0,null,null,{"$f":"+AW210+1","v":121},{"$f":"+AS211+1","v":122},123,124,125,null,"=+IMPORTARDATOSDINAMICOS(\"BAS121\",TABLAS!$A$1011)","=+IMPORTARDATOSDINAMICOS(\"BAS122\",TABLAS!$A$1011)","=+IMPORTARDATOSDINAMICOS(\"BAS123\",TABLAS!$A$1011)","=+IMPORTARDATOSDINAMICOS(\"BAS124\",TABLAS!$A$1011)","=+IMPORTARDATOSDINAMICOS(\"BAS125\",TABLAS!$A$1011)"]
["PROCEDIMIENTO DE CITOPATOLOGIA QUE NO APARECE EN LA LISTA   [88199]",null,null,{"$f":"+GETPIVOTDATA(\"BAS126\",TABLAS!$A$291)","v":0},{"$f":"+GETPIVOTDATA(\"BAS127\",TABLAS!$A$291)","v":0},{"$f":"+GETPIVOTDATA(\"BAS128\",TABLAS!$A$291)","v":0},{"$f":"+GETPIVOTDATA(\"BAS129\",TABLAS!$A$291)","v":0},{"$f":"+GETPIVOTDATA(\"BAS130\",TABLAS!$A$291)","v":0},0,{"$f":"+GETPIVOTDATA(\"BAS126\",TABLAS!$A$411)","v":0},{"$f":"+GETPIVOTDATA(\"BAS127\",TABLAS!$A$411)","v":0},{"$f":"+GETPIVOTDATA(\"BAS128\",TABLAS!$A$411)","v":0},{"$f":"+GETPIVOTDATA(\"BAS129\",TABLAS!$A$411)","v":0},{"$f":"+GETPIVOTDATA(\"BAS130\",TABLAS!$A$411)","v":0},0,{"$f":"+GETPIVOTDATA(\"BAS126\",TABLAS!$A$561)","v":0},{"$f":"+GETPIVOTDATA(\"BAS127\",TABLAS!$A$561)","v":0},{"$f":"+GETPIVOTDATA(\"BAS128\",TABLAS!$A$561)","v":0},{"$f":"+GETPIVOTDATA(\"BAS129\",TABLAS!$A$561)","v":0},{"$f":"+GETPIVOTDATA(\"BAS130\",TABLAS!$A$561)","v":0},0,0,null,{"$f":"+GETPIVOTDATA(\"BAS126\",TABLAS!$A$711)","v":0},{"$f":"+GETPIVOTDATA(\"BAS127\",TABLAS!$A$711)","v":0},{"$f":"+GETPIVOTDATA(\"BAS128\",TABLAS!$A$711)","v":0},{"$f":"+GETPIVOTDATA(\"BAS129\",TABLAS!$A$711)","v":0},{"$f":"+GETPIVOTDATA(\"BAS130\",TABLAS!$A$711)","v":0},0,{"$f":"+GETPIVOTDATA(\"BAS126\",TABLAS!$A$831)","v":0},{"$f":"+GETPIVOTDATA(\"BAS127\",TABLAS!$A$831)","v":0},{"$f":"+GETPIVOTDATA(\"BAS128\",TABLAS!$A$831)","v":0},{"$f":"+GETPIVOTDATA(\"BAS129\",TABLAS!$A$831)","v":0},{"$f":"+GETPIVOTDATA(\"BAS130\",TABLAS!$A$831)","v":0},0,{"$f":"+GETPIVOTDATA(\"BAS126\",TABLAS!$A$981)","v":0},{"$f":"+GETPIVOTDATA(\"BAS127\",TABLAS!$A$981)","v":0},{"$f":"+GETPIVOTDATA(\"BAS128\",TABLAS!$A$981)","v":0},{"$f":"+GETPIVOTDATA(\"BAS129\",TABLAS!$A$981)","v":0},{"$f":"+GETPIVOTDATA(\"BAS130\",TABLAS!$A$981)","v":0},0,0,null,null,126,{"$f":"+AS212+1","v":127},128,129,130,null,"=+IMPORTARDATOSDINAMICOS(\"BAS126\",TABLAS!$A$1011)","=+IMPORTARDATOSDINAMICOS(\"BAS127\",TABLAS!$A$1011)","=+IMPORTARDATOSDINAMICOS(\"BAS128\",TABLAS!$A$1011)","=+IMPORTARDATOSDINAMICOS(\"BAS129\",TABLAS!$A$1011)","=+IMPORTARDATOSDINAMICOS(\"BAS130\",TABLAS!$A$1011)"]
["NECROPSIAS"]
["NECROPSIA, MACRO Y MICROSCOPIA; SIN SISTEMA NERVIOSO CENTRAL  [88020]",null,null,{"$f":"+GETPIVOTDATA(\"BAS131\",TABLAS!$A$291)","v":0},{"$f":"+GETPIVOTDATA(\"BAS132\",TABLAS!$A$291)","v":0},{"$f":"+GETPIVOTDATA(\"BAS133\",TABLAS!$A$291)","v":0},{"$f":"+GETPIVOTDATA(\"BAS134\",TABLAS!$A$291)","v":0},{"$f":"+GETPIVOTDATA(\"BAS135\",TABLAS!$A$291)","v":0},0,{"$f":"+GETPIVOTDATA(\"BAS131\",TABLAS!$A$411)","v":0},{"$f":"+GETPIVOTDATA(\"BAS132\",TABLAS!$A$411)","v":0},{"$f":"+GETPIVOTDATA(\"BAS133\",TABLAS!$A$411)","v":0},{"$f":"+GETPIVOTDATA(\"BAS134\",TABLAS!$A$411)","v":0},{"$f":"+GETPIVOTDATA(\"BAS135\",TABLAS!$A$411)","v":0},{"$f":"SUM(J214:N214)","v":0},{"$f":"+GETPIVOTDATA(\"BAS131\",TABLAS!$A$561)","v":0},{"$f":"+GETPIVOTDATA(\"BAS132\",TABLAS!$A$561)","v":0},{"$f":"+GETPIVOTDATA(\"BAS133\",TABLAS!$A$561)","v":0},{"$f":"+GETPIVOTDATA(\"BAS134\",TABLAS!$A$561)","v":0},{"$f":"+GETPIVOTDATA(\"BAS135\",TABLAS!$A$561)","v":0},{"$f":"SUM(P214:T214)","v":0},0,null,{"$f":"+GETPIVOTDATA(\"BAS131\",TABLAS!$A$711)","v":0},{"$f":"+GETPIVOTDATA(\"BAS132\",TABLAS!$A$711)","v":0},{"$f":"+GETPIVOTDATA(\"BAS133\",TABLAS!$A$711)","v":0},{"$f":"+GETPIVOTDATA(\"BAS134\",TABLAS!$A$711)","v":0},{"$f":"+GETPIVOTDATA(\"BAS135\",TABLAS!$A$711)","v":0},{"$f":"SUM(X214:AB214)","v":0},{"$f":"+GETPIVOTDATA(\"BAS131\",TABLAS!$A$831)","v":0},{"$f":"+GETPIVOTDATA(\"BAS132\",TABLAS!$A$831)","v":0},{"$f":"+GETPIVOTDATA(\"BAS133\",TABLAS!$A$831)","v":0},{"$f":"+GETPIVOTDATA(\"BAS134\",TABLAS!$A$831)","v":0},{"$f":"+GETPIVOTDATA(\"BAS135\",TABLAS!$A$831)","v":0},{"$f":"SUM(AD214:AH214)","v":0},{"$f":"+GETPIVOTDATA(\"BAS131\",TABLAS!$A$981)","v":0},{"$f":"+GETPIVOTDATA(\"BAS132\",TABLAS!$A$981)","v":0},{"$f":"+GETPIVOTDATA(\"BAS133\",TABLAS!$A$981)","v":0},{"$f":"+GETPIVOTDATA(\"BAS134\",TABLAS!$A$981)","v":0},{"$f":"+GETPIVOTDATA(\"BAS135\",TABLAS!$A$981)","v":0},{"$f":"SUM(AJ214:AN214)","v":0},{"$f":"+AC214+AI214+AO214","v":0},null,null,{"$f":"+AW212+1","v":131},{"$f":"+AS214+1","v":132},133,134,135,null,{"$f":"IF(AS214<=9,CONCATENATE($AS$13,$AV$13,\"00\",AS214,$AW$13),IF(AND(AS214>=10,AS214<=99),CONCATENATE($AS$13,$AV$13,\"0\",AS214,$AW$13),CONCATENATE($AS$13,$AV$13,AS214,$AW$13)))","v":"=+IMPORTARDATOSDINAMICOS(\"BAS131\",TABLAS!$A$1011)"},{"$f":"IF(AT214<=9,CONCATENATE($AS$13,$AV$13,\"00\",AT214,$AW$13),IF(AND(AT214>=10,AT214<=99),CONCATENATE($AS$13,$AV$13,\"0\",AT214,$AW$13),CONCATENATE($AS$13,$AV$13,AT214,$AW$13)))","v":"=+IMPORTARDATOSDINAMICOS(\"BAS132\",TABLAS!$A$1011)"},{"$f":"IF(AU214<=9,CONCATENATE($AS$13,$AV$13,\"00\",AU214,$AW$13),IF(AND(AU214>=10,AU214<=99),CONCATENATE($AS$13,$AV$13,\"0\",AU214,$AW$13),CONCATENATE($AS$13,$AV$13,AU214,$AW$13)))","v":"=+IMPORTARDATOSDINAMICOS(\"BAS133\",TABLAS!$A$1011)"},{"$f":"IF(AV214<=9,CONCATENATE($AS$13,$AV$13,\"00\",AV214,$AW$13),IF(AND(AV214>=10,AV214<=99),CONCATENATE($AS$13,$AV$13,\"0\",AV214,$AW$13),CONCATENATE($AS$13,$AV$13,AV214,$AW$13)))","v":"=+IMPORTARDATOSDINAMICOS(\"BAS134\",TABLAS!$A$1011)"},{"$f":"IF(AW214<=9,CONCATENATE($AS$13,$AV$13,\"00\",AW214,$AW$13),IF(AND(AW214>=10,AW214<=99),CONCATENATE($AS$13,$AV$13,\"0\",AW214,$AW$13),CONCATENATE($AS$13,$AV$13,AW214,$AW$13)))","v":"=+IMPORTARDATOSDINAMICOS(\"BAS135\",TABLAS!$A$1011)"}]
["NECROPSIA, MACRO Y MICROSCOPIA; MORTINATO O RECIEN NACIDO  [88029]",null,null,{"$f":"+GETPIVOTDATA(\"BAS136\",TABLAS!$A$291)","v":0},{"$f":"+GETPIVOTDATA(\"BAS137\",TABLAS!$A$291)","v":0},{"$f":"+GETPIVOTDATA(\"BAS138\",TABLAS!$A$291)","v":0},{"$f":"+GETPIVOTDATA(\"BAS139\",TABLAS!$A$291)","v":0},{"$f":"+GETPIVOTDATA(\"BAS140\",TABLAS!$A$291)","v":0},0,{"$f":"+GETPIVOTDATA(\"BAS136\",TABLAS!$A$411)","v":0},{"$f":"+GETPIVOTDATA(\"BAS137\",TABLAS!$A$411)","v":0},{"$f":"+GETPIVOTDATA(\"BAS138\",TABLAS!$A$411)","v":0},{"$f":"+GETPIVOTDATA(\"BAS139\",TABLAS!$A$411)","v":0},{"$f":"+GETPIVOTDATA(\"BAS140\",TABLAS!$A$411)","v":0},0,{"$f":"+GETPIVOTDATA(\"BAS136\",TABLAS!$A$561)","v":0},{"$f":"+GETPIVOTDATA(\"BAS137\",TABLAS!$A$561)","v":0},{"$f":"+GETPIVOTDATA(\"BAS138\",TABLAS!$A$561)","v":0},{"$f":"+GETPIVOTDATA(\"BAS139\",TABLAS!$A$561)","v":0},{"$f":"+GETPIVOTDATA(\"BAS140\",TABLAS!$A$561)","v":0},0,0,null,{"$f":"+GETPIVOTDATA(\"BAS136\",TABLAS!$A$711)","v":0},{"$f":"+GETPIVOTDATA(\"BAS137\",TABLAS!$A$711)","v":0},{"$f":"+GETPIVOTDATA(\"BAS138\",TABLAS!$A$711)","v":0},{"$f":"+GETPIVOTDATA(\"BAS139\",TABLAS!$A$711)","v":0},{"$f":"+GETPIVOTDATA(\"BAS140\",TABLAS!$A$711)","v":0},0,{"$f":"+GETPIVOTDATA(\"BAS136\",TABLAS!$A$831)","v":0},{"$f":"+GETPIVOTDATA(\"BAS137\",TABLAS!$A$831)","v":0},{"$f":"+GETPIVOTDATA(\"BAS138\",TABLAS!$A$831)","v":0},{"$f":"+GETPIVOTDATA(\"BAS139\",TABLAS!$A$831)","v":0},{"$f":"+GETPIVOTDATA(\"BAS140\",TABLAS!$A$831)","v":0},0,{"$f":"+GETPIVOTDATA(\"BAS136\",TABLAS!$A$981)","v":0},{"$f":"+GETPIVOTDATA(\"BAS137\",TABLAS!$A$981)","v":0},{"$f":"+GETPIVOTDATA(\"BAS138\",TABLAS!$A$981)","v":0},{"$f":"+GETPIVOTDATA(\"BAS139\",TABLAS!$A$981)","v":0},{"$f":"+GETPIVOTDATA(\"BAS140\",TABLAS!$A$981)","v":0},0,0,null,null,{"$f":"+AW214+1","v":136},{"$f":"+AS215+1","v":137},138,139,140,null,"=+IMPORTARDATOSDINAMICOS(\"BAS136\",TABLAS!$A$1011)","=+IMPORTARDATOSDINAMICOS(\"BAS137\",TABLAS!$A$1011)","=+IMPORTARDATOSDINAMICOS(\"BAS138\",TABLAS!$A$1011)","=+IMPORTARDATOSDINAMICOS(\"BAS139\",TABLAS!$A$1011)","=+IMPORTARDATOSDINAMICOS(\"BAS140\",TABLAS!$A$1011)"]
["PROCEDIMIENTO QUE NO APARECE EN LA LISTA  [88099]",null,null,{"$f":"+GETPIVOTDATA(\"BAS141\",TABLAS!$A$291)","v":0},{"$f":"+GETPIVOTDATA(\"BAS142\",TABLAS!$A$291)","v":0},{"$f":"+GETPIVOTDATA(\"BAS143\",TABLAS!$A$291)","v":0},{"$f":"+GETPIVOTDATA(\"BAS144\",TABLAS!$A$291)","v":0},{"$f":"+GETPIVOTDATA(\"BAS145\",TABLAS!$A$291)","v":0},0,{"$f":"+GETPIVOTDATA(\"BAS141\",TABLAS!$A$411)","v":0},{"$f":"+GETPIVOTDATA(\"BAS142\",TABLAS!$A$411)","v":0},{"$f":"+GETPIVOTDATA(\"BAS143\",TABLAS!$A$411)","v":0},{"$f":"+GETPIVOTDATA(\"BAS144\",TABLAS!$A$411)","v":0},{"$f":"+GETPIVOTDATA(\"BAS145\",TABLAS!$A$411)","v":0},0,{"$f":"+GETPIVOTDATA(\"BAS141\",TABLAS!$A$561)","v":0},{"$f":"+GETPIVOTDATA(\"BAS142\",TABLAS!$A$561)","v":0},{"$f":"+GETPIVOTDATA(\"BAS143\",TABLAS!$A$561)","v":0},{"$f":"+GETPIVOTDATA(\"BAS144\",TABLAS!$A$561)","v":0},{"$f":"+GETPIVOTDATA(\"BAS145\",TABLAS!$A$561)","v":0},0,0,null,{"$f":"+GETPIVOTDATA(\"BAS141\",TABLAS!$A$711)","v":0},{"$f":"+GETPIVOTDATA(\"BAS142\",TABLAS!$A$711)","v":0},{"$f":"+GETPIVOTDATA(\"BAS143\",TABLAS!$A$711)","v":0},{"$f":"+GETPIVOTDATA(\"BAS144\",TABLAS!$A$711)","v":0},{"$f":"+GETPIVOTDATA(\"BAS145\",TABLAS!$A$711)","v":0},0,{"$f":"+GETPIVOTDATA(\"BAS141\",TABLAS!$A$831)","v":0},{"$f":"+GETPIVOTDATA(\"BAS142\",TABLAS!$A$831)","v":0},{"$f":"+GETPIVOTDATA(\"BAS143\",TABLAS!$A$831)","v":0},{"$f":"+GETPIVOTDATA(\"BAS144\",TABLAS!$A$831)","v":0},{"$f":"+GETPIVOTDATA(\"BAS145\",TABLAS!$A$831)","v":0},0,{"$f":"+GETPIVOTDATA(\"BAS141\",TABLAS!$A$981)","v":0},{"$f":"+GETPIVOTDATA(\"BAS142\",TABLAS!$A$981)","v":0},{"$f":"+GETPIVOTDATA(\"BAS143\",TABLAS!$A$981)","v":0},{"$f":"+GETPIVOTDATA(\"BAS144\",TABLAS!$A$981)","v":0},{"$f":"+GETPIVOTDATA(\"BAS145\",TABLAS!$A$981)","v":0},0,0,null,null,141,{"$f":"+AS216+1","v":142},143,144,145,null,"=+IMPORTARDATOSDINAMICOS(\"BAS141\",TABLAS!$A$1011)","=+IMPORTARDATOSDINAMICOS(\"BAS142\",TABLAS!$A$1011)","=+IMPORTARDATOSDINAMICOS(\"BAS143\",TABLAS!$A$1011)","=+IMPORTARDATOSDINAMICOS(\"BAS144\",TABLAS!$A$1011)","=+IMPORTARDATOSDINAMICOS(\"BAS145\",TABLAS!$A$1011)"]
[]
[null,null,null,"TOTAL REALIZADO",null,null,null,null,null,null,null,null,null,null,null,null,null,null,null,null,null,null,null,"SIS"]
["BANCOS DE SANGRE",null,null,"HOSPITALIZACION",null,null,null,null,null,null,"EMERGENCIAS",null,null,null,null,null,null,"Total",null,null,null,null,null,"HOSPITALIZACION",null,null,null,null,null,null,"EMERGENCIAS",null,null,null,null,null,null,"Total"]
[null,null,null,"0-11a","12-17a","18-29a","30-55a","56-64a","65 - +a","TOTAL","0-11a","12-17a","18-29a","30-55a","56-64a","65 - +a","TOTAL",null,null,null,null,null,null,"0-11a","12-17a","18-29a","30-55a","56-64a","65 - +a","TOTAL","0-11a","12-17a","18-29a","30-55a","56-64a","65 - +a","TOTAL"]
["CONSULTA MEDICA (SELECCIÓN DE DONANTE) [BS001]",null,null,{"$f":"+GETPIVOTDATA(\"BAS001\",TABLAS!$A$441)","v":0},{"$f":"+GETPIVOTDATA(\"BAS002\",TABLAS!$A$441)","v":0},{"$f":"+GETPIVOTDATA(\"BAS003\",TABLAS!$A$441)","v":0},{"$f":"+GETPIVOTDATA(\"BAS004\",TABLAS!$A$441)","v":0},{"$f":"+GETPIVOTDATA(\"BAS005\",TABLAS!$A$441)","v":0},{"$f":"+GETPIVOTDATA(\"BAS006\",TABLAS!$A$441)","v":0},{"$f":"SUM(D221:I221)","v":0},{"$f":"+GETPIVOTDATA(\"BAS001\",TABLAS!$A$591)","v":0},{"$f":"+GETPIVOTDATA(\"BAS002\",TABLAS!$A$591)","v":0},{"$f":"+GETPIVOTDATA(\"BAS003\",TABLAS!$A$591)","v":0},{"$f":"+GETPIVOTDATA(\"BAS004\",TABLAS!$A$591)","v":0},{"$f":"+GETPIVOTDATA(\"BAS005\",TABLAS!$A$591)","v":0},{"$f":"+GETPIVOTDATA(\"BAS006\",TABLAS!$A$591)","v":0},{"$f":"SUM(K221:P221)","v":0},{"$f":"+J221+Q221","v":0},null,null,null,null,null,{"$f":"+GETPIVOTDATA(\"BAS001\",TABLAS!$A$861)","v":0},{"$f":"+GETPIVOTDATA(\"BAS002\",TABLAS!$A$861)","v":0},{"$f":"+GETPIVOTDATA(\"BAS003\",TABLAS!$A$861)","v":0},{"$f":"+GETPIVOTDATA(\"BAS004\",TABLAS!$A$861)","v":0},{"$f":"+GETPIVOTDATA(\"BAS005\",TABLAS!$A$861)","v":0},{"$f":"+GETPIVOTDATA(\"BAS006\",TABLAS!$A$861)","v":0},{"$f":"SUM(X221:AC221)","v":0},{"$f":"+GETPIVOTDATA(\"BAS001\",TABLAS!$A$1011)","v":0},{"$f":"+GETPIVOTDATA(\"BAS002\",TABLAS!$A$1011)","v":0},{"$f":"+GETPIVOTDATA(\"BAS003\",TABLAS!$A$1011)","v":0},{"$f":"+GETPIVOTDATA(\"BAS004\",TABLAS!$A$1011)","v":0},{"$f":"+GETPIVOTDATA(\"BAS005\",TABLAS!$A$1011)","v":0},{"$f":"+GETPIVOTDATA(\"BAS006\",TABLAS!$A$1011)","v":0},{"$f":"SUM(AE221:AJ221)","v":0},{"$f":"+AD221+AK221","v":0},null,null,null,null,null,null,{"$f":"+AW220+1","v":1},{"$f":"+AS221+1","v":2},3,4,5,6,{"$f":"IF(AS221<=9,CONCATENATE($AS$13,$AV$13,\"00\",AS221,$AW$13),IF(AND(AS221>=10,AS221<=99),CONCATENATE($AS$13,$AV$13,\"0\",AS221,$AW$13),CONCATENATE($AS$13,$AV$13,AS221,$AW$13)))","v":"=+IMPORTARDATOSDINAMICOS(\"BAS001\",TABLAS!$A$1011)"},{"$f":"IF(AT221<=9,CONCATENATE($AS$13,$AV$13,\"00\",AT221,$AW$13),IF(AND(AT221>=10,AT221<=99),CONCATENATE($AS$13,$AV$13,\"0\",AT221,$AW$13),CONCATENATE($AS$13,$AV$13,AT221,$AW$13)))","v":"=+IMPORTARDATOSDINAMICOS(\"BAS002\",TABLAS!$A$1011)"},{"$f":"IF(AU221<=9,CONCATENATE($AS$13,$AV$13,\"00\",AU221,$AW$13),IF(AND(AU221>=10,AU221<=99),CONCATENATE($AS$13,$AV$13,\"0\",AU221,$AW$13),CONCATENATE($AS$13,$AV$13,AU221,$AW$13)))","v":"=+IMPORTARDATOSDINAMICOS(\"BAS003\",TABLAS!$A$1011)"},{"$f":"IF(AV221<=9,CONCATENATE($AS$13,$AV$13,\"00\",AV221,$AW$13),IF(AND(AV221>=10,AV221<=99),CONCATENATE($AS$13,$AV$13,\"0\",AV221,$AW$13),CONCATENATE($AS$13,$AV$13,AV221,$AW$13)))","v":"=+IMPORTARDATOSDINAMICOS(\"BAS004\",TABLAS!$A$1011)"},{"$f":"IF(AW221<=9,CONCATENATE($AS$13,$AV$13,\"00\",AW221,$AW$13),IF(AND(AW221>=10,AW221<=99),CONCATENATE($AS$13,$AV$13,\"0\",AW221,$AW$13),CONCATENATE($AS$13,$AV$13,AW221,$AW$13)))","v":"=+IMPORTARDATOSDINAMICOS(\"BAS005\",TABLAS!$A$1011)"},"=+IMPORTARDATOSDINAMICOS(\"BAS006\",TABLAS!$A$1011)"]
["TRANSFUSION [BS002]",null,null,{"$f":"+GETPIVOTDATA(\"BAS007\",TABLAS!$A$441)","v":0},{"$f":"+GETPIVOTDATA(\"BAS008\",TABLAS!$A$441)","v":0},{"$f":"+GETPIVOTDATA(\"BAS009\",TABLAS!$A$441)","v":0},{"$f":"+GETPIVOTDATA(\"BAS010\",TABLAS!$A$441)","v":0},{"$f":"+GETPIVOTDATA(\"BAS011\",TABLAS!$A$441)","v":0},{"$f":"+GETPIVOTDATA(\"BAS012\",TABLAS!$A$441)","v":0},{"$f":"SUM(D222:I222)","v":0},{"$f":"+GETPIVOTDATA(\"BAS007\",TABLAS!$A$591)","v":0},{"$f":"+GETPIVOTDATA(\"BAS008\",TABLAS!$A$591)","v":0},{"$f":"+GETPIVOTDATA(\"BAS009\",TABLAS!$A$591)","v":0},{"$f":"+GETPIVOTDATA(\"BAS010\",TABLAS!$A$591)","v":0},{"$f":"+GETPIVOTDATA(\"BAS011\",TABLAS!$A$591)","v":0},{"$f":"+GETPIVOTDATA(\"BAS012\",TABLAS!$A$591)","v":0},{"$f":"SUM(K222:P222)","v":0},{"$f":"+J222+Q222","v":0},null,null,null,null,null,{"$f":"+GETPIVOTDATA(\"BAS007\",TABLAS!$A$861)","v":0},{"$f":"+GETPIVOTDATA(\"BAS008\",TABLAS!$A$861)","v":0},{"$f":"+GETPIVOTDATA(\"BAS009\",TABLAS!$A$861)","v":0},{"$f":"+GETPIVOTDATA(\"BAS010\",TABLAS!$A$861)","v":0},{"$f":"+GETPIVOTDATA(\"BAS011\",TABLAS!$A$861)","v":0},{"$f":"+GETPIVOTDATA(\"BAS012\",TABLAS!$A$861)","v":0},{"$f":"SUM(X222:AC222)","v":0},{"$f":"+GETPIVOTDATA(\"BAS007\",TABLAS!$A$1011)","v":0},{"$f":"+GETPIVOTDATA(\"BAS008\",TABLAS!$A$1011)","v":0},{"$f":"+GETPIVOTDATA(\"BAS009\",TABLAS!$A$1011)","v":0},{"$f":"+GETPIVOTDATA(\"BAS010\",TABLAS!$A$1011)","v":0},{"$f":"+GETPIVOTDATA(\"BAS011\",TABLAS!$A$1011)","v":0},{"$f":"+GETPIVOTDATA(\"BAS012\",TABLAS!$A$1011)","v":0},{"$f":"SUM(AE222:AJ222)","v":0},{"$f":"+AD222+AK222","v":0},null,null,null,null,null,null,{"$f":"+AX221+1","v":7},{"$f":"+AS222+1","v":8},9,10,11,12,{"$f":"IF(AS222<=9,CONCATENATE($AS$13,$AV$13,\"00\",AS222,$AW$13),IF(AND(AS222>=10,AS222<=99),CONCATENATE($AS$13,$AV$13,\"0\",AS222,$AW$13),CONCATENATE($AS$13,$AV$13,AS222,$AW$13)))","v":"=+IMPORTARDATOSDINAMICOS(\"BAS007\",TABLAS!$A$1011)"},{"$f":"IF(AT222<=9,CONCATENATE($AS$13,$AV$13,\"00\",AT222,$AW$13),IF(AND(AT222>=10,AT222<=99),CONCATENATE($AS$13,$AV$13,\"0\",AT222,$AW$13),CONCATENATE($AS$13,$AV$13,AT222,$AW$13)))","v":"=+IMPORTARDATOSDINAMICOS(\"BAS008\",TABLAS!$A$1011)"},{"$f":"IF(AU222<=9,CONCATENATE($AS$13,$AV$13,\"00\",AU222,$AW$13),IF(AND(AU222>=10,AU222<=99),CONCATENATE($AS$13,$AV$13,\"0\",AU222,$AW$13),CONCATENATE($AS$13,$AV$13,AU222,$AW$13)))","v":"=+IMPORTARDATOSDINAMICOS(\"BAS009\",TABLAS!$A$1011)"},{"$f":"IF(AV222<=9,CONCATENATE($AS$13,$AV$13,\"00\",AV222,$AW$13),IF(AND(AV222>=10,AV222<=99),CONCATENATE($AS$13,$AV$13,\"0\",AV222,$AW$13),CONCATENATE($AS$13,$AV$13,AV222,$AW$13)))","v":"=+IMPORTARDATOSDINAMICOS(\"BAS010\",TABLAS!$A$1011)"},{"$f":"IF(AW222<=9,CONCATENATE($AS$13,$AV$13,\"00\",AW222,$AW$13),IF(AND(AW222>=10,AW222<=99),CONCATENATE($AS$13,$AV$13,\"0\",AW222,$AW$13),CONCATENATE($AS$13,$AV$13,AW222,$AW$13)))","v":"=+IMPORTARDATOSDINAMICOS(\"BAS011\",TABLAS!$A$1011)"},{"$f":"IF(AX222<=9,CONCATENATE($AS$13,$AV$13,\"00\",AX222,$AW$13),IF(AND(AX222>=10,AX222<=99),CONCATENATE($AS$13,$AV$13,\"0\",AX222,$AW$13),CONCATENATE($AS$13,$AV$13,AX222,$AW$13)))","v":"=+IMPORTARDATOSDINAMICOS(\"BAS012\",TABLAS!$A$1011)"}]
["HEMATOCRITO [BS003]",null,null,{"$f":"+GETPIVOTDATA(\"BAS013\",TABLAS!$A$441)","v":0},{"$f":"+GETPIVOTDATA(\"BAS014\",TABLAS!$A$441)","v":0},{"$f":"+GETPIVOTDATA(\"BAS015\",TABLAS!$A$441)","v":0},{"$f":"+GETPIVOTDATA(\"BAS016\",TABLAS!$A$441)","v":0},{"$f":"+GETPIVOTDATA(\"BAS017\",TABLAS!$A$441)","v":0},{"$f":"+GETPIVOTDATA(\"BAS018\",TABLAS!$A$441)","v":0},0,{"$f":"+GETPIVOTDATA(\"BAS013\",TABLAS!$A$591)","v":0},{"$f":"+GETPIVOTDATA(\"BAS014\",TABLAS!$A$591)","v":0},{"$f":"+GETPIVOTDATA(\"BAS015\",TABLAS!$A$591)","v":0},{"$f":"+GETPIVOTDATA(\"BAS016\",TABLAS!$A$591)","v":0},{"$f":"+GETPIVOTDATA(\"BAS017\",TABLAS!$A$591)","v":0},{"$f":"+GETPIVOTDATA(\"BAS018\",TABLAS!$A$591)","v":0},0,0,null,null,null,null,null,{"$f":"+GETPIVOTDATA(\"BAS013\",TABLAS!$A$861)","v":0},{"$f":"+GETPIVOTDATA(\"BAS014\",TABLAS!$A$861)","v":0},{"$f":"+GETPIVOTDATA(\"BAS015\",TABLAS!$A$861)","v":0},{"$f":"+GETPIVOTDATA(\"BAS016\",TABLAS!$A$861)","v":0},{"$f":"+GETPIVOTDATA(\"BAS017\",TABLAS!$A$861)","v":0},{"$f":"+GETPIVOTDATA(\"BAS018\",TABLAS!$A$861)","v":0},0,{"$f":"+GETPIVOTDATA(\"BAS013\",TABLAS!$A$1011)","v":0},{"$f":"+GETPIVOTDATA(\"BAS014\",TABLAS!$A$1011)","v":0},{"$f":"+GETPIVOTDATA(\"BAS015\",TABLAS!$A$1011)","v":0},{"$f":"+GETPIVOTDATA(\"BAS016\",TABLAS!$A$1011)","v":0},{"$f":"+GETPIVOTDATA(\"BAS017\",TABLAS!$A$1011)","v":0},{"$f":"+GETPIVOTDATA(\"BAS018\",TABLAS!$A$1011)","v":0},0,0,null,null,null,null,null,null,{"$f":"+AX222+1","v":13},{"$f":"+AS223+1","v":14},15,16,17,18,"=+IMPORTARDATOSDINAMICOS(\"BAS013\",TABLAS!$A$1011)","=+IMPORTARDATOSDINAMICOS(\"BAS014\",TABLAS!$A$1011)","=+IMPORTARDATOSDINAMICOS(\"BAS015\",TABLAS!$A$1011)","=+IMPORTARDATOSDINAMICOS(\"BAS016\",TABLAS!$A$1011)","=+IMPORTARDATOSDINAMICOS(\"BAS017\",TABLAS!$A$1011)","=+IMPORTARDATOSDINAMICOS(\"BAS018\",TABLAS!$A$1011)"]
["HEMOGLOBINA [BS004]",null,null,{"$f":"+GETPIVOTDATA(\"BAS019\",TABLAS!$A$441)","v":0},{"$f":"+GETPIVOTDATA(\"BAS020\",TABLAS!$A$441)","v":0},{"$f":"+GETPIVOTDATA(\"BAS021\",TABLAS!$A$441)","v":0},{"$f":"+GETPIVOTDATA(\"BAS022\",TABLAS!$A$441)","v":0},{"$f":"+GETPIVOTDATA(\"BAS023\",TABLAS!$A$441)","v":0},{"$f":"+GETPIVOTDATA(\"BAS024\",TABLAS!$A$441)","v":0},0,{"$f":"+GETPIVOTDATA(\"BAS019\",TABLAS!$A$591)","v":0},{"$f":"+GETPIVOTDATA(\"BAS020\",TABLAS!$A$591)","v":0},{"$f":"+GETPIVOTDATA(\"BAS021\",TABLAS!$A$591)","v":0},{"$f":"+GETPIVOTDATA(\"BAS022\",TABLAS!$A$591)","v":0},{"$f":"+GETPIVOTDATA(\"BAS023\",TABLAS!$A$591)","v":0},{"$f":"+GETPIVOTDATA(\"BAS024\",TABLAS!$A$591)","v":0},0,0,null,null,null,null,null,{"$f":"+GETPIVOTDATA(\"BAS019\",TABLAS!$A$861)","v":0},{"$f":"+GETPIVOTDATA(\"BAS020\",TABLAS!$A$861)","v":0},{"$f":"+GETPIVOTDATA(\"BAS021\",TABLAS!$A$861)","v":0},{"$f":"+GETPIVOTDATA(\"BAS022\",TABLAS!$A$861)","v":0},{"$f":"+GETPIVOTDATA(\"BAS023\",TABLAS!$A$861)","v":0},{"$f":"+GETPIVOTDATA(\"BAS024\",TABLAS!$A$861)","v":0},0,{"$f":"+GETPIVOTDATA(\"BAS019\",TABLAS!$A$1011)","v":0},{"$f":"+GETPIVOTDATA(\"BAS020\",TABLAS!$A$1011)","v":0},{"$f":"+GETPIVOTDATA(\"BAS021\",TABLAS!$A$1011)","v":0},{"$f":"+GETPIVOTDATA(\"BAS022\",TABLAS!$A$1011)","v":0},{"$f":"+GETPIVOTDATA(\"BAS023\",TABLAS!$A$1011)","v":0},{"$f":"+GETPIVOTDATA(\"BAS024\",TABLAS!$A$1011)","v":0},0,0,null,null,null,null,null,null,19,{"$f":"+AS224+1","v":20},21,22,23,24,"=+IMPORTARDATOSDINAMICOS(\"BAS019\",TABLAS!$A$1011)","=+IMPORTARDATOSDINAMICOS(\"BAS020\",TABLAS!$A$1011)","=+IMPORTARDATOSDINAMICOS(\"BAS021\",TABLAS!$A$1011)","=+IMPORTARDATOSDINAMICOS(\"BAS022\",TABLAS!$A$1011)","=+IMPORTARDATOSDINAMICOS(\"BAS023\",TABLAS!$A$1011)","=+IMPORTARDATOSDINAMICOS(\"BAS024\",TABLAS!$A$1011)"]
["GRUPO SANGUINEO CELULAR [BS005]",null,null,{"$f":"+GETPIVOTDATA(\"BAS025\",TABLAS!$A$441)","v":0},{"$f":"+GETPIVOTDATA(\"BAS026\",TABLAS!$A$441)","v":0},{"$f":"+GETPIVOTDATA(\"BAS027\",TABLAS!$A$441)","v":0},{"$f":"+GETPIVOTDATA(\"BAS028\",TABLAS!$A$441)","v":0},{"$f":"+GETPIVOTDATA(\"BAS029\",TABLAS!$A$441)","v":0},{"$f":"+GETPIVOTDATA(\"BAS030\",TABLAS!$A$441)","v":0},0,{"$f":"+GETPIVOTDATA(\"BAS025\",TABLAS!$A$591)","v":0},{"$f":"+GETPIVOTDATA(\"BAS026\",TABLAS!$A$591)","v":0},{"$f":"+GETPIVOTDATA(\"BAS027\",TABLAS!$A$591)","v":0},{"$f":"+GETPIVOTDATA(\"BAS028\",TABLAS!$A$591)","v":0},{"$f":"+GETPIVOTDATA(\"BAS029\",TABLAS!$A$591)","v":0},{"$f":"+GETPIVOTDATA(\"BAS030\",TABLAS!$A$591)","v":0},0,0,null,null,null,null,null,{"$f":"+GETPIVOTDATA(\"BAS025\",TABLAS!$A$861)","v":0},{"$f":"+GETPIVOTDATA(\"BAS026\",TABLAS!$A$861)","v":0},{"$f":"+GETPIVOTDATA(\"BAS027\",TABLAS!$A$861)","v":0},{"$f":"+GETPIVOTDATA(\"BAS028\",TABLAS!$A$861)","v":0},{"$f":"+GETPIVOTDATA(\"BAS029\",TABLAS!$A$861)","v":0},{"$f":"+GETPIVOTDATA(\"BAS030\",TABLAS!$A$861)","v":0},0,{"$f":"+GETPIVOTDATA(\"BAS025\",TABLAS!$A$1011)","v":0},{"$f":"+GETPIVOTDATA(\"BAS026\",TABLAS!$A$1011)","v":0},{"$f":"+GETPIVOTDATA(\"BAS027\",TABLAS!$A$1011)","v":0},{"$f":"+GETPIVOTDATA(\"BAS028\",TABLAS!$A$1011)","v":0},{"$f":"+GETPIVOTDATA(\"BAS029\",TABLAS!$A$1011)","v":0},{"$f":"+GETPIVOTDATA(\"BAS030\",TABLAS!$A$1011)","v":0},0,0,null,null,null,null,null,null,25,{"$f":"+AS225+1","v":26},27,28,29,30,"=+IMPORTARDATOSDINAMICOS(\"BAS025\",TABLAS!$A$1011)","=+IMPORTARDATOSDINAMICOS(\"BAS026\",TABLAS!$A$1011)","=+IMPORTARDATOSDINAMICOS(\"BAS027\",TABLAS!$A$1011)","=+IMPORTARDATOSDINAMICOS(\"BAS028\",TABLAS!$A$1011)","=+IMPORTARDATOSDINAMICOS(\"BAS029\",TABLAS!$A$1011)","=+IMPORTARDATOSDINAMICOS(\"BAS030\",TABLAS!$A$1011)"]
["GRUPO SANGUINEO SERICO [BS006]",null,null,{"$f":"+GETPIVOTDATA(\"BAS031\",TABLAS!$A$441)","v":0},{"$f":"+GETPIVOTDATA(\"BAS032\",TABLAS!$A$441)","v":0},{"$f":"+GETPIVOTDATA(\"BAS033\",TABLAS!$A$441)","v":0},{"$f":"+GETPIVOTDATA(\"BAS034\",TABLAS!$A$441)","v":0},{"$f":"+GETPIVOTDATA(\"BAS035\",TABLAS!$A$441)","v":0},{"$f":"+GETPIVOTDATA(\"BAS036\",TABLAS!$A$441)","v":0},0,{"$f":"+GETPIVOTDATA(\"BAS031\",TABLAS!$A$591)","v":0},{"$f":"+GETPIVOTDATA(\"BAS032\",TABLAS!$A$591)","v":0},{"$f":"+GETPIVOTDATA(\"BAS033\",TABLAS!$A$591)","v":0},{"$f":"+GETPIVOTDATA(\"BAS034\",TABLAS!$A$591)","v":0},{"$f":"+GETPIVOTDATA(\"BAS035\",TABLAS!$A$591)","v":0},{"$f":"+GETPIVOTDATA(\"BAS036\",TABLAS!$A$591)","v":0},0,0,null,null,null,null,null,{"$f":"+GETPIVOTDATA(\"BAS031\",TABLAS!$A$861)","v":0},{"$f":"+GETPIVOTDATA(\"BAS032\",TABLAS!$A$861)","v":0},{"$f":"+GETPIVOTDATA(\"BAS033\",TABLAS!$A$861)","v":0},{"$f":"+GETPIVOTDATA(\"BAS034\",TABLAS!$A$861)","v":0},{"$f":"+GETPIVOTDATA(\"BAS035\",TABLAS!$A$861)","v":0},{"$f":"+GETPIVOTDATA(\"BAS036\",TABLAS!$A$861)","v":0},0,{"$f":"+GETPIVOTDATA(\"BAS031\",TABLAS!$A$1011)","v":0},{"$f":"+GETPIVOTDATA(\"BAS032\",TABLAS!$A$1011)","v":0},{"$f":"+GETPIVOTDATA(\"BAS033\",TABLAS!$A$1011)","v":0},{"$f":"+GETPIVOTDATA(\"BAS034\",TABLAS!$A$1011)","v":0},{"$f":"+GETPIVOTDATA(\"BAS035\",TABLAS!$A$1011)","v":0},{"$f":"+GETPIVOTDATA(\"BAS036\",TABLAS!$A$1011)","v":0},0,0,null,null,null,null,null,null,31,{"$f":"+AS226+1","v":32},33,34,35,36,"=+IMPORTARDATOSDINAMICOS(\"BAS031\",TABLAS!$A$1011)","=+IMPORTARDATOSDINAMICOS(\"BAS032\",TABLAS!$A$1011)","=+IMPORTARDATOSDINAMICOS(\"BAS033\",TABLAS!$A$1011)","=+IMPORTARDATOSDINAMICOS(\"BAS034\",TABLAS!$A$1011)","=+IMPORTARDATOSDINAMICOS(\"BAS035\",TABLAS!$A$1011)","=+IMPORTARDATOSDINAMICOS(\"BAS036\",TABLAS!$A$1011)"]
["FENOTIFICACION  [BS007]",null,null,{"$f":"+GETPIVOTDATA(\"BAS037\",TABLAS!$A$441)","v":0},{"$f":"+GETPIVOTDATA(\"BAS038\",TABLAS!$A$441)","v":0},{"$f":"+GETPIVOTDATA(\"BAS039\",TABLAS!$A$441)","v":0},{"$f":"+GETPIVOTDATA(\"BAS040\",TABLAS!$A$441)","v":0},{"$f":"+GETPIVOTDATA(\"BAS041\",TABLAS!$A$441)","v":0},{"$f":"+GETPIVOTDATA(\"BAS042\",TABLAS!$A$441)","v":0},0,{"$f":"+GETPIVOTDATA(\"BAS037\",TABLAS!$A$591)","v":0},{"$f":"+GETPIVOTDATA(\"BAS038\",TABLAS!$A$591)","v":0},{"$f":"+GETPIVOTDATA(\"BAS039\",TABLAS!$A$591)","v":0},{"$f":"+GETPIVOTDATA(\"BAS040\",TABLAS!$A$591)","v":0},{"$f":"+GETPIVOTDATA(\"BAS041\",TABLAS!$A$591)","v":0},{"$f":"+GETPIVOTDATA(\"BAS042\",TABLAS!$A$591)","v":0},0,0,null,null,null,null,null,{"$f":"+GETPIVOTDATA(\"BAS037\",TABLAS!$A$861)","v":0},{"$f":"+GETPIVOTDATA(\"BAS038\",TABLAS!$A$861)","v":0},{"$f":"+GETPIVOTDATA(\"BAS039\",TABLAS!$A$861)","v":0},{"$f":"+GETPIVOTDATA(\"BAS040\",TABLAS!$A$861)","v":0},{"$f":"+GETPIVOTDATA(\"BAS041\",TABLAS!$A$861)","v":0},{"$f":"+GETPIVOTDATA(\"BAS042\",TABLAS!$A$861)","v":0},0,{"$f":"+GETPIVOTDATA(\"BAS037\",TABLAS!$A$1011)","v":0},{"$f":"+GETPIVOTDATA(\"BAS038\",TABLAS!$A$1011)","v":0},{"$f":"+GETPIVOTDATA(\"BAS039\",TABLAS!$A$1011)","v":0},{"$f":"+GETPIVOTDATA(\"BAS040\",TABLAS!$A$1011)","v":0},{"$f":"+GETPIVOTDATA(\"BAS041\",TABLAS!$A$1011)","v":0},{"$f":"+GETPIVOTDATA(\"BAS042\",TABLAS!$A$1011)","v":0},0,0,null,null,null,null,null,null,37,{"$f":"+AS227+1","v":38},39,40,41,42,"=+IMPORTARDATOSDINAMICOS(\"BAS037\",TABLAS!$A$1011)","=+IMPORTARDATOSDINAMICOS(\"BAS038\",TABLAS!$A$1011)","=+IMPORTARDATOSDINAMICOS(\"BAS039\",TABLAS!$A$1011)","=+IMPORTARDATOSDINAMICOS(\"BAS040\",TABLAS!$A$1011)","=+IMPORTARDATOSDINAMICOS(\"BAS041\",TABLAS!$A$1011)","=+IMPORTARDATOSDINAMICOS(\"BAS042\",TABLAS!$A$1011)"]
["PRUEBA CRUZADA [BS008]",null,null,{"$f":"+GETPIVOTDATA(\"BAS043\",TABLAS!$A$441)","v":0},{"$f":"+GETPIVOTDATA(\"BAS044\",TABLAS!$A$441)","v":0},{"$f":"+GETPIVOTDATA(\"BAS045\",TABLAS!$A$441)","v":0},{"$f":"+GETPIVOTDATA(\"BAS046\",TABLAS!$A$441)","v":0},{"$f":"+GETPIVOTDATA(\"BAS047\",TABLAS!$A$441)","v":0},{"$f":"+GETPIVOTDATA(\"BAS048\",TABLAS!$A$441)","v":0},0,{"$f":"+GETPIVOTDATA(\"BAS043\",TABLAS!$A$591)","v":0},{"$f":"+GETPIVOTDATA(\"BAS044\",TABLAS!$A$591)","v":0},{"$f":"+GETPIVOTDATA(\"BAS045\",TABLAS!$A$591)","v":0},{"$f":"+GETPIVOTDATA(\"BAS046\",TABLAS!$A$591)","v":0},{"$f":"+GETPIVOTDATA(\"BAS047\",TABLAS!$A$591)","v":0},{"$f":"+GETPIVOTDATA(\"BAS048\",TABLAS!$A$591)","v":0},0,0,null,null,null,null,null,{"$f":"+GETPIVOTDATA(\"BAS043\",TABLAS!$A$861)","v":0},{"$f":"+GETPIVOTDATA(\"BAS044\",TABLAS!$A$861)","v":0},{"$f":"+GETPIVOTDATA(\"BAS045\",TABLAS!$A$861)","v":0},{"$f":"+GETPIVOTDATA(\"BAS046\",TABLAS!$A$861)","v":0},{"$f":"+GETPIVOTDATA(\"BAS047\",TABLAS!$A$861)","v":0},{"$f":"+GETPIVOTDATA(\"BAS048\",TABLAS!$A$861)","v":0},0,{"$f":"+GETPIVOTDATA(\"BAS043\",TABLAS!$A$1011)","v":0},{"$f":"+GETPIVOTDATA(\"BAS044\",TABLAS!$A$1011)","v":0},{"$f":"+GETPIVOTDATA(\"BAS045\",TABLAS!$A$1011)","v":0},{"$f":"+GETPIVOTDATA(\"BAS046\",TABLAS!$A$1011)","v":0},{"$f":"+GETPIVOTDATA(\"BAS047\",TABLAS!$A$1011)","v":0},{"$f":"+GETPIVOTDATA(\"BAS048\",TABLAS!$A$1011)","v":0},0,0,null,null,null,null,null,null,43,{"$f":"+AS228+1","v":44},45,46,47,48,"=+IMPORTARDATOSDINAMICOS(\"BAS043\",TABLAS!$A$1011)","=+IMPORTARDATOSDINAMICOS(\"BAS044\",TABLAS!$A$1011)","=+IMPORTARDATOSDINAMICOS(\"BAS045\",TABLAS!$A$1011)","=+IMPORTARDATOSDINAMICOS(\"BAS046\",TABLAS!$A$1011)","=+IMPORTARDATOSDINAMICOS(\"BAS047\",TABLAS!$A$1011)","=+IMPORTARDATOSDINAMICOS(\"BAS048\",TABLAS!$A$1011)"]
["COOMBS DIRECTO [BS009]",null,null,{"$f":"+GETPIVOTDATA(\"BAS049\",TABLAS!$A$441)","v":0},{"$f":"+GETPIVOTDATA(\"BAS050\",TABLAS!$A$441)","v":0},{"$f":"+GETPIVOTDATA(\"BAS051\",TABLAS!$A$441)","v":0},{"$f":"+GETPIVOTDATA(\"BAS052\",TABLAS!$A$441)","v":0},{"$f":"+GETPIVOTDATA(\"BAS053\",TABLAS!$A$441)","v":0},{"$f":"+GETPIVOTDATA(\"BAS054\",TABLAS!$A$441)","v":0},0,{"$f":"+GETPIVOTDATA(\"BAS049\",TABLAS!$A$591)","v":0},{"$f":"+GETPIVOTDATA(\"BAS050\",TABLAS!$A$591)","v":0},{"$f":"+GETPIVOTDATA(\"BAS051\",TABLAS!$A$591)","v":0},{"$f":"+GETPIVOTDATA(\"BAS052\",TABLAS!$A$591)","v":0},{"$f":"+GETPIVOTDATA(\"BAS053\",TABLAS!$A$591)","v":0},{"$f":"+GETPIVOTDATA(\"BAS054\",TABLAS!$A$591)","v":0},0,0,null,null,null,null,null,{"$f":"+GETPIVOTDATA(\"BAS049\",TABLAS!$A$861)","v":0},{"$f":"+GETPIVOTDATA(\"BAS050\",TABLAS!$A$861)","v":0},{"$f":"+GETPIVOTDATA(\"BAS051\",TABLAS!$A$861)","v":0},{"$f":"+GETPIVOTDATA(\"BAS052\",TABLAS!$A$861)","v":0},{"$f":"+GETPIVOTDATA(\"BAS053\",TABLAS!$A$861)","v":0},{"$f":"+GETPIVOTDATA(\"BAS054\",TABLAS!$A$861)","v":0},0,{"$f":"+GETPIVOTDATA(\"BAS049\",TABLAS!$A$1011)","v":0},{"$f":"+GETPIVOTDATA(\"BAS050\",TABLAS!$A$1011)","v":0},{"$f":"+GETPIVOTDATA(\"BAS051\",TABLAS!$A$1011)","v":0},{"$f":"+GETPIVOTDATA(\"BAS052\",TABLAS!$A$1011)","v":0},{"$f":"+GETPIVOTDATA(\"BAS053\",TABLAS!$A$1011)","v":0},{"$f":"+GETPIVOTDATA(\"BAS054\",TABLAS!$A$1011)","v":0},0,0,null,null,null,null,null,null,49,{"$f":"+AS229+1","v":50},51,52,53,54,"=+IMPORTARDATOSDINAMICOS(\"BAS049\",TABLAS!$A$1011)","=+IMPORTARDATOSDINAMICOS(\"BAS050\",TABLAS!$A$1011)","=+IMPORTARDATOSDINAMICOS(\"BAS051\",TABLAS!$A$1011)","=+IMPORTARDATOSDINAMICOS(\"BAS052\",TABLAS!$A$1011)","=+IMPORTARDATOSDINAMICOS(\"BAS053\",TABLAS!$A$1011)","=+IMPORTARDATOSDINAMICOS(\"BAS054\",TABLAS!$A$1011)"]
["COOMBS INDIRECTO [BS010]",null,null,{"$f":"+GETPIVOTDATA(\"BAS055\",TABLAS!$A$441)","v":0},{"$f":"+GETPIVOTDATA(\"BAS056\",TABLAS!$A$441)","v":0},{"$f":"+GETPIVOTDATA(\"BAS057\",TABLAS!$A$441)","v":0},{"$f":"+GETPIVOTDATA(\"BAS058\",TABLAS!$A$441)","v":0},{"$f":"+GETPIVOTDATA(\"BAS059\",TABLAS!$A$441)","v":0},{"$f":"+GETPIVOTDATA(\"BAS060\",TABLAS!$A$441)","v":0},0,{"$f":"+GETPIVOTDATA(\"BAS055\",TABLAS!$A$591)","v":0},{"$f":"+GETPIVOTDATA(\"BAS056\",TABLAS!$A$591)","v":0},{"$f":"+GETPIVOTDATA(\"BAS057\",TABLAS!$A$591)","v":0},{"$f":"+GETPIVOTDATA(\"BAS058\",TABLAS!$A$591)","v":0},{"$f":"+GETPIVOTDATA(\"BAS059\",TABLAS!$A$591)","v":0},{"$f":"+GETPIVOTDATA(\"BAS060\",TABLAS!$A$591)","v":0},0,0,null,null,null,null,null,{"$f":"+GETPIVOTDATA(\"BAS055\",TABLAS!$A$861)","v":0},{"$f":"+GETPIVOTDATA(\"BAS056\",TABLAS!$A$861)","v":0},{"$f":"+GETPIVOTDATA(\"BAS057\",TABLAS!$A$861)","v":0},{"$f":"+GETPIVOTDATA(\"BAS058\",TABLAS!$A$861)","v":0},{"$f":"+GETPIVOTDATA(\"BAS059\",TABLAS!$A$861)","v":0},{"$f":"+GETPIVOTDATA(\"BAS060\",TABLAS!$A$861)","v":0},0,{"$f":"+GETPIVOTDATA(\"BAS055\",TABLAS!$A$1011)","v":0},{"$f":"+GETPIVOTDATA(\"BAS056\",TABLAS!$A$1011)","v":0},{"$f":"+GETPIVOTDATA(\"BAS057\",TABLAS!$A$1011)","v":0},{"$f":"+GETPIVOTDATA(\"BAS058\",TABLAS!$A$1011)","v":0},{"$f":"+GETPIVOTDATA(\"BAS059\",TABLAS!$A$1011)","v":0},{"$f":"+GETPIVOTDATA(\"BAS060\",TABLAS!$A$1011)","v":0},0,0,null,null,null,null,null,null,55,{"$f":"+AS230+1","v":56},57,58,59,60,"=+IMPORTARDATOSDINAMICOS(\"BAS055\",TABLAS!$A$1011)","=+IMPORTARDATOSDINAMICOS(\"BAS056\",TABLAS!$A$1011)","=+IMPORTARDATOSDINAMICOS(\"BAS057\",TABLAS!$A$1011)","=+IMPORTARDATOSDINAMICOS(\"BAS058\",TABLAS!$A$1011)","=+IMPORTARDATOSDINAMICOS(\"BAS059\",TABLAS!$A$1011)","=+IMPORTARDATOSDINAMICOS(\"BAS060\",TABLAS!$A$1011)"]
["ANTICUERPOS IRREGULARES [BS011]",null,null,{"$f":"+GETPIVOTDATA(\"BAS061\",TABLAS!$A$441)","v":0},{"$f":"+GETPIVOTDATA(\"BAS062\",TABLAS!$A$441)","v":0},{"$f":"+GETPIVOTDATA(\"BAS063\",TABLAS!$A$441)","v":0},{"$f":"+GETPIVOTDATA(\"BAS064\",TABLAS!$A$441)","v":0},{"$f":"+GETPIVOTDATA(\"BAS065\",TABLAS!$A$441)","v":0},{"$f":"+GETPIVOTDATA(\"BAS066\",TABLAS!$A$441)","v":0},0,{"$f":"+GETPIVOTDATA(\"BAS061\",TABLAS!$A$591)","v":0},{"$f":"+GETPIVOTDATA(\"BAS062\",TABLAS!$A$591)","v":0},{"$f":"+GETPIVOTDATA(\"BAS063\",TABLAS!$A$591)","v":0},{"$f":"+GETPIVOTDATA(\"BAS064\",TABLAS!$A$591)","v":0},{"$f":"+GETPIVOTDATA(\"BAS065\",TABLAS!$A$591)","v":0},{"$f":"+GETPIVOTDATA(\"BAS066\",TABLAS!$A$591)","v":0},0,0,null,null,null,null,null,{"$f":"+GETPIVOTDATA(\"BAS061\",TABLAS!$A$861)","v":0},{"$f":"+GETPIVOTDATA(\"BAS062\",TABLAS!$A$861)","v":0},{"$f":"+GETPIVOTDATA(\"BAS063\",TABLAS!$A$861)","v":0},{"$f":"+GETPIVOTDATA(\"BAS064\",TABLAS!$A$861)","v":0},{"$f":"+GETPIVOTDATA(\"BAS065\",TABLAS!$A$861)","v":0},{"$f":"+GETPIVOTDATA(\"BAS066\",TABLAS!$A$861)","v":0},0,{"$f":"+GETPIVOTDATA(\"BAS061\",TABLAS!$A$1011)","v":0},{"$f":"+GETPIVOTDATA(\"BAS062\",TABLAS!$A$1011)","v":0},{"$f":"+GETPIVOTDATA(\"BAS063\",TABLAS!$A$1011)","v":0},{"$f":"+GETPIVOTDATA(\"BAS064\",TABLAS!$A$1011)","v":0},{"$f":"+GETPIVOTDATA(\"BAS065\",TABLAS!$A$1011)","v":0},{"$f":"+GETPIVOTDATA(\"BAS066\",TABLAS!$A$1011)","v":0},0,0,null,null,null,null,null,null,61,{"$f":"+AS231+1","v":62},63,64,65,66,"=+IMPORTARDATOSDINAMICOS(\"BAS061\",TABLAS!$A$1011)","=+IMPORTARDATOSDINAMICOS(\"BAS062\",TABLAS!$A$1011)","=+IMPORTARDATOSDINAMICOS(\"BAS063\",TABLAS!$A$1011)","=+IMPORTARDATOSDINAMICOS(\"BAS064\",TABLAS!$A$1011)","=+IMPORTARDATOSDINAMICOS(\"BAS065\",TABLAS!$A$1011)","=+IMPORTARDATOSDINAMICOS(\"BAS066\",TABLAS!$A$1011)"]
["TOMA DE MUESTRA SELECTIVA  [BS012]",null,null,{"$f":"+GETPIVOTDATA(\"BAS067\",TABLAS!$A$441)","v":0},{"$f":"+GETPIVOTDATA(\"BAS068\",TABLAS!$A$441)","v":0},{"$f":"+GETPIVOTDATA(\"BAS069\",TABLAS!$A$441)","v":0},{"$f":"+GETPIVOTDATA(\"BAS070\",TABLAS!$A$441)","v":0},{"$f":"+GETPIVOTDATA(\"BAS071\",TABLAS!$A$441)","v":0},{"$f":"+GETPIVOTDATA(\"BAS072\",TABLAS!$A$441)","v":0},0,{"$f":"+GETPIVOTDATA(\"BAS067\",TABLAS!$A$591)","v":0},{"$f":"+GETPIVOTDATA(\"BAS068\",TABLAS!$A$591)","v":0},{"$f":"+GETPIVOTDATA(\"BAS069\",TABLAS!$A$591)","v":0},{"$f":"+GETPIVOTDATA(\"BAS070\",TABLAS!$A$591)","v":0},{"$f":"+GETPIVOTDATA(\"BAS071\",TABLAS!$A$591)","v":0},{"$f":"+GETPIVOTDATA(\"BAS072\",TABLAS!$A$591)","v":0},0,0,null,null,null,null,null,{"$f":"+GETPIVOTDATA(\"BAS067\",TABLAS!$A$861)","v":0},{"$f":"+GETPIVOTDATA(\"BAS068\",TABLAS!$A$861)","v":0},{"$f":"+GETPIVOTDATA(\"BAS069\",TABLAS!$A$861)","v":0},{"$f":"+GETPIVOTDATA(\"BAS070\",TABLAS!$A$861)","v":0},{"$f":"+GETPIVOTDATA(\"BAS071\",TABLAS!$A$861)","v":0},{"$f":"+GETPIVOTDATA(\"BAS072\",TABLAS!$A$861)","v":0},0,{"$f":"+GETPIVOTDATA(\"BAS067\",TABLAS!$A$1011)","v":0},{"$f":"+GETPIVOTDATA(\"BAS068\",TABLAS!$A$1011)","v":0},{"$f":"+GETPIVOTDATA(\"BAS069\",TABLAS!$A$1011)","v":0},{"$f":"+GETPIVOTDATA(\"BAS070\",TABLAS!$A$1011)","v":0},{"$f":"+GETPIVOTDATA(\"BAS071\",TABLAS!$A$1011)","v":0},{"$f":"+GETPIVOTDATA(\"BAS072\",TABLAS!$A$1011)","v":0},0,0,null,null,null,null,null,null,67,{"$f":"+AS232+1","v":68},69,70,71,72,"=+IMPORTARDATOSDINAMICOS(\"BAS067\",TABLAS!$A$1011)","=+IMPORTARDATOSDINAMICOS(\"BAS068\",TABLAS!$A$1011)","=+IMPORTARDATOSDINAMICOS(\"BAS069\",TABLAS!$A$1011)","=+IMPORTARDATOSDINAMICOS(\"BAS070\",TABLAS!$A$1011)","=+IMPORTARDATOSDINAMICOS(\"BAS071\",TABLAS!$A$1011)","=+IMPORTARDATOSDINAMICOS(\"BAS072\",TABLAS!$A$1011)"]
["FLEBOTOMIA [BS013]",null,null,{"$f":"+GETPIVOTDATA(\"BAS073\",TABLAS!$A$441)","v":0},{"$f":"+GETPIVOTDATA(\"BAS074\",TABLAS!$A$441)","v":0},{"$f":"+GETPIVOTDATA(\"BAS075\",TABLAS!$A$441)","v":0},{"$f":"+GETPIVOTDATA(\"BAS076\",TABLAS!$A$441)","v":0},{"$f":"+GETPIVOTDATA(\"BAS077\",TABLAS!$A$441)","v":0},{"$f":"+GETPIVOTDATA(\"BAS078\",TABLAS!$A$441)","v":0},0,{"$f":"+GETPIVOTDATA(\"BAS073\",TABLAS!$A$591)","v":0},{"$f":"+GETPIVOTDATA(\"BAS074\",TABLAS!$A$591)","v":0},{"$f":"+GETPIVOTDATA(\"BAS075\",TABLAS!$A$591)","v":0},{"$f":"+GETPIVOTDATA(\"BAS076\",TABLAS!$A$591)","v":0},{"$f":"+GETPIVOTDATA(\"BAS077\",TABLAS!$A$591)","v":0},{"$f":"+GETPIVOTDATA(\"BAS078\",TABLAS!$A$591)","v":0},0,0,null,null,null,null,null,{"$f":"+GETPIVOTDATA(\"BAS073\",TABLAS!$A$861)","v":0},{"$f":"+GETPIVOTDATA(\"BAS074\",TABLAS!$A$861)","v":0},{"$f":"+GETPIVOTDATA(\"BAS075\",TABLAS!$A$861)","v":0},{"$f":"+GETPIVOTDATA(\"BAS076\",TABLAS!$A$861)","v":0},{"$f":"+GETPIVOTDATA(\"BAS077\",TABLAS!$A$861)","v":0},{"$f":"+GETPIVOTDATA(\"BAS078\",TABLAS!$A$861)","v":0},0,{"$f":"+GETPIVOTDATA(\"BAS073\",TABLAS!$A$1011)","v":0},{"$f":"+GETPIVOTDATA(\"BAS074\",TABLAS!$A$1011)","v":0},{"$f":"+GETPIVOTDATA(\"BAS075\",TABLAS!$A$1011)","v":0},{"$f":"+GETPIVOTDATA(\"BAS076\",TABLAS!$A$1011)","v":0},{"$f":"+GETPIVOTDATA(\"BAS077\",TABLAS!$A$1011)","v":0},{"$f":"+GETPIVOTDATA(\"BAS078\",TABLAS!$A$1011)","v":0},0,0,null,null,null,null,null,null,73,{"$f":"+AS233+1","v":74},75,76,77,78,"=+IMPORTARDATOSDINAMICOS(\"BAS073\",TABLAS!$A$1011)","=+IMPORTARDATOSDINAMICOS(\"BAS074\",TABLAS!$A$1011)","=+IMPORTARDATOSDINAMICOS(\"BAS075\",TABLAS!$A$1011)","=+IMPORTARDATOSDINAMICOS(\"BAS076\",TABLAS!$A$1011)","=+IMPORTARDATOSDINAMICOS(\"BAS077\",TABLAS!$A$1011)","=+IMPORTARDATOSDINAMICOS(\"BAS078\",TABLAS!$A$1011)"]
["AFERESIS TERAPEUTICA  [BS014]",null,null,{"$f":"+GETPIVOTDATA(\"BAS079\",TABLAS!$A$441)","v":0},{"$f":"+GETPIVOTDATA(\"BAS080\",TABLAS!$A$441)","v":0},{"$f":"+GETPIVOTDATA(\"BAS081\",TABLAS!$A$441)","v":0},{"$f":"+GETPIVOTDATA(\"BAS082\",TABLAS!$A$441)","v":0},{"$f":"+GETPIVOTDATA(\"BAS083\",TABLAS!$A$441)","v":0},{"$f":"+GETPIVOTDATA(\"BAS084\",TABLAS!$A$441)","v":0},0,{"$f":"+GETPIVOTDATA(\"BAS079\",TABLAS!$A$591)","v":0},{"$f":"+GETPIVOTDATA(\"BAS080\",TABLAS!$A$591)","v":0},{"$f":"+GETPIVOTDATA(\"BAS081\",TABLAS!$A$591)","v":0},{"$f":"+GETPIVOTDATA(\"BAS082\",TABLAS!$A$591)","v":0},{"$f":"+GETPIVOTDATA(\"BAS083\",TABLAS!$A$591)","v":0},{"$f":"+GETPIVOTDATA(\"BAS084\",TABLAS!$A$591)","v":0},0,0,null,null,null,null,null,{"$f":"+GETPIVOTDATA(\"BAS079\",TABLAS!$A$861)","v":0},{"$f":"+GETPIVOTDATA(\"BAS080\",TABLAS!$A$861)","v":0},{"$f":"+GETPIVOTDATA(\"BAS081\",TABLAS!$A$861)","v":0},{"$f":"+GETPIVOTDATA(\"BAS082\",TABLAS!$A$861)","v":0},{"$f":"+GETPIVOTDATA(\"BAS083\",TABLAS!$A$861)","v":0},{"$f":"+GETPIVOTDATA(\"BAS084\",TABLAS!$A$861)","v":0},0,{"$f":"+GETPIVOTDATA(\"BAS079\",TABLAS!$A$1011)","v":0},{"$f":"+GETPIVOTDATA(\"BAS080\",TABLAS!$A$1011)","v":0},{"$f":"+GETPIVOTDATA(\"BAS081\",TABLAS!$A$1011)","v":0},{"$f":"+GETPIVOTDATA(\"BAS082\",TABLAS!$A$1011)","v":0},{"$f":"+GETPIVOTDATA(\"BAS083\",TABLAS!$A$1011)","v":0},{"$f":"+GETPIVOTDATA(\"BAS084\",TABLAS!$A$1011)","v":0},0,0,null,null,null,null,null,null,79,{"$f":"+AS234+1","v":80},81,82,83,84,"=+IMPORTARDATOSDINAMICOS(\"BAS079\",TABLAS!$A$1011)","=+IMPORTARDATOSDINAMICOS(\"BAS080\",TABLAS!$A$1011)","=+IMPORTARDATOSDINAMICOS(\"BAS081\",TABLAS!$A$1011)","=+IMPORTARDATOSDINAMICOS(\"BAS082\",TABLAS!$A$1011)","=+IMPORTARDATOSDINAMICOS(\"BAS083\",TABLAS!$A$1011)","=+IMPORTARDATOSDINAMICOS(\"BAS084\",TABLAS!$A$1011)"]
["RECAMBIO PLASMATICO [BS015]",null,null,{"$f":"+GETPIVOTDATA(\"BAS085\",TABLAS!$A$441)","v":0},{"$f":"+GETPIVOTDATA(\"BAS086\",TABLAS!$A$441)","v":0},{"$f":"+GETPIVOTDATA(\"BAS087\",TABLAS!$A$441)","v":0},{"$f":"+GETPIVOTDATA(\"BAS088\",TABLAS!$A$441)","v":0},{"$f":"+GETPIVOTDATA(\"BAS089\",TABLAS!$A$441)","v":0},{"$f":"+GETPIVOTDATA(\"BAS090\",TABLAS!$A$441)","v":0},0,{"$f":"+GETPIVOTDATA(\"BAS085\",TABLAS!$A$591)","v":0},{"$f":"+GETPIVOTDATA(\"BAS086\",TABLAS!$A$591)","v":0},{"$f":"+GETPIVOTDATA(\"BAS087\",TABLAS!$A$591)","v":0},{"$f":"+GETPIVOTDATA(\"BAS088\",TABLAS!$A$591)","v":0},{"$f":"+GETPIVOTDATA(\"BAS089\",TABLAS!$A$591)","v":0},{"$f":"+GETPIVOTDATA(\"BAS090\",TABLAS!$A$591)","v":0},0,0,null,null,null,null,null,{"$f":"+GETPIVOTDATA(\"BAS085\",TABLAS!$A$861)","v":0},{"$f":"+GETPIVOTDATA(\"BAS086\",TABLAS!$A$861)","v":0},{"$f":"+GETPIVOTDATA(\"BAS087\",TABLAS!$A$861)","v":0},{"$f":"+GETPIVOTDATA(\"BAS088\",TABLAS!$A$861)","v":0},{"$f":"+GETPIVOTDATA(\"BAS089\",TABLAS!$A$861)","v":0},{"$f":"+GETPIVOTDATA(\"BAS090\",TABLAS!$A$861)","v":0},0,{"$f":"+GETPIVOTDATA(\"BAS085\",TABLAS!$A$1011)","v":0},{"$f":"+GETPIVOTDATA(\"BAS086\",TABLAS!$A$1011)","v":0},{"$f":"+GETPIVOTDATA(\"BAS087\",TABLAS!$A$1011)","v":0},{"$f":"+GETPIVOTDATA(\"BAS088\",TABLAS!$A$1011)","v":0},{"$f":"+GETPIVOTDATA(\"BAS089\",TABLAS!$A$1011)","v":0},{"$f":"+GETPIVOTDATA(\"BAS090\",TABLAS!$A$1011)","v":0},0,0,null,null,null,null,null,null,85,{"$f":"+AS235+1","v":86},87,88,89,90,"=+IMPORTARDATOSDINAMICOS(\"BAS085\",TABLAS!$A$1011)","=+IMPORTARDATOSDINAMICOS(\"BAS086\",TABLAS!$A$1011)","=+IMPORTARDATOSDINAMICOS(\"BAS087\",TABLAS!$A$1011)","=+IMPORTARDATOSDINAMICOS(\"BAS088\",TABLAS!$A$1011)","=+IMPORTARDATOSDINAMICOS(\"BAS089\",TABLAS!$A$1011)","=+IMPORTARDATOSDINAMICOS(\"BAS090\",TABLAS!$A$1011)"]
["FRACCIONAMIENTO (PREPARACION DE HEMOCOMPONENTES) [BS016]",null,null,{"$f":"+GETPIVOTDATA(\"BAS091\",TABLAS!$A$441)","v":0},{"$f":"+GETPIVOTDATA(\"BAS092\",TABLAS!$A$441)","v":0},{"$f":"+GETPIVOTDATA(\"BAS093\",TABLAS!$A$441)","v":0},{"$f":"+GETPIVOTDATA(\"BAS094\",TABLAS!$A$441)","v":0},{"$f":"+GETPIVOTDATA(\"BAS095\",TABLAS!$A$441)","v":0},{"$f":"+GETPIVOTDATA(\"BAS096\",TABLAS!$A$441)","v":0},0,{"$f":"+GETPIVOTDATA(\"BAS091\",TABLAS!$A$591)","v":0},{"$f":"+GETPIVOTDATA(\"BAS092\",TABLAS!$A$591)","v":0},{"$f":"+GETPIVOTDATA(\"BAS093\",TABLAS!$A$591)","v":0},{"$f":"+GETPIVOTDATA(\"BAS094\",TABLAS!$A$591)","v":0},{"$f":"+GETPIVOTDATA(\"BAS095\",TABLAS!$A$591)","v":0},{"$f":"+GETPIVOTDATA(\"BAS096\",TABLAS!$A$591)","v":0},0,0,null,null,null,null,null,{"$f":"+GETPIVOTDATA(\"BAS091\",TABLAS!$A$861)","v":0},{"$f":"+GETPIVOTDATA(\"BAS092\",TABLAS!$A$861)","v":0},{"$f":"+GETPIVOTDATA(\"BAS093\",TABLAS!$A$861)","v":0},{"$f":"+GETPIVOTDATA(\"BAS094\",TABLAS!$A$861)","v":0},{"$f":"+GETPIVOTDATA(\"BAS095\",TABLAS!$A$861)","v":0},{"$f":"+GETPIVOTDATA(\"BAS096\",TABLAS!$A$861)","v":0},0,{"$f":"+GETPIVOTDATA(\"BAS091\",TABLAS!$A$1011)","v":0},{"$f":"+GETPIVOTDATA(\"BAS092\",TABLAS!$A$1011)","v":0},{"$f":"+GETPIVOTDATA(\"BAS093\",TABLAS!$A$1011)","v":0},{"$f":"+GETPIVOTDATA(\"BAS094\",TABLAS!$A$1011)","v":0},{"$f":"+GETPIVOTDATA(\"BAS095\",TABLAS!$A$1011)","v":0},{"$f":"+GETPIVOTDATA(\"BAS096\",TABLAS!$A$1011)","v":0},0,0,null,null,null,null,null,null,91,{"$f":"+AS236+1","v":92},93,94,95,96,"=+IMPORTARDATOSDINAMICOS(\"BAS091\",TABLAS!$A$1011)","=+IMPORTARDATOSDINAMICOS(\"BAS092\",TABLAS!$A$1011)","=+IMPORTARDATOSDINAMICOS(\"BAS093\",TABLAS!$A$1011)","=+IMPORTARDATOSDINAMICOS(\"BAS094\",TABLAS!$A$1011)","=+IMPORTARDATOSDINAMICOS(\"BAS095\",TABLAS!$A$1011)","=+IMPORTARDATOSDINAMICOS(\"BAS096\",TABLAS!$A$1011)"]
["ALMACENAMIENTO PAQUETE GLOBULAR [BS017]",null,null,{"$f":"+GETPIVOTDATA(\"BAS097\",TABLAS!$A$441)","v":0},{"$f":"+GETPIVOTDATA(\"BAS098\",TABLAS!$A$441)","v":0},{"$f":"+GETPIVOTDATA(\"BAS099\",TABLAS!$A$441)","v":0},{"$f":"+GETPIVOTDATA(\"BAS100\",TABLAS!$A$441)","v":0},{"$f":"+GETPIVOTDATA(\"BAS101\",TABLAS!$A$441)","v":0},{"$f":"+GETPIVOTDATA(\"BAS102\",TABLAS!$A$441)","v":0},0,{"$f":"+GETPIVOTDATA(\"BAS097\",TABLAS!$A$591)","v":0},{"$f":"+GETPIVOTDATA(\"BAS098\",TABLAS!$A$591)","v":0},{"$f":"+GETPIVOTDATA(\"BAS099\",TABLAS!$A$591)","v":0},{"$f":"+GETPIVOTDATA(\"BAS100\",TABLAS!$A$591)","v":0},{"$f":"+GETPIVOTDATA(\"BAS101\",TABLAS!$A$591)","v":0},{"$f":"+GETPIVOTDATA(\"BAS102\",TABLAS!$A$591)","v":0},0,0,null,null,null,null,null,{"$f":"+GETPIVOTDATA(\"BAS097\",TABLAS!$A$861)","v":0},{"$f":"+GETPIVOTDATA(\"BAS098\",TABLAS!$A$861)","v":0},{"$f":"+GETPIVOTDATA(\"BAS099\",TABLAS!$A$861)","v":0},{"$f":"+GETPIVOTDATA(\"BAS100\",TABLAS!$A$861)","v":0},{"$f":"+GETPIVOTDATA(\"BAS101\",TABLAS!$A$861)","v":0},{"$f":"+GETPIVOTDATA(\"BAS102\",TABLAS!$A$861)","v":0},0,{"$f":"+GETPIVOTDATA(\"BAS097\",TABLAS!$A$1011)","v":0},{"$f":"+GETPIVOTDATA(\"BAS098\",TABLAS!$A$1011)","v":0},{"$f":"+GETPIVOTDATA(\"BAS099\",TABLAS!$A$1011)","v":0},{"$f":"+GETPIVOTDATA(\"BAS100\",TABLAS!$A$1011)","v":0},{"$f":"+GETPIVOTDATA(\"BAS101\",TABLAS!$A$1011)","v":0},{"$f":"+GETPIVOTDATA(\"BAS102\",TABLAS!$A$1011)","v":0},0,0,null,null,null,null,null,null,97,{"$f":"+AS237+1","v":98},99,100,101,102,"=+IMPORTARDATOSDINAMICOS(\"BAS097\",TABLAS!$A$1011)","=+IMPORTARDATOSDINAMICOS(\"BAS098\",TABLAS!$A$1011)","=+IMPORTARDATOSDINAMICOS(\"BAS099\",TABLAS!$A$1011)","=+IMPORTARDATOSDINAMICOS(\"BAS100\",TABLAS!$A$1011)","=+IMPORTARDATOSDINAMICOS(\"BAS101\",TABLAS!$A$1011)","=+IMPORTARDATOSDINAMICOS(\"BAS102\",TABLAS!$A$1011)"]
["ALMACENAMIENTO PLASMA FRESCO CONGELADO [BS018]",null,null,{"$f":"+GETPIVOTDATA(\"BAS103\",TABLAS!$A$441)","v":0},{"$f":"+GETPIVOTDATA(\"BAS104\",TABLAS!$A$441)","v":0},{"$f":"+GETPIVOTDATA(\"BAS105\",TABLAS!$A$441)","v":0},{"$f":"+GETPIVOTDATA(\"BAS106\",TABLAS!$A$441)","v":0},{"$f":"+GETPIVOTDATA(\"BAS107\",TABLAS!$A$441)","v":0},{"$f":"+GETPIVOTDATA(\"BAS108\",TABLAS!$A$441)","v":0},0,{"$f":"+GETPIVOTDATA(\"BAS103\",TABLAS!$A$591)","v":0},{"$f":"+GETPIVOTDATA(\"BAS104\",TABLAS!$A$591)","v":0},{"$f":"+GETPIVOTDATA(\"BAS105\",TABLAS!$A$591)","v":0},{"$f":"+GETPIVOTDATA(\"BAS106\",TABLAS!$A$591)","v":0},{"$f":"+GETPIVOTDATA(\"BAS107\",TABLAS!$A$591)","v":0},{"$f":"+GETPIVOTDATA(\"BAS108\",TABLAS!$A$591)","v":0},0,0,null,null,null,null,null,{"$f":"+GETPIVOTDATA(\"BAS103\",TABLAS!$A$861)","v":0},{"$f":"+GETPIVOTDATA(\"BAS104\",TABLAS!$A$861)","v":0},{"$f":"+GETPIVOTDATA(\"BAS105\",TABLAS!$A$861)","v":0},{"$f":"+GETPIVOTDATA(\"BAS106\",TABLAS!$A$861)","v":0},{"$f":"+GETPIVOTDATA(\"BAS107\",TABLAS!$A$861)","v":0},{"$f":"+GETPIVOTDATA(\"BAS108\",TABLAS!$A$861)","v":0},0,{"$f":"+GETPIVOTDATA(\"BAS103\",TABLAS!$A$1011)","v":0},{"$f":"+GETPIVOTDATA(\"BAS104\",TABLAS!$A$1011)","v":0},{"$f":"+GETPIVOTDATA(\"BAS105\",TABLAS!$A$1011)","v":0},{"$f":"+GETPIVOTDATA(\"BAS106\",TABLAS!$A$1011)","v":0},{"$f":"+GETPIVOTDATA(\"BAS107\",TABLAS!$A$1011)","v":0},{"$f":"+GETPIVOTDATA(\"BAS108\",TABLAS!$A$1011)","v":0},0,0,null,null,null,null,null,null,103,{"$f":"+AS238+1","v":104},105,106,107,108,"=+IMPORTARDATOSDINAMICOS(\"BAS103\",TABLAS!$A$1011)","=+IMPORTARDATOSDINAMICOS(\"BAS104\",TABLAS!$A$1011)","=+IMPORTARDATOSDINAMICOS(\"BAS105\",TABLAS!$A$1011)","=+IMPORTARDATOSDINAMICOS(\"BAS106\",TABLAS!$A$1011)","=+IMPORTARDATOSDINAMICOS(\"BAS107\",TABLAS!$A$1011)","=+IMPORTARDATOSDINAMICOS(\"BAS108\",TABLAS!$A$1011)"]
["ALMACENAMIENO DE PLAQUETAS [BS019]",null,null,{"$f":"+GETPIVOTDATA(\"BAS109\",TABLAS!$A$441)","v":0},{"$f":"+GETPIVOTDATA(\"BAS110\",TABLAS!$A$441)","v":0},{"$f":"+GETPIVOTDATA(\"BAS111\",TABLAS!$A$441)","v":0},{"$f":"+GETPIVOTDATA(\"BAS112\",TABLAS!$A$441)","v":0},{"$f":"+GETPIVOTDATA(\"BAS113\",TABLAS!$A$441)","v":0},{"$f":"+GETPIVOTDATA(\"BAS114\",TABLAS!$A$441)","v":0},0,{"$f":"+GETPIVOTDATA(\"BAS109\",TABLAS!$A$591)","v":0},{"$f":"+GETPIVOTDATA(\"BAS110\",TABLAS!$A$591)","v":0},{"$f":"+GETPIVOTDATA(\"BAS111\",TABLAS!$A$591)","v":0},{"$f":"+GETPIVOTDATA(\"BAS112\",TABLAS!$A$591)","v":0},{"$f":"+GETPIVOTDATA(\"BAS113\",TABLAS!$A$591)","v":0},{"$f":"+GETPIVOTDATA(\"BAS114\",TABLAS!$A$591)","v":0},0,0,null,null,null,null,null,{"$f":"+GETPIVOTDATA(\"BAS109\",TABLAS!$A$861)","v":0},{"$f":"+GETPIVOTDATA(\"BAS110\",TABLAS!$A$861)","v":0},{"$f":"+GETPIVOTDATA(\"BAS111\",TABLAS!$A$861)","v":0},{"$f":"+GETPIVOTDATA(\"BAS112\",TABLAS!$A$861)","v":0},{"$f":"+GETPIVOTDATA(\"BAS113\",TABLAS!$A$861)","v":0},{"$f":"+GETPIVOTDATA(\"BAS114\",TABLAS!$A$861)","v":0},0,{"$f":"+GETPIVOTDATA(\"BAS109\",TABLAS!$A$1011)","v":0},{"$f":"+GETPIVOTDATA(\"BAS110\",TABLAS!$A$1011)","v":0},{"$f":"+GETPIVOTDATA(\"BAS111\",TABLAS!$A$1011)","v":0},{"$f":"+GETPIVOTDATA(\"BAS112\",TABLAS!$A$1011)","v":0},{"$f":"+GETPIVOTDATA(\"BAS113\",TABLAS!$A$1011)","v":0},{"$f":"+GETPIVOTDATA(\"BAS114\",TABLAS!$A$1011)","v":0},0,0,null,null,null,null,null,null,109,{"$f":"+AS239+1","v":110},111,112,113,114,"=+IMPORTARDATOSDINAMICOS(\"BAS109\",TABLAS!$A$1011)","=+IMPORTARDATOSDINAMICOS(\"BAS110\",TABLAS!$A$1011)","=+IMPORTARDATOSDINAMICOS(\"BAS111\",TABLAS!$A$1011)","=+IMPORTARDATOSDINAMICOS(\"BAS112\",TABLAS!$A$1011)","=+IMPORTARDATOSDINAMICOS(\"BAS113\",TABLAS!$A$1011)","=+IMPORTARDATOSDINAMICOS(\"BAS114\",TABLAS!$A$1011)"]
["ALMACENAMIENTO CRIOPRESIPITADOS [BS020]",null,null,{"$f":"+GETPIVOTDATA(\"BAS115\",TABLAS!$A$441)","v":0},{"$f":"+GETPIVOTDATA(\"BAS116\",TABLAS!$A$441)","v":0},{"$f":"+GETPIVOTDATA(\"BAS117\",TABLAS!$A$441)","v":0},{"$f":"+GETPIVOTDATA(\"BAS118\",TABLAS!$A$441)","v":0},{"$f":"+GETPIVOTDATA(\"BAS119\",TABLAS!$A$441)","v":0},{"$f":"+GETPIVOTDATA(\"BAS120\",TABLAS!$A$441)","v":0},0,{"$f":"+GETPIVOTDATA(\"BAS115\",TABLAS!$A$591)","v":0},{"$f":"+GETPIVOTDATA(\"BAS116\",TABLAS!$A$591)","v":0},{"$f":"+GETPIVOTDATA(\"BAS117\",TABLAS!$A$591)","v":0},{"$f":"+GETPIVOTDATA(\"BAS118\",TABLAS!$A$591)","v":0},{"$f":"+GETPIVOTDATA(\"BAS119\",TABLAS!$A$591)","v":0},{"$f":"+GETPIVOTDATA(\"BAS120\",TABLAS!$A$591)","v":0},0,0,null,null,null,null,null,{"$f":"+GETPIVOTDATA(\"BAS115\",TABLAS!$A$861)","v":0},{"$f":"+GETPIVOTDATA(\"BAS116\",TABLAS!$A$861)","v":0},{"$f":"+GETPIVOTDATA(\"BAS117\",TABLAS!$A$861)","v":0},{"$f":"+GETPIVOTDATA(\"BAS118\",TABLAS!$A$861)","v":0},{"$f":"+GETPIVOTDATA(\"BAS119\",TABLAS!$A$861)","v":0},{"$f":"+GETPIVOTDATA(\"BAS120\",TABLAS!$A$861)","v":0},0,{"$f":"+GETPIVOTDATA(\"BAS115\",TABLAS!$A$1011)","v":0},{"$f":"+GETPIVOTDATA(\"BAS116\",TABLAS!$A$1011)","v":0},{"$f":"+GETPIVOTDATA(\"BAS117\",TABLAS!$A$1011)","v":0},{"$f":"+GETPIVOTDATA(\"BAS118\",TABLAS!$A$1011)","v":0},{"$f":"+GETPIVOTDATA(\"BAS119\",TABLAS!$A$1011)","v":0},{"$f":"+GETPIVOTDATA(\"BAS120\",TABLAS!$A$1011)","v":0},0,0,null,null,null,null,null,null,115,{"$f":"+AS240+1","v":116},117,118,119,120,"=+IMPORTARDATOSDINAMICOS(\"BAS115\",TABLAS!$A$1011)","=+IMPORTARDATOSDINAMICOS(\"BAS116\",TABLAS!$A$1011)","=+IMPORTARDATOSDINAMICOS(\"BAS117\",TABLAS!$A$1011)","=+IMPORTARDATOSDINAMICOS(\"BAS118\",TABLAS!$A$1011)","=+IMPORTARDATOSDINAMICOS(\"BAS119\",TABLAS!$A$1011)","=+IMPORTARDATOSDINAMICOS(\"BAS120\",TABLAS!$A$1011)"]
["SIFILIS POR ELISA [BS021]",null,null,{"$f":"+GETPIVOTDATA(\"BAS121\",TABLAS!$A$441)","v":0},{"$f":"+GETPIVOTDATA(\"BAS122\",TABLAS!$A$441)","v":0},{"$f":"+GETPIVOTDATA(\"BAS123\",TABLAS!$A$441)","v":0},{"$f":"+GETPIVOTDATA(\"BAS124\",TABLAS!$A$441)","v":0},{"$f":"+GETPIVOTDATA(\"BAS125\",TABLAS!$A$441)","v":0},{"$f":"+GETPIVOTDATA(\"BAS126\",TABLAS!$A$441)","v":0},0,{"$f":"+GETPIVOTDATA(\"BAS121\",TABLAS!$A$591)","v":0},{"$f":"+GETPIVOTDATA(\"BAS122\",TABLAS!$A$591)","v":0},{"$f":"+GETPIVOTDATA(\"BAS123\",TABLAS!$A$591)","v":0},{"$f":"+GETPIVOTDATA(\"BAS124\",TABLAS!$A$591)","v":0},{"$f":"+GETPIVOTDATA(\"BAS125\",TABLAS!$A$591)","v":0},{"$f":"+GETPIVOTDATA(\"BAS126\",TABLAS!$A$591)","v":0},0,0,null,null,null,null,null,{"$f":"+GETPIVOTDATA(\"BAS121\",TABLAS!$A$861)","v":0},{"$f":"+GETPIVOTDATA(\"BAS122\",TABLAS!$A$861)","v":0},{"$f":"+GETPIVOTDATA(\"BAS123\",TABLAS!$A$861)","v":0},{"$f":"+GETPIVOTDATA(\"BAS124\",TABLAS!$A$861)","v":0},{"$f":"+GETPIVOTDATA(\"BAS125\",TABLAS!$A$861)","v":0},{"$f":"+GETPIVOTDATA(\"BAS126\",TABLAS!$A$861)","v":0},0,{"$f":"+GETPIVOTDATA(\"BAS121\",TABLAS!$A$1011)","v":0},{"$f":"+GETPIVOTDATA(\"BAS122\",TABLAS!$A$1011)","v":0},{"$f":"+GETPIVOTDATA(\"BAS123\",TABLAS!$A$1011)","v":0},{"$f":"+GETPIVOTDATA(\"BAS124\",TABLAS!$A$1011)","v":0},{"$f":"+GETPIVOTDATA(\"BAS125\",TABLAS!$A$1011)","v":0},{"$f":"+GETPIVOTDATA(\"BAS126\",TABLAS!$A$1011)","v":0},0,0,null,null,null,null,null,null,121,{"$f":"+AS241+1","v":122},123,124,125,126,"=+IMPORTARDATOSDINAMICOS(\"BAS121\",TABLAS!$A$1011)","=+IMPORTARDATOSDINAMICOS(\"BAS122\",TABLAS!$A$1011)","=+IMPORTARDATOSDINAMICOS(\"BAS123\",TABLAS!$A$1011)","=+IMPORTARDATOSDINAMICOS(\"BAS124\",TABLAS!$A$1011)","=+IMPORTARDATOSDINAMICOS(\"BAS125\",TABLAS!$A$1011)","=+IMPORTARDATOSDINAMICOS(\"BAS126\",TABLAS!$A$1011)"]
["HTLV I Y II PORELISA [BS022]",null,null,{"$f":"+GETPIVOTDATA(\"BAS127\",TABLAS!$A$441)","v":0},{"$f":"+GETPIVOTDATA(\"BAS128\",TABLAS!$A$441)","v":0},{"$f":"+GETPIVOTDATA(\"BAS129\",TABLAS!$A$441)","v":0},{"$f":"+GETPIVOTDATA(\"BAS130\",TABLAS!$A$441)","v":0},{"$f":"+GETPIVOTDATA(\"BAS131\",TABLAS!$A$441)","v":0},{"$f":"+GETPIVOTDATA(\"BAS132\",TABLAS!$A$441)","v":0},0,{"$f":"+GETPIVOTDATA(\"BAS127\",TABLAS!$A$591)","v":0},{"$f":"+GETPIVOTDATA(\"BAS128\",TABLAS!$A$591)","v":0},{"$f":"+GETPIVOTDATA(\"BAS129\",TABLAS!$A$591)","v":0},{"$f":"+GETPIVOTDATA(\"BAS130\",TABLAS!$A$591)","v":0},{"$f":"+GETPIVOTDATA(\"BAS131\",TABLAS!$A$591)","v":0},{"$f":"+GETPIVOTDATA(\"BAS132\",TABLAS!$A$591)","v":0},0,0,null,null,null,null,null,{"$f":"+GETPIVOTDATA(\"BAS127\",TABLAS!$A$861)","v":0},{"$f":"+GETPIVOTDATA(\"BAS128\",TABLAS!$A$861)","v":0},{"$f":"+GETPIVOTDATA(\"BAS129\",TABLAS!$A$861)","v":0},{"$f":"+GETPIVOTDATA(\"BAS130\",TABLAS!$A$861)","v":0},{"$f":"+GETPIVOTDATA(\"BAS131\",TABLAS!$A$861)","v":0},{"$f":"+GETPIVOTDATA(\"BAS132\",TABLAS!$A$861)","v":0},0,{"$f":"+GETPIVOTDATA(\"BAS127\",TABLAS!$A$1011)","v":0},{"$f":"+GETPIVOTDATA(\"BAS128\",TABLAS!$A$1011)","v":0},{"$f":"+GETPIVOTDATA(\"BAS129\",TABLAS!$A$1011)","v":0},{"$f":"+GETPIVOTDATA(\"BAS130\",TABLAS!$A$1011)","v":0},{"$f":"+GETPIVOTDATA(\"BAS131\",TABLAS!$A$1011)","v":0},{"$f":"+GETPIVOTDATA(\"BAS132\",TABLAS!$A$1011)","v":0},0,0,null,null,null,null,null,null,127,{"$f":"+AS242+1","v":128},129,130,131,132,"=+IMPORTARDATOSDINAMICOS(\"BAS127\",TABLAS!$A$1011)","=+IMPORTARDATOSDINAMICOS(\"BAS128\",TABLAS!$A$1011)","=+IMPORTARDATOSDINAMICOS(\"BAS129\",TABLAS!$A$1011)","=+IMPORTARDATOSDINAMICOS(\"BAS130\",TABLAS!$A$1011)","=+IMPORTARDATOSDINAMICOS(\"BAS131\",TABLAS!$A$1011)","=+IMPORTARDATOSDINAMICOS(\"BAS132\",TABLAS!$A$1011)"]
["ANTICORE TOTAL HEPATITIS B POR ELISA [BS023]",null,null,{"$f":"+GETPIVOTDATA(\"BAS133\",TABLAS!$A$441)","v":0},{"$f":"+GETPIVOTDATA(\"BAS134\",TABLAS!$A$441)","v":0},{"$f":"+GETPIVOTDATA(\"BAS135\",TABLAS!$A$441)","v":0},{"$f":"+GETPIVOTDATA(\"BAS136\",TABLAS!$A$441)","v":0},{"$f":"+GETPIVOTDATA(\"BAS137\",TABLAS!$A$441)","v":0},{"$f":"+GETPIVOTDATA(\"BAS138\",TABLAS!$A$441)","v":0},0,{"$f":"+GETPIVOTDATA(\"BAS133\",TABLAS!$A$591)","v":0},{"$f":"+GETPIVOTDATA(\"BAS134\",TABLAS!$A$591)","v":0},{"$f":"+GETPIVOTDATA(\"BAS135\",TABLAS!$A$591)","v":0},{"$f":"+GETPIVOTDATA(\"BAS136\",TABLAS!$A$591)","v":0},{"$f":"+GETPIVOTDATA(\"BAS137\",TABLAS!$A$591)","v":0},{"$f":"+GETPIVOTDATA(\"BAS138\",TABLAS!$A$591)","v":0},0,0,null,null,null,null,null,{"$f":"+GETPIVOTDATA(\"BAS133\",TABLAS!$A$861)","v":0},{"$f":"+GETPIVOTDATA(\"BAS134\",TABLAS!$A$861)","v":0},{"$f":"+GETPIVOTDATA(\"BAS135\",TABLAS!$A$861)","v":0},{"$f":"+GETPIVOTDATA(\"BAS136\",TABLAS!$A$861)","v":0},{"$f":"+GETPIVOTDATA(\"BAS137\",TABLAS!$A$861)","v":0},{"$f":"+GETPIVOTDATA(\"BAS138\",TABLAS!$A$861)","v":0},0,{"$f":"+GETPIVOTDATA(\"BAS133\",TABLAS!$A$1011)","v":0},{"$f":"+GETPIVOTDATA(\"BAS134\",TABLAS!$A$1011)","v":0},{"$f":"+GETPIVOTDATA(\"BAS135\",TABLAS!$A$1011)","v":0},{"$f":"+GETPIVOTDATA(\"BAS136\",TABLAS!$A$1011)","v":0},{"$f":"+GETPIVOTDATA(\"BAS137\",TABLAS!$A$1011)","v":0},{"$f":"+GETPIVOTDATA(\"BAS138\",TABLAS!$A$1011)","v":0},0,0,null,null,null,null,null,null,133,{"$f":"+AS243+1","v":134},135,136,137,138,"=+IMPORTARDATOSDINAMICOS(\"BAS133\",TABLAS!$A$1011)","=+IMPORTARDATOSDINAMICOS(\"BAS134\",TABLAS!$A$1011)","=+IMPORTARDATOSDINAMICOS(\"BAS135\",TABLAS!$A$1011)","=+IMPORTARDATOSDINAMICOS(\"BAS136\",TABLAS!$A$1011)","=+IMPORTARDATOSDINAMICOS(\"BAS137\",TABLAS!$A$1011)","=+IMPORTARDATOSDINAMICOS(\"BAS138\",TABLAS!$A$1011)"]
["HEPATITIS C POR ELISA  [BS024]",null,null,{"$f":"+GETPIVOTDATA(\"BAS139\",TABLAS!$A$441)","v":0},{"$f":"+GETPIVOTDATA(\"BAS140\",TABLAS!$A$441)","v":0},{"$f":"+GETPIVOTDATA(\"BAS141\",TABLAS!$A$441)","v":0},{"$f":"+GETPIVOTDATA(\"BAS142\",TABLAS!$A$441)","v":0},{"$f":"+GETPIVOTDATA(\"BAS143\",TABLAS!$A$441)","v":0},{"$f":"+GETPIVOTDATA(\"BAS144\",TABLAS!$A$441)","v":0},0,{"$f":"+GETPIVOTDATA(\"BAS139\",TABLAS!$A$591)","v":0},{"$f":"+GETPIVOTDATA(\"BAS140\",TABLAS!$A$591)","v":0},{"$f":"+GETPIVOTDATA(\"BAS141\",TABLAS!$A$591)","v":0},{"$f":"+GETPIVOTDATA(\"BAS142\",TABLAS!$A$591)","v":0},{"$f":"+GETPIVOTDATA(\"BAS143\",TABLAS!$A$591)","v":0},{"$f":"+GETPIVOTDATA(\"BAS144\",TABLAS!$A$591)","v":0},0,0,null,null,null,null,null,{"$f":"+GETPIVOTDATA(\"BAS139\",TABLAS!$A$861)","v":0},{"$f":"+GETPIVOTDATA(\"BAS140\",TABLAS!$A$861)","v":0},{"$f":"+GETPIVOTDATA(\"BAS141\",TABLAS!$A$861)","v":0},{"$f":"+GETPIVOTDATA(\"BAS142\",TABLAS!$A$861)","v":0},{"$f":"+GETPIVOTDATA(\"BAS143\",TABLAS!$A$861)","v":0},{"$f":"+GETPIVOTDATA(\"BAS144\",TABLAS!$A$861)","v":0},0,{"$f":"+GETPIVOTDATA(\"BAS139\",TABLAS!$A$1011)","v":0},{"$f":"+GETPIVOTDATA(\"BAS140\",TABLAS!$A$1011)","v":0},{"$f":"+GETPIVOTDATA(\"BAS141\",TABLAS!$A$1011)","v":0},{"$f":"+GETPIVOTDATA(\"BAS142\",TABLAS!$A$1011)","v":0},{"$f":"+GETPIVOTDATA(\"BAS143\",TABLAS!$A$1011)","v":0},{"$f":"+GETPIVOTDATA(\"BAS144\",TABLAS!$A$1011)","v":0},0,0,null,null,null,null,null,null,139,{"$f":"+AS244+1","v":140},141,142,143,144,"=+IMPORTARDATOSDINAMICOS(\"BAS139\",TABLAS!$A$1011)","=+IMPORTARDATOSDINAMICOS(\"BAS140\",TABLAS!$A$1011)","=+IMPORTARDATOSDINAMICOS(\"BAS141\",TABLAS!$A$1011)","=+IMPORTARDATOSDINAMICOS(\"BAS142\",TABLAS!$A$1011)","=+IMPORTARDATOSDINAMICOS(\"BAS143\",TABLAS!$A$1011)","=+IMPORTARDATOSDINAMICOS(\"BAS144\",TABLAS!$A$1011)"]
["CHAGAS POR ELISA [BS025]",null,null,{"$f":"+GETPIVOTDATA(\"BAS145\",TABLAS!$A$441)","v":0},{"$f":"+GETPIVOTDATA(\"BAS146\",TABLAS!$A$441)","v":0},{"$f":"+GETPIVOTDATA(\"BAS147\",TABLAS!$A$441)","v":0},{"$f":"+GETPIVOTDATA(\"BAS148\",TABLAS!$A$441)","v":0},{"$f":"+GETPIVOTDATA(\"BAS149\",TABLAS!$A$441)","v":0},{"$f":"+GETPIVOTDATA(\"BAS150\",TABLAS!$A$441)","v":0},0,{"$f":"+GETPIVOTDATA(\"BAS145\",TABLAS!$A$591)","v":0},{"$f":"+GETPIVOTDATA(\"BAS146\",TABLAS!$A$591)","v":0},{"$f":"+GETPIVOTDATA(\"BAS147\",TABLAS!$A$591)","v":0},{"$f":"+GETPIVOTDATA(\"BAS148\",TABLAS!$A$591)","v":0},{"$f":"+GETPIVOTDATA(\"BAS149\",TABLAS!$A$591)","v":0},{"$f":"+GETPIVOTDATA(\"BAS150\",TABLAS!$A$591)","v":0},0,0,null,null,null,null,null,{"$f":"+GETPIVOTDATA(\"BAS145\",TABLAS!$A$861)","v":0},{"$f":"+GETPIVOTDATA(\"BAS146\",TABLAS!$A$861)","v":0},{"$f":"+GETPIVOTDATA(\"BAS147\",TABLAS!$A$861)","v":0},{"$f":"+GETPIVOTDATA(\"BAS148\",TABLAS!$A$861)","v":0},{"$f":"+GETPIVOTDATA(\"BAS149\",TABLAS!$A$861)","v":0},{"$f":"+GETPIVOTDATA(\"BAS150\",TABLAS!$A$861)","v":0},0,{"$f":"+GETPIVOTDATA(\"BAS145\",TABLAS!$A$1011)","v":0},{"$f":"+GETPIVOTDATA(\"BAS146\",TABLAS!$A$1011)","v":0},{"$f":"+GETPIVOTDATA(\"BAS147\",TABLAS!$A$1011)","v":0},{"$f":"+GETPIVOTDATA(\"BAS148\",TABLAS!$A$1011)","v":0},{"$f":"+GETPIVOTDATA(\"BAS149\",TABLAS!$A$1011)","v":0},{"$f":"+GETPIVOTDATA(\"BAS150\",TABLAS!$A$1011)","v":0},0,0,null,null,null,null,null,null,145,{"$f":"+AS245+1","v":146},147,148,149,150,"=+IMPORTARDATOSDINAMICOS(\"BAS145\",TABLAS!$A$1011)","=+IMPORTARDATOSDINAMICOS(\"BAS146\",TABLAS!$A$1011)","=+IMPORTARDATOSDINAMICOS(\"BAS147\",TABLAS!$A$1011)","=+IMPORTARDATOSDINAMICOS(\"BAS148\",TABLAS!$A$1011)","=+IMPORTARDATOSDINAMICOS(\"BAS149\",TABLAS!$A$1011)","=+IMPORTARDATOSDINAMICOS(\"BAS150\",TABLAS!$A$1011)"]
["HIV  1  Y  2 POR ELISA (4 GENERACION) [BS026]",null,null,{"$f":"+GETPIVOTDATA(\"BAS151\",TABLAS!$A$441)","v":0},{"$f":"+GETPIVOTDATA(\"BAS152\",TABLAS!$A$441)","v":0},{"$f":"+GETPIVOTDATA(\"BAS153\",TABLAS!$A$441)","v":0},{"$f":"+GETPIVOTDATA(\"BAS154\",TABLAS!$A$441)","v":0},{"$f":"+GETPIVOTDATA(\"BAS155\",TABLAS!$A$441)","v":0},{"$f":"+GETPIVOTDATA(\"BAS156\",TABLAS!$A$441)","v":0},0,{"$f":"+GETPIVOTDATA(\"BAS151\",TABLAS!$A$591)","v":0},{"$f":"+GETPIVOTDATA(\"BAS152\",TABLAS!$A$591)","v":0},{"$f":"+GETPIVOTDATA(\"BAS153\",TABLAS!$A$591)","v":0},{"$f":"+GETPIVOTDATA(\"BAS154\",TABLAS!$A$591)","v":0},{"$f":"+GETPIVOTDATA(\"BAS155\",TABLAS!$A$591)","v":0},{"$f":"+GETPIVOTDATA(\"BAS156\",TABLAS!$A$591)","v":0},0,0,null,null,null,null,null,{"$f":"+GETPIVOTDATA(\"BAS151\",TABLAS!$A$861)","v":0},{"$f":"+GETPIVOTDATA(\"BAS152\",TABLAS!$A$861)","v":0},{"$f":"+GETPIVOTDATA(\"BAS153\",TABLAS!$A$861)","v":0},{"$f":"+GETPIVOTDATA(\"BAS154\",TABLAS!$A$861)","v":0},{"$f":"+GETPIVOTDATA(\"BAS155\",TABLAS!$A$861)","v":0},{"$f":"+GETPIVOTDATA(\"BAS156\",TABLAS!$A$861)","v":0},0,{"$f":"+GETPIVOTDATA(\"BAS151\",TABLAS!$A$1011)","v":0},{"$f":"+GETPIVOTDATA(\"BAS152\",TABLAS!$A$1011)","v":0},{"$f":"+GETPIVOTDATA(\"BAS153\",TABLAS!$A$1011)","v":0},{"$f":"+GETPIVOTDATA(\"BAS154\",TABLAS!$A$1011)","v":0},{"$f":"+GETPIVOTDATA(\"BAS155\",TABLAS!$A$1011)","v":0},{"$f":"+GETPIVOTDATA(\"BAS156\",TABLAS!$A$1011)","v":0},0,0,null,null,null,null,null,null,151,{"$f":"+AS246+1","v":152},153,154,155,156,"=+IMPORTARDATOSDINAMICOS(\"BAS151\",TABLAS!$A$1011)","=+IMPORTARDATOSDINAMICOS(\"BAS152\",TABLAS!$A$1011)","=+IMPORTARDATOSDINAMICOS(\"BAS153\",TABLAS!$A$1011)","=+IMPORTARDATOSDINAMICOS(\"BAS154\",TABLAS!$A$1011)","=+IMPORTARDATOSDINAMICOS(\"BAS155\",TABLAS!$A$1011)","=+IMPORTARDATOSDINAMICOS(\"BAS156\",TABLAS!$A$1011)"]
["ANTIGENO DE SUPERFICIE HEPATITIS B POR ELISA [BS027]",null,null,{"$f":"+GETPIVOTDATA(\"BAS157\",TABLAS!$A$441)","v":0},{"$f":"+GETPIVOTDATA(\"BAS158\",TABLAS!$A$441)","v":0},{"$f":"+GETPIVOTDATA(\"BAS159\",TABLAS!$A$441)","v":0},{"$f":"+GETPIVOTDATA(\"BAS160\",TABLAS!$A$441)","v":0},{"$f":"+GETPIVOTDATA(\"BAS161\",TABLAS!$A$441)","v":0},{"$f":"+GETPIVOTDATA(\"BAS162\",TABLAS!$A$441)","v":0},0,{"$f":"+GETPIVOTDATA(\"BAS157\",TABLAS!$A$591)","v":0},{"$f":"+GETPIVOTDATA(\"BAS158\",TABLAS!$A$591)","v":0},{"$f":"+GETPIVOTDATA(\"BAS159\",TABLAS!$A$591)","v":0},{"$f":"+GETPIVOTDATA(\"BAS160\",TABLAS!$A$591)","v":0},{"$f":"+GETPIVOTDATA(\"BAS161\",TABLAS!$A$591)","v":0},{"$f":"+GETPIVOTDATA(\"BAS162\",TABLAS!$A$591)","v":0},0,0,null,null,null,null,null,{"$f":"+GETPIVOTDATA(\"BAS157\",TABLAS!$A$861)","v":0},{"$f":"+GETPIVOTDATA(\"BAS158\",TABLAS!$A$861)","v":0},{"$f":"+GETPIVOTDATA(\"BAS159\",TABLAS!$A$861)","v":0},{"$f":"+GETPIVOTDATA(\"BAS160\",TABLAS!$A$861)","v":0},{"$f":"+GETPIVOTDATA(\"BAS161\",TABLAS!$A$861)","v":0},{"$f":"+GETPIVOTDATA(\"BAS162\",TABLAS!$A$861)","v":0},0,{"$f":"+GETPIVOTDATA(\"BAS157\",TABLAS!$A$1011)","v":0},{"$f":"+GETPIVOTDATA(\"BAS158\",TABLAS!$A$1011)","v":0},{"$f":"+GETPIVOTDATA(\"BAS159\",TABLAS!$A$1011)","v":0},{"$f":"+GETPIVOTDATA(\"BAS160\",TABLAS!$A$1011)","v":0},{"$f":"+GETPIVOTDATA(\"BAS161\",TABLAS!$A$1011)","v":0},{"$f":"+GETPIVOTDATA(\"BAS162\",TABLAS!$A$1011)","v":0},0,0,null,null,null,null,null,null,157,{"$f":"+AS247+1","v":158},159,160,161,162,"=+IMPORTARDATOSDINAMICOS(\"BAS157\",TABLAS!$A$1011)","=+IMPORTARDATOSDINAMICOS(\"BAS158\",TABLAS!$A$1011)","=+IMPORTARDATOSDINAMICOS(\"BAS159\",TABLAS!$A$1011)","=+IMPORTARDATOSDINAMICOS(\"BAS160\",TABLAS!$A$1011)","=+IMPORTARDATOSDINAMICOS(\"BAS161\",TABLAS!$A$1011)","=+IMPORTARDATOSDINAMICOS(\"BAS162\",TABLAS!$A$1011)"]
["SIFILIS (QUIMIOLUMINISENCIA) [BS028]",null,null,{"$f":"+GETPIVOTDATA(\"BAS163\",TABLAS!$A$441)","v":0},{"$f":"+GETPIVOTDATA(\"BAS164\",TABLAS!$A$441)","v":0},{"$f":"+GETPIVOTDATA(\"BAS165\",TABLAS!$A$441)","v":0},{"$f":"+GETPIVOTDATA(\"BAS166\",TABLAS!$A$441)","v":0},{"$f":"+GETPIVOTDATA(\"BAS167\",TABLAS!$A$441)","v":0},{"$f":"+GETPIVOTDATA(\"BAS168\",TABLAS!$A$441)","v":0},0,{"$f":"+GETPIVOTDATA(\"BAS163\",TABLAS!$A$591)","v":0},{"$f":"+GETPIVOTDATA(\"BAS164\",TABLAS!$A$591)","v":0},{"$f":"+GETPIVOTDATA(\"BAS165\",TABLAS!$A$591)","v":0},{"$f":"+GETPIVOTDATA(\"BAS166\",TABLAS!$A$591)","v":0},{"$f":"+GETPIVOTDATA(\"BAS167\",TABLAS!$A$591)","v":0},{"$f":"+GETPIVOTDATA(\"BAS168\",TABLAS!$A$591)","v":0},0,0,null,null,null,null,null,{"$f":"+GETPIVOTDATA(\"BAS163\",TABLAS!$A$861)","v":0},{"$f":"+GETPIVOTDATA(\"BAS164\",TABLAS!$A$861)","v":0},{"$f":"+GETPIVOTDATA(\"BAS165\",TABLAS!$A$861)","v":0},{"$f":"+GETPIVOTDATA(\"BAS166\",TABLAS!$A$861)","v":0},{"$f":"+GETPIVOTDATA(\"BAS167\",TABLAS!$A$861)","v":0},{"$f":"+GETPIVOTDATA(\"BAS168\",TABLAS!$A$861)","v":0},0,{"$f":"+GETPIVOTDATA(\"BAS163\",TABLAS!$A$1011)","v":0},{"$f":"+GETPIVOTDATA(\"BAS164\",TABLAS!$A$1011)","v":0},{"$f":"+GETPIVOTDATA(\"BAS165\",TABLAS!$A$1011)","v":0},{"$f":"+GETPIVOTDATA(\"BAS166\",TABLAS!$A$1011)","v":0},{"$f":"+GETPIVOTDATA(\"BAS167\",TABLAS!$A$1011)","v":0},{"$f":"+GETPIVOTDATA(\"BAS168\",TABLAS!$A$1011)","v":0},0,0,null,null,null,null,null,null,163,{"$f":"+AS248+1","v":164},165,166,167,168,"=+IMPORTARDATOSDINAMICOS(\"BAS163\",TABLAS!$A$1011)","=+IMPORTARDATOSDINAMICOS(\"BAS164\",TABLAS!$A$1011)","=+IMPORTARDATOSDINAMICOS(\"BAS165\",TABLAS!$A$1011)","=+IMPORTARDATOSDINAMICOS(\"BAS166\",TABLAS!$A$1011)","=+IMPORTARDATOSDINAMICOS(\"BAS167\",TABLAS!$A$1011)","=+IMPORTARDATOSDINAMICOS(\"BAS168\",TABLAS!$A$1011)"]
["HTLV (QUIMIOLUMINISCENCIA ) [BS029]",null,null,{"$f":"+GETPIVOTDATA(\"BAS169\",TABLAS!$A$441)","v":0},{"$f":"+GETPIVOTDATA(\"BAS170\",TABLAS!$A$441)","v":0},{"$f":"+GETPIVOTDATA(\"BAS171\",TABLAS!$A$441)","v":0},{"$f":"+GETPIVOTDATA(\"BAS172\",TABLAS!$A$441)","v":0},{"$f":"+GETPIVOTDATA(\"BAS173\",TABLAS!$A$441)","v":0},{"$f":"+GETPIVOTDATA(\"BAS174\",TABLAS!$A$441)","v":0},0,{"$f":"+GETPIVOTDATA(\"BAS169\",TABLAS!$A$591)","v":0},{"$f":"+GETPIVOTDATA(\"BAS170\",TABLAS!$A$591)","v":0},{"$f":"+GETPIVOTDATA(\"BAS171\",TABLAS!$A$591)","v":0},{"$f":"+GETPIVOTDATA(\"BAS172\",TABLAS!$A$591)","v":0},{"$f":"+GETPIVOTDATA(\"BAS173\",TABLAS!$A$591)","v":0},{"$f":"+GETPIVOTDATA(\"BAS174\",TABLAS!$A$591)","v":0},0,0,null,null,null,null,null,{"$f":"+GETPIVOTDATA(\"BAS169\",TABLAS!$A$861)","v":0},{"$f":"+GETPIVOTDATA(\"BAS170\",TABLAS!$A$861)","v":0},{"$f":"+GETPIVOTDATA(\"BAS171\",TABLAS!$A$861)","v":0},{"$f":"+GETPIVOTDATA(\"BAS172\",TABLAS!$A$861)","v":0},{"$f":"+GETPIVOTDATA(\"BAS173\",TABLAS!$A$861)","v":0},{"$f":"+GETPIVOTDATA(\"BAS174\",TABLAS!$A$861)","v":0},0,{"$f":"+GETPIVOTDATA(\"BAS169\",TABLAS!$A$1011)","v":0},{"$f":"+GETPIVOTDATA(\"BAS170\",TABLAS!$A$1011)","v":0},{"$f":"+GETPIVOTDATA(\"BAS171\",TABLAS!$A$1011)","v":0},{"$f":"+GETPIVOTDATA(\"BAS172\",TABLAS!$A$1011)","v":0},{"$f":"+GETPIVOTDATA(\"BAS173\",TABLAS!$A$1011)","v":0},{"$f":"+GETPIVOTDATA(\"BAS174\",TABLAS!$A$1011)","v":0},0,0,null,null,null,null,null,null,169,{"$f":"+AS249+1","v":170},171,172,173,174,"=+IMPORTARDATOSDINAMICOS(\"BAS169\",TABLAS!$A$1011)","=+IMPORTARDATOSDINAMICOS(\"BAS170\",TABLAS!$A$1011)","=+IMPORTARDATOSDINAMICOS(\"BAS171\",TABLAS!$A$1011)","=+IMPORTARDATOSDINAMICOS(\"BAS172\",TABLAS!$A$1011)","=+IMPORTARDATOSDINAMICOS(\"BAS173\",TABLAS!$A$1011)","=+IMPORTARDATOSDINAMICOS(\"BAS174\",TABLAS!$A$1011)"]
["VIH (QUIMIOLUMINISCENCIA) [BS030]",null,null,{"$f":"+GETPIVOTDATA(\"BAS175\",TABLAS!$A$441)","v":0},{"$f":"+GETPIVOTDATA(\"BAS176\",TABLAS!$A$441)","v":0},{"$f":"+GETPIVOTDATA(\"BAS177\",TABLAS!$A$441)","v":0},{"$f":"+GETPIVOTDATA(\"BAS178\",TABLAS!$A$441)","v":0},{"$f":"+GETPIVOTDATA(\"BAS179\",TABLAS!$A$441)","v":0},{"$f":"+GETPIVOTDATA(\"BAS180\",TABLAS!$A$441)","v":0},0,{"$f":"+GETPIVOTDATA(\"BAS175\",TABLAS!$A$591)","v":0},{"$f":"+GETPIVOTDATA(\"BAS176\",TABLAS!$A$591)","v":0},{"$f":"+GETPIVOTDATA(\"BAS177\",TABLAS!$A$591)","v":0},{"$f":"+GETPIVOTDATA(\"BAS178\",TABLAS!$A$591)","v":0},{"$f":"+GETPIVOTDATA(\"BAS179\",TABLAS!$A$591)","v":0},{"$f":"+GETPIVOTDATA(\"BAS180\",TABLAS!$A$591)","v":0},0,0,null,null,null,null,null,{"$f":"+GETPIVOTDATA(\"BAS175\",TABLAS!$A$861)","v":0},{"$f":"+GETPIVOTDATA(\"BAS176\",TABLAS!$A$861)","v":0},{"$f":"+GETPIVOTDATA(\"BAS177\",TABLAS!$A$861)","v":0},{"$f":"+GETPIVOTDATA(\"BAS178\",TABLAS!$A$861)","v":0},{"$f":"+GETPIVOTDATA(\"BAS179\",TABLAS!$A$861)","v":0},{"$f":"+GETPIVOTDATA(\"BAS180\",TABLAS!$A$861)","v":0},0,{"$f":"+GETPIVOTDATA(\"BAS175\",TABLAS!$A$1011)","v":0},{"$f":"+GETPIVOTDATA(\"BAS176\",TABLAS!$A$1011)","v":0},{"$f":"+GETPIVOTDATA(\"BAS177\",TABLAS!$A$1011)","v":0},{"$f":"+GETPIVOTDATA(\"BAS178\",TABLAS!$A$1011)","v":0},{"$f":"+GETPIVOTDATA(\"BAS179\",TABLAS!$A$1011)","v":0},{"$f":"+GETPIVOTDATA(\"BAS180\",TABLAS!$A$1011)","v":0},0,0,null,null,null,null,null,null,175,{"$f":"+AS250+1","v":176},177,178,179,180,"=+IMPORTARDATOSDINAMICOS(\"BAS175\",TABLAS!$A$1011)","=+IMPORTARDATOSDINAMICOS(\"BAS176\",TABLAS!$A$1011)","=+IMPORTARDATOSDINAMICOS(\"BAS177\",TABLAS!$A$1011)","=+IMPORTARDATOSDINAMICOS(\"BAS178\",TABLAS!$A$1011)","=+IMPORTARDATOSDINAMICOS(\"BAS179\",TABLAS!$A$1011)","=+IMPORTARDATOSDINAMICOS(\"BAS180\",TABLAS!$A$1011)"]
["HEPATITIS B (QUIMIOLUMINISCENCIA) [BS031]",null,null,{"$f":"+GETPIVOTDATA(\"BAS181\",TABLAS!$A$441)","v":0},{"$f":"+GETPIVOTDATA(\"BAS182\",TABLAS!$A$441)","v":0},{"$f":"+GETPIVOTDATA(\"BAS183\",TABLAS!$A$441)","v":0},{"$f":"+GETPIVOTDATA(\"BAS184\",TABLAS!$A$441)","v":0},{"$f":"+GETPIVOTDATA(\"BAS185\",TABLAS!$A$441)","v":0},{"$f":"+GETPIVOTDATA(\"BAS186\",TABLAS!$A$441)","v":0},0,{"$f":"+GETPIVOTDATA(\"BAS181\",TABLAS!$A$591)","v":0},{"$f":"+GETPIVOTDATA(\"BAS182\",TABLAS!$A$591)","v":0},{"$f":"+GETPIVOTDATA(\"BAS183\",TABLAS!$A$591)","v":0},{"$f":"+GETPIVOTDATA(\"BAS184\",TABLAS!$A$591)","v":0},{"$f":"+GETPIVOTDATA(\"BAS185\",TABLAS!$A$591)","v":0},{"$f":"+GETPIVOTDATA(\"BAS186\",TABLAS!$A$591)","v":0},0,0,null,null,null,null,null,{"$f":"+GETPIVOTDATA(\"BAS181\",TABLAS!$A$861)","v":0},{"$f":"+GETPIVOTDATA(\"BAS182\",TABLAS!$A$861)","v":0},{"$f":"+GETPIVOTDATA(\"BAS183\",TABLAS!$A$861)","v":0},{"$f":"+GETPIVOTDATA(\"BAS184\",TABLAS!$A$861)","v":0},{"$f":"+GETPIVOTDATA(\"BAS185\",TABLAS!$A$861)","v":0},{"$f":"+GETPIVOTDATA(\"BAS186\",TABLAS!$A$861)","v":0},0,{"$f":"+GETPIVOTDATA(\"BAS181\",TABLAS!$A$1011)","v":0},{"$f":"+GETPIVOTDATA(\"BAS182\",TABLAS!$A$1011)","v":0},{"$f":"+GETPIVOTDATA(\"BAS183\",TABLAS!$A$1011)","v":0},{"$f":"+GETPIVOTDATA(\"BAS184\",TABLAS!$A$1011)","v":0},{"$f":"+GETPIVOTDATA(\"BAS185\",TABLAS!$A$1011)","v":0},{"$f":"+GETPIVOTDATA(\"BAS186\",TABLAS!$A$1011)","v":0},0,0,null,null,null,null,null,null,181,{"$f":"+AS251+1","v":182},183,184,185,186,"=+IMPORTARDATOSDINAMICOS(\"BAS181\",TABLAS!$A$1011)","=+IMPORTARDATOSDINAMICOS(\"BAS182\",TABLAS!$A$1011)","=+IMPORTARDATOSDINAMICOS(\"BAS183\",TABLAS!$A$1011)","=+IMPORTARDATOSDINAMICOS(\"BAS184\",TABLAS!$A$1011)","=+IMPORTARDATOSDINAMICOS(\"BAS185\",TABLAS!$A$1011)","=+IMPORTARDATOSDINAMICOS(\"BAS186\",TABLAS!$A$1011)"]
["HEPATITIS C (QUIMIOLUMINISCENCIA) [BS032]",null,null,{"$f":"+GETPIVOTDATA(\"BAS187\",TABLAS!$A$441)","v":0},{"$f":"+GETPIVOTDATA(\"BAS188\",TABLAS!$A$441)","v":0},{"$f":"+GETPIVOTDATA(\"BAS189\",TABLAS!$A$441)","v":0},{"$f":"+GETPIVOTDATA(\"BAS190\",TABLAS!$A$441)","v":0},{"$f":"+GETPIVOTDATA(\"BAS191\",TABLAS!$A$441)","v":0},{"$f":"+GETPIVOTDATA(\"BAS192\",TABLAS!$A$441)","v":0},0,{"$f":"+GETPIVOTDATA(\"BAS187\",TABLAS!$A$591)","v":0},{"$f":"+GETPIVOTDATA(\"BAS188\",TABLAS!$A$591)","v":0},{"$f":"+GETPIVOTDATA(\"BAS189\",TABLAS!$A$591)","v":0},{"$f":"+GETPIVOTDATA(\"BAS190\",TABLAS!$A$591)","v":0},{"$f":"+GETPIVOTDATA(\"BAS191\",TABLAS!$A$591)","v":0},{"$f":"+GETPIVOTDATA(\"BAS192\",TABLAS!$A$591)","v":0},0,0,null,null,null,null,null,{"$f":"+GETPIVOTDATA(\"BAS187\",TABLAS!$A$861)","v":0},{"$f":"+GETPIVOTDATA(\"BAS188\",TABLAS!$A$861)","v":0},{"$f":"+GETPIVOTDATA(\"BAS189\",TABLAS!$A$861)","v":0},{"$f":"+GETPIVOTDATA(\"BAS190\",TABLAS!$A$861)","v":0},{"$f":"+GETPIVOTDATA(\"BAS191\",TABLAS!$A$861)","v":0},{"$f":"+GETPIVOTDATA(\"BAS192\",TABLAS!$A$861)","v":0},0,{"$f":"+GETPIVOTDATA(\"BAS187\",TABLAS!$A$1011)","v":0},{"$f":"+GETPIVOTDATA(\"BAS188\",TABLAS!$A$1011)","v":0},{"$f":"+GETPIVOTDATA(\"BAS189\",TABLAS!$A$1011)","v":0},{"$f":"+GETPIVOTDATA(\"BAS190\",TABLAS!$A$1011)","v":0},{"$f":"+GETPIVOTDATA(\"BAS191\",TABLAS!$A$1011)","v":0},{"$f":"+GETPIVOTDATA(\"BAS192\",TABLAS!$A$1011)","v":0},0,0,null,null,null,null,null,null,187,{"$f":"+AS252+1","v":188},189,190,191,192,"=+IMPORTARDATOSDINAMICOS(\"BAS187\",TABLAS!$A$1011)","=+IMPORTARDATOSDINAMICOS(\"BAS188\",TABLAS!$A$1011)","=+IMPORTARDATOSDINAMICOS(\"BAS189\",TABLAS!$A$1011)","=+IMPORTARDATOSDINAMICOS(\"BAS190\",TABLAS!$A$1011)","=+IMPORTARDATOSDINAMICOS(\"BAS191\",TABLAS!$A$1011)","=+IMPORTARDATOSDINAMICOS(\"BAS192\",TABLAS!$A$1011)"]
["ANTI HEPATITIS CORE (QUIMIOLUMINISCENCIA) [BS033]",null,null,{"$f":"+GETPIVOTDATA(\"BAS193\",TABLAS!$A$441)","v":0},{"$f":"+GETPIVOTDATA(\"BAS194\",TABLAS!$A$441)","v":0},{"$f":"+GETPIVOTDATA(\"BAS195\",TABLAS!$A$441)","v":0},{"$f":"+GETPIVOTDATA(\"BAS196\",TABLAS!$A$441)","v":0},{"$f":"+GETPIVOTDATA(\"BAS197\",TABLAS!$A$441)","v":0},{"$f":"+GETPIVOTDATA(\"BAS198\",TABLAS!$A$441)","v":0},0,{"$f":"+GETPIVOTDATA(\"BAS193\",TABLAS!$A$591)","v":0},{"$f":"+GETPIVOTDATA(\"BAS194\",TABLAS!$A$591)","v":0},{"$f":"+GETPIVOTDATA(\"BAS195\",TABLAS!$A$591)","v":0},{"$f":"+GETPIVOTDATA(\"BAS196\",TABLAS!$A$591)","v":0},{"$f":"+GETPIVOTDATA(\"BAS197\",TABLAS!$A$591)","v":0},{"$f":"+GETPIVOTDATA(\"BAS198\",TABLAS!$A$591)","v":0},0,0,null,null,null,null,null,{"$f":"+GETPIVOTDATA(\"BAS193\",TABLAS!$A$861)","v":0},{"$f":"+GETPIVOTDATA(\"BAS194\",TABLAS!$A$861)","v":0},{"$f":"+GETPIVOTDATA(\"BAS195\",TABLAS!$A$861)","v":0},{"$f":"+GETPIVOTDATA(\"BAS196\",TABLAS!$A$861)","v":0},{"$f":"+GETPIVOTDATA(\"BAS197\",TABLAS!$A$861)","v":0},{"$f":"+GETPIVOTDATA(\"BAS198\",TABLAS!$A$861)","v":0},0,{"$f":"+GETPIVOTDATA(\"BAS193\",TABLAS!$A$1011)","v":0},{"$f":"+GETPIVOTDATA(\"BAS194\",TABLAS!$A$1011)","v":0},{"$f":"+GETPIVOTDATA(\"BAS195\",TABLAS!$A$1011)","v":0},{"$f":"+GETPIVOTDATA(\"BAS196\",TABLAS!$A$1011)","v":0},{"$f":"+GETPIVOTDATA(\"BAS197\",TABLAS!$A$1011)","v":0},{"$f":"+GETPIVOTDATA(\"BAS198\",TABLAS!$A$1011)","v":0},0,0,null,null,null,null,null,null,193,{"$f":"+AS253+1","v":194},195,196,197,198,"=+IMPORTARDATOSDINAMICOS(\"BAS193\",TABLAS!$A$1011)","=+IMPORTARDATOSDINAMICOS(\"BAS194\",TABLAS!$A$1011)","=+IMPORTARDATOSDINAMICOS(\"BAS195\",TABLAS!$A$1011)","=+IMPORTARDATOSDINAMICOS(\"BAS196\",TABLAS!$A$1011)","=+IMPORTARDATOSDINAMICOS(\"BAS197\",TABLAS!$A$1011)","=+IMPORTARDATOSDINAMICOS(\"BAS198\",TABLAS!$A$1011)"]
["ANTIGENO SUPERFICIE HEPATITIS B (QUIMILUMINISCENCIA) [BS034]",null,null,{"$f":"+GETPIVOTDATA(\"BAS199\",TABLAS!$A$441)","v":0},{"$f":"+GETPIVOTDATA(\"BAS200\",TABLAS!$A$441)","v":0},{"$f":"+GETPIVOTDATA(\"BAS201\",TABLAS!$A$441)","v":0},{"$f":"+GETPIVOTDATA(\"BAS202\",TABLAS!$A$441)","v":0},{"$f":"+GETPIVOTDATA(\"BAS203\",TABLAS!$A$441)","v":0},{"$f":"+GETPIVOTDATA(\"BAS204\",TABLAS!$A$441)","v":0},0,{"$f":"+GETPIVOTDATA(\"BAS199\",TABLAS!$A$591)","v":0},{"$f":"+GETPIVOTDATA(\"BAS200\",TABLAS!$A$591)","v":0},{"$f":"+GETPIVOTDATA(\"BAS201\",TABLAS!$A$591)","v":0},{"$f":"+GETPIVOTDATA(\"BAS202\",TABLAS!$A$591)","v":0},{"$f":"+GETPIVOTDATA(\"BAS203\",TABLAS!$A$591)","v":0},{"$f":"+GETPIVOTDATA(\"BAS204\",TABLAS!$A$591)","v":0},0,0,null,null,null,null,null,{"$f":"+GETPIVOTDATA(\"BAS199\",TABLAS!$A$861)","v":0},{"$f":"+GETPIVOTDATA(\"BAS200\",TABLAS!$A$861)","v":0},{"$f":"+GETPIVOTDATA(\"BAS201\",TABLAS!$A$861)","v":0},{"$f":"+GETPIVOTDATA(\"BAS202\",TABLAS!$A$861)","v":0},{"$f":"+GETPIVOTDATA(\"BAS203\",TABLAS!$A$861)","v":0},{"$f":"+GETPIVOTDATA(\"BAS204\",TABLAS!$A$861)","v":0},0,{"$f":"+GETPIVOTDATA(\"BAS199\",TABLAS!$A$1011)","v":0},{"$f":"+GETPIVOTDATA(\"BAS200\",TABLAS!$A$1011)","v":0},{"$f":"+GETPIVOTDATA(\"BAS201\",TABLAS!$A$1011)","v":0},{"$f":"+GETPIVOTDATA(\"BAS202\",TABLAS!$A$1011)","v":0},{"$f":"+GETPIVOTDATA(\"BAS203\",TABLAS!$A$1011)","v":0},{"$f":"+GETPIVOTDATA(\"BAS204\",TABLAS!$A$1011)","v":0},0,0,null,null,null,null,null,null,199,{"$f":"+AS254+1","v":200},201,202,203,204,"=+IMPORTARDATOSDINAMICOS(\"BAS199\",TABLAS!$A$1011)","=+IMPORTARDATOSDINAMICOS(\"BAS200\",TABLAS!$A$1011)","=+IMPORTARDATOSDINAMICOS(\"BAS201\",TABLAS!$A$1011)","=+IMPORTARDATOSDINAMICOS(\"BAS202\",TABLAS!$A$1011)","=+IMPORTARDATOSDINAMICOS(\"BAS203\",TABLAS!$A$1011)","=+IMPORTARDATOSDINAMICOS(\"BAS204\",TABLAS!$A$1011)"]
["CONTROL DE CALIDAD PAQUETE GLOBULAR (HEMOCULTIVO) [BS035]",null,null,{"$f":"+GETPIVOTDATA(\"BAS205\",TABLAS!$A$441)","v":0},{"$f":"+GETPIVOTDATA(\"BAS206\",TABLAS!$A$441)","v":0},{"$f":"+GETPIVOTDATA(\"BAS207\",TABLAS!$A$441)","v":0},{"$f":"+GETPIVOTDATA(\"BAS208\",TABLAS!$A$441)","v":0},{"$f":"+GETPIVOTDATA(\"BAS209\",TABLAS!$A$441)","v":0},{"$f":"+GETPIVOTDATA(\"BAS210\",TABLAS!$A$441)","v":0},0,{"$f":"+GETPIVOTDATA(\"BAS205\",TABLAS!$A$591)","v":0},{"$f":"+GETPIVOTDATA(\"BAS206\",TABLAS!$A$591)","v":0},{"$f":"+GETPIVOTDATA(\"BAS207\",TABLAS!$A$591)","v":0},{"$f":"+GETPIVOTDATA(\"BAS208\",TABLAS!$A$591)","v":0},{"$f":"+GETPIVOTDATA(\"BAS209\",TABLAS!$A$591)","v":0},{"$f":"+GETPIVOTDATA(\"BAS210\",TABLAS!$A$591)","v":0},0,0,null,null,null,null,null,{"$f":"+GETPIVOTDATA(\"BAS205\",TABLAS!$A$861)","v":0},{"$f":"+GETPIVOTDATA(\"BAS206\",TABLAS!$A$861)","v":0},{"$f":"+GETPIVOTDATA(\"BAS207\",TABLAS!$A$861)","v":0},{"$f":"+GETPIVOTDATA(\"BAS208\",TABLAS!$A$861)","v":0},{"$f":"+GETPIVOTDATA(\"BAS209\",TABLAS!$A$861)","v":0},{"$f":"+GETPIVOTDATA(\"BAS210\",TABLAS!$A$861)","v":0},0,{"$f":"+GETPIVOTDATA(\"BAS205\",TABLAS!$A$1011)","v":0},{"$f":"+GETPIVOTDATA(\"BAS206\",TABLAS!$A$1011)","v":0},{"$f":"+GETPIVOTDATA(\"BAS207\",TABLAS!$A$1011)","v":0},{"$f":"+GETPIVOTDATA(\"BAS208\",TABLAS!$A$1011)","v":0},{"$f":"+GETPIVOTDATA(\"BAS209\",TABLAS!$A$1011)","v":0},{"$f":"+GETPIVOTDATA(\"BAS210\",TABLAS!$A$1011)","v":0},0,0,null,null,null,null,null,null,205,{"$f":"+AS255+1","v":206},207,208,209,210,"=+IMPORTARDATOSDINAMICOS(\"BAS205\",TABLAS!$A$1011)","=+IMPORTARDATOSDINAMICOS(\"BAS206\",TABLAS!$A$1011)","=+IMPORTARDATOSDINAMICOS(\"BAS207\",TABLAS!$A$1011)","=+IMPORTARDATOSDINAMICOS(\"BAS208\",TABLAS!$A$1011)","=+IMPORTARDATOSDINAMICOS(\"BAS209\",TABLAS!$A$1011)","=+IMPORTARDATOSDINAMICOS(\"BAS210\",TABLAS!$A$1011)"]
["CONTROL DE CALIDAD PLASMA FRESCO CONGELADO (DOSAJE DE FACTORES DE COAGULACION / DOSAJE DE FIBRINOGENO) [BS036]",null,null,{"$f":"+GETPIVOTDATA(\"BAS211\",TABLAS!$A$441)","v":0},{"$f":"+GETPIVOTDATA(\"BAS212\",TABLAS!$A$441)","v":0},{"$f":"+GETPIVOTDATA(\"BAS213\",TABLAS!$A$441)","v":0},{"$f":"+GETPIVOTDATA(\"BAS214\",TABLAS!$A$441)","v":0},{"$f":"+GETPIVOTDATA(\"BAS215\",TABLAS!$A$441)","v":0},{"$f":"+GETPIVOTDATA(\"BAS216\",TABLAS!$A$441)","v":0},0,{"$f":"+GETPIVOTDATA(\"BAS211\",TABLAS!$A$591)","v":0},{"$f":"+GETPIVOTDATA(\"BAS212\",TABLAS!$A$591)","v":0},{"$f":"+GETPIVOTDATA(\"BAS213\",TABLAS!$A$591)","v":0},{"$f":"+GETPIVOTDATA(\"BAS214\",TABLAS!$A$591)","v":0},{"$f":"+GETPIVOTDATA(\"BAS215\",TABLAS!$A$591)","v":0},{"$f":"+GETPIVOTDATA(\"BAS216\",TABLAS!$A$591)","v":0},0,0,null,null,null,null,null,{"$f":"+GETPIVOTDATA(\"BAS211\",TABLAS!$A$861)","v":0},{"$f":"+GETPIVOTDATA(\"BAS212\",TABLAS!$A$861)","v":0},{"$f":"+GETPIVOTDATA(\"BAS213\",TABLAS!$A$861)","v":0},{"$f":"+GETPIVOTDATA(\"BAS214\",TABLAS!$A$861)","v":0},{"$f":"+GETPIVOTDATA(\"BAS215\",TABLAS!$A$861)","v":0},{"$f":"+GETPIVOTDATA(\"BAS216\",TABLAS!$A$861)","v":0},0,{"$f":"+GETPIVOTDATA(\"BAS211\",TABLAS!$A$1011)","v":0},{"$f":"+GETPIVOTDATA(\"BAS212\",TABLAS!$A$1011)","v":0},{"$f":"+GETPIVOTDATA(\"BAS213\",TABLAS!$A$1011)","v":0},{"$f":"+GETPIVOTDATA(\"BAS214\",TABLAS!$A$1011)","v":0},{"$f":"+GETPIVOTDATA(\"BAS215\",TABLAS!$A$1011)","v":0},{"$f":"+GETPIVOTDATA(\"BAS216\",TABLAS!$A$1011)","v":0},0,0,null,null,null,null,null,null,211,{"$f":"+AS256+1","v":212},213,214,215,216,"=+IMPORTARDATOSDINAMICOS(\"BAS211\",TABLAS!$A$1011)","=+IMPORTARDATOSDINAMICOS(\"BAS212\",TABLAS!$A$1011)","=+IMPORTARDATOSDINAMICOS(\"BAS213\",TABLAS!$A$1011)","=+IMPORTARDATOSDINAMICOS(\"BAS214\",TABLAS!$A$1011)","=+IMPORTARDATOSDINAMICOS(\"BAS215\",TABLAS!$A$1011)","=+IMPORTARDATOSDINAMICOS(\"BAS216\",TABLAS!$A$1011)"]
["CONTROL DE CALIDAD PLAQUETAS (HEMOGRAMA COMPLETO) [BS037]",null,null,{"$f":"+GETPIVOTDATA(\"BAS217\",TABLAS!$A$441)","v":0},{"$f":"+GETPIVOTDATA(\"BAS218\",TABLAS!$A$441)","v":0},{"$f":"+GETPIVOTDATA(\"BAS219\",TABLAS!$A$441)","v":0},{"$f":"+GETPIVOTDATA(\"BAS220\",TABLAS!$A$441)","v":0},{"$f":"+GETPIVOTDATA(\"BAS221\",TABLAS!$A$441)","v":0},{"$f":"+GETPIVOTDATA(\"BAS222\",TABLAS!$A$441)","v":0},0,{"$f":"+GETPIVOTDATA(\"BAS217\",TABLAS!$A$591)","v":0},{"$f":"+GETPIVOTDATA(\"BAS218\",TABLAS!$A$591)","v":0},{"$f":"+GETPIVOTDATA(\"BAS219\",TABLAS!$A$591)","v":0},{"$f":"+GETPIVOTDATA(\"BAS220\",TABLAS!$A$591)","v":0},{"$f":"+GETPIVOTDATA(\"BAS221\",TABLAS!$A$591)","v":0},{"$f":"+GETPIVOTDATA(\"BAS222\",TABLAS!$A$591)","v":0},0,0,null,null,null,null,null,{"$f":"+GETPIVOTDATA(\"BAS217\",TABLAS!$A$861)","v":0},{"$f":"+GETPIVOTDATA(\"BAS218\",TABLAS!$A$861)","v":0},{"$f":"+GETPIVOTDATA(\"BAS219\",TABLAS!$A$861)","v":0},{"$f":"+GETPIVOTDATA(\"BAS220\",TABLAS!$A$861)","v":0},{"$f":"+GETPIVOTDATA(\"BAS221\",TABLAS!$A$861)","v":0},{"$f":"+GETPIVOTDATA(\"BAS222\",TABLAS!$A$861)","v":0},0,{"$f":"+GETPIVOTDATA(\"BAS217\",TABLAS!$A$1011)","v":0},{"$f":"+GETPIVOTDATA(\"BAS218\",TABLAS!$A$1011)","v":0},{"$f":"+GETPIVOTDATA(\"BAS219\",TABLAS!$A$1011)","v":0},{"$f":"+GETPIVOTDATA(\"BAS220\",TABLAS!$A$1011)","v":0},{"$f":"+GETPIVOTDATA(\"BAS221\",TABLAS!$A$1011)","v":0},{"$f":"+GETPIVOTDATA(\"BAS222\",TABLAS!$A$1011)","v":0},0,0,null,null,null,null,null,null,217,{"$f":"+AS257+1","v":218},219,220,221,222,"=+IMPORTARDATOSDINAMICOS(\"BAS217\",TABLAS!$A$1011)","=+IMPORTARDATOSDINAMICOS(\"BAS218\",TABLAS!$A$1011)","=+IMPORTARDATOSDINAMICOS(\"BAS219\",TABLAS!$A$1011)","=+IMPORTARDATOSDINAMICOS(\"BAS220\",TABLAS!$A$1011)","=+IMPORTARDATOSDINAMICOS(\"BAS221\",TABLAS!$A$1011)","=+IMPORTARDATOSDINAMICOS(\"BAS222\",TABLAS!$A$1011)"]
["CONTROL DE CALIDAD CRIOPRECIPITADO (DOSAJE DE FACTORES DE COAGULACION / DOSAJE DE FIBRINOGENO) [BS038]",null,null,{"$f":"+GETPIVOTDATA(\"BAS223\",TABLAS!$A$441)","v":0},{"$f":"+GETPIVOTDATA(\"BAS224\",TABLAS!$A$441)","v":0},{"$f":"+GETPIVOTDATA(\"BAS225\",TABLAS!$A$441)","v":0},{"$f":"+GETPIVOTDATA(\"BAS226\",TABLAS!$A$441)","v":0},{"$f":"+GETPIVOTDATA(\"BAS227\",TABLAS!$A$441)","v":0},{"$f":"+GETPIVOTDATA(\"BAS228\",TABLAS!$A$441)","v":0},0,{"$f":"+GETPIVOTDATA(\"BAS223\",TABLAS!$A$591)","v":0},{"$f":"+GETPIVOTDATA(\"BAS224\",TABLAS!$A$591)","v":0},{"$f":"+GETPIVOTDATA(\"BAS225\",TABLAS!$A$591)","v":0},{"$f":"+GETPIVOTDATA(\"BAS226\",TABLAS!$A$591)","v":0},{"$f":"+GETPIVOTDATA(\"BAS227\",TABLAS!$A$591)","v":0},{"$f":"+GETPIVOTDATA(\"BAS228\",TABLAS!$A$591)","v":0},0,0,null,null,null,null,null,{"$f":"+GETPIVOTDATA(\"BAS223\",TABLAS!$A$861)","v":0},{"$f":"+GETPIVOTDATA(\"BAS224\",TABLAS!$A$861)","v":0},{"$f":"+GETPIVOTDATA(\"BAS225\",TABLAS!$A$861)","v":0},{"$f":"+GETPIVOTDATA(\"BAS226\",TABLAS!$A$861)","v":0},{"$f":"+GETPIVOTDATA(\"BAS227\",TABLAS!$A$861)","v":0},{"$f":"+GETPIVOTDATA(\"BAS228\",TABLAS!$A$861)","v":0},0,{"$f":"+GETPIVOTDATA(\"BAS223\",TABLAS!$A$1011)","v":0},{"$f":"+GETPIVOTDATA(\"BAS224\",TABLAS!$A$1011)","v":0},{"$f":"+GETPIVOTDATA(\"BAS225\",TABLAS!$A$1011)","v":0},{"$f":"+GETPIVOTDATA(\"BAS226\",TABLAS!$A$1011)","v":0},{"$f":"+GETPIVOTDATA(\"BAS227\",TABLAS!$A$1011)","v":0},{"$f":"+GETPIVOTDATA(\"BAS228\",TABLAS!$A$1011)","v":0},0,0,null,null,null,null,null,null,223,{"$f":"+AS258+1","v":224},225,226,227,228,"=+IMPORTARDATOSDINAMICOS(\"BAS223\",TABLAS!$A$1011)","=+IMPORTARDATOSDINAMICOS(\"BAS224\",TABLAS!$A$1011)","=+IMPORTARDATOSDINAMICOS(\"BAS225\",TABLAS!$A$1011)","=+IMPORTARDATOSDINAMICOS(\"BAS226\",TABLAS!$A$1011)","=+IMPORTARDATOSDINAMICOS(\"BAS227\",TABLAS!$A$1011)","=+IMPORTARDATOSDINAMICOS(\"BAS228\",TABLAS!$A$1011)"]

{"sheet":"LAB ESTRATEGIAS","index":3,"n_rows":163,"n_cols":16,"rows_kept":163,"cut":false,"hidden":false,"merged":[[162,9,162,13],[156,9,156,13],[157,9,157,13],[158,9,158,13],[159,9,159,13],[160,9,160,13],[161,9,161,13],[152,0,152,4],[152,9,152,13],[130,0,131,4],[130,5,130,8],[130,9,130,12],[132,0,132,4],[139,0,139,10],[140,0,141,4],[140,5,140,7],[140,8,140,10],[142,0,142,4],[150,0,150,6],[150,9,150,14],[151,0,151,4],[151,9,151,13],[129,0,129,12],[90,0,94,0],[95,0,95,3],[97,0,97,15],[98,4,98,9],[98,10,98,15],[112,0,112,15],[113,0,114,3],[113,4,113,8],[113,9,113,13],[113,14,114,14],[113,15,114,15],[89,0,89,4],[68,0,72,0],[73,0,73,3],[74,0,74,3],[75,0,75,14],[76,0,77,4],[76,5,76,14],[78,0,78,4],[79,0,83,0],[84,0,84,3],[87,0,88,4],[87,5,87,14],[67,0,67,3],[48,0,48,3],[51,0,52,0],[53,0,53,3],[55,0,55,14],[56,0,57,4],[56,5,56,14],[58,0,58,3],[59,0,63,0],[64,0,64,3],[65,0,66,4],[65,5,65,14],[32,0,32,1],[38,0,43,0],[38,1,38,3],[45,0,45,15],[46,0,47,3],[46,4,46,9],[46,10,46,15],[20,0,24,0],[25,0,26,0],[29,0,29,15],[30,0,31,3],[30,4,30,9],[30,10,30,15],[18,0,19,0],[9,0,9,2],[9,3,9,6],[9,7,9,8],[9,9,9,11],[13,0,13,2],[13,3,13,6],[13,7,13,8],[13,9,13,11],[16,0,16,10],[9,13,9,14],[11,0,11,2],[11,3,11,6],[11,7,11,8],[11,9,11,11],[11,13,11,14],[0,0,0,16],[1,0,1,16],[2,0,2,16],[3,0,3,16],[4,0,4,16],[7,0,7,2],[7,3,7,6],[7,7,7,8],[7,9,7,11],[7,13,7,14]]}
["DIRECCION REGIONAL DE SALUD CUSCO"]
["DIRECCION EJECUTIVA DE INTELIGENCIA SANITARIA"]
["DIRECCION DE ESTADISTICA, INFORMATICA Y TELECOMUNICACION"]
[]
["CONSOLIDADO MENSUAL - ESTRATEGIAS Y COMPONENTES"]
[]
[]
["DIRESA",null,null,{"$f":"LAB_ANALISIS_CLINICO!F8","v":"CUSCO"},null,null,null,"PROVINCIA",null,{"$f":"+TABLAS!O12","v":""},null,null,"Año",{"$f":"LAB_ANALISIS_CLINICO!AN8","v":"2024"}]
[]
["RED DE SALUD",null,null,{"$f":"LAB_ANALISIS_CLINICO!F10","v":"03 - LA CONVENCION"},null,null,null,"DISTRITO",null,{"$f":"+TABLAS!O13","v":""},null,null,"Mes",{"$f":"LAB_ANALISIS_CLINICO!AN10","v":"ENE - NOV"}]
[]
["MICRO RED",null,null,{"$f":"LAB_ANALISIS_CLINICO!O8","v":""},null,null,null,"ESTABLECIMIENTO",null,{"$f":"+TABLAS!O11","v":""},null,null,"Ipress"]
[]
["Responsable de la Información",null,null,null,null,null,null,"EJECUTORA",null,{"$f":"+TABLAS!O14","v":""}]
[]
[]
["GOTA GRUESA (MALARIA) "]
["Tipo",null,null,null,null,"0 - 11años","12 - 17años","18 - 29años","30 - 59años","60- + años","Total"]
["TOTAL","DE MUESTRAS RECEPCIONADAS",null,null,null,null,null,null,null,null,{"$f":"SUM(F19:J19)","v":0}]
[null,"DE MUESTRAS PROCESADAS",null,null,null,{"$f":"+F21+F25+F26+F27","v":0},{"$f":"+G21+G25+G26+G27","v":0},0,0,0,0]
["DIAGNOSTICO","LAMINAS POSITIVAS",null,null,null,{"$f":"SUM(F22:F24)","v":0},{"$f":"SUM(G22:G24)","v":0},0,0,0,{"$f":"SUM(F21:J21)","v":0}]
[null,"Plasmodium vivax [87207]+[RP]",null,null,null,{"$f":"+GETPIVOTDATA(\"BAS001\",TABLAS!$A$75)","v":0},{"$f":"+GETPIVOTDATA(\"BAS002\",TABLAS!$A$75)","v":0},{"$f":"+GETPIVOTDATA(\"BAS003\",TABLAS!$A$75)","v":0},{"$f":"+GETPIVOTDATA(\"BAS004\",TABLAS!$A$75)","v":0},{"$f":"+GETPIVOTDATA(\"BAS005\",TABLAS!$A$75)","v":0},{"$f":"SUM(F22:J22)","v":0}]
[null,"Plasmodium falciparum [87207]+[RP1]",null,null,null,{"$f":"+GETPIVOTDATA(\"BAS006\",TABLAS!$A$75)","v":0},{"$f":"+GETPIVOTDATA(\"BAS007\",TABLAS!$A$75)","v":0},{"$f":"+GETPIVOTDATA(\"BAS008\",TABLAS!$A$75)","v":0},{"$f":"+GETPIVOTDATA(\"BAS009\",TABLAS!$A$75)","v":0},{"$f":"+GETPIVOTDATA(\"BAS010\",TABLAS!$A$75)","v":0},0]
[null,"Plasmodium Malareae [87207]+[RP2]",null,null,null,{"$f":"+GETPIVOTDATA(\"BAS011\",TABLAS!$A$75)","v":0},{"$f":"+GETPIVOTDATA(\"BAS012\",TABLAS!$A$75)","v":0},{"$f":"+GETPIVOTDATA(\"BAS013\",TABLAS!$A$75)","v":0},{"$f":"+GETPIVOTDATA(\"BAS014\",TABLAS!$A$75)","v":0},{"$f":"+GETPIVOTDATA(\"BAS015\",TABLAS!$A$75)","v":0},0]
[null,"LAMINAS NEGATIVAS [87207]",null,null,null,{"$f":"+GETPIVOTDATA(\"BAS016\",TABLAS!$A$75)","v":0},{"$f":"+GETPIVOTDATA(\"BAS017\",TABLAS!$A$75)","v":0},{"$f":"+GETPIVOTDATA(\"BAS018\",TABLAS!$A$75)","v":0},{"$f":"+GETPIVOTDATA(\"BAS019\",TABLAS!$A$75)","v":0},{"$f":"+GETPIVOTDATA(\"BAS020\",TABLAS!$A$75)","v":0},0]
["CON TROL","Laminas Positivas [87207]+[CP]",null,null,null,{"$f":"+GETPIVOTDATA(\"BAS021\",TABLAS!$A$75)","v":0},{"$f":"+GETPIVOTDATA(\"BAS022\",TABLAS!$A$75)","v":0},{"$f":"+GETPIVOTDATA(\"BAS023\",TABLAS!$A$75)","v":0},{"$f":"+GETPIVOTDATA(\"BAS024\",TABLAS!$A$75)","v":0},{"$f":"+GETPIVOTDATA(\"BAS025\",TABLAS!$A$75)","v":0},0]
[null,"Laminas Negativas [87207]+[CN]",null,null,null,{"$f":"+GETPIVOTDATA(\"BAS026\",TABLAS!$A$75)","v":0},{"$f":"+GETPIVOTDATA(\"BAS027\",TABLAS!$A$75)","v":0},{"$f":"+GETPIVOTDATA(\"BAS028\",TABLAS!$A$75)","v":0},{"$f":"+GETPIVOTDATA(\"BAS029\",TABLAS!$A$75)","v":0},{"$f":"+GETPIVOTDATA(\"BAS030\",TABLAS!$A$75)","v":0},0]
[null,"MUESTREO HEMATICO  [87207]+[MH]",null,null,null,{"$f":"+GETPIVOTDATA(\"BAS031\",TABLAS!$A$75)","v":0},{"$f":"+GETPIVOTDATA(\"BAS032\",TABLAS!$A$75)","v":0},{"$f":"+GETPIVOTDATA(\"BAS033\",TABLAS!$A$75)","v":0},{"$f":"+GETPIVOTDATA(\"BAS034\",TABLAS!$A$75)","v":0},{"$f":"+GETPIVOTDATA(\"BAS035\",TABLAS!$A$75)","v":0},0]
[]
["LEISHMANIOSIS"]
["TIPO",null,null,null,"REALIZADO",null,null,null,null,null,"POSITIVOS"]
[null,null,null,null,"0 - 11años","12 - 17años","18 - 29años","30 - 59años","60- + años","Total","0 - 11años","12 - 17años","18 - 29años","30 - 59años","60- + años","Total"]
["Total",null,null,null,{"$f":"SUM(E34:E38)","v":0},{"$f":"SUM(F34:F38)","v":0},0,0,0,{"$f":"SUM(E33:I33)","v":0},0,0,0,0,0,{"$f":"SUM(K33:O33)","v":0}]
["Frotis [87207]",null,null,"[RP]",{"$f":"+GETPIVOTDATA(\"BAS041\",TABLAS!$A$75)","v":0},{"$f":"+GETPIVOTDATA(\"BAS042\",TABLAS!$A$75)","v":0},{"$f":"+GETPIVOTDATA(\"BAS043\",TABLAS!$A$75)","v":0},{"$f":"+GETPIVOTDATA(\"BAS044\",TABLAS!$A$75)","v":0},{"$f":"+GETPIVOTDATA(\"BAS045\",TABLAS!$A$75)","v":0},{"$f":"SUM(E34:I34)","v":0},{"$f":"+GETPIVOTDATA(\"BAS046\",TABLAS!$A$75)","v":0},{"$f":"+GETPIVOTDATA(\"BAS047\",TABLAS!$A$75)","v":0},{"$f":"+GETPIVOTDATA(\"BAS048\",TABLAS!$A$75)","v":0},{"$f":"+GETPIVOTDATA(\"BAS049\",TABLAS!$A$75)","v":0},{"$f":"+GETPIVOTDATA(\"BAS050\",TABLAS!$A$75)","v":0},{"$f":"SUM(K34:O34)","v":0}]
["Leishmanina [86717]",null,null,"[RP]",{"$f":"+GETPIVOTDATA(\"BAS051\",TABLAS!$A$75)","v":0},{"$f":"+GETPIVOTDATA(\"BAS052\",TABLAS!$A$75)","v":0},{"$f":"+GETPIVOTDATA(\"BAS053\",TABLAS!$A$75)","v":0},{"$f":"+GETPIVOTDATA(\"BAS054\",TABLAS!$A$75)","v":0},{"$f":"+GETPIVOTDATA(\"BAS055\",TABLAS!$A$75)","v":0},0,{"$f":"+GETPIVOTDATA(\"BAS056\",TABLAS!$A$75)","v":0},{"$f":"+GETPIVOTDATA(\"BAS057\",TABLAS!$A$75)","v":0},{"$f":"+GETPIVOTDATA(\"BAS058\",TABLAS!$A$75)","v":0},{"$f":"+GETPIVOTDATA(\"BAS059\",TABLAS!$A$75)","v":0},{"$f":"+GETPIVOTDATA(\"BAS060\",TABLAS!$A$75)","v":0},{"$f":"SUM(K35:O35)","v":0}]
["Cultivo [87162]",null,null,"[RP]",{"$f":"+GETPIVOTDATA(\"BAS061\",TABLAS!$A$75)","v":0},{"$f":"+GETPIVOTDATA(\"BAS062\",TABLAS!$A$75)","v":0},{"$f":"+GETPIVOTDATA(\"BAS063\",TABLAS!$A$75)","v":0},{"$f":"+GETPIVOTDATA(\"BAS064\",TABLAS!$A$75)","v":0},{"$f":"+GETPIVOTDATA(\"BAS065\",TABLAS!$A$75)","v":0},0,{"$f":"+GETPIVOTDATA(\"BAS066\",TABLAS!$A$75)","v":0},{"$f":"+GETPIVOTDATA(\"BAS067\",TABLAS!$A$75)","v":0},{"$f":"+GETPIVOTDATA(\"BAS068\",TABLAS!$A$75)","v":0},{"$f":"+GETPIVOTDATA(\"BAS069\",TABLAS!$A$75)","v":0},{"$f":"+GETPIVOTDATA(\"BAS070\",TABLAS!$A$75)","v":0},0]
["Serologia [86151]",null,null,"[RP]",{"$f":"+GETPIVOTDATA(\"BAS071\",TABLAS!$A$75)","v":0},{"$f":"+GETPIVOTDATA(\"BAS072\",TABLAS!$A$75)","v":0},{"$f":"+GETPIVOTDATA(\"BAS073\",TABLAS!$A$75)","v":0},{"$f":"+GETPIVOTDATA(\"BAS074\",TABLAS!$A$75)","v":0},{"$f":"+GETPIVOTDATA(\"BAS075\",TABLAS!$A$75)","v":0},0,{"$f":"+GETPIVOTDATA(\"BAS076\",TABLAS!$A$75)","v":0},{"$f":"+GETPIVOTDATA(\"BAS077\",TABLAS!$A$75)","v":0},{"$f":"+GETPIVOTDATA(\"BAS078\",TABLAS!$A$75)","v":0},{"$f":"+GETPIVOTDATA(\"BAS079\",TABLAS!$A$75)","v":0},{"$f":"+GETPIVOTDATA(\"BAS080\",TABLAS!$A$75)","v":0},0]
["Biopsia [88199]",null,null,"[RP]",{"$f":"+GETPIVOTDATA(\"BAS081\",TABLAS!$A$75)","v":0},{"$f":"+GETPIVOTDATA(\"BAS082\",TABLAS!$A$75)","v":0},{"$f":"+GETPIVOTDATA(\"BAS083\",TABLAS!$A$75)","v":0},{"$f":"+GETPIVOTDATA(\"BAS084\",TABLAS!$A$75)","v":0},{"$f":"+GETPIVOTDATA(\"BAS085\",TABLAS!$A$75)","v":0},0,{"$f":"+GETPIVOTDATA(\"BAS086\",TABLAS!$A$75)","v":0},{"$f":"+GETPIVOTDATA(\"BAS087\",TABLAS!$A$75)","v":0},{"$f":"+GETPIVOTDATA(\"BAS088\",TABLAS!$A$75)","v":0},{"$f":"+GETPIVOTDATA(\"BAS089\",TABLAS!$A$75)","v":0},{"$f":"+GETPIVOTDATA(\"BAS090\",TABLAS!$A$75)","v":0},0]
["Control","TOTAL",null,null,{"$f":"SUM(E40:E44)","v":0},{"$f":"SUM(F40:F44)","v":0},0,0,0,0,{"$f":"SUM(K40:K44)","v":0},0,0,0,0,0]
[null,"Frotis [87207]",null,"[CP]",{"$f":"+GETPIVOTDATA(\"BAS091\",TABLAS!$A$75)","v":0},{"$f":"+GETPIVOTDATA(\"BAS092\",TABLAS!$A$75)","v":0},{"$f":"+GETPIVOTDATA(\"BAS093\",TABLAS!$A$75)","v":0},{"$f":"+GETPIVOTDATA(\"BAS094\",TABLAS!$A$75)","v":0},{"$f":"+GETPIVOTDATA(\"BAS095\",TABLAS!$A$75)","v":0},0,{"$f":"+GETPIVOTDATA(\"BAS096\",TABLAS!$A$75)","v":0},{"$f":"+GETPIVOTDATA(\"BAS097\",TABLAS!$A$75)","v":0},{"$f":"+GETPIVOTDATA(\"BAS098\",TABLAS!$A$75)","v":0},{"$f":"+GETPIVOTDATA(\"BAS099\",TABLAS!$A$75)","v":0},{"$f":"+GETPIVOTDATA(\"BAS100\",TABLAS!$A$75)","v":0},0]
[null,"Leishmanina [86717]",null,"[CP]",{"$f":"+GETPIVOTDATA(\"BAS101\",TABLAS!$A$75)","v":0},{"$f":"+GETPIVOTDATA(\"BAS102\",TABLAS!$A$75)","v":0},{"$f":"+GETPIVOTDATA(\"BAS103\",TABLAS!$A$75)","v":0},{"$f":"+GETPIVOTDATA(\"BAS104\",TABLAS!$A$75)","v":0},{"$f":"+GETPIVOTDATA(\"BAS105\",TABLAS!$A$75)","v":0},0,{"$f":"+GETPIVOTDATA(\"BAS106\",TABLAS!$A$75)","v":0},{"$f":"+GETPIVOTDATA(\"BAS107\",TABLAS!$A$75)","v":0},{"$f":"+GETPIVOTDATA(\"BAS108\",TABLAS!$A$75)","v":0},{"$f":"+GETPIVOTDATA(\"BAS109\",TABLAS!$A$75)","v":0},{"$f":"+GETPIVOTDATA(\"BAS110\",TABLAS!$A$75)","v":0},0]
[null,"Cultivo [87162]",null,"[CP]",{"$f":"+GETPIVOTDATA(\"BAS111\",TABLAS!$A$75)","v":0},{"$f":"+GETPIVOTDATA(\"BAS112\",TABLAS!$A$75)","v":0},{"$f":"+GETPIVOTDATA(\"BAS113\",TABLAS!$A$75)","v":0},{"$f":"+GETPIVOTDATA(\"BAS114\",TABLAS!$A$75)","v":0},{"$f":"+GETPIVOTDATA(\"BAS115\",TABLAS!$A$75)","v":0},0,{"$f":"+GETPIVOTDATA(\"BAS116\",TABLAS!$A$75)","v":0},{"$f":"+GETPIVOTDATA(\"BAS117\",TABLAS!$A$75)","v":0},{"$f":"+GETPIVOTDATA(\"BAS118\",TABLAS!$A$75)","v":0},{"$f":"+GETPIVOTDATA(\"BAS119\",TABLAS!$A$75)","v":0},{"$f":"+GETPIVOTDATA(\"BAS120\",TABLAS!$A$75)","v":0},0]
[null,"Serologia [867151]",null,"[CP]",{"$f":"+GETPIVOTDATA(\"BAS121\",TABLAS!$A$75)","v":0},{"$f":"+GETPIVOTDATA(\"BAS122\",TABLAS!$A$75)","v":0},{"$f":"+GETPIVOTDATA(\"BAS123\",TABLAS!$A$75)","v":0},{"$f":"+GETPIVOTDATA(\"BAS124\",TABLAS!$A$75)","v":0},{"$f":"+GETPIVOTDATA(\"BAS125\",TABLAS!$A$75)","v":0},0,{"$f":"+GETPIVOTDATA(\"BAS126\",TABLAS!$A$75)","v":0},{"$f":"+GETPIVOTDATA(\"BAS127\",TABLAS!$A$75)","v":0},{"$f":"+GETPIVOTDATA(\"BAS128\",TABLAS!$A$75)","v":0},{"$f":"+GETPIVOTDATA(\"BAS129\",TABLAS!$A$75)","v":0},{"$f":"+GETPIVOTDATA(\"BAS130\",TABLAS!$A$75)","v":0},0]
[null,"Biopsia [88199]",null,"[CP]",{"$f":"+GETPIVOTDATA(\"BAS131\",TABLAS!$A$75)","v":0},{"$f":"+GETPIVOTDATA(\"BAS132\",TABLAS!$A$75)","v":0},{"$f":"+GETPIVOTDATA(\"BAS133\",TABLAS!$A$75)","v":0},{"$f":"+GETPIVOTDATA(\"BAS134\",TABLAS!$A$75)","v":0},{"$f":"+GETPIVOTDATA(\"BAS135\",TABLAS!$A$75)","v":0},0,{"$f":"+GETPIVOTDATA(\"BAS136\",TABLAS!$A$75)","v":0},{"$f":"+GETPIVOTDATA(\"BAS137\",TABLAS!$A$75)","v":0},{"$f":"+GETPIVOTDATA(\"BAS138\",TABLAS!$A$75)","v":0},{"$f":"+GETPIVOTDATA(\"BAS139\",TABLAS!$A$75)","v":0},{"$f":"+GETPIVOTDATA(\"BAS140\",TABLAS!$A$75)","v":0},0]
[]
["BARTONELOSIS"]
["TIPO",null,null,null,"REALIZADO",null,null,null,null,null,"POSITIVOS"]
[null,null,null,null,"0 - 11años","12 - 17años","18 - 29años","30 - 59años","60- + años","Total","0 - 11años","12 - 17años","18 - 29años","30 - 59años","60- + años","Total"]
["Total",null,null,null,{"$f":"SUM(E50:E54)","v":0},{"$f":"SUM(F50:F54)","v":0},0,0,0,{"$f":"SUM(E49:I49)","v":0},0,0,0,0,0,{"$f":"SUM(K49:O49)","v":0}]
["Frotis [87207]",null,null,"[RP]",{"$f":"+GETPIVOTDATA(\"BAS151\",TABLAS!$A$75)","v":0},{"$f":"+GETPIVOTDATA(\"BAS152\",TABLAS!$A$75)","v":0},{"$f":"+GETPIVOTDATA(\"BAS153\",TABLAS!$A$75)","v":0},{"$f":"+GETPIVOTDATA(\"BAS154\",TABLAS!$A$75)","v":0},{"$f":"+GETPIVOTDATA(\"BAS155\",TABLAS!$A$75)","v":0},0,{"$f":"+GETPIVOTDATA(\"BAS156\",TABLAS!$A$75)","v":0},{"$f":"+GETPIVOTDATA(\"BAS157\",TABLAS!$A$75)","v":0},{"$f":"+GETPIVOTDATA(\"BAS158\",TABLAS!$A$75)","v":0},{"$f":"+GETPIVOTDATA(\"BAS159\",TABLAS!$A$75)","v":0},{"$f":"+GETPIVOTDATA(\"BAS160\",TABLAS!$A$75)","v":0},0]
["Hemocultivo [87040]",null,null,"[RP]",{"$f":"+GETPIVOTDATA(\"BAS161\",TABLAS!$A$75)","v":0},{"$f":"+GETPIVOTDATA(\"BAS162\",TABLAS!$A$75)","v":0},{"$f":"+GETPIVOTDATA(\"BAS163\",TABLAS!$A$75)","v":0},{"$f":"+GETPIVOTDATA(\"BAS164\",TABLAS!$A$75)","v":0},{"$f":"+GETPIVOTDATA(\"BAS165\",TABLAS!$A$75)","v":0},0,{"$f":"+GETPIVOTDATA(\"BAS166\",TABLAS!$A$75)","v":0},{"$f":"+GETPIVOTDATA(\"BAS167\",TABLAS!$A$75)","v":0},{"$f":"+GETPIVOTDATA(\"BAS168\",TABLAS!$A$75)","v":0},{"$f":"+GETPIVOTDATA(\"BAS169\",TABLAS!$A$75)","v":0},{"$f":"+GETPIVOTDATA(\"BAS170\",TABLAS!$A$75)","v":0},0]
["Control","Frotis [87207]",null,"[CP]",{"$f":"+GETPIVOTDATA(\"BAS171\",TABLAS!$A$75)","v":0},{"$f":"+GETPIVOTDATA(\"BAS172\",TABLAS!$A$75)","v":0},{"$f":"+GETPIVOTDATA(\"BAS173\",TABLAS!$A$75)","v":0},{"$f":"+GETPIVOTDATA(\"BAS174\",TABLAS!$A$75)","v":0},{"$f":"+GETPIVOTDATA(\"BAS175\",TABLAS!$A$75)","v":0},0,{"$f":"+GETPIVOTDATA(\"BAS176\",TABLAS!$A$75)","v":0},{"$f":"+GETPIVOTDATA(\"BAS177\",TABLAS!$A$75)","v":0},{"$f":"+GETPIVOTDATA(\"BAS178\",TABLAS!$A$75)","v":0},{"$f":"+GETPIVOTDATA(\"BAS179\",TABLAS!$A$75)","v":0},{"$f":"+GETPIVOTDATA(\"BAS180\",TABLAS!$A$75)","v":0},0]
[null,"Hemocultivo [87040]",null,"[CP]",{"$f":"+GETPIVOTDATA(\"BAS181\",TABLAS!$A$75)","v":0},{"$f":"+GETPIVOTDATA(\"BAS182\",TABLAS!$A$75)","v":0},{"$f":"+GETPIVOTDATA(\"BAS183\",TABLAS!$A$75)","v":0},{"$f":"+GETPIVOTDATA(\"BAS184\",TABLAS!$A$75)","v":0},{"$f":"+GETPIVOTDATA(\"BAS185\",TABLAS!$A$75)","v":0},0,{"$f":"+GETPIVOTDATA(\"BAS186\",TABLAS!$A$75)","v":0},{"$f":"+GETPIVOTDATA(\"BAS187\",TABLAS!$A$75)","v":0},{"$f":"+GETPIVOTDATA(\"BAS188\",TABLAS!$A$75)","v":0},{"$f":"+GETPIVOTDATA(\"BAS189\",TABLAS!$A$75)","v":0},{"$f":"+GETPIVOTDATA(\"BAS190\",TABLAS!$A$75)","v":0},0]
["MUESTREO HEMATICO [MH]+[87207]",null,null,null,{"$f":"+GETPIVOTDATA(\"BAS191\",TABLAS!$A$75)","v":0},{"$f":"+GETPIVOTDATA(\"BAS192\",TABLAS!$A$75)","v":0},{"$f":"+GETPIVOTDATA(\"BAS193\",TABLAS!$A$75)","v":0},{"$f":"+GETPIVOTDATA(\"BAS194\",TABLAS!$A$75)","v":0},{"$f":"+GETPIVOTDATA(\"BAS195\",TABLAS!$A$75)","v":0},0]
[]
["BACTERIOLOGICO (TUBERCULOSIS) (87115)"]
["Tipo",null,null,null,null,"REALIZADO"]
[null,null,null,null,null,"0-11a","12-14a","15-17a","18-24a","25-29a","30-44a","45-59a","60-+a","TOTAL","Acumulado"]
["TOTAL",null,null,null,null,{"$f":"F64+F65","v":0},{"$f":"G64+G65","v":0},0,0,0,0,0,0,{"$f":"N64+N65","v":0}]
["DIAGNOSTICO","En Sintomatico Respiratorio [87115]+[SR]",null,null,null,{"$f":"+GETPIVOTDATA(\"BAS001\",TABLAS!$A$105)","v":0},{"$f":"+GETPIVOTDATA(\"BAS002\",TABLAS!$A$105)","v":0},{"$f":"+GETPIVOTDATA(\"BAS003\",TABLAS!$A$105)","v":0},{"$f":"+GETPIVOTDATA(\"BAS004\",TABLAS!$A$105)","v":0},{"$f":"+GETPIVOTDATA(\"BAS005\",TABLAS!$A$105)","v":0},{"$f":"+GETPIVOTDATA(\"BAS006\",TABLAS!$A$105)","v":0},{"$f":"+GETPIVOTDATA(\"BAS007\",TABLAS!$A$105)","v":0},{"$f":"+GETPIVOTDATA(\"BAS008\",TABLAS!$A$105)","v":0},{"$f":"SUM(F60:M60)","v":0}]
[null,"En RX Anormal [87115]+[RX]",null,null,null,{"$f":"+GETPIVOTDATA(\"BAS009\",TABLAS!$A$105)","v":0},{"$f":"+GETPIVOTDATA(\"BAS010\",TABLAS!$A$105)","v":0},{"$f":"+GETPIVOTDATA(\"BAS011\",TABLAS!$A$105)","v":0},{"$f":"+GETPIVOTDATA(\"BAS012\",TABLAS!$A$105)","v":0},{"$f":"+GETPIVOTDATA(\"BAS013\",TABLAS!$A$105)","v":0},{"$f":"+GETPIVOTDATA(\"BAS014\",TABLAS!$A$105)","v":0},{"$f":"+GETPIVOTDATA(\"BAS015\",TABLAS!$A$105)","v":0},{"$f":"+GETPIVOTDATA(\"BAS016\",TABLAS!$A$105)","v":0},{"$f":"SUM(F61:M61)","v":0}]
[null,"En Seguimiento Diagnostico [87115]+[SD]",null,null,null,{"$f":"+GETPIVOTDATA(\"BAS017\",TABLAS!$A$105)","v":0},{"$f":"+GETPIVOTDATA(\"BAS018\",TABLAS!$A$105)","v":0},{"$f":"+GETPIVOTDATA(\"BAS019\",TABLAS!$A$105)","v":0},{"$f":"+GETPIVOTDATA(\"BAS020\",TABLAS!$A$105)","v":0},{"$f":"+GETPIVOTDATA(\"BAS021\",TABLAS!$A$105)","v":0},{"$f":"+GETPIVOTDATA(\"BAS022\",TABLAS!$A$105)","v":0},{"$f":"+GETPIVOTDATA(\"BAS023\",TABLAS!$A$105)","v":0},{"$f":"+GETPIVOTDATA(\"BAS024\",TABLAS!$A$105)","v":0},0]
[null,"En Localizacion Extrapulmonar [87115]+[LE]",null,null,null,{"$f":"+GETPIVOTDATA(\"BAS025\",TABLAS!$A$105)","v":0},{"$f":"+GETPIVOTDATA(\"BAS026\",TABLAS!$A$105)","v":0},{"$f":"+GETPIVOTDATA(\"BAS027\",TABLAS!$A$105)","v":0},{"$f":"+GETPIVOTDATA(\"BAS028\",TABLAS!$A$105)","v":0},{"$f":"+GETPIVOTDATA(\"BAS029\",TABLAS!$A$105)","v":0},{"$f":"+GETPIVOTDATA(\"BAS030\",TABLAS!$A$105)","v":0},{"$f":"+GETPIVOTDATA(\"BAS031\",TABLAS!$A$105)","v":0},{"$f":"+GETPIVOTDATA(\"BAS032\",TABLAS!$A$105)","v":0},0]
[null,"Total de Diagnostico",null,null,null,{"$f":"SUM(F60:F63)","v":0},0,0,0,0,0,0,0,0]
["CONTROL DE TRATAMIENTO [87115]+[CN][CP]",null,null,null,null,{"$f":"+GETPIVOTDATA(\"BAS033\",TABLAS!$A$105)","v":0},{"$f":"+GETPIVOTDATA(\"BAS034\",TABLAS!$A$105)","v":0},{"$f":"+GETPIVOTDATA(\"BAS035\",TABLAS!$A$105)","v":0},{"$f":"+GETPIVOTDATA(\"BAS036\",TABLAS!$A$105)","v":0},{"$f":"+GETPIVOTDATA(\"BAS037\",TABLAS!$A$105)","v":0},{"$f":"+GETPIVOTDATA(\"BAS038\",TABLAS!$A$105)","v":0},{"$f":"+GETPIVOTDATA(\"BAS039\",TABLAS!$A$105)","v":0},{"$f":"+GETPIVOTDATA(\"BAS040\",TABLAS!$A$105)","v":0},0]
["Tipo",null,null,null,null,"POSITIVO"]
[null,null,null,null,null,"0-11a","12-14a","15-17a","18-24a","25-29a","30-44a","45-59a","60-+a","TOTAL","Acumulado"]
["TOTAL",null,null,null,null,{"$f":"F73+F74","v":0},{"$f":"G73+G74","v":0},0,0,0,0,0,0,{"$f":"N73+N74","v":0}]
["DIAGNOSTICO","En Sintomatico Respiratorio [87115]+[SRP]",null,null,null,{"$f":"+GETPIVOTDATA(\"BAS041\",TABLAS!$A$105)","v":0},{"$f":"+GETPIVOTDATA(\"BAS042\",TABLAS!$A$105)","v":0},{"$f":"+GETPIVOTDATA(\"BAS043\",TABLAS!$A$105)","v":0},{"$f":"+GETPIVOTDATA(\"BAS044\",TABLAS!$A$105)","v":0},{"$f":"+GETPIVOTDATA(\"BAS045\",TABLAS!$A$105)","v":0},{"$f":"+GETPIVOTDATA(\"BAS046\",TABLAS!$A$105)","v":0},{"$f":"+GETPIVOTDATA(\"BAS047\",TABLAS!$A$105)","v":0},{"$f":"+GETPIVOTDATA(\"BAS048\",TABLAS!$A$105)","v":0},{"$f":"SUM(F69:M69)","v":0}]
[null,"En RX Anormal [87115]+[RXP]",null,null,null,{"$f":"+GETPIVOTDATA(\"BAS049\",TABLAS!$A$105)","v":0},{"$f":"+GETPIVOTDATA(\"BAS050\",TABLAS!$A$105)","v":0},{"$f":"+GETPIVOTDATA(\"BAS051\",TABLAS!$A$105)","v":0},{"$f":"+GETPIVOTDATA(\"BAS052\",TABLAS!$A$105)","v":0},{"$f":"+GETPIVOTDATA(\"BAS053\",TABLAS!$A$105)","v":0},{"$f":"+GETPIVOTDATA(\"BAS054\",TABLAS!$A$105)","v":0},{"$f":"+GETPIVOTDATA(\"BAS055\",TABLAS!$A$105)","v":0},{"$f":"+GETPIVOTDATA(\"BAS056\",TABLAS!$A$105)","v":0},{"$f":"SUM(F70:M70)","v":0}]
[null,"En Seguimiento Diagnostico [87115]+[SDP]",null,null,null,{"$f":"+GETPIVOTDATA(\"BAS057\",TABLAS!$A$105)","v":0},{"$f":"+GETPIVOTDATA(\"BAS058\",TABLAS!$A$105)","v":0},{"$f":"+GETPIVOTDATA(\"BAS059\",TABLAS!$A$105)","v":0},{"$f":"+GETPIVOTDATA(\"BAS060\",TABLAS!$A$105)","v":0},{"$f":"+GETPIVOTDATA(\"BAS061\",TABLAS!$A$105)","v":0},{"$f":"+GETPIVOTDATA(\"BAS062\",TABLAS!$A$105)","v":0},{"$f":"+GETPIVOTDATA(\"BAS063\",TABLAS!$A$105)","v":0},{"$f":"+GETPIVOTDATA(\"BAS064\",TABLAS!$A$105)","v":0},0]
[null,"En Localizacion Extrapulmonar [87115]+[LEP]",null,null,null,{"$f":"+GETPIVOTDATA(\"BAS065\",TABLAS!$A$105)","v":0},{"$f":"+GETPIVOTDATA(\"BAS066\",TABLAS!$A$105)","v":0},{"$f":"+GETPIVOTDATA(\"BAS067\",TABLAS!$A$105)","v":0},{"$f":"+GETPIVOTDATA(\"BAS068\",TABLAS!$A$105)","v":0},{"$f":"+GETPIVOTDATA(\"BAS069\",TABLAS!$A$105)","v":0},{"$f":"+GETPIVOTDATA(\"BAS070\",TABLAS!$A$105)","v":0},{"$f":"+GETPIVOTDATA(\"BAS071\",TABLAS!$A$105)","v":0},{"$f":"+GETPIVOTDATA(\"BAS072\",TABLAS!$A$105)","v":0},0]
[null,"Total de Diagnostico",null,null,null,{"$f":"SUM(F69:F72)","v":0},0,0,0,0,0,0,0,0]
["CONTROL DE TRATAMIENTO [87115]+[CNP][CPP]",null,null,null,null,{"$f":"+GETPIVOTDATA(\"BAS073\",TABLAS!$A$105)","v":0},{"$f":"+GETPIVOTDATA(\"BAS074\",TABLAS!$A$105)","v":0},{"$f":"+GETPIVOTDATA(\"BAS075\",TABLAS!$A$105)","v":0},{"$f":"+GETPIVOTDATA(\"BAS076\",TABLAS!$A$105)","v":0},{"$f":"+GETPIVOTDATA(\"BAS077\",TABLAS!$A$105)","v":0},{"$f":"+GETPIVOTDATA(\"BAS078\",TABLAS!$A$105)","v":0},{"$f":"+GETPIVOTDATA(\"BAS079\",TABLAS!$A$105)","v":0},{"$f":"+GETPIVOTDATA(\"BAS080\",TABLAS!$A$105)","v":0},0]
[]
["CULTIVOS (TUBERCULOSIS) (87116)"]
["Tipo",null,null,null,null,"REALIZADO"]
[null,null,null,null,null,"0-11a","12-14a","15-17a","18-24a","25-29a","30-44a","45-59a","60-+a","TOTAL","Acumulado"]
["TOTAL",null,null,null,null,{"$f":"F84+F85","v":0},{"$f":"G84+G85","v":0},0,0,0,0,0,0,{"$f":"N84+N85","v":0}]
["DIAGNOSTICO","En Sintomatico Respiratorio [87116]+[SR]",null,null,null,{"$f":"+GETPIVOTDATA(\"BAS101\",TABLAS!$A$105)","v":0},{"$f":"+GETPIVOTDATA(\"BAS102\",TABLAS!$A$105)","v":0},{"$f":"+GETPIVOTDATA(\"BAS103\",TABLAS!$A$105)","v":0},{"$f":"+GETPIVOTDATA(\"BAS104\",TABLAS!$A$105)","v":0},{"$f":"+GETPIVOTDATA(\"BAS105\",TABLAS!$A$105)","v":0},{"$f":"+GETPIVOTDATA(\"BAS106\",TABLAS!$A$105)","v":0},{"$f":"+GETPIVOTDATA(\"BAS107\",TABLAS!$A$105)","v":0},{"$f":"+GETPIVOTDATA(\"BAS108\",TABLAS!$A$105)","v":0},{"$f":"SUM(F80:M80)","v":0}]
[null,"En RX Anormal [87116]+[RX]",null,null,null,{"$f":"+GETPIVOTDATA(\"BAS109\",TABLAS!$A$105)","v":0},{"$f":"+GETPIVOTDATA(\"BAS110\",TABLAS!$A$105)","v":0},{"$f":"+GETPIVOTDATA(\"BAS111\",TABLAS!$A$105)","v":0},{"$f":"+GETPIVOTDATA(\"BAS112\",TABLAS!$A$105)","v":0},{"$f":"+GETPIVOTDATA(\"BAS113\",TABLAS!$A$105)","v":0},{"$f":"+GETPIVOTDATA(\"BAS114\",TABLAS!$A$105)","v":0},{"$f":"+GETPIVOTDATA(\"BAS115\",TABLAS!$A$105)","v":0},{"$f":"+GETPIVOTDATA(\"BAS116\",TABLAS!$A$105)","v":0},{"$f":"SUM(F81:M81)","v":0}]
[null,"En Seguimiento Diagnostico [87116]+[SD]",null,null,null,{"$f":"+GETPIVOTDATA(\"BAS117\",TABLAS!$A$105)","v":0},{"$f":"+GETPIVOTDATA(\"BAS118\",TABLAS!$A$105)","v":0},{"$f":"+GETPIVOTDATA(\"BAS119\",TABLAS!$A$105)","v":0},{"$f":"+GETPIVOTDATA(\"BAS120\",TABLAS!$A$105)","v":0},{"$f":"+GETPIVOTDATA(\"BAS121\",TABLAS!$A$105)","v":0},{"$f":"+GETPIVOTDATA(\"BAS122\",TABLAS!$A$105)","v":0},{"$f":"+GETPIVOTDATA(\"BAS123\",TABLAS!$A$105)","v":0},{"$f":"+GETPIVOTDATA(\"BAS124\",TABLAS!$A$105)","v":0},0]
[null,"En Localizacion Extrapulmonar [87116]+[LE]",null,null,null,{"$f":"+GETPIVOTDATA(\"BAS125\",TABLAS!$A$105)","v":0},{"$f":"+GETPIVOTDATA(\"BAS126\",TABLAS!$A$105)","v":0},{"$f":"+GETPIVOTDATA(\"BAS127\",TABLAS!$A$105)","v":0},{"$f":"+GETPIVOTDATA(\"BAS128\",TABLAS!$A$105)","v":0},{"$f":"+GETPIVOTDATA(\"BAS129\",TABLAS!$A$105)","v":0},{"$f":"+GETPIVOTDATA(\"BAS130\",TABLAS!$A$105)","v":0},{"$f":"+GETPIVOTDATA(\"BAS131\",TABLAS!$A$105)","v":0},{"$f":"+GETPIVOTDATA(\"BAS132\",TABLAS!$A$105)","v":0},0]
[null,"Total de Diagnostico",null,null,null,{"$f":"SUM(F80:F83)","v":0},0,0,0,0,0,0,0,0]
["CONTROL DE TRATAMIENTO [CN][CP]",null,null,null,null,{"$f":"+GETPIVOTDATA(\"BAS133\",TABLAS!$A$105)","v":0},{"$f":"+GETPIVOTDATA(\"BAS134\",TABLAS!$A$105)","v":0},{"$f":"+GETPIVOTDATA(\"BAS135\",TABLAS!$A$105)","v":0},{"$f":"+GETPIVOTDATA(\"BAS136\",TABLAS!$A$105)","v":0},{"$f":"+GETPIVOTDATA(\"BAS137\",TABLAS!$A$105)","v":0},{"$f":"+GETPIVOTDATA(\"BAS138\",TABLAS!$A$105)","v":0},{"$f":"+GETPIVOTDATA(\"BAS139\",TABLAS!$A$105)","v":0},{"$f":"+GETPIVOTDATA(\"BAS140\",TABLAS!$A$105)","v":0},0]
["Nº de cultivos contaminados ",null,null,null,null,{"$f":"+GETPIVOTDATA(\"BAS141\",TABLAS!$A$105)","v":0},{"$f":"+GETPIVOTDATA(\"BAS142\",TABLAS!$A$105)","v":0},{"$f":"+GETPIVOTDATA(\"BAS143\",TABLAS!$A$105)","v":0},{"$f":"+GETPIVOTDATA(\"BAS144\",TABLAS!$A$105)","v":0},{"$f":"+GETPIVOTDATA(\"BAS145\",TABLAS!$A$105)","v":0},{"$f":"+GETPIVOTDATA(\"BAS146\",TABLAS!$A$105)","v":0},{"$f":"+GETPIVOTDATA(\"BAS147\",TABLAS!$A$105)","v":0},{"$f":"+GETPIVOTDATA(\"BAS148\",TABLAS!$A$105)","v":0},0]
["Nº de Pruebas de Sensibilidad",null,null,null,null,{"$f":"+GETPIVOTDATA(\"BAS149\",TABLAS!$A$105)","v":0},{"$f":"+GETPIVOTDATA(\"BAS150\",TABLAS!$A$105)","v":0},{"$f":"+GETPIVOTDATA(\"BAS151\",TABLAS!$A$105)","v":0},{"$f":"+GETPIVOTDATA(\"BAS152\",TABLAS!$A$105)","v":0},{"$f":"+GETPIVOTDATA(\"BAS153\",TABLAS!$A$105)","v":0},{"$f":"+GETPIVOTDATA(\"BAS154\",TABLAS!$A$105)","v":0},{"$f":"+GETPIVOTDATA(\"BAS155\",TABLAS!$A$105)","v":0},{"$f":"+GETPIVOTDATA(\"BAS156\",TABLAS!$A$105)","v":0},0]
["Tipo",null,null,null,null,"POSITIVO"]
[null,null,null,null,null,"0-11a","12-14a","15-17a","18-24a","25-29a","30-44a","45-59a","60-+a","TOTAL","Acumulado"]
["TOTAL",null,null,null,null,{"$f":"F95+F96","v":0},0,0,0,0,0,0,0,0]
["DIAGNOSTICO","En Sintomatico Respiratorio [87116]+[SRP]",null,null,null,{"$f":"+GETPIVOTDATA(\"BAS157\",TABLAS!$A$105)","v":0},{"$f":"+GETPIVOTDATA(\"BAS158\",TABLAS!$A$105)","v":0},{"$f":"+GETPIVOTDATA(\"BAS159\",TABLAS!$A$105)","v":0},{"$f":"+GETPIVOTDATA(\"BAS160\",TABLAS!$A$105)","v":0},{"$f":"+GETPIVOTDATA(\"BAS161\",TABLAS!$A$105)","v":0},{"$f":"+GETPIVOTDATA(\"BAS162\",TABLAS!$A$105)","v":0},{"$f":"+GETPIVOTDATA(\"BAS163\",TABLAS!$A$105)","v":0},{"$f":"+GETPIVOTDATA(\"BAS164\",TABLAS!$A$105)","v":0},{"$f":"SUM(F91:M91)","v":0}]
[null,"En RX Anormal [87116]+[RXP]",null,null,null,{"$f":"+GETPIVOTDATA(\"BAS165\",TABLAS!$A$105)","v":0},{"$f":"+GETPIVOTDATA(\"BAS166\",TABLAS!$A$105)","v":0},{"$f":"+GETPIVOTDATA(\"BAS167\",TABLAS!$A$105)","v":0},{"$f":"+GETPIVOTDATA(\"BAS168\",TABLAS!$A$105)","v":0},{"$f":"+GETPIVOTDATA(\"BAS169\",TABLAS!$A$105)","v":0},{"$f":"+GETPIVOTDATA(\"BAS170\",TABLAS!$A$105)","v":0},{"$f":"+GETPIVOTDATA(\"BAS171\",TABLAS!$A$105)","v":0},{"$f":"+GETPIVOTDATA(\"BAS172\",TABLAS!$A$105)","v":0},{"$f":"SUM(F92:M92)","v":0}]
[null,"En Seguimiento Diagnostico [87116]+[SDP]",null,null,null,{"$f":"+GETPIVOTDATA(\"BAS173\",TABLAS!$A$105)","v":0},{"$f":"+GETPIVOTDATA(\"BAS174\",TABLAS!$A$105)","v":0},{"$f":"+GETPIVOTDATA(\"BAS175\",TABLAS!$A$105)","v":0},{"$f":"+GETPIVOTDATA(\"BAS176\",TABLAS!$A$105)","v":0},{"$f":"+GETPIVOTDATA(\"BAS177\",TABLAS!$A$105)","v":0},{"$f":"+GETPIVOTDATA(\"BAS178\",TABLAS!$A$105)","v":0},{"$f":"+GETPIVOTDATA(\"BAS179\",TABLAS!$A$105)","v":0},{"$f":"+GETPIVOTDATA(\"BAS180\",TABLAS!$A$105)","v":0},0]
[null,"En Localizacion Extrapulmonar [87116]+[LEP]",null,null,null,{"$f":"+GETPIVOTDATA(\"BAS181\",TABLAS!$A$105)","v":0},{"$f":"+GETPIVOTDATA(\"BAS182\",TABLAS!$A$105)","v":0},{"$f":"+GETPIVOTDATA(\"BAS183\",TABLAS!$A$105)","v":0},{"$f":"+GETPIVOTDATA(\"BAS184\",TABLAS!$A$105)","v":0},{"$f":"+GETPIVOTDATA(\"BAS185\",TABLAS!$A$105)","v":0},{"$f":"+GETPIVOTDATA(\"BAS186\",TABLAS!$A$105)","v":0},{"$f":"+GETPIVOTDATA(\"BAS187\",TABLAS!$A$105)","v":0},{"$f":"+GETPIVOTDATA(\"BAS188\",TABLAS!$A$105)","v":0},0]
[null,"Total de Diagnostico",null,null,null,{"$f":"SUM(F91:F94)","v":0},0,0,0,0,0,0,0,0]
["CONTROL DE TRATAMIENTO [CNP][CPP]",null,null,null,null,{"$f":"+GETPIVOTDATA(\"BAS189\",TABLAS!$A$105)","v":0},{"$f":"+GETPIVOTDATA(\"BAS190\",TABLAS!$A$105)","v":0},{"$f":"+GETPIVOTDATA(\"BAS191\",TABLAS!$A$105)","v":0},{"$f":"+GETPIVOTDATA(\"BAS192\",TABLAS!$A$105)","v":0},{"$f":"+GETPIVOTDATA(\"BAS193\",TABLAS!$A$105)","v":0},{"$f":"+GETPIVOTDATA(\"BAS194\",TABLAS!$A$105)","v":0},{"$f":"+GETPIVOTDATA(\"BAS195\",TABLAS!$A$105)","v":0},{"$f":"+GETPIVOTDATA(\"BAS196\",TABLAS!$A$105)","v":0},0]
[]
["INFECCIONES DE TRANSMISION SEXUAL"]
["Tipo",null,null,null,"REALIZADO",null,null,null,null,null,"POSITIVOS [RP]"]
[null,null,null,null,"0 - 11a","12 - 17a","18 - 29a","30 - 59a","60- +a","TOTAL","0 - 11a","12 - 17a","18 - 29a","30 - 59a","60- +a","TOTAL"]
["Total",null,null,null,{"$f":"SUM(E102:E111)","v":0},{"$f":"SUM(F102:F111)","v":0},0,0,0,0,0,0,0,0,0,0]
["EXAMEN DIRECTO   [87210]",null,null,null,{"$f":"+GETPIVOTDATA(\"BAS001\",TABLAS!$A$135)","v":0},{"$f":"+GETPIVOTDATA(\"BAS002\",TABLAS!$A$135)","v":0},{"$f":"+GETPIVOTDATA(\"BAS003\",TABLAS!$A$135)","v":0},{"$f":"+GETPIVOTDATA(\"BAS004\",TABLAS!$A$135)","v":0},{"$f":"+GETPIVOTDATA(\"BAS005\",TABLAS!$A$135)","v":0},null,{"$f":"+GETPIVOTDATA(\"BAS006\",TABLAS!$A$135)","v":0},{"$f":"+GETPIVOTDATA(\"BAS007\",TABLAS!$A$135)","v":0},{"$f":"+GETPIVOTDATA(\"BAS008\",TABLAS!$A$135)","v":0},{"$f":"+GETPIVOTDATA(\"BAS009\",TABLAS!$A$135)","v":0},{"$f":"+GETPIVOTDATA(\"BAS010\",TABLAS!$A$135)","v":0},{"$f":"SUM(K102:O102)","v":0}]
["K OH DIRECTO [87220]",null,null,null,{"$f":"+GETPIVOTDATA(\"BAS011\",TABLAS!$A$135)","v":0},{"$f":"+GETPIVOTDATA(\"BAS012\",TABLAS!$A$135)","v":0},{"$f":"+GETPIVOTDATA(\"BAS013\",TABLAS!$A$135)","v":0},{"$f":"+GETPIVOTDATA(\"BAS014\",TABLAS!$A$135)","v":0},{"$f":"+GETPIVOTDATA(\"BAS015\",TABLAS!$A$135)","v":0},null,{"$f":"+GETPIVOTDATA(\"BAS016\",TABLAS!$A$135)","v":0},{"$f":"+GETPIVOTDATA(\"BAS017\",TABLAS!$A$135)","v":0},{"$f":"+GETPIVOTDATA(\"BAS018\",TABLAS!$A$135)","v":0},{"$f":"+GETPIVOTDATA(\"BAS019\",TABLAS!$A$135)","v":0},{"$f":"+GETPIVOTDATA(\"BAS020\",TABLAS!$A$135)","v":0},{"$f":"SUM(K103:O103)","v":0}]
["GRAM (TINCION)   [87205]",null,null,null,{"$f":"+GETPIVOTDATA(\"BAS021\",TABLAS!$A$135)","v":0},{"$f":"+GETPIVOTDATA(\"BAS022\",TABLAS!$A$135)","v":0},{"$f":"+GETPIVOTDATA(\"BAS023\",TABLAS!$A$135)","v":0},{"$f":"+GETPIVOTDATA(\"BAS024\",TABLAS!$A$135)","v":0},{"$f":"+GETPIVOTDATA(\"BAS025\",TABLAS!$A$135)","v":0},null,{"$f":"+GETPIVOTDATA(\"BAS026\",TABLAS!$A$135)","v":0},{"$f":"+GETPIVOTDATA(\"BAS027\",TABLAS!$A$135)","v":0},{"$f":"+GETPIVOTDATA(\"BAS028\",TABLAS!$A$135)","v":0},{"$f":"+GETPIVOTDATA(\"BAS029\",TABLAS!$A$135)","v":0},{"$f":"+GETPIVOTDATA(\"BAS030\",TABLAS!$A$135)","v":0},0]
["RPR [86592]",null,null,null,{"$f":"+GETPIVOTDATA(\"BAS031\",TABLAS!$A$135)","v":0},{"$f":"+GETPIVOTDATA(\"BAS032\",TABLAS!$A$135)","v":0},{"$f":"+GETPIVOTDATA(\"BAS033\",TABLAS!$A$135)","v":0},{"$f":"+GETPIVOTDATA(\"BAS034\",TABLAS!$A$135)","v":0},{"$f":"+GETPIVOTDATA(\"BAS035\",TABLAS!$A$135)","v":0},null,{"$f":"+GETPIVOTDATA(\"BAS036\",TABLAS!$A$135)","v":0},{"$f":"+GETPIVOTDATA(\"BAS037\",TABLAS!$A$135)","v":0},{"$f":"+GETPIVOTDATA(\"BAS038\",TABLAS!$A$135)","v":0},{"$f":"+GETPIVOTDATA(\"BAS039\",TABLAS!$A$135)","v":0},{"$f":"+GETPIVOTDATA(\"BAS040\",TABLAS!$A$135)","v":0},0]
["VDRL  [R0014]",null,null,null,{"$f":"+GETPIVOTDATA(\"BAS041\",TABLAS!$A$135)","v":0},{"$f":"+GETPIVOTDATA(\"BAS042\",TABLAS!$A$135)","v":0},{"$f":"+GETPIVOTDATA(\"BAS043\",TABLAS!$A$135)","v":0},{"$f":"+GETPIVOTDATA(\"BAS044\",TABLAS!$A$135)","v":0},{"$f":"+GETPIVOTDATA(\"BAS045\",TABLAS!$A$135)","v":0},null,{"$f":"+GETPIVOTDATA(\"BAS046\",TABLAS!$A$135)","v":0},{"$f":"+GETPIVOTDATA(\"BAS047\",TABLAS!$A$135)","v":0},{"$f":"+GETPIVOTDATA(\"BAS048\",TABLAS!$A$135)","v":0},{"$f":"+GETPIVOTDATA(\"BAS049\",TABLAS!$A$135)","v":0},{"$f":"+GETPIVOTDATA(\"BAS050\",TABLAS!$A$135)","v":0},0]
["VIH ELISA [86703]",null,null,null,{"$f":"+GETPIVOTDATA(\"BAS051\",TABLAS!$A$135)","v":0},{"$f":"+GETPIVOTDATA(\"BAS052\",TABLAS!$A$135)","v":0},{"$f":"+GETPIVOTDATA(\"BAS053\",TABLAS!$A$135)","v":0},{"$f":"+GETPIVOTDATA(\"BAS054\",TABLAS!$A$135)","v":0},{"$f":"+GETPIVOTDATA(\"BAS055\",TABLAS!$A$135)","v":0},null,{"$f":"+GETPIVOTDATA(\"BAS056\",TABLAS!$A$135)","v":0},{"$f":"+GETPIVOTDATA(\"BAS057\",TABLAS!$A$135)","v":0},{"$f":"+GETPIVOTDATA(\"BAS058\",TABLAS!$A$135)","v":0},{"$f":"+GETPIVOTDATA(\"BAS059\",TABLAS!$A$135)","v":0},{"$f":"+GETPIVOTDATA(\"BAS060\",TABLAS!$A$135)","v":0},0]
["PRUEBA RAPIDA PARA SIFILIS [R0006]",null,null,null,{"$f":"+GETPIVOTDATA(\"BAS061\",TABLAS!$A$135)","v":0},{"$f":"+GETPIVOTDATA(\"BAS062\",TABLAS!$A$135)","v":0},{"$f":"+GETPIVOTDATA(\"BAS063\",TABLAS!$A$135)","v":0},{"$f":"+GETPIVOTDATA(\"BAS064\",TABLAS!$A$135)","v":0},{"$f":"+GETPIVOTDATA(\"BAS065\",TABLAS!$A$135)","v":0},null,{"$f":"+GETPIVOTDATA(\"BAS066\",TABLAS!$A$135)","v":0},{"$f":"+GETPIVOTDATA(\"BAS067\",TABLAS!$A$135)","v":0},{"$f":"+GETPIVOTDATA(\"BAS068\",TABLAS!$A$135)","v":0},{"$f":"+GETPIVOTDATA(\"BAS069\",TABLAS!$A$135)","v":0},{"$f":"+GETPIVOTDATA(\"BAS070\",TABLAS!$A$135)","v":0},0]
["PRUEBA RAPIDA DE VIH [R0007]",null,null,null,{"$f":"+GETPIVOTDATA(\"BAS071\",TABLAS!$A$135)","v":0},{"$f":"+GETPIVOTDATA(\"BAS072\",TABLAS!$A$135)","v":0},{"$f":"+GETPIVOTDATA(\"BAS073\",TABLAS!$A$135)","v":0},{"$f":"+GETPIVOTDATA(\"BAS074\",TABLAS!$A$135)","v":0},{"$f":"+GETPIVOTDATA(\"BAS075\",TABLAS!$A$135)","v":0},null,{"$f":"+GETPIVOTDATA(\"BAS076\",TABLAS!$A$135)","v":0},{"$f":"+GETPIVOTDATA(\"BAS077\",TABLAS!$A$135)","v":0},{"$f":"+GETPIVOTDATA(\"BAS078\",TABLAS!$A$135)","v":0},{"$f":"+GETPIVOTDATA(\"BAS079\",TABLAS!$A$135)","v":0},{"$f":"+GETPIVOTDATA(\"BAS080\",TABLAS!$A$135)","v":0},0]
["PRUEBA RAPIDA DE VIH/SIFILIS DUALES [R0010]",null,null,null,{"$f":"+GETPIVOTDATA(\"BAS081\",TABLAS!$A$135)","v":0},{"$f":"+GETPIVOTDATA(\"BAS082\",TABLAS!$A$135)","v":0},{"$f":"+GETPIVOTDATA(\"BAS083\",TABLAS!$A$135)","v":0},{"$f":"+GETPIVOTDATA(\"BAS084\",TABLAS!$A$135)","v":0},{"$f":"+GETPIVOTDATA(\"BAS085\",TABLAS!$A$135)","v":0},null,{"$f":"+GETPIVOTDATA(\"BAS086\",TABLAS!$A$135)","v":0},{"$f":"+GETPIVOTDATA(\"BAS087\",TABLAS!$A$135)","v":0},{"$f":"+GETPIVOTDATA(\"BAS088\",TABLAS!$A$135)","v":0},{"$f":"+GETPIVOTDATA(\"BAS089\",TABLAS!$A$135)","v":0},{"$f":"+GETPIVOTDATA(\"BAS090\",TABLAS!$A$135)","v":0},0]
["PRUEBA RAPIDA DE HEPATITIS B [R0007]",null,null,null,{"$f":"+GETPIVOTDATA(\"BAS091\",TABLAS!$A$135)","v":0},{"$f":"+GETPIVOTDATA(\"BAS092\",TABLAS!$A$135)","v":0},{"$f":"+GETPIVOTDATA(\"BAS093\",TABLAS!$A$135)","v":0},{"$f":"+GETPIVOTDATA(\"BAS094\",TABLAS!$A$135)","v":0},{"$f":"+GETPIVOTDATA(\"BAS095\",TABLAS!$A$135)","v":0},null,{"$f":"+GETPIVOTDATA(\"BAS096\",TABLAS!$A$135)","v":0},{"$f":"+GETPIVOTDATA(\"BAS097\",TABLAS!$A$135)","v":0},{"$f":"+GETPIVOTDATA(\"BAS098\",TABLAS!$A$135)","v":0},{"$f":"+GETPIVOTDATA(\"BAS099\",TABLAS!$A$135)","v":0},{"$f":"+GETPIVOTDATA(\"BAS100\",TABLAS!$A$135)","v":0},0]
[]
["EXAMENES EN GESTANTES PUERPERAS Y RECIEN NACIDOS"]
["EXAMENES ",null,null,null,"GESTANTES [G]",null,null,null,null,"PUERPERAS [P]",null,null,null,null,"RECIEN NACIDO [RN]","TOTAL"]
[null,null,null,null,"10-11a","12-17a","18-29a","30-59a","TOTAL","10-11a","12-17a","18-30a","30-59a","TOTAL"]
["TOTAL",null,null,null,{"$f":"SUM(E117:E128)","v":0},{"$f":"SUM(F117:F128)","v":0},0,0,{"$f":"SUM(E116:H116)","v":0},0,0,0,0,{"$f":"SUM(J116:M116)","v":0},0,0]
["GRUPO SANGUINEO [86900]",null,null,null,{"$f":"+GETPIVOTDATA(\"BAS111\",TABLAS!$A$135)","v":0},{"$f":"+GETPIVOTDATA(\"BAS112\",TABLAS!$A$135)","v":0},{"$f":"+GETPIVOTDATA(\"BAS113\",TABLAS!$A$135)","v":0},{"$f":"+GETPIVOTDATA(\"BAS114\",TABLAS!$A$135)","v":0},{"$f":"SUM(E117:H117)","v":0},{"$f":"+GETPIVOTDATA(\"BAS115\",TABLAS!$A$135)","v":0},{"$f":"+GETPIVOTDATA(\"BAS116\",TABLAS!$A$135)","v":0},{"$f":"+GETPIVOTDATA(\"BAS117\",TABLAS!$A$135)","v":0},{"$f":"+GETPIVOTDATA(\"BAS118\",TABLAS!$A$135)","v":0},{"$f":"SUM(J117:M117)","v":0},{"$f":"+GETPIVOTDATA(\"BAS119\",TABLAS!$A$135)","v":0},{"$f":"+O117+N117+I117","v":0}]
["HEMATOCRITO [85014]",null,null,null,{"$f":"+GETPIVOTDATA(\"BAS120\",TABLAS!$A$135)","v":0},{"$f":"+GETPIVOTDATA(\"BAS121\",TABLAS!$A$135)","v":0},{"$f":"+GETPIVOTDATA(\"BAS122\",TABLAS!$A$135)","v":0},{"$f":"+GETPIVOTDATA(\"BAS123\",TABLAS!$A$135)","v":0},0,{"$f":"+GETPIVOTDATA(\"BAS124\",TABLAS!$A$135)","v":0},{"$f":"+GETPIVOTDATA(\"BAS125\",TABLAS!$A$135)","v":0},{"$f":"+GETPIVOTDATA(\"BAS126\",TABLAS!$A$135)","v":0},{"$f":"+GETPIVOTDATA(\"BAS127\",TABLAS!$A$135)","v":0},0,{"$f":"+GETPIVOTDATA(\"BAS128\",TABLAS!$A$135)","v":0},{"$f":"+O118+N118+I118","v":0}]
["HEMOGLOBINA [85018]",null,null,null,{"$f":"+GETPIVOTDATA(\"BAS129\",TABLAS!$A$135)","v":0},{"$f":"+GETPIVOTDATA(\"BAS130\",TABLAS!$A$135)","v":0},{"$f":"+GETPIVOTDATA(\"BAS131\",TABLAS!$A$135)","v":0},{"$f":"+GETPIVOTDATA(\"BAS132\",TABLAS!$A$135)","v":0},0,{"$f":"+GETPIVOTDATA(\"BAS133\",TABLAS!$A$135)","v":0},{"$f":"+GETPIVOTDATA(\"BAS134\",TABLAS!$A$135)","v":0},{"$f":"+GETPIVOTDATA(\"BAS135\",TABLAS!$A$135)","v":0},{"$f":"+GETPIVOTDATA(\"BAS136\",TABLAS!$A$135)","v":0},0,{"$f":"+GETPIVOTDATA(\"BAS137\",TABLAS!$A$135)","v":0},0]
["HEMOGRAMA COMPLETO  (MANUAL) [85032]",null,null,null,{"$f":"+GETPIVOTDATA(\"BAS138\",TABLAS!$A$135)","v":0},{"$f":"+GETPIVOTDATA(\"BAS139\",TABLAS!$A$135)","v":0},{"$f":"+GETPIVOTDATA(\"BAS140\",TABLAS!$A$135)","v":0},{"$f":"+GETPIVOTDATA(\"BAS141\",TABLAS!$A$135)","v":0},0,{"$f":"+GETPIVOTDATA(\"BAS142\",TABLAS!$A$135)","v":0},{"$f":"+GETPIVOTDATA(\"BAS143\",TABLAS!$A$135)","v":0},{"$f":"+GETPIVOTDATA(\"BAS144\",TABLAS!$A$135)","v":0},{"$f":"+GETPIVOTDATA(\"BAS145\",TABLAS!$A$135)","v":0},0,{"$f":"+GETPIVOTDATA(\"BAS146\",TABLAS!$A$135)","v":0},0]
["HEMOGRAMA AUTOMATIZADO  [85025]",null,null,null,{"$f":"+GETPIVOTDATA(\"BAS147\",TABLAS!$A$135)","v":0},{"$f":"+GETPIVOTDATA(\"BAS148\",TABLAS!$A$135)","v":0},{"$f":"+GETPIVOTDATA(\"BAS149\",TABLAS!$A$135)","v":0},{"$f":"+GETPIVOTDATA(\"BAS150\",TABLAS!$A$135)","v":0},0,{"$f":"+GETPIVOTDATA(\"BAS151\",TABLAS!$A$135)","v":0},{"$f":"+GETPIVOTDATA(\"BAS152\",TABLAS!$A$135)","v":0},{"$f":"+GETPIVOTDATA(\"BAS153\",TABLAS!$A$135)","v":0},{"$f":"+GETPIVOTDATA(\"BAS154\",TABLAS!$A$135)","v":0},0,{"$f":"+GETPIVOTDATA(\"BAS155\",TABLAS!$A$135)","v":0},0]
["EXAMEN COMPLETO DE ORINA  [81000]",null,null,null,{"$f":"+GETPIVOTDATA(\"BAS156\",TABLAS!$A$135)","v":0},{"$f":"+GETPIVOTDATA(\"BAS157\",TABLAS!$A$135)","v":0},{"$f":"+GETPIVOTDATA(\"BAS158\",TABLAS!$A$135)","v":0},{"$f":"+GETPIVOTDATA(\"BAS159\",TABLAS!$A$135)","v":0},0,{"$f":"+GETPIVOTDATA(\"BAS160\",TABLAS!$A$135)","v":0},{"$f":"+GETPIVOTDATA(\"BAS161\",TABLAS!$A$135)","v":0},{"$f":"+GETPIVOTDATA(\"BAS162\",TABLAS!$A$135)","v":0},{"$f":"+GETPIVOTDATA(\"BAS163\",TABLAS!$A$135)","v":0},0,{"$f":"+GETPIVOTDATA(\"BAS164\",TABLAS!$A$135)","v":0},0]
["PROTEINURIA CUALITATIVA  [R0004]",null,null,null,{"$f":"+GETPIVOTDATA(\"BAS165\",TABLAS!$A$135)","v":0},{"$f":"+GETPIVOTDATA(\"BAS166\",TABLAS!$A$135)","v":0},{"$f":"+GETPIVOTDATA(\"BAS167\",TABLAS!$A$135)","v":0},{"$f":"+GETPIVOTDATA(\"BAS168\",TABLAS!$A$135)","v":0},0,{"$f":"+GETPIVOTDATA(\"BAS169\",TABLAS!$A$135)","v":0},{"$f":"+GETPIVOTDATA(\"BAS170\",TABLAS!$A$135)","v":0},{"$f":"+GETPIVOTDATA(\"BAS171\",TABLAS!$A$135)","v":0},{"$f":"+GETPIVOTDATA(\"BAS172\",TABLAS!$A$135)","v":0},0,{"$f":"+GETPIVOTDATA(\"BAS173\",TABLAS!$A$135)","v":0},0]
["GLUCOSA  [82947]",null,null,null,{"$f":"+GETPIVOTDATA(\"BAS174\",TABLAS!$A$135)","v":0},{"$f":"+GETPIVOTDATA(\"BAS175\",TABLAS!$A$135)","v":0},{"$f":"+GETPIVOTDATA(\"BAS176\",TABLAS!$A$135)","v":0},{"$f":"+GETPIVOTDATA(\"BAS177\",TABLAS!$A$135)","v":0},0,{"$f":"+GETPIVOTDATA(\"BAS178\",TABLAS!$A$135)","v":0},{"$f":"+GETPIVOTDATA(\"BAS179\",TABLAS!$A$135)","v":0},{"$f":"+GETPIVOTDATA(\"BAS180\",TABLAS!$A$135)","v":0},{"$f":"+GETPIVOTDATA(\"BAS181\",TABLAS!$A$135)","v":0},0,{"$f":"+GETPIVOTDATA(\"BAS182\",TABLAS!$A$135)","v":0},0]
["PRUEBA RAPIDA DE HEPATITIS B [R0005]",null,null,null,{"$f":"+GETPIVOTDATA(\"BAS183\",TABLAS!$A$135)","v":0},{"$f":"+GETPIVOTDATA(\"BAS184\",TABLAS!$A$135)","v":0},{"$f":"+GETPIVOTDATA(\"BAS185\",TABLAS!$A$135)","v":0},{"$f":"+GETPIVOTDATA(\"BAS186\",TABLAS!$A$135)","v":0},0,{"$f":"+GETPIVOTDATA(\"BAS187\",TABLAS!$A$135)","v":0},{"$f":"+GETPIVOTDATA(\"BAS188\",TABLAS!$A$135)","v":0},{"$f":"+GETPIVOTDATA(\"BAS189\",TABLAS!$A$135)","v":0},{"$f":"+GETPIVOTDATA(\"BAS190\",TABLAS!$A$135)","v":0},0,{"$f":"+GETPIVOTDATA(\"BAS191\",TABLAS!$A$135)","v":0},0]
["PRUEBA RAPIDA PARA SIFILIS [R0006]",null,null,null,{"$f":"+GETPIVOTDATA(\"BAS192\",TABLAS!$A$135)","v":0},{"$f":"+GETPIVOTDATA(\"BAS193\",TABLAS!$A$135)","v":0},{"$f":"+GETPIVOTDATA(\"BAS194\",TABLAS!$A$135)","v":0},{"$f":"+GETPIVOTDATA(\"BAS195\",TABLAS!$A$135)","v":0},0,{"$f":"+GETPIVOTDATA(\"BAS196\",TABLAS!$A$135)","v":0},{"$f":"+GETPIVOTDATA(\"BAS197\",TABLAS!$A$135)","v":0},{"$f":"+GETPIVOTDATA(\"BAS198\",TABLAS!$A$135)","v":0},{"$f":"+GETPIVOTDATA(\"BAS199\",TABLAS!$A$135)","v":0},0,{"$f":"+GETPIVOTDATA(\"BAS200\",TABLAS!$A$135)","v":0},0]
["PRUEBA RAPIDA DE VIH [R0007]",null,null,null,{"$f":"+GETPIVOTDATA(\"BAS201\",TABLAS!$A$135)","v":0},{"$f":"+GETPIVOTDATA(\"BAS202\",TABLAS!$A$135)","v":0},{"$f":"+GETPIVOTDATA(\"BAS203\",TABLAS!$A$135)","v":0},{"$f":"+GETPIVOTDATA(\"BAS204\",TABLAS!$A$135)","v":0},0,{"$f":"+GETPIVOTDATA(\"BAS205\",TABLAS!$A$135)","v":0},{"$f":"+GETPIVOTDATA(\"BAS206\",TABLAS!$A$135)","v":0},{"$f":"+GETPIVOTDATA(\"BAS207\",TABLAS!$A$135)","v":0},{"$f":"+GETPIVOTDATA(\"BAS208\",TABLAS!$A$135)","v":0},0,{"$f":"+GETPIVOTDATA(\"BAS209\",TABLAS!$A$135)","v":0},0]
["PRUEBA RAPIDA DE VIH/SIFILIS DUALES [R0008]",null,null,null,{"$f":"+GETPIVOTDATA(\"BAS210\",TABLAS!$A$135)","v":0},{"$f":"+GETPIVOTDATA(\"BAS211\",TABLAS!$A$135)","v":0},{"$f":"+GETPIVOTDATA(\"BAS212\",TABLAS!$A$135)","v":0},{"$f":"+GETPIVOTDATA(\"BAS213\",TABLAS!$A$135)","v":0},0,{"$f":"+GETPIVOTDATA(\"BAS214\",TABLAS!$A$135)","v":0},{"$f":"+GETPIVOTDATA(\"BAS215\",TABLAS!$A$135)","v":0},{"$f":"+GETPIVOTDATA(\"BAS216\",TABLAS!$A$135)","v":0},{"$f":"+GETPIVOTDATA(\"BAS217\",TABLAS!$A$135)","v":0},0,{"$f":"+GETPIVOTDATA(\"BAS218\",TABLAS!$A$135)","v":0},0]
[]
["ETAPA DE VIDA NIÑO"]
["Tipo",null,null,null,null,"REALIZADO",null,null,null,"SIS"]
[null,null,null,null,null,"0-3A","4-5A","5-11","TOTAL","0-3A","4-5A","5-11","TOTAL"]
["TOTAL",null,null,null,null,{"$f":"SUM(F134:F137)","v":0},{"$f":"SUM(G134:G137)","v":0},0,0,0,0,0,0]
["PARASITOLOGICO SIMPLE  [87177]",null,null,null,null,{"$f":"+GETPIVOTDATA(\"BAS001\",TABLAS!$A$166)","v":0},{"$f":"+GETPIVOTDATA(\"BAS002\",TABLAS!$A$166)","v":0},{"$f":"+GETPIVOTDATA(\"BAS003\",TABLAS!$A$166)","v":0},null,{"$f":"+GETPIVOTDATA(\"BAS004\",TABLAS!$A$166)","v":0},{"$f":"+GETPIVOTDATA(\"BAS005\",TABLAS!$A$166)","v":0},{"$f":"+GETPIVOTDATA(\"BAS006\",TABLAS!$A$166)","v":0},{"$f":"SUM(J134:L134)","v":0}]
["PARASITOLOGICO SERIADO  [87177]+[PS]",null,null,null,null,{"$f":"+GETPIVOTDATA(\"BAS007\",TABLAS!$A$166)","v":0},{"$f":"+GETPIVOTDATA(\"BAS008\",TABLAS!$A$166)","v":0},{"$f":"+GETPIVOTDATA(\"BAS009\",TABLAS!$A$166)","v":0},null,{"$f":"+GETPIVOTDATA(\"BAS010\",TABLAS!$A$166)","v":0},{"$f":"+GETPIVOTDATA(\"BAS011\",TABLAS!$A$166)","v":0},{"$f":"+GETPIVOTDATA(\"BAS012\",TABLAS!$A$166)","v":0},{"$f":"SUM(J135:L135)","v":0}]
["TEST DE GRAHAM  [87178]",null,null,null,null,{"$f":"+GETPIVOTDATA(\"BAS013\",TABLAS!$A$166)","v":0},{"$f":"+GETPIVOTDATA(\"BAS014\",TABLAS!$A$166)","v":0},{"$f":"+GETPIVOTDATA(\"BAS015\",TABLAS!$A$166)","v":0},null,{"$f":"+GETPIVOTDATA(\"BAS016\",TABLAS!$A$166)","v":0},{"$f":"+GETPIVOTDATA(\"BAS017\",TABLAS!$A$166)","v":0},{"$f":"+GETPIVOTDATA(\"BAS018\",TABLAS!$A$166)","v":0},0]
["HEMOGLOBINA [85018]",null,null,null,null,{"$f":"+GETPIVOTDATA(\"BAS019\",TABLAS!$A$166)","v":0},{"$f":"+GETPIVOTDATA(\"BAS020\",TABLAS!$A$166)","v":0},{"$f":"+GETPIVOTDATA(\"BAS021\",TABLAS!$A$166)","v":0},null,{"$f":"+GETPIVOTDATA(\"BAS022\",TABLAS!$A$166)","v":0},{"$f":"+GETPIVOTDATA(\"BAS023\",TABLAS!$A$166)","v":0},{"$f":"+GETPIVOTDATA(\"BAS024\",TABLAS!$A$166)","v":0},0]
[]
[]
["ETAPA DE VIDA ADOLESCENTE"]
["Tipo",null,null,null,null,"REALIZADO",null,null,"SIS"]
[null,null,null,null,null,"12-14a","15-17a","Total","12-14a","15-17a","Total"]
["TOTAL",null,null,null,null,{"$f":"SUM(F144:F149)","v":0},{"$f":"SUM(G144:G149)","v":0},0,0,0,0]
["GLUCOSA  [82947]",null,null,null,null,{"$f":"+GETPIVOTDATA(\"BAS025\",TABLAS!$A$166)","v":0},{"$f":"+GETPIVOTDATA(\"BAS026\",TABLAS!$A$166)","v":0},null,{"$f":"+GETPIVOTDATA(\"BAS027\",TABLAS!$A$166)","v":0},{"$f":"+GETPIVOTDATA(\"BAS028\",TABLAS!$A$166)","v":0},{"$f":"SUM(I144:J144)","v":0}]
["GLUCOSA EN CINTA/GLUCOMETRO  [82948]",null,null,null,null,{"$f":"+GETPIVOTDATA(\"BAS029\",TABLAS!$A$166)","v":0},{"$f":"+GETPIVOTDATA(\"BAS030\",TABLAS!$A$166)","v":0},null,{"$f":"+GETPIVOTDATA(\"BAS031\",TABLAS!$A$166)","v":0},{"$f":"+GETPIVOTDATA(\"BAS032\",TABLAS!$A$166)","v":0},{"$f":"SUM(I145:J145)","v":0}]
["COLESTEROL TOTAL  [82465]",null,null,null,null,{"$f":"+GETPIVOTDATA(\"BAS033\",TABLAS!$A$166)","v":0},{"$f":"+GETPIVOTDATA(\"BAS034\",TABLAS!$A$166)","v":0},null,{"$f":"+GETPIVOTDATA(\"BAS035\",TABLAS!$A$166)","v":0},{"$f":"+GETPIVOTDATA(\"BAS036\",TABLAS!$A$166)","v":0},0]
["PROTEINURIA CUALITATIVA  [R0004]",null,null,null,null,{"$f":"+GETPIVOTDATA(\"BAS037\",TABLAS!$A$166)","v":0},{"$f":"+GETPIVOTDATA(\"BAS038\",TABLAS!$A$166)","v":0},null,{"$f":"+GETPIVOTDATA(\"BAS039\",TABLAS!$A$166)","v":0},{"$f":"+GETPIVOTDATA(\"BAS040\",TABLAS!$A$166)","v":0},0]
["HEMOGLOBINA [85018]",null,null,null,null,{"$f":"+GETPIVOTDATA(\"BAS041\",TABLAS!$A$166)","v":0},{"$f":"+GETPIVOTDATA(\"BAS042\",TABLAS!$A$166)","v":0},null,{"$f":"+GETPIVOTDATA(\"BAS043\",TABLAS!$A$166)","v":0},{"$f":"+GETPIVOTDATA(\"BAS044\",TABLAS!$A$166)","v":0},0]
["HEMATOCRITO [85014]",null,null,null,null,{"$f":"+GETPIVOTDATA(\"BAS045\",TABLAS!$A$166)","v":0},{"$f":"+GETPIVOTDATA(\"BAS046\",TABLAS!$A$166)","v":0},null,{"$f":"+GETPIVOTDATA(\"BAS047\",TABLAS!$A$166)","v":0},{"$f":"+GETPIVOTDATA(\"BAS048\",TABLAS!$A$166)","v":0},0]
[]
["MUESTRAS ENVIADAS SUJETAS A VIGILANCIA",null,null,null,null,null,null,null,null,"OTRAS ACTIVIDADES"]
["MUESTRA",null,null,null,null,"ENVIO DE MUESTRA","POSITIVOS",null,null,"MUESTRA",null,null,null,null,"Numero"]
["Total",null,null,null,null,{"$f":"SUM(F154:F163)","v":0},{"$f":"SUM(G154:G163)","v":0},null,null,"Total",null,null,null,null,{"$f":"SUM(O154:O163)","v":0}]
["LIQUIDO CEFALORAQUIDEO [R0020]",null,null,null,null,{"$f":"+GETPIVOTDATA(\"BAS049\",TABLAS!$A$166)","v":0},{"$f":"+GETPIVOTDATA(\"BAS050\",TABLAS!$A$166)","v":0},null,null,"LAVADO DE MATERIALES [R0099]",null,null,null,null,{"$f":"+GETPIVOTDATA(\"BAS069\",TABLAS!$A$166)","v":0}]
["ESPUTO [R0021]",null,null,null,null,{"$f":"+GETPIVOTDATA(\"BAS051\",TABLAS!$A$166)","v":0},{"$f":"+GETPIVOTDATA(\"BAS052\",TABLAS!$A$166)","v":0},null,null,"ESTERILIZACION DE MATERIALES [R0091]",null,null,null,null,{"$f":"+GETPIVOTDATA(\"BAS070\",TABLAS!$A$166)","v":0}]
["HECES [R0022]",null,null,null,null,{"$f":"+GETPIVOTDATA(\"BAS053\",TABLAS!$A$166)","v":0},{"$f":"+GETPIVOTDATA(\"BAS054\",TABLAS!$A$166)","v":0},null,null,"ELIMINACION DE RESIDUOS CONTAMINADOS [R0092]",null,null,null,null,{"$f":"+GETPIVOTDATA(\"BAS071\",TABLAS!$A$166)","v":0}]
["HISOPADO NASOFARINGEO [R0023]",null,null,null,null,{"$f":"+GETPIVOTDATA(\"BAS055\",TABLAS!$A$166)","v":0},{"$f":"+GETPIVOTDATA(\"BAS056\",TABLAS!$A$166)","v":0}]
["ORINA [R0024]",null,null,null,null,{"$f":"+GETPIVOTDATA(\"BAS057\",TABLAS!$A$166)","v":0},{"$f":"+GETPIVOTDATA(\"BAS058\",TABLAS!$A$166)","v":0}]
["PIEZAS ANATOMICA [R0025]",null,null,null,null,{"$f":"+GETPIVOTDATA(\"BAS059\",TABLAS!$A$166)","v":0},{"$f":"+GETPIVOTDATA(\"BAS060\",TABLAS!$A$166)","v":0}]
["SANGRE TOTAL [R0026]",null,null,null,null,{"$f":"+GETPIVOTDATA(\"BAS061\",TABLAS!$A$166)","v":0},{"$f":"+GETPIVOTDATA(\"BAS062\",TABLAS!$A$166)","v":0}]
["SUERO [R0027]",null,null,null,null,{"$f":"+GETPIVOTDATA(\"BAS063\",TABLAS!$A$166)","v":0},{"$f":"+GETPIVOTDATA(\"BAS064\",TABLAS!$A$166)","v":0}]
["PAP [R0028]",null,null,null,null,{"$f":"+GETPIVOTDATA(\"BAS065\",TABLAS!$A$166)","v":0},{"$f":"+GETPIVOTDATA(\"BAS066\",TABLAS!$A$166)","v":0}]
["OTROS [R0029]",null,null,null,null,{"$f":"+GETPIVOTDATA(\"BAS067\",TABLAS!$A$166)","v":0},{"$f":"+GETPIVOTDATA(\"BAS068\",TABLAS!$A$166)","v":0}]

{"sheet":"Datos","index":4,"n_rows":444,"n_cols":32,"rows_kept":444,"cut":false,"hidden":true,"merged":[]}
[]
[]
[]
[]
[]
[]
[]
[]
[null,"ANO",null,"MESES",null,"COD_RED","DESC_RED","CONCATENAR",null,"COD_RED","COD_MIC","DESC_MICRO","CONCATENAR",null,"COD_ESTAB","DESC_ESTAB","COD_RED","COD_MIC","COD_PROV","COD_DIST","REDMIC","CONCATENAR",null,"COD_PROV","DESC_PROV","CONCATENAR",null,"COD_PROV","COD_DIST","DESC_DIST","PROVDIST","CONCATENAR"]
[null,2024,null,"01-Enero",null,"00","NO TIENE ASIGNADO NINGUNA RED",{"$f":"CONCATENATE(F10,\" - \",G10)","v":"00 - NO TIENE ASIGNADO NINGUNA RED"},null,"00","00","NO PERTENECE A NINGUNA MICRORED                                                                     ",{"$f":"CONCATENATE(J10,K10,\" - \",L10)","v":"0000 - NO PERTENECE A NINGUNA MICRORED                                                                     "},null,"000000000","(All)","00","00",null,null,{"$f":"CONCATENATE(Q10,R10)","v":"0000"},{"$f":"CONCATENATE(O10,\" - \",P10)","v":"000000000 - (All)"},null,"00","(All)",{"$f":"CONCATENATE(X10,\" - \",Y10)","v":"00 - (All)"},null,"01","00","(All)",{"$f":"CONCATENATE(AB10,AC10)","v":"0100"},{"$f":"CONCATENATE(AB10,AC10,\" - \",AD10)","v":"0100 - (All)"}]
[null,null,null,"02-Febrero",null,"01","CUSCO SUR",{"$f":"CONCATENATE(F11,\" - \",G11)","v":"01 - CUSCO SUR"},null,"00","99","(All)","0099 - (All)",null,"000028190","SAMUE CUSCO","00","00","01","01",{"$f":"CONCATENATE(Q11,R11)","v":"0000"},{"$f":"CONCATENATE(O11,\" - \",P11)","v":"000028190 - SAMUE CUSCO"},null,"01","CUSCO",{"$f":"CONCATENATE(X11,\" - \",Y11)","v":"01 - CUSCO"},null,"01","01","CUSCO",{"$f":"CONCATENATE(AB11,AC11)","v":"0101"},{"$f":"CONCATENATE(AB11,AC11,\" - \",AD11)","v":"0101 - CUSCO"}]
[null,null,null,"03-Marzo",null,"02","CUSCO NORTE","02 - CUSCO NORTE",null,"01","00","NO PERTENECE A NINGUNA MICRORED                                                                     ","0100 - NO PERTENECE A NINGUNA MICRORED                                                                     ",null,"000002289","HOSPITAL DE APOYO DEPARTAMENTAL CUSCO","00","00","01","01","0000","000002289 - HOSPITAL DE APOYO DEPARTAMENTAL CUSCO",null,"02","ACOMAYO",{"$f":"CONCATENATE(X12,\" - \",Y12)","v":"02 - ACOMAYO"},null,"01","02","CCORCA","0102","0102 - CCORCA"]
[null,null,null,"04-Abril",null,"03","LA CONVENCION","03 - LA CONVENCION",null,"01","16","CUSCO                                                                                               ","0116 - CUSCO                                                                                               ",null,"000002305","ANTONIO LORENA DEL CUSCO","00","00","01","06","0000","000002305 - ANTONIO LORENA DEL CUSCO",null,"03","ANTA","03 - ANTA",null,"01","03","POROY","0103","0103 - POROY"]
[null,null,null,"05-Mayo",null,"04","CANAS-CANCHIS-ESPINAR","04 - CANAS-CANCHIS-ESPINAR",null,"01","03","PARURO                                                                                              ","0103 - PARURO                                                                                              ",null,"999999999","(All)","00","99",null,null,"0099","999999999 - (All)",null,"04","CALCA","04 - CALCA",null,"01","04","SAN JERONIMO","0104","0104 - SAN JERONIMO"]
[null,null,null,"06-Junio",null,"05","KIMBIRI PICHARI","05 - KIMBIRI PICHARI",null,"01","06","PAUCARTAMBO                                                                                         ","0106 - PAUCARTAMBO                                                                                         ",null,"000025210","TUPAC AMARU","01","00","01","05","0100","000025210 - TUPAC AMARU",null,"05","CANAS","05 - CANAS",null,"01","05","SAN SEBASTIAN","0105","0105 - SAN SEBASTIAN"]
[null,null,null,"07-Julio",null,"06","CHUMBIVILCAS","06 - CHUMBIVILCAS",null,"01","12","URCOS                                                                                               ","0112 - URCOS                                                                                               ",null,"000000000","(All)","01","03",null,null,"0103","000000000 - (All)",null,"06","CANCHIS","06 - CANCHIS",null,"01","06","SANTIAGO","0106","0106 - SANTIAGO"]
[null,null,null,"08-Agosto",null,"99","(All)","99 - (All)",null,"01","13","ACOMAYO                                                                                             ","0113 - ACOMAYO                                                                                             ",null,"000002499","PARURO","01","03","10","01","0103","000002499 - PARURO",null,"07","CHUMBIVILCAS","07 - CHUMBIVILCAS",null,"01","07","SAYLLA","0107","0107 - SAYLLA"]
[null,null,null,"09-Setiembre",null,null,null,null,null,"01","15","OCONGATE                                                                                            ","0115 - OCONGATE                                                                                            ",null,"000002500","ACCHA","01","03","10","02","0103","000002500 - ACCHA",null,"08","ESPINAR","08 - ESPINAR",null,"01","08","WANCHAQ","0108","0108 - WANCHAQ"]
[null,null,null,"10-Octubre",null,null,null,null,null,"01","99","(All)","0199 - (All)",null,"000002501","CCAPI","01","03","10","03","0103","000002501 - CCAPI",null,"09","LA CONVENCION","09 - LA CONVENCION",null,"02","00","(All)","0200","0200 - (All)"]
[null,null,null,"11-Noviembre",null,"EJECUTORAS",null,null,null,"02","01","BELEMPAMPA                                                                                          ","0201 - BELEMPAMPA                                                                                          ",null,"000002502","CCOYABAMBA","01","03","10","03","0103","000002502 - CCOYABAMBA",null,"10","PARURO","10 - PARURO",null,"02","01","ACOMAYO","0201","0201 - ACOMAYO"]
[null,null,null,"12-Diciembre",null,"COD_RED","DESC_RED","CONCATENAR",null,"02","02","WANCHAQ                                                                                             ","0202 - WANCHAQ                                                                                             ",null,"000002503","COLCHA","01","03","10","04","0103","000002503 - COLCHA",null,"11","PAUCARTAMBO","11 - PAUCARTAMBO",null,"02","02","ACOPIA","0202","0202 - ACOPIA"]
[null,null,null,null,null,"01","HOSPITAL REGIONAL CUSCO",{"$f":"CONCATENATE(F22,\" - \",G22)","v":"01 - HOSPITAL REGIONAL CUSCO"},null,"02","03","ANTA                                                                                                ","0203 - ANTA                                                                                                ",null,"000002504","HUANOQUITE","01","03","10","05","0103","000002504 - HUANOQUITE",null,"12","QUISPICANCHI","12 - QUISPICANCHI",null,"02","03","ACOS","0203","0203 - ACOS"]
[null,null,null,null,null,"02","HOSPITAL ANTONIO LORENA",{"$f":"CONCATENATE(F23,\" - \",G23)","v":"02 - HOSPITAL ANTONIO LORENA"},null,"02","04","LIMATAMBO                                                                                           ","0204 - LIMATAMBO                                                                                           ",null,"000002505","OMACHA","01","03","10","06","0103","000002505 - OMACHA",null,"13","URUBAMBA","13 - URUBAMBA",null,"02","04","MOSOC LLACTA","0204","0204 - MOSOC LLACTA"]
[null,null,null,null,null,"03","CUSCO NORTE","03 - CUSCO NORTE",null,"02","05","PISAC                                                                                               ","0205 - PISAC                                                                                               ",null,"000002506","ANTAPALLPA","01","03","10","06","0103","000002506 - ANTAPALLPA",null,null,null,null,null,"02","05","POMACANCHI","0205","0205 - POMACANCHI"]
[null,null,null,null,null,"04","CUSCO SUR","04 - CUSCO SUR",null,"02","06","CALCA                                                                                               ","0206 - CALCA                                                                                               ",null,"000002507","PACCARECTAMBO","01","03","10","07","0103","000002507 - PACCARECTAMBO",null,null,null,null,null,"02","06","RONDOCAN","0206","0206 - RONDOCAN"]
[null,null,null,null,null,"05","LA CONVENCION","05 - LA CONVENCION",null,"02","07","URUBAMBA                                                                                            ","0207 - URUBAMBA                                                                                            ",null,"000002509","YAURISQUE","01","03","10","09","0103","000002509 - YAURISQUE",null,null,null,null,null,"02","07","SANGARARA","0207","0207 - SANGARARA"]
[null,null,null,null,null,"06","HOSPITAL QUILLABAMBA","06 - HOSPITAL QUILLABAMBA",null,"02","08","YANATILE                                                                                            ","0208 - YANATILE                                                                                            ",null,"000006978","CCOCHIRIHUAY","01","03","10","04","0103","000006978 - CCOCHIRIHUAY",null,null,null,null,null,"03","00","(All)","0300","0300 - (All)"]
[null,null,null,null,null,"07","CANAS CANCHIS ESPINAR","07 - CANAS CANCHIS ESPINAR",null,"02","09","SIETE CUARTONES                                                                                     ","0209 - SIETE CUARTONES                                                                                     ",null,"000007147","PUESTO DE SALUD DE HUASQUILLAY","01","03","10","06","0103","000007147 - PUESTO DE SALUD DE HUASQUILLAY",null,null,null,null,null,"03","01","ANTA","0301","0301 - ANTA"]
[null,null,null,null,null,"08","HOSPITAL SICUANI","08 - HOSPITAL SICUANI",null,"02","99","(All)","0299 - (All)",null,"000012924","SAHUA SAHUA","01","03","10","06","0103","000012924 - SAHUA SAHUA",null,null,null,null,null,"03","02","ANCAHUASI","0302","0302 - ANCAHUASI"]
[null,null,null,null,null,"09","HOSPITAL ESPINAR","09 - HOSPITAL ESPINAR",null,"03","00","NO PERTENECE A NINGUNA MICRORED                                                                     ","0300 - NO PERTENECE A NINGUNA MICRORED                                                                     ",null,"000000000","(All)","01","06",null,null,"0106","000000000 - (All)",null,null,null,null,null,"03","03","CACHIMAYO","0303","0303 - CACHIMAYO"]
[null,null,null,null,null,"10","KIMBIRI PICHARI","10 - KIMBIRI PICHARI",null,"03","01","SANTA ANA                                                                                           ","0301 - SANTA ANA                                                                                           ",null,"000002510","PAUCARTAMBO","01","06","11","01","0106","000002510 - PAUCARTAMBO",null,null,null,null,null,"03","04","CHINCHAYPUJIO","0304","0304 - CHINCHAYPUJIO"]
[null,null,null,null,null,"11","CHUMBIVILCAS","11 - CHUMBIVILCAS",null,"03","02","MARANURA                                                                                            ","0302 - MARANURA                                                                                            ",null,"000002511","MOLLOMARCA","01","06","11","01","0106","000002511 - MOLLOMARCA",null,null,null,null,null,"03","05","HUAROCONDO","0305","0305 - HUAROCONDO"]
[null,null,null,null,null,"99","(ALL)",{"$f":"CONCATENATE(F33,\" - \",G33)","v":"99 - (ALL)"},null,"03","03","QUELLOUNO                                                                                           ","0303 - QUELLOUNO                                                                                           ",null,"000002512","CAICAY","01","06","11","02","0106","000002512 - CAICAY",null,null,null,null,null,"03","06","LIMATAMBO","0306","0306 - LIMATAMBO"]
[null,null,null,null,null,null,null,null,null,"03","04","KITENI                                                                                              ","0304 - KITENI                                                                                              ",null,"000002513","HUASAC","01","06","11","02","0106","000002513 - HUASAC",null,null,null,null,null,"03","07","MOLLEPATA","0307","0307 - MOLLEPATA"]
[null,null,null,null,null,null,null,null,null,"03","05","KAMISEA                                                                                             ","0305 - KAMISEA                                                                                             ",null,"000002514","CHALLABAMBA","01","06","11","03","0106","000002514 - CHALLABAMBA",null,null,null,null,null,"03","08","PUCYURA","0308","0308 - PUCYURA"]
[null,null,null,null,null,null,null,null,null,"03","06","PUCYURA                                                                                             ","0306 - PUCYURA                                                                                             ",null,"000002516","COLQUEPATA","01","06","11","04","0106","000002516 - COLQUEPATA",null,null,null,null,null,"03","09","ZURITE","0309","0309 - ZURITE"]
[null,null,null,null,null,null,null,null,null,"03","07","PALMA REAL","0307 - PALMA REAL",null,"000002517","PICHIHUA COLQUEPATA","01","06","11","04","0106","000002517 - PICHIHUA COLQUEPATA",null,null,null,null,null,"04","00","(All)","0400","0400 - (All)"]
[null,null,null,null,null,null,null,null,null,"03","99","(All)","0399 - (All)",null,"000002518","VIZCOCHONI","01","06","11","04","0106","000002518 - VIZCOCHONI",null,null,null,null,null,"04","01","CALCA","0401","0401 - CALCA"]
[null,null,null,null,null,null,null,null,null,"04","00","NO PERTENECE A NINGUNA MICRORED                                                                     ","0400 - NO PERTENECE A NINGUNA MICRORED                                                                     ",null,"000002519","AYRE","01","06","11","04","0106","000002519 - AYRE",null,null,null,null,null,"04","02","COYA","0402","0402 - COYA"]
[null,null,null,null,null,null,null,null,null,"04","01","YANAOCA                                                                                             ","0401 - YANAOCA                                                                                             ",null,"000002520","HUANCARANI","01","06","11","05","0106","000002520 - HUANCARANI",null,null,null,null,null,"04","03","LAMAY","0403","0403 - LAMAY"]
[null,null,null,null,null,null,null,null,null,"04","02","EL DESCANSO                                                                                         ","0402 - EL DESCANSO                                                                                         ",null,"000002521","PILCOPATA","01","06","11","06","0106","000002521 - PILCOPATA",null,null,null,null,null,"04","04","LARES","0404","0404 - LARES"]
[null,null,null,null,null,null,null,null,null,"04","03","COMBAPATA                                                                                           ","0403 - COMBAPATA                                                                                           ",null,"000002522","PATRIA","01","06","11","06","0106","000002522 - PATRIA",null,null,null,null,null,"04","05","PISAC","0405","0405 - PISAC"]
[null,null,null,null,null,null,null,null,null,"04","04","TECHO OBRERO                                                                                        ","0404 - TECHO OBRERO                                                                                        ",null,"000006979","TOCRA","01","06","11","04","0106","000006979 - TOCRA",null,null,null,null,null,"04","06","SAN SALVADOR","0406","0406 - SAN SALVADOR"]
[null,null,null,null,null,null,null,null,null,"04","05","PAMPAPHALLA                                                                                         ","0405 - PAMPAPHALLA                                                                                         ",null,"000010077","PAUCARTAMBO -ESSALUD","01","06","11","01","0106","000010077 - PAUCARTAMBO -ESSALUD",null,null,null,null,null,"04","07","TARAY","0407","0407 - TARAY"]
[null,null,null,null,null,null,null,null,null,"04","06","YAURI                                                                                               ","0406 - YAURI                                                                                               ",null,"000033777","MENTAL COMUNITARIO VIRGEN DEL ROSARIO","01","06","11","01","0106","000033777 - MENTAL COMUNITARIO VIRGEN DEL ROSARIO",null,null,null,null,null,"04","08","YANATILE","0408","0408 - YANATILE"]
[null,null,null,null,null,null,null,null,null,"04","99","(All)","0499 - (All)",null,"000000000","(All)","01","12",null,null,"0112","000000000 - (All)",null,null,null,null,null,"05","00","(All)","0500","0500 - (All)"]
[null,null,null,null,null,null,null,null,null,"05","00","NO PERTENECE A NINGUNA MICRORED                                                                     ","0500 - NO PERTENECE A NINGUNA MICRORED                                                                     ",null,"000002523","URCOS","01","12","12","01","0112","000002523 - URCOS",null,null,null,null,null,"05","01","YANAOCA","0501","0501 - YANAOCA"]
[null,null,null,null,null,null,null,null,null,"05","01","KIMBIRI                                                                                             ","0501 - KIMBIRI                                                                                             ",null,"000002525","ANDAHUAYLILLAS","01","12","12","02","0112","000002525 - ANDAHUAYLILLAS",null,null,null,null,null,"05","02","CHECCA","0502","0502 - CHECCA"]
[null,null,null,null,null,null,null,null,null,"05","02","PICHARI                                                                                             ","0502 - PICHARI                                                                                             ",null,"000002530","CUSIPATA","01","12","12","06","0112","000002530 - CUSIPATA",null,null,null,null,null,"05","03","KUNTURKANKI","0503","0503 - KUNTURKANKI"]
[null,null,null,null,null,null,null,null,null,"05","99","(All)","0599 - (All)",null,"000002532","HUARO","01","12","12","07","0112","000002532 - HUARO",null,null,null,null,null,"05","04","LANGUI","0504","0504 - LANGUI"]
[null,null,null,null,null,null,null,null,null,"06","00","NO PERTENECE A NINGUNA MICRORED                                                                     ","0600 - NO PERTENECE A NINGUNA MICRORED                                                                     ",null,"000002533","URPAY","01","12","12","07","0112","000002533 - URPAY",null,null,null,null,null,"05","05","LAYO","0505","0505 - LAYO"]
[null,null,null,null,null,null,null,null,null,"06","09","SANTO TOMAS                                                                                         ","0609 - SANTO TOMAS                                                                                         ",null,"000002534","LUCRE","01","12","12","08","0112","000002534 - LUCRE",null,null,null,null,null,"05","06","PAMPAMARCA","0506","0506 - PAMPAMARCA"]
[null,null,null,null,null,null,null,null,null,"06","01","LIVITACA                                                                                            ","0601 - LIVITACA                                                                                            ",null,"000002537","OROPESA","01","12","12","11","0112","000002537 - OROPESA",null,null,null,null,null,"05","07","QUEHUE","0507","0507 - QUEHUE"]
[null,null,null,null,null,null,null,null,null,"06","99","(All)","0699 - (All)",null,"000002538","QUIQUIJANA","01","12","12","12","0112","000002538 - QUIQUIJANA",null,null,null,null,null,"05","08","TUPAC AMARU","0508","0508 - TUPAC AMARU"]
[null,null,null,null,null,null,null,null,null,"99","99","(All)","9999 - (All)",null,"000002539","CCOLCA","01","12","12","12","0112","000002539 - CCOLCA",null,null,null,null,null,"06","00","(All)","0600","0600 - (All)"]
[null,null,null,null,null,null,null,null,null,null,null,null,null,null,"000006980","CHILLIHUANI","01","12","12","06","0112","000006980 - CHILLIHUANI",null,null,null,null,null,"06","01","SICUANI","0601","0601 - SICUANI"]
[null,null,null,null,null,null,null,null,null,null,null,null,null,null,"000008911","HUARA HUARA","01","12","12","05","0112","000008911 - HUARA HUARA",null,null,null,null,null,"06","02","CHECACUPE","0602","0602 - CHECACUPE"]
[null,null,null,null,null,null,null,null,null,null,null,null,null,null,"000011747","POSTA MEDICA POLICIAL PUCUTO","01","12","12","07","0112","000011747 - POSTA MEDICA POLICIAL PUCUTO",null,null,null,null,null,"06","03","COMBAPATA","0603","0603 - COMBAPATA"]
[null,null,null,null,null,null,null,null,null,null,null,null,null,null,"000026385","URCOS - ESSALUD","01","12","12","01","0112","000026385 - URCOS - ESSALUD",null,null,null,null,null,"06","04","MARANGANI","0604","0604 - MARANGANI"]
[null,null,null,null,null,null,null,null,null,null,null,null,null,null,"000030708","MENTAL COMUNITARIO HUARO","01","12","12","07","0112","000030708 - MENTAL COMUNITARIO HUARO",null,null,null,null,null,"06","05","PITUMARCA","0605","0605 - PITUMARCA"]
[null,null,null,null,null,null,null,null,null,null,null,null,null,null,"000000000","(All)","01","13",null,null,"0113","000000000 - (All)",null,null,null,null,null,"06","06","SAN PABLO","0606","0606 - SAN PABLO"]
[null,null,null,null,null,null,null,null,null,null,null,null,null,null,"000002317","ACOMAYO","01","13","02","01","0113","000002317 - ACOMAYO",null,null,null,null,null,"06","07","SAN PEDRO","0607","0607 - SAN PEDRO"]
[null,null,null,null,null,null,null,null,null,null,null,null,null,null,"000002318","ACOPIA","01","13","02","02","0113","000002318 - ACOPIA",null,null,null,null,null,"06","08","TINTA","0608","0608 - TINTA"]
[null,null,null,null,null,null,null,null,null,null,null,null,null,null,"000002319","ACOS","01","13","02","03","0113","000002319 - ACOS",null,null,null,null,null,"07","00","(All)","0700","0700 - (All)"]
[null,null,null,null,null,null,null,null,null,null,null,null,null,null,"000002321","POMACANCHI","01","13","02","05","0113","000002321 - POMACANCHI",null,null,null,null,null,"07","01","SANTO TOMAS","0701","0701 - SANTO TOMAS"]
[null,null,null,null,null,null,null,null,null,null,null,null,null,null,"000002322","SAN JUAN DE POMACANCHI","01","13","02","05","0113","000002322 - SAN JUAN DE POMACANCHI",null,null,null,null,null,"07","02","CAPACMARCA","0702","0702 - CAPACMARCA"]
[null,null,null,null,null,null,null,null,null,null,null,null,null,null,"000002324","PUESTO DE SALUD SANGARARA","01","13","02","07","0113","000002324 - PUESTO DE SALUD SANGARARA",null,null,null,null,null,"07","03","CHAMACA","0703","0703 - CHAMACA"]
[null,null,null,null,null,null,null,null,null,null,null,null,null,null,"000002325","PUESTO DE SALUD MARCACONGA","01","13","02","07","0113","000002325 - PUESTO DE SALUD MARCACONGA",null,null,null,null,null,"07","04","COLQUEMARCA","0704","0704 - COLQUEMARCA"]
[null,null,null,null,null,null,null,null,null,null,null,null,null,null,"000002508","PILLPINTO","01","13","10","08","0113","000002508 - PILLPINTO",null,null,null,null,null,"07","05","LIVITACA","0705","0705 - LIVITACA"]
[null,null,null,null,null,null,null,null,null,null,null,null,null,null,"000010076","ACOMAYO - ESSALUD","01","13","02","01","0113","000010076 - ACOMAYO - ESSALUD",null,null,null,null,null,"07","06","LLUSCO","0706","0706 - LLUSCO"]
[null,null,null,null,null,null,null,null,null,null,null,null,null,0,"000012926","SANTA LUCIA","01","13","02","05","0113","000012926 - SANTA LUCIA",null,null,null,null,null,"07","07","QUIÑOTA","0707","0707 - QUIÑOTA"]
[null,null,null,null,null,null,null,null,null,null,null,null,null,1,"000000000","(All)","01","15",null,null,"0115","000000000 - (All)",null,null,null,null,null,"07","08","VELILLE","0708","0708 - VELILLE"]
[null,null,null,null,null,null,null,null,null,null,null,null,null,2,"000002524","PAMPACAMARA","01","15","12","05","0115","000002524 - PAMPACAMARA",null,null,null,null,null,"08","00","(All)","0800","0800 - (All)"]
[null,null,null,null,null,null,null,null,null,null,null,null,null,3,"000002526","QUINCE MIL","01","15","12","03","0115","000002526 - QUINCE MIL",null,null,null,null,null,"08","01","ESPINAR","0801","0801 - ESPINAR"]
[null,null,null,null,null,null,null,null,null,null,null,null,null,4,"000002527","CCARHUAYO","01","15","12","04","0115","000002527 - CCARHUAYO",null,null,null,null,null,"08","02","CONDOROMA",{"$f":"CONCATENATE(AB75,AC75)","v":"0802"},{"$f":"CONCATENATE(AB75,AC75,\" - \",AD75)","v":"0802 - CONDOROMA"}]
[null,null,null,null,null,null,null,null,null,null,null,null,null,5,"000002528","CCATCCA","01","15","12","05","0115","000002528 - CCATCCA",null,null,null,null,null,"08","03","COPORAQUE","0803","0803 - COPORAQUE"]
[null,null,null,null,null,null,null,null,null,null,null,null,null,6,"000002529","KCAURY","01","15","12","05","0115","000002529 - KCAURY",null,null,null,null,null,"08","04","OCORURO","0804","0804 - OCORURO"]
[null,null,null,null,null,null,null,null,null,null,null,null,null,7,"000002535","MARCAPATA","01","15","12","09","0115","000002535 - MARCAPATA",null,null,null,null,null,"08","05","PALLPATA","0805","0805 - PALLPATA"]
[null,null,null,null,null,null,null,null,null,null,null,null,null,9,"000002536","OCONGATE","01","15","12","10","0115","000002536 - OCONGATE",null,null,null,null,null,"08","06","PICHIGUA","0806","0806 - PICHIGUA"]
[null,null,null,null,null,null,null,null,null,null,null,null,null,10,"000006977","TINKI","01","15","12","10",{"$f":"CONCATENATE(Q80,R80)","v":"0115"},{"$f":"CONCATENATE(O80,\" - \",P80)","v":"000006977 - TINKI"},null,null,null,null,null,"08","07","SUYCKUTAMBO","0807","0807 - SUYCKUTAMBO"]
[null,null,null,null,null,null,null,null,null,null,null,null,null,11,"000007110","INCACANCHA","01","15","12","09","0115","000007110 - INCACANCHA",null,null,null,null,null,"08","08","ALTO PICHIGUA","0808","0808 - ALTO PICHIGUA"]
[null,null,null,null,null,null,null,null,null,null,null,null,null,12,"000012931","CHICHINA","01","15","12","05","0115","000012931 - CHICHINA",null,null,null,null,null,"09","00","(All)","0900","0900 - (All)"]
[null,null,null,null,null,null,null,null,null,null,null,null,null,13,"000016335","CCAPANA","01","15","12","05","0115","000016335 - CCAPANA",null,null,null,null,null,"09","01","SANTA ANA","0901","0901 - SANTA ANA"]
[null,null,null,null,null,null,null,null,null,null,null,null,null,0,"000000000","(All)","01","16",null,null,"0116","000000000 - (All)",null,null,null,null,null,"09","02","ECHARATE","0902","0902 - ECHARATE"]
[null,null,null,null,null,null,null,null,null,null,null,null,null,1,"000002300","SAN JERONIMO","01","16","01","04","0116","000002300 - SAN JERONIMO",null,null,null,null,null,"09","03","HUAYOPATA","0903","0903 - HUAYOPATA"]
[null,null,null,null,null,null,null,null,null,null,null,null,null,2,"000002301","SAN SEBASTIAN","01","16","01","05","0116","000002301 - SAN SEBASTIAN",null,null,null,null,null,"09","04","MARANURA","0904","0904 - MARANURA"]
[null,null,null,null,null,null,null,null,null,null,null,null,null,3,"000002303","SANTA ROSA","01","16","01","05","0116","000002303 - SANTA ROSA",null,null,null,null,null,"09","05","OCOBAMBA","0905","0905 - OCOBAMBA"]
[null,null,null,null,null,null,null,null,null,null,null,null,null,4,"000002314","SAYLLA","01","16","01","07","0116","000002314 - SAYLLA",null,null,null,null,null,"09","06","QUELLOUNO","0906","0906 - QUELLOUNO"]
[null,null,null,null,null,null,null,null,null,null,null,null,null,5,"000002323","RONDOCAN","01","16","02","06","0116","000002323 - RONDOCAN",null,null,null,null,null,"09","07","KIMBIRI","0907","0907 - KIMBIRI"]
[null,null,null,null,null,null,null,null,null,null,null,null,null,6,"000007699","CONCHACALLE","01","16","01","04","0116","000007699 - CONCHACALLE",null,null,null,null,null,"09","08","SANTA TERESA","0908","0908 - SANTA TERESA"]
[null,null,null,null,null,null,null,null,null,null,null,null,null,7,"000010065","SAN SEBASTIAN ESSALUD","01","16","01","05","0116","000010065 - SAN SEBASTIAN ESSALUD",null,null,null,null,null,"09","09","VILCABAMBA","0909","0909 - VILCABAMBA"]
[null,null,null,null,null,null,null,null,null,null,null,null,null,8,"000011743","POLICIAL \"SANTA ROSA\"  CUSCO","01","16","01","05","0116","000011743 - POLICIAL \"SANTA ROSA\"  CUSCO",null,null,null,null,null,"09","10","PICHARI","0910","0910 - PICHARI"]
[null,null,null,null,null,null,null,null,null,null,null,null,null,9,"000018926","ESTABLECIMIENTO PENITENCIARIO CUSCO VARONES","01","16","01","04","0116","000018926 - ESTABLECIMIENTO PENITENCIARIO CUSCO VARONES",null,null,null,null,null,"09","11","INKAWASI                                ","0911","0911 - INKAWASI                                "]
[null,null,null,null,null,null,null,null,null,null,null,null,null,10,"000021187","ESTABLECIMIENTO PENITENCIARIO CUSCO MUJERES","01","16","01","04","0116","000021187 - ESTABLECIMIENTO PENITENCIARIO CUSCO MUJERES",null,null,null,null,null,"09","12","VILLA VIRGEN","0912","0912 - VILLA VIRGEN"]
[null,null,null,null,null,null,null,null,null,null,null,null,null,0,"000026181","MENTAL SAN SEBASTIAN","01","16","01","05","0116","000026181 - MENTAL SAN SEBASTIAN",null,null,null,null,null,"09","13","VILLA KINTIARINA","0913","0913 - VILLA KINTIARINA"]
[null,null,null,null,null,null,null,null,null,null,null,null,null,1,"000030727","PATRÓN SAN SEBASTIAN","01","16","01","04","0116","000030727 - PATRÓN SAN SEBASTIAN",null,null,null,null,null,"09","14","MEGANTONI","0914","0914 - MEGANTONI"]
[null,null,null,null,null,null,null,null,null,null,null,null,null,2,"999999999","(All)","01","99",null,null,"0199","999999999 - (All)",null,null,null,null,null,"09","15","KUMPIRUSHIATO","0915","0915 - KUMPIRUSHIATO"]
[null,null,null,null,null,null,null,null,null,null,null,null,null,3,"000000000","(All)","02","01",null,null,"0201","000000000 - (All)",null,null,null,null,null,"09","16","CIELO PUNCO","0916","0916 - CIELO PUNCO"]
[null,null,null,null,null,null,null,null,null,null,null,null,null,null,"000002292","INDEPENDENCIA","02","01","01","01","0201","000002292 - INDEPENDENCIA",null,null,null,null,null,"09","17","MANITEA","0917","0917 - MANITEA"]
[null,null,null,null,null,null,null,null,null,null,null,null,null,4,"000002297","CCORCCA","02","01","01","02","0201","000002297 - CCORCCA",null,null,null,null,null,"09","18","UNION ASHANINKA","0918","0918 - UNION ASHANINKA"]
[null,null,null,null,null,null,null,null,null,null,null,null,null,5,"000002306","BELEMPAMPA","02","01","01","06","0201","000002306 - BELEMPAMPA",null,null,null,null,null,"09","00","(All)","0900","0900 - (All)"]
[null,null,null,null,null,null,null,null,null,null,null,null,null,6,"000002308","ZARZUELA ALTA","02","01","01","06","0201","000002308 - ZARZUELA ALTA",null,null,null,null,null,"10","01","PARURO","1001","1001 - PARURO"]
[null,null,null,null,null,null,null,null,null,null,null,null,null,null,"000002309","DIGNIDAD NACIONAL","02","01","01","06","0201","000002309 - DIGNIDAD NACIONAL",null,null,null,null,null,"10","02","ACCHA","1002","1002 - ACCHA"]
[null,null,null,null,null,null,null,null,null,null,null,null,null,7,"000002313","OCCOPATA","02","01","01","06","0201","000002313 - OCCOPATA",null,null,null,null,null,"10","03","CCAPI","1003","1003 - CCAPI"]
[null,null,null,null,null,null,null,null,null,null,null,null,null,8,"000010067","C.M. SANTIAGO  ESSALUD","02","01","01","06","0201","000010067 - C.M. SANTIAGO  ESSALUD",null,null,null,null,null,"10","04","COLCHA","1004","1004 - COLCHA"]
[null,null,null,null,null,null,null,null,null,null,null,null,null,9,"000010920","QUINTA BRIGADA DE MONTAÑA","02","01","01","06","0201","000010920 - QUINTA BRIGADA DE MONTAÑA",null,null,null,null,null,"10","05","HUANOQUITE","1005","1005 - HUANOQUITE"]
[null,null,null,null,null,null,null,null,null,null,null,null,null,10,"000026182","MENTAL SANTIAGO","02","01","01","06","0201","000026182 - MENTAL SANTIAGO",null,null,null,null,null,"10","06","OMACHA","1006","1006 - OMACHA"]
[null,null,null,null,null,null,null,null,null,null,null,null,null,11,"000000000","(All)","02","02",null,null,"0202","000000000 - (All)",null,null,null,null,null,"10","07","PACCARITAMBO","1007","1007 - PACCARITAMBO"]
[null,null,null,null,null,null,null,null,null,null,null,null,null,0,"000002302","CCORAO","02","02","01","05","0202","000002302 - CCORAO",null,null,null,null,null,"10","08","PILLPINTO","1008","1008 - PILLPINTO"]
[null,null,null,null,null,null,null,null,null,null,null,null,null,1,"000002307","MANCO CAPAC","02","02","01","06","0202","000002307 - MANCO CAPAC",null,null,null,null,null,"10","09","YAURISQUE","1009","1009 - YAURISQUE"]
[null,null,null,null,null,null,null,null,null,null,null,null,null,null,"000002310","CHOCCO","02","02","01","06","0202","000002310 - CHOCCO",null,null,null,null,null,"11","00","(All)","1100","1100 - (All)"]
[null,null,null,null,null,null,null,null,null,null,null,null,null,null,"000002315","WANCHAQ","02","02","01","08","0202","000002315 - WANCHAQ",null,null,null,null,null,"11","01","PAUCARTAMBO","1101","1101 - PAUCARTAMBO"]
[null,null,null,null,null,null,null,null,null,null,null,null,null,2,"000002316","TTIO","02","02","01","08","0202","000002316 - TTIO",null,null,null,null,null,"11","02","CAICAY","1102","1102 - CAICAY"]
[null,null,null,null,null,null,null,null,null,null,null,null,null,3,"000010041","ADOLFO GUEVARA VELASCO","02","02","01","08","0202","000010041 - ADOLFO GUEVARA VELASCO",null,null,null,null,null,"11","03","CHALLABAMBA","1103","1103 - CHALLABAMBA"]
[null,null,null,null,null,null,null,null,null,null,null,null,null,4,"000026183","METROPOLITANO","02","02","01","08","0202","000026183 - METROPOLITANO",null,null,null,null,null,"11","04","COLQUEPATA","1104","1104 - COLQUEPATA"]
[null,null,null,null,null,null,null,null,null,null,null,null,null,5,"000030730","PATRON SANTIAGO","02","02","01","08","0202","000030730 - PATRON SANTIAGO",null,null,null,null,null,"11","05","HUANCARANI","1105","1105 - HUANCARANI"]
[null,null,null,null,null,null,null,null,null,null,null,null,null,6,"000000000","(All)","02","03",null,null,"0203","000000000 - (All)",null,null,null,null,null,"11","06","KOSÑIPATA","1106","1106 - KOSÑIPATA"]
[null,null,null,null,null,null,null,null,null,null,null,null,null,7,"000002326","ANTA","02","03","03","01","0203","000002326 - ANTA",null,null,null,null,null,"12","00","(All)","1200","1200 - (All)"]
[null,null,null,null,null,null,null,null,null,null,null,null,null,0,"000002327","CHACAN","02","03","03","01","0203","000002327 - CHACAN",null,null,null,null,null,"12","01","URCOS","1201","1201 - URCOS"]
[null,null,null,null,null,null,null,null,null,null,null,null,null,1,"000002328","COMPONE","02","03","03","01","0203","000002328 - COMPONE",null,null,null,null,null,"12","02","ANDAHUAYLILLAS","1202","1202 - ANDAHUAYLILLAS"]
[null,null,null,null,null,null,null,null,null,null,null,null,null,2,"000002329","CONCHACALLA","02","03","03","01","0203","000002329 - CONCHACALLA",null,null,null,null,null,"12","03","CAMANTI","1203","1203 - CAMANTI"]
[null,null,null,null,null,null,null,null,null,null,null,null,null,3,"000002330","ANCAHUASI","02","03","03","02","0203","000002330 - ANCAHUASI",null,null,null,null,null,"12","04","CCARHUAYO","1204","1204 - CCARHUAYO"]
[null,null,null,null,null,null,null,null,null,null,null,null,null,4,"000002331","CACHIMAYO","02","03","03","03","0203","000002331 - CACHIMAYO",null,null,null,null,null,"12","05","CCATCA","1205","1205 - CCATCA"]
[null,null,null,null,null,null,null,null,null,null,null,null,null,5,"000002332","CHINCHAYPUJIO","02","03","03","04","0203","000002332 - CHINCHAYPUJIO",null,null,null,null,null,"12","06","CUSIPATA","1206","1206 - CUSIPATA"]
[null,null,null,null,null,null,null,null,null,null,null,null,null,6,"000002333","HUAROCONDO","02","03","03","05","0203","000002333 - HUAROCONDO",null,null,null,null,null,"12","07","HUARO","1207","1207 - HUARO"]
[null,null,null,null,null,null,null,null,null,null,null,null,null,7,"000002334","HUAYLLACOCHA","02","03","03","05","0203","000002334 - HUAYLLACOCHA",null,null,null,null,null,"12","08","LUCRE","1208","1208 - LUCRE"]
[null,null,null,null,null,null,null,null,null,null,null,null,null,null,"000002339","PUCYURA ANTA","02","03","03","08","0203","000002339 - PUCYURA ANTA",null,null,null,null,null,"12","09","MARCAPATA","1209","1209 - MARCAPATA"]
[null,null,null,null,null,null,null,null,null,null,null,null,null,8,"000002340","ZURITE","02","03","03","09","0203","000002340 - ZURITE",null,null,null,null,null,"12","10","OCONGATE","1210","1210 - OCONGATE"]
[null,null,null,null,null,null,null,null,null,null,null,null,null,9,"000006972","PANTIPATA","02","03","03","04","0203","000006972 - PANTIPATA",null,null,null,null,null,"12","11","OROPESA","1211","1211 - OROPESA"]
[null,null,null,null,null,null,null,null,null,null,null,null,null,10,"000027790","MENTAL COMUNITARIO ANTA","02","03","03","01","0203","000027790 - MENTAL COMUNITARIO ANTA",null,null,null,null,null,"12","12","QUIQUIJANA","1212","1212 - QUIQUIJANA"]
[null,null,null,null,null,null,null,null,null,null,null,null,null,null,"000029514","ESSALUD ANTA","02","03","03","01","0203","000029514 - ESSALUD ANTA",null,null,null,null,null,"13","00","(All)","1300","1300 - (All)"]
[null,null,null,null,null,null,null,null,null,null,null,null,null,null,"000000000","(All)","02","04",null,null,"0204","000000000 - (All)",null,null,null,null,null,"13","01","URUBAMBA","1301","1301 - URUBAMBA"]
[null,null,null,null,null,null,null,null,null,null,null,null,null,null,"000002336","LIMATAMBO","02","04","03","06","0204","000002336 - LIMATAMBO",null,null,null,null,null,"13","02","CHINCHERO","1302","1302 - CHINCHERO"]
[null,null,null,null,null,null,null,null,null,null,null,null,null,null,"000002337","PAMPACONGA","02","04","03","06","0204","000002337 - PAMPACONGA",null,null,null,null,null,"13","03","HUAYLLABAMBA","1303","1303 - HUAYLLABAMBA"]
[null,null,null,null,null,null,null,null,null,null,null,null,null,null,"000002338","MOLLEPATA","02","04","03","07","0204","000002338 - MOLLEPATA",null,null,null,null,null,"13","04","MACHUPICCHU","1304","1304 - MACHUPICCHU"]
[null,null,null,null,null,null,null,null,null,null,null,null,null,null,"000010761","URATARI","02","04","03","06","0204","000010761 - URATARI",null,null,null,null,null,"13","05","MARAS","1305","1305 - MARAS"]
[null,null,null,null,null,null,null,null,null,null,null,null,null,null,"000021061","HUAMANPATA","02","04","03","07","0204","000021061 - HUAMANPATA",null,null,null,null,null,"13","06","OLLANTAYTAMBO","1306","1306 - OLLANTAYTAMBO"]
[null,null,null,null,null,null,null,null,null,null,null,null,null,null,"000000000","(All)","02","05",null,null,"0205","000000000 - (All)",null,null,null,null,null,"13","07","YUCAY",{"$f":"CONCATENATE(AB138,AC138)","v":"1307"},"1307 - YUCAY"]
[null,null,null,null,null,null,null,null,null,null,null,null,null,null,"000002343","COYA","02","05","04","02","0205","000002343 - COYA",null,null,null,null,null,"00","00","(All)",{"$f":"CONCATENATE(AB139,AC139)","v":"0000"},"0000 - (All)"]
[null,null,null,null,null,null,null,null,null,null,null,null,null,null,"000002344","LAMAY","02","05","04","03","0205","000002344 - LAMAY"]
[null,null,null,null,null,null,null,null,null,null,null,null,null,null,"000002348","PISAC","02","05","04","05","0205","000002348 - PISAC"]
[null,null,null,null,null,null,null,null,null,null,null,null,null,null,"000002349","CUYO CHICO","02","05","04","05","0205","000002349 - CUYO CHICO"]
[null,null,null,null,null,null,null,null,null,null,null,null,null,null,"000002350","CUYO GRANDE","02","05","04","05","0205","000002350 - CUYO GRANDE"]
[null,null,null,null,null,null,null,null,null,null,null,null,null,null,"000002351","QUELLO QUELLO","02","05","04","05","0205","000002351 - QUELLO QUELLO"]
[null,null,null,null,null,null,null,null,null,null,null,null,null,null,"000002352","SAN SALVADOR","02","05","04","06","0205","000002352 - SAN SALVADOR"]
[null,null,null,null,null,null,null,null,null,null,null,null,null,null,"000002353","TARAY","02","05","04","07","0205","000002353 - TARAY"]
[null,null,null,null,null,null,null,null,null,null,null,null,null,null,"000002354","HUANCALLE","02","05","04","07","0205","000002354 - HUANCALLE"]
[null,null,null,null,null,null,null,null,null,null,null,null,null,null,"000006970","TIRACANCHA","02","05","04","06","0205","000006970 - TIRACANCHA"]
[null,null,null,null,null,null,null,null,null,null,null,null,null,null,"000006975","SAYLLAFAYA","02","05","04","03","0205","000006975 - SAYLLAFAYA"]
[null,null,null,null,null,null,null,null,null,null,null,null,null,null,"000007145","HUAMA","02","05","04","03",{"$f":"CONCATENATE(Q150,R150)","v":"0205"},{"$f":"CONCATENATE(O150,\" - \",P150)","v":"000007145 - HUAMA"}]
[null,null,null,null,null,null,null,null,null,null,null,null,null,null,"000007146","POQUES","02","05","04","03","0205","000007146 - POQUES"]
[null,null,null,null,null,null,null,null,null,null,null,null,null,null,"000025368","HUARQUI","02","05","04","03","0205","000025368 - HUARQUI"]
[null,null,null,null,null,null,null,null,null,null,null,null,null,null,"000000000","(All)","02","06",null,null,"0206","000000000 - (All)"]
[null,null,null,null,null,null,null,null,null,null,null,null,null,null,"000002341","CALCA","02","06","04","01","0206","000002341 - CALCA"]
[null,null,null,null,null,null,null,null,null,null,null,null,null,null,"000002342","AMPARAES","02","06","04","04","0206","000002342 - AMPARAES"]
[null,null,null,null,null,null,null,null,null,null,null,null,null,null,"000002345","CCACHIN","02","06","04","04","0206","000002345 - CCACHIN"]
[null,null,null,null,null,null,null,null,null,null,null,null,null,null,"000002346","CHOQUECANCHA","02","06","04","04","0206","000002346 - CHOQUECANCHA"]
[null,null,null,null,null,null,null,null,null,null,null,null,null,null,"000002347","LARES","02","06","04","04","0206","000002347 - LARES"]
[null,null,null,null,null,null,null,null,null,null,null,null,null,null,"000002361","SUYO","02","06","04","04","0206","000002361 - SUYO"]
[null,null,null,null,null,null,null,null,null,null,null,null,null,null,"000002515","PAROBAMBA","02","06","11","03","0206","000002515 - PAROBAMBA"]
[null,null,null,null,null,null,null,null,null,null,null,null,null,null,"000007143","OTOCANI","02","06","11","03","0206","000007143 - OTOCANI"]
[null,null,null,null,null,null,null,null,null,null,null,null,null,null,"000007144","PATABAMBA","02","06","04","07","0206","000007144 - PATABAMBA"]
[null,null,null,null,null,null,null,null,null,null,null,null,null,null,"000010069","ESSALUD CALCA","02","06","04","01","0206","000010069 - ESSALUD CALCA"]
[null,null,null,null,null,null,null,null,null,null,null,null,null,null,"000010759","HUARAN","02","06","04","01","0206","000010759 - HUARAN"]
[null,null,null,null,null,null,null,null,null,null,null,null,null,null,"000010762","ACCHA ALTA - PAMPALLACTA","02","06","04","01","0206","000010762 - ACCHA ALTA - PAMPALLACTA"]
[null,null,null,null,null,null,null,null,null,null,null,null,null,null,"000026273","MENTAL COMUNITARIO VIRGEN ASUNTA DE CALCA","02","06","04","01","0206","000026273 - MENTAL COMUNITARIO VIRGEN ASUNTA DE CALCA"]
[null,null,null,null,null,null,null,null,null,null,null,null,null,null,"000000000","(All)","02","07",null,null,"0207","000000000 - (All)"]
[null,null,null,null,null,null,null,null,null,null,null,null,null,null,"000002540","URUBAMBA","02","07","13","01","0207","000002540 - URUBAMBA"]
[null,null,null,null,null,null,null,null,null,null,null,null,null,null,"000002541","YANAHUARA","02","07","13","01","0207","000002541 - YANAHUARA"]
[null,null,null,null,null,null,null,null,null,null,null,null,null,null,"000002543","CHINCHERO","02","07","13","02","0207","000002543 - CHINCHERO"]
[null,null,null,null,null,null,null,null,null,null,null,null,null,null,"000002544","OCCOTUAN","02","07","13","02","0207","000002544 - OCCOTUAN"]
[null,null,null,null,null,null,null,null,null,null,null,null,null,null,"000002545","HUAYLLABAMBA","02","07","13","03","0207","000002545 - HUAYLLABAMBA"]
[null,null,null,null,null,null,null,null,null,null,null,null,null,null,"000002546","MACHUPICCHU","02","07","13","04","0207","000002546 - MACHUPICCHU"]
[null,null,null,null,null,null,null,null,null,null,null,null,null,null,"000002547","COLLPANI","02","07","13","04","0207","000002547 - COLLPANI"]
[null,null,null,null,null,null,null,null,null,null,null,null,null,null,"000002548","MARAS","02","07","13","05","0207","000002548 - MARAS"]
[null,null,null,null,null,null,null,null,null,null,null,null,null,null,"000002549","OLLANTAYTAMBO","02","07","13","06","0207","000002549 - OLLANTAYTAMBO"]
[null,null,null,null,null,null,null,null,null,null,null,null,null,null,"000002550","CHILLCA","02","07","13","06","0207","000002550 - CHILLCA"]
[null,null,null,null,null,null,null,null,null,null,null,null,null,null,"000002551","YUCAY","02","07","13","07","0207","000002551 - YUCAY"]
[null,null,null,null,null,null,null,null,null,null,null,null,null,null,"000006974","CAMINO INCA HUAYLLABAMBA","02","07","13","04","0207","000006974 - CAMINO INCA HUAYLLABAMBA"]
[null,null,null,null,null,null,null,null,null,null,null,null,null,null,"000010060","CAS URUBAMBA -ESSALUD","02","07","13","01","0207","000010060 - CAS URUBAMBA -ESSALUD"]
[null,null,null,null,null,null,null,null,null,null,null,null,null,null,"000010073","MACHU PICCHU - ESSALUD","02","07","13","04","0207","000010073 - MACHU PICCHU - ESSALUD"]
[null,null,null,null,null,null,null,null,null,null,null,null,null,null,"000010758","CRUZPATA","02","07","13","05","0207","000010758 - CRUZPATA"]
[null,null,null,null,null,null,null,null,null,null,null,null,null,null,"000010760","PATACANCHA","02","07","13","06","0207","000010760 - PATACANCHA"]
[null,null,null,null,null,null,null,null,null,null,null,null,null,null,"000030666","MENTAL COMUNITARIO URUBAMBA","02","07","13","01","0207","000030666 - MENTAL COMUNITARIO URUBAMBA"]
[null,null,null,null,null,null,null,null,null,null,null,null,null,null,"000000000","(All)","02","08",null,null,"0208","000000000 - (All)"]
[null,null,null,null,null,null,null,null,null,null,null,null,null,null,"000002355","LA QUEBRADA","02","08","04","08","0208","000002355 - LA QUEBRADA"]
[null,null,null,null,null,null,null,null,null,null,null,null,null,null,"000002356","CCORIMAYO","02","08","04","08","0208","000002356 - CCORIMAYO"]
[null,null,null,null,null,null,null,null,null,null,null,null,null,null,"000002357","COLCCA YANATILE","02","08","04","08","0208","000002357 - COLCCA YANATILE"]
[null,null,null,null,null,null,null,null,null,null,null,null,null,null,"000002358","MUYUPAY","02","08","04","08","0208","000002358 - MUYUPAY"]
[null,null,null,null,null,null,null,null,null,null,null,null,null,null,"000002359","PUTUCUSI","02","08","04","08","0208","000002359 - PUTUCUSI"]
[null,null,null,null,null,null,null,null,null,null,null,null,null,null,"000002360","QUESQUENTO","02","08","04","08","0208","000002360 - QUESQUENTO"]
[null,null,null,null,null,null,null,null,null,null,null,null,null,null,"000002362","HUACHIBAMBA","02","08","04","08","0208","000002362 - HUACHIBAMBA"]
[null,null,null,null,null,null,null,null,null,null,null,null,null,null,"000002464","VERSALLES","02","08","09","05","0208","000002464 - VERSALLES"]
[null,null,null,null,null,null,null,null,null,null,null,null,null,null,"000002467","PUENTE SANTIAGO","02","08","09","06","0208","000002467 - PUENTE SANTIAGO"]
[null,null,null,null,null,null,null,null,null,null,null,null,null,null,"000006971","COMBAPATA YANATILE","02","08","04","08","0208","000006971 - COMBAPATA YANATILE"]
[null,null,null,null,null,null,null,null,null,null,null,null,null,null,"000006973","BELLAVISTA","02","08","04","08","0208","000006973 - BELLAVISTA"]
[null,null,null,null,null,null,null,null,null,null,null,null,null,null,"000007142","CHANCAMAYO","02","08","04","08","0208","000007142 - CHANCAMAYO"]
[null,null,null,null,null,null,null,null,null,null,null,null,null,null,"000000000","(All)","02","09",null,null,"0209","000000000 - (All)"]
[null,null,null,null,null,null,null,null,null,null,null,null,null,null,"000002290","SAN PEDRO CUSCO","02","09","01","01","0209","000002290 - SAN PEDRO CUSCO"]
[null,null,null,null,null,null,null,null,null,null,null,null,null,null,"000002291","SIETE CUARTONES","02","09","01","01","0209","000002291 - SIETE CUARTONES"]
[null,null,null,null,null,null,null,null,null,null,null,null,null,null,"000002293","MIRAFLORES","02","09","01","01","0209","000002293 - MIRAFLORES"]
[null,null,null,null,null,null,null,null,null,null,null,null,null,null,"000002294","PICCHU LA RINCONADA","02","09","01","01","0209","000002294 - PICCHU LA RINCONADA"]
[null,null,null,null,null,null,null,null,null,null,null,null,null,null,"000002295","BUENA VISTA","02","09","01","01","0209","000002295 - BUENA VISTA"]
[null,null,null,null,null,null,null,null,null,null,null,null,null,null,"000002299","POROY","02","09","01","03","0209","000002299 - POROY"]
[null,null,null,null,null,null,null,null,null,null,null,null,null,null,"999999999","(All)","02","99",null,null,"0299","999999999 - (All)"]
[null,null,null,null,null,null,null,null,null,null,null,null,null,null,"000002421","QUILLABAMBA","03","00","09","01","0300","000002421 - QUILLABAMBA"]
[null,null,null,null,null,null,null,null,null,null,null,null,null,null,"000000000","(All)","03","01",null,null,"0301","000000000 - (All)"]
[null,null,null,null,null,null,null,null,null,null,null,null,null,null,"000002422","HUAYANAY","03","01","09","01","0301","000002422 - HUAYANAY"]
[null,null,null,null,null,null,null,null,null,null,null,null,null,null,"000002423","IDMA","03","01","09","01","0301","000002423 - IDMA"]
[null,null,null,null,null,null,null,null,null,null,null,null,null,null,"000002424","POTRERO","03","01","09","01","0301","000002424 - POTRERO"]
[null,null,null,null,null,null,null,null,null,null,null,null,null,null,"000002425","ECHARATE","03","01","09","02","0301","000002425 - ECHARATE"]
[null,null,null,null,null,null,null,null,null,null,null,null,null,null,"000002430","PAMPA CONCEPCION","03","01","09","02","0301","000002430 - PAMPA CONCEPCION"]
[null,null,null,null,null,null,null,null,null,null,null,null,null,null,"000002446","CHACCO","03","01","09","02","0301","000002446 - CHACCO"]
[null,null,null,null,null,null,null,null,null,null,null,null,null,null,"000002451","CHAHUARES","03","01","09","02","0301","000002451 - CHAHUARES"]
[null,null,null,null,null,null,null,null,null,null,null,null,null,null,"000008910","SANTA ANA","03","01","09","01","0301","000008910 - SANTA ANA"]
[null,null,null,null,null,null,null,null,null,null,null,null,null,null,"000010062","QUILLABAMBA - ESSALUD","03","01","09","01","0301","000010062 - QUILLABAMBA - ESSALUD"]
[null,null,null,null,null,null,null,null,null,null,null,null,null,null,"000011744","POSTA MEDICO POLICIAL LA CONVENCION - QUILLABAMBA","03","01","09","01","0301","000011744 - POSTA MEDICO POLICIAL LA CONVENCION - QUILLABAMBA"]
[null,null,null,null,null,null,null,null,null,null,null,null,null,null,"000015842","PAVAYOC","03","01","09","01",{"$f":"CONCATENATE(Q218,R218)","v":"0301"},{"$f":"CONCATENATE(O218,\" - \",P218)","v":"000015842 - PAVAYOC"}]
[null,null,null,null,null,null,null,null,null,null,null,null,null,null,"000024653","INPE QUILLABAMBA","03","01","09","01","0301","000024653 - INPE QUILLABAMBA"]
[null,null,null,null,null,null,null,null,null,null,null,null,null,null,"000026386","MENTAL QUILLABAMBA","03","01","09","01","0301","000026386 - MENTAL QUILLABAMBA"]
[null,null,null,null,null,null,null,null,null,null,null,null,null,null,"000033273","SAN ISIDRO LABRADOR - ECHARATI","03","01","09","02","0301","000033273 - SAN ISIDRO LABRADOR - ECHARATI"]
[null,null,null,null,null,null,null,null,null,null,null,null,null,null,"000000000","(All)","03","02",null,null,"0302","000000000 - (All)"]
[null,null,null,null,null,null,null,null,null,null,null,null,null,null,"000002453","HUYRO","03","02","09","03","0302","000002453 - HUYRO"]
[null,null,null,null,null,null,null,null,null,null,null,null,null,null,"000002454","ALFAMAYO","03","02","09","03","0302","000002454 - ALFAMAYO"]
[null,null,null,null,null,null,null,null,null,null,null,null,null,null,"000002455","HUAYOPATA","03","02","09","03","0302","000002455 - HUAYOPATA"]
[null,null,null,null,null,null,null,null,null,null,null,null,null,null,"000002456","AMAYBAMBA","03","02","09","03","0302","000002456 - AMAYBAMBA"]
[null,null,null,null,null,null,null,null,null,null,null,null,null,null,"000002457","SAN PABLO HUAYOPATA","03","02","09","03","0302","000002457 - SAN PABLO HUAYOPATA"]
[null,null,null,null,null,null,null,null,null,null,null,null,null,null,"000002458","MARANURA","03","02","09","04","0302","000002458 - MARANURA"]
[null,null,null,null,null,null,null,null,null,null,null,null,null,null,"000002460","SANTA MARIA","03","02","09","04","0302","000002460 - SANTA MARIA"]
[null,null,null,null,null,null,null,null,null,null,null,null,null,null,"000002461","UCHUMAYO","03","02","09","04","0302","000002461 - UCHUMAYO"]
[null,null,null,null,null,null,null,null,null,null,null,null,null,null,"000002476","SANTA TERESA","03","02","09","08","0302","000002476 - SANTA TERESA"]
[null,null,null,null,null,null,null,null,null,null,null,null,null,null,"000002477","SULLUCUYOC","03","02","09","08","0302","000002477 - SULLUCUYOC"]
[null,null,null,null,null,null,null,null,null,null,null,null,null,null,"000002478","TOTORA","03","02","09","08","0302","000002478 - TOTORA"]
[null,null,null,null,null,null,null,null,null,null,null,null,null,null,"000010075","CAP HUYRO - ESSALUD","03","02","09","03","0302","000010075 - CAP HUYRO - ESSALUD"]
[null,null,null,null,null,null,null,null,null,null,null,null,null,null,"000000000","(All)","03","03",null,null,"0303","000000000 - (All)"]
[null,null,null,null,null,null,null,null,null,null,null,null,null,null,"000002363","TUPAC AMARU QUELLOUNO","03","03","04","08","0303","000002363 - TUPAC AMARU QUELLOUNO"]
[null,null,null,null,null,null,null,null,null,null,null,null,null,null,"000002462","OCCOBAMBA LACONVENCION","03","03","09","05","0303","000002462 - OCCOBAMBA LACONVENCION"]
[null,null,null,null,null,null,null,null,null,null,null,null,null,null,"000002463","CHINGANILLA","03","03","09","05","0303","000002463 - CHINGANILLA"]
[null,null,null,null,null,null,null,null,null,null,null,null,null,null,"000002465","QUELLOUNO","03","03","09","06","0303","000002465 - QUELLOUNO"]
[null,null,null,null,null,null,null,null,null,null,null,null,null,null,"000002466","HUILLCAPAMPA","03","03","09","06","0303","000002466 - HUILLCAPAMPA"]
[null,null,null,null,null,null,null,null,null,null,null,null,null,null,"000002468","SAN MARTIN","03","03","09","06","0303","000002468 - SAN MARTIN"]
[null,null,null,null,null,null,null,null,null,null,null,null,null,null,"000008906","ESTRELLA","03","03","09","06","0303","000008906 - ESTRELLA"]
[null,null,null,null,null,null,null,null,null,null,null,null,null,null,"000008907","MATORIATO","03","03","09","06","0303","000008907 - MATORIATO"]
[null,null,null,null,null,null,null,null,null,null,null,null,null,null,"000008908","CHIRUMBIA","03","03","09","06","0303","000008908 - CHIRUMBIA"]
[null,null,null,null,null,null,null,null,null,null,null,null,null,null,"000008909","CHAPO BOYERO","03","03","09","06","0303","000008909 - CHAPO BOYERO"]
[null,null,null,null,null,null,null,null,null,null,null,null,null,null,"000000000","(All)","03","04",null,null,"0304","000000000 - (All)"]
[null,null,null,null,null,null,null,null,null,null,null,null,null,null,"000002427","KITENI","03","04","09","02","0304","000002427 - KITENI"]
[null,null,null,null,null,null,null,null,null,null,null,null,null,null,"000002431","IVOCHOTE","03","04","09","02","0304","000002431 - IVOCHOTE"]
[null,null,null,null,null,null,null,null,null,null,null,null,null,null,"000002432","KEPASHIATO","03","04","09","02","0304","000002432 - KEPASHIATO"]
[null,null,null,null,null,null,null,null,null,null,null,null,null,null,"000002434","MATERIATO","03","04","09","02","0304","000002434 - MATERIATO"]
[null,null,null,null,null,null,null,null,null,null,null,null,null,null,"000002438","PACHIRI","03","04","09","02","0304","000002438 - PACHIRI"]
[null,null,null,null,null,null,null,null,null,null,null,null,null,null,"000002440","PANGOA","03","04","09","02","0304","000002440 - PANGOA"]
[null,null,null,null,null,null,null,null,null,null,null,null,null,null,"000002443","SANIRIATO","03","04","09","02","0304","000002443 - SANIRIATO"]
[null,null,null,null,null,null,null,null,null,null,null,null,null,null,"000002447","KAMANQUIRIATO","03","04","09","02","0304","000002447 - KAMANQUIRIATO"]
[null,null,null,null,null,null,null,null,null,null,null,null,null,null,"000002489","YUVENI","03","04","09","09","0304","000002489 - YUVENI"]
[null,null,null,null,null,null,null,null,null,null,null,null,null,null,"000002493","SELVA ALEGRE","03","04","09","09","0304","000002493 - SELVA ALEGRE"]
[null,null,null,null,null,null,null,null,null,null,null,null,null,null,"000006976","CHONTABAMBA","03","04","09","09","0304","000006976 - CHONTABAMBA"]
[null,null,null,null,null,null,null,null,null,null,null,null,null,null,"000013068","TRIO RIO","03","04","09","02","0304","000013068 - TRIO RIO"]
[null,null,null,null,null,null,null,null,null,null,null,null,null,null,"000013069","PUGUIENTIMARI","03","04","09","02","0304","000013069 - PUGUIENTIMARI"]
[null,null,null,null,null,null,null,null,null,null,null,null,null,null,"000014531","CENTRO DE ATENCIÓN PRIMARIA I ECHARATE - KITENI","03","04","09","02","0304","000014531 - CENTRO DE ATENCIÓN PRIMARIA I ECHARATE - KITENI"]
[null,null,null,null,null,null,null,null,null,null,null,null,null,null,"000024583","BCT N° 314 - KEPASHIATO","03","04","09","02","0304","000024583 - BCT N° 314 - KEPASHIATO"]
[null,null,null,null,null,null,null,null,null,null,null,null,null,null,"000000000","(All)","03","05",null,null,"0305","000000000 - (All)"]
[null,null,null,null,null,null,null,null,null,null,null,null,null,null,"000002426","KIRIGUETI","03","05","09","14","0305","000002426 - KIRIGUETI"]
[null,null,null,null,null,null,null,null,null,null,null,null,null,null,"000002428","CHOCORIARI","03","05","09","14","0305","000002428 - CHOCORIARI"]
[null,null,null,null,null,null,null,null,null,null,null,null,null,null,"000002435","MIARIA","03","05","09","14","0305","000002435 - MIARIA"]
[null,null,null,null,null,null,null,null,null,null,null,null,null,null,"000002436","NUEVA LUZ","03","05","09","14","0305","000002436 - NUEVA LUZ"]
[null,null,null,null,null,null,null,null,null,null,null,null,null,null,"000002437","NUEVO MUNDO","03","05","09","14","0305","000002437 - NUEVO MUNDO"]
[null,null,null,null,null,null,null,null,null,null,null,null,null,null,"000002441","PUERTO HUALLANA","03","05","09","14","0305","000002441 - PUERTO HUALLANA"]
[null,null,null,null,null,null,null,null,null,null,null,null,null,null,"000002442","PUERTO RICO","03","05","09","14","0305","000002442 - PUERTO RICO"]
[null,null,null,null,null,null,null,null,null,null,null,null,null,null,"000002444","SENSA","03","05","09","14","0305","000002444 - SENSA"]
[null,null,null,null,null,null,null,null,null,null,null,null,null,null,"000002445","TIMPIA","03","05","09","14","0305","000002445 - TIMPIA"]
[null,null,null,null,null,null,null,null,null,null,null,null,null,null,"000002448","KAMISEA","03","05","09","14","0305","000002448 - KAMISEA"]
[null,null,null,null,null,null,null,null,null,null,null,null,null,null,"000002452","SHIVANKORENI","03","05","09","14","0305","000002452 - SHIVANKORENI"]
[null,null,null,null,null,null,null,null,null,null,null,null,null,null,"000013066","MONTETONI","03","05","09","14","0305","000013066 - MONTETONI"]
[null,null,null,null,null,null,null,null,null,null,null,null,null,null,"000013067","TANGOSHIARI","03","05","09","14","0305","000013067 - TANGOSHIARI"]
[null,null,null,null,null,null,null,null,null,null,null,null,null,null,"000015235","NUEVA VIDA","03","05","09","14","0305","000015235 - NUEVA VIDA"]
[null,null,null,null,null,null,null,null,null,null,null,null,null,null,"000015843","CASHIRIARI","03","05","09","14","0305","000015843 - CASHIRIARI"]
[null,null,null,null,null,null,null,null,null,null,null,null,null,null,"000015844","CAMANA","03","05","09","14","0305","000015844 - CAMANA"]
[null,null,null,null,null,null,null,null,null,null,null,null,null,null,"000033274","BCT  NUEVO MUNDO","03","05","09","14","0305","000033274 - BCT  NUEVO MUNDO"]
[null,null,null,null,null,null,null,null,null,null,null,null,null,null,"000000000","(All)","03","06",null,null,"0306","000000000 - (All)"]
[null,null,null,null,null,null,null,null,null,null,null,null,null,null,"000002480","PUCYURA","03","06","09","09","0306","000002480 - PUCYURA"]
[null,null,null,null,null,null,null,null,null,null,null,null,null,null,"000002481","CCARCCO","03","06","09","11",{"$f":"CONCATENATE(Q282,R282)","v":"0306"},{"$f":"CONCATENATE(O282,\" - \",P282)","v":"000002481 - CCARCCO"}]
[null,null,null,null,null,null,null,null,null,null,null,null,null,null,"000002482","INCAHUASI","03","06","09","11","0306","000002482 - INCAHUASI"]
[null,null,null,null,null,null,null,null,null,null,null,null,null,null,"000002484","OYARA","03","06","09","09","0306","000002484 - OYARA"]
[null,null,null,null,null,null,null,null,null,null,null,null,null,null,"000002485","PACCAYBAMBA","03","06","09","11","0306","000002485 - PACCAYBAMBA"]
[null,null,null,null,null,null,null,null,null,null,null,null,null,null,"000002486","PAMPACONAS","03","06","09","09","0306","000002486 - PAMPACONAS"]
[null,null,null,null,null,null,null,null,null,null,null,null,null,null,"000002487","CHOQUETIRA","03","06","09","11","0306","000002487 - CHOQUETIRA"]
[null,null,null,null,null,null,null,null,null,null,null,null,null,null,"000002490","ARMA","03","06","09","09","0306","000002490 - ARMA"]
[null,null,null,null,null,null,null,null,null,null,null,null,null,null,"000002491","LUCMAHUAYCO","03","06","09","11","0306","000002491 - LUCMAHUAYCO"]
[null,null,null,null,null,null,null,null,null,null,null,null,null,null,"000002492","PALTAYBAMBA","03","06","09","09","0306","000002492 - PALTAYBAMBA"]
[null,null,null,null,null,null,null,null,null,null,null,null,null,null,"000013070","CHANCAVINE","03","06","09","12","0306","000013070 - CHANCAVINE"]
[null,null,null,null,null,null,null,null,null,null,null,null,null,null,"000000000","(All)","03","07",null,null,"0307","000000000 - (All)"]
[null,null,null,null,null,null,null,null,null,null,null,null,null,null,"000002429","CIRIALO                                                                                             ","03","07","09","02","0307","000002429 - CIRIALO                                                                                             "]
[null,null,null,null,null,null,null,null,null,null,null,null,null,null,"000002433","KORIBENI                                                                                            ","03","07","09","02","0307","000002433 - KORIBENI                                                                                            "]
[null,null,null,null,null,null,null,null,null,null,null,null,null,null,"000002439","PALMA REAL                                                                                          ","03","07","09","02","0307","000002439 - PALMA REAL                                                                                          "]
[null,null,null,null,null,null,null,null,null,null,null,null,null,null,"000002449","ICHIQUIATO                                                                                          ","03","07","09","02","0307","000002449 - ICHIQUIATO                                                                                          "]
[null,null,null,null,null,null,null,null,null,null,null,null,null,null,"000002450","SAN ANTONIO                                                                                         ","03","07","09","02","0307","000002450 - SAN ANTONIO                                                                                         "]
[null,null,null,null,null,null,null,null,null,null,null,null,null,null,"999999999","(All)","03","99",null,null,"0399","999999999 - (All)"]
[null,null,null,null,null,null,null,null,null,null,null,null,null,null,"000000000","(All)","04","00",null,null,"0400","000000000 - (All)"]
[null,null,null,null,null,null,null,null,null,null,null,null,null,null,"000002378","SICUANI","04","00","06","01","0400","000002378 - SICUANI"]
[null,null,null,null,null,null,null,null,null,null,null,null,null,null,"000007135","ESPINAR","04","00","08","01","0400","000007135 - ESPINAR"]
[null,null,null,null,null,null,null,null,null,null,null,null,null,null,"000000000","(All)","04","01",null,null,"0401","000000000 - (All)"]
[null,null,null,null,null,null,null,null,null,null,null,null,null,null,"000002364","YANAOCA","04","01","05","01","0401","000002364 - YANAOCA"]
[null,null,null,null,null,null,null,null,null,null,null,null,null,null,"000002365","PONGOÑA","04","01","05","01","0401","000002365 - PONGOÑA"]
[null,null,null,null,null,null,null,null,null,null,null,null,null,null,"000002372","PAMPAMARCA","04","01","05","06","0401","000002372 - PAMPAMARCA"]
[null,null,null,null,null,null,null,null,null,null,null,null,null,null,"000002373","QUEHUE","04","01","05","07","0401","000002373 - QUEHUE"]
[null,null,null,null,null,null,null,null,null,null,null,null,null,null,"000002374","HUINCHIRI","04","01","05","07","0401","000002374 - HUINCHIRI"]
[null,null,null,null,null,null,null,null,null,null,null,null,null,null,"000002375","SURIMANA","04","01","05","08","0401","000002375 - SURIMANA"]
[null,null,null,null,null,null,null,null,null,null,null,null,null,null,"000002376","TUNGASUCA","04","01","05","08","0401","000002376 - TUNGASUCA"]
[null,null,null,null,null,null,null,null,null,null,null,null,null,null,"000002377","TOCCOCCORI","04","01","05","08","0401","000002377 - TOCCOCCORI"]
[null,null,null,null,null,null,null,null,null,null,null,null,null,null,"000018241","HAMPATURA","04","01","05","01","0401","000018241 - HAMPATURA"]
[null,null,null,null,null,null,null,null,null,null,null,null,null,null,"000032339","CCOCHAPATA","04","01","05","08","0401","000032339 - CCOCHAPATA"]
[null,null,null,null,null,null,null,null,null,null,null,null,null,null,"000000000","(All)","04","02",null,null,"0402","000000000 - (All)"]
[null,null,null,null,null,null,null,null,null,null,null,null,null,null,"000002366","CHECCA","04","02","05","02","0402","000002366 - CHECCA"]
[null,null,null,null,null,null,null,null,null,null,null,null,null,null,"000002367","CHITIBAMBA","04","01","05","02","0401","000002367 - CHITIBAMBA"]
[null,null,null,null,null,null,null,null,null,null,null,null,null,null,"000007700","EL DESCANSO","04","02","05","03","0402","000007700 - EL DESCANSO"]
[null,null,null,null,null,null,null,null,null,null,null,null,null,null,"000000000","(All)","04","03",null,null,"0403","000000000 - (All)"]
[null,null,null,null,null,null,null,null,null,null,null,null,null,null,"000002320","MOSOCLLACTA","04","03","02","04","0403","000002320 - MOSOCLLACTA"]
[null,null,null,null,null,null,null,null,null,null,null,null,null,null,"000002385","CHECACUPE","04","03","06","02","0403","000002385 - CHECACUPE"]
[null,null,null,null,null,null,null,null,null,null,null,null,null,null,"000002386","COMBAPATA CANCHIS","04","03","06","03","0403","000002386 - COMBAPATA CANCHIS"]
[null,null,null,null,null,null,null,null,null,null,null,null,null,null,"000002387","CHIARA","04","03","06","03","0403","000002387 - CHIARA"]
[null,null,null,null,null,null,null,null,null,null,null,null,null,null,"000002392","PITUMARCA","04","03","06","05","0403","000002392 - PITUMARCA"]
[null,null,null,null,null,null,null,null,null,null,null,null,null,null,"000002397","TINTA","04","03","06","08","0403","000002397 - TINTA"]
[null,null,null,null,null,null,null,null,null,null,null,null,null,null,"000000000","(All)","04","04",null,null,"0404","000000000 - (All)"]
[null,null,null,null,null,null,null,null,null,null,null,null,null,null,"000002369","LANGUI","04","04","05","04","0404","000002369 - LANGUI"]
[null,null,null,null,null,null,null,null,null,null,null,null,null,null,"000002370","CONDEVILUYO","04","04","05","04","0404","000002370 - CONDEVILUYO"]
[null,null,null,null,null,null,null,null,null,null,null,null,null,null,"000002371","LAYO","04","04","05","05","0404","000002371 - LAYO"]
[null,null,null,null,null,null,null,null,null,null,null,null,null,null,"000002379","HERCCA","04","04","06","01","0404","000002379 - HERCCA"]
[null,null,null,null,null,null,null,null,null,null,null,null,null,null,"000002380","TECHO OBRERO","04","04","06","01","0404","000002380 - TECHO OBRERO"]
[null,null,null,null,null,null,null,null,null,null,null,null,null,null,"000002388","MARANGANI","04","04","06","04","0404","000002388 - MARANGANI"]
[null,null,null,null,null,null,null,null,null,null,null,null,null,null,"000002389","CHECTUYOC","04","04","06","04","0404","000002389 - CHECTUYOC"]
[null,null,null,null,null,null,null,null,null,null,null,null,null,null,"000002390","CCUYO","04","04","06","04","0404","000002390 - CCUYO"]
[null,null,null,null,null,null,null,null,null,null,null,null,null,null,"000002391","OCCOBAMBA MARANGANI","04","04","06","04","0404","000002391 - OCCOBAMBA MARANGANI"]
[null,null,null,null,null,null,null,null,null,null,null,null,null,null,"000010063","ESSALUD SICUANI","04","04","06","01","0404","000010063 - ESSALUD SICUANI"]
[null,null,null,null,null,null,null,null,null,null,null,null,null,null,"000024639","INPE SICUANI","04","04","06","01","0404","000024639 - INPE SICUANI"]
[null,null,null,null,null,null,null,null,null,null,null,null,null,null,"000024663","SANIDAD PNP  SICUANI","04","04","06","01","0404","000024663 - SANIDAD PNP  SICUANI"]
[null,null,null,null,null,null,null,null,null,null,null,null,null,null,"000000000","(All)","04","05",null,null,"0405","000000000 - (All)"]
[null,null,null,null,null,null,null,null,null,null,null,null,null,null,"000002381","QUEHUAR","04","05","06","01","0405","000002381 - QUEHUAR"]
[null,null,null,null,null,null,null,null,null,null,null,null,null,null,"000002382","UZCUPATA","04","05","06","01","0405","000002382 - UZCUPATA"]
[null,null,null,null,null,null,null,null,null,null,null,null,null,null,"000002383","LA FLORIDA","04","05","06","01","0405","000002383 - LA FLORIDA"]
[null,null,null,null,null,null,null,null,null,null,null,null,null,null,"000002384","PAMPAPHALLA","04","05","06","01","0405","000002384 - PAMPAPHALLA"]
[null,null,null,null,null,null,null,null,null,null,null,null,null,null,"000002393","PHINAYA","04","05","06","05","0405","000002393 - PHINAYA"]
[null,null,null,null,null,null,null,null,null,null,null,null,null,null,"000002394","SAN PABLO CANCHIS","04","05","06","06","0405","000002394 - SAN PABLO CANCHIS"]
[null,null,null,null,null,null,null,null,null,null,null,null,null,null,"000002395","SANTA BARBARA","04","05","06","06","0405","000002395 - SANTA BARBARA"]
[null,null,null,null,null,null,null,null,null,null,null,null,null,null,"000002396","SAN PEDRO CANCHIS","04","05","06","07","0405","000002396 - SAN PEDRO CANCHIS"]
[null,null,null,null,null,null,null,null,null,null,null,null,null,null,"000026387","MENTAL COMUNITARIO SICUANI","04","05","06","01","0405","000026387 - MENTAL COMUNITARIO SICUANI"]
[null,null,null,null,null,null,null,null,null,null,null,null,null,null,"000032923","SR DE PAMPACUCHO-SICUANI","04","05","06","01","0405","000032923 - SR DE PAMPACUCHO-SICUANI"]
[null,null,null,null,null,null,null,null,null,null,null,null,null,null,"000000000","(All)","04","06",null,null,"0406","000000000 - (All)"]
[null,null,null,null,null,null,null,null,null,null,null,null,null,null,"000002410","YAURI","04","06","08","01",{"$f":"CONCATENATE(Q349,R349)","v":"0406"},{"$f":"CONCATENATE(O349,\" - \",P349)","v":"000002410 - YAURI"}]
[null,null,null,null,null,null,null,null,null,null,null,null,null,null,"000002411","CONDOROMA","04","06","08","02","0406","000002411 - CONDOROMA"]
[null,null,null,null,null,null,null,null,null,null,null,null,null,null,"000002412","COPORAQUE","04","06","08","03","0406","000002412 - COPORAQUE"]
[null,null,null,null,null,null,null,null,null,null,null,null,null,null,"000002413","URINSAYA","04","06","08","03","0406","000002413 - URINSAYA"]
[null,null,null,null,null,null,null,null,null,null,null,null,null,null,"000002414","HUAYHUAHUASI","04","06","08","03","0406","000002414 - HUAYHUAHUASI"]
[null,null,null,null,null,null,null,null,null,null,null,null,null,null,"000002415","OCCORURO","04","06","08","04","0406","000002415 - OCCORURO"]
[null,null,null,null,null,null,null,null,null,null,null,null,null,null,"000002416","PALLPATA","04","06","08","05","0406","000002416 - PALLPATA"]
[null,null,null,null,null,null,null,null,null,null,null,null,null,null,"000002417","PICHIGUA ESPINAR","04","06","08","06","0406","000002417 - PICHIGUA ESPINAR"]
[null,null,null,null,null,null,null,null,null,null,null,null,null,null,"000002418","SAN MIGUEL","04","06","08","06","0406","000002418 - SAN MIGUEL"]
[null,null,null,null,null,null,null,null,null,null,null,null,null,null,"000002419","SUYKUTAMBO","04","06","08","07","0406","000002419 - SUYKUTAMBO"]
[null,null,null,null,null,null,null,null,null,null,null,null,null,null,"000002420","ACCOCUNCA","04","06","08","08","0406","000002420 - ACCOCUNCA"]
[null,null,null,null,null,null,null,null,null,null,null,null,null,null,"000006745","TINTAYA MARQUIRI","04","06","08","01","0406","000006745 - TINTAYA MARQUIRI"]
[null,null,null,null,null,null,null,null,null,null,null,null,null,null,"000010061","ESPINAR - ESSALUD","04","06","08","01","0406","000010061 - ESPINAR - ESSALUD"]
[null,null,null,null,null,null,null,null,null,null,null,null,null,null,"000030366","MENTAL COMUNITARIO ESPINAR \"MUSUQ KAWSAY\"","04","06","08","01","0406","000030366 - MENTAL COMUNITARIO ESPINAR \"MUSUQ KAWSAY\""]
[null,null,null,null,null,null,null,null,null,null,null,null,null,null,"999999999","(All)","04","99",null,null,"0499","999999999 - (All)"]
[null,null,null,null,null,null,null,null,null,null,null,null,null,null,"000002469","SAN JUAN DE KIMBIRI-VRAEM","05","00","09","07","0500","000002469 - SAN JUAN DE KIMBIRI-VRAEM"]
[null,null,null,null,null,null,null,null,null,null,null,null,null,null,"000000000","(All)","05","01",null,null,"0501","000000000 - (All)"]
[null,null,null,null,null,null,null,null,null,null,null,null,null,null,"000002470","CHIRUMPIARI","05","01","09","07","0501","000002470 - CHIRUMPIARI"]
[null,null,null,null,null,null,null,null,null,null,null,null,null,null,"000002471","LOBO TAHUANTINSUYO","05","01","09","07","0501","000002471 - LOBO TAHUANTINSUYO"]
[null,null,null,null,null,null,null,null,null,null,null,null,null,null,"000002472","MAPITUNARI","05","01","09","07","0501","000002472 - MAPITUNARI"]
[null,null,null,null,null,null,null,null,null,null,null,null,null,null,"000002473","UNION ROSALES","05","01","09","07","0501","000002473 - UNION ROSALES"]
[null,null,null,null,null,null,null,null,null,null,null,null,null,null,"000002474","SAMANIATO","05","01","09","07","0501","000002474 - SAMANIATO"]
[null,null,null,null,null,null,null,null,null,null,null,null,null,null,"000002475","KIMBIRI ALTO","05","01","09","07","0501","000002475 - KIMBIRI ALTO"]
[null,null,null,null,null,null,null,null,null,null,null,null,null,null,"000002479","VILLA VIRGEN","05","01","09","12","0501","000002479 - VILLA VIRGEN"]
[null,null,null,null,null,null,null,null,null,null,null,null,null,null,"000002488","VILLA KINTIARINA","05","01","09","13","0501","000002488 - VILLA KINTIARINA"]
[null,null,null,null,null,null,null,null,null,null,null,null,null,null,"000008283","PUEBLO LIBRE","05","01","09","13","0501","000008283 - PUEBLO LIBRE"]
[null,null,null,null,null,null,null,null,null,null,null,null,null,null,"000008284","MANITEA ALTA","05","01","09","07","0501","000008284 - MANITEA ALTA"]
[null,null,null,null,null,null,null,null,null,null,null,null,null,null,"000008285","ANGELES","05","01","09","07","0501","000008285 - ANGELES"]
[null,null,null,null,null,null,null,null,null,null,null,null,null,null,"000024957","BTC LA OROYA  N°34 VILLA VIRGEN","05","01","09","12","0501","000024957 - BTC LA OROYA  N°34 VILLA VIRGEN"]
[null,null,null,null,null,null,null,null,null,null,null,null,null,null,"000000000","(All)","05","02",null,null,"0502","000000000 - (All)"]
[null,null,null,null,null,null,null,null,null,null,null,null,null,null,"000002494","PICHARI","05","02","09","10","0502","000002494 - PICHARI"]
[null,null,null,null,null,null,null,null,null,null,null,null,null,null,"000002495","MANTARO","05","02","09","10","0502","000002495 - MANTARO"]
[null,null,null,null,null,null,null,null,null,null,null,null,null,null,"000002496","OMAYA","05","02","09","10","0502","000002496 - OMAYA"]
[null,null,null,null,null,null,null,null,null,null,null,null,null,null,"000002497","OTARI","05","02","09","10","0502","000002497 - OTARI"]
[null,null,null,null,null,null,null,null,null,null,null,null,null,null,"000002498","PUERTO MAYO","05","02","09","10","0502","000002498 - PUERTO MAYO"]
[null,null,null,null,null,null,null,null,null,null,null,null,null,null,"000007113","NATIVIDAD","05","02","09","10","0502","000007113 - NATIVIDAD"]
[null,null,null,null,null,null,null,null,null,null,null,null,null,null,"000007114","QUISTO CENTRAL","05","02","09","10","0502","000007114 - QUISTO CENTRAL"]
[null,null,null,null,null,null,null,null,null,null,null,null,null,null,"000015104","TAMBO DEL ENE","05","02","09","10","0502","000015104 - TAMBO DEL ENE"]
[null,null,null,null,null,null,null,null,null,null,null,null,null,null,"000015169","PITIRINQUINI","05","02","09","10","0502","000015169 - PITIRINQUINI"]
[null,null,null,null,null,null,null,null,null,null,null,null,null,null,"000015170","PICHARI BAJA","05","02","09","10","0502","000015170 - PICHARI BAJA"]
[null,null,null,null,null,null,null,null,null,null,null,null,null,null,"000024638","MILITAR PICHARI","05","02","09","10","0502","000024638 - MILITAR PICHARI"]
[null,null,null,null,null,null,null,null,null,null,null,null,null,null,"000027230","MEDICA POLICIAL PICHARI","05","02","09","10","0502","000027230 - MEDICA POLICIAL PICHARI"]
[null,null,null,null,null,null,null,null,null,null,null,null,null,null,"000027948","ESSALUD PICHARI","05","02","09","10","0502","000027948 - ESSALUD PICHARI"]
[null,null,null,null,null,null,null,null,null,null,null,null,null,null,"000032211","NUEVO PROGRESO","05","02","09","10","0502","000032211 - NUEVO PROGRESO"]
[null,null,null,null,null,null,null,null,null,null,null,null,null,null,"000033988","MENTAL COMUNITARIO PICHARI","05","02","09","10","0502","000033988 - MENTAL COMUNITARIO PICHARI"]
[null,null,null,null,null,null,null,null,null,null,null,null,null,null,"999999999","(All)","05","99",null,null,"0599","999999999 - (All)"]
[null,null,null,null,null,null,null,null,null,null,null,null,null,null,"000002398","SANTO TOMAS","06","00","07","01","0600","000002398 - SANTO TOMAS"]
[null,null,null,null,null,null,null,null,null,null,null,null,null,null,"000033097","SAMUE CHUMBIVILCAS","06","00","07","01","0600","000033097 - SAMUE CHUMBIVILCAS"]
[null,null,null,null,null,null,null,null,null,null,null,null,null,null,"000000000","(All)","06","01",null,null,"0601","000000000 - (All)"]
[null,null,null,null,null,null,null,null,null,null,null,null,null,null,"000002402","CHAMACA","06","01","07","03","0601","000002402 - CHAMACA"]
[null,null,null,null,null,null,null,null,null,null,null,null,null,null,"000002403","AÑAHUICHI","06","01","07","03","0601","000002403 - AÑAHUICHI"]
[null,null,null,null,null,null,null,null,null,null,null,null,null,null,"000002406","LIVITACA","06","01","07","05","0601","000002406 - LIVITACA"]
[null,null,null,null,null,null,null,null,null,null,null,null,null,null,"000016325","CHILLOROYA - LIVITACA","06","01","07","05","0601","000016325 - CHILLOROYA - LIVITACA"]
[null,null,null,null,null,null,null,null,null,null,null,null,null,null,"000016327","AUSANTA","06","01","07","05","0601","000016327 - AUSANTA"]
[null,null,null,null,null,null,null,null,null,null,null,null,null,null,"000016328","UCCHUCCARCCO","06","01","07","03","0601","000016328 - UCCHUCCARCCO"]
[null,null,null,null,null,null,null,null,null,null,null,null,null,null,"000016329","INGATA","06","01","07","03","0601","000016329 - INGATA"]
[null,null,null,null,null,null,null,null,null,null,null,null,null,null,"000016330","CCONCHACCOLLO","06","01","07","03","0601","000016330 - CCONCHACCOLLO"]
[null,null,null,null,null,null,null,null,null,null,null,null,null,null,"000016332","PATAQUEÑA - LIVITACA","06","01","07","05","0601","000016332 - PATAQUEÑA - LIVITACA"]
[null,null,null,null,null,null,null,null,null,null,null,null,null,null,"000016334","KISIO","06","01","07","05","0601","000016334 - KISIO"]
[null,null,null,null,null,null,null,null,null,null,null,null,null,null,"000025739","PISQUICOCHA","06","01","07","05","0601","000025739 - PISQUICOCHA"]
[null,null,null,null,null,null,null,null,null,null,null,null,null,null,"000025740","TOTORA - REYNA DE LOS ANGELES","06","01","07","05","0601","000025740 - TOTORA - REYNA DE LOS ANGELES"]
[null,null,null,null,null,null,null,null,null,null,null,null,null,null,"000000000","(All)","06","09",null,null,"0609","000000000 - (All)"]
[null,null,null,null,null,null,null,null,null,null,null,null,null,null,"000002399","PULPERA","06","09","07","01","0609","000002399 - PULPERA"]
[null,null,null,null,null,null,null,null,null,null,null,null,null,null,"000002400","ALHUACCHULLO","06","09","07","01","0609","000002400 - ALHUACCHULLO"]
[null,null,null,null,null,null,null,null,null,null,null,null,null,null,"000002401","CCAPACMARCA","06","09","07","02","0609","000002401 - CCAPACMARCA"]
[null,null,null,null,null,null,null,null,null,null,null,null,null,null,"000002404","COLQUEMARCA","06","09","07","04","0609","000002404 - COLQUEMARCA"]
[null,null,null,null,null,null,null,null,null,null,null,null,null,null,"000002405","CHARAMURAY","06","09","07","04","0609","000002405 - CHARAMURAY"]
[null,null,null,null,null,null,null,null,null,null,null,null,null,null,"000002407","LLUSCO","06","09","07","06","0609","000002407 - LLUSCO"]
[null,null,null,null,null,null,null,null,null,null,null,null,null,null,"000002408","QUIÑOTA","06","09","07","07","0609","000002408 - QUIÑOTA"]
[null,null,null,null,null,null,null,null,null,null,null,null,null,null,"000002409","VELILLE","06","09","07","08","0609","000002409 - VELILLE"]
[null,null,null,null,null,null,null,null,null,null,null,null,null,null,"000006746","LLIQUE","06","09","07","01","0609","000006746 - LLIQUE"]
[null,null,null,null,null,null,null,null,null,null,null,null,null,null,"000006747","LUTTO","06","09","07","06","0609","000006747 - LUTTO"]
[null,null,null,null,null,null,null,null,null,null,null,null,null,null,"000006748","COLLPA","06","09","07","06","0609","000006748 - COLLPA"]
[null,null,null,null,null,null,null,null,null,null,null,null,null,null,"000006981","CCOYO","06","09","07","01",{"$f":"CONCATENATE(Q422,R422)","v":"0609"},{"$f":"CONCATENATE(O422,\" - \",P422)","v":"000006981 - CCOYO"}]
[null,null,null,null,null,null,null,null,null,null,null,null,null,null,"000006982","MELLOTOTORA","06","09","07","01","0609","000006982 - MELLOTOTORA"]
[null,null,null,null,null,null,null,null,null,null,null,null,null,null,"000006983","ORCCOMA","06","09","07","01","0609","000006983 - ORCCOMA"]
[null,null,null,null,null,null,null,null,null,null,null,null,null,null,"000006984","CCOLLANA","06","09","07","07","0609","000006984 - CCOLLANA"]
[null,null,null,null,null,null,null,null,null,null,null,null,null,null,"000006985","TOTORAPALLCA","06","09","07","06","0609","000006985 - TOTORAPALLCA"]
[null,null,null,null,null,null,null,null,null,null,null,null,null,null,"000007111","YAVINA","06","09","07","01","0609","000007111 - YAVINA"]
[null,null,null,null,null,null,null,null,null,null,null,null,null,null,"000007112","YORENCCA","06","09","07","07","0609","000007112 - YORENCCA"]
[null,null,null,null,null,null,null,null,null,null,null,null,null,null,"000008912","ALCCA VICTORIA","06","09","07","08","0609","000008912 - ALCCA VICTORIA"]
[null,null,null,null,null,null,null,null,null,null,null,null,null,null,"000008913","HUARACO","06","09","07","04","0609","000008913 - HUARACO"]
[null,null,null,null,null,null,null,null,null,null,null,null,null,null,"000008914","HUAYLLANI","06","09","07","04","0609","000008914 - HUAYLLANI"]
[null,null,null,null,null,null,null,null,null,null,null,null,null,null,"000008915","PFULLPURI CONDEPAMPA","06","09","07","01","0609","000008915 - PFULLPURI CONDEPAMPA"]
[null,null,null,null,null,null,null,null,null,null,null,null,null,null,"000009963","CANCAHUANI","06","09","07","02","0609","000009963 - CANCAHUANI"]
[null,null,null,null,null,null,null,null,null,null,null,null,null,null,"000012932","YANQUE","06","09","07","04","0609","000012932 - YANQUE"]
[null,null,null,null,null,null,null,null,null,null,null,null,null,null,"000013185","CAP I SANTO TOMÁS  ESSALUD","06","09","07","01","0609","000013185 - CAP I SANTO TOMÁS  ESSALUD"]
[null,null,null,null,null,null,null,null,null,null,null,null,null,null,"000025369","PUMALLACTA","06","09","07","07","0609","000025369 - PUMALLACTA"]
[null,null,null,null,null,null,null,null,null,null,null,null,null,null,"000025371","TUNTUMA","06","09","07","08","0609","000025371 - TUNTUMA"]
[null,null,null,null,null,null,null,null,null,null,null,null,null,null,"000027008","ANTUYO","06","09","07","06","0609","000027008 - ANTUYO"]
[null,null,null,null,null,null,null,null,null,null,null,null,null,null,"000027009","TAHUAY","06","09","07","02","0609","000027009 - TAHUAY"]
[null,null,null,null,null,null,null,null,null,null,null,null,null,null,"000027011","AYACCASI","06","09","07","08","0609","000027011 - AYACCASI"]
[null,null,null,null,null,null,null,null,null,null,null,null,null,null,"000027016","HUAYCUÑUTA - URCURUTA","06","09","07","08","0609","000027016 - HUAYCUÑUTA - URCURUTA"]
[null,null,null,null,null,null,null,null,null,null,null,null,null,null,"000030940","ARCANGEL SAN MIGUEL DE ESQUINA CONGUNYA","06","09","07","01","0609","000030940 - ARCANGEL SAN MIGUEL DE ESQUINA CONGUNYA"]
[null,null,null,null,null,null,null,null,null,null,null,null,null,null,"999999999","(All)","06","99",null,null,"0699","999999999 - (All)"]
[null,null,null,null,null,null,null,null,null,null,null,null,null,null,"999999999","(All)","99","99",null,null,"9999","999999999 - (All)"]

{"sheet":"Datos (2)","index":5,"n_rows":408,"n_cols":65,"rows_kept":408,"cut":false,"hidden":true,"merged":[]}
[]
[]
[]
[]
[]
[]
[]
[null,null,null,null,null,null,null,null,null,null,null,null,null,null,null,null,null,null,null,null,null,null,null,null,null,null,null,null,null,null,null,null,null,null,2015,null,null,2015,null,null,null,2019]
[null,"ANO",null,"MESES",null,"COD_RED","DESC_RED","CONCATENAR",null,"COD_RED","COD_MIC","DESC_MICRO","CONCATENAR",null,"COD_ESTAB","DESC_ESTAB","COD_RED","COD_MIC","COD_PROV","COD_DIST","REDMIC","CONCATENAR",null,"COD_PROV","DESC_PROV","CONCATENAR",null,"COD_PROV","COD_DIST","DESC_DIST","PROVDIST","CONCATENAR",null,null,"COD_ESTAB","DESC_ESTAB",null,"COD_RED","COD_MIC","DESC_MICRO",null,{"$f":"+O9","v":"COD_ESTAB"},{"$f":"+P9","v":"DESC_ESTAB"},"COD_RED","COD_MIC","COD_PROV","COD_DIST","COD_EJE",null,null,"COD_ESTAB","DESC_ESTAB","COD_2000","TIPOESTAB","COD_DPTO","COD_PROV","COD_DIST","COD_DISA","COD_RED","COD_MIC","COD_EJE","UBISAN","UBIGEO"]
[null,2020,null,"01-Enero",null,"00","NO TIENE ASIGNADO NINGUNA RED",{"$f":"CONCATENATE(F10,\" - \",G10)","v":"00 - NO TIENE ASIGNADO NINGUNA RED"},null,"00","00","NO PERTENECE A NINGUNA MICRORED                                                                     ",{"$f":"CONCATENATE(J10,K10,\" - \",L10)","v":"0000 - NO PERTENECE A NINGUNA MICRORED                                                                     "},null,"000000000","(All)","00","00",null,null,{"$f":"CONCATENATE(Q10,R10)","v":"0000"},{"$f":"CONCATENATE(O10,\" - \",P10)","v":"000000000 - (All)"},null,"00","(All)",{"$f":"CONCATENATE(X10,\" - \",Y10)","v":"00 - (All)"},null,"01","00","(All)",{"$f":"CONCATENATE(AB10,AC10)","v":"0100"},{"$f":"CONCATENATE(AB10,AC10,\" - \",AD10)","v":"0100 - (All)"},null,null,null,null,null,null,null,"(All)",null,{"$f":"+O10","v":"000000000"},{"$f":"TRIM(P10)","v":"(All)"},"00","00",0,0,null,null,null,"000002289","HOSPITAL DE APOYO DEPARTAMENTAL CUSCO",{"$f":"VALUE(AY10)","v":2289},null,"08","01","01","11","00","00","01",{"$f":"CONCATENATE(BF10,BG10,BH10)","v":"110000"},{"$f":"CONCATENATE(BC10,BD10,BE10)","v":"080101"},null,{"$f":"CONCATENATE(\"INSERT INTO ESTABLEC VALUES('\",AY10,\"','\",AZ10,\"',\",BA10,\",'\",BB10,\"','\",BC10,\"','\",BD10,\"','\",BE10,\"','\",BF10,\"','\",BG10,\"','\",BH10,\"','\",BI10,,\"','\",BJ10,\"','\",BK10,\"')\")","v":"INSERT INTO ESTABLEC VALUES('000002289','HOSPITAL DE APOYO DEPARTAMENTAL CUSCO',2289,'','08','01','01','11','00','00','01','110000','080101')"}]
[null,null,null,"02-Febrero",null,"01","CUSCO SUR",{"$f":"CONCATENATE(F11,\" - \",G11)","v":"01 - CUSCO SUR"},null,"00","99","(All)","0099 - (All)",null,"000002289","HOSPITAL DE APOYO DEPARTAMENTAL CUSCO                                                               ","00","00","01","01",{"$f":"CONCATENATE(Q11,R11)","v":"0000"},{"$f":"CONCATENATE(O11,\" - \",P11)","v":"000002289 - HOSPITAL DE APOYO DEPARTAMENTAL CUSCO                                                               "},null,"01","CUSCO",{"$f":"CONCATENATE(X11,\" - \",Y11)","v":"01 - CUSCO"},null,"01","01","CUSCO",{"$f":"CONCATENATE(AB11,AC11)","v":"0101"},{"$f":"CONCATENATE(AB11,AC11,\" - \",AD11)","v":"0101 - CUSCO"},null,null,"000002289","HOSPITAL DE APOYO DEPARTAMENTAL CUSCO",null,"00","00","ESTABLECIMIENTO QUE NO PERTENECE A NINGUNA MICRORED",null,"000002289",{"$f":"TRIM(P11)","v":"HOSPITAL DE APOYO DEPARTAMENTAL CUSCO"},"00","00","01","01","01",null,null,"000002290","SAN PEDRO CUSCO",2290,null,"08","01","01","11","02","09","04","110209","080101",null,{"$f":"CONCATENATE(\"INSERT INTO ESTABLEC VALUES('\",AY11,\"','\",AZ11,\"',\",BA11,\",'\",BB11,\"','\",BC11,\"','\",BD11,\"','\",BE11,\"','\",BF11,\"','\",BG11,\"','\",BH11,\"','\",BI11,,\"','\",BJ11,\"','\",BK11,\"')\")","v":"INSERT INTO ESTABLEC VALUES('000002290','SAN PEDRO CUSCO',2290,'','08','01','01','11','02','09','04','110209','080101')"}]
[null,null,null,"03-Marzo",null,"02","CUSCO NORTE","02 - CUSCO NORTE",null,"01","00","NO PERTENECE A NINGUNA MICRORED                                                                     ","0100 - NO PERTENECE A NINGUNA MICRORED                                                                     ",null,"000002305","ANTONIO LORENA DEL CUSCO                                                                            ","00","00","01","06","0000","000002305 - ANTONIO LORENA DEL CUSCO                                                                            ",null,"02","ACOMAYO",{"$f":"CONCATENATE(X12,\" - \",Y12)","v":"02 - ACOMAYO"},null,"01","02","CCORCA","0102","0102 - CCORCA",null,null,"000002296","CHEQUERACCAY",null,null,null,"(All)",null,"000002305","ANTONIO LORENA DEL CUSCO","00","00","01","06","02",null,null,"000002291","SIETE CUARTONES",2291,null,"08","01","01","11","02","09","04","110209","080101",null,"INSERT INTO ESTABLEC VALUES('000002291','SIETE CUARTONES',2291,'','08','01','01','11','02','09','04','110209','080101')"]
[null,null,null,"04-Abril",null,"03","LA CONVENCION","03 - LA CONVENCION",null,"01","16","CUSCO                                                                                               ","0116 - CUSCO                                                                                               ",null,"999999999","(All)","00","99",null,null,"0099","999999999 - (All)",null,"03","ANTA","03 - ANTA",null,"01","03","POROY","0103","0103 - POROY",null,null,"000002298","CCORCA AYLLU",null,"01","01","SAN JERONIMO",null,"999999999","(All)","00","99",0,0,"03",null,null,"000002292","INDEPENDENCIA",2292,null,"08","01","01","11","02","01","04","110201","080101",null,"INSERT INTO ESTABLEC VALUES('000002292','INDEPENDENCIA',2292,'','08','01','01','11','02','01','04','110201','080101')"]
[null,null,null,"05-Mayo",null,"04","CANAS-CANCHIS-ESPINAR","04 - CANAS-CANCHIS-ESPINAR",null,"01","03","PARURO                                                                                              ","0103 - PARURO                                                                                              ",null,"000025210","TUPAC AMARU","01","00","01","05","0100","000025210 - TUPAC AMARU",null,"04","CALCA","04 - CALCA",null,"01","04","SAN JERONIMO","0104","0104 - SAN JERONIMO",null,null,"000002305","ANTONIO LORENA",null,"01","02","SAN SEBASTIAN",null,"000025210","TUPAC AMARU","01","00","01","05","03",null,null,"000002293","MIRAFLORES",2293,null,"08","01","01","11","02","09","04","110209","080101",null,"INSERT INTO ESTABLEC VALUES('000002293','MIRAFLORES',2293,'','08','01','01','11','02','09','04','110209','080101')"]
[null,null,null,"06-Junio",null,"05","KIMBIRI PICHARI","05 - KIMBIRI PICHARI",null,"01","06","PAUCARTAMBO                                                                                         ","0106 - PAUCARTAMBO                                                                                         ",null,"000000000","(All)","01","16",null,null,"0116","000000000 - (All)",null,"05","CANAS","05 - CANAS",null,"01","05","SAN SEBASTIAN","0105","0105 - SAN SEBASTIAN",null,null,"000002311","CHOCCO (COMUNIDAD)",null,"01","03","PARURO",null,"000000000","(All)","01","16",0,0,"03",null,null,"000002294","PICCHU LA RINCONADA",2294,null,"08","01","01","11","02","09","04","110209","080101",null,"INSERT INTO ESTABLEC VALUES('000002294','PICCHU LA RINCONADA',2294,'','08','01','01','11','02','09','04','110209','080101')"]
[null,null,null,"07-Julio",null,"06","CHUMBIVILCAS","06 - CHUMBIVILCAS",null,"01","12","URCOS                                                                                               ","0112 - URCOS                                                                                               ",null,"000002300","SAN JERONIMO                                                                                        ","01","16","01","04","0116","000002300 - SAN JERONIMO                                                                                        ",null,"06","CANCHIS","06 - CANCHIS",null,"01","06","SANTIAGO","0106","0106 - SANTIAGO",null,null,"000002312","CHECCOPERCCA",null,"01","04","ACCHA",null,"000002300","SAN JERONIMO","01","16","01","04","03",null,null,"000002295","BUENA VISTA",2295,null,"08","01","01","11","02","09","04","110209","080101",null,"INSERT INTO ESTABLEC VALUES('000002295','BUENA VISTA',2295,'','08','01','01','11','02','09','04','110209','080101')"]
[null,null,null,"08-Agosto",null,"99","(All)","99 - (All)",null,"01","13","ACOMAYO                                                                                             ","0113 - ACOMAYO                                                                                             ",null,"000002301","SAN SEBASTIAN                                                                                       ","01","16","01","05","0116","000002301 - SAN SEBASTIAN                                                                                       ",null,"07","CHUMBIVILCAS","07 - CHUMBIVILCAS",null,"01","07","SAYLLA","0107","0107 - SAYLLA",null,null,"000002335","RAHUANQUI",null,"01","05","YAURISQUE",null,"000002301","SAN SEBASTIAN","01","16","01","05","03",null,null,"000002297","CCORCCA",2297,null,"08","01","02","11","02","01","04","110201","080102",null,"INSERT INTO ESTABLEC VALUES('000002297','CCORCCA',2297,'','08','01','02','11','02','01','04','110201','080102')"]
[null,null,null,"09-Setiembre",null,null,null,null,null,"01","15","OCONGATE                                                                                            ","0115 - OCONGATE                                                                                            ",null,"000002303","SANTA ROSA                                                                                          ","01","16","01","05","0116","000002303 - SANTA ROSA                                                                                          ",null,"08","ESPINAR","08 - ESPINAR",null,"01","08","WANCHAQ","0108","0108 - WANCHAQ",null,null,"000002368","KUNTURKANKI",null,"01","06","PAUCARTAMBO",null,"000002303","SANTA ROSA","01","16","01","05","03",null,null,"000002299","POROY",2299,null,"08","01","03","11","02","09","04","110209","080103",null,"INSERT INTO ESTABLEC VALUES('000002299','POROY',2299,'','08','01','03','11','02','09','04','110209','080103')"]
[null,null,null,"10-Octubre",null,null,null,null,null,"01","99","(All)","0199 - (All)",null,"000002304","TUPAC AMARU                                                                                         ","01","16","01","05","0116","000002304 - TUPAC AMARU                                                                                         ",null,"09","LA CONVENCION","09 - LA CONVENCION",null,"02","00","(All)","0200","0200 - (All)",null,null,"000002459","CHAULLAY",null,"01","07","KOSÑIPATA",null,"000002304","TUPAC AMARU","01","16","01","05","03",null,null,"000002300","SAN JERONIMO",2300,null,"08","01","04","11","01","16","03","110116","080104",null,"INSERT INTO ESTABLEC VALUES('000002300','SAN JERONIMO',2300,'','08','01','04','11','01','16','03','110116','080104')"]
[null,null,null,"11-Noviembre",null,"EJECUTORAS",null,null,null,"02","01","BELEMPAMPA                                                                                          ","0201 - BELEMPAMPA                                                                                          ",null,"000002314","SAYLLA                                                                                              ","01","16","01","07","0116","000002314 - SAYLLA                                                                                              ",null,"10","PARURO","10 - PARURO",null,"02","01","ACOMAYO","0201","0201 - ACOMAYO",null,null,"000002531","TINTINCO",null,"01","08","HUANCARANI",null,"000002314","SAYLLA","01","16","01","07","03",null,null,"000002301","SAN SEBASTIAN",2301,null,"08","01","05","11","01","16","03","110116","080105",null,"INSERT INTO ESTABLEC VALUES('000002301','SAN SEBASTIAN',2301,'','08','01','05','11','01','16','03','110116','080105')"]
[null,null,null,"12-Diciembre",null,"COD_RED","DESC_RED","CONCATENAR",null,"02","02","WANCHAQ                                                                                             ","0202 - WANCHAQ                                                                                             ",null,"000002323","RONDOCAN                                                                                            ","01","16","02","06","0116","000002323 - RONDOCAN                                                                                            ",null,"11","PAUCARTAMBO","11 - PAUCARTAMBO",null,"02","02","ACOPIA","0202","0202 - ACOPIA",null,null,"000000000","(All)",null,"01","09","SANTO TOMAS",null,"000002323","RONDOCAN","01","16","02","06","03",null,null,"000002302","CCORAO",2302,null,"08","01","05","11","02","02","04","110202","080105",null,"INSERT INTO ESTABLEC VALUES('000002302','CCORAO',2302,'','08','01','05','11','02','02','04','110202','080105')"]
[null,null,null,null,null,"01","HOSPITAL REGIONAL CUSCO",{"$f":"CONCATENATE(F22,\" - \",G22)","v":"01 - HOSPITAL REGIONAL CUSCO"},null,"02","03","ANTA                                                                                                ","0203 - ANTA                                                                                                ",null,"000007699","CONCHACALLE                                                                                         ","01","16","01","04","0116","000007699 - CONCHACALLE                                                                                         ",null,"12","QUISPICANCHI","12 - QUISPICANCHI",null,"02","03","ACOS","0203","0203 - ACOS",null,null,"000002300","SAN JERONIMO",null,"01","10","VELILLE",null,"000007699","CONCHACALLE","01","16","01","04","03",null,null,"000002303","SANTA ROSA",2303,null,"08","01","05","11","01","16","03","110116","080105",null,"INSERT INTO ESTABLEC VALUES('000002303','SANTA ROSA',2303,'','08','01','05','11','01','16','03','110116','080105')"]
[null,null,null,null,null,"02","HOSPITAL ANTONIO LORENA",{"$f":"CONCATENATE(F23,\" - \",G23)","v":"02 - HOSPITAL ANTONIO LORENA"},null,"02","04","LIMATAMBO                                                                                           ","0204 - LIMATAMBO                                                                                           ",null,"000026181","MENTAL SAN SEBASTIAN","01","16","01","04","0116","000026181 - MENTAL SAN SEBASTIAN",null,"13","URUBAMBA","13 - URUBAMBA",null,"02","04","MOSOC LLACTA","0204","0204 - MOSOC LLACTA",null,null,"000002314","SAYLLA",null,"01","11","COLQUEMARCA",null,"000026181","MENTAL SAN SEBASTIAN","01","16","01","04","03",null,null,"000002304","TUPAC AMARU",2304,null,"08","01","05","11","01","16","03","110116","080105",null,"INSERT INTO ESTABLEC VALUES('000002304','TUPAC AMARU',2304,'','08','01','05','11','01','16','03','110116','080105')"]
[null,null,null,null,null,"03","CUSCO SUR","03 - CUSCO SUR",null,"02","05","PISAC                                                                                               ","0205 - PISAC                                                                                               ",null,"000000000","(All)","01","03",null,null,"0103","000000000 - (All)",null,null,null,null,null,"02","05","POMACANCHI","0205","0205 - POMACANCHI",null,null,"000002512","CAICAY",null,"01","12","URCOS",null,"000000000","(All)","01","03",0,0,"03",null,null,"000002305","ANTONIO LORENA DEL CUSCO",2305,null,"08","01","06","11","00","00","02","110000","080106",null,"INSERT INTO ESTABLEC VALUES('000002305','ANTONIO LORENA DEL CUSCO',2305,'','08','01','06','11','00','00','02','110000','080106')"]
[null,null,null,null,null,"04","CUSCO NORTE","04 - CUSCO NORTE",null,"02","06","CALCA                                                                                               ","0206 - CALCA                                                                                               ",null,"000002499","PARURO                                                                                              ","01","03",10,"01","0103","000002499 - PARURO                                                                                              ",null,null,null,null,null,"02","06","RONDOCAN","0206","0206 - RONDOCAN",null,null,"000002534","LUCRE",null,"01","13","ACOMAYO",null,"000002499","PARURO",{"$f":"+Q25","v":"01"},"03",10,"01","03",null,null,"000002306","BELEMPAMPA",2306,null,"08","01","06","11","02","01","04","110201","080106",null,"INSERT INTO ESTABLEC VALUES('000002306','BELEMPAMPA',2306,'','08','01','06','11','02','01','04','110201','080106')"]
[null,null,null,null,null,"05","LA CONVENCION","05 - LA CONVENCION",null,"02","07","URUBAMBA                                                                                            ","0207 - URUBAMBA                                                                                            ",null,"000002500","ACCHA                                                                                               ","01","03",10,"02","0103","000002500 - ACCHA                                                                                               ",null,null,null,null,null,"02","07","SANGARARA","0207","0207 - SANGARARA",null,null,"000002537","OROPESA",null,"01","14","POMACANCHI",null,"000002500","ACCHA","01","03",10,"02","03",null,null,"000002307","MANCO CAPAC",2307,null,"08","01","08","11","02","02","04","110202","080108",null,"INSERT INTO ESTABLEC VALUES('000002307','MANCO CAPAC',2307,'','08','01','08','11','02','02','04','110202','080108')"]
[null,null,null,null,null,"06","HOSPITAL QUILLABAMBA","06 - HOSPITAL QUILLABAMBA",null,"02","08","YANATILE                                                                                            ","0208 - YANATILE                                                                                            ",null,"000002501","CCAPI                                                                                               ","01","03",10,"03","0103","000002501 - CCAPI                                                                                               ",null,null,null,null,null,"03","00","(All)","0300","0300 - (All)",null,null,"000007699","CONCHACALLE",null,"01","15","OCONGATE",null,"000002501","CCAPI","01","03",10,"03","03",null,null,"000002308","ZARZUELA ALTA",2308,null,"08","01","06","11","02","01","04","110201","080106",null,"INSERT INTO ESTABLEC VALUES('000002308','ZARZUELA ALTA',2308,'','08','01','06','11','02','01','04','110201','080106')"]
[null,null,null,null,null,"07","CANAS CANCHIS ESPINAR","07 - CANAS CANCHIS ESPINAR",null,"02","09","SIETE CUARTONES                                                                                     ","0209 - SIETE CUARTONES                                                                                     ",null,"000002502","CCOYABAMBA                                                                                          ","01","03",10,"03","0103","000002502 - CCOYABAMBA                                                                                          ",null,null,null,null,null,"03","01","ANTA","0301","0301 - ANTA",null,null,"000000000","(All)",null,null,null,"(All)",null,"000002502","CCOYABAMBA","01","03",10,"03","03",null,null,"000002309","DIGNIDAD NACIONAL",2309,null,"08","01","06","11","02","01","04","110201","080106",null,"INSERT INTO ESTABLEC VALUES('000002309','DIGNIDAD NACIONAL',2309,'','08','01','06','11','02','01','04','110201','080106')"]
[null,null,null,null,null,"08","HOSPITAL SICUANI","08 - HOSPITAL SICUANI",null,"02","99","(All)","0299 - (All)",null,"000002503","COLCHA                                                                                              ","01","03",10,"04","0103","000002503 - COLCHA                                                                                              ",null,null,null,null,null,"03","02","ANCAHUASI","0302","0302 - ANCAHUASI",null,null,"000002301","SAN SEBASTIAN",null,"02","01","BELEMPAMPA",null,"000002503","COLCHA","01","03",10,"04","03",null,null,"000002310","CHOCCO",2310,null,"08","01","06","11","02","02","04","110202","080106",null,"INSERT INTO ESTABLEC VALUES('000002310','CHOCCO',2310,'','08','01','06','11','02','02','04','110202','080106')"]
[null,null,null,null,null,"09","HOSPITAL ESPINAR","09 - HOSPITAL ESPINAR",null,"03","00","NO PERTENECE A NINGUNA MICRORED                                                                     ","0300 - NO PERTENECE A NINGUNA MICRORED                                                                     ",null,"000002504","HUANOQUITE                                                                                          ","01","03",10,"05","0103","000002504 - HUANOQUITE                                                                                          ",null,null,null,null,null,"03","03","CACHIMAYO","0303","0303 - CACHIMAYO",null,null,"000002303","SANTA ROSA",null,"02","02","WANCHAQ",null,"000002504","HUANOQUITE","01","03",10,"05","03",null,null,"000002313","OCCOPATA",2313,null,"08","01","06","11","02","01","04","110201","080106",null,"INSERT INTO ESTABLEC VALUES('000002313','OCCOPATA',2313,'','08','01','06','11','02','01','04','110201','080106')"]
[null,null,null,null,null,"10","KIMBIRI PICHARI","10 - KIMBIRI PICHARI",null,"03","01","SANTA ANA                                                                                           ","0301 - SANTA ANA                                                                                           ",null,"000002505","OMACHA                                                                                              ","01","03",10,"06","0103","000002505 - OMACHA                                                                                              ",null,null,null,null,null,"03","04","CHINCHAYPUJIO","0304","0304 - CHINCHAYPUJIO",null,null,"000002304","TUPAC AMARU",null,"02","03","ANTA",null,"000002505","OMACHA","01","03",10,"06","03",null,null,"000002314","SAYLLA",2314,null,"08","01","07","11","01","16","03","110116","080107",null,"INSERT INTO ESTABLEC VALUES('000002314','SAYLLA',2314,'','08','01','07','11','01','16','03','110116','080107')"]
[null,null,null,null,null,"11","CHUMBIVILCAS","11 - CHUMBIVILCAS",null,"03","02","MARANURA                                                                                            ","0302 - MARANURA                                                                                            ",null,"000002506","ANTAPALLPA                                                                                          ","01","03",10,"06","0103","000002506 - ANTAPALLPA                                                                                          ",null,null,null,null,null,"03","05","HUAROCONDO","0305","0305 - HUAROCONDO",null,null,"000000000","(All)",null,"02","04","LIMATAMBO",null,"000002506","ANTAPALLPA","01","03",10,"06","03",null,null,"000002315","WANCHAQ",2315,null,"08","01","08","11","02","02","04","110202","080108",null,"INSERT INTO ESTABLEC VALUES('000002315','WANCHAQ',2315,'','08','01','08','11','02','02','04','110202','080108')"]
[null,null,null,null,null,"99","(ALL)",{"$f":"CONCATENATE(F33,\" - \",G33)","v":"99 - (ALL)"},null,"03","03","QUELLOUNO                                                                                           ","0303 - QUELLOUNO                                                                                           ",null,"000002507","PACCARECTAMBO                                                                                       ","01","03",10,"07","0103","000002507 - PACCARECTAMBO                                                                                       ",null,null,null,null,null,"03","06","LIMATAMBO","0306","0306 - LIMATAMBO",null,null,"000002323","RONDOCAN",null,"02","05","PISAC",null,"000002507","PACCARECTAMBO","01","03",10,"07","03",null,null,"000002316","TTIO",2316,null,"08","01","08","11","02","02","04","110202","080108",null,"INSERT INTO ESTABLEC VALUES('000002316','TTIO',2316,'','08','01','08','11','02','02','04','110202','080108')"]
[null,null,null,null,null,null,null,null,null,"03","04","KITENI                                                                                              ","0304 - KITENI                                                                                              ",null,"000002509","YAURISQUE                                                                                           ","01","03",10,"09","0103","000002509 - YAURISQUE                                                                                           ",null,null,null,null,null,"03","07","MOLLEPATA","0307","0307 - MOLLEPATA",null,null,"000002499","PARURO",null,"02","06","CALCA",null,"000002509","YAURISQUE","01","03",10,"09","03",null,null,"000002317","ACOMAYO",2317,null,"08","02","01","11","01","13","03","110113","080201",null,"INSERT INTO ESTABLEC VALUES('000002317','ACOMAYO',2317,'','08','02','01','11','01','13','03','110113','080201')"]
[null,null,null,null,null,null,null,null,null,"03","05","KAMISEA                                                                                             ","0305 - KAMISEA                                                                                             ",null,"000006978","CCOCHIRIHUAY                                                                                        ","01","03",10,"04","0103","000006978 - CCOCHIRIHUAY                                                                                        ",null,null,null,null,null,"03","08","PUCYURA","0308","0308 - PUCYURA",null,null,"000002503","COLCHA",null,"02","07","URUBAMBA",null,"000006978","CCOCHIRIHUAY","01","03",10,"04","03",null,null,"000002318","ACOPIA",2318,null,"08","02","02","11","01","13","03","110113","080202",null,"INSERT INTO ESTABLEC VALUES('000002318','ACOPIA',2318,'','08','02','02','11','01','13','03','110113','080202')"]
[null,null,null,null,null,null,null,null,null,"03","06","PUCYURA                                                                                             ","0306 - PUCYURA                                                                                             ",null,"000007147","HUASQUILLAY                                                                                         ","01","03",10,"06","0103","000007147 - HUASQUILLAY                                                                                         ",null,null,null,null,null,"03","09","ZURITE","0309","0309 - ZURITE",null,null,"000006978","CCOCHIRIHUAY",null,"02","08","YANATILE",null,"000007147","HUASQUILLAY","01","03",10,"06","03",null,null,"000002319","ACOS",2319,null,"08","02","03","11","01","13","03","110113","080203",null,"INSERT INTO ESTABLEC VALUES('000002319','ACOS',2319,'','08','02','03','11','01','13','03','110113','080203')"]
[null,null,null,null,null,null,null,null,null,"03","07","PALMA REAL","0307 - PALMA REAL",null,"000012924","SAHUA SAHUA                                                                                         ","01","03",10,"06","0103","000012924 - SAHUA SAHUA                                                                                         ",null,null,null,null,null,"04","00","(All)","0400","0400 - (All)",null,null,"000000000","(All)",null,"02","09","SIETE CUARTONES",null,"000012924","SAHUA SAHUA","01","03",10,"06","03",null,null,"000002320","MOSOCLLACTA",2320,null,"08","02","04","11","04","03","07","110403","080204",null,"INSERT INTO ESTABLEC VALUES('000002320','MOSOCLLACTA',2320,'','08','02','04','11','04','03','07','110403','080204')"]
[null,null,null,null,null,null,null,null,null,"03","99","(All)","0399 - (All)",null,"000000000","(All)","01","06",null,null,"0106","000000000 - (All)",null,null,null,null,null,"04","01","CALCA","0401","0401 - CALCA",null,null,"000002500","ACCHA",null,null,null,"(All)",null,"000000000","(All)","01","06",0,0,"03",null,null,"000002321","POMACANCHI",2321,null,"08","02","05","11","01","13","03","110113","080205",null,"INSERT INTO ESTABLEC VALUES('000002321','POMACANCHI',2321,'','08','02','05','11','01','13','03','110113','080205')"]
[null,null,null,null,null,null,null,null,null,"04","00","NO PERTENECE A NINGUNA MICRORED                                                                     ","0400 - NO PERTENECE A NINGUNA MICRORED                                                                     ",null,"000002510","PAUCARTAMBO                                                                                         ","01","06",11,"01","0106","000002510 - PAUCARTAMBO                                                                                         ",null,null,null,null,null,"04","02","COYA","0402","0402 - COYA",null,null,"000002505","OMACHA",null,"03","01","SANTA ANA",null,"000002510","PAUCARTAMBO","01","06",11,"01","03",null,null,"000002322","SAN JUAN DE POMACANCHI",2322,null,"08","02","05","11","01","13","03","110113","080205",null,"INSERT INTO ESTABLEC VALUES('000002322','SAN JUAN DE POMACANCHI',2322,'','08','02','05','11','01','13','03','110113','080205')"]
[null,null,null,null,null,null,null,null,null,"04","01","YANAOCA                                                                                             ","0401 - YANAOCA                                                                                             ",null,"000002511","MOLLOMARCA                                                                                          ","01","06",11,"01","0106","000002511 - MOLLOMARCA                                                                                          ",null,null,null,null,null,"04","03","LAMAY","0403","0403 - LAMAY",null,null,"000002506","ANTAPALLPA",null,"03","02","MARANURA",null,"000002511","MOLLOMARCA","01","06",11,"01","03",null,null,"000002323","RONDOCAN",2323,null,"08","02","06","11","01","16","03","110116","080206",null,"INSERT INTO ESTABLEC VALUES('000002323','RONDOCAN',2323,'','08','02','06','11','01','16','03','110116','080206')"]
[null,null,null,null,null,null,null,null,null,"04","02","EL DESCANSO                                                                                         ","0402 - EL DESCANSO                                                                                         ",null,"000002512","CAICAY                                                                                              ","01","06",11,"02","0106","000002512 - CAICAY                                                                                              ",null,null,null,null,null,"04","04","LARES","0404","0404 - LARES",null,null,"000007147","HUASQUILLAY",null,"03","03","QUELLOUNO",null,"000002512","CAICAY","01","06",11,"02","03",null,null,"000002324","SANGARARA",2324,null,"08","02","07","11","01","13","03","110113","080207",null,"INSERT INTO ESTABLEC VALUES('000002324','SANGARARA',2324,'','08','02','07','11','01','13','03','110113','080207')"]
[null,null,null,null,null,null,null,null,null,"04","03","COMBAPATA                                                                                           ","0403 - COMBAPATA                                                                                           ",null,"000002513","HUASAC                                                                                              ","01","06",11,"02","0106","000002513 - HUASAC                                                                                              ",null,null,null,null,null,"04","05","PISAC","0405","0405 - PISAC",null,null,"000012924","SAHUA SAHUA",null,"03","04","KITENI",null,"000002513","HUASAC","01","06",11,"02","03",null,null,"000002325","MARCACONGA",2325,null,"08","02","07","11","01","13","03","110113","080207",null,"INSERT INTO ESTABLEC VALUES('000002325','MARCACONGA',2325,'','08','02','07','11','01','13','03','110113','080207')"]
[null,null,null,null,null,null,null,null,null,"04","04","TECHO OBRERO                                                                                        ","0404 - TECHO OBRERO                                                                                        ",null,"000002514","CHALLABAMBA                                                                                         ","01","06",11,"03","0106","000002514 - CHALLABAMBA                                                                                         ",null,null,null,null,null,"04","06","SAN SALVADOR","0406","0406 - SAN SALVADOR",null,null,"000000000","(All)",null,"03","05","KAMISEA",null,"000002514","CHALLABAMBA","01","06",11,"03","03",null,null,"000002326","ANTA",2326,null,"08","03","01","11","02","03","04","110203","080301",null,"INSERT INTO ESTABLEC VALUES('000002326','ANTA',2326,'','08','03','01','11','02','03','04','110203','080301')"]
[null,null,null,null,null,null,null,null,null,"04","05","PAMPAPHALLA                                                                                         ","0405 - PAMPAPHALLA                                                                                         ",null,"000002516","COLQUEPATA                                                                                          ","01","06",11,"04","0106","000002516 - COLQUEPATA                                                                                          ",null,null,null,null,null,"04","07","TARAY","0407","0407 - TARAY",null,null,"000002501","CCAPI",null,"03","06","PUCYURA",null,"000002516","COLQUEPATA","01","06",11,"04","03",null,null,"000002327","CHACAN",2327,null,"08","03","01","11","02","03","04","110203","080301",null,"INSERT INTO ESTABLEC VALUES('000002327','CHACAN',2327,'','08','03','01','11','02','03','04','110203','080301')"]
[null,null,null,null,null,null,null,null,null,"04","06","YAURI                                                                                               ","0406 - YAURI                                                                                               ",null,"000002517","PICHIHUA COLQUEPATA                                                                                 ","01","06",11,"04","0106","000002517 - PICHIHUA COLQUEPATA                                                                                 ",null,null,null,null,null,"04","08","YANATILE","0408","0408 - YANATILE",null,null,"000002502","CCOYABAMBA",null,null,null,"(All)",null,"000002517","PICHIHUA COLQUEPATA","01","06",11,"04","03",null,null,"000002328","COMPONE",2328,null,"08","03","01","11","02","03","04","110203","080301",null,"INSERT INTO ESTABLEC VALUES('000002328','COMPONE',2328,'','08','03','01','11','02','03','04','110203','080301')"]
[null,null,null,null,null,null,null,null,null,"04","99","(All)","0499 - (All)",null,"000002518","VIZCOCHONI                                                                                          ","01","06",11,"04","0106","000002518 - VIZCOCHONI                                                                                          ",null,null,null,null,null,"05","00","(All)","0500","0500 - (All)",null,null,"000002504","HUANOQUITE",null,"04","00","ESTABLECIMIENTO QUE NO PERTENECE A NINGUNA MICRORED",null,"000002518","VIZCOCHONI","01","06",11,"04","03",null,null,"000002329","CONCHACALLA",2329,null,"08","03","01","11","02","03","04","110203","080301",null,"INSERT INTO ESTABLEC VALUES('000002329','CONCHACALLA',2329,'','08','03','01','11','02','03','04','110203','080301')"]
[null,null,null,null,null,null,null,null,null,"05","00","NO PERTENECE A NINGUNA MICRORED                                                                     ","0500 - NO PERTENECE A NINGUNA MICRORED                                                                     ",null,"000002519","AYRE                                                                                                ","01","06",11,"04","0106","000002519 - AYRE                                                                                                ",null,null,null,null,null,"05","01","YANAOCA","0501","0501 - YANAOCA",null,null,"000002507","PACCARECTAMBO",null,"04","01","YANAOCA",null,"000002519","AYRE","01","06",11,"04","03",null,null,"000002330","ANCAHUASI",2330,null,"08","03","02","11","02","03","04","110203","080302",null,"INSERT INTO ESTABLEC VALUES('000002330','ANCAHUASI',2330,'','08','03','02','11','02','03','04','110203','080302')"]
[null,null,null,null,null,null,null,null,null,"05","01","KIMBIRI                                                                                             ","0501 - KIMBIRI                                                                                             ",null,"000002520","HUANCARANI                                                                                          ","01","06",11,"05","0106","000002520 - HUANCARANI                                                                                          ",null,null,null,null,null,"05","02","CHECCA","0502","0502 - CHECCA",null,null,"000002509","YAURISQUE",null,"04","02","EL DESCANSO",null,"000002520","HUANCARANI","01","06",11,"05","03",null,null,"000002331","CACHIMAYO",2331,null,"08","03","03","11","02","03","04","110203","080303",null,"INSERT INTO ESTABLEC VALUES('000002331','CACHIMAYO',2331,'','08','03','03','11','02','03','04','110203','080303')"]
[null,null,null,null,null,null,null,null,null,"05","02","PICHARI                                                                                             ","0502 - PICHARI                                                                                             ",null,"000002521","PILCOPATA                                                                                           ","01","06",11,"06","0106","000002521 - PILCOPATA                                                                                           ",null,null,null,null,null,"05","03","KUNTURKANKI","0503","0503 - KUNTURKANKI",null,null,"000000000","(All)",null,"04","03","COMBAPATA",null,"000002521","PILCOPATA","01","06",11,"06","03",null,null,"000002332","CHINCHAYPUJIO",2332,null,"08","03","04","11","02","03","04","110203","080304",null,"INSERT INTO ESTABLEC VALUES('000002332','CHINCHAYPUJIO',2332,'','08','03','04','11','02','03','04','110203','080304')"]
[null,null,null,null,null,null,null,null,null,"05","99","(All)","0599 - (All)",null,"000002522","PATRIA                                                                                              ","01","06",11,"06","0106","000002522 - PATRIA                                                                                              ",null,null,null,null,null,"05","04","LANGUI","0504","0504 - LANGUI",null,null,"000002510","PAUCARTAMBO",null,"04","04","TECHO OBRERO",null,"000002522","PATRIA","01","06",11,"06","03",null,null,"000002333","HUAROCONDO",2333,null,"08","03","05","11","02","03","04","110203","080305",null,"INSERT INTO ESTABLEC VALUES('000002333','HUAROCONDO',2333,'','08','03','05','11','02','03','04','110203','080305')"]
[null,null,null,null,null,null,null,null,null,"06","00","NO PERTENECE A NINGUNA MICRORED                                                                     ","0600 - NO PERTENECE A NINGUNA MICRORED                                                                     ",null,"000006979","TOCRA                                                                                               ","01","06",11,"04","0106","000006979 - TOCRA                                                                                               ",null,null,null,null,null,"05","05","LAYO","0505","0505 - LAYO",null,null,"000002511","MOLLOMARCA",null,"04","05","PAMPAPHALLA",null,"000006979","TOCRA","01","06",11,"04","03",null,null,"000002334","HUAYLLACOCHA",2334,null,"08","03","05","11","02","03","04","110203","080305",null,"INSERT INTO ESTABLEC VALUES('000002334','HUAYLLACOCHA',2334,'','08','03','05','11','02','03','04','110203','080305')"]
[null,null,null,null,null,null,null,null,null,"06","09","SANTO TOMAS                                                                                         ","0609 - SANTO TOMAS                                                                                         ",null,"000010077","PAUCARTAMBO - ESSALUD                                                                               ","01","06",11,"01","0106","000010077 - PAUCARTAMBO - ESSALUD                                                                               ",null,null,null,null,null,"05","06","PAMPAMARCA","0506","0506 - PAMPAMARCA",null,null,"000002514","CHALLABAMBA",null,"04","06","YAURI",null,"000010077","PAUCARTAMBO - ESSALUD","01","06",11,"01","03",null,null,"000002336","LIMATAMBO",2336,null,"08","03","06","11","02","04","04","110204","080306",null,"INSERT INTO ESTABLEC VALUES('000002336','LIMATAMBO',2336,'','08','03','06','11','02','04','04','110204','080306')"]
[null,null,null,null,null,null,null,null,null,"06","01","LIVITACA                                                                                            ","0601 - LIVITACA                                                                                            ",null,"000000000","(All)","01","12",null,null,"0112","000000000 - (All)",null,null,null,null,null,"05","07","QUEHUE","0507","0507 - QUEHUE",null,null,"000002517","PICHIHUA COLQUEPATA",null,null,null,"(All)",null,"000000000","(All)","01","12",0,0,"03",null,null,"000002337","PAMPACONGA",2337,null,"08","03","06","11","02","04","04","110204","080306",null,"INSERT INTO ESTABLEC VALUES('000002337','PAMPACONGA',2337,'','08','03','06','11','02','04','04','110204','080306')"]
[null,null,null,null,null,null,null,null,null,"06","99","(All)","0699 - (All)",null,"000002523","URCOS                                                                                               ","01","12",12,"01","0112","000002523 - URCOS                                                                                               ",null,null,null,null,null,"05","08","TUPAC AMARU","0508","0508 - TUPAC AMARU",null,null,"000002519","AYRE",null,"05","01","KIMBIRI",null,"000002523","URCOS","01","12",12,"01","03",null,null,"000002338","MOLLEPATA",2338,null,"08","03","07","11","02","04","04","110204","080307",null,"INSERT INTO ESTABLEC VALUES('000002338','MOLLEPATA',2338,'','08','03','07','11','02','04','04','110204','080307')"]
[null,null,null,null,null,null,null,null,null,"99","99","(All)","9999 - (All)",null,"000002525","ANDAHUAYLILLAS                                                                                      ","01","12",12,"02","0112","000002525 - ANDAHUAYLILLAS                                                                                      ",null,null,null,null,null,"06","00","(All)","0600","0600 - (All)",null,null,"000000000","(All)",null,"05","02","PICHARI",null,"000002525","ANDAHUAYLILLAS","01","12",12,"02","03",null,null,"000002339","PUCYURA ANTA",2339,null,"08","03","08","11","02","03","04","110203","080308",null,"INSERT INTO ESTABLEC VALUES('000002339','PUCYURA ANTA',2339,'','08','03','08','11','02','03','04','110203','080308')"]
[null,null,null,null,null,null,null,null,null,null,null,null,null,null,"000002530","CUSIPATA                                                                                            ","01","12",12,"06","0112","000002530 - CUSIPATA                                                                                            ",null,null,null,null,null,"06","01","SICUANI","0601","0601 - SICUANI",null,null,"000002521","PILCOPATA",null,null,null,"(All)",null,"000002530","CUSIPATA","01","12",12,"06","03",null,null,"000002340","ZURITE",2340,null,"08","03","09","11","02","03","04","110203","080309",null,"INSERT INTO ESTABLEC VALUES('000002340','ZURITE',2340,'','08','03','09','11','02','03','04','110203','080309')"]
[null,null,null,null,null,null,null,null,null,null,null,null,null,null,"000002532","HUARO                                                                                               ","01","12",12,"07","0112","000002532 - HUARO                                                                                               ",null,null,null,null,null,"06","02","CHECACUPE","0602","0602 - CHECACUPE",null,null,"000002522","PATRIA",null,null,null,null,null,"000002532","HUARO","01","12",12,"07","03",null,null,"000002341","CALCA",2341,null,"08","04","01","11","02","06","04","110206","080401",null,"INSERT INTO ESTABLEC VALUES('000002341','CALCA',2341,'','08','04','01','11','02','06','04','110206','080401')"]
[null,null,null,null,null,null,null,null,null,null,null,null,null,null,"000002533","URPAY                                                                                               ","01","12",12,"07","0112","000002533 - URPAY                                                                                               ",null,null,null,null,null,"06","03","COMBAPATA","0603","0603 - COMBAPATA",null,null,"000000000","(All)",null,null,null,null,null,"000002533","URPAY","01","12",12,"07","03",null,null,"000002342","AMPARAES",2342,null,"08","04","04","11","02","06","04","110206","080404",null,"INSERT INTO ESTABLEC VALUES('000002342','AMPARAES',2342,'','08','04','04','11','02','06','04','110206','080404')"]
[null,null,null,null,null,null,null,null,null,null,null,null,null,null,"000002534","LUCRE                                                                                               ","01","12",12,"08","0112","000002534 - LUCRE                                                                                               ",null,null,null,null,null,"06","04","MARANGANI","0604","0604 - MARANGANI",null,null,"000002513","HUASAC",null,null,null,null,null,"000002534","LUCRE","01","12",12,"08","03",null,null,"000002343","COYA",2343,null,"08","04","02","11","02","05","04","110205","080402",null,"INSERT INTO ESTABLEC VALUES('000002343','COYA',2343,'','08','04','02','11','02','05','04','110205','080402')"]
[null,null,null,null,null,null,null,null,null,null,null,null,null,null,"000002537","OROPESA                                                                                             ","01","12",12,11,"0112","000002537 - OROPESA                                                                                             ",null,null,null,null,null,"06","05","PITUMARCA","0605","0605 - PITUMARCA",null,null,"000002516","COLQUEPATA",null,null,null,null,null,"000002537","OROPESA","01","12",12,11,"03",null,null,"000002344","LAMAY",2344,null,"08","04","03","11","02","05","04","110205","080403",null,"INSERT INTO ESTABLEC VALUES('000002344','LAMAY',2344,'','08','04','03','11','02','05','04','110205','080403')"]
[null,null,null,null,null,null,null,null,null,null,null,null,null,null,"000002538","QUIQUIJANA                                                                                          ","01","12",12,12,"0112","000002538 - QUIQUIJANA                                                                                          ",null,null,null,null,null,"06","06","SAN PABLO","0606","0606 - SAN PABLO",null,null,"000002518","VIZCOCHONI",null,null,null,null,null,"000002538","QUIQUIJANA","01","12",12,12,"03",null,null,"000002345","CCACHIN",2345,null,"08","04","04","11","02","06","04","110206","080404",null,"INSERT INTO ESTABLEC VALUES('000002345','CCACHIN',2345,'','08','04','04','11','02','06','04','110206','080404')"]
[null,null,null,null,null,null,null,null,null,null,null,null,null,null,"000002539","COLCA QUIQUIJANA                                                                                    ","01","12",12,12,"0112","000002539 - COLCA QUIQUIJANA                                                                                    ",null,null,null,null,null,"06","07","SAN PEDRO","0607","0607 - SAN PEDRO",null,null,"000002520","HUANCARANI",null,null,null,null,null,"000002539","COLCA QUIQUIJANA","01","12",12,12,"03",null,null,"000002346","CHOQUECANCHA",2346,null,"08","04","04","11","02","06","04","110206","080404",null,"INSERT INTO ESTABLEC VALUES('000002346','CHOQUECANCHA',2346,'','08','04','04','11','02','06','04','110206','080404')"]
[null,null,null,null,null,null,null,null,null,null,null,null,null,null,"000006980","CHILLIHUANI                                                                                         ","01","12",12,"06","0112","000006980 - CHILLIHUANI                                                                                         ",null,null,null,null,null,"06","08","TINTA","0608","0608 - TINTA",null,null,"000006979","TOCRA",null,null,null,null,null,"000006980","CHILLIHUANI","01","12",12,"06","03",null,null,"000002347","LARES",2347,null,"08","04","04","11","02","06","04","110206","080404",null,"INSERT INTO ESTABLEC VALUES('000002347','LARES',2347,'','08','04','04','11','02','06','04','110206','080404')"]
[null,null,null,null,null,null,null,null,null,null,null,null,null,null,"000008911","HUARA HUARA                                                                                         ","01","12",12,"05","0112","000008911 - HUARA HUARA                                                                                         ",null,null,null,null,null,"07","00","(All)","0700","0700 - (All)",null,null,"000000000","(All)",null,null,null,null,null,"000008911","HUARA HUARA","01","12",12,"05","03",null,null,"000002348","PISAC",2348,null,"08","04","05","11","02","05","04","110205","080405",null,"INSERT INTO ESTABLEC VALUES('000002348','PISAC',2348,'','08','04','05','11','02','05','04','110205','080405')"]
[null,null,null,null,null,null,null,null,null,null,null,null,null,null,"000010068","URCOS ESSALUD                                                                                       ","01","12",12,"01","0112","000010068 - URCOS ESSALUD                                                                                       ",null,null,null,null,null,"07","01","SANTO TOMAS","0701","0701 - SANTO TOMAS",null,null,"000002398","SANTO TOMAS",null,null,null,null,null,"000010068","URCOS ESSALUD","01","12",12,"01","03",null,null,"000002349","CUYO CHICO",2349,null,"08","04","05","11","02","05","04","110205","080405",null,"INSERT INTO ESTABLEC VALUES('000002349','CUYO CHICO',2349,'','08','04','05','11','02','05','04','110205','080405')"]
[null,null,null,null,null,null,null,null,null,null,null,null,null,null,"000000000","(All)","01","13",null,null,"0113","000000000 - (All)",null,null,null,null,null,"07","02","CAPACMARCA","0702","0702 - CAPACMARCA",null,null,"000002400","ALHUACCHULLO",null,null,null,null,null,"000000000","(All)","01","13",0,0,"03",null,null,"000002350","CUYO GRANDE",2350,null,"08","04","05","11","02","05","04","110205","080405",null,"INSERT INTO ESTABLEC VALUES('000002350','CUYO GRANDE',2350,'','08','04','05','11','02','05','04','110205','080405')"]
[null,null,null,null,null,null,null,null,null,null,null,null,null,null,"000002317","ACOMAYO                                                                                             ","01","13","02","01","0113","000002317 - ACOMAYO                                                                                             ",null,null,null,null,null,"07","03","CHAMACA","0703","0703 - CHAMACA",null,null,"000002407","LLUSCO",null,null,null,null,null,"000002317","ACOMAYO","01","13","02","01","03",null,null,"000002351","QUELLO QUELLO",2351,null,"08","04","05","11","02","05","04","110205","080405",null,"INSERT INTO ESTABLEC VALUES('000002351','QUELLO QUELLO',2351,'','08','04','05','11','02','05','04','110205','080405')"]
[null,null,null,null,null,null,null,null,null,null,null,null,null,null,"000002318","ACOPIA                                                                                              ","01","13","02","02","0113","000002318 - ACOPIA                                                                                              ",null,null,null,null,null,"07","04","COLQUEMARCA","0704","0704 - COLQUEMARCA",null,null,"000002408","QUIÑOTA",null,null,null,null,null,"000002318","ACOPIA","01","13","02","02","03",null,null,"000002352","SAN SALVADOR",2352,null,"08","04","06","11","02","05","04","110205","080406",null,"INSERT INTO ESTABLEC VALUES('000002352','SAN SALVADOR',2352,'','08','04','06','11','02','05','04','110205','080406')"]
[null,null,null,null,null,null,null,null,null,null,null,null,null,null,"000002319","ACOS                                                                                                ","01","13","02","03","0113","000002319 - ACOS                                                                                                ",null,null,null,null,null,"07","05","LIVITACA","0705","0705 - LIVITACA",null,null,"000006746","LLIQUE",null,null,null,null,null,"000002319","ACOS","01","13","02","03","03",null,null,"000002353","TARAY",2353,null,"08","04","07","11","02","05","04","110205","080407",null,"INSERT INTO ESTABLEC VALUES('000002353','TARAY',2353,'','08','04','07','11','02','05','04','110205','080407')"]
[null,null,null,null,null,null,null,null,null,null,null,null,null,0,"000002321","POMACANCHI                                                                                          ","01","13","02","05","0113","000002321 - POMACANCHI                                                                                          ",null,null,null,null,null,"07","06","LLUSCO","0706","0706 - LLUSCO",null,null,"000006747","LUTTO",null,null,null,null,null,"000002321","POMACANCHI","01","13","02","05","03",null,null,"000002354","HUANCALLE",2354,null,"08","04","07","11","02","05","04","110205","080407",null,"INSERT INTO ESTABLEC VALUES('000002354','HUANCALLE',2354,'','08','04','07','11','02','05','04','110205','080407')"]
[null,null,null,null,null,null,null,null,null,null,null,null,null,1,"000002322","SAN JUAN DE POMACANCHI                                                                              ","01","13","02","05","0113","000002322 - SAN JUAN DE POMACANCHI                                                                              ",null,null,null,null,null,"07","07","QUIÑOTA","0707","0707 - QUIÑOTA",null,null,"000006748","COLLPA",null,null,null,null,null,"000002322","SAN JUAN DE POMACANCHI","01","13","02","05","03",null,null,"000002355","LA QUEBRADA",2355,null,"08","04","08","11","02","08","04","110208","080408",null,"INSERT INTO ESTABLEC VALUES('000002355','LA QUEBRADA',2355,'','08','04','08','11','02','08','04','110208','080408')"]
[null,null,null,null,null,null,null,null,null,null,null,null,null,2,"000002324","SANGARARA                                                                                           ","01","13","02","07","0113","000002324 - SANGARARA                                                                                           ",null,null,null,null,null,"07","08","VELILLE","0708","0708 - VELILLE",null,null,"000006981","CCOYO",null,null,null,null,null,"000002324","SANGARARA","01","13","02","07","03",null,null,"000002356","CCORIMAYO",2356,null,"08","04","08","11","02","08","04","110208","080408",null,"INSERT INTO ESTABLEC VALUES('000002356','CCORIMAYO',2356,'','08','04','08','11','02','08','04','110208','080408')"]
[null,null,null,null,null,null,null,null,null,null,null,null,null,3,"000002325","MARCACONGA                                                                                          ","01","13","02","07","0113","000002325 - MARCACONGA                                                                                          ",null,null,null,null,null,"08","00","(All)","0800","0800 - (All)",null,null,"000006982","MELLOTOTORA",null,null,null,null,null,"000002325","MARCACONGA","01","13","02","07","03",null,null,"000002357","COLCCA YANATILE",2357,null,"08","04","08","11","02","08","04","110208","080408",null,"INSERT INTO ESTABLEC VALUES('000002357','COLCCA YANATILE',2357,'','08','04','08','11','02','08','04','110208','080408')"]
[null,null,null,null,null,null,null,null,null,null,null,null,null,4,"000002508","PILLPINTO                                                                                           ","01","13",10,"08","0113","000002508 - PILLPINTO                                                                                           ",null,null,null,null,null,"08","01","ESPINAR","0801","0801 - ESPINAR",null,null,"000006983","ORCCOMA",null,null,null,null,null,{"$f":"+O74","v":"000002508"},"PILLPINTO","01","13",10,"08","03",null,null,"000002358","MUYUPAY",{"$f":"VALUE(AY74)","v":2358},null,"08","04","08","11","02","08","04",{"$f":"CONCATENATE(BF74,BG74,BH74)","v":"110208"},{"$f":"CONCATENATE(BC74,BD74,BE74)","v":"080408"},null,"INSERT INTO ESTABLEC VALUES('000002358','MUYUPAY',2358,'','08','04','08','11','02','08','04','110208','080408')"]
[null,null,null,null,null,null,null,null,null,null,null,null,null,5,"000010076","ACOMAYO - ESSALUD                                                                                   ","01","13","02","01","0113","000010076 - ACOMAYO - ESSALUD                                                                                   ",null,null,null,null,null,"08","02","CONDOROMA",{"$f":"CONCATENATE(AB75,AC75)","v":"0802"},{"$f":"CONCATENATE(AB75,AC75,\" - \",AD75)","v":"0802 - CONDOROMA"},null,null,"000006984","CCOLLANA",null,null,null,null,null,"000010076",{"$f":"TRIM(P75)","v":"ACOMAYO - ESSALUD"},"01","13","02","01","03",null,null,"000002359","PUTUCUSI",2359,null,"08","04","08","11","02","08","04","110208","080408",null,{"$f":"CONCATENATE(\"INSERT INTO ESTABLEC VALUES('\",AY75,\"','\",AZ75,\"',\",BA75,\",'\",BB75,\"','\",BC75,\"','\",BD75,\"','\",BE75,\"','\",BF75,\"','\",BG75,\"','\",BH75,\"','\",BI75,,\"','\",BJ75,\"','\",BK75,\"')\")","v":"INSERT INTO ESTABLEC VALUES('000002359','PUTUCUSI',2359,'','08','04','08','11','02','08','04','110208','080408')"}]
[null,null,null,null,null,null,null,null,null,null,null,null,null,6,"000012926","SANTA  LUCIA                                                                                        ","01","13","02","05",{"$f":"CONCATENATE(Q76,R76)","v":"0113"},{"$f":"CONCATENATE(O76,\" - \",P76)","v":"000012926 - SANTA  LUCIA                                                                                        "},null,null,null,null,null,"08","03","COPORAQUE","0803","0803 - COPORAQUE",null,null,"000006985","TOTORAPALLCA",null,null,null,null,null,"000012926","SANTA LUCIA","01","13","02","05","03",null,null,"000002360","QUESQUENTO",2360,null,"08","04","08","11","02","08","04","110208","080408",null,"INSERT INTO ESTABLEC VALUES('000002360','QUESQUENTO',2360,'','08','04','08','11','02','08','04','110208','080408')"]
[null,null,null,null,null,null,null,null,null,null,null,null,null,7,"000000000","(All)","01","15",null,null,"0115","000000000 - (All)",null,null,null,null,null,"08","04","OCORURO","0804","0804 - OCORURO",null,null,"000007111","YAVINA",null,null,null,null,null,"000000000","(All)","01","15",0,0,"03",null,null,"000002361","SUYO",2361,null,"08","04","04","11","02","06","04","110206","080404",null,"INSERT INTO ESTABLEC VALUES('000002361','SUYO',2361,'','08','04','04','11','02','06','04','110206','080404')"]
[null,null,null,null,null,null,null,null,null,null,null,null,null,9,"000002524","PAMPACAMARA                                                                                         ","01","15",12,"05","0115","000002524 - PAMPACAMARA                                                                                         ",null,null,null,null,null,"08","05","PALLPATA","0805","0805 - PALLPATA",null,null,"000007112","YORENCCA",null,null,null,null,null,"000002524","PAMPACAMARA","01","15",12,"05","03",null,null,"000002362","HUACHIBAMBA",2362,null,"08","04","08","11","02","08","04","110208","080408",null,"INSERT INTO ESTABLEC VALUES('000002362','HUACHIBAMBA',2362,'','08','04','08','11','02','08','04','110208','080408')"]
[null,null,null,null,null,null,null,null,null,null,null,null,null,10,"000002526","QUINCE MIL                                                                                          ","01","15",12,"03","0115","000002526 - QUINCE MIL                                                                                          ",null,null,null,null,null,"08","06","PICHIGUA","0806","0806 - PICHIGUA",null,null,"000008913","HUARACO",null,null,null,null,null,"000002526","QUINCE MIL","01","15",12,"03","03",null,null,"000002363","TUPAC AMARU QUELLOUNO",2363,null,"08","04","08","11","03","03","05","110303","080408",null,"INSERT INTO ESTABLEC VALUES('000002363','TUPAC AMARU QUELLOUNO',2363,'','08','04','08','11','03','03','05','110303','080408')"]
[null,null,null,null,null,null,null,null,null,null,null,null,null,11,"000002527","CARHUAYO                                                                                            ","01","15",12,"04","0115","000002527 - CARHUAYO                                                                                            ",null,null,null,null,null,"08","07","SUYCKUTAMBO","0807","0807 - SUYCKUTAMBO",null,null,"000008915","PFULLPURI CONDEPAMPA",null,null,null,null,null,"000002527","CARHUAYO","01","15",12,"04","03",null,null,"000002364","YANAOCA",2364,null,"08","05","01","11","04","01","07","110401","080501",null,"INSERT INTO ESTABLEC VALUES('000002364','YANAOCA',2364,'','08','05','01','11','04','01','07','110401','080501')"]
[null,null,null,null,null,null,null,null,null,null,null,null,null,12,"000002528","CCATCCA                                                                                             ","01","15",12,"05","0115","000002528 - CCATCCA                                                                                             ",null,null,null,null,null,"08","08","ALTO PICHIGUA","0808","0808 - ALTO PICHIGUA",null,null,"000016325","CHILLOROYA - LIVITACA",null,null,null,null,null,"000002528","CCATCCA","01","15",12,"05","03",null,null,"000002365","PONGOÑA",2365,null,"08","05","01","11","04","01","07","110401","080501",null,"INSERT INTO ESTABLEC VALUES('000002365','PONGOÑA',2365,'','08','05','01','11','04','01','07','110401','080501')"]
[null,null,null,null,null,null,null,null,null,null,null,null,null,13,"000002529","KCAURY                                                                                              ","01","15",12,"05","0115","000002529 - KCAURY                                                                                              ",null,null,null,null,null,"09","00","(All)","0900","0900 - (All)",null,null,"000016327","AUSANTA",null,null,null,null,null,"000002529","KCAURY","01","15",12,"05","03",null,null,"000002366","CHECCA",2366,null,"08","05","02","11","04","02","07","110402","080502",null,"INSERT INTO ESTABLEC VALUES('000002366','CHECCA',2366,'','08','05','02','11','04','02','07','110402','080502')"]
[null,null,null,null,null,null,null,null,null,null,null,null,null,0,"000002535","MARCAPATA                                                                                           ","01","15",12,"09","0115","000002535 - MARCAPATA                                                                                           ",null,null,null,null,null,"09","01","SANTA ANA","0901","0901 - SANTA ANA",null,null,"000016328","UCHUCCARCCO",null,null,null,null,null,"000002535","MARCAPATA","01","15",12,"09","03",null,null,"000002367","CHITIBAMBA",2367,null,"08","05","02","11","04","02","07","110402","080502",null,"INSERT INTO ESTABLEC VALUES('000002367','CHITIBAMBA',2367,'','08','05','02','11','04','02','07','110402','080502')"]
[null,null,null,null,null,null,null,null,null,null,null,null,null,1,"000002536","OCONGATE                                                                                            ","01","15",12,10,"0115","000002536 - OCONGATE                                                                                            ",null,null,null,null,null,"09","02","ECHARATE","0902","0902 - ECHARATE",null,null,"000016329","INGATA",null,null,null,null,null,"000002536","OCONGATE","01","15",12,10,"03",null,null,"000002369","LANGUI",2369,null,"08","05","04","11","04","04","07","110404","080504",null,"INSERT INTO ESTABLEC VALUES('000002369','LANGUI',2369,'','08','05','04','11','04','04','07','110404','080504')"]
[null,null,null,null,null,null,null,null,null,null,null,null,null,2,"000006977","TINKI                                                                                               ","01","15",12,10,"0115","000006977 - TINKI                                                                                               ",null,null,null,null,null,"09","03","HUAYOPATA","0903","0903 - HUAYOPATA",null,null,"000016330","CCONCHACCOLLO",null,null,null,null,null,"000006977","TINKI","01","15",12,10,"03",null,null,"000002370","CONDEVILUYO",2370,null,"08","05","04","11","04","04","07","110404","080504",null,"INSERT INTO ESTABLEC VALUES('000002370','CONDEVILUYO',2370,'','08','05','04','11','04','04','07','110404','080504')"]
[null,null,null,null,null,null,null,null,null,null,null,null,null,3,"000007110","INCACANCHA                                                                                          ","01","15",12,"09","0115","000007110 - INCACANCHA                                                                                          ",null,null,null,null,null,"09","04","MARANURA","0904","0904 - MARANURA",null,null,"000016332","PATAQUEÑA -LIVITACA",null,null,null,null,null,"000007110","INCACANCHA","01","15",12,"09","03",null,null,"000002371","LAYO",2371,null,"08","05","05","11","04","04","07","110404","080505",null,"INSERT INTO ESTABLEC VALUES('000002371','LAYO',2371,'','08','05','05','11','04','04','07','110404','080505')"]
[null,null,null,null,null,null,null,null,null,null,null,null,null,4,"000012931","CHICHINA                                                                                            ","01","15",12,"05","0115","000012931 - CHICHINA                                                                                            ",null,null,null,null,null,"09","05","OCOBAMBA","0905","0905 - OCOBAMBA",null,null,"000016334","KISIO",null,null,null,null,null,"000012931","CHICHINA","01","15",12,"05","03",null,null,"000002372","PAMPAMARCA",2372,null,"08","05","06","11","04","01","07","110401","080506",null,"INSERT INTO ESTABLEC VALUES('000002372','PAMPAMARCA',2372,'','08','05','06','11','04','01','07','110401','080506')"]
[null,null,null,null,null,null,null,null,null,null,null,null,null,5,"000016335","CCAPANA                                                                                             ","01","15",12,"05","0115","000016335 - CCAPANA                                                                                             ",null,null,null,null,null,"09","06","QUELLOUNO","0906","0906 - QUELLOUNO",null,null,"000000000","(All)",null,null,null,null,null,"000016335","CCAPANA","01","15",12,{"$f":"+T88","v":"05"},"03",null,null,"000002373","QUEHUE",2373,null,"08","05","07","11","04","01","07","110401","080507",null,"INSERT INTO ESTABLEC VALUES('000002373','QUEHUE',2373,'','08','05','07','11','04','01','07','110401','080507')"]
[null,null,null,null,null,null,null,null,null,null,null,null,null,6,"999999999","(All)","01","99",null,null,"0199","999999999 - (All)",null,null,null,null,null,"09","07","KIMBIRI","0907","0907 - KIMBIRI",null,null,"000002399","PULPERA",null,null,null,null,null,"999999999","(All)",{"$f":"+Q89","v":"01"},"99",0,0,"03",null,null,"000002374","HUINCHIRI",2374,null,"08","05","07","11","04","01","07","110401","080507",null,"INSERT INTO ESTABLEC VALUES('000002374','HUINCHIRI',2374,'','08','05','07','11','04','01','07','110401','080507')"]
[null,null,null,null,null,null,null,null,null,null,null,null,null,7,"000000000","(All)","02","01",null,null,"0201","000000000 - (All)",null,null,null,null,null,"09","08","SANTA TERESA","0908","0908 - SANTA TERESA",null,null,"000002402","CHAMACA",null,null,null,null,null,"000000000","(All)","02","01",0,0,"04",null,null,"000002375","SURIMANA",2375,null,"08","05","08","11","04","01","07","110401","080508",null,"INSERT INTO ESTABLEC VALUES('000002375','SURIMANA',2375,'','08','05','08','11','04','01','07','110401','080508')"]
[null,null,null,null,null,null,null,null,null,null,null,null,null,8,"000002292","INDEPENDENCIA                                                                                       ","02","01","01","01","0201","000002292 - INDEPENDENCIA                                                                                       ",null,null,null,null,null,"09","09","VILCABAMBA","0909","0909 - VILCABAMBA",null,null,"000002403","AÑAHUICHI",null,null,null,null,null,"000002292","INDEPENDENCIA","02","01","01","01","04",null,null,"000002376","TUNGASUCA",2376,null,"08","05","08","11","04","01","07","110401","080508",null,"INSERT INTO ESTABLEC VALUES('000002376','TUNGASUCA',2376,'','08','05','08','11','04','01','07','110401','080508')"]
[null,null,null,null,null,null,null,null,null,null,null,null,null,9,"000002297","CCORCCA                                                                                             ","02","01","01","02","0201","000002297 - CCORCCA                                                                                             ",null,null,null,null,null,"09","10","PICHARI","0910","0910 - PICHARI",null,null,"000002406","LIVITACA",null,null,null,null,null,"000002297","CCORCCA","02","01","01","02","04",null,null,"000002377","TOCCOCCORI",2377,null,"08","05","08","11","04","01","07","110401","080508",null,"INSERT INTO ESTABLEC VALUES('000002377','TOCCOCCORI',2377,'','08','05','08','11','04','01','07','110401','080508')"]
[null,null,null,null,null,null,null,null,null,null,null,null,null,10,"000002306","BELEMPAMPA                                                                                          ","02","01","01","06","0201","000002306 - BELEMPAMPA                                                                                          ",null,null,null,null,null,"09","11","INKAWASI                                ","0911","0911 - INKAWASI                                ",null,null,null,null,null,null,null,null,null,"000002306","BELEMPAMPA","02","01","01","06","04",null,null,"000002378","SICUANI",2378,null,"08","06","01","11","04","00","08","110400","080601",null,"INSERT INTO ESTABLEC VALUES('000002378','SICUANI',2378,'','08','06','01','11','04','00','08','110400','080601')"]
[null,null,null,null,null,null,null,null,null,null,null,null,null,0,"000002308","ZARZUELA ALTA                                                                                       ","02","01","01","06","0201","000002308 - ZARZUELA ALTA                                                                                       ",null,null,null,null,null,"09","12","VILLA VIRGEN","0912","0912 - VILLA VIRGEN",null,null,null,null,null,null,null,null,null,"000002308","ZARZUELA ALTA","02","01","01","06","04",null,null,"000002379","HERCCA",2379,null,"08","06","01","11","04","04","07","110404","080601",null,"INSERT INTO ESTABLEC VALUES('000002379','HERCCA',2379,'','08','06','01','11','04','04','07','110404','080601')"]
[null,null,null,null,null,null,null,null,null,null,null,null,null,1,"000002309","DIGNIDAD NACIONAL                                                                                   ","02","01","01","06","0201","000002309 - DIGNIDAD NACIONAL                                                                                   ",null,null,null,null,null,"09","13","VILLA KINTIARINA","0913","0913 - VILLA KINTIARINA",null,null,null,null,null,null,null,null,null,"000002309","DIGNIDAD NACIONAL","02","01","01","06","04",null,null,"000002380","TECHO OBRERO",2380,null,"08","06","01","11","04","04","07","110404","080601",null,"INSERT INTO ESTABLEC VALUES('000002380','TECHO OBRERO',2380,'','08','06','01','11','04','04','07','110404','080601')"]
[null,null,null,null,null,null,null,null,null,null,null,null,null,2,"000002313","OCCOPATA                                                                                            ","02","01","01","06","0201","000002313 - OCCOPATA                                                                                            ",null,null,null,null,null,"09","14","MEGANTONI","0914","0914 - MEGANTONI",null,null,"000002409","VELILLE",null,null,null,null,null,"000002313","OCCOPATA","02","01","01","06","04",null,null,"000002381","QUEHUAR",2381,null,"08","06","01","11","04","05","07","110405","080601",null,"INSERT INTO ESTABLEC VALUES('000002381','QUEHUAR',2381,'','08','06','01','11','04','05','07','110405','080601')"]
[null,null,null,null,null,null,null,null,null,null,null,null,null,3,"000010067","CENTRO MEDICO SANTIAGO ESSALUD                                                                      ","02","01","01","06","0201","000010067 - CENTRO MEDICO SANTIAGO ESSALUD                                                                      ",null,null,null,null,null,"10","00","(All)","1000","1000 - (All)",null,null,"000008912","ALCCA VICTORIA",null,null,null,null,null,"000010067","CENTRO MEDICO SANTIAGO ESSALUD","02","01","01","06","04",null,null,"000002382","UZCUPATA",2382,null,"08","06","01","11","04","05","07","110405","080601",null,"INSERT INTO ESTABLEC VALUES('000002382','UZCUPATA',2382,'','08','06','01','11','04','05','07','110405','080601')"]
[null,null,null,null,null,null,null,null,null,null,null,null,null,null,"000026182","MENTAL SANTIAGO","02","01","01","06","0201","000026182 - MENTAL SANTIAGO",null,null,null,null,null,"10","01","PARURO","1001","1001 - PARURO",null,null,"000000000","(All)",null,null,null,null,null,"000026182","MENTAL SANTIAGO","02","01","01","06","04",null,null,"000002383","LA FLORIDA",2383,null,"08","06","01","11","04","05","07","110405","080601",null,"INSERT INTO ESTABLEC VALUES('000002383','LA FLORIDA',2383,'','08','06','01','11','04','05','07','110405','080601')"]
[null,null,null,null,null,null,null,null,null,null,null,null,null,4,"000000000","(All)","02","02",null,null,"0202","000000000 - (All)",null,null,null,null,null,"10","02","ACCHA","1002","1002 - ACCHA",null,null,"000002401","CCAPACMARCA",null,null,null,null,null,"000000000","(All)","02","02",0,0,"04",null,null,"000002384","PAMPAPHALLA",2384,null,"08","06","01","11","04","05","07","110405","080601",null,"INSERT INTO ESTABLEC VALUES('000002384','PAMPAPHALLA',2384,'','08','06','01','11','04','05','07','110405','080601')"]
[null,null,null,null,null,null,null,null,null,null,null,null,null,5,"000002302","CCORAO                                                                                              ","02","02","01","05","0202","000002302 - CCORAO                                                                                              ",null,null,null,null,null,"10","03","CCAPI","1003","1003 - CCAPI",null,null,"000002404","COLQUEMARCA",null,null,null,null,null,"000002302","CCORAO","02","02","01","05","04",null,null,"000002385","CHECACUPE",2385,null,"08","06","02","11","04","03","07","110403","080602",null,"INSERT INTO ESTABLEC VALUES('000002385','CHECACUPE',2385,'','08','06','02','11','04','03','07','110403','080602')"]
[null,null,null,null,null,null,null,null,null,null,null,null,null,6,"000002307","MANCO CAPAC                                                                                         ","02","02","01","08","0202","000002307 - MANCO CAPAC                                                                                         ",null,null,null,null,null,"10","04","COLCHA","1004","1004 - COLCHA",null,null,"000002405","CHARAMURAY",null,null,null,null,null,"000002307","MANCO CAPAC","02","02","01","08","04",null,null,"000002386","COMBAPATA CANCHIS",2386,null,"08","06","03","11","04","03","07","110403","080603",null,"INSERT INTO ESTABLEC VALUES('000002386','COMBAPATA CANCHIS',2386,'','08','06','03','11','04','03','07','110403','080603')"]
[null,null,null,null,null,null,null,null,null,null,null,null,null,7,"000002310","CHOCCO                                                                                              ","02","02","01","06","0202","000002310 - CHOCCO                                                                                              ",null,null,null,null,null,"10","05","HUANOQUITE","1005","1005 - HUANOQUITE",null,null,"000008914","HUAYLLANI",null,null,null,null,null,"000002310","CHOCCO","02","02","01","06","04",null,null,"000002387","CHIARA",2387,null,"08","06","03","11","04","03","07","110403","080603",null,"INSERT INTO ESTABLEC VALUES('000002387','CHIARA',2387,'','08','06','03','11','04','03','07','110403','080603')"]
[null,null,null,null,null,null,null,null,null,null,null,null,null,8,"000002315","WANCHAQ                                                                                             ","02","02","01","08","0202","000002315 - WANCHAQ                                                                                             ",null,null,null,null,null,"10","06","OMACHA","1006","1006 - OMACHA",null,null,"000009963","CANCAHUANI",null,null,null,null,null,"000002315","WANCHAQ","02","02","01","08","04",null,null,"000002388","MARANGANI",2388,null,"08","06","04","11","04","04","07","110404","080604",null,"INSERT INTO ESTABLEC VALUES('000002388','MARANGANI',2388,'','08','06','04','11','04','04','07','110404','080604')"]
[null,null,null,null,null,null,null,null,null,null,null,null,null,9,"000002316","TTIO                                                                                                ","02","02","01","08","0202","000002316 - TTIO                                                                                                ",null,null,null,null,null,"10","07","PACCARITAMBO","1007","1007 - PACCARITAMBO",null,null,"000012932","YANQUE",null,null,null,null,null,"000002316","TTIO","02","02","01","08","04",null,null,"000002389","CHECTUYOC",2389,null,"08","06","04","11","04","04","07","110404","080604",null,"INSERT INTO ESTABLEC VALUES('000002389','CHECTUYOC',2389,'','08','06','04','11','04','04','07','110404','080604')"]
[null,null,null,null,null,null,null,null,null,null,null,null,null,10,"000010041","HOSPITAL NACIONAL ADOLFO GUEVARA VELASCO                                                            ","02","02","01","08","0202","000010041 - HOSPITAL NACIONAL ADOLFO GUEVARA VELASCO                                                            ",null,null,null,null,null,"10","08","PILLPINTO","1008","1008 - PILLPINTO",null,null,"000000000","(All)",null,null,null,null,null,"000010041","HOSPITAL NACIONAL ADOLFO GUEVARA VELASCO","02","02","01","08","04",null,null,"000002390","CCUYO",2390,null,"08","06","04","11","04","04","07","110404","080604",null,"INSERT INTO ESTABLEC VALUES('000002390','CCUYO',2390,'','08','06','04','11','04','04','07','110404','080604')"]
[null,null,null,null,null,null,null,null,null,null,null,null,null,11,"000000000","(All)","02","03",null,null,"0203","000000000 - (All)",null,null,null,null,null,"10","09","YAURISQUE","1009","1009 - YAURISQUE",null,null,"000002523","URCOS",null,null,null,null,null,"000000000","(All)","02","03",0,0,"04",null,null,"000002391","OCCOBAMBA MARANGANI",2391,null,"08","06","04","11","04","04","07","110404","080604",null,"INSERT INTO ESTABLEC VALUES('000002391','OCCOBAMBA MARANGANI',2391,'','08','06','04','11','04','04','07','110404','080604')"]
[null,null,null,null,null,null,null,null,null,null,null,null,null,0,"000002326","ANTA                                                                                                ","02","03","03","01","0203","000002326 - ANTA                                                                                                ",null,null,null,null,null,"11","00","(All)","1100","1100 - (All)",null,null,"000002524","PAMPACAMARA",null,null,null,null,null,"000002326","ANTA","02","03","03","01","04",null,null,"000002392","PITUMARCA",2392,null,"08","06","05","11","04","03","07","110403","080605",null,"INSERT INTO ESTABLEC VALUES('000002392','PITUMARCA',2392,'','08','06','05','11','04','03','07','110403','080605')"]
[null,null,null,null,null,null,null,null,null,null,null,null,null,1,"000002327","CHACAN                                                                                              ","02","03","03","01","0203","000002327 - CHACAN                                                                                              ",null,null,null,null,null,"11","01","PAUCARTAMBO","1101","1101 - PAUCARTAMBO",null,null,"000002525","ANDAHUAYLILLAS",null,null,null,null,null,"000002327","CHACAN","02","03","03","01","04",null,null,"000002393","PHINAYA",2393,null,"08","06","05","11","04","05","07","110405","080605",null,"INSERT INTO ESTABLEC VALUES('000002393','PHINAYA',2393,'','08','06','05','11','04','05','07','110405','080605')"]
[null,null,null,null,null,null,null,null,null,null,null,null,null,2,"000002328","COMPONE                                                                                             ","02","03","03","01","0203","000002328 - COMPONE                                                                                             ",null,null,null,null,null,"11","02","CAICAY","1102","1102 - CAICAY",null,null,"000002528","CCATCCA",null,null,null,null,null,"000002328","COMPONE","02","03","03","01","04",null,null,"000002394","SAN PABLO CANCHIS",2394,null,"08","06","06","11","04","05","07","110405","080606",null,"INSERT INTO ESTABLEC VALUES('000002394','SAN PABLO CANCHIS',2394,'','08','06','06','11','04','05','07','110405','080606')"]
[null,null,null,null,null,null,null,null,null,null,null,null,null,3,"000002329","CONCHACALLA                                                                                         ","02","03","03","01","0203","000002329 - CONCHACALLA                                                                                         ",null,null,null,null,null,"11","03","CHALLABAMBA","1103","1103 - CHALLABAMBA",null,null,"000002529","KCAURY",null,null,null,null,null,"000002329","CONCHACALLA","02","03","03","01","04",null,null,"000002395","SANTA BARBARA",2395,null,"08","06","06","11","04","05","07","110405","080606",null,"INSERT INTO ESTABLEC VALUES('000002395','SANTA BARBARA',2395,'','08','06','06','11','04','05','07','110405','080606')"]
[null,null,null,null,null,null,null,null,null,null,null,null,null,4,"000002330","ANCAHUASI                                                                                           ","02","03","03","02","0203","000002330 - ANCAHUASI                                                                                           ",null,null,null,null,null,"11","04","COLQUEPATA","1104","1104 - COLQUEPATA",null,null,"000002530","CUSIPATA",null,null,null,null,null,"000002330","ANCAHUASI","02","03","03","02","04",null,null,"000002396","SAN PEDRO CANCHIS",2396,null,"08","06","07","11","04","05","07","110405","080607",null,"INSERT INTO ESTABLEC VALUES('000002396','SAN PEDRO CANCHIS',2396,'','08','06','07','11','04','05','07','110405','080607')"]
[null,null,null,null,null,null,null,null,null,null,null,null,null,5,"000002331","CACHIMAYO                                                                                           ","02","03","03","03","0203","000002331 - CACHIMAYO                                                                                           ",null,null,null,null,null,"11","05","HUANCARANI","1105","1105 - HUANCARANI",null,null,"000002532","HUARO",null,null,null,null,null,"000002331","CACHIMAYO","02","03","03","03","04",null,null,"000002397","TINTA",2397,null,"08","06","08","11","04","03","07","110403","080608",null,"INSERT INTO ESTABLEC VALUES('000002397','TINTA',2397,'','08','06','08','11','04','03','07','110403','080608')"]
[null,null,null,null,null,null,null,null,null,null,null,null,null,6,"000002332","CHINCHAYPUJIO                                                                                       ","02","03","03","04","0203","000002332 - CHINCHAYPUJIO                                                                                       ",null,null,null,null,null,"11","06","KOSÑIPATA","1106","1106 - KOSÑIPATA",null,null,"000002533","URPAY",null,null,null,null,null,"000002332","CHINCHAYPUJIO","02","03","03","04","04",null,null,"000002398","SANTO TOMAS",null,null,"08","07","01","11","06","00","11","110600","080701",null,"INSERT INTO ESTABLEC VALUES('000002398','SANTO TOMAS',,'','08','07','01','11','06','00','11','110600','080701')"]
[null,null,null,null,null,null,null,null,null,null,null,null,null,7,"000002333","HUAROCONDO                                                                                          ","02","03","03","05","0203","000002333 - HUAROCONDO                                                                                          ",null,null,null,null,null,"12","00","(All)","1200","1200 - (All)",null,null,"000002538","QUIQUIJANA",null,null,null,null,null,"000002333","HUAROCONDO","02","03","03","05","04",null,null,"000002399","PULPERA",null,null,"08","07","01","11","06","09","11","110609","080701",null,"INSERT INTO ESTABLEC VALUES('000002399','PULPERA',,'','08','07','01','11','06','09','11','110609','080701')"]
[null,null,null,null,null,null,null,null,null,null,null,null,null,0,"000002334","HUAYLLACOCHA                                                                                        ","02","03","03","05","0203","000002334 - HUAYLLACOCHA                                                                                        ",null,null,null,null,null,"12","01","URCOS","1201","1201 - URCOS",null,null,"000002539","COLCA QUIQUIJANA",null,null,null,null,null,"000002334","HUAYLLACOCHA","02","03","03","05","04",null,null,"000002400","ALHUACCHULLO",null,null,"08","07","01","11","06","09","11","110609","080701",null,"INSERT INTO ESTABLEC VALUES('000002400','ALHUACCHULLO',,'','08','07','01','11','06','09','11','110609','080701')"]
[null,null,null,null,null,null,null,null,null,null,null,null,null,1,"000002339","PUCYURA ANTA                                                                                        ","02","03","03","08","0203","000002339 - PUCYURA ANTA                                                                                        ",null,null,null,null,null,"12","02","ANDAHUAYLILLAS","1202","1202 - ANDAHUAYLILLAS",null,null,"000006980","CHILLIHUANI",null,null,null,null,null,"000002339","PUCYURA ANTA","02","03","03","08","04",null,null,"000002401","CCAPACMARCA",null,null,"08","07","02","11","06","09","11","110609","080702",null,"INSERT INTO ESTABLEC VALUES('000002401','CCAPACMARCA',,'','08','07','02','11','06','09','11','110609','080702')"]
[null,null,null,null,null,null,null,null,null,null,null,null,null,2,"000002340","ZURITE                                                                                              ","02","03","03","09","0203","000002340 - ZURITE                                                                                              ",null,null,null,null,null,"12","03","CAMANTI","1203","1203 - CAMANTI",null,null,"000008911","HUARA HUARA",null,null,null,null,null,"000002340","ZURITE","02","03","03","09","04",null,null,"000002402","CHAMACA",null,null,"08","07","03","11","06","01","11","110601","080703",null,"INSERT INTO ESTABLEC VALUES('000002402','CHAMACA',,'','08','07','03','11','06','01','11','110601','080703')"]
[null,null,null,null,null,null,null,null,null,null,null,null,null,3,"000006972","PANTIPATA                                                                                           ","02","03","03","04","0203","000006972 - PANTIPATA                                                                                           ",null,null,null,null,null,"12","04","CCARHUAYO","1204","1204 - CCARHUAYO",null,null,"000012931","CHICHINA",null,null,null,null,null,"000006972","PANTIPATA","02","03","03","04","04",null,null,"000002403","AÑAHUICHI",null,null,"08","07","03","11","06","01","11","110601","080703",null,"INSERT INTO ESTABLEC VALUES('000002403','AÑAHUICHI',,'','08','07','03','11','06','01','11','110601','080703')"]
[null,null,null,null,null,null,null,null,null,null,null,null,null,4,"000000000","(All)","02","04",null,null,"0204","000000000 - (All)",null,null,null,null,null,"12","05","CCATCA","1205","1205 - CCATCA",null,null,"000000000","(All)",null,null,null,null,null,"000000000","(All)","02","04",0,0,"04",null,null,"000002404","COLQUEMARCA",null,null,"08","07","04","11","06","09","11","110609","080704",null,"INSERT INTO ESTABLEC VALUES('000002404','COLQUEMARCA',,'','08','07','04','11','06','09','11','110609','080704')"]
[null,null,null,null,null,null,null,null,null,null,null,null,null,5,"000002336","LIMATAMBO                                                                                           ","02","04","03","06","0204","000002336 - LIMATAMBO                                                                                           ",null,null,null,null,null,"12","06","CUSIPATA","1206","1206 - CUSIPATA",null,null,"000002317","ACOMAYO",null,null,null,null,null,"000002336","LIMATAMBO","02","04","03","06","04",null,null,"000002405","CHARAMURAY",null,null,"08","07","04","11","06","09","11","110609","080704",null,"INSERT INTO ESTABLEC VALUES('000002405','CHARAMURAY',,'','08','07','04','11','06','09','11','110609','080704')"]
[null,null,null,null,null,null,null,null,null,null,null,null,null,6,"000002337","PAMPACONGA                                                                                          ","02","04","03","06","0204","000002337 - PAMPACONGA                                                                                          ",null,null,null,null,null,"12","07","HUARO","1207","1207 - HUARO",null,null,"000002319","ACOS",null,null,null,null,null,"000002337","PAMPACONGA","02","04","03","06","04",null,null,"000002406","LIVITACA",null,null,"08","07","05","11","06","01","11","110601","080705",null,"INSERT INTO ESTABLEC VALUES('000002406','LIVITACA',,'','08','07','05','11','06','01','11','110601','080705')"]
[null,null,null,null,null,null,null,null,null,null,null,null,null,7,"000002338","MOLLEPATA                                                                                           ","02","04","03","07","0204","000002338 - MOLLEPATA                                                                                           ",null,null,null,null,null,"12","08","LUCRE","1208","1208 - LUCRE",null,null,"000002508","PILLPINTO",null,null,null,null,null,"000002338","MOLLEPATA","02","04","03","07","04",null,null,"000002407","LLUSCO",null,null,"08","07","06","11","06","09","11","110609","080706",null,"INSERT INTO ESTABLEC VALUES('000002407','LLUSCO',,'','08','07','06','11','06','09','11','110609','080706')"]
[null,null,null,null,null,null,null,null,null,null,null,null,null,8,"000010761","URATARI                                                                                             ","02","04","03","06","0204","000010761 - URATARI                                                                                             ",null,null,null,null,null,"12","09","MARCAPATA","1209","1209 - MARCAPATA",null,null,"000000000","(All)",null,null,null,null,null,"000010761","URATARI","02","04","03","06","04",null,null,"000002408","QUI¥OTA",null,null,"08","07","07","11","06","09","11","110609","080707",null,"INSERT INTO ESTABLEC VALUES('000002408','QUI¥OTA',,'','08','07','07','11','06','09','11','110609','080707')"]
[null,null,null,null,null,null,null,null,null,null,null,null,null,9,"000021061","HUAMANPATA                                                                                          ","02","04","03","07","0204","000021061 - HUAMANPATA                                                                                          ",null,null,null,null,null,"12","10","OCONGATE","1210","1210 - OCONGATE",null,null,"000002318","ACOPIA",null,null,null,null,null,"000021061","HUAMANPATA","02","04","03","07","04",null,null,"000002409","VELILLE",null,null,"08","07","08","11","06","09","11","110609","080708",null,"INSERT INTO ESTABLEC VALUES('000002409','VELILLE',,'','08','07','08','11','06','09','11','110609','080708')"]
[null,null,null,null,null,null,null,null,null,null,null,null,null,10,"000000000","(All)","02","05",null,null,"0205","000000000 - (All)",null,null,null,null,null,"12","11","OROPESA","1211","1211 - OROPESA",null,null,"000002321","POMACANCHI",null,null,null,null,null,"000000000","(All)","02","05",0,0,"04",null,null,"000002410","YAURI",{"$f":"VALUE(AY125)","v":2410},null,"08","08","01","11","04","06","07","110406","080801",null,"INSERT INTO ESTABLEC VALUES('000002410','YAURI',2410,'','08','08','01','11','04','06','07','110406','080801')"]
[null,null,null,null,null,null,null,null,null,null,null,null,null,null,"000002343","COYA                                                                                                ","02","05","04","02","0205","000002343 - COYA                                                                                                ",null,null,null,null,null,"12","12","QUIQUIJANA","1212","1212 - QUIQUIJANA",null,null,"000002322","SAN JUAN DE POMACANCHI",null,null,null,null,null,"000002343","COYA","02","05","04","02","04",null,null,"000002411","CONDOROMA",2411,null,"08","08","02","11","04","06","07","110406","080802",null,"INSERT INTO ESTABLEC VALUES('000002411','CONDOROMA',2411,'','08','08','02','11','04','06','07','110406','080802')"]
[null,null,null,null,null,null,null,null,null,null,null,null,null,null,"000002344","LAMAY                                                                                               ","02","05","04","03","0205","000002344 - LAMAY                                                                                               ",null,null,null,null,null,"13","00","(All)","1300","1300 - (All)",null,null,"000002324","SANGARARA",null,null,null,null,null,"000002344","LAMAY","02","05","04","03","04",null,null,"000002412","COPORAQUE",2412,null,"08","08","03","11","04","06","07","110406","080803",null,"INSERT INTO ESTABLEC VALUES('000002412','COPORAQUE',2412,'','08','08','03','11','04','06','07','110406','080803')"]
[null,null,null,null,null,null,null,null,null,null,null,null,null,null,"000002348","PISAC                                                                                               ","02","05","04","05","0205","000002348 - PISAC                                                                                               ",null,null,null,null,null,"13","01","URUBAMBA","1301","1301 - URUBAMBA",null,null,"000002325","MARCACONGA",null,null,null,null,null,"000002348","PISAC","02","05","04","05","04",null,null,"000002413","URINSAYA",2413,null,"08","08","03","11","04","06","07","110406","080803",null,"INSERT INTO ESTABLEC VALUES('000002413','URINSAYA',2413,'','08','08','03','11','04','06','07','110406','080803')"]
[null,null,null,null,null,null,null,null,null,null,null,null,null,null,"000002349","CUYO CHICO                                                                                          ","02","05","04","05","0205","000002349 - CUYO CHICO                                                                                          ",null,null,null,null,null,"13","02","CHINCHERO","1302","1302 - CHINCHERO",null,null,"000012926","SANTA  LUCIA",null,null,null,null,null,"000002349","CUYO CHICO","02","05","04","05","04",null,null,"000002414","HUAYHUAHUASI",2414,null,"08","08","03","11","04","06","07","110406","080803",null,"INSERT INTO ESTABLEC VALUES('000002414','HUAYHUAHUASI',2414,'','08','08','03','11','04','06','07','110406','080803')"]
[null,null,null,null,null,null,null,null,null,null,null,null,null,null,"000002350","CUYO GRANDE                                                                                         ","02","05","04","05","0205","000002350 - CUYO GRANDE                                                                                         ",null,null,null,null,null,"13","03","HUAYLLABAMBA","1303","1303 - HUAYLLABAMBA",null,null,"000000000","(All)",null,null,null,null,null,"000002350","CUYO GRANDE","02","05","04","05","04",null,null,"000002415","OCCORURO",2415,null,"08","08","04","11","04","06","07","110406","080804",null,"INSERT INTO ESTABLEC VALUES('000002415','OCCORURO',2415,'','08','08','04','11','04','06','07','110406','080804')"]
[null,null,null,null,null,null,null,null,null,null,null,null,null,null,"000002351","QUELLO QUELLO                                                                                       ","02","05","04","05","0205","000002351 - QUELLO QUELLO                                                                                       ",null,null,null,null,null,"13","04","MACHUPICCHU","1304","1304 - MACHUPICCHU",null,null,"000002526","QUINCEMIL",null,null,null,null,null,"000002351","QUELLO QUELLO","02","05","04","05","04",null,null,"000002416","PALLPATA",2416,null,"08","08","05","11","04","06","07","110406","080805",null,"INSERT INTO ESTABLEC VALUES('000002416','PALLPATA',2416,'','08','08','05','11','04','06','07','110406','080805')"]
[null,null,null,null,null,null,null,null,null,null,null,null,null,null,"000002352","SAN SALVADOR                                                                                        ","02","05","04","06","0205","000002352 - SAN SALVADOR                                                                                        ",null,null,null,null,null,"13","05","MARAS","1305","1305 - MARAS",null,null,"000002527","CARHUAYO",null,null,null,null,null,"000002352","SAN SALVADOR","02","05","04","06","04",null,null,"000002417","PICHIGUA ESPINAR",2417,null,"08","08","06","11","04","06","07","110406","080806",null,"INSERT INTO ESTABLEC VALUES('000002417','PICHIGUA ESPINAR',2417,'','08','08','06','11','04','06','07','110406','080806')"]
[null,null,null,null,null,null,null,null,null,null,null,null,null,null,"000002353","TARAY                                                                                               ","02","05","04","07","0205","000002353 - TARAY                                                                                               ",null,null,null,null,null,"13","06","OLLANTAYTAMBO","1306","1306 - OLLANTAYTAMBO",null,null,"000002535","MARCAPATA",null,null,null,null,null,"000002353","TARAY","02","05","04","07","04",null,null,"000002418","SAN MIGUEL",2418,null,"08","08","06","11","04","06","07","110406","080806",null,"INSERT INTO ESTABLEC VALUES('000002418','SAN MIGUEL',2418,'','08','08','06','11','04','06','07','110406','080806')"]
[null,null,null,null,null,null,null,null,null,null,null,null,null,null,"000002354","HUANCALLE                                                                                           ","02","05","04","07","0205","000002354 - HUANCALLE                                                                                           ",null,null,null,null,null,"13","07","YUCAY",{"$f":"CONCATENATE(AB134,AC134)","v":"1307"},"1307 - YUCAY",null,null,"000002536","OCONGATE",null,null,null,null,null,"000002354","HUANCALLE","02","05","04","07","04",null,null,"000002419","SUYKUTAMBO",2419,null,"08","08","07","11","04","06","07","110406","080807",null,"INSERT INTO ESTABLEC VALUES('000002419','SUYKUTAMBO',2419,'','08','08','07','11','04','06','07','110406','080807')"]
[null,null,null,null,null,null,null,null,null,null,null,null,null,null,"000006970","TIRACANCHA                                                                                          ","02","05","04","06","0205","000006970 - TIRACANCHA                                                                                          ",null,null,null,null,null,"00","00","(All)",{"$f":"CONCATENATE(AB135,AC135)","v":"0000"},"0000 - (All)",null,null,"000006977","TINKI",null,null,null,null,null,"000006970","TIRACANCHA","02","05","04","06","04",null,null,"000002420","ACCOCUNCA",2420,null,"08","08","08","11","04","06","07","110406","080808",null,"INSERT INTO ESTABLEC VALUES('000002420','ACCOCUNCA',2420,'','08','08','08','11','04','06','07','110406','080808')"]
[null,null,null,null,null,null,null,null,null,null,null,null,null,null,"000006975","SAYLLAFAYA                                                                                          ","02","05","04","03","0205","000006975 - SAYLLAFAYA                                                                                          ",null,null,null,null,null,null,null,null,null,null,null,null,"000007110","INCACANCHA",null,null,null,null,null,"000006975","SAYLLAFAYA","02","05","04","03","04",null,null,"000002421","QUILLABAMBA",2421,null,"08","09","01","11","03","00","06","110300","080901",null,"INSERT INTO ESTABLEC VALUES('000002421','QUILLABAMBA',2421,'','08','09','01','11','03','00','06','110300','080901')"]
[null,null,null,null,null,null,null,null,null,null,null,null,null,null,"000007145","HUAMA                                                                                               ","02","05","04","03","0205","000007145 - HUAMA                                                                                               ",null,null,null,null,null,null,null,null,null,null,null,null,"000016335","CCAPANA",null,null,null,null,null,"000007145","HUAMA","02","05","04","03","04",null,null,"000002422","HUAYANAY",2422,null,"08","09","01","11","03","01","05","110301","080901",null,"INSERT INTO ESTABLEC VALUES('000002422','HUAYANAY',2422,'','08','09','01','11','03','01','05','110301','080901')"]
[null,null,null,null,null,null,null,null,null,null,null,null,null,null,"000007146","POQUES                                                                                              ","02","05","04","03","0205","000007146 - POQUES                                                                                              ",null,null,null,null,null,null,null,null,null,null,null,null,"000000000","(All)",null,null,null,null,null,{"$f":"+O138","v":"000007146"},"POQUES","02","05","04","03","04",null,null,"000002423","IDMA",2423,null,"08","09","01","11","03","01","05",{"$f":"CONCATENATE(BF138,BG138,BH138)","v":"110301"},{"$f":"CONCATENATE(BC138,BD138,BE138)","v":"080901"},null,"INSERT INTO ESTABLEC VALUES('000002423','IDMA',2423,'','08','09','01','11','03','01','05','110301','080901')"]
[null,null,null,null,null,null,null,null,null,null,null,null,null,null,"000025368","HUARQUI","02","05","04","03","0205","000025368 - HUARQUI",null,null,null,null,null,null,null,null,null,null,null,null,"000002292","INDEPENDENCIA",null,null,null,null,null,"000025368",{"$f":"TRIM(P139)","v":"HUARQUI"},"02","05","04","03","04",null,null,"000002424","POTRERO",2424,null,"08","09","01","11","03","01","05","110301","080901",null,{"$f":"CONCATENATE(\"INSERT INTO ESTABLEC VALUES('\",AY139,\"','\",AZ139,\"',\",BA139,\",'\",BB139,\"','\",BC139,\"','\",BD139,\"','\",BE139,\"','\",BF139,\"','\",BG139,\"','\",BH139,\"','\",BI139,,\"','\",BJ139,\"','\",BK139,\"')\")","v":"INSERT INTO ESTABLEC VALUES('000002424','POTRERO',2424,'','08','09','01','11','03','01','05','110301','080901')"}]
[null,null,null,null,null,null,null,null,null,null,null,null,null,null,"000000000","(All)","02","06",null,null,"0206","000000000 - (All)",null,null,null,null,null,null,null,null,null,null,null,null,"000002297","CCORCCA",null,null,null,null,null,"000000000","(All)","02","06",0,0,"04",null,null,"000002425","ECHARATE",2425,null,"08","09","02","11","03","01","05","110301","080902",null,"INSERT INTO ESTABLEC VALUES('000002425','ECHARATE',2425,'','08','09','02','11','03','01','05','110301','080902')"]
[null,null,null,null,null,null,null,null,null,null,null,null,null,null,"000002341","CALCA                                                                                               ","02","06","04","01",{"$f":"CONCATENATE(Q141,R141)","v":"0206"},{"$f":"CONCATENATE(O141,\" - \",P141)","v":"000002341 - CALCA                                                                                               "},null,null,null,null,null,null,null,null,null,null,null,null,"000002306","BELEMPAMPA",null,null,null,null,null,"000002341","CALCA","02","06","04","01","04",null,null,"000002426","KIRIGUETI",2426,null,"08","09","14","11","03","05","05","110305","080914",null,"INSERT INTO ESTABLEC VALUES('000002426','KIRIGUETI',2426,'','08','09','14','11','03','05','05','110305','080914')"]
[null,null,null,null,null,null,null,null,null,null,null,null,null,null,"000002342","AMPARAES                                                                                            ","02","06","04","04","0206","000002342 - AMPARAES                                                                                            ",null,null,null,null,null,null,null,null,null,null,null,null,"000002308","ZARZUELA ALTA",null,null,null,null,null,"000002342","AMPARAES","02","06","04","04","04",null,null,"000002427","KITENI",2427,null,"08","09","02","11","03","04","05","110304","080902",null,"INSERT INTO ESTABLEC VALUES('000002427','KITENI',2427,'','08','09','02','11','03','04','05','110304','080902')"]
[null,null,null,null,null,null,null,null,null,null,null,null,null,null,"000002345","CCACHIN                                                                                             ","02","06","04","04","0206","000002345 - CCACHIN                                                                                             ",null,null,null,null,null,null,null,null,null,null,null,null,"000002309","DIGNIDAD NACIONAL",null,null,null,null,null,"000002345","CCACHIN","02","06","04","04","04",null,null,"000002428","CHOCORIARI",2428,null,"08","09","14","11","03","05","05","110305","080914",null,"INSERT INTO ESTABLEC VALUES('000002428','CHOCORIARI',2428,'','08','09','14','11','03','05','05','110305','080914')"]
[null,null,null,null,null,null,null,null,null,null,null,null,null,null,"000002346","CHOQUECANCHA                                                                                        ","02","06","04","04","0206","000002346 - CHOQUECANCHA                                                                                        ",null,null,null,null,null,null,null,null,null,null,null,null,"000002313","OCCOPATA",null,null,null,null,null,"000002346","CHOQUECANCHA","02","06","04","04","04",null,null,"000002429","CIRIALO",2429,null,"08","09","02","11","03","07","05","110307","080902",null,"INSERT INTO ESTABLEC VALUES('000002429','CIRIALO',2429,'','08','09','02','11','03','07','05','110307','080902')"]
[null,null,null,null,null,null,null,null,null,null,null,null,null,null,"000002347","LARES                                                                                               ","02","06","04","04","0206","000002347 - LARES                                                                                               ",null,null,null,null,null,null,null,null,null,null,null,null,"000000000","(All)",null,null,null,null,null,"000002347","LARES","02","06","04","04","04",null,null,"000002430","PAMPA CONCEPCION",2430,null,"08","09","02","11","03","01","05","110301","080902",null,"INSERT INTO ESTABLEC VALUES('000002430','PAMPA CONCEPCION',2430,'','08','09','02','11','03','01','05','110301','080902')"]
[null,null,null,null,null,null,null,null,null,null,null,null,null,null,"000002361","SUYO                                                                                                ","02","06","04","04","0206","000002361 - SUYO                                                                                                ",null,null,null,null,null,null,null,null,null,null,null,null,"000002302","CCORAO",null,null,null,null,null,"000002361","SUYO","02","06","04","04","04",null,null,"000002431","IVOCHOTE",2431,null,"08","09","02","11","03","04","05","110304","080902",null,"INSERT INTO ESTABLEC VALUES('000002431','IVOCHOTE',2431,'','08','09','02','11','03','04','05','110304','080902')"]
[null,null,null,null,null,null,null,null,null,null,null,null,null,null,"000002515","PAROBAMBA                                                                                           ","02","06",11,"03","0206","000002515 - PAROBAMBA                                                                                           ",null,null,null,null,null,null,null,null,null,null,null,null,"000002307","MANCO CAPAC",null,null,null,null,null,"000002515","PAROBAMBA","02","06",11,"03","04",null,null,"000002432","KEPASHIATO",2432,null,"08","09","02","11","03","04","05","110304","080902",null,"INSERT INTO ESTABLEC VALUES('000002432','KEPASHIATO',2432,'','08','09','02','11','03','04','05','110304','080902')"]
[null,null,null,null,null,null,null,null,null,null,null,null,null,null,"000007143","OTOCANI                                                                                             ","02","06",11,"03","0206","000007143 - OTOCANI                                                                                             ",null,null,null,null,null,null,null,null,null,null,null,null,"000002310","CHOCCO",null,null,null,null,null,"000007143","OTOCANI","02","06",11,"03","04",null,null,"000002433","KORIBENI",2433,null,"08","09","02","11","03","07","05","110307","080902",null,"INSERT INTO ESTABLEC VALUES('000002433','KORIBENI',2433,'','08','09','02','11','03','07','05','110307','080902')"]
[null,null,null,null,null,null,null,null,null,null,null,null,null,null,"000007144","PATABAMBA                                                                                           ","02","06","04","07","0206","000007144 - PATABAMBA                                                                                           ",null,null,null,null,null,null,null,null,null,null,null,null,"000002315","WANCHAQ",null,null,null,null,null,"000007144","PATABAMBA","02","06","04","07","04",null,null,"000002434","MATERIATO",2434,null,"08","09","02","11","03","04","05","110304","080902",null,"INSERT INTO ESTABLEC VALUES('000002434','MATERIATO',2434,'','08','09','02','11','03','04','05','110304','080902')"]
[null,null,null,null,null,null,null,null,null,null,null,null,null,null,"000010069","ESSALUD CALCA                                                                                       ","02","06","04","01","0206","000010069 - ESSALUD CALCA                                                                                       ",null,null,null,null,null,null,null,null,null,null,null,null,"000002316","TTIO",null,null,null,null,null,"000010069","ESSALUD CALCA","02","06","04","01","04",null,null,"000002435","MIARIA",2435,null,"08","09","14","11","03","05","05","110305","080914",null,"INSERT INTO ESTABLEC VALUES('000002435','MIARIA',2435,'','08','09','14','11','03','05','05','110305','080914')"]
[null,null,null,null,null,null,null,null,null,null,null,null,null,null,"000010759","HUARAN                                                                                              ","02","06","04","01","0206","000010759 - HUARAN                                                                                              ",null,null,null,null,null,null,null,null,null,null,null,null,"000000000","(All)",null,null,null,null,null,"000010759","HUARAN","02","06","04","01","04",null,null,"000002436","NUEVA LUZ",2436,null,"08","09","14","11","03","05","05","110305","080914",null,"INSERT INTO ESTABLEC VALUES('000002436','NUEVA LUZ',2436,'','08','09','14','11','03','05','05','110305','080914')"]
[null,null,null,null,null,null,null,null,null,null,null,null,null,null,"000010762","ACCHA ALTA - PAMPALLACTA                                                                            ","02","06","04","01","0206","000010762 - ACCHA ALTA - PAMPALLACTA                                                                            ",null,null,null,null,null,null,null,null,null,null,null,null,"000002326","ANTA",null,null,null,null,null,"000010762","ACCHA ALTA - PAMPALLACTA","02","06","04","01","04",null,null,"000002437","NUEVO MUNDO",2437,null,"08","09","14","11","03","05","05","110305","080914",null,"INSERT INTO ESTABLEC VALUES('000002437','NUEVO MUNDO',2437,'','08','09','14','11','03','05','05','110305','080914')"]
[null,null,null,null,null,null,null,null,null,null,null,null,null,null,"000026273","MENTAL VIRGEN ASUNTA","02","06","04","01","0206","000026273 - MENTAL VIRGEN ASUNTA",null,null,null,null,null,null,null,null,null,null,null,null,"000002327","CHACAN",null,null,null,null,null,"000026273","MENTAL VIRGEN ASUNTA",{"$f":"+Q153","v":"02"},"06","04","01","04",null,null,"000002438","PACHIRI",2438,null,"08","09","02","11","03","04","05","110304","080902",null,"INSERT INTO ESTABLEC VALUES('000002438','PACHIRI',2438,'','08','09','02','11','03','04','05','110304','080902')"]
[null,null,null,null,null,null,null,null,null,null,null,null,null,null,"000000000","(All)","02","07",null,null,"0207","000000000 - (All)",null,null,null,null,null,null,null,null,null,null,null,null,"000002328","COMPONE",null,null,null,null,null,"000000000","(All)","02","07",0,0,"04",null,null,"000002439","PALMA REAL",2439,null,"08","09","02","11","03","07","05","110307","080902",null,"INSERT INTO ESTABLEC VALUES('000002439','PALMA REAL',2439,'','08','09','02','11','03','07','05','110307','080902')"]
[null,null,null,null,null,null,null,null,null,null,null,null,null,null,"000002540","URUBAMBA                                                                                            ","02","07",13,"01","0207","000002540 - URUBAMBA                                                                                            ",null,null,null,null,null,null,null,null,null,null,null,null,"000002329","CONCHACALLA",null,null,null,null,null,"000002540","URUBAMBA","02","07",13,"01","04",null,null,"000002440","PANGOA",2440,null,"08","09","02","11","03","04","05","110304","080902",null,"INSERT INTO ESTABLEC VALUES('000002440','PANGOA',2440,'','08','09','02','11','03','04','05','110304','080902')"]
[null,null,null,null,null,null,null,null,null,null,null,null,null,null,"000002541","YANAHUARA                                                                                           ","02","07",13,"01","0207","000002541 - YANAHUARA                                                                                           ",null,null,null,null,null,null,null,null,null,null,null,null,"000002330","ANCAHUASI",null,null,null,null,null,"000002541","YANAHUARA","02","07",13,"01","04",null,null,"000002441","PUERTO HUALLANA",2441,null,"08","09","14","11","03","05","05","110305","080914",null,"INSERT INTO ESTABLEC VALUES('000002441','PUERTO HUALLANA',2441,'','08','09','14','11','03','05','05','110305','080914')"]
[null,null,null,null,null,null,null,null,null,null,null,null,null,null,"000002543","CHINCHERO                                                                                           ","02","07",13,"02","0207","000002543 - CHINCHERO                                                                                           ",null,null,null,null,null,null,null,null,null,null,null,null,"000002331","CACHIMAYO",null,null,null,null,null,"000002543","CHINCHERO","02","07",13,"02","04",null,null,"000002442","PUERTO RICO",2442,null,"08","09","14","11","03","05","05","110305","080914",null,"INSERT INTO ESTABLEC VALUES('000002442','PUERTO RICO',2442,'','08','09','14','11','03','05','05','110305','080914')"]
[null,null,null,null,null,null,null,null,null,null,null,null,null,null,"000002544","OCCOTUAN                                                                                            ","02","07",13,"02","0207","000002544 - OCCOTUAN                                                                                            ",null,null,null,null,null,null,null,null,null,null,null,null,"000002332","CHINCHAYPUJIO",null,null,null,null,null,"000002544","OCCOTUAN","02","07",13,"02","04",null,null,"000002443","SANIRIATO",2443,null,"08","09","02","11","03","04","05","110304","080902",null,"INSERT INTO ESTABLEC VALUES('000002443','SANIRIATO',2443,'','08','09','02','11','03','04','05','110304','080902')"]
[null,null,null,null,null,null,null,null,null,null,null,null,null,null,"000002545","HUAYLLABAMBA                                                                                        ","02","07",13,"03","0207","000002545 - HUAYLLABAMBA                                                                                        ",null,null,null,null,null,null,null,null,null,null,null,null,"000002333","HUAROCONDO",null,null,null,null,null,"000002545","HUAYLLABAMBA","02","07",13,"03","04",null,null,"000002444","SENSA",2444,null,"08","09","14","11","03","05","05","110305","080914",null,"INSERT INTO ESTABLEC VALUES('000002444','SENSA',2444,'','08','09','14','11','03','05','05','110305','080914')"]
[null,null,null,null,null,null,null,null,null,null,null,null,null,null,"000002546","MACHUPICCHU                                                                                         ","02","07",13,"04","0207","000002546 - MACHUPICCHU                                                                                         ",null,null,null,null,null,null,null,null,null,null,null,null,"000002334","HUAYLLACOCHA",null,null,null,null,null,"000002546","MACHUPICCHU","02","07",13,"04","04",null,null,"000002445","TIMPIA",2445,null,"08","09","14","11","03","05","05","110305","080914",null,"INSERT INTO ESTABLEC VALUES('000002445','TIMPIA',2445,'','08','09','14','11','03','05','05','110305','080914')"]
[null,null,null,null,null,null,null,null,null,null,null,null,null,null,"000002547","COLLPANI                                                                                            ","02","07",13,"04","0207","000002547 - COLLPANI                                                                                            ",null,null,null,null,null,null,null,null,null,null,null,null,"000002339","PUCYURA ANTA",null,null,null,null,null,"000002547","COLLPANI","02","07",13,"04","04",null,null,"000002446","CHACCO",2446,null,"08","09","02","11","03","01","05","110301","080902",null,"INSERT INTO ESTABLEC VALUES('000002446','CHACCO',2446,'','08','09','02','11','03','01','05','110301','080902')"]
[null,null,null,null,null,null,null,null,null,null,null,null,null,null,"000002548","MARAS                                                                                               ","02","07",13,"05","0207","000002548 - MARAS                                                                                               ",null,null,null,null,null,null,null,null,null,null,null,null,"000002340","ZURITE",null,null,null,null,null,"000002548","MARAS","02","07",13,"05","04",null,null,"000002447","KAMANQUIRIATO",2447,null,"08","09","02","11","03","04","05","110304","080902",null,"INSERT INTO ESTABLEC VALUES('000002447','KAMANQUIRIATO',2447,'','08','09','02','11','03','04','05','110304','080902')"]
[null,null,null,null,null,null,null,null,null,null,null,null,null,null,"000002549","OLLANTAYTAMBO                                                                                       ","02","07",13,"06","0207","000002549 - OLLANTAYTAMBO                                                                                       ",null,null,null,null,null,null,null,null,null,null,null,null,"000006972","PANTIPATA",null,null,null,null,null,"000002549","OLLANTAYTAMBO","02","07",13,"06","04",null,null,"000002448","KAMISEA",2448,null,"08","09","14","11","03","05","05","110305","080914",null,"INSERT INTO ESTABLEC VALUES('000002448','KAMISEA',2448,'','08','09','14','11','03','05','05','110305','080914')"]
[null,null,null,null,null,null,null,null,null,null,null,null,null,null,"000002550","CHILLCA                                                                                             ","02","07",13,"06","0207","000002550 - CHILLCA                                                                                             ",null,null,null,null,null,null,null,null,null,null,null,null,"000000000","(All)",null,null,null,null,null,"000002550","CHILLCA","02","07",13,"06","04",null,null,"000002449","ICHIQUIATO",2449,null,"08","09","02","11","03","07","05","110307","080902",null,"INSERT INTO ESTABLEC VALUES('000002449','ICHIQUIATO',2449,'','08','09','02','11','03','07','05','110307','080902')"]
[null,null,null,null,null,null,null,null,null,null,null,null,null,null,"000002551","YUCAY                                                                                               ","02","07",13,"07","0207","000002551 - YUCAY                                                                                               ",null,null,null,null,null,null,null,null,null,null,null,null,"000002336","LIMATAMBO",null,null,null,null,null,"000002551","YUCAY","02","07",13,"07","04",null,null,"000002450","SAN ANTONIO",2450,null,"08","09","02","11","03","07","05","110307","080902",null,"INSERT INTO ESTABLEC VALUES('000002450','SAN ANTONIO',2450,'','08','09','02','11','03','07','05','110307','080902')"]
[null,null,null,null,null,null,null,null,null,null,null,null,null,null,"000006974","CAMINO INCA HUAYLLABAMBA                                                                            ","02","07",13,"04","0207","000006974 - CAMINO INCA HUAYLLABAMBA                                                                            ",null,null,null,null,null,null,null,null,null,null,null,null,"000002337","PAMPACONGA",null,null,null,null,null,"000006974","CAMINO INCA HUAYLLABAMBA","02","07",13,"04","04",null,null,"000002451","CHAHUARES",2451,null,"08","09","02","11","03","01","05","110301","080902",null,"INSERT INTO ESTABLEC VALUES('000002451','CHAHUARES',2451,'','08','09','02','11','03','01','05','110301','080902')"]
[null,null,null,null,null,null,null,null,null,null,null,null,null,null,"000010060","CAS URUBAMBA - ESSALUD                                                                              ","02","07",13,"01","0207","000010060 - CAS URUBAMBA - ESSALUD                                                                              ",null,null,null,null,null,null,null,null,null,null,null,null,"000002338","MOLLEPATA",null,null,null,null,null,"000010060","CAS URUBAMBA - ESSALUD","02","07",13,"01","04",null,null,"000002452","SHIVANKORENI",2452,null,"08","09","14","11","03","05","05","110305","080914",null,"INSERT INTO ESTABLEC VALUES('000002452','SHIVANKORENI',2452,'','08','09','14','11','03','05','05','110305','080914')"]
[null,null,null,null,null,null,null,null,null,null,null,null,null,null,"000010073","MACHU PICCHU - ESSALUD                                                                              ","02","07",13,"04","0207","000010073 - MACHU PICCHU - ESSALUD                                                                              ",null,null,null,null,null,null,null,null,null,null,null,null,"000010761","URATARI",null,null,null,null,null,"000010073","MACHU PICCHU - ESSALUD","02","07",13,"04","04",null,null,"000002453","HUYRO",2453,null,"08","09","03","11","03","02","05","110302","080903",null,"INSERT INTO ESTABLEC VALUES('000002453','HUYRO',2453,'','08','09','03','11','03','02','05','110302','080903')"]
[null,null,null,null,null,null,null,null,null,null,null,null,null,null,"000010758","CRUZPATA                                                                                            ","02","07",13,"05","0207","000010758 - CRUZPATA                                                                                            ",null,null,null,null,null,null,null,null,null,null,null,null,"000000000","(All)",null,null,null,null,null,"000010758","CRUZPATA","02","07",13,"05","04",null,null,"000002454","ALFAMAYO",2454,null,"08","09","03","11","03","02","05","110302","080903",null,"INSERT INTO ESTABLEC VALUES('000002454','ALFAMAYO',2454,'','08','09','03','11','03','02','05','110302','080903')"]
[null,null,null,null,null,null,null,null,null,null,null,null,null,null,"000010760","PATACANCHA                                                                                          ","02","07",13,"06","0207","000010760 - PATACANCHA                                                                                          ",null,null,null,null,null,null,null,null,null,null,null,null,"000002343","COYA",null,null,null,null,null,"000010760","PATACANCHA","02","07",13,"06","04",null,null,"000002455","HUAYOPATA",2455,null,"08","09","03","11","03","02","05","110302","080903",null,"INSERT INTO ESTABLEC VALUES('000002455','HUAYOPATA',2455,'','08','09','03','11','03','02','05','110302','080903')"]
[null,null,null,null,null,null,null,null,null,null,null,null,null,null,"000000000","(All)","02","08",null,null,"0208","000000000 - (All)",null,null,null,null,null,null,null,null,null,null,null,null,"000002344","LAMAY",null,null,null,null,null,"000000000","(All)","02","08",0,0,"04",null,null,"000002456","AMAYBAMBA",2456,null,"08","09","03","11","03","02","05","110302","080903",null,"INSERT INTO ESTABLEC VALUES('000002456','AMAYBAMBA',2456,'','08','09','03','11','03','02','05','110302','080903')"]
[null,null,null,null,null,null,null,null,null,null,null,null,null,null,"000002355","LA QUEBRADA                                                                                         ","02","08","04","08","0208","000002355 - LA QUEBRADA                                                                                         ",null,null,null,null,null,null,null,null,null,null,null,null,"000002348","PISAC",null,null,null,null,null,"000002355","LA QUEBRADA","02","08","04","08","04",null,null,"000002457","SAN PABLO HUAYOPATA",2457,null,"08","09","03","11","03","02","05","110302","080903",null,"INSERT INTO ESTABLEC VALUES('000002457','SAN PABLO HUAYOPATA',2457,'','08','09','03','11','03','02','05','110302','080903')"]
[null,null,null,null,null,null,null,null,null,null,null,null,null,null,"000002356","CCORIMAYO                                                                                           ","02","08","04","08","0208","000002356 - CCORIMAYO                                                                                           ",null,null,null,null,null,null,null,null,null,null,null,null,"000002349","CUYO CHICO",null,null,null,null,null,"000002356","CCORIMAYO","02","08","04","08","04",null,null,"000002458","MARANURA",2458,null,"08","09","04","11","03","02","05","110302","080904",null,"INSERT INTO ESTABLEC VALUES('000002458','MARANURA',2458,'','08','09','04','11','03','02','05','110302','080904')"]
[null,null,null,null,null,null,null,null,null,null,null,null,null,null,"000002357","COLCCA YANATILE                                                                                     ","02","08","04","08","0208","000002357 - COLCCA YANATILE                                                                                     ",null,null,null,null,null,null,null,null,null,null,null,null,"000002350","CUYO GRANDE",null,null,null,null,null,"000002357","COLCCA YANATILE","02","08","04","08","04",null,null,"000002460","SANTA MARIA",2460,null,"08","09","04","11","03","02","05","110302","080904",null,"INSERT INTO ESTABLEC VALUES('000002460','SANTA MARIA',2460,'','08','09','04','11','03','02','05','110302','080904')"]
[null,null,null,null,null,null,null,null,null,null,null,null,null,null,"000002358","MUYUPAY                                                                                             ","02","08","04","08","0208","000002358 - MUYUPAY                                                                                             ",null,null,null,null,null,null,null,null,null,null,null,null,"000002351","QUELLO QUELLO",null,null,null,null,null,"000002358","MUYUPAY","02","08","04","08","04",null,null,"000002461","UCHUMAYO",2461,null,"08","09","04","11","03","02","05","110302","080904",null,"INSERT INTO ESTABLEC VALUES('000002461','UCHUMAYO',2461,'','08','09','04','11','03','02','05','110302','080904')"]
[null,null,null,null,null,null,null,null,null,null,null,null,null,null,"000002359","PUTUCUSI                                                                                            ","02","08","04","08","0208","000002359 - PUTUCUSI                                                                                            ",null,null,null,null,null,null,null,null,null,null,null,null,"000002352","SAN SALVADOR",null,null,null,null,null,"000002359","PUTUCUSI","02","08","04","08","04",null,null,"000002462","OCCOBAMBA LACONVENCION",2462,null,"08","09","05","11","03","03","05","110303","080905",null,"INSERT INTO ESTABLEC VALUES('000002462','OCCOBAMBA LACONVENCION',2462,'','08','09','05','11','03','03','05','110303','080905')"]
[null,null,null,null,null,null,null,null,null,null,null,null,null,null,"000002360","QUESQUENTO                                                                                          ","02","08","04","08","0208","000002360 - QUESQUENTO                                                                                          ",null,null,null,null,null,null,null,null,null,null,null,null,"000002353","TARAY",null,null,null,null,null,"000002360","QUESQUENTO","02","08","04","08","04",null,null,"000002463","CHINGANILLA",2463,null,"08","09","05","11","03","03","05","110303","080905",null,"INSERT INTO ESTABLEC VALUES('000002463','CHINGANILLA',2463,'','08','09','05','11','03','03','05','110303','080905')"]
[null,null,null,null,null,null,null,null,null,null,null,null,null,null,"000002362","HUACHIBAMBA                                                                                         ","02","08","04","08","0208","000002362 - HUACHIBAMBA                                                                                         ",null,null,null,null,null,null,null,null,null,null,null,null,"000002354","HUANCALLE",null,null,null,null,null,"000002362","HUACHIBAMBA","02","08","04","08","04",null,null,"000002464","VERSALLES",2464,null,"08","09","05","11","02","08","04","110208","080905",null,"INSERT INTO ESTABLEC VALUES('000002464','VERSALLES',2464,'','08','09','05','11','02','08','04','110208','080905')"]
[null,null,null,null,null,null,null,null,null,null,null,null,null,null,"000002464","VERSALLES                                                                                           ","02","08","09","05","0208","000002464 - VERSALLES                                                                                           ",null,null,null,null,null,null,null,null,null,null,null,null,"000006970","TIRACANCHA",null,null,null,null,null,"000002464","VERSALLES","02","08","09","05","04",null,null,"000002465","QUELLOUNO",2465,null,"08","09","06","11","03","03","05","110303","080906",null,"INSERT INTO ESTABLEC VALUES('000002465','QUELLOUNO',2465,'','08','09','06','11','03','03','05','110303','080906')"]
[null,null,null,null,null,null,null,null,null,null,null,null,null,null,"000002467","PUENTE SANTIAGO                                                                                     ","02","08","09","06","0208","000002467 - PUENTE SANTIAGO                                                                                     ",null,null,null,null,null,null,null,null,null,null,null,null,"000006975","SAYLLAFAYA",null,null,null,null,null,"000002467","PUENTE SANTIAGO","02","08","09","06","04",null,null,"000002466","HUILLCAPAMPA",2466,null,"08","09","06","11","03","03","05","110303","080906",null,"INSERT INTO ESTABLEC VALUES('000002466','HUILLCAPAMPA',2466,'','08','09','06','11','03','03','05','110303','080906')"]
[null,null,null,null,null,null,null,null,null,null,null,null,null,null,"000006971","COMBAPATA YANATILE                                                                                  ","02","08","04","08","0208","000006971 - COMBAPATA YANATILE                                                                                  ",null,null,null,null,null,null,null,null,null,null,null,null,"000007145","HUAMA",null,null,null,null,null,"000006971","COMBAPATA YANATILE","02","08","04","08","04",null,null,"000002467","PUENTE SANTIAGO",2467,null,"08","09","06","11","02","08","04","110208","080906",null,"INSERT INTO ESTABLEC VALUES('000002467','PUENTE SANTIAGO',2467,'','08','09','06','11','02','08','04','110208','080906')"]
[null,null,null,null,null,null,null,null,null,null,null,null,null,null,"000006973","BELLAVISTA                                                                                          ","02","08","04","08","0208","000006973 - BELLAVISTA                                                                                          ",null,null,null,null,null,null,null,null,null,null,null,null,"000007146","POQUES",null,null,null,null,null,"000006973","BELLAVISTA","02","08","04","08","04",null,null,"000002468","SAN MARTIN",2468,null,"08","09","06","11","03","03","05","110303","080906",null,"INSERT INTO ESTABLEC VALUES('000002468','SAN MARTIN',2468,'','08','09','06','11','03','03','05','110303','080906')"]
[null,null,null,null,null,null,null,null,null,null,null,null,null,null,"000007142","CHANCAMAYO                                                                                          ","02","08","04","08","0208","000007142 - CHANCAMAYO                                                                                          ",null,null,null,null,null,null,null,null,null,null,null,null,"000000000","(All)",null,null,null,null,null,"000007142","CHANCAMAYO","02","08","04","08","04",null,null,"000002469","SAN JUAN DE KIMBIRI-VRAEM",2469,null,"08","09","07","11","05","00","10","110500","080907",null,"INSERT INTO ESTABLEC VALUES('000002469','SAN JUAN DE KIMBIRI-VRAEM',2469,'','08','09','07','11','05','00','10','110500','080907')"]
[null,null,null,null,null,null,null,null,null,null,null,null,null,null,"000000000","(All)","02","09",null,null,"0209","000000000 - (All)",null,null,null,null,null,null,null,null,null,null,null,null,"000002341","CALCA",null,null,null,null,null,"000000000","(All)","02","09",0,0,"04",null,null,"000002470","CHIRUMPIARI",2470,null,"08","09","07","11","05","01","10","110501","080907",null,"INSERT INTO ESTABLEC VALUES('000002470','CHIRUMPIARI',2470,'','08','09','07','11','05','01','10','110501','080907')"]
[null,null,null,null,null,null,null,null,null,null,null,null,null,null,"000002290","SAN PEDRO CUSCO                                                                                     ","02","09","01","01","0209","000002290 - SAN PEDRO CUSCO                                                                                     ",null,null,null,null,null,null,null,null,null,null,null,null,"000002342","AMPARAES",null,null,null,null,null,"000002290","SAN PEDRO CUSCO","02","09","01","01","04",null,null,"000002471","LOBO TAHUANTINSUYO",2471,null,"08","09","07","11","05","01","10","110501","080907",null,"INSERT INTO ESTABLEC VALUES('000002471','LOBO TAHUANTINSUYO',2471,'','08','09','07','11','05','01','10','110501','080907')"]
[null,null,null,null,null,null,null,null,null,null,null,null,null,null,"000002291","SIETE CUARTONES                                                                                     ","02","09","01","01","0209","000002291 - SIETE CUARTONES                                                                                     ",null,null,null,null,null,null,null,null,null,null,null,null,"000002345","CCACHIN",null,null,null,null,null,"000002291","SIETE CUARTONES","02","09","01","01","04",null,null,"000002472","MAPITUNARI",2472,null,"08","09","07","11","05","01","10","110501","080907",null,"INSERT INTO ESTABLEC VALUES('000002472','MAPITUNARI',2472,'','08','09','07','11','05','01','10','110501','080907')"]
[null,null,null,null,null,null,null,null,null,null,null,null,null,null,"000002293","MIRAFLORES                                                                                          ","02","09","01","01","0209","000002293 - MIRAFLORES                                                                                          ",null,null,null,null,null,null,null,null,null,null,null,null,"000002346","CHOQUECANCHA",null,null,null,null,null,"000002293","MIRAFLORES","02","09","01","01","04",null,null,"000002473","UNION ROSALES",2473,null,"08","09","07","11","05","01","10","110501","080907",null,"INSERT INTO ESTABLEC VALUES('000002473','UNION ROSALES',2473,'','08','09','07','11','05','01','10','110501','080907')"]
[null,null,null,null,null,null,null,null,null,null,null,null,null,null,"000002294","PICCHU LA RINCONADA                                                                                 ","02","09","01","01","0209","000002294 - PICCHU LA RINCONADA                                                                                 ",null,null,null,null,null,null,null,null,null,null,null,null,"000002347","LARES",null,null,null,null,null,"000002294","PICCHU LA RINCONADA","02","09","01","01","04",null,null,"000002474","SAMANIATO",2474,null,"08","09","07","11","05","01","10","110501","080907",null,"INSERT INTO ESTABLEC VALUES('000002474','SAMANIATO',2474,'','08','09','07','11','05','01','10','110501','080907')"]
[null,null,null,null,null,null,null,null,null,null,null,null,null,null,"000002295","BUENA VISTA                                                                                         ","02","09","01","01","0209","000002295 - BUENA VISTA                                                                                         ",null,null,null,null,null,null,null,null,null,null,null,null,"000002361","SUYO",null,null,null,null,null,"000002295","BUENA VISTA","02","09","01","01","04",null,null,"000002475","KIMBIRI ALTO",{"$f":"VALUE(AY189)","v":2475},null,"08","09","07","11","05","01","10","110501","080907",null,"INSERT INTO ESTABLEC VALUES('000002475','KIMBIRI ALTO',2475,'','08','09','07','11','05','01','10','110501','080907')"]
[null,null,null,null,null,null,null,null,null,null,null,null,null,null,"000002299","POROY                                                                                               ","02","09","01","03","0209","000002299 - POROY                                                                                               ",null,null,null,null,null,null,null,null,null,null,null,null,"000002515","PAROBAMBA",null,null,null,null,null,"000002299","POROY","02","09","01","03","04",null,null,"000002476","SANTA TERESA",2476,null,"08","09","08","11","03","02","05","110302","080908",null,"INSERT INTO ESTABLEC VALUES('000002476','SANTA TERESA',2476,'','08','09','08','11','03','02','05','110302','080908')"]
[null,null,null,null,null,null,null,null,null,null,null,null,null,null,"999999999","(All)","02","99",null,null,"0299","999999999 - (All)",null,null,null,null,null,null,null,null,null,null,null,null,"000007143","OTOCANI",null,null,null,null,null,"999999999","(All)","02","99",0,0,"04",null,null,"000002477","SULLUCUYOC",2477,null,"08","09","08","11","03","02","05","110302","080908",null,"INSERT INTO ESTABLEC VALUES('000002477','SULLUCUYOC',2477,'','08','09','08','11','03','02','05','110302','080908')"]
[null,null,null,null,null,null,null,null,null,null,null,null,null,null,"000002421","QUILLABAMBA                                                                                         ","03","00","09","01","0300","000002421 - QUILLABAMBA                                                                                         ",null,null,null,null,null,null,null,null,null,null,null,null,"000007144","PATABAMBA",null,null,null,null,null,"000002421","QUILLABAMBA","03","00","09","01","06",null,null,"000002478","TOTORA",2478,null,"08","09","08","11","03","02","05","110302","080908",null,"INSERT INTO ESTABLEC VALUES('000002478','TOTORA',2478,'','08','09','08','11','03','02','05','110302','080908')"]
[null,null,null,null,null,null,null,null,null,null,null,null,null,null,"000000000","(All)","03","01",null,null,"0301","000000000 - (All)",null,null,null,null,null,null,null,null,null,null,null,null,"000010759","HUARAN",null,null,null,null,null,"000000000","(All)","03","01",0,0,"05",null,null,"000002479","VILLA VIRGEN",2479,null,"08","09",12,"11","05","01","10","110501","080912",null,"INSERT INTO ESTABLEC VALUES('000002479','VILLA VIRGEN',2479,'','08','09','12','11','05','01','10','110501','080912')"]
[null,null,null,null,null,null,null,null,null,null,null,null,null,null,"000002422","HUAYANAY                                                                                            ","03","01","09","01","0301","000002422 - HUAYANAY                                                                                            ",null,null,null,null,null,null,null,null,null,null,null,null,"000010762","ACCHA ALTA - PAMPALLACTA",null,null,null,null,null,"000002422","HUAYANAY","03","01","09","01","05",null,null,"000002480","PUCYURA",2480,null,"08","09","09","11","03","06","05","110306","080909",null,"INSERT INTO ESTABLEC VALUES('000002480','PUCYURA',2480,'','08','09','09','11','03','06','05','110306','080909')"]
[null,null,null,null,null,null,null,null,null,null,null,null,null,null,"000002423","IDMA                                                                                                ","03","01","09","01","0301","000002423 - IDMA                                                                                                ",null,null,null,null,null,null,null,null,null,null,null,null,"000000000","(All)",null,null,null,null,null,"000002423","IDMA","03","01","09","01","05",null,null,"000002481","CCARCCO",2481,null,"08","09",11,"11","03","06","05","110306","080911",null,"INSERT INTO ESTABLEC VALUES('000002481','CCARCCO',2481,'','08','09','11','11','03','06','05','110306','080911')"]
[null,null,null,null,null,null,null,null,null,null,null,null,null,null,"000002424","POTRERO                                                                                             ","03","01","09","01","0301","000002424 - POTRERO                                                                                             ",null,null,null,null,null,null,null,null,null,null,null,null,"000002540","URUBAMBA",null,null,null,null,null,"000002424","POTRERO","03","01","09","01","05",null,null,"000002482","INCAHUASI",2482,null,"08","09",11,"11","03","06","05","110306","080911",null,"INSERT INTO ESTABLEC VALUES('000002482','INCAHUASI',2482,'','08','09','11','11','03','06','05','110306','080911')"]
[null,null,null,null,null,null,null,null,null,null,null,null,null,null,"000002425","ECHARATE                                                                                            ","03","01","09","02","0301","000002425 - ECHARATE                                                                                            ",null,null,null,null,null,null,null,null,null,null,null,null,"000002541","YANAHUARA",null,null,null,null,null,"000002425","ECHARATE","03","01","09","02","05",null,null,"000002484","OYARA",2484,null,"08","09","09","11","03","06","05","110306","080909",null,"INSERT INTO ESTABLEC VALUES('000002484','OYARA',2484,'','08','09','09','11','03','06','05','110306','080909')"]
[null,null,null,null,null,null,null,null,null,null,null,null,null,null,"000002430","PAMPA CONCEPCION                                                                                    ","03","01","09","02","0301","000002430 - PAMPA CONCEPCION                                                                                    ",null,null,null,null,null,null,null,null,null,null,null,null,"000002543","CHINCHERO",null,null,null,null,null,"000002430","PAMPA CONCEPCION","03","01","09","02","05",null,null,"000002485","PACCAYBAMBA",2485,null,"08","09",11,"11","03","06","05","110306","080911",null,"INSERT INTO ESTABLEC VALUES('000002485','PACCAYBAMBA',2485,'','08','09','11','11','03','06','05','110306','080911')"]
[null,null,null,null,null,null,null,null,null,null,null,null,null,null,"000002446","CHACCO                                                                                              ","03","01","09","02","0301","000002446 - CHACCO                                                                                              ",null,null,null,null,null,null,null,null,null,null,null,null,"000002544","OCCOTUAN",null,null,null,null,null,"000002446","CHACCO","03","01","09","02","05",null,null,"000002486","PAMPACONAS",2486,null,"08","09","09","11","03","06","05","110306","080909",null,"INSERT INTO ESTABLEC VALUES('000002486','PAMPACONAS',2486,'','08','09','09','11','03','06','05','110306','080909')"]
[null,null,null,null,null,null,null,null,null,null,null,null,null,null,"000002451","CHAHUARES                                                                                           ","03","01","09","02","0301","000002451 - CHAHUARES                                                                                           ",null,null,null,null,null,null,null,null,null,null,null,null,"000002545","HUAYLLABAMBA",null,null,null,null,null,"000002451","CHAHUARES","03","01","09","02","05",null,null,"000002487","CHOQUETIRA",2487,null,"08","09",11,"11","03","06","05","110306","080911",null,"INSERT INTO ESTABLEC VALUES('000002487','CHOQUETIRA',2487,'','08','09','11','11','03','06','05','110306','080911')"]
[null,null,null,null,null,null,null,null,null,null,null,null,null,null,"000008910","SANTA ANA                                                                                           ","03","01","09","01","0301","000008910 - SANTA ANA                                                                                           ",null,null,null,null,null,null,null,null,null,null,null,null,"000002546","MACHUPICCHU",null,null,null,null,null,"000008910","SANTA ANA","03","01","09","01","05",null,null,"000002488","VILLA QUINTIARINA",2488,null,"08","09",13,"11","05","01","10","110501","080913",null,"INSERT INTO ESTABLEC VALUES('000002488','VILLA QUINTIARINA',2488,'','08','09','13','11','05','01','10','110501','080913')"]
[null,null,null,null,null,null,null,null,null,null,null,null,null,null,"000010062","QUILLABAMBA -ESSALUD                                                                                ","03","01","09","01","0301","000010062 - QUILLABAMBA -ESSALUD                                                                                ",null,null,null,null,null,null,null,null,null,null,null,null,"000002547","COLLPANI",null,null,null,null,null,{"$f":"+O202","v":"000010062"},"QUILLABAMBA -ESSALUD","03","01","09","01","05",null,null,"000002489","YUVENI",2489,null,"08","09","09","11","03","04","05",{"$f":"CONCATENATE(BF202,BG202,BH202)","v":"110304"},{"$f":"CONCATENATE(BC202,BD202,BE202)","v":"080909"},null,"INSERT INTO ESTABLEC VALUES('000002489','YUVENI',2489,'','08','09','09','11','03','04','05','110304','080909')"]
[null,null,null,null,null,null,null,null,null,null,null,null,null,null,"000015842","PAVAYOC                                                                                             ","03","01","09","01","0301","000015842 - PAVAYOC                                                                                             ",null,null,null,null,null,null,null,null,null,null,null,null,"000002548","MARAS",null,null,null,null,null,"000015842",{"$f":"TRIM(P203)","v":"PAVAYOC"},"03","01","09","01","05",null,null,"000002490","ARMA",2490,null,"08","09","09","11","03","06","05","110306","080909",null,{"$f":"CONCATENATE(\"INSERT INTO ESTABLEC VALUES('\",AY203,\"','\",AZ203,\"',\",BA203,\",'\",BB203,\"','\",BC203,\"','\",BD203,\"','\",BE203,\"','\",BF203,\"','\",BG203,\"','\",BH203,\"','\",BI203,,\"','\",BJ203,\"','\",BK203,\"')\")","v":"INSERT INTO ESTABLEC VALUES('000002490','ARMA',2490,'','08','09','09','11','03','06','05','110306','080909')"}]
[null,null,null,null,null,null,null,null,null,null,null,null,null,null,"000026386","MENTAL QUILLABAMBA","03","01","09","01","0301","000026386 - MENTAL QUILLABAMBA",null,null,null,null,null,null,null,null,null,null,null,null,"000002549","OLLANTAYTAMBO",null,null,null,null,null,"000026386","MENTAL QUILLABAMBA","03","01","09","01","05",null,null,"000002491","LUCMAHUAYCO",2491,null,"08","09",11,"11","03","06","05","110306","080911",null,"INSERT INTO ESTABLEC VALUES('000002491','LUCMAHUAYCO',2491,'','08','09','11','11','03','06','05','110306','080911')"]
[null,null,null,null,null,null,null,null,null,null,null,null,null,null,"000000000","(All)","03","02",null,null,"0302","000000000 - (All)",null,null,null,null,null,null,null,null,null,null,null,null,"000002550","CHILLCA",null,null,null,null,null,"000000000","(All)","03","02",0,0,"05",null,null,"000002492","PALTAYBAMBA",2492,null,"08","09","09","11","03","06","05","110306","080909",null,"INSERT INTO ESTABLEC VALUES('000002492','PALTAYBAMBA',2492,'','08','09','09','11','03','06','05','110306','080909')"]
[null,null,null,null,null,null,null,null,null,null,null,null,null,null,"000002453","HUYRO                                                                                               ","03","02","09","03","0302","000002453 - HUYRO                                                                                               ",null,null,null,null,null,null,null,null,null,null,null,null,"000002551","YUCAY",null,null,null,null,null,"000002453","HUYRO","03","02","09","03","05",null,null,"000002493","SELVA ALEGRE",2493,null,"08","09","09","11","03","04","05","110304","080909",null,"INSERT INTO ESTABLEC VALUES('000002493','SELVA ALEGRE',2493,'','08','09','09','11','03','04','05','110304','080909')"]
[null,null,null,null,null,null,null,null,null,null,null,null,null,null,"000002454","ALFAMAYO                                                                                            ","03","02","09","03",{"$f":"CONCATENATE(Q207,R207)","v":"0302"},{"$f":"CONCATENATE(O207,\" - \",P207)","v":"000002454 - ALFAMAYO                                                                                            "},null,null,null,null,null,null,null,null,null,null,null,null,"000006974","CAMINO INCA HUAYLLABAMBA",null,null,null,null,null,"000002454","ALFAMAYO","03","02","09","03","05",null,null,"000002494","PICHARI",2494,null,"08","09",10,"11","05","02","10","110502","080910",null,"INSERT INTO ESTABLEC VALUES('000002494','PICHARI',2494,'','08','09','10','11','05','02','10','110502','080910')"]
[null,null,null,null,null,null,null,null,null,null,null,null,null,null,"000002455","HUAYOPATA                                                                                           ","03","02","09","03","0302","000002455 - HUAYOPATA                                                                                           ",null,null,null,null,null,null,null,null,null,null,null,null,"000010758","CRUZPATA",null,null,null,null,null,"000002455","HUAYOPATA","03","02","09","03","05",null,null,"000002495","MANTARO",2495,null,"08","09",10,"11","05","02","10","110502","080910",null,"INSERT INTO ESTABLEC VALUES('000002495','MANTARO',2495,'','08','09','10','11','05','02','10','110502','080910')"]
[null,null,null,null,null,null,null,null,null,null,null,null,null,null,"000002456","AMAYBAMBA                                                                                           ","03","02","09","03","0302","000002456 - AMAYBAMBA                                                                                           ",null,null,null,null,null,null,null,null,null,null,null,null,"000010760","PATACANCHA",null,null,null,null,null,"000002456","AMAYBAMBA","03","02","09","03","05",null,null,"000002496","OMAYA",2496,null,"08","09",10,"11","05","02","10","110502","080910",null,"INSERT INTO ESTABLEC VALUES('000002496','OMAYA',2496,'','08','09','10','11','05','02','10','110502','080910')"]
[null,null,null,null,null,null,null,null,null,null,null,null,null,null,"000002457","SAN PABLO HUAYOPATA                                                                                 ","03","02","09","03","0302","000002457 - SAN PABLO HUAYOPATA                                                                                 ",null,null,null,null,null,null,null,null,null,null,null,null,"000000000","(All)",null,null,null,null,null,"000002457","SAN PABLO HUAYOPATA","03","02","09","03","05",null,null,"000002497","OTARI",2497,null,"08","09",10,"11","05","02","10","110502","080910",null,"INSERT INTO ESTABLEC VALUES('000002497','OTARI',2497,'','08','09','10','11','05','02','10','110502','080910')"]
[null,null,null,null,null,null,null,null,null,null,null,null,null,null,"000002458","MARANURA                                                                                            ","03","02","09","04","0302","000002458 - MARANURA                                                                                            ",null,null,null,null,null,null,null,null,null,null,null,null,"000002355","LA QUEBRADA",null,null,null,null,null,"000002458","MARANURA","03","02","09","04","05",null,null,"000002498","PUERTO MAYO",2498,null,"08","09",10,"11","05","02","10","110502","080910",null,"INSERT INTO ESTABLEC VALUES('000002498','PUERTO MAYO',2498,'','08','09','10','11','05','02','10','110502','080910')"]
[null,null,null,null,null,null,null,null,null,null,null,null,null,null,"000002460","SANTA MARIA                                                                                         ","03","02","09","04","0302","000002460 - SANTA MARIA                                                                                         ",null,null,null,null,null,null,null,null,null,null,null,null,"000002356","CCORIMAYO",null,null,null,null,null,"000002460","SANTA MARIA","03","02","09","04","05",null,null,"000002499","PARURO",2499,null,"08",10,"01","11","01","03","03","110103","081001",null,"INSERT INTO ESTABLEC VALUES('000002499','PARURO',2499,'','08','10','01','11','01','03','03','110103','081001')"]
[null,null,null,null,null,null,null,null,null,null,null,null,null,null,"000002461","UCHUMAYO                                                                                            ","03","02","09","04","0302","000002461 - UCHUMAYO                                                                                            ",null,null,null,null,null,null,null,null,null,null,null,null,"000002357","COLCCA YANATILE",null,null,null,null,null,"000002461","UCHUMAYO","03","02","09","04","05",null,null,"000002500","ACCHA",2500,null,"08",10,"02","11","01","03","03","110103","081002",null,"INSERT INTO ESTABLEC VALUES('000002500','ACCHA',2500,'','08','10','02','11','01','03','03','110103','081002')"]
[null,null,null,null,null,null,null,null,null,null,null,null,null,null,"000002476","SANTA TERESA                                                                                        ","03","02","09","08","0302","000002476 - SANTA TERESA                                                                                        ",null,null,null,null,null,null,null,null,null,null,null,null,"000002358","MUYUPAY",null,null,null,null,null,"000002476","SANTA TERESA","03","02","09","08","05",null,null,"000002501","CCAPI",2501,null,"08",10,"03","11","01","03","03","110103","081003",null,"INSERT INTO ESTABLEC VALUES('000002501','CCAPI',2501,'','08','10','03','11','01','03','03','110103','081003')"]
[null,null,null,null,null,null,null,null,null,null,null,null,null,null,"000002477","SULLUCUYOC                                                                                          ","03","02","09","08","0302","000002477 - SULLUCUYOC                                                                                          ",null,null,null,null,null,null,null,null,null,null,null,null,"000002359","PUTUCUSI",null,null,null,null,null,"000002477","SULLUCUYOC","03","02","09","08","05",null,null,"000002502","CCOYABAMBA",2502,null,"08",10,"03","11","01","03","03","110103","081003",null,"INSERT INTO ESTABLEC VALUES('000002502','CCOYABAMBA',2502,'','08','10','03','11','01','03','03','110103','081003')"]
[null,null,null,null,null,null,null,null,null,null,null,null,null,null,"000002478","TOTORA                                                                                              ","03","02","09","08","0302","000002478 - TOTORA                                                                                              ",null,null,null,null,null,null,null,null,null,null,null,null,"000002360","QUESQUENTO",null,null,null,null,null,"000002478","TOTORA","03","02","09",{"$f":"+T216","v":"08"},"05",null,null,"000002503","COLCHA",2503,null,"08",10,"04","11","01","03","03","110103","081004",null,"INSERT INTO ESTABLEC VALUES('000002503','COLCHA',2503,'','08','10','04','11','01','03','03','110103','081004')"]
[null,null,null,null,null,null,null,null,null,null,null,null,null,null,"000010075","CAP HUYRO - ESSALUD                                                                                 ","03","02","09","03","0302","000010075 - CAP HUYRO - ESSALUD                                                                                 ",null,null,null,null,null,null,null,null,null,null,null,null,"000002362","HUACHIBAMBA",null,null,null,null,null,"000010075","CAP HUYRO - ESSALUD",{"$f":"+Q217","v":"03"},"02","09","03","05",null,null,"000002504","HUANOQUITE",2504,null,"08",10,"05","11","01","03","03","110103","081005",null,"INSERT INTO ESTABLEC VALUES('000002504','HUANOQUITE',2504,'','08','10','05','11','01','03','03','110103','081005')"]
[null,null,null,null,null,null,null,null,null,null,null,null,null,null,"000000000","(All)","03","03",null,null,"0303","000000000 - (All)",null,null,null,null,null,null,null,null,null,null,null,null,"000002464","VERSALLES",null,null,null,null,null,"000000000","(All)","03","03",0,0,"05",null,null,"000002505","OMACHA",2505,null,"08",10,"06","11","01","03","03","110103","081006",null,"INSERT INTO ESTABLEC VALUES('000002505','OMACHA',2505,'','08','10','06','11','01','03','03','110103','081006')"]
[null,null,null,null,null,null,null,null,null,null,null,null,null,null,"000002363","TUPAC AMARU QUELLOUNO                                                                               ","03","03","04","08","0303","000002363 - TUPAC AMARU QUELLOUNO                                                                               ",null,null,null,null,null,null,null,null,null,null,null,null,"000002467","PUENTE SANTIAGO",null,null,null,null,null,"000002363","TUPAC AMARU QUELLOUNO","03","03","04","08","05",null,null,"000002506","ANTAPALLPA",2506,null,"08",10,"06","11","01","03","03","110103","081006",null,"INSERT INTO ESTABLEC VALUES('000002506','ANTAPALLPA',2506,'','08','10','06','11','01','03','03','110103','081006')"]
[null,null,null,null,null,null,null,null,null,null,null,null,null,null,"000002462","OCCOBAMBA LACONVENCION                                                                              ","03","03","09","05","0303","000002462 - OCCOBAMBA LACONVENCION                                                                              ",null,null,null,null,null,null,null,null,null,null,null,null,"000006971","COMBAPATA YANATILE",null,null,null,null,null,"000002462","OCCOBAMBA LACONVENCION","03","03","09","05","05",null,null,"000002507","PACCARECTAMBO",2507,null,"08",10,"07","11","01","03","03","110103","081007",null,"INSERT INTO ESTABLEC VALUES('000002507','PACCARECTAMBO',2507,'','08','10','07','11','01','03','03','110103','081007')"]
[null,null,null,null,null,null,null,null,null,null,null,null,null,null,"000002463","CHINGANILLA                                                                                         ","03","03","09","05","0303","000002463 - CHINGANILLA                                                                                         ",null,null,null,null,null,null,null,null,null,null,null,null,"000006973","BELLAVISTA",null,null,null,null,null,"000002463","CHINGANILLA","03","03","09","05","05",null,null,"000002508","PILLPINTO",2508,null,"08",10,"08","11","01","13","03","110113","081008",null,"INSERT INTO ESTABLEC VALUES('000002508','PILLPINTO',2508,'','08','10','08','11','01','13','03','110113','081008')"]
[null,null,null,null,null,null,null,null,null,null,null,null,null,null,"000002465","QUELLOUNO                                                                                           ","03","03","09","06","0303","000002465 - QUELLOUNO                                                                                           ",null,null,null,null,null,null,null,null,null,null,null,null,"000007142","CHANCAMAYO",null,null,null,null,null,"000002465","QUELLOUNO","03","03","09","06","05",null,null,"000002509","YAURISQUE",2509,null,"08",10,"09","11","01","03","03","110103","081009",null,"INSERT INTO ESTABLEC VALUES('000002509','YAURISQUE',2509,'','08','10','09','11','01','03','03','110103','081009')"]
[null,null,null,null,null,null,null,null,null,null,null,null,null,null,"000002466","HUILLCAPAMPA                                                                                        ","03","03","09","06","0303","000002466 - HUILLCAPAMPA                                                                                        ",null,null,null,null,null,null,null,null,null,null,null,null,"000000000","(All)",null,null,null,null,null,"000002466","HUILLCAPAMPA","03","03","09","06","05",null,null,"000002510","PAUCARTAMBO",2510,null,"08",11,"01","11","01","06","03","110106","081101",null,"INSERT INTO ESTABLEC VALUES('000002510','PAUCARTAMBO',2510,'','08','11','01','11','01','06','03','110106','081101')"]
[null,null,null,null,null,null,null,null,null,null,null,null,null,null,"000002468","SAN MARTIN                                                                                          ","03","03","09","06","0303","000002468 - SAN MARTIN                                                                                          ",null,null,null,null,null,null,null,null,null,null,null,null,"000002290","SAN PEDRO CUSCO",null,null,null,null,null,"000002468","SAN MARTIN","03","03","09","06","05",null,null,"000002511","MOLLOMARCA",2511,null,"08",11,"01","11","01","06","03","110106","081101",null,"INSERT INTO ESTABLEC VALUES('000002511','MOLLOMARCA',2511,'','08','11','01','11','01','06','03','110106','081101')"]
[null,null,null,null,null,null,null,null,null,null,null,null,null,null,"000008906","ESTRELLA                                                                                            ","03","03","09","06","0303","000008906 - ESTRELLA                                                                                            ",null,null,null,null,null,null,null,null,null,null,null,null,"000002291","SIETE CUARTONES",null,null,null,null,null,"000008906","ESTRELLA","03","03","09","06","05",null,null,"000002512","CAICAY",2512,null,"08",11,"02","11","01","06","03","110106","081102",null,"INSERT INTO ESTABLEC VALUES('000002512','CAICAY',2512,'','08','11','02','11','01','06','03','110106','081102')"]
[null,null,null,null,null,null,null,null,null,null,null,null,null,null,"000008907","MATORIATO                                                                                           ","03","03","09","06","0303","000008907 - MATORIATO                                                                                           ",null,null,null,null,null,null,null,null,null,null,null,null,"000002293","MIRAFLORES",null,null,null,null,null,"000008907","MATORIATO","03","03","09","06","05",null,null,"000002513","HUASAC",2513,null,"08",11,"02","11","01","06","03","110106","081102",null,"INSERT INTO ESTABLEC VALUES('000002513','HUASAC',2513,'','08','11','02','11','01','06','03','110106','081102')"]
[null,null,null,null,null,null,null,null,null,null,null,null,null,null,"000008908","CHIRUMBIA                                                                                           ","03","03","09","06","0303","000008908 - CHIRUMBIA                                                                                           ",null,null,null,null,null,null,null,null,null,null,null,null,"000002294","PICCHU LA RINCONADA",null,null,null,null,null,"000008908","CHIRUMBIA","03","03","09","06","05",null,null,"000002514","CHALLABAMBA",2514,null,"08",11,"03","11","01","06","03","110106","081103",null,"INSERT INTO ESTABLEC VALUES('000002514','CHALLABAMBA',2514,'','08','11','03','11','01','06','03','110106','081103')"]
[null,null,null,null,null,null,null,null,null,null,null,null,null,null,"000008909","CHAPO BOYERO                                                                                        ","03","03","09","06","0303","000008909 - CHAPO BOYERO                                                                                        ",null,null,null,null,null,null,null,null,null,null,null,null,"000002295","BUENA VISTA",null,null,null,null,null,"000008909","CHAPO BOYERO","03","03","09","06","05",null,null,"000002515","PAROBAMBA",2515,null,"08",11,"03","11","02","06","04","110206","081103",null,"INSERT INTO ESTABLEC VALUES('000002515','PAROBAMBA',2515,'','08','11','03','11','02','06','04','110206','081103')"]
[null,null,null,null,null,null,null,null,null,null,null,null,null,null,"000000000","(All)","03","04",null,null,"0304","000000000 - (All)",null,null,null,null,null,null,null,null,null,null,null,null,"000002299","POROY",null,null,null,null,null,"000000000","(All)","03","04",0,0,"05",null,null,"000002516","COLQUEPATA",2516,null,"08",11,"04","11","01","06","03","110106","081104",null,"INSERT INTO ESTABLEC VALUES('000002516','COLQUEPATA',2516,'','08','11','04','11','01','06','03','110106','081104')"]
[null,null,null,null,null,null,null,null,null,null,null,null,null,null,"000002427","KITENI                                                                                              ","03","04","09","02","0304","000002427 - KITENI                                                                                              ",null,null,null,null,null,null,null,null,null,null,null,null,"000000000","(All)",null,null,null,null,null,"000002427","KITENI","03","04","09","02","05",null,null,"000002517","PICHIHUA COLQUEPATA",2517,null,"08",11,"04","11","01","06","03","110106","081104",null,"INSERT INTO ESTABLEC VALUES('000002517','PICHIHUA COLQUEPATA',2517,'','08','11','04','11','01','06','03','110106','081104')"]
[null,null,null,null,null,null,null,null,null,null,null,null,null,null,"000002431","IVOCHOTE                                                                                            ","03","04","09","02","0304","000002431 - IVOCHOTE                                                                                            ",null,null,null,null,null,null,null,null,null,null,null,null,"000002421","QUILLABAMBA",null,null,null,null,null,"000002431","IVOCHOTE","03","04","09","02","05",null,null,"000002518","VIZCOCHONI",2518,null,"08",11,"04","11","01","06","03","110106","081104",null,"INSERT INTO ESTABLEC VALUES('000002518','VIZCOCHONI',2518,'','08','11','04','11','01','06','03','110106','081104')"]
[null,null,null,null,null,null,null,null,null,null,null,null,null,null,"000002432","KEPASHIATO                                                                                          ","03","04","09","02","0304","000002432 - KEPASHIATO                                                                                          ",null,null,null,null,null,null,null,null,null,null,null,null,"000002422","HUAYANAY",null,null,null,null,null,"000002432","KEPASHIATO","03","04","09","02","05",null,null,"000002519","AYRE",2519,null,"08",11,"04","11","01","06","03","110106","081104",null,"INSERT INTO ESTABLEC VALUES('000002519','AYRE',2519,'','08','11','04','11','01','06','03','110106','081104')"]
[null,null,null,null,null,null,null,null,null,null,null,null,null,null,"000002434","MATERIATO                                                                                           ","03","04","09","02","0304","000002434 - MATERIATO                                                                                           ",null,null,null,null,null,null,null,null,null,null,null,null,"000002423","IDMA",null,null,null,null,null,"000002434","MATERIATO","03","04","09","02","05",null,null,"000002520","HUANCARANI",2520,null,"08",11,"05","11","01","06","03","110106","081105",null,"INSERT INTO ESTABLEC VALUES('000002520','HUANCARANI',2520,'','08','11','05','11','01','06','03','110106','081105')"]
[null,null,null,null,null,null,null,null,null,null,null,null,null,null,"000002438","PACHIRI                                                                                             ","03","04","09","02","0304","000002438 - PACHIRI                                                                                             ",null,null,null,null,null,null,null,null,null,null,null,null,"000002424","POTRERO",null,null,null,null,null,"000002438","PACHIRI","03","04","09","02","05",null,null,"000002521","PILCOPATA",2521,null,"08",11,"06","11","01","06","03","110106","081106",null,"INSERT INTO ESTABLEC VALUES('000002521','PILCOPATA',2521,'','08','11','06','11','01','06','03','110106','081106')"]
[null,null,null,null,null,null,null,null,null,null,null,null,null,null,"000002440","PANGOA                                                                                              ","03","04","09","02","0304","000002440 - PANGOA                                                                                              ",null,null,null,null,null,null,null,null,null,null,null,null,"000002425","ECHARATE",null,null,null,null,null,"000002440","PANGOA","03","04","09","02","05",null,null,"000002522","PATRIA",2522,null,"08",11,"06","11","01","06","03","110106","081106",null,"INSERT INTO ESTABLEC VALUES('000002522','PATRIA',2522,'','08','11','06','11','01','06','03','110106','081106')"]
[null,null,null,null,null,null,null,null,null,null,null,null,null,null,"000002443","SANIRIATO                                                                                           ","03","04","09","02","0304","000002443 - SANIRIATO                                                                                           ",null,null,null,null,null,null,null,null,null,null,null,null,"000002429","CIRIALO",null,null,null,null,null,"000002443","SANIRIATO","03","04","09","02","05",null,null,"000002523","URCOS",2523,null,"08",12,"01","11","01","12","03","110112","081201",null,"INSERT INTO ESTABLEC VALUES('000002523','URCOS',2523,'','08','12','01','11','01','12','03','110112','081201')"]
[null,null,null,null,null,null,null,null,null,null,null,null,null,null,"000002447","KAMANQUIRIATO                                                                                       ","03","04","09","02","0304","000002447 - KAMANQUIRIATO                                                                                       ",null,null,null,null,null,null,null,null,null,null,null,null,"000002430","PAMPA CONCEPCION",null,null,null,null,null,"000002447","KAMANQUIRIATO","03","04","09","02","05",null,null,"000002524","PAMPACAMARA",2524,null,"08",12,"05","11","01","15","03","110115","081205",null,"INSERT INTO ESTABLEC VALUES('000002524','PAMPACAMARA',2524,'','08','12','05','11','01','15','03','110115','081205')"]
[null,null,null,null,null,null,null,null,null,null,null,null,null,null,"000002489","YUVENI                                                                                              ","03","04","09","09","0304","000002489 - YUVENI                                                                                              ",null,null,null,null,null,null,null,null,null,null,null,null,"000002433","KORIBENI",null,null,null,null,null,"000002489","YUVENI","03","04","09","09","05",null,null,"000002525","ANDAHUAYLILLAS",2525,null,"08",12,"02","11","01","12","03","110112","081202",null,"INSERT INTO ESTABLEC VALUES('000002525','ANDAHUAYLILLAS',2525,'','08','12','02','11','01','12','03','110112','081202')"]
[null,null,null,null,null,null,null,null,null,null,null,null,null,null,"000002493","SELVA ALEGRE                                                                                        ","03","04","09","09","0304","000002493 - SELVA ALEGRE                                                                                        ",null,null,null,null,null,null,null,null,null,null,null,null,"000002439","PALMA REAL",null,null,null,null,null,"000002493","SELVA ALEGRE","03","04","09","09","05",null,null,"000002526","QUINCE MIL",2526,null,"08",12,"03","11","01","15","03","110115","081203",null,"INSERT INTO ESTABLEC VALUES('000002526','QUINCE MIL',2526,'','08','12','03','11','01','15','03','110115','081203')"]
[null,null,null,null,null,null,null,null,null,null,null,null,null,null,"000006976","CHONTABAMBA                                                                                         ","03","04","09","09","0304","000006976 - CHONTABAMBA                                                                                         ",null,null,null,null,null,null,null,null,null,null,null,null,"000002446","CHACCO",null,null,null,null,null,"000006976","CHONTABAMBA","03","04","09","09","05",null,null,"000002527","CARHUAYO",2527,null,"08",12,"04","11","01","15","03","110115","081204",null,"INSERT INTO ESTABLEC VALUES('000002527','CARHUAYO',2527,'','08','12','04','11','01','15','03','110115','081204')"]
[null,null,null,null,null,null,null,null,null,null,null,null,null,null,"000013068","TRIO RIO                                                                                            ","03","04","09","02","0304","000013068 - TRIO RIO                                                                                            ",null,null,null,null,null,null,null,null,null,null,null,null,"000002449","ICHIQUIATO",null,null,null,null,null,"000013068","TRIO RIO","03","04","09","02","05",null,null,"000002528","CCATCCA",2528,null,"08",12,"05","11","01","15","03","110115","081205",null,"INSERT INTO ESTABLEC VALUES('000002528','CCATCCA',2528,'','08','12','05','11','01','15','03','110115','081205')"]
[null,null,null,null,null,null,null,null,null,null,null,null,null,null,"000013069","PUGUIENTIMARI                                                                                       ","03","04","09","02","0304","000013069 - PUGUIENTIMARI                                                                                       ",null,null,null,null,null,null,null,null,null,null,null,null,"000002450","SAN ANTONIO",null,null,null,null,null,"000013069","PUGUIENTIMARI","03","04","09","02","05",null,null,"000002529","KCAURY",2529,null,"08",12,"05","11","01","15","03","110115","081205",null,"INSERT INTO ESTABLEC VALUES('000002529','KCAURY',2529,'','08','12','05','11','01','15','03','110115','081205')"]
[null,null,null,null,null,null,null,null,null,null,null,null,null,null,"000014531","CENTRO DE ATENCION PRIMARIA I ECHARATE - KITENI                                                     ","03","04","09","02","0304","000014531 - CENTRO DE ATENCION PRIMARIA I ECHARATE - KITENI                                                     ",null,null,null,null,null,null,null,null,null,null,null,null,"000002451","CHAHUARES",null,null,null,null,null,"000014531","CENTRO DE ATENCION PRIMARIA I ECHARATE - KITENI","03","04","09","02","05",null,null,"000002530","CUSIPATA",2530,null,"08",12,"06","11","01","12","03","110112","081206",null,"INSERT INTO ESTABLEC VALUES('000002530','CUSIPATA',2530,'','08','12','06','11','01','12','03','110112','081206')"]
[null,null,null,null,null,null,null,null,null,null,null,null,null,null,"000000000","(All)","03","05",null,null,"0305","000000000 - (All)",null,null,null,null,null,null,null,null,null,null,null,null,"000008910","SANTA ANA",null,null,null,null,null,"000000000","(All)","03","05",0,0,"05",null,null,"000002532","HUARO",2532,null,"08",12,"07","11","01","12","03","110112","081207",null,"INSERT INTO ESTABLEC VALUES('000002532','HUARO',2532,'','08','12','07','11','01','12','03','110112','081207')"]
[null,null,null,null,null,null,null,null,null,null,null,null,null,null,"000002426","KIRIGUETI                                                                                           ","03","05","09","14","0305","000002426 - KIRIGUETI                                                                                           ",null,null,null,null,null,null,null,null,null,null,null,null,"000015842","PAVAYOC",null,null,null,null,null,"000002426","KIRIGUETI","03","05","09","14","05",null,null,"000002533","URPAY",2533,null,"08",12,"07","11","01","12","03","110112","081207",null,"INSERT INTO ESTABLEC VALUES('000002533','URPAY',2533,'','08','12','07','11','01','12','03','110112','081207')"]
[null,null,null,null,null,null,null,null,null,null,null,null,null,null,"000002428","CHOCORIARI                                                                                          ","03","05","09","14","0305","000002428 - CHOCORIARI                                                                                          ",null,null,null,null,null,null,null,null,null,null,null,null,"000000000","(All)",null,null,null,null,null,"000002428","CHOCORIARI","03","05","09","14","05",null,null,"000002534","LUCRE",2534,null,"08",12,"08","11","01","12","03","110112","081208",null,"INSERT INTO ESTABLEC VALUES('000002534','LUCRE',2534,'','08','12','08','11','01','12','03','110112','081208')"]
[null,null,null,null,null,null,null,null,null,null,null,null,null,null,"000002435","MIARIA                                                                                              ","03","05","09","14","0305","000002435 - MIARIA                                                                                              ",null,null,null,null,null,null,null,null,null,null,null,null,"000002453","HUYRO",null,null,null,null,null,"000002435","MIARIA","03","05","09","14","05",null,null,"000002535","MARCAPATA",2535,null,"08",12,"09","11","01","15","03","110115","081209",null,"INSERT INTO ESTABLEC VALUES('000002535','MARCAPATA',2535,'','08','12','09','11','01','15','03','110115','081209')"]
[null,null,null,null,null,null,null,null,null,null,null,null,null,null,"000002436","NUEVA LUZ                                                                                           ","03","05","09","14","0305","000002436 - NUEVA LUZ                                                                                           ",null,null,null,null,null,null,null,null,null,null,null,null,"000002454","ALFAMAYO",null,null,null,null,null,"000002436","NUEVA LUZ","03","05","09","14","05",null,null,"000002536","OCONGATE",2536,null,"08",12,10,"11","01","15","03","110115","081210",null,"INSERT INTO ESTABLEC VALUES('000002536','OCONGATE',2536,'','08','12','10','11','01','15','03','110115','081210')"]
[null,null,null,null,null,null,null,null,null,null,null,null,null,null,"000002437","NUEVO MUNDO                                                                                         ","03","05","09","14","0305","000002437 - NUEVO MUNDO                                                                                         ",null,null,null,null,null,null,null,null,null,null,null,null,"000002455","HUAYOPATA",null,null,null,null,null,"000002437","NUEVO MUNDO","03","05","09","14","05",null,null,"000002537","OROPESA",2537,null,"08",12,11,"11","01","12","03","110112","081211",null,"INSERT INTO ESTABLEC VALUES('000002537','OROPESA',2537,'','08','12','11','11','01','12','03','110112','081211')"]
[null,null,null,null,null,null,null,null,null,null,null,null,null,null,"000002441","PUERTO HUALLANA                                                                                     ","03","05","09","14","0305","000002441 - PUERTO HUALLANA                                                                                     ",null,null,null,null,null,null,null,null,null,null,null,null,"000002456","AMAYBAMBA",null,null,null,null,null,"000002441","PUERTO HUALLANA","03","05","09","14","05",null,null,"000002538","QUIQUIJANA",2538,null,"08",12,12,"11","01","12","03","110112","081212",null,"INSERT INTO ESTABLEC VALUES('000002538','QUIQUIJANA',2538,'','08','12','12','11','01','12','03','110112','081212')"]
[null,null,null,null,null,null,null,null,null,null,null,null,null,null,"000002442","PUERTO RICO                                                                                         ","03","05","09","14","0305","000002442 - PUERTO RICO                                                                                         ",null,null,null,null,null,null,null,null,null,null,null,null,"000002457","SAN PABLO HUAYOPATA",null,null,null,null,null,"000002442","PUERTO RICO","03","05","09","14","05",null,null,"000002539","COLCA QUIQUIJANA",2539,null,"08",12,12,"11","01","12","03","110112","081212",null,"INSERT INTO ESTABLEC VALUES('000002539','COLCA QUIQUIJANA',2539,'','08','12','12','11','01','12','03','110112','081212')"]
[null,null,null,null,null,null,null,null,null,null,null,null,null,null,"000002444","SENSA                                                                                               ","03","05","09","14","0305","000002444 - SENSA                                                                                               ",null,null,null,null,null,null,null,null,null,null,null,null,"000002458","MARANURA",null,null,null,null,null,"000002444","SENSA","03","05","09","14","05",null,null,"000002540","URUBAMBA",2540,null,"08",13,"01","11","02","07","04","110207","081301",null,"INSERT INTO ESTABLEC VALUES('000002540','URUBAMBA',2540,'','08','13','01','11','02','07','04','110207','081301')"]
[null,null,null,null,null,null,null,null,null,null,null,null,null,null,"000002445","TIMPIA                                                                                              ","03","05","09","14","0305","000002445 - TIMPIA                                                                                              ",null,null,null,null,null,null,null,null,null,null,null,null,"000002460","SANTA MARIA",null,null,null,null,null,"000002445","TIMPIA","03","05","09","14","05",null,null,"000002541","YANAHUARA",{"$f":"VALUE(AY253)","v":2541},null,"08",13,"01","11","02","07","04","110207","081301",null,"INSERT INTO ESTABLEC VALUES('000002541','YANAHUARA',2541,'','08','13','01','11','02','07','04','110207','081301')"]
[null,null,null,null,null,null,null,null,null,null,null,null,null,null,"000002448","KAMISEA                                                                                             ","03","05","09","14","0305","000002448 - KAMISEA                                                                                             ",null,null,null,null,null,null,null,null,null,null,null,null,"000002461","UCHUMAYO",null,null,null,null,null,"000002448","KAMISEA","03","05","09","14","05",null,null,"000002543","CHINCHERO",2543,null,"08",13,"02","11","02","07","04","110207","081302",null,"INSERT INTO ESTABLEC VALUES('000002543','CHINCHERO',2543,'','08','13','02','11','02','07','04','110207','081302')"]
[null,null,null,null,null,null,null,null,null,null,null,null,null,null,"000002452","SHIVANKORENI                                                                                        ","03","05","09","14","0305","000002452 - SHIVANKORENI                                                                                        ",null,null,null,null,null,null,null,null,null,null,null,null,"000002476","SANTA TERESA",null,null,null,null,null,"000002452","SHIVANKORENI","03","05","09","14","05",null,null,"000002544","OCCOTUAN",2544,null,"08",13,"02","11","02","07","04","110207","081302",null,"INSERT INTO ESTABLEC VALUES('000002544','OCCOTUAN',2544,'','08','13','02','11','02','07','04','110207','081302')"]
[null,null,null,null,null,null,null,null,null,null,null,null,null,null,"000013066","MONTETONI                                                                                           ","03","05","09","14","0305","000013066 - MONTETONI                                                                                           ",null,null,null,null,null,null,null,null,null,null,null,null,"000002477","SULLUCUYOC",null,null,null,null,null,"000013066","MONTETONI","03","05","09","14","05",null,null,"000002545","HUAYLLABAMBA",2545,null,"08",13,"03","11","02","07","04","110207","081303",null,"INSERT INTO ESTABLEC VALUES('000002545','HUAYLLABAMBA',2545,'','08','13','03','11','02','07','04','110207','081303')"]
[null,null,null,null,null,null,null,null,null,null,null,null,null,null,"000013067","TANGOSHIARI                                                                                         ","03","05","09","14","0305","000013067 - TANGOSHIARI                                                                                         ",null,null,null,null,null,null,null,null,null,null,null,null,"000002478","TOTORA",null,null,null,null,null,"000013067","TANGOSHIARI","03","05","09","14","05",null,null,"000002546","MACHUPICCHU",2546,null,"08",13,"04","11","02","07","04","110207","081304",null,"INSERT INTO ESTABLEC VALUES('000002546','MACHUPICCHU',2546,'','08','13','04','11','02','07','04','110207','081304')"]
[null,null,null,null,null,null,null,null,null,null,null,null,null,null,"000015235","NUEVA VIDA                                                                                          ","03","05","09","14","0305","000015235 - NUEVA VIDA                                                                                          ",null,null,null,null,null,null,null,null,null,null,null,null,"000000000","(All)",null,null,null,null,null,"000015235","NUEVA VIDA","03","05","09","14","05",null,null,"000002547","COLLPANI",2547,null,"08",13,"04","11","02","07","04","110207","081304",null,"INSERT INTO ESTABLEC VALUES('000002547','COLLPANI',2547,'','08','13','04','11','02','07','04','110207','081304')"]
[null,null,null,null,null,null,null,null,null,null,null,null,null,null,"000015843","CASHIRIARI                                                                                          ","03","05","09","14","0305","000015843 - CASHIRIARI                                                                                          ",null,null,null,null,null,null,null,null,null,null,null,null,"000002363","TUPAC AMARU QUELLOUNO",null,null,null,null,null,"000015843","CASHIRIARI","03","05","09","14","05",null,null,"000002548","MARAS",2548,null,"08",13,"05","11","02","07","04","110207","081305",null,"INSERT INTO ESTABLEC VALUES('000002548','MARAS',2548,'','08','13','05','11','02','07','04','110207','081305')"]
[null,null,null,null,null,null,null,null,null,null,null,null,null,null,"000015844","CAMANA                                                                                              ","03","05","09","14","0305","000015844 - CAMANA                                                                                              ",null,null,null,null,null,null,null,null,null,null,null,null,"000002462","OCCOBAMBA LACONVENCION",null,null,null,null,null,"000015844","CAMANA","03","05","09","14","05",null,null,"000002549","OLLANTAYTAMBO",2549,null,"08",13,"06","11","02","07","04","110207","081306",null,"INSERT INTO ESTABLEC VALUES('000002549','OLLANTAYTAMBO',2549,'','08','13','06','11','02','07','04','110207','081306')"]
[null,null,null,null,null,null,null,null,null,null,null,null,null,null,"000000000","(All)","03","06",null,null,"0306","000000000 - (All)",null,null,null,null,null,null,null,null,null,null,null,null,"000002463","CHINGANILLA",null,null,null,null,null,"000000000","(All)","03","06",0,0,"05",null,null,"000002550","CHILLCA",2550,null,"08",13,"06","11","02","07","04","110207","081306",null,"INSERT INTO ESTABLEC VALUES('000002550','CHILLCA',2550,'','08','13','06','11','02','07','04','110207','081306')"]
[null,null,null,null,null,null,null,null,null,null,null,null,null,null,"000002480","PUCYURA                                                                                             ","03","06","09","09","0306","000002480 - PUCYURA                                                                                             ",null,null,null,null,null,null,null,null,null,null,null,null,"000002465","QUELLOUNO",null,null,null,null,null,"000002480","PUCYURA","03","06","09","09","05",null,null,"000002551","YUCAY",2551,null,"08",13,"07","11","02","07","04","110207","081307",null,"INSERT INTO ESTABLEC VALUES('000002551','YUCAY',2551,'','08','13','07','11','02','07','04','110207','081307')"]
[null,null,null,null,null,null,null,null,null,null,null,null,null,null,"000002481","CCARCCO                                                                                             ","03","06","09",11,"0306","000002481 - CCARCCO                                                                                             ",null,null,null,null,null,null,null,null,null,null,null,null,"000002466","HUILLCAPAMPA",null,null,null,null,null,"000002481","CCARCCO","03","06","09",11,"05",null,null,"000006745","TINTAYA MARQUIRI",6745,null,"08","08","01","11","04","06","07","110406","080801",null,"INSERT INTO ESTABLEC VALUES('000006745','TINTAYA MARQUIRI',6745,'','08','08','01','11','04','06','07','110406','080801')"]
[null,null,null,null,null,null,null,null,null,null,null,null,null,null,"000002482","INCAHUASI                                                                                           ","03","06","09",11,"0306","000002482 - INCAHUASI                                                                                           ",null,null,null,null,null,null,null,null,null,null,null,null,"000002468","SAN MARTIN",null,null,null,null,null,"000002482","INCAHUASI","03","06","09",11,"05",null,null,"000006746","LLIQUE",6746,null,"08","07","01","11","06","09","11","110609","080701",null,"INSERT INTO ESTABLEC VALUES('000006746','LLIQUE',6746,'','08','07','01','11','06','09','11','110609','080701')"]
[null,null,null,null,null,null,null,null,null,null,null,null,null,null,"000002484","OYARA                                                                                               ","03","06","09","09","0306","000002484 - OYARA                                                                                               ",null,null,null,null,null,null,null,null,null,null,null,null,"000008906","ESTRELLA",null,null,null,null,null,"000002484","OYARA","03","06","09","09","05",null,null,"000006747","LUTTO",6747,null,"08","07","06","11","06","09","11","110609","080706",null,"INSERT INTO ESTABLEC VALUES('000006747','LUTTO',6747,'','08','07','06','11','06','09','11','110609','080706')"]
[null,null,null,null,null,null,null,null,null,null,null,null,null,null,"000002485","PACCAYBAMBA                                                                                         ","03","06","09",11,"0306","000002485 - PACCAYBAMBA                                                                                         ",null,null,null,null,null,null,null,null,null,null,null,null,"000008907","MATORIATO",null,null,null,null,null,{"$f":"+O266","v":"000002485"},"PACCAYBAMBA","03","06","09",11,"05",null,null,"000006748","COLLPA",6748,null,"08","07","06","11","06","09","11",{"$f":"CONCATENATE(BF266,BG266,BH266)","v":"110609"},{"$f":"CONCATENATE(BC266,BD266,BE266)","v":"080706"},null,"INSERT INTO ESTABLEC VALUES('000006748','COLLPA',6748,'','08','07','06','11','06','09','11','110609','080706')"]
[null,null,null,null,null,null,null,null,null,null,null,null,null,null,"000002486","PAMPACONAS                                                                                          ","03","06","09","09","0306","000002486 - PAMPACONAS                                                                                          ",null,null,null,null,null,null,null,null,null,null,null,null,"000008908","CHIRUMBIA",null,null,null,null,null,"000002486",{"$f":"TRIM(P267)","v":"PAMPACONAS"},"03","06","09","09","05",null,null,"000006970","TIRACANCHA",6970,null,"08","04","06","11","02","05","04","110205","080406",null,{"$f":"CONCATENATE(\"INSERT INTO ESTABLEC VALUES('\",AY267,\"','\",AZ267,\"',\",BA267,\",'\",BB267,\"','\",BC267,\"','\",BD267,\"','\",BE267,\"','\",BF267,\"','\",BG267,\"','\",BH267,\"','\",BI267,,\"','\",BJ267,\"','\",BK267,\"')\")","v":"INSERT INTO ESTABLEC VALUES('000006970','TIRACANCHA',6970,'','08','04','06','11','02','05','04','110205','080406')"}]
[null,null,null,null,null,null,null,null,null,null,null,null,null,null,"000002487","CHOQUETIRA                                                                                          ","03","06","09",11,"0306","000002487 - CHOQUETIRA                                                                                          ",null,null,null,null,null,null,null,null,null,null,null,null,"000008909","CHAPO BOYERO",null,null,null,null,null,"000002487","CHOQUETIRA","03","06","09",11,"05",null,null,"000006971","COMBAPATA YANATILE",6971,null,"08","04","08","11","02","08","04","110208","080408",null,"INSERT INTO ESTABLEC VALUES('000006971','COMBAPATA YANATILE',6971,'','08','04','08','11','02','08','04','110208','080408')"]
[null,null,null,null,null,null,null,null,null,null,null,null,null,null,"000002490","ARMA                                                                                                ","03","06","09","09","0306","000002490 - ARMA                                                                                                ",null,null,null,null,null,null,null,null,null,null,null,null,"000000000","(All)",null,null,null,null,null,"000002490","ARMA","03","06","09","09","05",null,null,"000006972","PANTIPATA",6972,null,"08","03","04","11","02","03","04","110203","080304",null,"INSERT INTO ESTABLEC VALUES('000006972','PANTIPATA',6972,'','08','03','04','11','02','03','04','110203','080304')"]
[null,null,null,null,null,null,null,null,null,null,null,null,null,null,"000002491","LUCMAHUAYCO                                                                                         ","03","06","09",11,"0306","000002491 - LUCMAHUAYCO                                                                                         ",null,null,null,null,null,null,null,null,null,null,null,null,"000002427","KITENI",null,null,null,null,null,"000002491","LUCMAHUAYCO","03","06","09",11,"05",null,null,"000006973","BELLAVISTA",6973,null,"08","04","08","11","02","08","04","110208","080408",null,"INSERT INTO ESTABLEC VALUES('000006973','BELLAVISTA',6973,'','08','04','08','11','02','08','04','110208','080408')"]
[null,null,null,null,null,null,null,null,null,null,null,null,null,null,"000002492","PALTAYBAMBA                                                                                         ","03","06","09","09",{"$f":"CONCATENATE(Q271,R271)","v":"0306"},{"$f":"CONCATENATE(O271,\" - \",P271)","v":"000002492 - PALTAYBAMBA                                                                                         "},null,null,null,null,null,null,null,null,null,null,null,null,"000002431","IVOCHOTE",null,null,null,null,null,"000002492","PALTAYBAMBA","03","06","09","09","05",null,null,"000006974","CAMINO INCA HUAYLLABAMBA",6974,null,"08",13,"04","11","02","07","04","110207","081304",null,"INSERT INTO ESTABLEC VALUES('000006974','CAMINO INCA HUAYLLABAMBA',6974,'','08','13','04','11','02','07','04','110207','081304')"]
[null,null,null,null,null,null,null,null,null,null,null,null,null,null,"000013070","CHANCAVINE                                                                                          ","03","06","09",12,"0306","000013070 - CHANCAVINE                                                                                          ",null,null,null,null,null,null,null,null,null,null,null,null,"000002432","KEPASHIATO",null,null,null,null,null,"000013070","CHANCAVINE","03","06","09",12,"05",null,null,"000006975","SAYLLAFAYA",6975,null,"08","04","03","11","02","05","04","110205","080403",null,"INSERT INTO ESTABLEC VALUES('000006975','SAYLLAFAYA',6975,'','08','04','03','11','02','05','04','110205','080403')"]
[null,null,null,null,null,null,null,null,null,null,null,null,null,null,"000000000","(All)","03","07",null,null,"0307","000000000 - (All)",null,null,null,null,null,null,null,null,null,null,null,null,"000002434","MATERIATO",null,null,null,null,null,"000000000","(All)","03","07",0,0,"05",null,null,"000006976","CHONTABAMBA",6976,null,"08","09","09","11","03","04","05","110304","080909",null,"INSERT INTO ESTABLEC VALUES('000006976','CHONTABAMBA',6976,'','08','09','09','11','03','04','05','110304','080909')"]
[null,null,null,null,null,null,null,null,null,null,null,null,null,null,"000002429","CIRIALO                                                                                             ","03","07","09","02","0307","000002429 - CIRIALO                                                                                             ",null,null,null,null,null,null,null,null,null,null,null,null,"000002438","PACHIRI",null,null,null,null,null,"000002429","CIRIALO","03","07","09","02","05",null,null,"000006977","TINKI",6977,null,"08",12,10,"11","01","15","03","110115","081210",null,"INSERT INTO ESTABLEC VALUES('000006977','TINKI',6977,'','08','12','10','11','01','15','03','110115','081210')"]
[null,null,null,null,null,null,null,null,null,null,null,null,null,null,"000002433","KORIBENI                                                                                            ","03","07","09","02","0307","000002433 - KORIBENI                                                                                            ",null,null,null,null,null,null,null,null,null,null,null,null,"000002440","PANGOA",null,null,null,null,null,"000002433","KORIBENI","03","07","09","02","05",null,null,"000006978","CCOCHIRIHUAY",6978,null,"08",10,"04","11","01","03","03","110103","081004",null,"INSERT INTO ESTABLEC VALUES('000006978','CCOCHIRIHUAY',6978,'','08','10','04','11','01','03','03','110103','081004')"]
[null,null,null,null,null,null,null,null,null,null,null,null,null,null,"000002439","PALMA REAL                                                                                          ","03","07","09","02","0307","000002439 - PALMA REAL                                                                                          ",null,null,null,null,null,null,null,null,null,null,null,null,"000002443","SANIRIATO",null,null,null,null,null,"000002439","PALMA REAL","03","07","09","02","05",null,null,"000006979","TOCRA",6979,null,"08",11,"04","11","01","06","03","110106","081104",null,"INSERT INTO ESTABLEC VALUES('000006979','TOCRA',6979,'','08','11','04','11','01','06','03','110106','081104')"]
[null,null,null,null,null,null,null,null,null,null,null,null,null,null,"000002449","ICHIQUIATO                                                                                          ","03","07","09","02","0307","000002449 - ICHIQUIATO                                                                                          ",null,null,null,null,null,null,null,null,null,null,null,null,"000002447","KAMANQUIRIATO",null,null,null,null,null,"000002449","ICHIQUIATO","03","07","09","02","05",null,null,"000006980","CHILLIHUANI",6980,null,"08",12,"06","11","01","12","03","110112","081206",null,"INSERT INTO ESTABLEC VALUES('000006980','CHILLIHUANI',6980,'','08','12','06','11','01','12','03','110112','081206')"]
[null,null,null,null,null,null,null,null,null,null,null,null,null,null,"000002450","SAN ANTONIO                                                                                         ","03","07","09","02","0307","000002450 - SAN ANTONIO                                                                                         ",null,null,null,null,null,null,null,null,null,null,null,null,"000002489","YUVENI",null,null,null,null,null,"000002450","SAN ANTONIO","03","07","09","02","05",null,null,"000006981","CCOYO",6981,null,"08","07","01","11","06","09","11","110609","080701",null,"INSERT INTO ESTABLEC VALUES('000006981','CCOYO',6981,'','08','07','01','11','06','09','11','110609','080701')"]
[null,null,null,null,null,null,null,null,null,null,null,null,null,null,"999999999","(All)","03","99",null,null,"0399","999999999 - (All)",null,null,null,null,null,null,null,null,null,null,null,null,"000002493","SELVA ALEGRE",null,null,null,null,null,"999999999","(All)","03","99",0,0,"05",null,null,"000006982","MELLOTOTORA",6982,null,"08","07","01","11","06","09","11","110609","080701",null,"INSERT INTO ESTABLEC VALUES('000006982','MELLOTOTORA',6982,'','08','07','01','11','06','09','11','110609','080701')"]
[null,null,null,null,null,null,null,null,null,null,null,null,null,null,"000000000","(All)","04","00",null,null,"0400","000000000 - (All)",null,null,null,null,null,null,null,null,null,null,null,null,"000006976","CHONTABAMBA",null,null,null,null,null,"000000000","(All)","04","00",0,0,"07",null,null,"000006983","ORCCOMA",6983,null,"08","07","01","11","06","09","11","110609","080701",null,"INSERT INTO ESTABLEC VALUES('000006983','ORCCOMA',6983,'','08','07','01','11','06','09','11','110609','080701')"]
[null,null,null,null,null,null,null,null,null,null,null,null,null,null,"000002378","SICUANI                                                                                             ","04","00","06","01","0400","000002378 - SICUANI                                                                                             ",null,null,null,null,null,null,null,null,null,null,null,null,"000013068","TRIO RIO",null,null,null,null,null,"000002378","SICUANI",{"$f":"+Q281","v":"04"},"00","06","01","08",null,null,"000006984","CCOLLANA",6984,null,"08","07","07","11","06","09","11","110609","080707",null,"INSERT INTO ESTABLEC VALUES('000006984','CCOLLANA',6984,'','08','07','07','11','06','09','11','110609','080707')"]
[null,null,null,null,null,null,null,null,null,null,null,null,null,null,"000007135","ESPINAR                                                                                             ","04","00","08","01","0400","000007135 - ESPINAR                                                                                             ",null,null,null,null,null,null,null,null,null,null,null,null,"000013069","PUGUIENTIMARI",null,null,null,null,null,"000007135","ESPINAR","04","00","08","01","09",null,null,"000006985","TOTORAPALLCA",6985,null,"08","07","06","11","06","09","11","110609","080706",null,"INSERT INTO ESTABLEC VALUES('000006985','TOTORAPALLCA',6985,'','08','07','06','11','06','09','11','110609','080706')"]
[null,null,null,null,null,null,null,null,null,null,null,null,null,null,"000000000","(All)","04","01",null,null,"0401","000000000 - (All)",null,null,null,null,null,null,null,null,null,null,null,null,"000000000","(All)",null,null,null,null,null,"000000000","(All)","04","01",0,0,"07",null,null,"000007110","INCACANCHA",7110,null,"08",12,"09","11","01","15","03","110115","081209",null,"INSERT INTO ESTABLEC VALUES('000007110','INCACANCHA',7110,'','08','12','09','11','01','15','03','110115','081209')"]
[null,null,null,null,null,null,null,null,null,null,null,null,null,null,"000002364","YANAOCA                                                                                             ","04","01","05","01","0401","000002364 - YANAOCA                                                                                             ",null,null,null,null,null,null,null,null,null,null,null,null,"000002426","KIRIGUETI",null,null,null,null,null,"000002364","YANAOCA","04","01","05","01","07",null,null,"000007111","YAVINA",7111,null,"08","07","01","11","06","09","11","110609","080701",null,"INSERT INTO ESTABLEC VALUES('000007111','YAVINA',7111,'','08','07','01','11','06','09','11','110609','080701')"]
[null,null,null,null,null,null,null,null,null,null,null,null,null,null,"000002365","PONGOÑA                                                                                             ","04","01","05","01","0401","000002365 - PONGOÑA                                                                                             ",null,null,null,null,null,null,null,null,null,null,null,null,"000002428","CHOCORIARI",null,null,null,null,null,"000002365","PONGOÑA","04","01","05","01","07",null,null,"000007112","YORENCCA",7112,null,"08","07","07","11","06","09","11","110609","080707",null,"INSERT INTO ESTABLEC VALUES('000007112','YORENCCA',7112,'','08','07','07','11','06','09','11','110609','080707')"]
[null,null,null,null,null,null,null,null,null,null,null,null,null,null,"000002372","PAMPAMARCA                                                                                          ","04","01","05","06","0401","000002372 - PAMPAMARCA                                                                                          ",null,null,null,null,null,null,null,null,null,null,null,null,"000002435","MIARIA",null,null,null,null,null,"000002372","PAMPAMARCA","04","01","05","06","07",null,null,"000007113","NATIVIDAD",7113,null,"08","09",10,"11","05","02","10","110502","080910",null,"INSERT INTO ESTABLEC VALUES('000007113','NATIVIDAD',7113,'','08','09','10','11','05','02','10','110502','080910')"]
[null,null,null,null,null,null,null,null,null,null,null,null,null,null,"000002373","QUEHUE                                                                                              ","04","01","05","07","0401","000002373 - QUEHUE                                                                                              ",null,null,null,null,null,null,null,null,null,null,null,null,"000002436","NUEVA LUZ",null,null,null,null,null,"000002373","QUEHUE","04","01","05","07","07",null,null,"000007114","QUISTO CENTRAL",7114,null,"08","09",10,"11","05","02","10","110502","080910",null,"INSERT INTO ESTABLEC VALUES('000007114','QUISTO CENTRAL',7114,'','08','09','10','11','05','02','10','110502','080910')"]
[null,null,null,null,null,null,null,null,null,null,null,null,null,null,"000002374","HUINCHIRI                                                                                           ","04","01","05","07","0401","000002374 - HUINCHIRI                                                                                           ",null,null,null,null,null,null,null,null,null,null,null,null,"000002437","NUEVO MUNDO",null,null,null,null,null,"000002374","HUINCHIRI","04","01","05","07","07",null,null,"000007135","ESPINAR",7135,null,"08","08","01","11","04","00","09","110400","080801",null,"INSERT INTO ESTABLEC VALUES('000007135','ESPINAR',7135,'','08','08','01','11','04','00','09','110400','080801')"]
[null,null,null,null,null,null,null,null,null,null,null,null,null,null,"000002375","SURIMANA                                                                                            ","04","01","05","08","0401","000002375 - SURIMANA                                                                                            ",null,null,null,null,null,null,null,null,null,null,null,null,"000002441","PUERTO HUALLANA",null,null,null,null,null,"000002375","SURIMANA","04","01","05","08","07",null,null,"000007142","CHANCAMAYO",7142,null,"08","04","08","11","02","08","04","110208","080408",null,"INSERT INTO ESTABLEC VALUES('000007142','CHANCAMAYO',7142,'','08','04','08','11','02','08','04','110208','080408')"]
[null,null,null,null,null,null,null,null,null,null,null,null,null,null,"000002376","TUNGASUCA                                                                                           ","04","01","05","08","0401","000002376 - TUNGASUCA                                                                                           ",null,null,null,null,null,null,null,null,null,null,null,null,"000002442","PUERTO RICO",null,null,null,null,null,"000002376","TUNGASUCA","04","01","05","08","07",null,null,"000007143","OTOCANI",7143,null,"08",11,"03","11","02","06","04","110206","081103",null,"INSERT INTO ESTABLEC VALUES('000007143','OTOCANI',7143,'','08','11','03','11','02','06','04','110206','081103')"]
[null,null,null,null,null,null,null,null,null,null,null,null,null,null,"000002377","TOCCOCCORI                                                                                          ","04","01","05","08","0401","000002377 - TOCCOCCORI                                                                                          ",null,null,null,null,null,null,null,null,null,null,null,null,"000002444","SENSA",null,null,null,null,null,"000002377","TOCCOCCORI","04","01","05","08","07",null,null,"000007144","PATABAMBA",7144,null,"08","04","07","11","02","06","04","110206","080407",null,"INSERT INTO ESTABLEC VALUES('000007144','PATABAMBA',7144,'','08','04','07','11','02','06','04','110206','080407')"]
[null,null,null,null,null,null,null,null,null,null,null,null,null,null,"000018241","HAMPATURA                                                                                           ","04","01","05","01","0401","000018241 - HAMPATURA                                                                                           ",null,null,null,null,null,null,null,null,null,null,null,null,"000002445","TIMPIA",null,null,null,null,null,"000018241","HAMPATURA","04","01","05","01","07",null,null,"000007145","HUAMA",7145,null,"08","04","03","11","02","05","04","110205","080403",null,"INSERT INTO ESTABLEC VALUES('000007145','HUAMA',7145,'','08','04','03','11','02','05','04','110205','080403')"]
[null,null,null,null,null,null,null,null,null,null,null,null,null,null,"000000000","(All)","04","02",null,null,"0402","000000000 - (All)",null,null,null,null,null,null,null,null,null,null,null,null,"000002448","KAMISEA",null,null,null,null,null,"000000000","(All)","04","02",0,0,"07",null,null,"000007146","POQUES",7146,null,"08","04","03","11","02","05","04","110205","080403",null,"INSERT INTO ESTABLEC VALUES('000007146','POQUES',7146,'','08','04','03','11','02','05','04','110205','080403')"]
[null,null,null,null,null,null,null,null,null,null,null,null,null,null,"000002366","CHECCA                                                                                              ","04","02","05","02","0402","000002366 - CHECCA                                                                                              ",null,null,null,null,null,null,null,null,null,null,null,null,"000002452","SHIVANKORENI",null,null,null,null,null,"000002366","CHECCA","04","02","05","02","07",null,null,"000007147","HUASQUILLAY",7147,null,"08",10,"06","11","01","03","03","110103","081006",null,"INSERT INTO ESTABLEC VALUES('000007147','HUASQUILLAY',7147,'','08','10','06','11','01','03','03','110103','081006')"]
[null,null,null,null,null,null,null,null,null,null,null,null,null,null,"000002367","CHITIBAMBA                                                                                          ","04","02","05","02","0402","000002367 - CHITIBAMBA                                                                                          ",null,null,null,null,null,null,null,null,null,null,null,null,"000013066","MONTETONI",null,null,null,null,null,"000002367","CHITIBAMBA","04","02","05","02","07",null,null,"000007699","CONCHACALLE",7699,null,"08","01","04","11","01","16","03","110116","080104",null,"INSERT INTO ESTABLEC VALUES('000007699','CONCHACALLE',7699,'','08','01','04','11','01','16','03','110116','080104')"]
[null,null,null,null,null,null,null,null,null,null,null,null,null,null,"000007700","EL DESCANSO                                                                                         ","04","02","05","03","0402","000007700 - EL DESCANSO                                                                                         ",null,null,null,null,null,null,null,null,null,null,null,null,"000013067","TANGOSHIARI",null,null,null,null,null,"000007700","EL DESCANSO","04","02","05","03","07",null,null,"000007700","EL DESCANSO",7700,null,"08","05","03","11","04","02","07","110402","080503",null,"INSERT INTO ESTABLEC VALUES('000007700','EL DESCANSO',7700,'','08','05','03','11','04','02','07','110402','080503')"]
[null,null,null,null,null,null,null,null,null,null,null,null,null,null,"000000000","(All)","04","03",null,null,"0403","000000000 - (All)",null,null,null,null,null,null,null,null,null,null,null,null,"000015235","NUEVA VIDA",null,null,null,null,null,"000000000","(All)","04","03",0,0,"07",null,null,"000008283","PUEBLO LIBRE",8283,null,"08","09",13,"11","05","01","10","110501","080913",null,"INSERT INTO ESTABLEC VALUES('000008283','PUEBLO LIBRE',8283,'','08','09','13','11','05','01','10','110501','080913')"]
[null,null,null,null,null,null,null,null,null,null,null,null,null,null,"000002320","MOSOCLLACTA                                                                                         ","04","03","02","04","0403","000002320 - MOSOCLLACTA                                                                                         ",null,null,null,null,null,null,null,null,null,null,null,null,"000015843","CASHIRIARI",null,null,null,null,null,"000002320","MOSOCLLACTA","04","03","02","04","07",null,null,"000008284","MANITEA ALTA",8284,null,"08","09","07","11","05","01","10","110501","080907",null,"INSERT INTO ESTABLEC VALUES('000008284','MANITEA ALTA',8284,'','08','09','07','11','05','01','10','110501','080907')"]
[null,null,null,null,null,null,null,null,null,null,null,null,null,null,"000002385","CHECACUPE                                                                                           ","04","03","06","02","0403","000002385 - CHECACUPE                                                                                           ",null,null,null,null,null,null,null,null,null,null,null,null,"000015844","CAMANA",null,null,null,null,null,"000002385","CHECACUPE","04","03","06","02","07",null,null,"000008285","ANGELES",8285,null,"08","09","07","11","05","01","10","110501","080907",null,"INSERT INTO ESTABLEC VALUES('000008285','ANGELES',8285,'','08','09','07','11','05','01','10','110501','080907')"]
[null,null,null,null,null,null,null,null,null,null,null,null,null,null,"000002386","COMBAPATA CANCHIS                                                                                   ","04","03","06","03","0403","000002386 - COMBAPATA CANCHIS                                                                                   ",null,null,null,null,null,null,null,null,null,null,null,null,"000000000","(All)",null,null,null,null,null,"000002386","COMBAPATA CANCHIS","04","03","06","03","07",null,null,"000008906","ESTRELLA",8906,null,"08","09","06","11","03","03","05","110303","080906",null,"INSERT INTO ESTABLEC VALUES('000008906','ESTRELLA',8906,'','08','09','06','11','03','03','05','110303','080906')"]
[null,null,null,null,null,null,null,null,null,null,null,null,null,null,"000002387","CHIARA                                                                                              ","04","03","06","03","0403","000002387 - CHIARA                                                                                              ",null,null,null,null,null,null,null,null,null,null,null,null,"000002480","PUCYURA",null,null,null,null,null,"000002387","CHIARA","04","03","06","03","07",null,null,"000008907","MATORIATO",8907,null,"08","09","06","11","03","03","05","110303","080906",null,"INSERT INTO ESTABLEC VALUES('000008907','MATORIATO',8907,'','08','09','06','11','03','03','05','110303','080906')"]
[null,null,null,null,null,null,null,null,null,null,null,null,null,null,"000002392","PITUMARCA                                                                                           ","04","03","06","05","0403","000002392 - PITUMARCA                                                                                           ",null,null,null,null,null,null,null,null,null,null,null,null,"000002481","CCARCCO",null,null,null,null,null,"000002392","PITUMARCA","04","03","06","05","07",null,null,"000008908","CHIRUMBIA",8908,null,"08","09","06","11","03","03","05","110303","080906",null,"INSERT INTO ESTABLEC VALUES('000008908','CHIRUMBIA',8908,'','08','09','06','11','03','03','05','110303','080906')"]
[null,null,null,null,null,null,null,null,null,null,null,null,null,null,"000002397","TINTA                                                                                               ","04","03","06","08","0403","000002397 - TINTA                                                                                               ",null,null,null,null,null,null,null,null,null,null,null,null,"000002482","INCAHUASI",null,null,null,null,null,"000002397","TINTA","04","03","06","08","07",null,null,"000008909","CHAPO BOYERO",8909,null,"08","09","06","11","03","03","05","110303","080906",null,"INSERT INTO ESTABLEC VALUES('000008909','CHAPO BOYERO',8909,'','08','09','06','11','03','03','05','110303','080906')"]
[null,null,null,null,null,null,null,null,null,null,null,null,null,null,"000000000","(All)","04","04",null,null,"0404","000000000 - (All)",null,null,null,null,null,null,null,null,null,null,null,null,"000002483","HATUMPAMPA",null,null,null,null,null,"000000000","(All)","04","04",0,0,"07",null,null,"000008910","SANTA ANA",8910,null,"08","09","01","11","03","01","05","110301","080901",null,"INSERT INTO ESTABLEC VALUES('000008910','SANTA ANA',8910,'','08','09','01','11','03','01','05','110301','080901')"]
[null,null,null,null,null,null,null,null,null,null,null,null,null,null,"000002369","LANGUI                                                                                              ","04","04","05","04","0404","000002369 - LANGUI                                                                                              ",null,null,null,null,null,null,null,null,null,null,null,null,"000002484","OYARA",null,null,null,null,null,"000002369","LANGUI","04","04","05","04","07",null,null,"000008911","HUARA HUARA",8911,null,"08",12,"05","11","01","12","03","110112","081205",null,"INSERT INTO ESTABLEC VALUES('000008911','HUARA HUARA',8911,'','08','12','05','11','01','12','03','110112','081205')"]
[null,null,null,null,null,null,null,null,null,null,null,null,null,null,"000002370","CONDEVILUYO                                                                                         ","04","04","05","04","0404","000002370 - CONDEVILUYO                                                                                         ",null,null,null,null,null,null,null,null,null,null,null,null,"000002485","PACCAYBAMBA",null,null,null,null,null,"000002370","CONDEVILUYO","04","04","05","04","07",null,null,"000008912","ALCCA VICTORIA",8912,null,"08","07","08","11","06","09","11","110609","080708",null,"INSERT INTO ESTABLEC VALUES('000008912','ALCCA VICTORIA',8912,'','08','07','08','11','06','09','11','110609','080708')"]
[null,null,null,null,null,null,null,null,null,null,null,null,null,null,"000002371","LAYO                                                                                                ","04","04","05","05","0404","000002371 - LAYO                                                                                                ",null,null,null,null,null,null,null,null,null,null,null,null,"000002486","PAMPACONAS",null,null,null,null,null,"000002371","LAYO","04","04","05","05","07",null,null,"000008913","HUARACO",8913,null,"08","07","04","11","06","09","11","110609","080704",null,"INSERT INTO ESTABLEC VALUES('000008913','HUARACO',8913,'','08','07','04','11','06','09','11','110609','080704')"]
[null,null,null,null,null,null,null,null,null,null,null,null,null,null,"000002379","HERCCA                                                                                              ","04","04","06","01","0404","000002379 - HERCCA                                                                                              ",null,null,null,null,null,null,null,null,null,null,null,null,"000002487","CHOQUETIRA",null,null,null,null,null,"000002379","HERCCA","04","04","06","01","07",null,null,"000008914","HUAYLLANI",8914,null,"08","07","04","11","06","09","11","110609","080704",null,"INSERT INTO ESTABLEC VALUES('000008914','HUAYLLANI',8914,'','08','07','04','11','06','09','11','110609','080704')"]
[null,null,null,null,null,null,null,null,null,null,null,null,null,null,"000002380","TECHO OBRERO                                                                                        ","04","04","06","01","0404","000002380 - TECHO OBRERO                                                                                        ",null,null,null,null,null,null,null,null,null,null,null,null,"000002490","ARMA",null,null,null,null,null,"000002380","TECHO OBRERO","04","04","06","01","07",null,null,"000008915","PFULLPURI CONDEPAMPA",8915,null,"08","07","01","11","06","09","11","110609","080701",null,"INSERT INTO ESTABLEC VALUES('000008915','PFULLPURI CONDEPAMPA',8915,'','08','07','01','11','06','09','11','110609','080701')"]
[null,null,null,null,null,null,null,null,null,null,null,null,null,null,"000002388","MARANGANI                                                                                           ","04","04","06","04","0404","000002388 - MARANGANI                                                                                           ",null,null,null,null,null,null,null,null,null,null,null,null,"000002491","LUCMAHUAYCO",null,null,null,null,null,"000002388","MARANGANI","04","04","06","04","07",null,null,"000009963","CANCAHUANI",9963,null,"08","07","02","11","06","09","11","110609","080702",null,"INSERT INTO ESTABLEC VALUES('000009963','CANCAHUANI',9963,'','08','07','02','11','06','09','11','110609','080702')"]
[null,null,null,null,null,null,null,null,null,null,null,null,null,null,"000002389","CHECTUYOC                                                                                           ","04","04","06","04","0404","000002389 - CHECTUYOC                                                                                           ",null,null,null,null,null,null,null,null,null,null,null,null,"000002492","PALTAYBAMBA",null,null,null,null,null,"000002389","CHECTUYOC","04","04","06","04","07",null,null,"000010041","HOSPITAL NACIONAL ADOLFO GUEVARA VELASCO",10041,null,"08","01","08","11","02","02","04","110202","080108",null,"INSERT INTO ESTABLEC VALUES('000010041','HOSPITAL NACIONAL ADOLFO GUEVARA VELASCO',10041,'','08','01','08','11','02','02','04','110202','080108')"]
[null,null,null,null,null,null,null,null,null,null,null,null,null,null,"000002390","CCUYO                                                                                               ","04","04","06","04","0404","000002390 - CCUYO                                                                                               ",null,null,null,null,null,null,null,null,null,null,null,null,"000013070","CHANCAVINE",null,null,null,null,null,"000002390","CCUYO","04","04","06","04","07",null,null,"000010060","CAS URUBAMBA - ESSALUD",10060,null,"08",13,"01","11","02","07","04","110207","081301",null,"INSERT INTO ESTABLEC VALUES('000010060','CAS URUBAMBA - ESSALUD',10060,'','08','13','01','11','02','07','04','110207','081301')"]
[null,null,null,null,null,null,null,null,null,null,null,null,null,null,"000002391","OCCOBAMBA MARANGANI                                                                                 ","04","04","06","04","0404","000002391 - OCCOBAMBA MARANGANI                                                                                 ",null,null,null,null,null,null,null,null,null,null,null,null,"000007135","ESPINAR",null,null,null,null,null,"000002391","OCCOBAMBA MARANGANI","04","04","06","04","07",null,null,"000010061","ESPINAR - ESSALUD",10061,null,"08","08","01","11","04","06","07","110406","080801",null,"INSERT INTO ESTABLEC VALUES('000010061','ESPINAR - ESSALUD',10061,'','08','08','01','11','04','06','07','110406','080801')"]
[null,null,null,null,null,null,null,null,null,null,null,null,null,null,"000010063","HOSPITAL ESSALUD SICUANI                                                                            ","04","04","06","01","0404","000010063 - HOSPITAL ESSALUD SICUANI                                                                            ",null,null,null,null,null,null,null,null,null,null,null,null,"000000000","(All)",null,null,null,null,null,"000010063","HOSPITAL ESSALUD SICUANI","04","04","06","01","07",null,null,"000010062","QUILLABAMBA -ESSALUD",10062,null,"08","09","01","11","03","01","05","110301","080901",null,"INSERT INTO ESTABLEC VALUES('000010062','QUILLABAMBA -ESSALUD',10062,'','08','09','01','11','03','01','05','110301','080901')"]
[null,null,null,null,null,null,null,null,null,null,null,null,null,null,"000000000","(All)","04","05",null,null,"0405","000000000 - (All)",null,null,null,null,null,null,null,null,null,null,null,null,"000002364","YANAOCA",null,null,null,null,null,{"$f":"+#REF!","v":{"$error":"#REF!"}},{"$f":"TRIM(#REF!)","v":{"$error":"#REF!"}},{"$f":"+#REF!","v":{"$error":"#REF!"}},{"$f":"+#REF!","v":{"$error":"#REF!"}},{"$f":"+#REF!","v":{"$error":"#REF!"}},{"$f":"+#REF!","v":{"$error":"#REF!"}},"07",null,null,"000010063","HOSPITAL ESSALUD SICUANI",10063,null,"08","06","01","11","04","04","07","110404","080601",null,"INSERT INTO ESTABLEC VALUES('000010063','HOSPITAL ESSALUD SICUANI',10063,'','08','06','01','11','04','04','07','110404','080601')"]
[null,null,null,null,null,null,null,null,null,null,null,null,null,null,"000002381","QUEHUAR                                                                                             ","04","05","06","01","0405","000002381 - QUEHUAR                                                                                             ",null,null,null,null,null,null,null,null,null,null,null,null,"000002365","PONGOÑA",null,null,null,null,null,{"$f":"+O315","v":"000000000"},{"$f":"TRIM(P315)","v":"(All)"},{"$f":"+Q315","v":"04"},"05",0,0,"07",null,null,"000010067","CENTRO MEDICO SANTIAGO ESSALUD",10067,null,"08","01","06","11","02","01","04","110201","080106",null,"INSERT INTO ESTABLEC VALUES('000010067','CENTRO MEDICO SANTIAGO ESSALUD',10067,'','08','01','06','11','02','01','04','110201','080106')"]
[null,null,null,null,null,null,null,null,null,null,null,null,null,null,"000002382","UZCUPATA                                                                                            ","04","05","06","01","0405","000002382 - UZCUPATA                                                                                            ",null,null,null,null,null,null,null,null,null,null,null,null,"000002367","CHITIBAMBA",null,null,null,null,null,"000002381","QUEHUAR","04","05","06","01","07",null,null,"000010068","URCOS ESSALUD",{"$f":"VALUE(AY317)","v":10068},null,"08",12,"01","11","01","12","03","110112","081201",null,"INSERT INTO ESTABLEC VALUES('000010068','URCOS ESSALUD',10068,'','08','12','01','11','01','12','03','110112','081201')"]
[null,null,null,null,null,null,null,null,null,null,null,null,null,null,"000002383","LA FLORIDA                                                                                          ","04","05","06","01","0405","000002383 - LA FLORIDA                                                                                          ",null,null,null,null,null,null,null,null,null,null,null,null,"000002372","PAMPAMARCA",null,null,null,null,null,"000002382","UZCUPATA","04","05","06","01","07",null,null,"000010069","ESSALUD CALCA",10069,null,"08","04","01","11","02","06","04","110206","080401",null,"INSERT INTO ESTABLEC VALUES('000010069','ESSALUD CALCA',10069,'','08','04','01','11','02','06','04','110206','080401')"]
[null,null,null,null,null,null,null,null,null,null,null,null,null,null,"000002384","PAMPAPHALLA                                                                                         ","04","05","06","01","0405","000002384 - PAMPAPHALLA                                                                                         ",null,null,null,null,null,null,null,null,null,null,null,null,"000002373","QUEHUE",null,null,null,null,null,"000002383","LA FLORIDA","04","05","06","01","07",null,null,"000010073","MACHU PICCHU - ESSALUD",10073,null,"08",13,"04","11","02","07","04","110207","081304",null,"INSERT INTO ESTABLEC VALUES('000010073','MACHU PICCHU - ESSALUD',10073,'','08','13','04','11','02','07','04','110207','081304')"]
[null,null,null,null,null,null,null,null,null,null,null,null,null,null,"000002393","PHINAYA                                                                                             ","04","05","06","05","0405","000002393 - PHINAYA                                                                                             ",null,null,null,null,null,null,null,null,null,null,null,null,"000002374","HUINCHIRI",null,null,null,null,null,"000002384","PAMPAPHALLA","04","05","06","01","07",null,null,"000010075","CAP HUYRO - ESSALUD",10075,null,"08","09","03","11","03","02","05","110302","080903",null,"INSERT INTO ESTABLEC VALUES('000010075','CAP HUYRO - ESSALUD',10075,'','08','09','03','11','03','02','05','110302','080903')"]
[null,null,null,null,null,null,null,null,null,null,null,null,null,null,"000002394","SAN PABLO CANCHIS                                                                                   ","04","05","06","06","0405","000002394 - SAN PABLO CANCHIS                                                                                   ",null,null,null,null,null,null,null,null,null,null,null,null,"000002375","SURIMANA",null,null,null,null,null,"000002393","PHINAYA","04","05","06","05","07",null,null,"000010076","ACOMAYO - ESSALUD",10076,null,"08","02","01","11","01","13","03","110113","080201",null,"INSERT INTO ESTABLEC VALUES('000010076','ACOMAYO - ESSALUD',10076,'','08','02','01','11','01','13','03','110113','080201')"]
[null,null,null,null,null,null,null,null,null,null,null,null,null,null,"000002395","SANTA BARBARA                                                                                       ","04","05","06","06","0405","000002395 - SANTA BARBARA                                                                                       ",null,null,null,null,null,null,null,null,null,null,null,null,"000002376","TUNGASUCA",null,null,null,null,null,"000002394","SAN PABLO CANCHIS","04","05","06","06","07",null,null,"000010077","PAUCARTAMBO - ESSALUD",10077,null,"08",11,"01","11","01","06","03","110106","081101",null,"INSERT INTO ESTABLEC VALUES('000010077','PAUCARTAMBO - ESSALUD',10077,'','08','11','01','11','01','06','03','110106','081101')"]
[null,null,null,null,null,null,null,null,null,null,null,null,null,null,"000002396","SAN PEDRO CANCHIS                                                                                   ","04","05","06","07","0405","000002396 - SAN PEDRO CANCHIS                                                                                   ",null,null,null,null,null,null,null,null,null,null,null,null,"000002377","TOCCOCCORI",null,null,null,null,null,"000002395","SANTA BARBARA","04","05","06","06","07",null,null,"000010758","CRUZPATA",10758,null,"08",13,"05","11","02","07","04","110207","081305",null,"INSERT INTO ESTABLEC VALUES('000010758','CRUZPATA',10758,'','08','13','05','11','02','07','04','110207','081305')"]
[null,null,null,null,null,null,null,null,null,null,null,null,null,null,"000026387","MENTAL SICUANI","04","05","06","01","0405","000026387 - MENTAL SICUANI",null,null,null,null,null,null,null,null,null,null,null,null,"000018241","HAMPATURA",null,null,null,null,null,"000002396","SAN PEDRO CANCHIS","04","05","06","07","07",null,null,"000010759","HUARAN",10759,null,"08","04","01","11","02","06","04","110206","080401",null,"INSERT INTO ESTABLEC VALUES('000010759','HUARAN',10759,'','08','04','01','11','02','06','04','110206','080401')"]
[null,null,null,null,null,null,null,null,null,null,null,null,null,null,"000000000","(All)","04","06",null,null,"0406","000000000 - (All)",null,null,null,null,null,null,null,null,null,null,null,null,"000000000","(All)",null,null,null,null,null,{"$f":"+O325","v":"000000000"},{"$f":"TRIM(P325)","v":"(All)"},{"$f":"+Q325","v":"04"},"06",0,0,"07",null,null,"000010760","PATACANCHA",10760,null,"08",13,"06","11","02","07","04","110207","081306",null,"INSERT INTO ESTABLEC VALUES('000010760','PATACANCHA',10760,'','08','13','06','11','02','07','04','110207','081306')"]
[null,null,null,null,null,null,null,null,null,null,null,null,null,null,"000002410","YAURI                                                                                               ","04","06","08","01","0406","000002410 - YAURI                                                                                               ",null,null,null,null,null,null,null,null,null,null,null,null,"000002366","CHECCA",null,null,null,null,null,"000002410","YAURI","04","06","08","01","07",null,null,"000010761","URATARI",10761,null,"08","03","06","11","02","04","04","110204","080306",null,"INSERT INTO ESTABLEC VALUES('000010761','URATARI',10761,'','08','03','06','11','02','04','04','110204','080306')"]
[null,null,null,null,null,null,null,null,null,null,null,null,null,null,"000002411","CONDOROMA                                                                                           ","04","06","08","02","0406","000002411 - CONDOROMA                                                                                           ",null,null,null,null,null,null,null,null,null,null,null,null,"000002369","LANGUI",null,null,null,null,null,"000002411","CONDOROMA","04","06","08","02","07",null,null,"000010762","ACCHA ALTA - PAMPALLACTA",10762,null,"08","04","01","11","02","06","04","110206","080401",null,"INSERT INTO ESTABLEC VALUES('000010762','ACCHA ALTA - PAMPALLACTA',10762,'','08','04','01','11','02','06','04','110206','080401')"]
[null,null,null,null,null,null,null,null,null,null,null,null,null,null,"000002412","COPORAQUE                                                                                           ","04","06","08","03","0406","000002412 - COPORAQUE                                                                                           ",null,null,null,null,null,null,null,null,null,null,null,null,"000002370","CONDEVILUYO",null,null,null,null,null,"000002412","COPORAQUE","04","06","08","03","07",null,null,"000012924","SAHUA SAHUA",12924,null,"08",10,"06","11","01","03","03","110103","081006",null,"INSERT INTO ESTABLEC VALUES('000012924','SAHUA SAHUA',12924,'','08','10','06','11','01','03','03','110103','081006')"]
[null,null,null,null,null,null,null,null,null,null,null,null,null,null,"000002413","URINSAYA                                                                                            ","04","06","08","03","0406","000002413 - URINSAYA                                                                                            ",null,null,null,null,null,null,null,null,null,null,null,null,"000002371","LAYO",null,null,null,null,null,"000002413","URINSAYA","04","06","08","03","07",null,null,"000012926","SANTA LUCIA",12926,null,"08","02","05","11","01","13","03","110113","080205",null,"INSERT INTO ESTABLEC VALUES('000012926','SANTA LUCIA',12926,'','08','02','05','11','01','13','03','110113','080205')"]
[null,null,null,null,null,null,null,null,null,null,null,null,null,null,"000002414","HUAYHUAHUASI                                                                                        ","04","06","08","03","0406","000002414 - HUAYHUAHUASI                                                                                        ",null,null,null,null,null,null,null,null,null,null,null,null,"000007700","EL DESCANSO",null,null,null,null,null,"000002414","HUAYHUAHUASI","04","06","08","03","07",null,null,"000012931","CHICHINA",12931,null,"08",12,"05","11","01","15","03",{"$f":"CONCATENATE(BF330,BG330,BH330)","v":"110115"},{"$f":"CONCATENATE(BC330,BD330,BE330)","v":"081205"},null,"INSERT INTO ESTABLEC VALUES('000012931','CHICHINA',12931,'','08','12','05','11','01','15','03','110115','081205')"]
[null,null,null,null,null,null,null,null,null,null,null,null,null,null,"000002415","OCCORURO                                                                                            ","04","06","08","04","0406","000002415 - OCCORURO                                                                                            ",null,null,null,null,null,null,null,null,null,null,null,null,"000000000","(All)",null,null,null,null,null,"000002415","OCCORURO","04","06","08","04","07",null,null,"000012932","YANQUE",12932,null,"08","07","04","11","06","09","11","110609","080704",null,{"$f":"CONCATENATE(\"INSERT INTO ESTABLEC VALUES('\",AY331,\"','\",AZ331,\"',\",BA331,\",'\",BB331,\"','\",BC331,\"','\",BD331,\"','\",BE331,\"','\",BF331,\"','\",BG331,\"','\",BH331,\"','\",BI331,,\"','\",BJ331,\"','\",BK331,\"')\")","v":"INSERT INTO ESTABLEC VALUES('000012932','YANQUE',12932,'','08','07','04','11','06','09','11','110609','080704')"}]
[null,null,null,null,null,null,null,null,null,null,null,null,null,null,"000002416","PALLPATA                                                                                            ","04","06","08","05","0406","000002416 - PALLPATA                                                                                            ",null,null,null,null,null,null,null,null,null,null,null,null,"000002320","MOSOCLLACTA",null,null,null,null,null,"000002416","PALLPATA","04","06","08","05","07",null,null,"000013066","MONTETONI",13066,null,"08","09","14","11","03","05","05","110305","080914",null,"INSERT INTO ESTABLEC VALUES('000013066','MONTETONI',13066,'','08','09','14','11','03','05','05','110305','080914')"]
[null,null,null,null,null,null,null,null,null,null,null,null,null,null,"000002417","PICHIGUA ESPINAR                                                                                    ","04","06","08","06","0406","000002417 - PICHIGUA ESPINAR                                                                                    ",null,null,null,null,null,null,null,null,null,null,null,null,"000002385","CHECACUPE",null,null,null,null,null,"000002417","PICHIGUA ESPINAR","04","06","08","06","07",null,null,"000013067","TANGOSHIARI",13067,null,"08","09","14","11","03","05","05","110305","080914",null,"INSERT INTO ESTABLEC VALUES('000013067','TANGOSHIARI',13067,'','08','09','14','11','03','05','05','110305','080914')"]
[null,null,null,null,null,null,null,null,null,null,null,null,null,null,"000002418","SAN MIGUEL                                                                                          ","04","06","08","06","0406","000002418 - SAN MIGUEL                                                                                          ",null,null,null,null,null,null,null,null,null,null,null,null,"000002386","COMBAPATA CANCHIS",null,null,null,null,null,"000002418","SAN MIGUEL","04","06","08","06","07",null,null,"000013068","TRIO RIO",13068,null,"08","09","02","11","03","04","05","110304","080902",null,"INSERT INTO ESTABLEC VALUES('000013068','TRIO RIO',13068,'','08','09','02','11','03','04','05','110304','080902')"]
[null,null,null,null,null,null,null,null,null,null,null,null,null,null,"000002419","SUYKUTAMBO                                                                                          ","04","06","08","07","0406","000002419 - SUYKUTAMBO                                                                                          ",null,null,null,null,null,null,null,null,null,null,null,null,"000002387","CHIARA",null,null,null,null,null,"000002419","SUYKUTAMBO","04","06","08","07","07",null,null,"000013069","PUGUIENTIMARI",13069,null,"08","09","02","11","03","04","05","110304","080902",null,"INSERT INTO ESTABLEC VALUES('000013069','PUGUIENTIMARI',13069,'','08','09','02','11','03','04','05','110304','080902')"]
[null,null,null,null,null,null,null,null,null,null,null,null,null,null,"000002420","ACCOCUNCA                                                                                           ","04","06","08","08",{"$f":"CONCATENATE(Q336,R336)","v":"0406"},{"$f":"CONCATENATE(O336,\" - \",P336)","v":"000002420 - ACCOCUNCA                                                                                           "},null,null,null,null,null,null,null,null,null,null,null,null,"000002392","PITUMARCA",null,null,null,null,null,"000002420","ACCOCUNCA","04","06","08","08","07",null,null,"000013070","CHANCAVINE",13070,null,"08","09",12,"11","03","06","05","110306","080912",null,"INSERT INTO ESTABLEC VALUES('000013070','CHANCAVINE',13070,'','08','09','12','11','03','06','05','110306','080912')"]
[null,null,null,null,null,null,null,null,null,null,null,null,null,null,"000006745","TINTAYA MARQUIRI                                                                                    ","04","06","08","01","0406","000006745 - TINTAYA MARQUIRI                                                                                    ",null,null,null,null,null,null,null,null,null,null,null,null,"000002397","TINTA",null,null,null,null,null,"000006745","TINTAYA MARQUIRI","04","06","08","01","07",null,null,"000013185","POSTA MEDICA DE SANTO TOMµS - ESSALUD",13185,null,"08","07","01","11","06","09","11","110609","080701",null,"INSERT INTO ESTABLEC VALUES('000013185','POSTA MEDICA DE SANTO TOMµS - ESSALUD',13185,'','08','07','01','11','06','09','11','110609','080701')"]
[null,null,null,null,null,null,null,null,null,null,null,null,null,null,"000010061","ESPINAR - ESSALUD                                                                                   ","04","06","08","01","0406","000010061 - ESPINAR - ESSALUD                                                                                   ",null,null,null,null,null,null,null,null,null,null,null,null,"000000000","(All)",null,null,null,null,null,"000010061","ESPINAR - ESSALUD","04","06","08","01","07",null,null,"000014531","CENTRO DE ATENCION PRIMARIA I ECHARATE - KITENI",14531,null,"08","09","02","11","03","04","05","110304","080902",null,"INSERT INTO ESTABLEC VALUES('000014531','CENTRO DE ATENCION PRIMARIA I ECHARATE - KITENI',14531,'','08','09','02','11','03','04','05','110304','080902')"]
[null,null,null,null,null,null,null,null,null,null,null,null,null,null,"999999999","(All)","04","99",null,null,"0499","999999999 - (All)",null,null,null,null,null,null,null,null,null,null,null,null,"000002378","SICUANI",null,null,null,null,null,"999999999","(All)","04","99",0,0,"07",null,null,"000015104","TAMBO DEL ENE",15104,null,"08","09",10,"11","05","02","10","110502","080910",null,"INSERT INTO ESTABLEC VALUES('000015104','TAMBO DEL ENE',15104,'','08','09','10','11','05','02','10','110502','080910')"]
[null,null,null,null,null,null,null,null,null,null,null,null,null,null,"000002469","SAN JUAN DE KIMBIRI-VRAEM                                                                           ","05","00","09","07","0500","000002469 - SAN JUAN DE KIMBIRI-VRAEM                                                                           ",null,null,null,null,null,null,null,null,null,null,null,null,"000002379","HERCCA",null,null,null,null,null,"000002469","SAN JUAN DE KIMBIRI-VRAEM","05","00","09","07","10",null,null,"000015169","PITIRINQUINI",15169,null,"08","09",10,"11","05","02","10","110502","080910",null,"INSERT INTO ESTABLEC VALUES('000015169','PITIRINQUINI',15169,'','08','09','10','11','05','02','10','110502','080910')"]
[null,null,null,null,null,null,null,null,null,null,null,null,null,null,"000000000","(All)","05","01",null,null,"0501","000000000 - (All)",null,null,null,null,null,null,null,null,null,null,null,null,"000002380","TECHO OBRERO",null,null,null,null,null,"000000000","(All)","05","01",0,0,"10",null,null,"000015170","PICHARI BAJA",15170,null,"08","09",10,"11","05","02","10","110502","080910",null,"INSERT INTO ESTABLEC VALUES('000015170','PICHARI BAJA',15170,'','08','09','10','11','05','02','10','110502','080910')"]
[null,null,null,null,null,null,null,null,null,null,null,null,null,null,"000002470","CHIRUMPIARI                                                                                         ","05","01","09","07","0501","000002470 - CHIRUMPIARI                                                                                         ",null,null,null,null,null,null,null,null,null,null,null,null,"000002388","MARANGANI",null,null,null,null,null,"000002470","CHIRUMPIARI",{"$f":"+Q342","v":"05"},"01","09","07","10",null,null,"000015235","NUEVA VIDA",15235,null,"08","09","14","11","03","05","05","110305","080914",null,"INSERT INTO ESTABLEC VALUES('000015235','NUEVA VIDA',15235,'','08','09','14','11','03','05','05','110305','080914')"]
[null,null,null,null,null,null,null,null,null,null,null,null,null,null,"000002471","LOBO TAHUANTINSUYO                                                                                  ","05","01","09","07","0501","000002471 - LOBO TAHUANTINSUYO                                                                                  ",null,null,null,null,null,null,null,null,null,null,null,null,"000002389","CHECTUYOC",null,null,null,null,null,"000002471","LOBO TAHUANTINSUYO","05","01","09","07","10",null,null,"000015842","PAVAYOC",15842,null,"08","09","01","11","03","01","05","110301","080901",null,"INSERT INTO ESTABLEC VALUES('000015842','PAVAYOC',15842,'','08','09','01','11','03','01','05','110301','080901')"]
[null,null,null,null,null,null,null,null,null,null,null,null,null,null,"000002472","MAPITUNARI                                                                                          ","05","01","09","07","0501","000002472 - MAPITUNARI                                                                                          ",null,null,null,null,null,null,null,null,null,null,null,null,"000002390","CCUYO",null,null,null,null,null,"000002472","MAPITUNARI","05","01","09","07","10",null,null,"000015843","CASHIRIARI",15843,null,"08","09","14","11","03","05","05","110305","080914",null,"INSERT INTO ESTABLEC VALUES('000015843','CASHIRIARI',15843,'','08','09','14','11','03','05','05','110305','080914')"]
[null,null,null,null,null,null,null,null,null,null,null,null,null,null,"000002473","UNION ROSALES                                                                                       ","05","01","09","07","0501","000002473 - UNION ROSALES                                                                                       ",null,null,null,null,null,null,null,null,null,null,null,null,"000002391","OCCOBAMBA MARANGANI",null,null,null,null,null,"000002473","UNION ROSALES","05","01","09","07","10",null,null,"000015844","CAMANA",15844,null,"08","09","14","11","03","05","05","110305","080914",null,"INSERT INTO ESTABLEC VALUES('000015844','CAMANA',15844,'','08','09','14','11','03','05','05','110305','080914')"]
[null,null,null,null,null,null,null,null,null,null,null,null,null,null,"000002474","SAMANIATO                                                                                           ","05","01","09","07","0501","000002474 - SAMANIATO                                                                                           ",null,null,null,null,null,null,null,null,null,null,null,null,"000000000","(All)",null,null,null,null,null,"000002474","SAMANIATO","05","01","09","07","10",null,null,"000016325","CHILLOROYA - LIVITACA",16325,null,"08","07","05","11","06","01","11","110601","080705",null,"INSERT INTO ESTABLEC VALUES('000016325','CHILLOROYA - LIVITACA',16325,'','08','07','05','11','06','01','11','110601','080705')"]
[null,null,null,null,null,null,null,null,null,null,null,null,null,null,"000002475","KIMBIRI ALTO                                                                                        ","05","01","09","07","0501","000002475 - KIMBIRI ALTO                                                                                        ",null,null,null,null,null,null,null,null,null,null,null,null,"000002381","QUEHUAR",null,null,null,null,null,"000002475","KIMBIRI ALTO","05","01","09","07","10",null,null,"000016327","AUSANTA",16327,null,"08","07","05","11","06","01","11","110601","080705",null,"INSERT INTO ESTABLEC VALUES('000016327','AUSANTA',16327,'','08','07','05','11','06','01','11','110601','080705')"]
[null,null,null,null,null,null,null,null,null,null,null,null,null,null,"000002479","VILLA VIRGEN                                                                                        ","05","01","09",12,"0501","000002479 - VILLA VIRGEN                                                                                        ",null,null,null,null,null,null,null,null,null,null,null,null,"000002382","UZCUPATA",null,null,null,null,null,"000002479","VILLA VIRGEN","05","01","09",12,"10",null,null,"000016328","UCCHUCCARCCO",16328,null,"08","07","03","11","06","01","11","110601","080703",null,"INSERT INTO ESTABLEC VALUES('000016328','UCCHUCCARCCO',16328,'','08','07','03','11','06','01','11','110601','080703')"]
[null,null,null,null,null,null,null,null,null,null,null,null,null,null,"000002488","VILLA QUINTIARINA                                                                                   ","05","01","09",13,"0501","000002488 - VILLA QUINTIARINA                                                                                   ",null,null,null,null,null,null,null,null,null,null,null,null,"000002383","LA FLORIDA",null,null,null,null,null,"000002488","VILLA QUINTIARINA","05","01","09",13,"10",null,null,"000016329","INGATA",16329,null,"08","07","03","11","06","01","11","110601","080703",null,"INSERT INTO ESTABLEC VALUES('000016329','INGATA',16329,'','08','07','03','11','06','01','11','110601','080703')"]
[null,null,null,null,null,null,null,null,null,null,null,null,null,null,"000008283","PUEBLO LIBRE                                                                                        ","05","01","09",13,"0501","000008283 - PUEBLO LIBRE                                                                                        ",null,null,null,null,null,null,null,null,null,null,null,null,"000002384","PAMPAPHALLA",null,null,null,null,null,"000008283","PUEBLO LIBRE","05","01","09",13,"10",null,null,"000016330","CCONCHACCOLLO",16330,null,"08","07","03","11","06","01","11","110601","080703",null,"INSERT INTO ESTABLEC VALUES('000016330','CCONCHACCOLLO',16330,'','08','07','03','11','06','01','11','110601','080703')"]
[null,null,null,null,null,null,null,null,null,null,null,null,null,null,"000008284","MANITEA ALTA                                                                                        ","05","01","09","07","0501","000008284 - MANITEA ALTA                                                                                        ",null,null,null,null,null,null,null,null,null,null,null,null,"000002393","PHINAYA",null,null,null,null,null,"000008284","MANITEA ALTA","05","01","09","07","10",null,null,"000016332","PATAQUEÑA -LIVITACA",16332,null,"08","07","05","11","06","01","11","110601","080705",null,"INSERT INTO ESTABLEC VALUES('000016332','PATAQUEÑA -LIVITACA',16332,'','08','07','05','11','06','01','11','110601','080705')"]
[null,null,null,null,null,null,null,null,null,null,null,null,null,null,"000008285","ANGELES                                                                                             ","05","01","09","07","0501","000008285 - ANGELES                                                                                             ",null,null,null,null,null,null,null,null,null,null,null,null,"000002394","SAN PABLO CANCHIS",null,null,null,null,null,"000008285","ANGELES","05","01","09","07","10",null,null,"000016334","KISIO",16334,null,"08","07","05","11","06","01","11","110601","080705",null,"INSERT INTO ESTABLEC VALUES('000016334','KISIO',16334,'','08','07','05','11','06','01','11','110601','080705')"]
[null,null,null,null,null,null,null,null,null,null,null,null,null,null,"000000000","(All)","05","02",null,null,"0502","000000000 - (All)",null,null,null,null,null,null,null,null,null,null,null,null,"000002395","SANTA BARBARA",null,null,null,null,null,"000000000","(All)","05","02",0,0,"10",null,null,"000016335","CCAPANA",16335,null,"08",12,"05","11","01","15","03","110115","081205",null,"INSERT INTO ESTABLEC VALUES('000016335','CCAPANA',16335,'','08','12','05','11','01','15','03','110115','081205')"]
[null,null,null,null,null,null,null,null,null,null,null,null,null,null,"000002494","PICHARI                                                                                             ","05","02","09",10,"0502","000002494 - PICHARI                                                                                             ",null,null,null,null,null,null,null,null,null,null,null,null,"000002396","SAN PEDRO CANCHIS",null,null,null,null,null,"000002494","PICHARI","05","02","09",10,"10",null,null,"000018241","HAMPATURA",18241,null,"08","05","01","11","04","01","07","110401","080501",null,"INSERT INTO ESTABLEC VALUES('000018241','HAMPATURA',18241,'','08','05','01','11','04','01','07','110401','080501')"]
[null,null,null,null,null,null,null,null,null,null,null,null,null,null,"000002495","MANTARO                                                                                             ","05","02","09",10,"0502","000002495 - MANTARO                                                                                             ",null,null,null,null,null,null,null,null,null,null,null,null,"000000000","(All)",null,null,null,null,null,"000002495","MANTARO","05","02","09",10,"10",null,null,"000021061","HUAMANPATA",21061,null,"08","03","07","11","02","04","04","110204","080307",null,"INSERT INTO ESTABLEC VALUES('000021061','HUAMANPATA',21061,'','08','03','07','11','02','04','04','110204','080307')"]
[null,null,null,null,null,null,null,null,null,null,null,null,null,null,"000002496","OMAYA                                                                                               ","05","02","09",10,"0502","000002496 - OMAYA                                                                                               ",null,null,null,null,null,null,null,null,null,null,null,null,"000002410","YAURI",null,null,null,null,null,"000002496","OMAYA","05","02","09",10,"10",null,null,"000025210","TUPAC AMARU",25210,null,"08","01","05","11","01","00","03","110100","080105",null,"INSERT INTO ESTABLEC VALUES('000025210','TUPAC AMARU',25210,'','08','01','05','11','01','00','03','110100','080105')"]
[null,null,null,null,null,null,null,null,null,null,null,null,null,null,"000002497","OTARI                                                                                               ","05","02","09",10,"0502","000002497 - OTARI                                                                                               ",null,null,null,null,null,null,null,null,null,null,null,null,"000002411","CONDOROMA",null,null,null,null,null,"000002497","OTARI","05","02","09",10,"10",null,null,"000025368","HUARQUI",25368,null,"08","04","03","11","02","05","04","110205","080403",null,"INSERT INTO ESTABLEC VALUES('000025368','HUARQUI',25368,'','08','04','03','11','02','05','04','110205','080403')"]
[null,null,null,null,null,null,null,null,null,null,null,null,null,null,"000002498","PUERTO MAYO                                                                                         ","05","02","09",10,"0502","000002498 - PUERTO MAYO                                                                                         ",null,null,null,null,null,null,null,null,null,null,null,null,"000002412","COPORAQUE",null,null,null,null,null,"000002498","PUERTO MAYO","05","02","09",10,"10",null,null,"000025369","PUMALLACTA",25369,null,"08","07","07","11","06","09","11","110609","080707",null,"INSERT INTO ESTABLEC VALUES('000025369','PUMALLACTA',25369,'','08','07','07','11','06','09','11','110609','080707')"]
[null,null,null,null,null,null,null,null,null,null,null,null,null,null,"000007113","NATIVIDAD                                                                                           ","05","02","09",10,"0502","000007113 - NATIVIDAD                                                                                           ",null,null,null,null,null,null,null,null,null,null,null,null,"000002413","URINSAYA",null,null,null,null,null,"000007113","NATIVIDAD","05","02","09",10,"10",null,null,"000025371","TUNTUMA",25371,null,"08","07","08","11","06","09","11","110609","080708",null,"INSERT INTO ESTABLEC VALUES('000025371','TUNTUMA',25371,'','08','07','08','11','06','09','11','110609','080708')"]
[null,null,null,null,null,null,null,null,null,null,null,null,null,null,"000007114","QUISTO CENTRAL                                                                                      ","05","02","09",10,"0502","000007114 - QUISTO CENTRAL                                                                                      ",null,null,null,null,null,null,null,null,null,null,null,null,"000002414","HUAYHUAHUASI",null,null,null,null,null,"000007114","QUISTO CENTRAL","05","02","09",10,"10",null,null,"000025739","PISQUICOCHA",25739,null,"08","07","05","11","06","01","11","110601","080705",null,"INSERT INTO ESTABLEC VALUES('000025739','PISQUICOCHA',25739,'','08','07','05','11','06','01','11','110601','080705')"]
[null,null,null,null,null,null,null,null,null,null,null,null,null,null,"000015104","TAMBO DEL ENE                                                                                       ","05","02","09",10,"0502","000015104 - TAMBO DEL ENE                                                                                       ",null,null,null,null,null,null,null,null,null,null,null,null,"000002415","OCCORURO",null,null,null,null,null,"000015104","TAMBO DEL ENE","05","02","09",10,"10",null,null,"000025740","TOTORA - REYNA DE LOS ANGELES",25740,null,"08","07","05","11","06","01","11","110601","080705",null,"INSERT INTO ESTABLEC VALUES('000025740','TOTORA - REYNA DE LOS ANGELES',25740,'','08','07','05','11','06','01','11','110601','080705')"]
[null,null,null,null,null,null,null,null,null,null,null,null,null,null,"000015169","PITIRINQUINI                                                                                        ","05","02","09",10,"0502","000015169 - PITIRINQUINI                                                                                        ",null,null,null,null,null,null,null,null,null,null,null,null,"000002416","PALLPATA",null,null,null,null,null,"000015169","PITIRINQUINI","05","02","09",10,"10",null,null,"009999020","CENTRO SALUD MENTAL SICUANI",9999020,null,"08","06","01","11","04","04","07","110404","080601",null,"INSERT INTO ESTABLEC VALUES('009999020','CENTRO SALUD MENTAL SICUANI',9999020,'','08','06','01','11','04','04','07','110404','080601')"]
[null,null,null,null,null,null,null,null,null,null,null,null,null,null,"000015170","PICHARI BAJA                                                                                        ","05","02","09",10,"0502","000015170 - PICHARI BAJA                                                                                        ",null,null,null,null,null,null,null,null,null,null,null,null,"000002417","PICHIGUA ESPINAR",null,null,null,null,null,"000015170","PICHARI BAJA","05","02","09",10,"10",null,null,"009999021","CENTRO SALUD MENTAL QUILLABAMBA",9999021,null,"08","09","01","11","03","01","05","110301","080901",null,"INSERT INTO ESTABLEC VALUES('009999021','CENTRO SALUD MENTAL QUILLABAMBA',9999021,'','08','09','01','11','03','01','05','110301','080901')"]
[null,null,null,null,null,null,null,null,null,null,null,null,null,null,"999999999","(All)","05","99",null,null,"0599","999999999 - (All)",null,null,null,null,null,null,null,null,null,null,null,null,"000002418","SAN MIGUEL",null,null,null,null,null,"999999999","(All)","05","99",0,0,"10",null,null,"009999022","CENTRO SALUD MENTAL SANTIAGO",9999022,null,"08","01","06","11","02","01","04","110201","080106",null,"INSERT INTO ESTABLEC VALUES('009999022','CENTRO SALUD MENTAL SANTIAGO',9999022,'','08','01','06','11','02','01','04','110201','080106')"]
[null,null,null,null,null,null,null,null,null,null,null,null,null,null,"000002398","SANTO TOMAS                                                                                         ","06","00","07","01","0600","000002398 - SANTO TOMAS                                                                                         ",null,null,null,null,null,null,null,null,null,null,null,null,"000002419","SUYKUTAMBO",null,null,null,null,null,"000002398","SANTO TOMAS","06","00","07","01","11",null,null,"009999023","CENTRO SALUD MENTAL SAN SEBASTIAN",9999023,null,"08","01","04","11","01","16","03","110116","080104",null,"INSERT INTO ESTABLEC VALUES('009999023','CENTRO SALUD MENTAL SAN SEBASTIAN',9999023,'','08','01','04','11','01','16','03','110116','080104')"]
[null,null,null,null,null,null,null,null,null,null,null,null,null,null,"000000000","(All)","06","09",null,null,"0609","000000000 - (All)",null,null,null,null,null,null,null,null,null,null,null,null,"000002420","ACCOCUNCA",null,null,null,null,null,"000000000","(All)","06","09",0,0,"11",null,null,"009999024","CENTRO SALUD MENTAL VIRGEN ASUNTA",9999024,null,"08","04","01","11","02","06","04","110206","080401",null,"INSERT INTO ESTABLEC VALUES('009999024','CENTRO SALUD MENTAL VIRGEN ASUNTA',9999024,'','08','04','01','11','02','06','04','110206','080401')"]
[null,null,null,null,null,null,null,null,null,null,null,null,null,null,"000002399","PULPERA                                                                                             ","06","09","07","01","0609","000002399 - PULPERA                                                                                             ",null,null,null,null,null,null,null,null,null,null,null,null,"000006745","TINTAYA MARQUIRI",null,null,null,null,null,"000002399","PULPERA","06","09","07","01","11"]
[null,null,null,null,null,null,null,null,null,null,null,null,null,null,"000002400","ALHUACCHULLO                                                                                        ","06","09","07","01","0609","000002400 - ALHUACCHULLO                                                                                        ",null,null,null,null,null,null,null,null,null,null,null,null,"000000000","(All)",null,null,null,null,null,"000002400","ALHUACCHULLO","06","09","07","01","11"]
[null,null,null,null,null,null,null,null,null,null,null,null,null,null,"000002401","CCAPACMARCA                                                                                         ","06","09","07","02","0609","000002401 - CCAPACMARCA                                                                                         ",null,null,null,null,null,null,null,null,null,null,null,null,"000002469","KIMBIRI",null,null,null,null,null,"000002401","CCAPACMARCA","06","09","07","02","11"]
[null,null,null,null,null,null,null,null,null,null,null,null,null,null,"000002404","COLQUEMARCA                                                                                         ","06","09","07","04","0609","000002404 - COLQUEMARCA                                                                                         ",null,null,null,null,null,null,null,null,null,null,null,null,"000002470","CHIRUMPIARI",null,null,null,null,null,"000002404","COLQUEMARCA","06","09","07","04","11"]
[null,null,null,null,null,null,null,null,null,null,null,null,null,null,"000002405","CHARAMURAY                                                                                          ","06","09","07","04","0609","000002405 - CHARAMURAY                                                                                          ",null,null,null,null,null,null,null,null,null,null,null,null,"000002471","LOBO TAHUANTINSUYO",null,null,null,null,null,"000002405","CHARAMURAY","06","09","07","04","11"]
[null,null,null,null,null,null,null,null,null,null,null,null,null,null,"000002407","LLUSCO                                                                                              ","06","09","07","06","0609","000002407 - LLUSCO                                                                                              ",null,null,null,null,null,null,null,null,null,null,null,null,"000002472","MAPITUNARI",null,null,null,null,null,"000002407","LLUSCO","06","09","07","06","11"]
[null,null,null,null,null,null,null,null,null,null,null,null,null,null,"000002408","QUI¥OTA                                                                                             ","06","09","07","07","0609","000002408 - QUI¥OTA                                                                                             ",null,null,null,null,null,null,null,null,null,null,null,null,"000002473","UNION ROSALES",null,null,null,null,null,"000002408","QUI¥OTA","06","09","07","07","11"]
[null,null,null,null,null,null,null,null,null,null,null,null,null,null,"000002409","VELILLE                                                                                             ","06","09","07","08","0609","000002409 - VELILLE                                                                                             ",null,null,null,null,null,null,null,null,null,null,null,null,"000002474","SAMANIATO",null,null,null,null,null,"000002409","VELILLE","06","09","07","08","11"]
[null,null,null,null,null,null,null,null,null,null,null,null,null,null,"000006746","LLIQUE                                                                                              ","06","09","07","01","0609","000006746 - LLIQUE                                                                                              ",null,null,null,null,null,null,null,null,null,null,null,null,"000002475","KIMBIRI ALTO",null,null,null,null,null,"000006746","LLIQUE","06","09","07","01","11"]
[null,null,null,null,null,null,null,null,null,null,null,null,null,null,"000006747","LUTTO                                                                                               ","06","09","07","06","0609","000006747 - LUTTO                                                                                               ",null,null,null,null,null,null,null,null,null,null,null,null,"000002479","VILLA VIRGEN",null,null,null,null,null,"000006747","LUTTO","06","09","07","06","11"]
[null,null,null,null,null,null,null,null,null,null,null,null,null,null,"000006748","COLLPA                                                                                              ","06","09","07","06","0609","000006748 - COLLPA                                                                                              ",null,null,null,null,null,null,null,null,null,null,null,null,"000002488","VILLA QUINTIARINA",null,null,null,null,null,"000006748","COLLPA","06","09","07","06","11"]
[null,null,null,null,null,null,null,null,null,null,null,null,null,null,"000006981","CCOYO                                                                                               ","06","09","07","01","0609","000006981 - CCOYO                                                                                               ",null,null,null,null,null,null,null,null,null,null,null,null,"000008283","PUEBLO LIBRE",null,null,null,null,null,"000006981","CCOYO","06","09","07","01","11"]
[null,null,null,null,null,null,null,null,null,null,null,null,null,null,"000006982","MELLOTOTORA                                                                                         ","06","09","07","01","0609","000006982 - MELLOTOTORA                                                                                         ",null,null,null,null,null,null,null,null,null,null,null,null,"000008284","MANITEA ALTA",null,null,null,null,null,"000006982","MELLOTOTORA","06","09","07","01","11"]
[null,null,null,null,null,null,null,null,null,null,null,null,null,null,"000006983","ORCCOMA                                                                                             ","06","09","07","01","0609","000006983 - ORCCOMA                                                                                             ",null,null,null,null,null,null,null,null,null,null,null,null,"000008285","ANGELES",null,null,null,null,null,"000006983","ORCCOMA","06","09","07","01","11"]
[null,null,null,null,null,null,null,null,null,null,null,null,null,null,"000006984","CCOLLANA                                                                                            ","06","09","07","07","0609","000006984 - CCOLLANA                                                                                            ",null,null,null,null,null,null,null,null,null,null,null,null,"000000000","(All)",null,null,null,null,null,"000006984","CCOLLANA","06","09","07","07","11"]
[null,null,null,null,null,null,null,null,null,null,null,null,null,null,"000006985","TOTORAPALLCA                                                                                        ","06","09","07","06","0609","000006985 - TOTORAPALLCA                                                                                        ",null,null,null,null,null,null,null,null,null,null,null,null,"000002494","PICHARI",null,null,null,null,null,"000006985","TOTORAPALLCA","06","09","07","06","11"]
[null,null,null,null,null,null,null,null,null,null,null,null,null,null,"000007111","YAVINA                                                                                              ","06","09","07","01","0609","000007111 - YAVINA                                                                                              ",null,null,null,null,null,null,null,null,null,null,null,null,"000002495","MANTARO",null,null,null,null,null,"000007111","YAVINA","06","09","07","01","11"]
[null,null,null,null,null,null,null,null,null,null,null,null,null,null,"000007112","YORENCCA                                                                                            ","06","09","07","07","0609","000007112 - YORENCCA                                                                                            ",null,null,null,null,null,null,null,null,null,null,null,null,"000002496","OMAYA",null,null,null,null,null,"000007112","YORENCCA","06","09","07","07","11"]
[null,null,null,null,null,null,null,null,null,null,null,null,null,null,"000008912","ALCCA VICTORIA                                                                                      ","06","09","07","08","0609","000008912 - ALCCA VICTORIA                                                                                      ",null,null,null,null,null,null,null,null,null,null,null,null,"000002497","OTARI",null,null,null,null,null,"000008912","ALCCA VICTORIA","06","09","07","08","11"]
[null,null,null,null,null,null,null,null,null,null,null,null,null,null,"000008913","HUARACO                                                                                             ","06","09","07","04","0609","000008913 - HUARACO                                                                                             ",null,null,null,null,null,null,null,null,null,null,null,null,"000002498","PUERTO MAYO",null,null,null,null,null,"000008913","HUARACO","06","09","07","04","11"]
[null,null,null,null,null,null,null,null,null,null,null,null,null,null,"000008914","HUAYLLANI                                                                                           ","06","09","07","04","0609","000008914 - HUAYLLANI                                                                                           ",null,null,null,null,null,null,null,null,null,null,null,null,"000007113","NATIVIDAD",null,null,null,null,null,"000008914","HUAYLLANI","06","09","07","04","11"]
[null,null,null,null,null,null,null,null,null,null,null,null,null,null,"000008915","PFULLPURI CONDEPAMPA                                                                                ","06","09","07","01","0609","000008915 - PFULLPURI CONDEPAMPA                                                                                ",null,null,null,null,null,null,null,null,null,null,null,null,"000007114","QUISTO CENTRAL",null,null,null,null,null,"000008915","PFULLPURI CONDEPAMPA","06","09","07","01","11"]
[null,null,null,null,null,null,null,null,null,null,null,null,null,null,"000009963","CANCAHUANI                                                                                          ","06","09","07","02","0609","000009963 - CANCAHUANI                                                                                          ",null,null,null,null,null,null,null,null,null,null,null,null,"000015104","TAMBO DEL ENE",null,null,null,null,null,{"$f":"+O389","v":"000009963"},{"$f":"TRIM(P389)","v":"CANCAHUANI"},"06","09","07","02","11"]
[null,null,null,null,null,null,null,null,null,null,null,null,null,null,"000012932","YANQUE                                                                                              ","06","09","07","04","0609","000012932 - YANQUE                                                                                              ",null,null,null,null,null,null,null,null,null,null,null,null,"000015169","PITIRINQUINI",null,null,null,null,null,"000012932","YANQUE","06","09","07","04","11"]
[null,null,null,null,null,null,null,null,null,null,null,null,null,null,"000013185","POSTA MEDICA DE SANTO TOMµS - ESSALUD                                                               ","06","09","07","01","0609","000013185 - POSTA MEDICA DE SANTO TOMµS - ESSALUD                                                               ",null,null,null,null,null,null,null,null,null,null,null,null,"000015170","PICHARI BAJA",null,null,null,null,null,"000013185","POSTA MEDICA DE SANTO TOMµS - ESSALUD","06","09","07","01","11"]
[null,null,null,null,null,null,null,null,null,null,null,null,null,null,"000025369","PUMALLACTA","06","09","07","07","0609","000025369 - PUMALLACTA",null,null,null,null,null,null,null,null,null,null,null,null,"999999999","(All)",null,null,null,null,null,"000025369","PUMALLACTA","06","09","07","07","11"]
[null,null,null,null,null,null,null,null,null,null,null,null,null,null,"000025371","TUNTUMA","06","09","07","08","0609","000025371 - TUNTUMA",null,null,null,null,null,null,null,null,null,null,null,null,"999999999","(All)",null,null,null,null,null,"000025371","TUNTUMA","06","09","07","08","11"]
[null,null,null,null,null,null,null,null,null,null,null,null,null,null,"000000000","(All)","06","01",null,null,"0601","000000000 - (All)",null,null,null,null,null,null,null,null,null,null,null,null,"999999999","(All)",null,null,null,null,null,"000000000","(All)","06","01",0,0,"11"]
[null,null,null,null,null,null,null,null,null,null,null,null,null,null,"000002402","CHAMACA                                                                                             ","06","01","07","03","0601","000002402 - CHAMACA                                                                                             ",null,null,null,null,null,null,null,null,null,null,null,null,"999999999","(All)",null,null,null,null,null,"000002402","CHAMACA","06","01","07","03","11"]
[null,null,null,null,null,null,null,null,null,null,null,null,null,null,"000002403","AÑAHUICHI                                                                                           ","06","01","07","03","0601","000002403 - AÑAHUICHI                                                                                           ",null,null,null,null,null,null,null,null,null,null,null,null,"999999999","(All)",null,null,null,null,null,"000002403","AÑAHUICHI","06","01","07","03","11"]
[null,null,null,null,null,null,null,null,null,null,null,null,null,null,"000002406","LIVITACA                                                                                            ","06","01","07","05","0601","000002406 - LIVITACA                                                                                            ",null,null,null,null,null,null,null,null,null,null,null,null,"999999999","(All)",null,null,null,null,null,"000002406","LIVITACA","06","01","07","05","11"]
[null,null,null,null,null,null,null,null,null,null,null,null,null,null,"000016325","CHILLOROYA - LIVITACA                                                                               ","06","01","07","05","0601","000016325 - CHILLOROYA - LIVITACA                                                                               ",null,null,null,null,null,null,null,null,null,null,null,null,"999999999",null,null,null,null,null,null,"000016325","CHILLOROYA - LIVITACA","06","01","07","05","11"]
[null,null,null,null,null,null,null,null,null,null,null,null,null,null,"000016327","AUSANTA                                                                                             ","06","01","07","05","0601","000016327 - AUSANTA                                                                                             ",null,null,null,null,null,null,null,null,null,null,null,null,"999999999",null,null,null,null,null,null,"000016327","AUSANTA","06","01","07","05","11"]
[null,null,null,null,null,null,null,null,null,null,null,null,null,null,"000016328","UCCHUCCARCCO                                                                                        ","06","01","07","03",{"$f":"CONCATENATE(Q400,R400)","v":"0601"},{"$f":"CONCATENATE(O400,\" - \",P400)","v":"000016328 - UCCHUCCARCCO                                                                                        "},null,null,null,null,null,null,null,null,null,null,null,null,"999999999",null,null,null,null,null,null,"000016328","UCCHUCCARCCO","06","01","07","03","11"]
[null,null,null,null,null,null,null,null,null,null,null,null,null,null,"000016329","INGATA                                                                                              ","06","01","07","03","0601","000016329 - INGATA                                                                                              ",null,null,null,null,null,null,null,null,null,null,null,null,"999999999",null,null,null,null,null,null,"000016329","INGATA","06","01","07","03","11"]
[null,null,null,null,null,null,null,null,null,null,null,null,null,null,"000016330","CCONCHACCOLLO                                                                                       ","06","01","07","03","0601","000016330 - CCONCHACCOLLO                                                                                       ",null,null,null,null,null,null,null,null,null,null,null,null,"999999999",null,null,null,null,null,null,"000016330","CCONCHACCOLLO","06","01","07","03","11"]
[null,null,null,null,null,null,null,null,null,null,null,null,null,null,"000016332","PATAQUEÑA -LIVITACA                                                                                 ","06","01","07","05","0601","000016332 - PATAQUEÑA -LIVITACA                                                                                 ",null,null,null,null,null,null,null,null,null,null,null,null,"999999999",null,null,null,null,null,null,"000016332","PATAQUEÑA -LIVITACA","06","01","07","05","11"]
[null,null,null,null,null,null,null,null,null,null,null,null,null,null,"000016334","KISIO                                                                                               ","06","01","07","05","0601","000016334 - KISIO                                                                                               ",null,null,null,null,null,null,null,null,null,null,null,null,null,null,null,null,null,null,null,"000016334","KISIO","06","01","07","05","11"]
[null,null,null,null,null,null,null,null,null,null,null,null,null,null,"000025739","PISQUICOCHA","06","01","07","05","0601","000025739 - PISQUICOCHA",null,null,null,null,null,null,null,null,null,null,null,null,null,null,null,null,null,null,null,"000025739","PISQUICOCHA","06","01","07",{"$f":"+T405","v":"05"},"11"]
[null,null,null,null,null,null,null,null,null,null,null,null,null,null,"000025740","TOTORA - REYNA DE LOS ANGELES","06","01","07","05","0601","000025740 - TOTORA - REYNA DE LOS ANGELES",null,null,null,null,null,null,null,null,null,null,null,null,null,null,null,null,null,null,null,"000025740","TOTORA - REYNA DE LOS ANGELES",{"$f":"+Q406","v":"06"},"01","07","05","11"]
[null,null,null,null,null,null,null,null,null,null,null,null,null,null,"999999999","(All)","06","99",null,null,"0699","999999999 - (All)",null,null,null,null,null,null,null,null,null,null,null,null,null,null,null,null,null,null,null,"999999999","(All)","06","99",0,0,"11"]
[null,null,null,null,null,null,null,null,null,null,null,null,null,null,"999999999","(All)","99","99",null,null,"9999","999999999 - (All)",null,null,null,null,null,null,null,null,null,null,null,null,null,null,null,null,null,null,null,"999999999","(All)","99","99",0,0,"11"]